{"text_format":"1","workbook":"xlsx","n_sheets":20,"sheets":["INE","INE (2)","TC","INFLACIÓN","DIAGRAMA","Hoja1","POBLACIÓN PROYECTADA","Base_Diseño  ","Tipo Abastecimiento","Hoja3","DEMANDA FINAL","OFERTA FINAL","INGRESOS E2 ALTERNATIVA 1 ","VAC CAE ALTERNATIVA 1","VAN TIR R-BC ALTERNATIVA 1","INGRESOS E2 ALTERNATIVA 1  2","VAC CAE ALTERNATIVA 2","VAN TIR R-BC ALTERNATIVA 2","RESUMEN","Recopilación FINAL"],"not_rendered":{"charts":1,"images":5,"macros":1,"external_links":3,"defined_names":25,"comments":0,"pivot_tables":1},"unopened":[],"bounds":{"document_bytes":16777216,"sheet_cells":100000,"rows_first":2000,"rows_last":500,"rows_between":2000,"halvings":0,"cell_chars":16384,"cell_head_chars":4096},"cells_cut":0,"cells_raw":0,"read":"whole","date_system":"1900"}

{"sheet":"INE","index":0,"n_rows":371,"n_cols":33,"rows_kept":371,"cut":false,"hidden":true,"merged":[[5,2,5,32]]}
[]
[null,"República de Guatemala"]
[null,"Estimaciones y proyecciones de la población total a nivel municipal"]
[null,"Período 2015 - 2030"]
[null,"(al 30 de junio de cada año)"]
["Departamento y municipio",null,"Años"]
[null,null,2015,"TC",2016,"TC",2017,"TC",2018,"TC",2019,"TC",2020,"TC",2021,"TC",2022,"TC",2023,"TC",2024,"TC",2025,"TC",2026,"TC",2027,"TC",2028,"TC",2029,"TC",2030]
[null,"Total Nacional",15567419,{"$f":"+(((E8/C8)^(1/1))-1)*100","v":1.6718956430735288},15827690,{"$f":"+(((G8/E8)^(1/1))-1)*100","v":1.6409722454761244},16087418,{"$f":"+(((I8/G8)^(1/1))-1)*100","v":1.6132607482443717},16346950,{"$f":"+(((K8/I8)^(1/1))-1)*100","v":1.5726236392721527},16604026,{"$f":"+(((M8/K8)^(1/1))-1)*100","v":1.531598420768554},16858333,{"$f":"+(((O8/M8)^(1/1))-1)*100","v":1.4913277605798969},17109746,{"$f":"+(((Q8/O8)^(1/1))-1)*100","v":1.4502845337388326},17357886,{"$f":"+(((S8/Q8)^(1/1))-1)*100","v":1.4088409153049986},17602431,{"$f":"+(((U8/S8)^(1/1))-1)*100","v":1.3674304418520355},17843132,{"$f":"+(((W8/U8)^(1/1))-1)*100","v":1.3264375335002798},18079810,{"$f":"+(((Y8/W8)^(1/1))-1)*100","v":1.286313296433983},18312373,{"$f":"+(((AA8/Y8)^(1/1))-1)*100","v":1.247227762344072},18540770,{"$f":"+(((AC8/AA8)^(1/1))-1)*100","v":1.2093025262704948},18764984,{"$f":"+(((AE8/AC8)^(1/1))-1)*100","v":1.1728334007638841},18985066,{"$f":"+(((AG8/AE8)^(1/1))-1)*100","v":1.1377152968549131},19201062]
[1,"Guatemala",3293500,{"$f":"+(((E9/C9)^(1/1))-1)*100","v":1.4010626992561059},3339644,{"$f":"+(((G9/E9)^(1/1))-1)*100","v":1.3626602116872277},3385152,{"$f":"+(((I9/G9)^(1/1))-1)*100","v":1.3038705499782477},3429290,{"$f":"+(((K9/I9)^(1/1))-1)*100","v":1.2714293629293438},3472891,{"$f":"+(((M9/K9)^(1/1))-1)*100","v":1.2348213635268168},3515775,{"$f":"+(((O9/M9)^(1/1))-1)*100","v":1.1984270893330873},3557909,{"$f":"+(((Q9/O9)^(1/1))-1)*100","v":1.1621432701061307},3599257,{"$f":"+(((S9/Q9)^(1/1))-1)*100","v":1.1243431630472589},3639725,{"$f":"+(((U9/S9)^(1/1))-1)*100","v":1.0880217598857156},3679326,{"$f":"+(((W9/U9)^(1/1))-1)*100","v":1.051333858429504},3718008,{"$f":"+(((Y9/W9)^(1/1))-1)*100","v":1.0153017422232624},3755757,{"$f":"+(((AA9/Y9)^(1/1))-1)*100","v":0.97908357755840392},3792529,{"$f":"+(((AC9/AA9)^(1/1))-1)*100","v":0.94491037510853193},3828365,{"$f":"+(((AE9/AC9)^(1/1))-1)*100","v":0.91044088011462687},3863220,{"$f":"+(((AG9/AE9)^(1/1))-1)*100","v":0.87898178203673627},3897177]
[101,"Guatemala",1142188,{"$f":"+(((E10/C10)^(1/1))-1)*100","v":1.0192717836293053},1153830,{"$f":"+(((G10/E10)^(1/1))-1)*100","v":0.97752701871158809},1165109,{"$f":"+(((I10/G10)^(1/1))-1)*100","v":0.91218933164192162},1175737,{"$f":"+(((K10/I10)^(1/1))-1)*100","v":0.87060286441611456},1185973,{"$f":"+(((M10/K10)^(1/1))-1)*100","v":0.82244705402230167},1195727,{"$f":"+(((O10/M10)^(1/1))-1)*100","v":0.77250074640784483},1204964,{"$f":"+(((Q10/O10)^(1/1))-1)*100","v":0.72093440135971854},1213651,{"$f":"+(((S10/Q10)^(1/1))-1)*100","v":0.66641892932977065},1221739,{"$f":"+(((U10/S10)^(1/1))-1)*100","v":0.61191465607630668},1229215,{"$f":"+(((W10/U10)^(1/1))-1)*100","v":0.55588322628670195},1236048,{"$f":"+(((Y10/W10)^(1/1))-1)*100","v":0.49925245621529335},1242219,{"$f":"+(((AA10/Y10)^(1/1))-1)*100","v":0.44146805031963776},1247703,{"$f":"+(((AC10/AA10)^(1/1))-1)*100","v":0.38470693746828211},1252503,{"$f":"+(((AE10/AC10)^(1/1))-1)*100","v":0.32662596416934697},1256594,{"$f":"+(((AG10/AE10)^(1/1))-1)*100","v":0.27049309482616302},1259993]
[102,"Santa Catarina Pinula",84215,0.61509232322032314,84733,0.59126904511819234,85234,0.54555693737241562,85699,0.5239267669401082,86148,0.495658633978735,86575,0.46780248339590713,86980,0.43918142101633251,87362,0.40635516586158271,87717,0.3762098566982397,88047,0.34413438277283159,88350,0.31465761177136287,88628,0.28207789863248234,88878,0.25315601161142176,89103,0.22333703691232998,89302,0.1970840518689343,89478]
[103,"San José Pinula",84770,0.88946561283473891,85524,0.86642346008138915,86265,0.821886048803111,86974,0.79793961413756609,87668,0.77223160104029631,88345,0.74254343765918218,89001,0.71347512949293534,89636,0.68164576732563376,90247,0.65154520371868418,90835,0.62090603842130943,91399,0.58972198820554933,91938,0.55798472883898942,92451,0.52892883797903689,92940,0.49817086292232027,93403,0.47107694613663931,93843]
[104,"San José del Golfo",8078,0.75513741025006187,8139,0.71261825777122478,8197,0.68317677198974636,8253,0.65430752453652374,8307,0.61394005055976919,8358,0.61019382627423013,8409,0.55892496135092617,8456,0.5439924314096567,8502,0.5057633498000369,8545,0.4681100058513854,8585,0.44263249854397113,8623,0.41748811318567114,8659,0.38110636332140402,8692,0.356649792913033,8723,0.33245443081508785,8752]
[105,"Palencia",72175,0.60824385174922391,72614,0.58528658385434973,73039,0.53806870302166576,73432,0.51884736899443507,73813,0.49042851530218812,74175,0.46107178968655127,74517,0.43211616141283216,74839,0.40086051390317845,75139,0.36998096860485497,75417,0.33944601349829018,75673,0.30658226844448855,75905,0.27797905276332191,76116,0.24567764990277574,76303,0.21755370037874755,76469,0.19092704233087954,76615]
[106,"Chinautla",116768,0.99342285557686427,117928,0.97177939081474207,119074,0.92463510086164824,120175,0.90201789057624548,121259,0.87581127998745956,122321,0.84613435141962512,123356,0.8179577807321925,124365,0.78559080127045267,125342,0.75553286208931425,126289,0.72373682585180621,127203,0.69337987311619553,128085,0.66127961900299681,128932,0.63289175689511534,129748,0.60193606067144856,130529,0.57535107140942454,131280]
[107,"San Pedro Ayampuc",60608,1.7720432946145781,61682,1.7363250218864534,62753,1.6764138766274028,63805,1.6440717812083783,64854,1.603601936657717,65894,1.5661516981819279,66926,1.52407136240027,67946,1.4835310393547907,68954,1.4415407373031375,69948,1.4010407731457564,70928,1.3619445071058056,71894,1.3199988872506729,72843,1.282209683840585,73777,1.2442902259511834,74695,1.2102550371510867,75599]
[108,"Mixco",446877,2.2115705216424253,456760,2.1869252999386912,466749,2.139693925428876,476736,2.1166851255202124,486827,2.0880107307113205,496992,2.0579808125684051,507220,2.0277197271400871,517505,1.9947633356199423,527828,1.96295005191085,538189,1.9303627536051415,548578,1.8978158074148155,558989,1.8655107703371643,569417,1.8346835447484056,579864,1.8036987983389263,590323,1.7752992853065086,600803]
[109,"San Pedro Sacatepéquez",50756,1.6372448577508081,51587,1.6166863744741855,52421,1.571889128402737,53245,1.5513193727110464,54071,1.5276210907880339,54897,1.504635954605904,55723,1.4751538861870417,56545,1.4448669201520881,57362,1.4173145985146851,58175,1.3889127632144449,58983,1.3614092196056582,59786,1.3314153815274565,60582,1.3056683503350763,61373,1.2774347025565014,62157,1.2548868188619222,62937]
[110,"San Juan Sacatepéquez",261052,1.3411121155938233,264553,1.3176943750401682,268039,1.2718298456567911,271448,1.2499631605316752,274841,1.2221611768258756,278200,1.1933860531991414,281520,1.1643932935492929,284798,1.1327326736845,288024,1.1023386939977176,291199,1.0704020274795001,294316,1.0396988271109908,297376,1.0081512966749084,300374,0.97877978786446995,303314,0.94918137639541378,306193,0.92196751721953518,309016]
[111,"San Raymundo",37606,0.57171727915759085,37821,0.54731498373918885,38028,0.49963185021562051,38218,0.47883196399602923,38401,0.4531132001770688,38575,0.42514581983150723,38739,0.39236944681071417,38891,0.36512303617803887,39033,0.33048958573513865,39162,0.30386599254379476,39281,0.26985056388584283,39387,0.23865742503872411,39481,0.2102277044654377,39564,0.17692852087756172,39634,0.15390826058434559,39695]
[112,"Chuarrancho",16123,0.27910438503999657,16168,0.57521029193468021,16261,0.75641104483119559,16384,0.909423828125,16533,0.99195548297343894,16697,1.0480924717015005,16872,1.0964912280701844,17057,1.1021867854839718,17245,1.1075674108437239,17436,1.1011699931176899,17628,1.0891763104152519,17820,1.0718294051627275,18011,1.0493587252234704,18200,1.0329670329670249,18388,1.0060909288666542,18573]
[113,"Fraijanes",56956,2.2157454877449245,58218,1.8774262255659702,59311,1.6472492455025245,60288,1.5110801486199588,61199,1.4183238288207223,62067,1.3517650281147819,62906,1.2955838870696068,63721,1.2523343952543176,64519,1.2135959949782338,65302,1.1760742396863755,66070,1.142727410322375,66825,1.1103628881406591,67567,1.0789290630041304,68296,1.048377650228427,69012,1.021561467570864,69717]
[114,"Amatitlán",138168,1.4894910543685969,140226,1.4676308245261227,142284,1.4203986393410473,144305,1.3991199196146997,146324,1.3709302643448718,148330,1.3429515270006132,150322,1.3131810380383468,152296,1.281714555864899,154248,1.250583475960787,156177,1.2197698764862874,158082,1.1886236257132365,159961,1.1565319046517697,161811,1.1278590454295356,163636,1.0975579945733172,165432,1.0705304898689594,167203]
[115,"Villa Nueva",425783,1.8997940265346402,433872,1.8874230187705177,442061,1.8524592759822767,450250,1.8423098278734118,458545,1.8268654112464366,466922,1.8099382766286531,475373,1.7931182460930728,483897,1.7737245736179297,492480,1.755807342430149,501127,1.737084611286166,509832,1.7189976305920451,518596,1.7007458599757719,527416,1.6846284526825128,536301,1.6682795668850225,545248,1.6552101062268898,554273]
[116,"Villa Canales",160276,0.74496493548628084,161470,0.72211556326251536,162636,0.67635701812636118,163736,0.65410172472761818,164807,0.6261869944844678,165839,0.59817051477637495,166831,0.5682397156403729,167779,0.53701595551289838,168680,0.50628408821435933,169534,0.47424115516652154,170338,0.44382345689160108,171094,0.41205419243222074,171799,0.3824236462377506,172456,0.35313355290624848,173065,0.325889116805822,173629]
[117,"San Miguel Petapa",131101,2.6071502124316304,134519,2.3580312074874099,137691,2.1163329484134685,140605,1.9316525016891184,143321,1.7722455188004638,145861,1.6378607029980508,148250,1.5264755480607128,150513,1.4304412243460796,152666,1.3513159446111089,154729,1.2828881463720521,156714,1.2232474443891528,158631,1.1712716934268785,160489,1.125310768962362,162295,1.0832126682892351,164053,1.0472225439339677,165771]
[2,"El Progreso",185607,0.914836186135215,187305,0.8355356237153222,188870,0.78731402552019158,190357,0.72337765356671468,191734,0.69627713394597723,193069,0.68317544504814531,194388,0.66104903594872422,195673,0.63575454968238798,196917,0.61548774356707803,198129,0.59254324202917541,199303,0.5669759110500161,200433,0.54980966208160176,201535,0.51951273972263845,202582,0.49905717191063292,203593,0.48037015025075291,204571]
[201,"Guastatoya",25803,1.0347633996046879,26070,0.9474491752972769,26317,0.90055857430557662,26554,0.82850041425019949,26774,0.80301785314109697,26989,0.78550520582458816,27201,0.75732509834196549,27407,0.73338928011092985,27608,0.70631700956245158,27803,0.67978275725641968,27992,0.64661331809088285,28173,0.62826110105420607,28350,0.59259259259258901,28518,0.56806227645698204,28680,0.54393305439330852,28836]
[202,"Morazán",12442,0.32149172158817407,12482,0.28040378144527089,12517,0.26364144763122432,12550,0.23107569721114718,12579,0.23054296843947331,12608,0.24587563451776706,12639,0.26109660574411553,12672,0.24463383838384534,12703,0.25978115405809188,12736,0.25125628140703071,12768,0.25062656641603454,12800,0.24218750000000178,12831,0.23380874444705046,12861,0.22548790918279771,12890,0.21722265321955092,12918]
[203,"San Agustín Acasaguastlán",52014,1.0747106548236962,52573,0.99861145454891442,53098,0.95483822366191351,53605,0.90103535117993516,54088,0.87819849134742611,54563,0.8723860491541835,55039,0.85212304002615369,55508,0.83411400158535098,55971,0.81649425595398117,56428,0.79747643014107528,56878,0.77534371813354763,57319,0.76065528009909844,57755,0.73067266903299455,58177,0.71334032349554821,58592,0.69634079737848076,59000]
[204,"San Cristóbal Acasaguastlán",7692,0.57202288091524611,7736,0.54291623578075487,7778,0.53998457186936744,7820,0.49872122762149029,7859,0.50897060694745644,7899,0.50639321433092466,7939,0.50384179367679582,7979,0.4887830555207362,8018,0.46146171114991308,8055,0.45934202358783871,8092,0.4325259515570945,8127,0.43066322136089408,8162,0.40431266846361336,8195,0.37827943868211644,8226,0.36469730123998012,8256]
[205,"El Jícaro",13476,7.4205995844467409E-2,13486,4.4490582826628433E-2,13492,3.7058997924699355E-2,13497,1.4818107727632146E-2,13499,2.222386843468982E-2,13502,5.184417123389462E-2,13509,6.6622251832115786E-2,13518,6.6577896138486636E-2,13527,8.8711465956969882E-2,13539,8.8632838466651265E-2,13551,9.5933879418486079E-2,13564,8.8469478030073212E-2,13576,9.5757218621095319E-2,13589,8.8306718669506346E-2,13601,9.5581207264161527E-2,13614]
[206,"Sansare",13107,0.74769207293812201,13205,0.66641423703142078,13293,0.63191153238546516,13377,0.57561486132915451,13454,0.55745503196076296,13529,0.53958163944121118,13602,0.52933392148213354,13674,0.51192043293841749,13744,0.49476135040744662,13812,0.47784535186794486,13878,0.44675025219771403,13940,0.44476327116211856,14002,0.39994286530495859,14058,0.39834969412433363,14114,0.37551367436587935,14167]
[207,"Sanarate",40710,0.70498648980594769,40997,0.65126716589019029,41264,0.61554866227220284,41518,0.56120237005636842,41751,0.54130439989461543,41977,0.53839007075302536,42203,0.51892045589176927,42422,0.49974070057989817,42634,0.48318243655298687,42840,0.46451914098972757,43039,0.44146007109830965,43229,0.42795345716994948,43414,0.40309577555626142,43589,0.38083002592397275,43755,0.36567249457204465,43915]
[208,"San Antonio La Paz",20363,1.9299710258802838,20756,1.7103488148005441,21111,1.5394817867462551,21436,1.371524538160096,21730,1.2517257248044089,22002,1.1544405054086049,22256,1.0648813803019408,22493,0.97363624238651081,22712,0.89820359281436168,22916,0.82475126549135247,23105,0.76173988314218732,23281,0.70443709462650883,23445,0.63979526551503074,23595,0.59334604789149648,23735,0.54771434590268342,23865]
[3,"Sacatepéquez",356513,2.0069394383935402,363668,1.9064091424046081,370601,1.7857480147112303,377219,1.689734610398741,383593,1.647058210134178,389911,1.6044687120907009,396167,1.5624723916934036,402357,1.5207887522772134,408476,1.4752396713638039,414502,1.4366637555427886,420457,1.3953864485547918,426324,1.3515542169805217,432086,1.3129330735085043,437759,1.273760219664255,443335,1.2347322002548955,448809]
[301,"Antigua Guatemala",55089,0.918513677866728,55595,1.1260005396168671,56221,1.2041763753757539,56898,1.237301838377447,57602,1.2777334120342987,58338,1.2907538825465359,59091,1.2844595623699107,59850,1.2664995822890601,60608,1.2407602956705288,61360,1.2125162972620673,62104,1.1834986474301257,62839,1.1457852607457131,63559,1.1139256438899237,64267,1.0814259262140746,64962,1.0452264400726552,65641]
[302,"Jocotenango",21351,1.8593976862910422,21748,1.7426889828949799,22127,1.6134134767478603,22484,1.5121864436932864,22824,1.4721345951629772,23160,1.4335060449050196,23492,1.3962199897837646,23820,1.3602015113350019,24144,1.3212392312790033,24463,1.2917467195356247,24779,1.2470236894144282,25088,1.2157206632652962,25393,1.1774898594100636,25692,1.1443250817374961,25986,1.1082890787347033,26274]
[303,"Pastores",17737,2.2890003946552495,18143,1.9621892741002123,18499,1.7190118384777575,18817,1.5517882765584412,19109,1.4652781411900184,19389,1.4028572902160974,19661,1.3580184120848271,19928,1.3147330389401857,20190,1.2630014858840966,20445,1.2276840303252712,20696,1.1934673366834181,20943,1.1507424915246034,21184,1.1234894259818828,21422,1.0783306880776777,21653,1.0483535768715635,21880]
[304,"Sumpango",40889,2.272004695639418,41818,2.1474006408723545,42716,2.0179792115366579,43578,1.9206939281288804,44415,1.8777440054035699,45249,1.8409246613184882,46082,1.8011371034243329,46912,1.7650068212823999,47740,1.7260159195643165,48564,1.6926118112181809,49386,1.6563398533997464,50204,1.615409130746559,51015,1.5799274723120593,51821,1.5457054090040723,52622,1.5107749610429044,53417]
[305,"Santo Domingo Xenacoj",12429,2.8079491511787014,12778,2.6921270934418429,13122,2.5529644871208568,13457,2.4522553317975815,13787,2.4225719881047381,14121,2.3652715813327729,14455,2.3382912487028618,14793,2.3051443250185821,15134,2.259812343068579,15476,2.2227965882656964,15820,2.1871049304677648,16166,2.1526660893232741,16514,2.1133583626014252,16863,2.0814801636719338,17214,2.0448472173812071,17566]
[306,"Santiago Sacatepéquez",33338,2.0007198992141095,34005,1.8791354212615685,34644,1.749220644267413,35250,1.651063829787236,35832,1.6102924759991089,36409,1.573786701090385,36982,1.5331783029582047,37549,1.4967109643399201,38111,1.4588963816221101,38667,1.4249877156231383,39218,1.3896680095874414,39763,1.3479868219198776,40299,1.3176505620486889,40830,1.278471711976481,41352,1.2454053008318811,41867]
[307,"San Bartolomé Milpas Altas",7751,2.4512966068894304,7941,2.1030096965117817,8108,1.8253576714356123,8256,1.6351744186046568,8391,1.525443928018122,8519,1.4438314356145066,8642,1.3885674612358345,8762,1.335311572700304,8879,1.2839283703119708,8993,1.245413099077064,9105,1.1971444261394737,9214,1.1612763186455322,9321,1.1157601115760141,9425,1.0822281167108816,9527,1.049648367796796,9627]
[308,"San Lucas Sacatepéquez",26381,1.7398885561578314,26840,1.6169895678092461,27274,1.4922636943609291,27681,1.390845706441235,28066,1.3503883702700836,28445,1.3148180699595668,28819,1.2769353551476348,29187,1.2402782060506379,29549,1.1946258756641459,29902,1.1671460103003239,30251,1.1305411391358877,30593,1.0950217369986692,30928,1.0540610450077592,31254,1.0270685352274933,31575,0.98812351543942079,31887]
[309,"Santa Lucía Milpas Altas",15182,3.0562508233434427,15646,2.6971749968042857,16068,2.358725416977836,16447,2.0976469872925119,16792,1.9294902334444863,17116,1.7878008880579666,17422,1.6645620479853074,17712,1.5639114724480541,17989,1.4675635110345198,18253,1.3970306251027242,18508,1.3237518910741208,18753,1.2531328320801949,18988,1.2060248578049215,19217,1.1448196908986796,19437,1.1009929515871875,19651]
[310,"Magdalena Milpas Altas",12102,1.1568335812262465,12242,1.0210749877471059,12367,0.89754993126869298,12478,0.80141048244910529,12578,0.76323739863253248,12674,0.72589553416442243,12766,0.68149772834089628,12853,0.64576363494903699,12936,0.61842918985777207,13016,0.57621389059618888,13091,0.54235734474066266,13162,0.50144354961252358,13228,0.46870275173873654,13290,0.43641835966892195,13348,0.38957147138147796,13400]
[311,"Santa María de Jesús",24780,1.5536723163841915,25165,1.4305583151202006,25525,1.3006856023506375,25857,1.2027690760722409,26168,1.1617242433506592,26472,1.1219401631912929,26769,1.0908140012701351,27061,1.0531761575699239,27346,1.0092883785562723,27622,0.97748171747158441,27892,0.93933744442851186,28154,0.90573275555871913,28409,0.86944278221690041,28656,0.83403126744834299,28895,0.80290707734902433,29127]
[312,"Ciudad Vieja",35075,3.0620099786172528,36149,2.8714487261058297,37187,2.6729771156587034,38181,2.5117204892485701,39140,2.4092999489013778,40083,2.3127011451238744,41010,2.2189709826871518,41920,2.1350190839694694,42815,2.0436762816769871,43690,1.9638361181048225,44548,1.8856065367693242,45388,1.8022384771305244,46206,1.7292126563649646,47005,1.6572705031379531,47784,1.5863050393437161,48542]
[313,"San Miguel Dueñas",13491,2.727744422207401,13859,2.5903744858936539,14218,2.4194682796455202,14562,2.3073753605274083,14898,2.2351993556182004,15231,2.173199395968739,15562,2.1205500578331815,15892,2.0513465894789862,16218,1.991614255765195,16541,1.9406323680551285,16862,1.8799667892302141,17179,1.8161709063391429,17491,1.7666228346006507,17800,1.7078651685393353,18104,1.6570923552805983,18404]
[314,"San Juan Alotenango",25878,1.6577788082541067,26307,1.5319116584939341,26710,1.4077124672407404,27086,1.3032562947648207,27439,1.2682677940158094,27787,1.230791377262741,28129,1.1909417327313543,28464,1.1523327712197773,28792,1.1183662128368965,29114,1.0819536992512147,29429,1.0465867001936857,29737,1.0088442008272525,30037,0.97213436761327543,30329,0.93969468165782111,30614,0.90154831123014922,30890]
[315,"San Antonio Aguas Calientes",11018,2.6774369214013438,11313,2.5545832228409893,11602,2.4219962075504142,11883,2.3310611798367464,12160,2.2861842105263097,12438,2.2350860266924011,12716,2.20981440704624,12997,2.1697314764945741,13279,2.13118457715189,13562,2.0940864179324503,13846,2.0583562039578229,14131,2.0168424032269483,14416,1.9908435072142128,14703,1.9519825885873532,14990,1.914609739826556,15277]
[316,"Santa Catarina Barahona",4022,2.4117354549975101,4119,2.282107307598924,4213,2.1599810111559536,4304,2.0446096654274992,4392,2.0036429872495543,4480,1.9866071428571441,4569,1.9260231998249111,4657,1.9111015675327359,4746,1.8541930046354738,4834,1.8204385601986006,4922,1.7878911011783849,5010,1.7564870259481058,5098,1.7065515888583738,5185,1.6779170684667388,5272,1.6502276176024289,5359]
[4,"Chimaltenango",665056,2.101477168839927,679032,2.0601385501714198,693021,1.988540029811503,706802,1.8869499520374866,720139,1.8328406043833123,733338,1.7765341493281461,746366,1.7218094071809187,759217,1.668824591651652,771887,1.614096363845996,784346,1.5634681632850755,796609,1.5139171161761888,808669,1.4640106149734988,820508,1.4179020801747155,832142,1.3735636465891599,843572,1.3304140014130494,854795]
[401,"Chimaltenango",102730,1.9789740095395691,104763,1.9567977243874379,106813,1.9005177272429341,108843,1.8136214547559426,110817,1.7695840890838088,112778,1.7219670503112239,114720,1.6753835425383556,116642,1.6280585037979467,118541,1.5783568554339933,120412,1.5322393116965038,122257,1.485395519274979,124073,1.4386691705689403,125858,1.3944286418026586,127613,1.35252678018698,129339,1.3097364290739932,131033]
[402,"San José Poaquil",30322,1.8105665853175967,30871,1.771889475559596,31418,1.6996626137882664,31952,1.5961442163244799,32462,1.5433429856447578,32963,1.4895488881473185,33454,1.428827643928976,33932,1.3792290463279455,34400,1.3226744186046524,34855,1.2681107445129847,35297,1.2182338442360496,35727,1.1671844823242905,36144,1.120517928286846,36549,1.0697967112643259,36940,1.0314022739577711,37321]
[403,"San Martín Jilotepeque",84520,1.8587316611452964,86091,1.8190054709551484,87657,1.7488620418220968,89190,1.6470456329184868,90659,1.5927817425738233,92103,1.5352377229840508,93517,1.4799448228664414,94901,1.4256962518835348,96254,1.3682548257734739,97571,1.3180145740025129,98857,1.2664758186066827,100109,1.2146760031565673,101325,1.1665433012583382,102507,1.121874603685602,103657,1.0766277241286204,104773]
[404,"San Juan Comalapa",51449,2.6142393438162159,52794,2.5741561541084312,54153,2.5021697782209751,55508,2.4014556460330017,56841,2.3451381925018833,58174,2.2879636951215421,59505,2.2334257625409526,60834,2.1747706874445161,62157,2.1220457872805909,63476,2.0669229315016802,64788,2.0158053960610101,66094,1.9638696402094036,67392,1.9171415004748393,68684,1.8694310174130813,69968,1.8236908300937493,71244]
[405,"Santa Apolonia",21523,1.6075825860707216,21869,1.5638575152041811,22211,1.5037593984962516,22545,1.3927700155245137,22859,1.3430158799597525,23166,1.2863679530346284,23464,1.2231503579952285,23751,1.1788977306218751,24031,1.115226166201988,24299,1.0700028807769879,24559,1.0138849301681629,24808,0.96742986133504516,25048,0.9142446502714785,25277,0.87035645052815358,25497,0.82754833902027869,25708]
[406,"Tecpán Guatemala",98471,2.1579957550954099,100596,2.1193685633623671,102728,2.0471536484697461,104831,1.9459892589024141,106871,1.8920006362811215,108893,1.8348286850394357,110891,1.7792246440198056,112864,1.724199036007934,114810,1.6679731730685488,116725,1.6157635467980214,118611,1.5656220755241979,120468,1.5124348374672136,122290,1.4661869327009525,124083,1.4200172465204774,125845,1.3747069808097256,127575]
[407,"Patzún",63573,1.9426486086860706,64808,1.9009998765584513,66040,1.8322228952150299,67250,1.7308550185873628,68414,1.6750957406378886,69560,1.6173087981598666,70685,1.5632736789983781,71790,1.5085666527371533,72873,1.4532131242023905,73932,1.3985824811989289,74966,1.3499453085398683,75978,1.2977440838137344,76964,1.2499350345616111,77926,1.2049893488694341,78865,1.1602104862740159,79780]
[408,"San Miguel Pochuta",10439,0.96752562505986184,10540,1.0531309297912683,10651,1.0609332457046206,10764,1.0590858416945403,10878,1.0847582276153789,10996,1.0913059294288763,11116,1.1065131342209433,11239,1.1210961829344335,11365,1.1086669599648102,11491,1.1226177008093252,11620,1.1015490533562877,11748,1.0980592441266701,11877,1.0861328618337884,12006,1.0661335998667365,12134,1.0548870941156974,12262]
[409,"Patzicía",35017,2.6901219407716281,35959,2.5167551934147214,36864,2.346462673611116,37729,2.1680935089718689,38547,2.0494461306975964,39337,1.9498182372829742,40104,1.8551765409934085,40848,1.7699764982373578,41571,1.6982992951817266,42277,1.6249970433096061,42964,1.5617726468671433,43635,1.5010885756846504,44290,1.4427636035222458,44929,1.3955351777248604,45556,1.343401527789978,46168]
[410,"Santa Cruz Balanyá",9743,1.90906291696602,9929,1.8733004330748315,10115,1.8091942659416604,10298,1.689648475432115,10472,1.661573720397258,10646,1.5874506857035398,10815,1.5349052242256134,10981,1.4843821145615221,11144,1.4178033022254066,11302,1.3714386834188685,11457,1.3179715457798835,11608,1.274982770503108,11756,1.2249064307587654,11900,1.1764705882352899,12040,1.1378737541528183,12177]
[411,"Acatenango",25993,1.6542915400300062,26423,1.6160163493925683,26850,1.5456238361266195,27265,1.4487438107463779,27660,1.3846710050614552,28043,1.3336661555468421,28417,1.2774043706232252,28780,1.2230715774843581,29132,1.1705341205547226,29473,1.1128829776405613,29801,1.0670782859635519,30119,1.0093296590192313,30423,0.96966111165894819,30718,0.91477309720684463,30999,0.8774476596019154,31271]
[412,"San Pedro Yepocapa",36948,2.3790191620655987,37827,2.3422423136912895,38713,2.2679719990700731,39591,2.1671592028491338,40449,2.1137728992064009,41304,2.0554909936083776,42153,1.9998576613764252,42996,1.9443669178528245,43832,1.8867494068260715,44659,1.838375243511936,45480,1.783201407211954,46291,1.734678447214355,47094,1.6838663099333351,47887,1.6413640445214872,48673,1.5943130688472085,49449]
[413,"San Andrés Itzapa",32050,1.5975039001560054,32562,1.5877403107917187,33079,1.5568789866682753,33594,1.4853842948145513,34093,1.4607104097615453,34591,1.4338989910670508,35087,1.4022287456892935,35579,1.3715956041485233,36067,1.3391743144702817,36550,1.3077975376196926,37028,1.2774116884519904,37501,1.2399669342150865,37966,1.2116103882421125,38426,1.1814916983292623,38880,1.1496913580246959,39327]
[414,"Parramos",17334,2.7114341756086402,17804,2.6735565041563714,18280,2.5984682713347862,18755,2.4953345774460178,19223,2.4449877750611249,19693,2.3866348448687402,20163,2.326042751574664,20632,2.2780147343931745,21102,2.2177992607335772,21570,2.1650440426518314,22037,2.1146254027317735,22503,2.0663911478469466,22968,2.0114942528735691,23430,1.9675629534784411,23891,1.9212255661127609,24350]
[415,"Zaragoza",25209,2.7053829981355859,25891,2.6032211965547836,26565,2.4731789949181238,27222,2.3216516053192304,27854,2.2223020033029339,28473,2.1213079057352591,29077,2.0325343054647949,29668,1.944856410947815,30245,1.8581583732848461,30807,1.7788165027428748,31355,1.7062669430712774,31890,1.6306052053935316,32410,1.5705029311940732,32919,1.5067286369573774,33415,1.4454586263654035,33898]
[416,"El Tejar",19735,2.8882695718267071,20305,2.8515144053188779,20884,2.7820340930856169,21465,2.6787794083391603,22040,2.6225045372050726,22618,2.5643292952515662,23198,2.5088369687042089,23780,2.451640033641711,24363,2.3970775356072727,24947,2.344971339239188,25532,2.2912423625254474,26117,2.2437492820768012,26703,2.1907650825749858,27288,2.1437994722955045,27873,2.1023929968069455,28459]
[5,"Escuintla",734225,1.6648847424154622,746449,1.5646078968556409,758128,1.5079247831500719,769560,1.4432922709080476,780667,1.4054648140628512,791639,1.3693110117111384,802479,1.3321220866838956,813169,1.2930891364525632,823684,1.2555785956750443,834026,1.2159093361597817,844167,1.1784398110800343,854115,1.1418837041850427,863868,1.1054929688331994,873418,1.0694764706017157,882759,1.0361831485150574,891906]
[501,"Escuintla",154623,1.592259883717162,157085,1.4909125632619258,159427,1.4294943767366952,161706,1.3604937355447433,163906,1.3184386172562235,166067,1.2802061818422583,168193,1.2408364200650501,170280,1.2003758515386487,172324,1.1629256516793918,174328,1.1237437474186596,176287,1.0868640342169389,178203,1.0516096810940345,180077,1.0167872632262931,181908,0.98291444026650243,183696,0.95157216270360667,185444]
[502,"Santa Lucía Cotzumalguapa",113756,1.9691269031963055,115996,1.8147177488878841,118101,1.7180210159101206,120130,1.6232414883875723,122080,1.5620904325032825,123987,1.505803027736774,125854,1.4532712508144252,127683,1.4019094162887713,129473,1.3531778826473495,131225,1.3031053534006576,132935,1.2585097980215787,134608,1.2146380601450124,136243,1.1721703133372063,137840,1.1302959953569447,139398,1.0925551299157732,140921]
[503,"La Democracia",24075,1.3416407061266789,24398,1.2132141978850708,24694,1.1298291082854073,24973,1.0331157650262268,25231,0.96310094724743056,25474,0.89895579806862358,25703,0.83258763568454519,25917,0.7678357834626004,26116,0.70071986521671459,26299,0.64260998517053913,26468,0.57427837388543956,26620,0.51840721262208511,26758,0.45220121085283171,26879,0.39435990922280784,26985,0.33722438391698972,27076]
[504,"Siquinalá",24427,{"$f":"+(((E74/C74)^(1/1))-1)*100","v":0.75326482990134558},24611,{"$f":"+(((G74/E74)^(1/1))-1)*100","v":0.91422534638982977},24836,{"$f":"+(((I74/G74)^(1/1))-1)*100","v":1.0468674504751085},25096,{"$f":"+(((K74/I74)^(1/1))-1)*100","v":1.1197003506534964},25377,{"$f":"+(((M74/K74)^(1/1))-1)*100","v":1.1861134097805204},25678,{"$f":"+(((O74/M74)^(1/1))-1)*100","v":1.2267310538203846},25993,{"$f":"+(((Q74/O74)^(1/1))-1)*100","v":1.2464894394644821},26317,{"$f":"+(((S74/Q74)^(1/1))-1)*100","v":1.2463426682372658},26645,{"$f":"+(((U74/S74)^(1/1))-1)*100","v":1.2385062863576657},26975,{"$f":"+(((W74/U74)^(1/1))-1)*100","v":1.2159406858202049},27303,{"$f":"+(((Y74/W74)^(1/1))-1)*100","v":1.1940079844705798},27629,{"$f":"+(((AA74/Y74)^(1/1))-1)*100","v":1.1654421079300814},27951,{"$f":"+(((AC74/AA74)^(1/1))-1)*100","v":1.1377052699366841},28269,{"$f":"+(((AE74/AC74)^(1/1))-1)*100","v":1.1036824790406463},28581,{"$f":"+(((AG74/AE74)^(1/1))-1)*100","v":1.0706413351527333},28887]
[505,"Masagua",44275,1.5674760022586165,44969,1.4521114545575919,45622,1.3765288676515608,46250,1.2994594594594622,46851,1.2465048771637788,47435,1.1953199114577817,48002,1.1457855922669902,48552,1.0977920579996692,49085,1.0492003667108118,49600,1.0020161290322571,50097,0.95814120606023678,50577,0.91345868675485331,51039,0.87188228609493823,51484,0.82938388625592996,51911,0.79173970834698348,52322]
[506,"Tiquisate",60648,0.66778789077956979,61053,0.68628896204936396,61472,0.73366736074960137,61923,0.75900715404615404,62393,0.80297469267385235,62894,0.83950774318695132,63422,0.86563022295103043,63971,0.88477591408606671,64537,0.89715976881479254,65116,0.90300387001658322,65704,0.90557652502130104,66299,0.90348270712981016,66898,0.89838261233519123,67499,0.88890205780827181,68099,0.88107020661096769,68699]
[507,"La Gomera",60984,-23.619309982946348,46580,2.4109059682267064,47703,2.3352828962539096,48817,2.2574103283692137,49919,2.1995632925339015,51017,2.150263637610994,52114,2.1050005756610535,53211,2.0484486290428761,54301,2.001804754976888,55388,1.9552971762836657,56471,1.9071735935258793,57548,1.864530478904558,58621,1.8201668344108857,59688,1.7809274896126492,60751,1.7382429918848974,61807]
[508,"Guanagazapa",17061,8.7919817126791422E-2,17076,0.15226048254861624,17102,0.25727985030989942,17146,0.32660678875540139,17202,0.42436925938844627,17275,0.49782923299566129,17361,0.55872357583088839,17458,0.61289953030130295,17565,0.66040421292343776,17681,0.68435043266783513,17802,0.71902033479385175,17930,0.73619631901840066,18062,0.74742553427085134,18197,0.75836676375227174,18335,0.76356694845922668,18475]
[509,"San José",60845,1.911414249322041,62008,1.7981550767642851,63123,1.7236189661454571,64211,1.6445780318014025,65267,1.5888580752907222,66304,1.5413851351351315,67326,1.4927368327243506,68331,1.441512637016884,69316,1.3950603035374209,70283,1.3459869385199941,71229,1.3014362127784951,72156,1.2583846111203556,73064,1.2153728238256889,73952,1.175086542622239,74821,1.1360446933347479,75671]
[510,"Iztapa",17918,2.40540238865945,18349,2.1363562046978091,18741,1.9582733045194978,19108,1.7950596608750313,19451,1.6914297465425943,19780,1.5975733063700703,20096,1.5177149681528723,20401,1.4509092691534775,20697,1.3866743972556383,20984,1.3343499809378656,21264,1.2697516930022523,21534,1.2306120553543298,21799,1.1835405293820767,22057,1.1334270299678151,22307,1.0938270498049851,22551]
[511,"Palín",64408,1.951620916656327,65665,1.7817711109419099,66835,1.6907309044662311,67965,1.6008239535054702,69053,1.5480862525885986,70122,1.4973902626850277,71172,1.4486033833529977,72203,1.3974488594656664,73212,1.3508714418401402,74201,1.3018692470451843,75167,1.2585310042970921,76113,1.2139844704583957,77037,1.1708659475317074,77939,1.1303711877237221,78820,1.092362344582587,79681]
[512,"San Vicente Pacaya",16558,1.7755767604783257,16852,1.6615238547353472,17132,1.5759981321503691,17402,1.5113205378692207,17665,1.4435324087177959,17920,1.4062500000000089,18172,1.3482280431432958,18417,1.3031438345007418,18657,1.2542209358417766,18891,1.2122174580488032,19120,1.1610878661087787,19342,1.116740771378355,19558,1.0788424174250855,19769,1.036977085335633,19974,0.99629518373887116,20173]
[513,"Nueva Concepción",74647,1.6290004956662774,75863,1.514572321157881,77012,1.4426323170414923,78123,1.3606748332757324,79186,1.3095749248604571,80223,1.2589905638034082,81233,1.2100993438627139,82216,1.1603580811520908,83170,1.1133822291691686,84096,1.0642598934550884,84991,1.0201080114365046,85858,0.97719490321228619,86697,0.93428838368110334,87507,0.89250002856913202,88288,0.85515585357014423,89043]
[514,"Sipacate","…",{"$error":"#VALUE!"},15944,2.4084295032614111,16328,2.3395394414502668,16710,2.2501496110113761,17086,2.2064848413906102,17463,2.1473973544064551,17838,2.0966476062338923,18212,2.0535910388754575,18586,2.0068869041213855,18959,1.951579724669017,19329,1.9090485798541001,19698,1.8580566554980305,20064,1.8241626794258448,20430,1.7767988252569644,20793,1.7457798297503935,21156]
[6,"Santa Rosa",411982,1.5041919307154261,418179,1.4111182053618165,424080,1.3813431428032485,429938,1.3013504272709087,435533,1.2625908943753927,441032,1.2253079141649525,446436,1.1860602639572004,451731,1.1504634395248514,456928,1.114179914559843,462019,1.0744146885734107,466983,1.0364402986832388,471823,1.0014348601064427,476548,0.96758353827945953,481159,0.93482611776980473,485657,0.90104744706656081,490033]
[601,"Cuilapa",43972,1.1439097607568449,44475,1.1332209106239555,44979,1.1494252873563315,45496,1.0989977140847484,45996,1.0718323332463697,46489,1.0432575447955506,46974,1.0090688465959952,47448,0.97369752149720767,47910,0.93926111458986217,48360,0.89950372208436047,48795,0.86074392868120686,49215,0.82495174235497348,49621,0.78998810987283008,50013,0.75780297122747253,50392,0.72233687886966713,50756]
[602,"Barberena",56507,1.4918505671863702,57350,1.3809938971229396,58142,1.3398231914966807,58921,1.2474330035131764,59656,1.2069196727906739,60376,1.164369948323829,61079,1.1214983873344408,61764,1.0831552360598407,62433,1.0459212275559349,63086,1.0049773325301992,63720,0.96516007532956305,64335,0.92950959819693146,64933,0.89630850261037676,65515,0.86087155613219224,66079,0.82628369073380892,66625]
[603,"Santa Rosa de Lima",19147,2.2927873818352706,19586,2.0780149086081945,19993,1.9456809883459103,20382,1.7760769306250701,20744,1.6583108368684929,21088,1.5506449165402225,21415,1.4522530936259548,21726,1.3716284635920006,22024,1.2804213585179802,22306,1.1969873576616052,22573,1.1296681876578285,22828,1.0601016295777033,23070,0.99696575639358631,23300,0.93991416309013864,23519,0.88439134316935508,23727]
[604,"Casillas",25055,0.50688485332268662,25182,0.56786593598601165,25325,0.66337611056268564,25493,0.69430824147804771,25670,0.73626801714063994,25859,0.77342511311342399,26059,0.7905138339920903,26265,0.79192842185418222,26473,0.79703849204850741,26684,0.78698845750262425,26894,0.76968840633597768,27101,0.75273975130067949,27305,0.73246658121224328,27505,0.71259770950735657,27701,0.68589581603553107,27891]
[605,"San Rafael Las Flores",12421,2.0127203928830273,12671,1.9098729382053481,12913,1.8663362502904013,13154,1.7789265622624395,13388,1.7328951299671269,13620,1.6886930983847304,13850,1.6462093862815941,14078,1.6124449495666937,14305,1.5728766165676422,14530,1.5278733654507937,14752,1.4913232104121432,14972,1.456051295752081,15190,1.4154048716260803,15405,1.382667964946438,15618,1.3510052503521663,15829]
[606,"Oratorio",24434,1.9399197839076621,24908,1.8267223382046005,25363,1.782123565824234,25815,1.6966879721092454,26253,1.6493353140593525,26686,1.6075845012366141,27115,1.5637101235478568,27539,1.5251098442209177,27959,1.4878929861583012,28375,1.4484581497797411,28786,1.4069339262141378,29191,1.3702853619266264,29591,1.3382447365753114,29987,1.3005635775502622,30377,1.2674062613161174,30762]
[607,"San Juan Tecuaco",11429,2.1261702686149242,11672,2.0133653187114353,11907,1.9820273788527798,12143,1.877624969118008,12371,1.8430199660496305,12599,1.7937931581871513,12825,1.7543859649122862,13050,1.7241379310344751,13275,1.6798493408662907,13498,1.6372795969773257,13719,1.5963262628471364,13938,1.564069450423311,14156,1.5187906188188771,14371,1.4960684712267858,14586,1.460304401480883,14799]
[608,"Chiquimulilla",58748,1.8570844964934885,59839,1.7413392603486066,60881,1.6983952300389182,61915,1.6118872647985061,62913,1.5640646607219422,63897,1.5243282157221705,64871,1.4814015507699896,65832,1.4415481832543486,66781,1.4045911262185351,67719,1.3629852773962892,68642,1.3213484455581126,69549,1.2868624998202627,70444,1.2520583726080226,71326,1.2155455233715529,72193,1.1815549984070417,73046]
[609,"Taxisco",32826,2.0898068604155329,33512,1.9783957985199274,34175,1.9341623994147739,34836,1.8429211160868153,35478,1.8011161846778201,36117,1.755406041476304,36751,1.7142390683246633,37381,1.6773227040475014,38008,1.6364975794569636,38630,1.5946155837432086,39246,1.5568465576109691,39857,1.5179265875504999,40462,1.4828728189412388,41062,1.451463640348738,41658,1.4114935906668569,42246]
[610,"Santa María Ixhuatán",25558,0.93121527506063728,25796,0.81795627229028778,26007,0.78055908024763365,26210,0.6867607783288765,26390,0.64418340280409936,26560,0.60617469879518104,26721,0.56135623666779821,26871,0.52472926202968839,27012,0.48496964312156887,27143,0.44210293630033703,27263,0.40714521512672519,27374,0.36896324979907025,27475,0.33848953594175502,27568,0.30107370864771443,27651,0.26762142417995349,27725]
[611,"Guazacapán",20338,1.656996754843143,20675,1.5429262394195842,20994,1.5004286939125366,21309,1.4125486883476368,21610,1.3697362332253604,21906,1.3284031772117233,22197,1.2839572915258834,22482,1.2454407970821091,22762,1.2081539407784891,23037,1.1676867647697264,23306,1.1284647730198216,23569,1.0946582375153779,23827,1.0534267847400081,24078,1.0216795414901503,24324,0.99079098832428603,24565]
[612,"Santa Cruz Naranjo",15980,2.071339173967468,16311,1.9679970572006544,16632,1.9179894179894186,16951,1.8288006607279916,17261,1.7843693876368638,17569,1.7417041379702791,17875,1.7006993006992932,18179,1.6612574949117054,18481,1.6286997456847585,18782,1.5866254924928214,19080,1.5408805031446482,19374,1.5071745638484568,19666,1.4695413403844171,19955,1.4382360310699172,20242,1.4030234166584332,20526]
[613,"Pueblo Nuevo Viñas",28385,0.7856262110269574,28608,0.67114093959732557,28800,0.63194444444445441,28982,0.54516596508178417,29140,0.49759780370624007,29285,0.4541574184736108,29418,0.41471208103882606,29540,0.37576167907922287,29651,0.33725675356648388,29751,0.29914960841652682,29840,0.25804289544235637,29917,0.22061035531637518,29983,0.19010772771237416,30040,0.15312916111851482,30086,0.11965698331450891,30122]
[614,"Nueva Santa Rosa",37182,1.108063041256524,37594,0.99749960100015134,37969,0.95340936026757639,38331,0.86613967806736802,38663,0.82249178801439005,38981,0.78243246709934766,39286,0.73817644962581586,39576,0.70244592682433549,39854,0.66241782506146762,40118,0.62066902637221144,40367,0.58463596502094095,40603,0.54675762874665246,40825,0.51194121249233948,41034,0.48008968172734701,41231,0.4438407993985205,41414]
[7,"Sololá",431746,1.6291986492057875,438780,1.6329367792515592,445945,1.6037852201504776,453097,1.5720695568498533,460220,1.531006909738819,467266,1.4925117598969306,474240,1.4494770580296912,481114,1.4117236247542131,487906,1.3699360122646498,494590,1.3299904971794785,501168,1.2909842607668587,507638,1.251679346305834,513992,1.2159722330308709,520242,1.1802199745503117,526382,1.1459358412711618,532414]
[701,"Sololá",94406,1.0253585577187918,95374,1.0222911904711918,96349,0.98392302981868962,97297,0.94350288292548434,98215,0.89497530927047375,99094,0.84767998062444949,99934,0.79852702783838048,100732,0.75348449350751689,101491,0.7064665832438255,102208,0.65943957420162569,102882,0.61429598958029352,103514,0.56997121162354336,104104,0.52831783601015037,104654,0.48636459189328463,105163,0.4469252493747744,105633]
[702,"San José Chacayá",4644,2.1963824289405576,4746,2.0648967551622377,4844,1.9818331957060176,4940,1.9230769230769162,5035,1.8470705064548065,5128,1.7940717628705194,5220,1.7432950191570873,5311,1.713424967049515,5402,1.6475379489078179,5491,1.6026224731378713,5579,1.5773436099659532,5667,1.5175577907181825,5753,1.4774900052146656,5838,1.4559780746831175,5923,1.4013169002194736,6006]
[703,"Santa María Visitación",2355,1.7409766454352438,2396,1.7529215358931483,2438,1.722723543888427,2480,1.6532258064516192,2521,1.5866719555731823,2561,1.6009371339320566,2602,1.4988470407378829,2641,1.4767133661491849,2680,1.4179104477611837,2718,1.3980868285504044,2756,1.3425253991291797,2793,1.2889366272824887,2829,1.2725344644750836,2865,1.221640488656206,2900,1.172413793103444,2934]
[704,"Santa Lucía Utatlán",21011,0.67583646661273367,21153,0.67602704108165046,21296,0.6386175807663319,21432,0.59723777528928323,21560,0.55658627087198376,21680,0.50738007380073391,21790,0.46351537402478105,21891,0.41569594810653143,21982,0.37303248112092735,22064,0.32632342277012505,22136,0.28460426454643972,22199,0.23874949322042482,22252,0.20222901312241248,22297,0.15697178992688521,22332,0.12538061973850212,22360]
[705,"Nahualá",81246,2.4456588632055798,83233,2.4437422656878871,85267,2.4065582229936489,87319,2.3683276262898012,89387,2.3191291798583702,91460,2.2753116116335015,93541,2.2257619653414107,95623,2.1825293078025165,97710,2.1348889571179974,99796,2.0912661830133406,101883,2.0464650628662318,103968,2.0025392428439481,106050,1.9622819424799598,108131,1.922667875077444,110210,1.8827692586879552,112285]
[706,"Santa Catarina Ixtahuacán",54702,2.0310043508463993,55813,1.9816171859602605,56919,1.9290570811152596,58017,1.8856542048020453,59111,1.8355297660334058,60196,1.7908166655591806,61274,1.7429905016809633,62342,1.7002983542395267,63402,1.6545219393709898,64451,1.6089742595149836,65488,1.5666992426093262,66514,1.5229876416994914,67527,1.4838509040828063,68529,1.4431846371609103,69518,1.406829885784977,70496]
[707,"Santa Clara La Laguna",9435,1.6110227874933658,9587,1.6063419213518282,9741,1.5706806282722585,9894,1.5160703456640334,10044,1.4834727200318643,10193,1.4421661924850282,10340,1.382978723404249,10483,1.3545740723075461,10625,1.2988235294117745,10763,1.2542971290532279,10898,1.2112314186089268,11030,1.1786038077969074,11160,1.1290322580645107,11286,1.0898458266879407,11409,1.0518012095714013,11529]
[708,"Concepción",6744,0.37069988137603538,6769,0.84207416161914406,6826,1.1719894520949348,6906,1.3756154068925497,7001,1.4712183973718096,7104,1.5484234234234284,7214,1.580260604380368,7328,1.5829694323144183,7444,1.5851692638366499,7562,1.5604337476857966,7680,1.5364583333333348,7798,1.4875609130546197,7914,1.4657568865301895,8030,1.4445828144458384,8146,1.3994598575988171,8260]
[709,"San Andrés Semetabaj",13451,1.7396476098431313,13685,1.74643770551699,13924,1.7020970985349049,14161,1.6665489725301796,14397,1.618392720705697,14630,1.5789473684210575,14861,1.5274880559854598,15088,1.4779957582184533,15311,1.436875449023578,15531,1.3972055888223478,15748,1.3462026924053738,15960,1.3157894736842035,16170,1.267779839208405,16375,1.2274809160305322,16576,1.1884652509652538,16773]
[710,"Panajachel",14448,1.8895348837209225,14721,1.888458664492898,14999,1.853456897126482,15277,1.8131832166001116,15554,1.7744631606017691,15830,1.7119393556538132,16101,1.6769144773616462,16371,1.637041109278603,16639,1.5866338121281354,16903,1.5441045968171307,17164,1.5031461197855922,17422,1.4521868901389068,17675,1.4144271570014189,17925,1.3779637377963727,18172,1.3372220999339657,18415]
[711,"Santa Catarina Palopó",4588,1.0897994768962471,4638,1.1211729193618014,4690,1.0660980810234477,4740,1.0337552742615941,4789,0.98141574441428236,4836,0.95119933829610481,4882,0.90126997132322639,4926,0.85261875761266648,4968,0.80515297906602612,5008,0.75878594249201292,5046,0.71343638525565023,5082,0.68870523415978102,5117,0.6253664256400171,5149,0.60205865216547139,5180,0.5791505791505891,5210]
[712,"San Antonio Palopó",14934,0.96424266773804668,15078,0.95503382411461502,15222,0.91972145578766984,15362,0.88530139304778821,15498,0.83881791198865407,15628,0.79344765804965078,15752,0.74276282376841696,15869,0.69947696767282963,15980,0.65707133917396465,16085,0.60926328877837221,16183,0.56849780633998481,16275,0.52227342549924227,16360,0.48899755501221609,16440,0.44403892944038237,16513,0.40574093138738831,16580]
[713,"San Lucas Tolimán",30177,0.94774165755375783,30463,0.94540918491283765,30751,0.91053949465058626,31031,0.87332022815893584,31302,0.82103379975719815,31559,0.7794923793529529,31805,0.73258921553214229,32038,0.68980585554654361,32259,0.63858148113704605,32465,0.59756661019558788,32659,0.55421170274656539,32840,0.51157125456759989,33008,0.46958313136209462,33163,0.43120344962759294,33306,0.39332252447006333,33437]
[714,"Santa Cruz La Laguna",7371,1.2210012210012167,7461,1.2062726176115701,7551,1.1786518341941443,7640,1.1387434554973819,7727,1.1000388248997073,7812,1.0496671786994316,7894,0.98809222194071733,7972,0.9533366783743169,8048,0.91948310139164935,8122,0.86185668554543682,8192,0.830078125,8260,0.77481840193704965,8324,0.75684766938972636,8387,0.69154644092046524,8445,0.66311426879810398,8501]
[715,"San Pablo La Laguna",7685,0.58555627846454961,7730,0.67270375161707641,7782,0.68105885376510411,7835,0.70197830248883708,7890,0.70975918884663702,7946,0.72992700729928028,8004,0.7371314342828672,8063,0.75654222993923881,8124,0.73855243722305008,8184,0.7575757575757569,8246,0.75187969924812581,8308,0.75830524795377219,8371,0.75259825588340767,8434,0.75883329381076781,8498,0.7531183807954811,8562]
[716,"San Marcos La Laguna",2723,1.3955196474476628,2761,1.3400941687794266,2798,1.3581129378127166,2836,1.2693935119887145,2872,1.2883008356545878,2909,1.20316259883122,2944,1.1548913043478271,2978,1.1081262592343766,3011,1.0959814015277347,3044,1.018396846254932,3075,0.97560975609756184,3105,0.96618357487923134,3135,0.8612440191387627,3162,0.88551549652118311,3190,0.84639498432601545,3217]
[717,"San Juan La Laguna",11700,2.3504273504273421,11975,2.3632567849686925,12258,2.3086963615597922,12541,2.2884937405310612,12828,2.2217025257249778,13113,2.1886677343094574,13400,2.1417910447761201,13687,2.0895740483670711,13973,2.0539612109067518,14260,2.0056100981767244,14546,1.9593015261927693,14831,1.9149079630503607,15115,1.8855441614290536,15400,1.8311688311688279,15682,1.7982400204055615,15964]
[718,"San Pedro La Laguna",10424,2.1968534151957098,10653,2.1871773209424683,10886,2.167922101782116,11122,2.1129293292573292,11357,2.0780135599189897,11593,2.0270853101009179,11828,1.9783564423402122,12062,1.9399767866025597,12296,1.8867924528301883,12528,1.8438697318007735,12759,1.8026491104318421,12989,1.7630302563707678,13218,1.7173551218035987,13445,1.6809222759390119,13671,1.6458196181698526,13896]
[719,"Santiago Atitlán",39702,2.1207999596997595,40544,2.1211523283346523,41404,2.0843396773258638,42267,2.046513828755292,43132,1.9985161828804499,43994,1.954812019820884,44854,1.9061845097427144,45709,1.8639655210133776,46561,1.8169712849809949,47407,1.7739996203092412,48248,1.7306416846294193,49083,1.6849010859157021,49910,1.6469645361651075,50732,1.6084522589292716,51548,1.5674710949018289,52356]
[8,"Totonicapán",450761,1.5012390157977284,457528,1.5572817401339423,464653,1.5973210115935998,472075,1.5552613461844,479417,1.5164251580565669,486687,1.4746644147059618,493864,1.4329855992742946,500941,1.3901836743249296,507905,1.3488742973587486,514756,1.3052786174420516,521475,1.2637230931492383,528065,1.2257960667720891,534538,1.186070962214103,540878,1.1490576433132782,547093,1.1131562641086612,553183]
[801,"Totonicapán",110020,1.2715869841847027,111419,1.331011766395318,112902,1.3728720483251022,114452,1.3333100339006698,115978,1.297659901015713,117483,1.2572031698203201,118960,1.2172158708809722,120408,1.1768321041791152,121825,1.1376975169300252,123211,1.094869776237517,124560,1.0549132947976769,125874,1.0176843510176781,127155,0.97911997168809162,128400,0.943146417445484,129611,0.90810193579249354,130788]
[802,"San Cristóbal Totonicapán",39435,1.389628502599205,39983,1.4481154490658454,40562,1.4915438094768474,41167,1.4501906867150804,41764,1.412699932956607,42354,1.3764933654436318,42937,1.3368423504203752,43511,1.2939256739675109,44074,1.2524390797295393,44626,1.2145386097790478,45168,1.1733970952886974,45698,1.1357170992166044,46217,1.0991626457796944,46725,1.0615302300695628,47221,1.0270854069164059,47706]
[803,"San Francisco El Alto",57465,2.3266336030627333,58802,2.3145471242474791,60163,2.2954307464720936,61544,2.2000519953204289,62898,2.108175140704005,64224,2.0194942700548113,65521,1.9337311701591808,66788,1.8536263999520797,68026,1.7743215829241654,69233,1.6971675357127403,70408,1.6248153618906969,71552,1.5597048300536764,72668,1.4930918698739415,73753,1.4331620408661427,74810,1.3754845608875854,75839]
[804,"San Andrés Xecul",26927,1.6897537787351036,27382,1.7529764078591858,27862,1.7981480152178486,28363,1.7522829037830867,28860,1.7186417186417113,29356,1.6793841122768827,29849,1.6415960333679536,30339,1.595306371337224,30823,1.5605229860818248,31304,1.5173779708663515,31779,1.4758173636678418,32248,1.4419498883651682,32713,1.4000550239965825,33171,1.3626360375026403,33623,1.3294471046604972,34070]
[805,"Momostenango",124019,1.9497012554527959,126437,2.006532897806812,128974,2.04925023648177,131617,2.0088590379662152,134261,1.9722778766730453,136909,1.930479369508209,139552,1.891051364365981,142191,1.848921521052671,144820,1.8084518712884856,147439,1.7647976451278247,150041,1.7248618710885788,152629,1.6864422881627927,155203,1.6475197000058062,157760,1.6100405679513097,160300,1.57392389270119,162823]
[806,"Santa María Chiquimula",56425,0.68586619406292293,56812,0.74632119974653577,57236,0.78447131176182516,57685,0.74542775418220408,58115,0.70721844618428786,58526,0.66978778662474259,58918,0.62629417156048195,59287,0.58697522222410647,59635,0.54665884128448639,59961,0.50532846350128668,60264,0.46296296296295392,60543,0.42614340220998859,60801,0.38650680087497502,61036,0.35061275312930906,61250,0.31346938775509425,61442]
[807,"Santa Lucía la Reforma",24370,0.8288879770209201,24572,0.88718867003092505,24790,0.93182734973780157,25021,0.8952479916869871,25245,0.85561497326203106,25461,0.81300813008129413,25668,0.7791803023219579,25868,0.73449822174114221,26058,0.69844193721697589,26240,0.65167682926829951,26411,0.61338078830790455,26573,0.57577240055695089,26726,0.53880116740252504,26870,0.50614067733532053,27006,0.46656298600311619,27132]
[808,"San Bartolo Aguas Calientes",12100,0.1735537190082681,12121,0.35475620823364196,12164,0.50970075633014478,12226,0.57255030263372308,12296,0.63435263500324357,12374,0.68692419589462261,12459,0.72236937153864478,12549,0.75703243286318056,12644,0.77507118000632591,12742,0.80050227593784218,12844,0.80971659919029104,12948,0.82638245288848555,13055,0.82726924549980652,13163,0.82807870546228735,13272,0.83634719710670158,13383]
[9,"Quetzaltenango",828085,1.6370300150346795,841641,1.6255149166925165,855322,1.6074647910377715,869071,1.5788123179809155,882792,1.5416995169870162,896402,1.5034549231260019,909879,1.4652497749700677,923211,1.4269760650598817,936385,1.3868227278309719,949371,1.3469971170385397,962159,1.3088273351909541,974752,1.270682183775973,987138,1.2343765512015548,999323,1.1970103760245765,1011285,1.161986976964946,1023036]
[901,"Quetzaltenango",178463,2.0480435720569456,182118,2.0267079585763126,185809,1.9939830686349858,189514,1.9486686999377278,193207,1.8943413023337685,196867,1.840836707015403,200491,1.7876114139786736,204075,1.7371064559598137,207620,1.6848087852808113,211118,1.6351045386939989,214570,1.5873607680477297,217976,1.5405365728337062,221334,1.4968328408649478,224647,1.4529461777811337,227911,1.4110771309853387,231127]
[902,"Salcajá",18653,2.6376454189674492,19145,2.4236092974667001,19609,2.2336682135754016,20047,2.0551703496782592,20459,1.9160271763038361,20851,1.7792911610953865,21222,1.6727923852605686,21577,1.5757519581035329,21917,1.4919925172240722,22244,1.4116166157166044,22558,1.3432041847681431,22861,1.2860329819343042,23155,1.2308356726409064,23440,1.1689419795221756,23714,1.1301340980011787,23982]
[903,"San Juan Olintepeque",34844,2.2643783721731037,35633,1.9672775236438067,36334,1.799966973083067,36988,1.6951443711473946,37615,1.6057423900039947,38219,1.5411182919490285,38808,1.4816532673675553,39383,1.4244724881294024,39944,1.3744241938714152,40493,1.3212160126441663,41028,1.2771765623476705,41552,1.2273777435502398,42062,1.1839665256050624,42560,1.1442669172932352,43047,1.0987989871535708,43520]
[904,"San Carlos Sija",31919,1.8452959052601914,32508,1.8241663590500723,33101,1.7945077188000313,33695,1.7480338329128875,34284,1.697584879243963,34866,1.6376986175643982,35437,1.5915568473629182,36001,1.5360684425432591,36554,1.4854735459867596,37097,1.4394694988813184,37631,1.3871542079668453,38153,1.3445862710665057,38666,1.300884498008581,39169,1.2535423421583314,39660,1.2153303076147148,40142]
[905,"Sibilia",7984,1.9539078156312728,8140,1.9410319410319454,8298,1.8920221740178267,8455,1.8568894145476023,8612,1.7882025081281894,8766,1.7567875884097583,8920,1.692825112107621,9071,1.642597288060843,9220,1.5943600867678986,9367,1.5373118394363283,9511,1.5035222374093049,9654,1.4501760928112617,9794,1.3988156013886144,9931,1.3593797200684765,10066,1.3212795549374157,10199]
[906,"Cabricán",25156,1.7172841469232036,25588,1.700015632327645,26023,1.6639126926180747,26456,1.6215603265799849,26885,1.569648502882659,27307,1.5124327095616508,27720,1.4574314574314684,28124,1.4151614279618752,28522,1.3603534114017268,28910,1.3075060532687699,29288,1.259901666211416,29657,1.2172505647907839,30018,1.172629755480048,30370,1.1326967402041532,30714,1.0874519762974488,31048]
[907,"Cajolá",17791,1.2140970153448283,18007,1.221747098350634,18227,1.2344324353980252,18452,1.2085410795577678,18675,1.1834002677376221,18896,1.1642675698560589,19116,1.1351747227453357,19333,1.1069156364764909,19547,1.074333657338733,19757,1.0477299185098987,19964,1.0218393107593648,20168,0.98671162237207177,20367,0.96725094515637267,20564,0.9336704921221628,20756,0.91058007323183698,20945]
[908,"San Miguel Siguilá",8912,1.570915619389579,9052,1.5576668139637651,9193,1.5228978570651641,9333,1.478624236579873,9471,1.4359624115721781,9607,1.3739981263661827,9739,1.3348393058835617,9869,1.2767250987941958,9995,1.2406203101550828,10119,1.1858879335902683,10239,1.1426897157925664,10356,1.1104673619158012,10471,1.0505204851494643,10581,1.0206974766090227,10689,0.98231827111985304,10794]
[909,"San Juan Ostuncalco",59311,{"$f":"+(((E138/C138)^(1/1))-1)*100","v":0.38778641398728997},59541,{"$f":"+(((G138/E138)^(1/1))-1)*100","v":0.45682806805393827},59813,{"$f":"+(((I138/G138)^(1/1))-1)*100","v":0.50992259207864876},60118,{"$f":"+(((K138/I138)^(1/1))-1)*100","v":0.54725706111313777},60447,{"$f":"+(((M138/K138)^(1/1))-1)*100","v":0.56909358611676453},60791,{"$f":"+(((O138/M138)^(1/1))-1)*100","v":0.58725798226710868},61148,{"$f":"+(((Q138/O138)^(1/1))-1)*100","v":0.60345391509124546},61517,{"$f":"+(((S138/Q138)^(1/1))-1)*100","v":0.6160898613391419},61896,{"$f":"+(((U138/S138)^(1/1))-1)*100","v":0.62362672870621694},62282,{"$f":"+(((W138/U138)^(1/1))-1)*100","v":0.62939533091423971},62674,{"$f":"+(((Y138/W138)^(1/1))-1)*100","v":0.63343651274849755},63071,{"$f":"+(((AA138/Y138)^(1/1))-1)*100","v":0.63579140968115233},63472,{"$f":"+(((AC138/AA138)^(1/1))-1)*100","v":0.63807663221577826},63877,{"$f":"+(((AE138/AC138)^(1/1))-1)*100","v":0.63403102838266445},64282,{"$f":"+(((AG138/AE138)^(1/1))-1)*100","v":0.63314769297782014},64689]
[910,"San Mateo",7682,3.1892736266597277,7927,2.6996341617257391,8141,2.309298611964139,8329,2.0530675951494715,8500,1.8588235294117572,8658,1.7094017094017033,8806,1.5898251192368873,8946,1.5090543259557387,9081,1.4095363946701855,9209,1.3573677923770289,9334,1.3070494964645407,9456,1.2373096446700593,9573,1.1908492635537504,9687,1.1458655930628669,9798,1.102265768524191,9906]
[911,"Concepción Chiquirichapa",18499,1.8865884642413011,18848,1.8622665534804739,19199,1.8334288244179486,19551,1.7850749322285253,19900,1.7336683417085386,20245,1.6794270190170435,20585,1.6273985912071964,20920,1.5726577437858547,21249,1.5247776365946653,21573,1.4740648032262493,21891,1.4252432506509427,22203,1.3826960320677317,22510,1.3371834740115496,22811,1.2932357196089539,23106,1.2550852592400297,23396]
[912,"San Martín Sacatepéquez",30040,1.8175765645805697,30586,1.7982083306087748,31136,1.7664439876670102,31686,1.7231584927097199,32232,1.6722511789525996,32771,1.6233865307741624,33303,1.5704290904723361,33826,1.5224974871400621,34341,1.4734573833027564,34847,1.4291043705340511,35345,1.3778469373320057,35832,1.3367939272159068,36311,1.2971275921896952,36782,1.256049154477723,37244,1.2136183009343826,37696]
[913,"Almolonga",15087,2.0878902366275653,15402,2.0711595896636847,15721,2.0418548438394524,16042,1.9947637451689371,16362,1.9374159638186006,16679,1.8826068709155264,16993,1.8360501382922445,17305,1.7798324183761816,17613,1.7316754669846057,17918,1.6798749860475581,18219,1.6356550853504626,18517,1.5877301938759025,18811,1.5416511615544026,19101,1.4973038060834609,19387,1.459741063599318,19670]
[914,"Cantel",39421,3.3357854950407217,40736,3.0268067556951994,41969,2.7567966832662272,43126,2.5182024764643041,44212,2.3002804668415866,45229,2.1158990912909958,46186,1.9508076040358535,47087,1.8136640686388983,47941,1.6895767714482313,48751,1.5794547804147685,49521,1.4842188162597747,50256,1.3988379496975512,50959,1.3245942816774159,51634,1.2530503156834571,52281,1.1916374973699906,52904]
[915,"Huitán",13952,0.50172018348624281,14022,0.69890172585935773,14120,0.84277620396600028,14239,0.94810028794156676,14374,1.0296368443022175,14522,1.0673460955791247,14677,1.10376779995911,14839,1.1254127636633138,15006,1.1262161801945947,15175,1.1202635914332681,15345,1.1143695014662836,15516,1.0956432070121203,15686,1.0710187428280005,15854,1.0596694840418808,16022,1.0298339782798704,16187]
[916,"Zunil",13954,2.4795757488892178,14300,2.1678321678321621,14610,1.9507186858316317,14895,1.7858341725411231,15161,1.6687553591451687,15414,1.5764889061891774,15657,1.5073130229290355,15893,1.4345938463474539,16121,1.3832888778611663,16344,1.3215859030837107,16560,1.2801932367149771,16772,1.2282375387550726,16978,1.1897750029449927,17180,1.1408614668218853,17376,1.0992173112338799,17567]
[917,"Colomba Costa Cuca",53017,0.59226285908293708,53331,0.7537829780052796,53733,0.88027841363780279,54206,0.96668265505663875,54730,1.0232048236798796,55290,1.0634834508952862,55878,1.0898743691613921,56487,1.1046789526793832,57111,1.1066169389434499,57743,1.1031640198811976,58380,1.0928400137033334,59018,1.0776373309837606,59654,1.0611191202601677,60287,1.0383664803357284,60913,1.0145617520069594,61531]
[918,"San Francisco La Unión",8509,2.1154072158890536,8689,2.0255495454022387,8865,1.9176536943034339,9035,1.8372993912562308,9201,1.7389414194109332,9361,1.6558060036320876,9516,1.5762925598991062,9666,1.5104489964825163,9812,1.4370158988993076,9953,1.3764694062091909,10090,1.3082259663032669,10222,1.271766777538641,10352,1.2074961360123648,10477,1.1549107568960659,10598,1.1228533685601061,10717]
[919,"El Palmar",29115,1.2433453546282003,29477,1.2620008820436235,29849,1.2596736909109119,30225,1.2406947890818865,30600,1.2189542483660221,30973,1.1913602169631554,31342,1.161380894646169,31706,1.1322778023087121,32065,1.1040074847965098,32419,1.0734445849656105,32767,1.0467848750266961,33110,1.0147991543340451,33446,0.98666507205644738,33776,0.95926101373755568,34100,0.92961876832844403,34417]
[920,"Coatepeque",110644,1.0276201149633124,111781,1.1719344074574423,113091,1.2653526805846527,114522,1.3159043677197335,116029,1.335872928319648,117579,1.3378239311441664,119152,1.3302336511346935,120737,1.3119424865617013,122321,1.285960709935341,123894,1.2559123121377969,125450,1.2235950577919485,126985,1.1891168248218342,128495,1.1556869917117352,129980,1.1178642868133526,131433,1.0826809096649903,132856]
[921,"Génova",42336,1.2896825396825351,42882,1.3105732008768189,43444,1.3143356965288566,44015,1.3063728274451902,44590,1.282798833819232,45162,1.2599087728621505,45731,1.231112374538057,46294,1.205339784853332,46852,1.1760437121147493,47403,1.1433875493112255,47945,1.115861925122541,48480,1.0849834983498452,49006,1.0529322940048047,49522,1.0258067121683201,50030,0.99340395762541611,50527]
[922,"Flores Costa Cuca",21312,2.317942942942941,21806,2.3067045767219962,22309,2.2905553812362811,22820,2.2567922874671353,23335,2.2112706235268842,23851,2.1718166953167639,24369,2.1297550166194723,24888,2.0893603342976519,25408,2.0505352644836217,25929,2.0170465501947676,26452,1.9809466202933557,26976,1.9461743772241968,27501,1.9162939529471679,28028,1.8838304552590168,28556,1.8595041322314154,29087]
[923,"La Esperanza",21878,2.5962153761769802,22446,2.1919272921678612,22938,1.9487313628040903,23385,1.7831943553559881,23802,1.6679270649525346,24199,1.5703128228439223,24579,1.5012815818381542,24948,1.4389931056597804,25307,1.3830165566839137,25657,1.3251744163386148,25997,1.2770704312035974,26329,1.2267841543545099,26652,1.1894041722947613,26969,1.138344024620852,27276,1.1035342425575578,27577]
[924,"Palestina de Los Altos",19606,0.35703356115475149,19676,0.57938605407603649,19790,0.74279939363315339,19937,0.86271756031499613,20109,0.94485056442388249,20299,1.0099019656140795,20504,1.0485758876316753,20719,1.0763067715623409,20942,1.083946136949665,21169,1.0912182908970669,21400,1.0841121495327011,21632,1.0771079881656709,21865,1.0564829636405149,22096,1.040912382331638,22326,1.0122726865537945,22552]
[10,"Suchitepéquez",568923,1.2992970929282199,576315,1.2548692989077237,583547,1.2477144086080472,590828,1.2303072975552887,598097,1.2041525036908807,605299,1.1794171145169674,612438,1.1490142675666837,619475,1.120949190847087,626419,1.0925594530178717,633263,1.0613283896264258,639984,1.0317445436135886,646587,1.0021853207689002,653067,0.97356014007750069,659425,0.94597566061340732,665663,0.9199850374739249,671787]
[1001,"Mazatenango",82645,5.0819771311028106E-2,82687,0.1221473750408153,82788,0.21863071942793688,82969,0.29167520399184799,83211,0.34730985086106614,83500,0.3928143712574883,83828,0.42706494250130955,84186,0.45494500273204341,84569,0.47535148813395711,84971,0.48840192536276916,85386,0.49773967629354043,85811,0.50110125741456013,86241,0.50324091789288872,86675,0.50187481972887582,87110,0.49822064056939119,87544]
[1002,"Cuyotenango",34558,1.6117830892991458,35115,1.5491955004983682,35659,1.519952887069187,36201,1.4833844368939975,36738,1.4372039849746887,37266,1.392690388021256,37785,1.3470954082307696,38294,1.2978534496265626,38791,1.2606016859580738,39280,1.2118126272912422,39756,1.1671194285139297,40220,1.1312779711586174,40675,1.0915795943454265,41119,1.0506092074223705,41551,1.0204327212341546,41975]
[1003,"San Francisco Zapotitlán",21855,2.2191718142301475,22340,2.1530886302596253,22821,2.1252355286797142,23306,2.0852999227666702,23792,2.0427034297242797,24278,1.9976933849575662,24763,1.9464523684529444,25245,1.9053277876807329,25726,1.8580424473295443,26204,1.8127003510914452,26679,1.7729300198658038,27152,1.7309958750736598,27622,1.6870610383028062,28088,1.6519510111079549,28552,1.6181003082095913,29014]
[1004,"San Bernardino",15289,2.0079795931715605,15596,1.9428058476532506,15899,1.9183596452607032,16204,1.876079980251788,16508,1.8294160407075433,16810,1.7846519928613969,17110,1.7416715371127989,17408,1.6888786764705843,17702,1.6551802056264719,17995,1.6060016671297639,18284,1.5642091446073092,18570,1.5185783521809437,18852,1.485253553999577,19132,1.4478360861384099,19409,1.4117162141274564,19683]
[1005,"San José el Ídolo",11056,1.5104920405209832,11223,1.4523745878998406,11386,1.4140172141225982,11547,1.3856412921104955,11707,1.341077987528827,11864,1.2896156439649253,12017,1.2399101273196322,12166,1.216505013973368,12314,1.1450381679389388,12455,1.1160176635889307,12594,1.0719390185802702,12729,1.0370021211407066,12861,0.98748153331777999,12988,0.95472744071449789,13112,0.91519219035998134,13232]
[1006,"Santo Domingo Suchitepéquez",44724,1.5852785976209649,45433,1.5209209165144344,46124,1.4959673922469774,46814,1.4568291536719791,47496,1.4106451069563652,48166,1.3681850267823759,48825,1.3210445468510024,49470,1.271477663230236,50099,1.2335575560390444,50717,1.1869787250823105,51319,1.1457744694947314,51907,1.1019708324503386,52479,1.0651879799538966,53038,1.0275651419736853,53583,0.99285221058917905,54115]
[1007,"San Lorenzo",13115,1.1208539839878018,13262,1.0556477152767307,13402,1.0371586330398364,13541,0.98958717967654319,13675,0.94332723948811203,13804,0.91277890466532341,13930,0.84709260588657909,14048,0.81862186788155267,14163,0.76961095813032898,14272,0.72169282511209687,14375,0.68173913043478862,14473,0.64948524839356647,14567,0.59724033774970486,14654,0.56639825303670399,14737,0.53606568501052276,14816]
[1008,"Samayac",24259,2.1682674471330321,24785,1.8236836796449385,25237,1.5968617506042726,25640,1.43525741029642,26008,1.3111350353737228,26349,1.20308171088086,26666,1.1287782194554952,26967,1.0568472577594745,27252,1.0017613386173574,27525,0.94096276112625166,27784,0.89619925136770195,28033,0.84899939357185872,28271,0.81001733224859152,28500,0.77192982456140147,28720,0.73467966573816934,28931]
[1009,"San Pablo Jocopilas",19787,2.2742204477687267,20237,2.2038839748974581,20683,2.1805347386742779,21134,2.1387337938866269,21586,2.0939497822662911,22038,2.0510028133224445,22490,1.9964428634948961,22939,1.9573651859279062,23388,1.9112365315546498,23835,1.8670023075309405,24280,1.8245469522240487,24723,1.7797192897302194,25163,1.7446250447084921,25602,1.7029919537536076,26038,1.6667946846915971,26472]
[1010,"San Antonio Suchitepéquez",58859,1.9113474574831368,59984,1.8488263536943217,61093,1.81853894881574,62204,1.7828435470387705,63313,1.7342409931609515,64411,1.6922575336510759,65501,1.6427230118624125,66577,1.5981495110924282,67641,1.5537913395721636,68692,1.509637221219351,69729,1.4656742531801603,70751,1.4247148450198477,71759,1.3851921013392055,72753,1.3470234904402467,73733,1.3142012396077707,74702]
[1011,"San Miguel Panán",11139,2.0199299757608369,11364,1.9535374868004274,11586,1.9333678577593716,11810,1.888230313293815,12033,1.8449264522562903,12255,1.7951856385148846,12475,1.7555110220440984,12694,1.7015913029777785,12910,1.6653756777691653,13125,1.6152380952380918,13337,1.5745669940766316,13547,1.5353952904702206,13755,1.4976372228280521,13961,1.4612133801303662,14165,1.4189904694669853,14366]
[1012,"San Gabriel",7080,2.8389830508474656,7281,2.5271253948633499,7465,2.2906898861352998,7636,2.0953378732320616,7796,1.8984094407388463,7944,1.7371601208459264,8082,1.5961395694135128,8211,1.4614541468761511,8331,1.3323730644580589,8442,1.2319355602937732,8546,1.1467353147671444,8644,1.0643220731143099,8736,0.97298534798535563,8821,0.91826323546082556,8902,0.85374073241968329,8978]
[1013,"Chicacao",66745,0.28616375758483414,66936,0.31522648500059702,67147,0.37529599237493549,67399,0.41692013234617686,67680,0.44178486997636934,67979,0.46632048132511095,68296,0.47733395806488499,68622,0.48963889131765637,68958,0.49595405899243161,69300,0.49783549783550818,69645,0.49680522650585868,69991,0.49292051835236883,70336,0.48908098271156497,70680,0.48245614035087314,71021,0.47732360851016065,71360]
[1014,"Patulul",40676,0.72032648244664266,40969,0.69564792892187199,41254,0.70053812963590811,41543,0.69085044411814067,41830,0.6813291895768625,42115,0.66247180339547018,42394,0.64395905080907312,42667,0.62577636112217672,42934,0.60558065868543398,43194,0.58341436310598294,43446,0.56391842747318677,43691,0.5424458126387588,43928,0.52130759424513506,44157,0.50501619222320659,44380,0.48219918882379531,44594]
[1015,"Santa Bárbara",26634,0.77344747315462037,26840,0.70789865871832003,27030,0.68442471328153953,27215,0.64670218629432341,27391,0.5987368113614,27555,0.55525313010342803,27708,0.50887830229535691,27849,0.46321232360229114,27978,0.42175995424977852,28096,0.37727790432802166,28202,0.33330969434792745,28296,0.29332767882386257,28379,0.25723246062228089,28452,0.2179108674258412,28514,0.18587360594795044,28567]
[1016,"San Juan Bautista",8205,2.8762949421084594,8441,2.594479327093957,8660,2.3556581986143188,8864,2.1773465703971207,9057,1.9763718670641417,9236,1.8189692507579069,9404,1.6588685665674285,9560,1.5167364016736462,9705,1.4116434827408542,9842,1.3005486689697143,9970,1.1935807422266853,10089,1.1101199325998623,10201,1.0293108518772742,10306,0.96060547254026574,10405,0.89380105718404046,10498]
[1017,"Santo Tomas La Unión",11372,2.1016531832571239,11611,2.0411678580656289,11848,2.017218095881157,12087,1.9690576652601877,12325,1.9310344827586201,12563,1.8864920799172236,12800,1.8359374999999956,13035,1.7951668584579972,13269,1.748436204687609,13501,1.7035775127768327,13731,1.6604762945160667,13959,1.6190271509420429,14185,1.5791328868523191,14409,1.5407037268373891,14631,1.5104914223224686,14852]
[1018,"Zunilito",7809,2.4843129722115442,8003,2.3366237660877198,8190,2.2222222222222143,8372,2.1261347348303872,8550,2.0116959064327533,8722,1.9032332033937172,8888,1.8001800180017957,9048,1.7020335985853174,9202,1.5974788089545777,9349,1.5081826933361908,9490,1.4330874604847166,9626,1.3505090380220297,9756,1.2710127101271063,9880,1.1842105263157876,9997,1.1303391017305264,10110]
[1019,"Pueblo Nuevo",11261,1.3586715211792999,11414,1.2791308918871591,11560,1.2370242214532867,11703,1.1962744595402919,11843,1.148357679641987,11979,1.1019283746556363,12111,1.0568904301874404,12239,1.0131546694991389,12363,0.97063819461296053,12483,0.92926379876632215,12599,0.88102230335740384,12710,0.84185680566482013,12817,0.79581805414683515,12919,0.77405371932812717,13019,0.72970274214609887,13114]
[1020,"Río Bravo",28019,1.9807987437096219,28574,1.9108280254777066,29120,1.8887362637362681,29670,1.8469834850016742,30218,1.8002515057250701,30762,1.7586632858721751,31303,1.7091013640865071,31838,1.6646774294867717,32368,1.6219723183390933,32893,1.5748031496062964,33411,1.532429439406191,33923,1.4916133596674763,34429,1.4551686078596582,34930,1.4142570855997683,35424,1.3804200542005374,35913]
[1021,"San José La Máquina",23836,1.6110085584829736,24220,1.5483071841453366,24595,1.5206342752591917,24969,1.4858424446313467,25340,1.4325177584846083,25703,1.3967241178072687,26062,1.3429514235285156,26412,1.3024382856277494,26756,1.2557930931379913,27092,1.2143806289679704,27421,1.1706356442142907,27742,1.1282531901088522,28055,1.0907146676171875,28361,1.0542646592151206,28660,1.0153524075366294,28951]
[11,"Retalhuleu",343507,1.6279144238690924,349099,1.5923849681608981,354658,1.554737239819759,360172,1.5239940917117334,365661,1.4797859219331633,371072,1.4353009658502947,376398,1.391346393976578,381635,1.3489328808940382,386783,1.3048660359943343,391830,1.2612612612612706,396772,1.2200961761414719,401613,1.1797426876122064,406351,1.139162940413585,410980,1.1007834931140215,415504,1.0685817705726075,419944]
[1101,"Retalhuleu",100309,1.6648555962077261,101979,1.6120966081252019,103623,1.5614294123891481,105241,1.51936982734866,106840,1.4648071883189839,108405,1.411374014113731,109935,1.3608041115204417,111431,1.3129201030233961,112894,1.2631317873403436,114320,1.2158852344296811,115710,1.1710310258404633,117065,1.127578695596454,118385,1.0845968661570282,119669,1.0437122395942078,120918,1.0097752195702858,122139]
[1102,"San Sebastián",28865,1.1675038974536589,29202,1.1232107389904877,29530,1.066711818489674,29845,1.0252973697436829,30151,0.97177539716759576,30444,0.91972145578766984,30724,0.8690274703814671,30991,0.81636604175405747,31244,0.77454871335296271,31486,0.72095534523279881,31713,0.67795541260682324,31928,0.63580556251565667,32131,0.59132924589959668,32321,0.55381949815909159,32500,0.51692307692308148,32668]
[1103,"Santa Cruz Muluá",14297,2.1752815275932091,14608,2.108433734939763,14916,2.0648967551622377,15224,2.0099842354177611,15530,1.9639407598196934,15835,1.9134827912851371,16138,1.8589664146734464,16438,1.8189560773816726,16737,1.7565872020075313,17031,1.7145205801186059,17323,1.6683022571148287,17612,1.6238928003633912,17898,1.5811822550005683,18181,1.5345690556074931,18460,1.5059588299024984,18738]
[1104,"San Martín Zapotitlán",11767,2.2265658196651605,12029,2.0034915620583682,12270,1.8255908720456349,12494,1.6968144709460509,12706,1.5661892019518397,12905,1.4645486245641326,13094,1.3823125095463462,13275,1.3032015065913338,13448,1.2343842950624628,13614,1.1826061407374855,13775,1.1179673321234151,13929,1.0697106755689578,14078,1.0228725671260097,14222,0.9843903810996979,14362,0.93998050410806222,14497]
[1105,"San Felipe",23884,1.9552838720482413,24351,1.9095725021559762,24816,1.857672469374605,25277,1.8158800490564619,25736,1.7679515076157948,26191,1.7143293497766443,26640,1.6629129129129172,27083,1.6135583207177895,27520,1.5734011627906996,27953,1.5204092583980255,28378,1.4800197335964382,28798,1.4410722966872624,29213,1.3966384828672185,29621,1.3571452685594787,30023,1.3256503347433668,30421]
[1106,"San Andrés Villa Seca",50341,1.9367910848016479,51316,1.8844025255281061,52283,1.8323355584032974,53241,1.7899738923010444,54194,1.7326641325607905,55133,1.6813886420111279,56060,1.6303960042811205,56974,1.5831782918524162,57876,1.5325869099453993,58763,1.4839269608426964,59635,1.4404292781085015,60494,1.3951796872416988,61338,1.3515276011607735,62167,1.3109849276947472,62982,1.2765552062494079,63786]
[1107,"Champerico",35040,1.7380136986301364,35649,1.6858817919156222,36250,1.6331034482758522,36842,1.5932902665436233,37429,1.5415854016938679,38006,1.4839762142819568,38570,1.436349494425726,39124,1.3853389224005808,39666,1.3361569102001702,40196,1.2911732510697549,40715,1.242785214294484,41221,1.2008442298828248,41716,1.1602262920701989,42200,1.1161137440758306,42671,1.0850460500105408,43134]
[1108,"Nuevo San Carlos",39942,0.59586400280406959,40180,0.72175211548033413,40470,0.81788979490982072,40801,0.89458591701183643,41166,0.93766700675315118,41552,0.97227570273392683,41956,0.98436457240917985,42369,0.99601123462909058,42791,0.9885256245472096,43214,0.97884944693849008,43637,0.9647775969933825,44058,0.94420990512507075,44474,0.92188694518144931,44884,0.89787006505659406,45287,0.87663126283481496,45684]
[1109,"El Asintal",39062,1.8509036915672628,39785,1.7971597335679323,40500,1.74567901234568,41207,1.7035940495546908,41909,1.6511966403397915,42601,1.596206661815458,43281,1.5457128994246894,43950,1.4948805460750947,44607,1.4482031968076736,45253,1.3988022893509866,45886,1.3555332781240548,46508,1.3116023049797976,47118,1.2670317076276527,47715,1.2281253274651682,48301,1.192521893956644,48877]
[12,"San Marcos",1084359,1.6305485544916287,1102040,1.6177271242423075,1119868,1.5946522268695862,1137726,1.5199617482592576,1155019,1.488373784327357,1172210,1.4557118605028174,1189274,1.4230530558979604,1206198,1.3889096151709746,1222951,1.3535292910345609,1239504,1.3189146626392478,1255852,1.2837499960186349,1271974,1.2500255508367308,1287874,1.2172774665844655,1303551,1.1849939127813292,1318998,1.1558016009121985,1334243]
[1201,"San Marcos",46835,0.43984199850539696,47041,0.64411896005611702,47344,0.80052382561677238,47723,0.87798336232005614,48142,0.97004694445599338,48609,1.0409594930979926,49115,1.0974244120940613,49654,1.1358601522535983,50218,1.1589469911187145,50800,1.1751968503937116,51397,1.1810027822635627,52004,1.1826013383585909,52619,1.1763811550960623,53238,1.1664600473346054,53859,1.1585807385952274,54483]
[1202,"San Pedro Sacatepéquez",76620,2.2122161315583311,78315,2.0366468748004962,79910,1.9121511700663341,81438,1.7719000957783893,82881,1.6988212014816373,84289,1.639597100452006,85671,1.5863010820464263,87030,1.5396989543835504,88370,1.4959827995926211,89692,1.4538643357267178,90996,1.4132489340190846,92282,1.3729654753906528,93549,1.3383360591775473,94801,1.3016740329743426,96035,1.2682876034779023,97253]
[1203,"San Antonio Sacatepéquez",18096,2.9840848806365949,18636,2.7795664305644951,19154,2.594758275033926,19651,2.3764693908706835,20118,2.2218908440202911,20565,2.0860685630926357,20994,1.9767552634085916,21409,1.8637021813256105,21808,1.7654071900220059,22193,1.68071013382598,22566,1.599751839049901,22927,1.535307715793599,23279,1.4648395549637039,23620,1.4098221845893377,23953,1.3609986223020121,24279]
[1204,"Comitancillo",75535,1.1451644932812588,76400,1.1505235602094155,77279,1.1361430660334682,78157,1.0658034469081423,78990,1.0381060893783989,79810,1.0048866056885153,80612,0.96883838634447272,81393,0.93374123081837457,82153,0.89710661813933168,82890,0.85776330076003937,83601,0.82056434731641037,84287,0.78303890279640687,84947,0.74752492730760789,85582,0.71159823327335836,86191,0.67872515691893565,86776]
[1205,"San Miguel Ixtahuacán",49187,1.1324130359647855,49744,1.1358153747185629,50309,1.1230594923373527,50874,1.0555490034202197,51411,1.0231273462877555,51937,0.99158595991297727,52452,0.95897201250667585,52955,0.91964875837975413,53442,0.88320047902399335,53914,0.84579144563563524,54370,0.80743056832812687,54809,0.76994654162636511,55231,0.73509442161105998,55637,0.70097237449897598,56027,0.66753529548253532,56401]
[1206,"Concepción Tutuapa",76129,1.7365261595449821,77451,1.7404552555809527,78799,1.7284483305625598,80161,1.6566659597559985,81489,1.6296678079249949,82817,1.595083135105102,84138,1.561720031377023,85452,1.5260029022141186,86756,1.4869288579464346,88046,1.4503782113894914,89323,1.4106109288761104,90583,1.3755340406036431,91829,1.3394461444641736,93059,1.3034741400616889,94272,1.2707909029192166,95470]
[1207,"Tacaná",77851,0.82593672528290529,78494,0.88032206283283898,79185,0.91178884889815404,79907,0.88728146470271607,80616,0.89932519599087435,81341,0.90729152579880346,82079,0.91009880724668424,82826,0.91154951343781487,83581,0.90690467929313012,84339,0.90349660299504642,85101,0.89658170879307608,85864,0.88861455324700245,86627,0.8796333706581061,87389,0.87196329057432909,88151,0.8655602318748512,88914]
[1208,"Sibinal",16104,0.86934923000496767,16244,0.94188623491751056,16397,0.99408428371043911,16560,0.99637681159421287,16725,1.010463378176385,16894,1.0358707233337316,17069,1.0486847501318231,17248,1.0551948051948035,17430,1.0613884107860017,17615,1.0559182514902066,17801,1.050502780742657,17988,1.050700466977994,18177,1.0397755405182396,18366,1.0290754655341461,18555,1.0239827539746615,18745]
[1209,"Tajumulco",56684,1.9405828805306502,57784,1.9451751349854662,58908,1.9318258980104641,60046,1.8602404822969154,61163,1.8328074162483832,62284,1.7998201785370149,63405,1.7648450437662611,64524,1.7295889901431938,65640,1.6895185862279005,66749,1.6524592128720927,67852,1.6152803159818374,68948,1.5765504438127298,70035,1.5435139573070522,71116,1.5059902131728364,72187,1.473949603114133,73251]
[1210,"Tejutla",38897,2.2906650898526948,39788,2.2971750276465253,40702,2.2824431231880604,41631,2.2146957795873279,42553,2.1808098136441689,43481,2.1503645270347871,44416,2.116354466858783,45356,2.0769027251080319,46298,2.0411248866041731,47243,2.0024130559024522,48189,1.9651787752391625,49136,1.9273038098339246,50083,1.8888644849549774,51029,1.8558074820200332,51976,1.8219947668154601,52923]
[1211,"San Rafael Pie de la Cuesta",16888,1.4507342491710151,17133,1.4533356680091147,17382,1.4440225520653494,17633,1.366755515227136,17874,1.348327179142883,18115,1.3083080320176688,18352,1.2750653879686213,18586,1.242870978155608,18817,1.206355954721805,19044,1.1657214870825383,19266,1.1263365514377677,19483,1.0881281116871033,19695,1.0561056105610644,19903,1.0199467416972308,20106,0.98478066248881557,20304]
[1212,"Nuevo Progreso",28986,1.7008210860415263,29479,1.7062993995725861,29982,1.6910146087652622,30489,1.6235363573747996,30984,1.5911438161631875,31477,1.5598691107792995,31968,1.5265265265265171,32456,1.4912496918905616,32940,1.4480874316939785,33417,1.4124547386060948,33889,1.3780282687597678,34356,1.338921876819188,34816,1.3011259191176405,35269,1.2674019677336945,35716,1.237540598051301,36158]
[1213,"El Tumbador",46839,1.8595614765473112,47710,1.8633410186543742,48599,1.8518899565834746,49499,1.7798339360391102,50380,1.7526796347757001,51263,1.7185884556112585,52144,1.6837987112611197,53022,1.6483723737316547,53896,1.6105091286922946,54764,1.5740267328902213,55626,1.5316578578362661,56478,1.4979283968979074,57324,1.461865885144098,58162,1.4253292527767192,58991,1.393432896543545,59813]
[1214,"San José el Rodeo",17389,1.8920006900914332,17718,1.9020205440794635,18055,1.8886734976460762,18396,1.8210480539247564,18731,1.7884789920452615,19066,1.757054442463013,19401,1.7215607442915282,19735,1.682290347099058,20067,1.6544575671500583,20399,1.6079219569586689,20727,1.5728277126453527,21053,1.5342231510948601,21376,1.5016841317365248,21697,1.465640411116742,22015,1.4308426073131875,22330]
[1215,"Malacatán",101444,1.3100824099996133,102773,1.3126015587751727,104122,1.3003976104953852,105476,1.2306117031362529,106774,1.2006668290033051,108056,1.1679129340341987,109318,1.1343054208821979,110558,1.0980661734112385,111772,1.0592992878359464,112956,1.0216367435107454,114110,0.98413811234774329,115233,0.94764520580041811,116325,0.9103803997420945,117384,0.87575819532474952,118412,0.84366449346349182,119411]
[1216,"Catarina",29726,{"$f":"+(((E202/C202)^(1/1))-1)*100","v":1.5743793312251952},30194,{"$f":"+(((G202/E202)^(1/1))-1)*100","v":1.5797840630588755},30671,{"$f":"+(((I202/G202)^(1/1))-1)*100","v":1.5649962505298154},31151,{"$f":"+(((K202/I202)^(1/1))-1)*100","v":1.4991493049982374},31618,{"$f":"+(((M202/K202)^(1/1))-1)*100","v":1.4675185021190362},32082,{"$f":"+(((O202/M202)^(1/1))-1)*100","v":1.4338258213328237},32542,{"$f":"+(((Q202/O202)^(1/1))-1)*100","v":1.4012660561735668},32998,{"$f":"+(((S202/Q202)^(1/1))-1)*100","v":1.3637190132735233},33448,{"$f":"+(((U202/S202)^(1/1))-1)*100","v":1.324443912939488},33891,{"$f":"+(((W202/U202)^(1/1))-1)*100","v":1.2894278717063612},34328,{"$f":"+(((Y202/W202)^(1/1))-1)*100","v":1.2497086926124501},34757,{"$f":"+(((AA202/Y202)^(1/1))-1)*100","v":1.2112667951779565},35178,{"$f":"+(((AC202/AA202)^(1/1))-1)*100","v":1.1797145943487353},35593,{"$f":"+(((AE202/AC202)^(1/1))-1)*100","v":1.1434832691821439},36000,{"$f":"+(((AG202/AE202)^(1/1))-1)*100","v":1.1083333333333334},36399]
[1217,"Ayutla",39796,3.0606091064428576,41014,2.8624372165602097,42188,2.6737460889352471,43316,2.4563671622495065,44380,2.3005858494817399,45401,2.1629479526882767,46383,2.037384386520924,47328,1.9248647734956048,48239,1.8221770766392309,49118,1.7305264872348181,49968,1.6470541146333728,50791,1.5711444941032937,51589,1.5041966310647581,52365,1.4398930583404912,53119,1.3874508179747336,53856]
[1218,"Ocós",11340,2.4603174603174516,11619,2.2205009036922352,11877,2.0459712048497058,12120,1.8646864686468589,12346,1.7657540903936564,12564,1.6873607131486779,12776,1.6202254226675095,12983,1.5558807671570474,13185,1.5168752370117611,13385,1.4643257377661589,13581,1.4137397835211063,13773,1.3867712190517745,13964,1.3391578344313926,14151,1.3002614656208111,14335,1.2696198116498136,14517]
[1219,"San Pablo",46260,2.0946822308689939,47229,2.1004044125431331,48221,2.0841542066734497,49226,2.0172266688335494,50219,1.9853043668730974,51216,1.9544673539518831,52217,1.9189152957848954,53219,1.8827862229654713,54221,1.8443038675052037,55221,1.8054725557306028,56218,1.7698957629229017,57213,1.7303759635048044,58203,1.6957888768620144,59190,1.6607535056597289,60173,1.6269755538198094,61152]
[1220,"El Quetzal",24325,0.95786228160328335,24558,1.0261421939897319,24810,1.0721483272873922,25076,1.048811612697409,25339,1.0734440980306958,25611,1.0815665143883546,25888,1.0854449938195287,26169,1.0928961748633892,26455,1.0886410886410847,26743,1.0806566204240253,27032,1.076501923646056,27323,1.0613768619843977,27613,1.0574729294173135,27905,1.0392402795198041,28195,1.0320978896967592,28486]
[1221,"La Reforma",21636,1.5991865409502592,21982,1.6013101628605142,22334,1.5895047909017634,22689,1.5205606240909608,23034,1.4891030650342918,23377,1.4544210121059109,23717,1.4251380866045382,24055,1.3884847225109187,24389,1.3489687974086673,24718,1.3148312970304943,25043,1.2698159166234069,25361,1.238121525176461,25675,1.1996105160662074,25983,1.1661470961782605,26286,1.1336833295290338,26584]
[1222,"Pajapita",22079,0.86507541102405217,22270,0.86663673102829186,22463,0.8502871388505584,22654,0.78573320384920375,22832,0.75770847932725705,23005,0.72158226472505138,23171,0.69051832031419291,23331,0.65149372080064438,23483,0.61320955584891479,23627,0.57561264654844013,23763,0.54286074990530508,23892,0.50226017076846485,24012,0.46643344994170555,24124,0.43110595257833673,24228,0.40036321611358616,24325]
[1223,"Ixchiguán",22707,1.6206456158893712,23075,1.6251354279523289,23450,1.6119402985074638,23828,1.5444015444015413,24196,1.5085138039345303,24561,1.4860958430031435,24926,1.4442750541603155,25286,1.4078936961164246,25642,1.3727478355822553,25994,1.3349234438716717,26341,1.2945598117003909,26682,1.263023761337223,27019,1.2213627447351882,27349,1.188343266664238,27674,1.1563200115632055,27994]
[1224,"San José Ojetenam",21760,0.63419117647058876,21898,0.71696045300939648,22055,0.77986851054183681,22227,0.77383362577045922,22399,0.80807178891915132,22580,0.83259521700620454,22768,0.85646521433591083,22963,0.87532116883681788,23164,0.88499395613883536,23369,0.89006803885489649,23577,0.89493998388259222,23788,0.89120564990752271,24000,0.8999999999999897,24216,0.89610175090848454,24433,0.88814308517168872,24650]
[1225,"San Cristóbal Cucho",16798,1.2025241100130923,17000,1.2058823529411677,17205,1.1915140947398983,17410,1.1200459506031102,17605,1.0962794660607678,17798,1.0619170693336288,17987,1.0285205982098145,18172,0.99053488883997787,18352,0.94812554489973611,18526,0.91762927777176984,18696,0.87719298245614308,18860,0.8430540827147448,19019,0.80445869919554269,19172,0.76674316711871082,19319,0.74538019566230407,19463]
[1226,"Sipacapa",23637,2.661082201633036,24266,2.5797412016813626,24892,2.4867427285874877,25511,2.3440868644898361,26109,2.2444367842506363,26695,2.1539614159955089,27270,2.0645397873120697,27833,1.9760715697193953,28383,1.8955008279603947,28921,1.815289927734165,29446,1.7421721116620326,29959,1.6722854567909451,30460,1.6053841103085942,30949,1.544476396652561,31427,1.4828014127979072,31893]
[1227,"Esquipulas Palo Gordo",12393,2.4529976599693359,12697,2.2840040954556162,12987,2.1252021252021303,13263,1.9603407977079046,13523,1.863491828736219,13775,1.7640653357531733,14018,1.6835497217862816,14254,1.620597726953843,14485,1.5602347255781801,14711,1.5090748419549938,14933,1.4397642804526933,15148,1.4061262212833325,15361,1.3540785105136344,15569,1.3231421414348965,15775,1.2805071315372452,15977]
[1228,"Río Blanco",5608,1.4265335235378096,5688,1.4240506329114,5769,1.4213901889408964,5851,1.3501965475986921,5930,1.3153456998313606,6008,1.2816245006657789,6085,1.265406737880026,6162,1.2171372930866564,6237,1.1704345037678365,6310,1.12519809825673,6381,1.1283497884344129,6453,1.0537734387106701,6521,1.0427848489495517,6589,0.9713158294126556,6653,0.97700285585449187,6718]
[1229,"San Lorenzo",12359,2.2574641961323749,12638,2.2630163000474823,12924,2.2516248839368647,13215,2.1793416572077229,13503,2.1476708879508255,13793,2.1170158776190773,14085,2.0802271920482784,14378,2.0447906523855863,14672,2.0106324972737122,14967,1.9710028729872375,15262,1.9263530336784074,15556,1.8963743893031682,15851,1.8547725695539752,16145,1.8271910808299818,16440,1.7883211678832112,16734]
[1230,"La Blanca",30451,2.4662572657712323,31202,2.2210114736234798,31895,2.0473428437059127,32548,1.8649379378149256,33155,1.7644397526768163,33740,1.6804979253111973,34307,1.6206605066021451,34863,1.5632619109084089,35408,1.5081337550836071,35942,1.4662511824606206,36469,1.4203844360964002,36987,1.3788628437018335,37497,1.3387737685681467,37999,1.3052975078291507,38495,1.2702948434861749,38984]
[13,"Huehuetenango",1232363,2.2456045824160498,1260037,2.1954117220367442,1287700,2.1742641919701766,1315698,2.1346844032597234,1343784,2.0756312026337653,1371676,2.0187711966966004,1399367,1.9625302011552437,1426830,1.9055528689472467,1454019,1.8488066524577684,1480901,1.7949207948404489,1507482,1.7415133315024756,1533735,1.6915568856419094,1559679,1.6420686564350806,1585290,1.5958594326590081,1610589,1.5501782267232755,1635556]
[1301,"Huehuetenango",110707,3.3087338650672482,114370,3.2158782897613092,118048,3.1512605042016917,121768,3.0689507916694003,125505,2.9696028046691358,129232,2.8723535966324043,132944,2.7793657479841194,136639,2.6873732975212006,140311,2.5963751951023184,143954,2.5105241952290358,147568,2.4266778705410497,151149,2.3480142111426572,154698,2.2715225794774252,158212,2.1995803099638556,161692,2.128738589416912,165134]
[1302,"Chiantla",88719,0.50383796030162298,89166,0.61346253056098199,89713,0.7390233299521709,90376,0.83650526688501259,91132,0.90198832462802248,91954,0.9635252408813022,92840,1.0124946143903468,93780,1.0524632117722366,94767,1.0858210136439839,95796,1.1148690968307617,96864,1.1366451932606436,97965,1.1534731791966513,99095,1.1665573439628707,100251,1.1760481192207628,101430,1.183081928423535,102630]
[1303,"Malacatancito",19363,2.5254351081960502,19852,2.4833769897239621,20345,2.4625215040550597,20846,2.417730020147757,21350,2.3653395784543285,21855,2.2969572180279174,22357,2.2453817596278514,22859,2.1873222800647518,23359,2.136221584828113,23858,2.0747757565596547,24353,2.024391245431767,24846,1.980198019801982,25338,1.9299076485910449,25827,1.8817516552445124,26313,1.8393949758674477,26797]
[1304,"Cuilco",59650,1.8692372170997507,60765,1.8201267176828795,61871,1.7972879054807489,62983,1.7592048648047864,64091,1.696025963083736,65178,1.64165822823652,66248,1.5834440284989704,67297,1.52755694904676,68325,1.4694474935967872,69329,1.4193194766980666,70313,1.3653236243653444,71273,1.316066392603088,72211,1.2685047984379194,73127,1.2252656337604417,74023,1.1793631709063446,74896]
[1305,"Nentón",43937,2.5855201766165292,45073,2.3872384797994473,46149,2.2990747361806285,47210,2.2262232577843655,48261,2.1508049978243404,49299,2.0872634333353624,50328,2.0286917819106742,51349,1.968879627646114,52360,1.9136745607333916,53362,1.8571267943480407,54353,1.8067080013982606,55335,1.7565735971807994,56307,1.7084909513914726,57269,1.6640765510136379,58222,1.6213802342756933,59166]
[1306,"San Pedro Necta",37610,1.5660728529646395,38199,1.520982224665568,38780,1.4981949458483745,39361,1.4557556972637942,39934,1.3998096859818787,40493,1.340972513767813,41036,1.2818013451603383,41562,1.229488475049334,42073,1.1693960497231037,42565,1.1206390226712104,43042,1.0640769480972034,43500,1.0183908045976908,43943,0.97171335593837505,44370,0.92404778003154497,44780,0.87985707905315902,45174]
[1307,"Jacaltenango",36747,3.0478678531580705,37867,2.9550796207779895,38986,2.9010413994767337,40117,2.8242391006306544,41250,2.7272727272727337,42375,2.638348082595865,43493,2.5567332674223398,44605,2.4638493442439291,45704,2.3849116051111396,46794,2.3037141513869264,47872,2.2267713903743269,48938,2.1557889574563838,49993,2.0822915208129178,51034,2.0202218129090399,52065,1.9552482473830679,53083]
[1308,"San Pedro Soloma",53376,3.0481864508393297,55003,2.9598385542606742,56631,2.8959403860076671,58271,2.819584355854543,59914,2.7255733217611988,61547,2.6305100167351769,63166,2.5425070449292431,64772,2.4563082813561454,66363,2.3702967014752163,67936,2.2889189825718415,69491,2.2132362464204025,71029,2.1385631221050527,72548,2.0675966256822997,74048,2.0014044943820197,75530,1.9369786839666281,76993]
[1309,"San Ildefonso Ixtahuacán",48982,2.1946837613817216,50057,2.143556345765818,51130,2.1259534519851409,52217,2.08361261658081,53305,2.0204483631929504,54382,1.9694016402486136,55453,1.9079220240564077,56511,1.8527366353453312,57558,1.7964487994718281,58592,1.742558711086839,59613,1.6909063459312534,60621,1.6413454083568313,61616,1.5937418852246088,62598,1.5495702738106631,63568,1.5039013340045315,64524]
[1310,"Santa Bárbara",37195,2.9439440785051785,38290,2.8545312091929897,39383,2.7880049767666337,40481,2.7099132926558189,41578,2.6191736014238298,42667,2.521855298005482,43743,2.4369613423862013,44809,2.349974335512961,45862,2.2676725829662958,46902,2.189672082213967,47929,2.1114565294498178,48941,2.0412333217547651,49940,1.9743692430917115,50926,1.9086517692337823,51898,1.8478554086862609,52857]
[1311,"La Libertad",40546,2.9867311202091518,41757,2.90011255597864,42968,2.8439769130515824,44190,2.7698574338085535,45414,2.6753864447086828,46629,2.5906624632739295,47837,2.5043376465915479,49035,2.4227592535943643,50223,2.3375744180953006,51397,2.2608323443002565,52559,2.1861146521052532,53708,2.1151411335369019,54844,2.0458026402158769,55966,1.9815602329986026,57075,1.9202803328953078,58171]
[1312,"La Democracia",55263,1.6647666612380707,56183,1.617927130982677,57092,1.5974217053177364,58004,1.555065167919456,58906,1.4973007843004149,59788,1.4367431591623792,60647,1.3834155028278339,61486,1.3238786065120411,62300,1.2696629213483135,63091,1.2157043001378876,63858,1.1635190579097454,64601,1.1160817943994594,65322,1.067021830317505,66019,1.0224329359729722,66694,0.97909856958646735,67347]
[1313,"San Miguel Acatán",32815,0.9995428919701288,33143,1.2008568928582264,33541,1.3863629587668846,34006,1.5173792860083468,34522,1.590290249695836,35071,1.6452339539790639,35648,1.6747082585278239,36245,1.6885087598289328,36857,1.6876034403234152,37479,1.6836094879799424,38110,1.6636053529257344,38744,1.6441255420194034,39381,1.6200705924176662,40019,1.591743921637212,40656,1.5643447461629378,41292]
[1314,"San Rafael La Independencia",16858,1.6490686914224728,17136,1.5989729225023286,17410,1.5795519816197645,17685,1.5323720667232088,17956,1.4813989752728851,18222,1.4213587970584918,18481,1.3635625777825844,18733,1.3078524528906232,18978,1.2540836758351714,19216,1.1969192339716939,19446,1.1467654016250162,19669,1.0981747928211938,19885,1.0460145838571799,20093,1.0103020952570541,20296,0.95585337012218385,20490]
[1315,"Todos Santos Cuchumatán",34858,1.9823283034023698,35549,1.935356831415791,36237,1.9124099677125583,36930,1.8738153262929824,37622,1.8101111052043928,38303,1.7570425293057967,38976,1.6984811165845715,39638,1.6423633886674338,40289,1.5835587877584434,40927,1.5319959928653537,41554,1.4824084324012166,42170,1.4299264880246687,42773,1.3863886096369127,43366,1.3374533044320458,43946,1.2947708551404036,44515]
[1316,"San Juan Atitán",23467,1.069587079728973,23718,1.2775107513281148,24021,1.4570584072270076,24371,1.5797464199253319,24756,1.6521247374373882,25165,1.6928273395589111,25591,1.7193544605525357,26031,1.7325496523376005,26482,1.7219243259572581,26938,1.7113371445541592,27399,1.6861929267491416,27861,1.6689996769678084,28326,1.6345407046529647,28789,1.6082531522456422,29252,1.5759606180773877,29713]
[1317,"Santa Eulalia",45681,1.9723736345526488,46582,1.9234897599931244,47478,1.9040397657862584,48382,1.8622628250175577,49283,1.8018383621126954,50171,1.7460285822487043,51047,1.6905988598742372,51910,1.6297437873242115,52756,1.5789673212525557,53589,1.5208344996174628,54404,1.4723182118961731,55205,1.4201612172810352,55989,1.375270142349394,56759,1.3284236861114573,57513,1.2866656234242768,58253]
[1318,"San Mateo Ixtatán",50129,2.7828203235652049,51524,2.7346479310612626,52933,2.7090850698052282,54367,2.6725771147938948,55820,2.6101755643138658,57277,2.5507620860031111,58738,2.4941264598726587,60203,2.440077736989843,61672,2.3787131923725502,63139,2.3297803259475058,64610,2.2720941030800246,66078,2.2276703290051048,67550,2.1746854182087327,69019,2.1341949318303577,70492,2.086761618339672,71963]
[1319,"Colotenango",40409,1.6209260313296614,41064,1.5731541009156524,41710,1.553584272356745,42358,1.508569809717164,42997,1.4535897853338531,43622,1.3960845444958903,44231,1.3384277995071248,44823,1.2805925529304041,45397,1.2269533229068097,45954,1.1707359533446482,46492,1.1227738105480611,47014,1.0698940741055818,47517,1.0248963528842303,48004,0.97700191650695878,48473,0.93660388257379434,48927]
[1320,"San Sebastián Huehuetenango",35393,3.178594637357679,36518,3.0779341694506801,37642,3.0099357101110558,38775,2.9245647969052158,39909,2.8214187276053071,41035,2.724503472645301,42153,2.6285199155457573,43261,2.538082799750363,44359,2.4459523433801422,45444,2.3611477862864216,46517,2.2765870541952449,47576,2.2006894232386109,48623,2.1265656170947889,49657,2.0540910647038668,50677,1.9870947372575332,51684]
[1321,"Tectitán",10838,1.5131943162945083,11002,1.454281039810934,11162,1.4334348683031628,11322,1.4043455219925782,11481,1.3413465725982121,11635,1.2720240653201653,11783,1.2305864380887765,11928,1.1569416498993901,12066,1.1188463451019315,12201,1.0572903860339267,12330,1.0056772100567768,12454,0.96354584872331284,12574,0.90663273421345281,12688,0.87484237074400006,12799,0.81256348152198843,12903]
[1322,"Concepción Huista",24466,-23.497915474536089,18717,2.206550195009882,19130,2.190277051751166,19549,2.1433321397513971,19968,2.0833333333333259,20384,2.0310047095761341,20798,1.9713433984037021,21208,1.9143719351188304,21614,1.8599056167299066,22016,1.8032340116278966,22413,1.7534466604202992,22806,1.7013066736823568,23194,1.655600586358541,23578,1.6116718975315969,23958,1.56941313966108,24334]
[1323,"San Juan Ixcoy",27877,1.6967392474082521,28350,1.6507936507936583,28818,1.6239850093691333,29286,1.5877893874206128,29751,1.5259991260798023,30205,1.4699553054130066,30649,1.4095076511468463,31081,1.3577426723721864,31503,1.2982890518363321,31912,1.2471797442968224,32310,1.1915815536985397,32695,1.1500229392873429,33071,1.0946146170360826,33433,1.0558430293422738,33786,1.006333984490615,34126]
[1324,"San Antonio Huista",15713,3.2648125755743607,16226,3.1615925058547933,16739,3.0945695680745455,17257,3.0016804774873895,17775,2.9029535864978806,18291,2.7991908588923531,18803,2.7016965377865132,19311,2.6047330536999702,19814,2.5184213182598114,20313,2.4270171811155317,20806,2.3406709602999065,21293,2.2589583431174454,21774,2.1860935060163511,22250,2.1078651685393357,22719,2.0423434130023344,23183]
[1325,"San Sebastián Coatán",23683,1.4356289321454163,24023,1.3861715855638446,24356,1.3631138117917496,24688,1.3285806869734351,25016,1.2631915574032648,25332,1.2119058897836821,25639,1.1544912048051748,25935,1.0950453055716292,26219,1.0374156146306213,26491,0.98524027028046302,26752,0.93824760765550685,27003,0.88508684220272027,27242,0.83694295573011335,27470,0.79359301055696996,27688,0.75122796879514286,27896]
[1326,"Santa Cruz Barillas",107436,2.9496630552142689,110605,2.7684101080421408,113667,2.6428074990982431,116671,2.5164779593900732,119607,2.3903283252652452,122466,2.2798164388483366,125258,2.1818965654888389,127991,2.0923346172777801,130669,2.0096579908011947,133295,1.9355564724858443,135875,1.8664213431462739,138411,1.8054923380367072,140910,1.7472145340997836,143372,1.6941941243757475,145801,1.644021645942062,148198]
[1327,"Aguacatán",53559,1.6785227506114664,54458,1.628778140952658,55345,1.6062878308790385,56234,1.568446135789725,57116,1.5074585054975831,57977,1.4505752281076978,58818,1.3941310483185365,59638,1.3363962574197696,60435,1.2807148175725924,61209,1.228577496773342,61961,1.1749326189054443,62689,1.1277895643573732,63396,1.0789324247586496,64080,1.0330836454431891,64742,0.99008371690709751,65383]
[1328,"San Rafael Petzal",11160,2.0878136200716879,11393,2.0538927411568597,11627,2.0211576502967121,11862,1.9811161692800505,12097,1.92609737951559,12330,1.8572587185725853,12559,1.8074687475117424,12786,1.751916158298128,13010,1.6986933128362747,13231,1.6476456805985862,13449,1.5911963714774435,13663,1.5369977310985883,13873,1.4921069703741185,14080,1.4559659090909172,14285,1.4000700035001756,14485]
[1329,"San Gaspar Ixchil",9684,1.404378356051228,9820,1.3543788187372785,9953,1.3262332964935286,10085,1.2989588497768878,10216,1.2235708692247549,10341,1.179769848177159,10463,1.1277836184650614,10581,1.0585010868537914,10693,1.0100065463387153,10801,0.94435700398112221,10903,0.90800697055857249,11002,0.85439011088892514,11096,0.80209084354723181,11185,0.75994635672775868,11270,0.7187222715173025,11351]
[1330,"Santiago Chimaltenango",12317,2.6548672566371723,12644,2.5862068965517349,12971,2.5672654382854043,13304,2.5030066145520058,13637,2.4492190364449717,13971,2.3691933290387324,14302,2.3003775695706885,14631,2.2349805208119689,14958,2.172750367696219,15283,2.1069161813779935,15605,2.0442165972444748,15924,1.9907058528008115,16241,1.9333784865463999,16555,1.8846270009060806,16867,1.8260508685599142,17175]
[1331,"Santa Ana Huista",8878,3.4129308402793379,9181,3.0715608321533638,9463,2.810947902356542,9729,2.6107513619076927,9983,2.4241210057097007,10225,2.2982885085574667,10460,2.1701720841300176,10687,2.0866473285299891,10910,1.9798350137488541,11126,1.9234226136976451,11340,1.8430335097001871,11549,1.7837042168153072,11755,1.7354317311782275,11959,1.67238063383226,12159,1.6284233900814238,12357]
[1332,"Unión Cantinil",15047,3.0238585764604142,15502,2.9673590504450953,15962,2.9507580503696174,16433,2.9087811111787154,16911,2.8502158358464813,17393,2.7884781233829647,17878,2.7352052802326776,18367,2.6732727173735427,18858,2.6195778979743345,19352,2.563042579578334,19848,2.5141072148327392,20347,2.4622794515162028,20848,2.4127014581734496,21351,2.3699124162802621,21857,2.3287733906757646,22366]
[1333,"Petatán","…",{"$error":"#VALUE!"},6300,2.2063492063492118,6439,2.1897810218978186,6580,2.1428571428571352,6721,2.0830233596190961,6861,2.0259437399795965,7000,1.9714285714285795,7138,1.9193051274866813,7275,1.8419243986254275,7409,1.8086111486030454,7543,1.7632241813602123,7676,1.6935904116727407,7806,1.6653856008198797,7936,1.6003024193548487,8063,1.5750961180702072,8190]
[14,"Quiché",969752,1.7959230813651361,987168,1.8251199390579842,1005185,1.8924874525584778,1024208,1.8977590489431817,1043645,1.8446885674726632,1062897,1.793870901884187,1081964,1.7422945680263036,1100815,1.6905656263768165,1119425,1.6394130915425409,1137777,1.5892393676441019,1155859,1.5408453799295563,1173669,1.4947996411253994,1191213,1.4498666485338818,1208484,1.4082933659030683,1225503,1.366867318970244,1242254]
[1401,"Santa Cruz del Quiché",90521,1.512356248826241,91890,1.5583850255740606,93322,1.6362701185143935,94849,1.6499910383873218,96414,1.6003899848569647,97957,1.5537429688536886,99479,1.505845454819621,100977,1.4557770581419494,102447,1.4065809638154292,103888,1.357230864007386,105298,1.310566202586938,106678,1.2654905416299433,108028,1.2209797459917793,109347,1.1806451022890352,110638,1.1397530685659518,111899]
[1402,"Chiché",30813,0.70100282348359855,31029,0.74768764703987411,31261,0.82530949105914519,31519,0.8344173355753659,31782,0.78975520735007354,32033,0.74298379795836311,32271,0.69102289981717302,32494,0.64319566689234886,32703,0.59321774760725532,32897,0.5471623552299576,33077,0.49883604921849845,33242,0.45424463028698181,33393,0.41026562453208015,33530,0.36683566954964775,33653,0.32686536118622378,33763]
[1403,"Chinique",12062,1.8819432929862323,12289,1.9285539913743932,12526,2.0038320293788825,12777,2.0192533458558426,13035,1.9716148830072777,13292,1.9184471862774499,13547,1.8675721561969505,13800,1.826086956521733,14052,1.7791061770566552,14302,1.7200391553628958,14548,1.6772064888644467,14792,1.6292590589507938,15033,1.5964877270006061,15273,1.5452105021934059,15509,1.5088013411567402,15743]
[1404,"Zacualpa",35695,1.8433954335341118,36353,1.8898027673094342,37040,1.968142548596119,37769,1.9804601657444021,38517,1.9342108679284431,39262,1.8873210738118207,40003,1.8398620103492247,40739,1.7869854439235056,41467,1.7387320037620224,42188,1.6924243860813482,42902,1.6432800335648645,43607,1.5983672346183031,44304,1.5529071867099953,44992,1.5136024182076824,45673,1.4735182711886674,46346]
[1405,"Chajul",44438,2.8826679868581007,45719,2.7887749075876656,46994,2.7429033493637567,48283,2.6489654743905744,49562,2.5099874904160435,50806,2.3875132858323767,52019,2.2722466790980222,53201,2.1691321591699397,54355,2.0715665532149652,55481,1.9844631495467002,56582,1.9034321869145554,57659,1.8314573613833041,58715,1.7610491356552904,59749,1.7021205375822079,60766,1.6423657966626148,61764]
[1406,"Santo Tomás Chichicastenango",138976,1.3138959244761717,140802,1.3579352566014613,142714,1.4371400142943136,144765,1.4478637792284088,146861,1.4006441465058694,148918,1.3524221383580226,150932,1.3038984443325408,152900,1.2537606278613556,154817,1.2040021444673421,156681,1.1545752197139381,158490,1.1073253833049357,160245,1.0621236232019715,161947,1.0176168746565128,163595,0.97680246951312721,165193,0.93526965428316622,166738]
[1407,"Patzité",6963,1.6228637081717734,7076,1.8089315997738886,7204,1.9294836202109922,7343,2.0155249897861882,7491,1.9757041783473595,7639,1.9374263647074175,7787,1.9134454860665118,7936,1.8649193548387011,8084,1.8060366155368657,8230,1.7739975698663368,8376,1.7311365807067824,8521,1.6664710714704878,8663,1.6391550271268596,8805,1.5900056785917105,8945,1.5539407490217982,9084]
[1408,"San Antonio Ilotenango",26663,2.3965795296853276,27302,2.43938173027618,27968,2.5207379862700163,28673,2.5319987444634373,29399,2.4830776557025702,30129,2.4395101065418645,30864,2.3846552617936778,31600,2.3386075949367147,32339,2.2913510003401472,33080,2.2370012091898372,33820,2.1910112359550649,34561,2.1469286189635728,35303,2.1018043792312202,36045,2.0613122485781732,36788,2.0196803305425615,37531]
[1409,"San Pedro Jocopilas",34586,1.5034985254149147,35106,1.5495926622229872,35650,1.6297335203365959,36231,1.6422400706577189,36826,1.591267039591604,37412,1.544958836736865,37990,1.5003948407475542,38560,1.4445020746888027,39117,1.3983689955773704,39664,1.3513513513513598,40200,1.3034825870646749,40724,1.259699440133577,41237,1.2125033343841629,41737,1.1740182571818858,42227,1.131977171004328,42705]
[1410,"Cunén",41985,1.9125878289865339,42788,1.9631672431522862,43628,2.0399743284129412,44518,2.0508558335953886,45431,2.0074398538442839,46343,1.9571456314869451,47250,1.9068783068783013,48151,1.8608128595460016,49047,1.8105082879686929,49935,1.7622909782717633,50815,1.7120928859588602,51685,1.6697300957724703,52548,1.6251807870899082,53402,1.5842103292011522,54248,1.5429140244801687,55085]
[1411,"San Juan Cotzal",32305,1.8882525924779348,32915,1.9352878626765824,33552,2.011802575107291,34227,2.0247173284249298,34920,1.9759450171821236,35610,1.9320415613591768,36298,1.881646371700918,36981,1.8333738947026834,37659,1.7817785921028229,38330,1.7323245499608619,38994,1.687439093193821,39652,1.6417835165943639,40303,1.5978959382676239,40947,1.5556695240188434,41584,1.5150057714505616,42214]
[1412,"Joyabaj",91528,2.7106459225592072,94009,2.7390994479252084,96584,2.7986001822247975,99287,2.7939206542649142,102061,2.7268006388336374,104844,2.6610964862080699,107634,2.5949049556831527,110427,2.5265560053247871,113217,2.4616444526881942,116004,2.3956070480328329,118783,2.3319835329971506,121553,2.2697917780721166,124312,2.2113713881202202,127061,2.1540834717183044,129798,2.0994160156550867,132523]
[1413,"Santa María Nebaj",69162,1.8145802608368733,70417,1.8603462232131385,71727,1.9406917897026199,73119,1.9516131238118684,74546,1.904864110750415,75966,1.8574098938999084,77377,1.8080308101890763,78776,1.7594191124200353,80162,1.7090391956288586,81532,1.6619241524800099,82887,1.6142459010459964,84225,1.5684179281685973,85546,1.5243260935636993,86850,1.4841681059297729,88139,1.4431749849669329,89411]
[1414,"San Andrés Sajcabajá",25349,1.5740265888200655,25748,1.6234270622961011,26166,1.7006802721088343,26611,1.7135770921799187,27067,1.6625411017105796,27517,1.6171821056074398,27962,1.5699878406408629,28401,1.5210732016478268,28833,1.4705372316442977,29257,1.418463957343552,29672,1.3750337018064274,30080,1.3297872340425565,30480,1.286089238845145,30872,1.2470847369784988,31257,1.1997312601977228,31632]
[1415,"San Miguel Uspantán",66651,{"$f":"+(((E266/C266)^(1/1))-1)*100","v":1.741909348696935},67812,{"$f":"+(((G266/E266)^(1/1))-1)*100","v":1.7872942841974826},69024,{"$f":"+(((I266/G266)^(1/1))-1)*100","v":1.8645688456189191},70311,{"$f":"+(((K266/I266)^(1/1))-1)*100","v":1.8787956365291292},71632,{"$f":"+(((M266/K266)^(1/1))-1)*100","v":1.8301876256421767},72943,{"$f":"+(((O266/M266)^(1/1))-1)*100","v":1.7835844426469905},74244,{"$f":"+(((Q266/O266)^(1/1))-1)*100","v":1.7334734119928807},75531,{"$f":"+(((S266/Q266)^(1/1))-1)*100","v":1.6854006964027946},76804,{"$f":"+(((U266/S266)^(1/1))-1)*100","v":1.635331493151404},78060,{"$f":"+(((W266/U266)^(1/1))-1)*100","v":1.5885216500128196},79300,{"$f":"+(((Y266/W266)^(1/1))-1)*100","v":1.5397225725094499},80521,{"$f":"+(((AA266/Y266)^(1/1))-1)*100","v":1.4952621055376758},81725,{"$f":"+(((AC266/AA266)^(1/1))-1)*100","v":1.4512083205873383},82911,{"$f":"+(((AE266/AC266)^(1/1))-1)*100","v":1.4087394917441598},84079,{"$f":"+(((AG266/AE266)^(1/1))-1)*100","v":1.3701399873928155},85231]
[1416,"Sacapulas",52010,0.98442607190925013,52522,1.0319485168120091,53064,1.1080958842152766,53652,1.1220457764854919,54254,1.072731964463447,54836,1.0248741702531206,55398,0.97837467056571814,55940,0.92599213442974282,56458,0.878529172127962,56954,0.82873898233661869,57426,0.78013443388011972,57874,0.73780972457406779,58301,0.69295552391896997,58705,0.65241461545013646,59088,0.60926076360683368,59448]
[1417,"San Bartolomé Jocotenango",14621,1.2105875111141584,14798,1.243411271793482,14982,1.3282605793619062,15181,1.3371978130557904,15384,1.2935517420696874,15583,1.2449464159661083,15777,1.191608037015901,15965,1.1525211399937341,16149,1.0960430986438841,16326,1.0474090407938341,16497,1.0062435594350383,16663,0.96021124647422962,16823,0.90946917910004199,16976,0.87181903864279597,17124,0.83508526045317222,17267]
[1418,"Canillá",12020,0.57404326123127181,12089,0.76102241707336482,12181,0.96872177982103569,12299,1.0813887307911108,12432,1.142213642213652,12574,1.1929378081755981,12724,1.2260295504558316,12880,1.2499999999999956,13041,1.2652403956751712,13206,1.2797213387854001,13375,1.2859813084112215,13547,1.284417214143363,13721,1.2899934407113234,13898,1.2879551014534529,14077,1.278681537259363,14257]
[1419,"Chicamán",38465,1.8562329390354959,39179,1.901528880267489,39924,1.9812644023645021,40715,1.9943509762986533,41527,1.9457220603462888,42335,1.8991378292193328,43139,1.849834256705063,43937,1.8003049821335049,44728,1.7505812913611196,45511,1.7006877458196845,46285,1.6571243383385559,47052,1.6088582844512533,47809,1.5645589742517174,48557,1.5260415594044119,49298,1.4848472554667591,50030]
[1420,"Playa Grande Ixcán",96526,2.2242711808217575,98673,2.1333090105702723,100778,2.137371251662068,102932,2.1101309602455931,105104,2.0398843050692728,107248,1.9804565120095541,109372,1.9255385290567917,111478,1.8721182654873658,113565,1.8227446836613481,115635,1.7719548579582245,117684,1.7232588967064366,119712,1.6790296712108965,121722,1.6348729071162138,123712,1.5932165028453182,125683,1.5523181337173675,127634]
[1421,"Pachalum",8413,2.8408415547367172,8652,2.8201571890892341,8896,2.8214928057553879,9147,2.7659341860719389,9400,2.659574468085113,9650,2.5595854922279893,9897,2.465393553602091,10141,2.3666305098116514,10381,2.2637510837106189,10616,2.1853805576488305,10848,2.1017699115044142,11076,2.0223907547851194,11300,1.9469026548672552,11520,1.8750000000000044,11736,1.8149284253578646,11949]
[15,"Baja Verapaz",299338,1.8651156886195563,304921,1.8598259877148582,310592,1.8667576756645321,316390,1.8259110591358763,322167,1.7751662957410375,327886,1.7234648627876714,333537,1.6792739636082299,339138,1.6267714027917934,344655,1.5734575154864983,350078,1.5288021526631113,355430,1.4807416368905368,360693,1.4364015935989904,365874,1.3892760895827472,370957,1.3484042624886339,375959,1.3054614997912051,380867]
[1501,"Salamá",63021,2.1770520937465232,64393,2.1663845449039432,65788,2.1706086216331189,67216,2.1244941680552243,68644,2.0715576015383652,70066,2.0152427711015219,71478,1.9670388091440616,72884,1.9112562427967772,74277,1.8538713195201728,75654,1.8055886007349198,77020,1.7540898467930388,78371,1.7059881844049496,79708,1.654789983439553,81027,1.6105742530267753,82332,1.5643978040130291,83620]
[1502,"San Miguel Chicaj",31304,2.8079478660874013,32183,2.8027219339402887,33085,2.8048964787668051,34013,2.7577690882897743,34951,2.7009241509541981,35895,2.6466081626967508,36845,2.597367349708235,37802,2.5369028093751744,38761,2.4818761125873889,39723,2.4318404954308592,40689,2.3765636904323095,41656,2.3285961206068739,42626,2.277952423403562,43597,2.2318049407069385,44570,2.1830827911150985,45543]
[1503,"Rabinal",43367,1.1921507136762877,43884,1.1849421201348909,44404,1.1845779659490185,44930,1.1417760961495604,45443,1.0870761173338073,45937,1.0318479656921342,46411,0.98252569433969761,46867,0.93029210318560374,47303,0.8688666680760182,47714,0.82156180575931881,48106,0.77121357003284707,48477,0.72405470635559244,48828,0.67174571966903684,49156,0.62657661323135549,49464,0.58021995794921288,49751]
[1504,"Cubulco",56153,1.1985112104428985,56826,1.1878365536902136,57501,1.1912836298499263,58186,1.148042484446421,58854,1.090834947497199,59496,1.0353637219308931,60112,0.98815544317274462,60706,0.93071525055183901,61271,0.87317001517845938,61806,0.82678057146554629,62317,0.77346470465522454,62799,0.72453383015653738,63254,0.67347519524456612,63680,0.62971105527638294,64081,0.58363633526319347,64455]
[1505,"Granados",13340,1.5217391304347849,13543,1.5210810012552534,13749,1.5419303222052427,13961,1.5041902442518351,14171,1.4748429892033066,14380,1.4255910987482689,14585,1.3849845731916277,14787,1.3457766957462702,14986,1.3012144668357095,15181,1.2515644555694649,15371,1.2230824279487296,15559,1.1761681341988517,15742,1.1434379367297742,15922,1.1053887702549892,16098,1.0622437569884458,16269]
[1506,"Santa Cruz El Chol",9158,2.2712382616291826,9366,2.2635062993807464,9578,2.2656086865733949,9795,2.2256253190403363,10013,2.1571956456606367,10229,2.1116433668980417,10445,2.067975107707043,10661,1.9979364037144842,10874,1.949604561338969,11086,1.9123218473750647,11298,1.841033811294035,11506,1.8077524769685382,11714,1.7500426839679006,11919,1.7031630170316392,12122,1.6663916845405025,12324]
[1507,"San Jerónimo",24063,2.8092922744462401,24739,2.8012449977767861,25432,2.8035545769109715,26145,2.7538726333907082,26865,2.702400893355672,27591,2.6457902939364342,28321,2.5987782917269886,29057,2.5398354957497427,29795,2.4836381943279084,30535,2.429998362534791,31277,2.3819420021101712,32022,2.3296483667478718,32768,2.276611328125,33514,2.2348869129318993,34263,2.1860315792545881,35012]
[1508,"Purulhá",58932,1.7901988732776708,59987,1.7803857502458831,61055,1.7836377037097728,62144,1.7411174047373912,63226,1.6860152468920919,64292,1.6300628383002502,65340,1.5824915824915742,66374,1.527706632114989,67388,1.4705882352941124,68379,1.4229514909548158,69352,1.3712654285384707,70303,1.3242678121843987,71234,1.2746722070921201,72142,1.2295195586482288,73029,1.1830916485231935,73893]
[16,"Alta Verapaz",1195231,2.1840966306931442,1221336,2.1790072510758707,1247949,2.1589023269380503,1274891,2.1204165689459042,1301924,2.0541905671913163,1328668,1.991919727125202,1355134,1.9274108685930713,1381253,1.8658421013384219,1407025,1.8057248449743213,1432432,1.746540149898923,1457450,1.6901437442107703,1482083,1.6360757123588865,1506331,1.5841803693876111,1530194,1.535034119856693,1553683,1.4880770401684229,1576803]
[1601,"Cobán",200830,2.3009510531295074,205451,2.2720746065971964,210119,2.2330203360952705,214811,2.180055956166127,219494,2.1025631680136936,224109,2.0324931171885163,228664,1.9622677815484657,233151,1.8961960274671785,237572,1.833128483154578,241927,1.7720221389096791,246214,1.7139561519653679,250434,1.6595190748859956,254590,1.6065045759849239,258680,1.5571362300912384,262708,1.5100415670630474,266675]
[1602,"Santa Cruz Verapaz",30540,2.8356254092992694,31406,2.8083805642233894,32288,2.7657333994053568,33181,2.7154094210542157,34082,2.6377560002347256,34981,2.5642491638317999,35878,2.4945649144322513,36773,2.4284121502189171,37666,2.3655285934264247,38557,2.3056773089192628,39446,2.2461086041677181,40332,2.1893285728453726,41215,2.1375712725949292,42096,2.088084378563293,42975,2.0407213496218768,43852]
[1603,"San Cristóbal Verapaz",72436,1.913413219945892,73822,1.8829075343393509,75212,1.8441206190501491,76599,1.7911460985130301,77971,1.7147400956766035,79308,1.6454834316840694,80613,1.5754282807983744,81883,1.5094708303310833,83119,1.4461194191460525,84321,1.3851828132968036,85489,1.3288259308215089,86625,1.2721500721500689,87727,1.2219727107959821,88799,1.1711843601842409,89839,1.1253464530994295,90850]
[1604,"Tactic",37524,1.9800660910350709,38267,1.9520735882091689,39014,1.9146972881529667,39761,1.8611201931540977,40501,1.7851411076269752,41224,1.7125946050844165,41930,1.6432148819460979,42619,1.5791079096177718,43292,1.5176014044165242,43949,1.4516826321417931,44587,1.397268262049467,45210,1.3426233134262278,45817,1.2899142239779948,46408,1.241165316324766,46984,1.1918951132300348,47544]
[1605,"Tamahú",20807,2.9557360503676744,21422,2.8755485015404814,22038,2.7906343588347315,22653,2.6883856442855292,23262,2.5621184764852645,23858,2.45619917847264,24444,2.3441335297005317,25017,2.2424751169204837,25578,2.1424661818750579,26126,2.0554237158386224,26663,1.9652702246558906,27187,1.879574796777872,27698,1.8015741208751601,28197,1.7306805688548366,28685,1.65940386961827,29161]
[1606,"San Miguel Tucurú",45512,2.0192476709439244,46431,1.9922034847408066,47356,1.951178308978796,48280,1.8972659486329757,49196,1.823318969021881,50093,1.752739903778977,50971,1.6813482176139427,51828,1.6168866249903546,52666,1.5531842175217303,53484,1.4920350011218275,54282,1.4350981909288629,55061,1.380287317702189,55821,1.3274574085021751,56562,1.2782433435875706,57285,1.2306886619533941,57990]
[1607,"Panzós",72979,1.8799928746625838,74351,1.8506812282282681,75727,1.8130917638358834,77100,1.7600518806744514,78457,1.6824502593777435,79777,1.611993431690828,81063,1.5432441434439781,82314,1.4772699662268796,83530,1.4150604573207159,84712,1.3528189630748866,85858,1.2951617787509528,86970,1.2418075198344258,88050,1.1890971039182352,89097,1.1392078296687869,90112,1.0930841619318121,91097]
[1608,"Senahú",89845,1.672881072958976,91348,1.6519245084730905,92857,1.6207717242641806,94362,1.5769059579067823,95850,1.5086071987480354,97296,1.4461026147015277,98703,1.3829366888544525,100068,1.3260982531878351,101395,1.2702795995857885,102683,1.2183126710360925,103934,1.1670868050878358,105147,1.1193852416141237,106324,1.0750159888642363,107467,1.0319446899978546,108576,0.99193191865605268,109653]
[1609,"San Pedro Carchá",218371,2.7352533074446628,224344,2.7052205541489904,230413,2.6656482056133912,236555,2.6108093255268416,242731,2.5332569799489946,248880,2.4614271938283583,255006,2.3905319874826469,261102,2.3228470099807774,267167,2.2596353591573859,273204,2.196893164082514,279206,2.1382061990071755,285176,2.0825735686032409,291115,2.0284080174501451,297020,1.9783179583866328,302896,1.9300353916855917,308742]
[1610,"San Juan Chamelco",53857,2.3878047421876492,55143,2.3593203126416773,56444,2.3173410814258277,57752,2.2683197118714471,59062,2.1892248823270455,60355,2.1191284897688734,61634,2.0475711457961454,62896,1.9842279318239564,64144,1.919119481167364,65375,1.8585086042065102,66590,1.8005706562546964,67789,1.7451208898198844,68972,1.6934408165632409,70140,1.6438551468491491,71293,1.5962296438640555,72431]
[1611,"San Agustín Lanquín",24350,1.2443531827515342,24653,1.3791424978704336,24993,1.4764133957508196,25362,1.5298478038009655,25750,1.5378640776698926,26146,1.5489941099977145,26551,1.5328989491921297,26958,1.5171748646042094,27367,1.4945006759966351,27776,1.4652937788018461,28183,1.4334882730724141,28587,1.3992374156085008,28987,1.3661296443233217,29383,1.3307014259946293,29774,1.2930744945254258,30159]
[1612,"Santa María Cahabón",62767,2.0265426099702166,64039,1.9972204437920693,65318,1.958112618267549,66597,1.9054912383440703,67866,1.8286034243951255,69107,1.7566961378731483,70321,1.6893957708223661,71509,1.6221734327147574,72669,1.5605003509061577,73803,1.498584068398312,74909,1.440414369434917,75988,1.3870611149128909,77042,1.3330391215181425,78069,1.2847609166250384,79072,1.2381121003642193,80051]
[1613,"Chisec",98126,0.78062898722051077,98892,1.1113133519394802,99991,1.3391205208468815,101330,1.483272476068298,102833,1.5510585123452492,104428,1.5857815911441309,106084,1.5911918856754914,107772,1.5811156886760935,109476,1.5583324198911175,111182,1.5272256300480347,112880,1.4909638554216897,114563,1.4507301659349103,116225,1.4093353409335263,117863,1.3676896057286836,119475,1.3274743670223854,121061]
[1614,"Chahal",25615,2.5180558266640674,26260,2.4904798172124876,26914,2.4522553317975815,27574,2.3971857546964515,28235,2.3198158314149175,28890,2.2499134648667374,29540,2.1767095463777864,30183,2.1170857767617512,30822,2.0504834209331024,31454,1.9870286767978529,32079,1.9296112721718162,32698,1.8747323995351506,33311,1.825222899342549,33919,1.7748164745422956,34521,1.7235885403088069,35116]
[1615,"Fray Bartolomé de Las Casas",66532,2.8587747249443796,68434,2.7953941023467932,70347,2.7236413777417701,72263,2.6389715345335851,74170,2.5306727787515193,76047,2.4313911133904131,77896,2.333881072198829,79714,2.2405098226158549,81500,2.1533742331288241,83255,2.0671431145276475,84976,1.986443231029944,86664,1.9096741438198173,88319,1.8365244171695716,89941,1.7656018945753305,91529,1.7011001977515372,93086]
[1616,"Santa Catalina La Tinta",40037,2.3927866723280955,40995,2.3515062812538012,41959,2.295097595271578,42922,2.2296258329062013,43879,2.1422548371658356,44819,2.0593944532452779,45742,1.980674216256384,46648,1.9036185902932656,47536,1.8280881857960285,48405,1.7622146472471956,49258,1.693125989686961,50092,1.6309989619100795,50909,1.5694670883340756,51708,1.5142724530053275,52491,1.4592977843820742,53257]
[1617,"Raxruhá",35103,2.7775403811640009,36078,2.4419313709185708,36959,2.2457317568115975,37789,2.1064330889941418,38585,1.9826357392769278,39350,1.8907242693773751,40094,1.8057564722901098,40818,1.7345288843157336,41526,1.668833983528395,42219,1.603543428314258,42896,1.5479298769115912,43560,1.4898989898989967,44209,1.4386210952521017,44845,1.3892295685137723,45468,1.3416028855458784,46078]
[17,"Petén",565585,1.8610818886639402,576111,1.7147737154819209,585990,1.6310858547074147,595548,1.5073512126646316,604525,1.4805012199660794,613475,1.4562940625127307,622409,1.4292852449113047,631305,1.4012244477708879,640151,1.3720200390220372,648934,1.3401979245963425,657631,1.311677825406643,666257,1.2822379352111835,674800,1.2519264967397747,683248,1.2231283516380476,691605,1.1949017141287266,699869]
[1701,"Flores",38188,2.7207499738137741,39227,2.5135748336604813,40213,2.3698803869395491,41166,2.1935577904095505,42069,2.117949083648285,42960,2.0460893854748585,43839,1.9776910969684591,44706,1.9102581308996447,45560,1.8459174714662074,46401,1.7779789228680398,47226,1.7215093380764879,48039,1.6611503153687535,48837,1.605340213362827,49621,1.5517623586787765,50391,1.5022523863388315,51148]
[1702,"San José",6852,0.94862813776999122,6917,0.85297094115945882,6976,0.8314220183486265,7034,0.76769974410009212,7088,0.7759593679458332,7143,0.82598348033038338,7202,0.81921688419883676,7261,0.85387687646329979,7323,0.84664754881877968,7385,0.86662153012864174,7449,0.85917572828566602,7513,0.87847730600292273,7579,0.87082728592162706,7645,0.87638979725310762,7712,0.86877593360996652,7779]
[1703,"San Benito",47868,2.0577421241748217,48853,1.9139049802468611,49788,1.8337752068771529,50701,1.7100254432851347,51568,1.6890319578032997,52439,1.6666984496271908,53313,1.6431264419559888,54189,1.6165642473564779,55065,1.5908471806047375,55941,1.5605727462862706,56814,1.5330728341605981,57685,1.5047239316980043,58553,1.4772940754530062,59418,1.4490558416641486,60279,1.4233812770616527,61137]
[1704,"San Andrés",32963,1.3166277341261523,33397,1.1767524029104415,33790,1.0949985202722612,34160,0.97775175644028156,34494,0.95378906476488723,34823,0.92754788501852037,35146,0.90764240596370449,35465,0.87974058931341581,35777,0.85250300472370366,36082,0.82589656892633201,36380,0.79714128642112136,36670,0.77174802290700395,36953,0.74148242361919969,37227,0.71453514921964167,37493,0.68279412156935226,37749]
[1705,"La Libertad",76075,2.0663818600065831,77647,1.9215166072095613,79139,1.8423280556994603,80597,1.7209077260940342,81984,1.6966725214676126,83375,1.6755622188905583,84772,1.6503090643136931,86171,1.6258369985261867,87572,1.5986845110309122,88972,1.5679090050802591,90367,1.5414919162968888,91760,1.5137314734088969,93149,1.4857915812300782,94533,1.4566341912348069,95910,1.4305077676988853,97282]
[1706,"San Francisco",15132,1.7644726407612943,15399,1.6169881161114397,15648,1.540132924335369,15889,1.416074013468438,16114,1.3963013528608625,16339,1.3709529346961347,16563,1.3524120026565223,16787,1.3224518973014909,17009,1.2993121288729537,17230,1.2594312246082318,17447,1.24376683670544,17664,1.2115036231884035,17878,1.1802215012864936,18089,1.1609265299353133,18299,1.1312093557025005,18506]
[1707,"Santa Ana",21238,2.2600998210754231,21718,2.1180587531080208,22178,2.0380557309044978,22630,1.9133893062306617,23063,1.8904739192646236,23499,1.8724201029830967,23939,1.842182213125021,24380,1.8211648892534793,24824,1.7926200451176211,25269,1.7650085084490952,25715,1.7343962667703661,26161,1.7086502809525728,26608,1.6837041491280846,27056,1.6484328799526882,27502,1.6253363391753428,27949]
[1708,"Dolores",28691,0.88878045380085258,28946,0.80149243418778937,29178,0.78141065186099201,29406,0.71413997143439101,29616,0.7428417071853044,29836,0.76752915940474509,30065,0.78829203392649649,30302,0.80522737773083275,30546,0.81516401492831569,30795,0.8248092222763459,31049,0.83738606718413156,31309,0.83682008368199945,31571,0.84254537391910134,31837,0.84806985582812633,32107,0.84405269878842226,32378]
[1709,"San Luis",72377,1.2310540641363943,73268,1.0891521537369719,74066,1.0085599330327044,74813,0.88620961597583037,75476,0.86385076050665699,76128,0.84068936527952332,76768,0.81674656106711652,77395,0.79074875637961117,78007,0.76531593318547309,78604,0.73278713551472308,79180,0.70598636019196803,79739,0.67971757860019189,80281,0.64897049114984728,80802,0.62250934382812595,81305,0.59405940594059459,81788]
[1710,"Sayaxché",89557,1.8256529361188933,91192,1.6821651022019379,92726,1.6025710156805983,94212,1.4817645310576166,95608,1.4580369843527841,97002,1.438114678047886,98397,1.4126446944520588,99787,1.3869542124725687,101171,1.3600735388599405,102547,1.3310969604181544,103912,1.3030256370775373,105266,1.2767655273307588,106610,1.2465997561204478,107939,1.2201335939743707,109256,1.1935271289448712,110560]
[1711,"Melchor de Mencos",28157,1.5022907269950592,28580,1.3610916724982491,28969,1.2772273809934731,29339,1.1622754695115756,29680,1.1388140161725069,30018,1.1126657338929924,30352,1.087243015287287,30682,1.0657714620950332,31009,1.0384082040697962,31331,1.008585745747026,31647,0.98271558125573311,31958,0.9543776206270671,32263,0.92675820599448233,32562,0.89982187826300741,32855,0.87049155379699261,33141]
[1712,"Poptún",59162,2.7652885297995367,60798,2.5543603408006765,62351,2.4105467434363481,63854,2.230087386851265,65278,2.1508011887619194,66682,2.0800215950331324,68069,2.0097254256710162,69437,1.9398879559888726,70784,1.8718919529837175,72109,1.8055998557738873,73411,1.7449700998487971,74692,1.6842499866116745,75950,1.6273864384463543,77186,1.5715285155339043,78399,1.5204275564739245,79591]
[1713,"Las Cruces",34597,2.0637627539960013,35311,1.9229135396901853,35990,1.8393998332870254,36652,1.7215977300010898,37283,1.6951425582705237,37915,1.6774363708294882,38551,1.6523566185053573,39188,1.6229457997346097,39824,1.5970269184411467,40460,1.5694513099357321,41095,1.5427667599464678,41729,1.5145342567518982,42361,1.482495691791974,42989,1.4585126427690831,43616,1.4306676449009625,44240]
[1714,"El Chal",14728,0.88267246061923821,14858,0.80764571274734021,14978,0.78114568033116338,15095,0.72209340841338232,15204,0.73664825046040328,15316,0.76390702533297716,15433,0.7905138339920903,15555,0.80360012857600971,15680,0.81632653061225469,15808,0.8286943319838036,15939,0.83443126921387556,16072,0.83997013439522927,16207,0.84531375331646785,16344,0.83822809593734338,16481,0.84946301802075741,16621]
[18,"Izabal",411039,1.3745654305309163,416689,1.3782461260076539,422432,1.3973846678281943,428335,1.4287882148318554,434455,1.3902475515300772,440495,1.3543854073258421,446461,1.3163523801630994,452338,1.2753737249578956,458107,1.2394484258044569,463785,1.2007719093976688,469354,1.1603182246236354,474800,1.127211457455779,480152,1.0894466752195076,485383,1.0560732452516985,490509,1.0226112059105841,495525]
[1801,"Puerto Barrios",102777,1.2716852992401106,104084,1.2634026363322004,105399,1.2761031888347985,106744,1.3040545604436682,108136,1.2632240881852441,109502,1.2273748424686204,110846,1.18813488984717,112163,1.1474372119147924,113450,1.1115028646980996,114711,1.0731316089999998,115942,1.0324127581031961,117139,1.0005207488539281,118311,0.96187167718977395,119449,0.92926688377465982,120559,0.89582693950680525,121639]
[1802,"Livingston",73849,1.4001543690503659,74883,1.3915040796976585,75925,1.4027000329272399,76990,1.4313547213923972,78092,1.3906674179173351,79178,1.3526484629568847,80249,1.3146581265810253,81304,1.2730000983961487,82339,1.2363521539003441,83357,1.1972599781661986,84355,1.1582004623318154,85332,1.122673791777995,86290,1.0858732182176478,87227,1.052426427596953,88145,1.0187758806512015,89043]
[1803,"El Estor",74849,1.6393004582559545,76076,1.6299489983700566,77316,1.6426095504164628,78586,1.6695085638663398,79898,1.6283261157976403,81199,1.5911526004014798,82491,1.5516844261798335,83771,1.5088753864702653,85035,1.4735109072734787,86288,1.4347302058223654,87526,1.3915865000114325,88744,1.3589651131344027,89950,1.3207337409671949,91138,1.2859619478154061,92310,1.2523020257826811,93466]
[1804,"Morales",98533,1.4523053190301782,99964,1.442519306950496,101406,1.4555351754333978,102882,1.4822806710600434,104407,1.4424320208415109,105913,1.4039825139501305,107400,1.3659217877094898,108867,1.3254705282592427,110310,1.287281298159737,111730,1.2485456010024265,113125,1.2075138121546924,114491,1.1747648286764889,115836,1.1360889533478469,117152,1.1028407538923757,118444,1.0688595454392047,119710]
[1805,"Los Amates",61031,1.066671036030864,61682,1.1413378295126675,62386,1.1973840284679182,63133,1.2497426068775352,63922,1.2218015706642493,64703,1.1931440582353181,65475,1.1576937762504791,66233,1.1172678272160397,66973,1.0840189330028505,67699,1.0443285720616258,68406,1.0057597286787789,69094,0.97114076475526279,69765,0.93456604314483549,70417,0.90035076757033483,71051,0.86698287145852149,71667]
[19,"Zacapa",254158,1.0560360090966947,256842,1.0414963284820944,259517,1.0099531051915633,262138,1.0677582036942468,264937,1.0496835096645674,267718,1.029067899805014,270473,1.0108217825808952,273207,0.99045778475661539,275913,0.96697147289181995,278581,0.94371116479587958,281210,0.91675260481489662,283788,0.89432956996067237,286326,0.86859034806479052,288813,0.84864600970178117,291264,0.82262140188968935,293660]
[1901,"Zacapa",61808,1.2231426352575792,62564,1.2067642733840644,63319,1.1765820685734063,64064,1.2331418581418507,64854,1.2134949270669493,65641,1.191328590362728,66423,1.1712810321725886,67201,1.1502805017782558,67974,1.1239591608556143,68738,1.0998283336727921,69494,1.0720349958269759,70239,1.0478509090391386,70975,1.0200774920746669,71699,0.99861922760429156,72415,0.9707933439204508,73118]
[1902,"Estanzuela",10847,-0.12906794505392893,10833,-6.4617372842246112E-2,10826,-1.8474043968219611E-2,10824,0.10162601626015899,10835,0.1476695892939528,10851,0.19353055017969911,10872,0.22075055187638082,10896,0.26615271659324868,10925,0.29290617848969358,10957,0.31030391530528778,10991,0.31844236193248054,11026,0.35370941411210222,11065,0.35246272028919279,11104,0.36923631123919609,11145,0.38582323912068617,11188]
[1903,"Río Hondo",21145,1.7119886497990011,21507,1.6924722183475183,21871,1.6597320652919301,22234,1.7135917963479352,22615,1.6979880610214382,22999,1.6739858254706697,23384,1.6549777625727069,23771,1.6322409658827919,24159,1.6060267395173744,24547,1.584715036460671,24936,1.55197305101058,25323,1.5282549460964301,25710,1.4974718008556875,26095,1.4792105767388319,26481,1.450096295457115,26865]
[1904,"Gualán",47500,0.77473684210527249,47868,0.76251357900893879,48233,0.72771753778533288,48584,0.78626708381359656,48966,0.76583751991177174,49341,0.74583003992623187,49709,0.72622663903920692,50070,0.70101857399640366,50421,0.67828880823466164,50763,0.65401965998856948,51095,0.62628437224776512,51415,0.59904697072838964,51723,0.57614600854551945,52021,0.55170027488897766,52308,0.52382044811500883,52582]
[1905,"Teculután",18702,1.3688375574804734,18958,1.3503534128072481,19214,1.321952742791721,19468,1.376618039860289,19736,1.362991487636811,20005,1.3346663334166564,20272,1.3170876085240701,20539,1.2950971322849281,20805,1.273732275895223,21070,1.2387280493592723,21331,1.2188833153626177,21591,1.1949423370849033,21849,1.1625246006682133,22103,1.144640998959412,22356,1.1182680264805844,22606]
[1906,"Usumatlán",12079,1.7633910091894966,12292,1.6596160104132673,12496,1.5364916773367376,12688,1.5290037831021452,12882,1.4361124049060647,13067,1.3622101477003046,13245,1.2986032465081232,13417,1.244689572929869,13584,1.1704946996466514,13743,1.127846903878349,13898,1.0649014246654209,14046,1.0180834401253058,14189,0.97258439636338512,14327,0.93529699169401237,14461,0.89205449139062587,14590]
[1907,"Cabañas",13790,1.2182741116751217,13958,1.2036108324974926,14126,1.1751380433243641,14292,1.2244612370556851,14467,1.2096495472454505,14642,1.1951919136729883,14817,1.1675777822771183,14990,1.1407605070046678,15161,1.1212980674097928,15331,1.0958189289674625,15499,1.0710368410865145,15665,1.0469198850941552,15829,1.0171204750773821,15990,0.9943714821763594,16149,0.9660040869403641,16305]
[1908,"San Diego",7290,0.98765432098766315,7362,0.97799511002445438,7434,0.95507129405434377,7505,1.0126582278481067,7581,1.0025062656641603,7657,0.97949588611727645,7732,0.96999482669426484,7807,0.96067631612655191,7882,0.93884800811976366,7956,0.90497737556560764,8028,0.87194818136522301,8098,0.86441096567053677,8168,0.84476003917728359,8237,0.8255432803204954,8305,0.79470198675497539,8371]
[1909,"La Unión",36931,{"$f":"+(((E330/C330)^(1/1))-1)*100","v":0.70130784435840088},37190,{"$f":"+(((G330/E330)^(1/1))-1)*100","v":0.68566819037376714},37445,{"$f":"+(((I330/G330)^(1/1))-1)*100","v":0.64895179596742292},37688,{"$f":"+(((K330/I330)^(1/1))-1)*100","v":0.71110167692634008},37956,{"$f":"+(((M330/K330)^(1/1))-1)*100","v":0.69027294762356028},38218,{"$f":"+(((O330/M330)^(1/1))-1)*100","v":0.66722486786330304},38473,{"$f":"+(((Q330/O330)^(1/1))-1)*100","v":0.64720713227457427},38722,{"$f":"+(((S330/Q330)^(1/1))-1)*100","v":0.62496771860958145},38964,{"$f":"+(((U330/S330)^(1/1))-1)*100","v":0.60055435786880995},39198,{"$f":"+(((W330/U330)^(1/1))-1)*100","v":0.57911117914180021},39425,{"$f":"+(((Y330/W330)^(1/1))-1)*100","v":0.54787571337984176},39641,{"$f":"+(((AA330/Y330)^(1/1))-1)*100","v":0.52470926565928444},39849,{"$f":"+(((AC330/AA330)^(1/1))-1)*100","v":0.49436623252778755},40046,{"$f":"+(((AE330/AC330)^(1/1))-1)*100","v":0.47445437746591601},40236,{"$f":"+(((AG330/AE330)^(1/1))-1)*100","v":0.44736057262153572},40416]
[1910,"Huité",11480,0.78397212543555028,11570,0.7692307692307665,11659,0.74620464876919979,11746,0.79175889664566679,11839,0.77709265985301812,11931,0.75433744028161609,12021,0.74037101738624322,12110,0.71841453344343442,12197,0.68869394113306726,12281,0.65955541079716351,12362,0.63905516906650472,12441,0.61088336950405608,12517,0.59119597347607744,12591,0.5638948455245707,12662,0.53703996209129023,12730]
[1911,"San Jorge",12586,1.2235817575083408,12740,1.2087912087912045,12894,1.1710873274391131,13045,1.234189344576464,13206,1.2115704982583742,13366,1.1895855154870461,13525,1.1756007393715295,13684,1.1473253434668207,13841,1.1270861931941267,13997,1.100235764806734,14151,1.0741290368171841,14303,1.0417394952108028,14452,1.0240797121505718,14600,1.0000000000000009,14746,0.96975450969754018,14889]
[20,"Chiquimula",410950,1.5045625988563183,417133,1.4832199801981583,423320,1.4702825285835663,429544,1.4049783025720242,435579,1.3774768756069422,441579,1.3508341655739997,447544,1.3194233416155665,453449,1.2890093483501008,459294,1.2569291129429061,465067,1.2234796276665572,470757,1.1906355083408204,476362,1.1583627577346656,481880,1.1282892006308609,487317,1.0986688336339645,492671,1.0682585335852979,497934]
[2001,"Chiquimula",107907,1.6727367084619083,109712,1.6470395216567013,111519,1.6302154789766821,113337,1.5625965042307399,115108,1.5342113493414855,116874,1.5067508599003965,118635,1.474269819193319,120384,1.4437134502923943,122122,1.4100653444915734,123844,1.3767320176996778,125549,1.3429019745278659,127235,1.3101740873187495,128902,1.2792664194504422,130551,1.2493201890448891,132182,1.2180175818190087,133792]
[2002,"San José La Arada",8614,1.1144648247039646,8710,1.0907003444316832,8805,1.0675752413401574,8899,1.0225868075064648,8990,0.97886540600666816,9078,0.95836087243885704,9165,0.91653027823239697,9249,0.88658233322520541,9331,0.86807416139749183,9412,0.81810454738631133,9489,0.79038887132469871,9564,0.76327896277708085,9637,0.72636712669917891,9707,0.70052539404552583,9775,0.67519181585677934,9841]
[2003,"San Juan Ermita",16328,2.1313081822635915,16676,2.0868313744303091,17024,2.0676691729323293,17376,1.9739871086556171,17719,1.9470624753089805,18064,1.8988042515500458,18407,1.8688542402346853,18751,1.8185696762839321,19092,1.770375026188975,19430,1.7344312918167848,19767,1.6896848282490939,20101,1.6417093676931449,20431,1.6054035534237121,20759,1.5607688231610295,21083,1.5225537162642855,21404]
[2004,"Jocotán",66557,1.9306759619574176,67842,1.9044249874708985,69134,1.8876384991465933,70439,1.8214341486960439,71722,1.7902456707844072,73006,1.7628688053036745,74293,1.7296380547292545,75578,1.7002302257270729,76863,1.6666016158619845,78144,1.6303235053235055,79418,1.5978745372585479,80687,1.5640685612304361,81949,1.5338808283200445,83206,1.5034973439415511,84457,1.4705708230223768,85699]
[2005,"Camotán",57580,1.1497047585967257,58242,1.1211840252738581,58895,1.1070549282621522,59547,1.041194350680974,60167,1.0105207173367381,60775,0.98560263266145309,61374,0.95154299866393455,61958,0.91997804964654151,62528,0.88920163766632587,63084,0.85600152178049171,63624,0.82044511505092732,64146,0.79038443550649706,64653,0.75634541320588333,65142,0.72764115317307532,65616,0.6980004876859347,66074]
[2006,"Olopa",27868,1.3097459451700821,28233,1.3530266000779223,28615,1.369910885898995,29007,1.3238183886647992,29391,1.3065224048178115,29775,1.2795969773299776,30156,1.2534818941504211,30534,1.224864085936983,30908,1.1906302575384942,31276,1.157437012405671,31638,1.1283899108666784,31995,1.0907954367870065,32344,1.063566658421955,32688,1.0340186000978857,33026,0.99921274147640737,33356]
[2007,"Esquipulas",52498,1.238142405424969,53148,1.2117106946639478,53792,1.1972040452111754,54436,1.1279300462929021,55050,1.0990009082652241,55655,1.074476686730752,56253,1.0417222192594222,56839,1.0081106282658014,57412,0.97888943078101587,57974,0.94352640838997193,58521,0.90907537465183541,59053,0.87887152219192632,59572,0.8477136909957661,60077,0.81728448491102945,60568,0.78754457799499189,61045]
[2008,"Concepción Las Minas",12125,0.65979381443299623,12205,0.63908234330192215,12283,0.62688268338353392,12360,0.55016181229774475,12428,0.53910524621820777,12495,0.49619847939175177,12557,0.46189376443417363,12615,0.44391597304795916,12671,0.40249388367137318,12722,0.37729916679767328,12770,0.33672670321065468,12813,0.30437836572232424,12852,0.28011204481792618,12888,0.24053382991930938,12919,0.21673504141186406,12947]
[2009,"Quezaltepeque",27288,1.5244796247434689,27704,1.4979786312445897,28119,1.4829830363811025,28536,1.4157555368657038,28940,1.385625431928128,29341,1.3598718516751207,29740,1.3315400134499056,30136,1.2974515529599051,30527,1.2644544174009953,30913,1.226021414938705,31292,1.2015850696663666,31668,1.1620563344701296,32036,1.1331002622050113,32399,1.1049723756906049,32757,1.0745794791952923,33109]
[2010,"San Jacinto",12377,1.2200048477013725,12528,1.1973180076628287,12678,1.1673765578166906,12826,1.1149228130360234,12969,1.0794972627033772,13109,1.0527118773361765,13247,1.0115497848569577,13381,0.98647335774606493,13513,0.9620365573891787,13643,0.93088030491828011,13770,0.87872185911401779,13891,0.86386869195882454,14011,0.82792091927770262,14127,0.79280809796842266,14239,0.76550319544912426,14348]
[2011,"Ipala",21808,1.4902787967718378,22133,1.4593593277007155,22456,1.4472746704666806,22781,1.3783416004565119,23095,1.3509417622862063,23407,1.3243901397018032,23717,1.2944301555845916,24024,1.2612387612387588,24327,1.2249763637111055,24625,1.1939086294416201,24919,1.1637706167984208,25209,1.1265817763497221,25493,1.0983407209822271,25773,1.0708881387498481,26049,1.036508119313595,26319]
[21,"Jalapa",360094,1.9022810710536797,366944,1.8613194383884091,373774,1.8294477411483934,380612,1.7997330614904383,387462,1.7477842988473657,394234,1.6921422302490496,400905,1.6370461830109484,407468,1.5829463908822339,413918,1.5290468160360282,420247,1.4762746670410554,426451,1.4294725537048913,432547,1.3774225691080888,438505,1.3336221935895898,444353,1.2886151325635309,450079,1.2455591129557186,455685]
[2101,"Jalapa",172722,1.6975255034101133,175654,1.6555273435276074,178562,1.6229656925885738,181460,1.5926374958668665,184350,1.5400054244643302,187189,1.4829931245959882,189965,1.4271049930250301,192676,1.3727708692312435,195321,1.3173186702914785,197894,1.2643132181875183,200396,1.2160921375676148,202833,1.1635187568098004,205193,1.1189465527576381,207489,1.0733099104048849,209716,1.0290106620381767,211874]
[2102,"San Pedro Pinula",68442,2.052833055726011,69847,2.0129712084985707,71253,1.9788640478295649,72663,1.9487221832294344,74079,1.8952739642813743,75483,1.8401494376217187,76872,1.7847850973046198,78244,1.7292060733091308,79597,1.6746862318931521,80930,1.6211540837760996,82242,1.5734053160185724,83536,1.5214997126987262,84807,1.4762932305116383,86059,1.4292520247737084,87289,1.3873454845398703,88500]
[2103,"San Luis Jilotepeque",23698,1.9368723098995622,24157,1.895930786107547,24615,1.8606540727198917,25073,1.8306544888924359,25532,1.7781607394641963,25986,1.7240052335873113,26434,1.6645229628508673,26874,1.6112227431718473,27307,1.5600395502984643,27733,1.5000180290628551,28149,1.4600873920920909,28560,1.404061624649855,28961,1.3604502606954227,29355,1.3149378300119308,29741,1.2709727312464336,30119]
[2104,"San Manuel Chaparrón",8262,1.5492616799806402,8390,1.501787842669855,8516,1.4795678722404837,8642,1.4464244387873082,8767,1.402988479525491,8890,1.3385826771653564,9009,1.298701298701288,9126,1.2382204689896925,9239,1.1797813616192254,9348,1.14462986735131,9455,1.0893707033315714,9558,1.046243984097095,9658,0.99399461586249238,9754,0.96370719704736985,9848,0.90373679935011886,9937]
[2105,"San Carlos Alzatate",19514,1.808957671415401,19867,1.766748880052349,20218,1.7360767632802476,20569,1.7064514560746646,20920,1.649139579349912,21265,1.5988713849047764,21605,1.5413098819717641,21938,1.4860060169568756,22264,1.4328063241106692,22583,1.3815702076783509,22895,1.3321685957632612,23200,1.2715517241379315,23495,1.2385613960417041,23786,1.1855713444883564,24068,1.1509057669935263,24345]
[2106,"Monjas",26304,2.6573905109489093,27003,2.6108210198866777,27708,2.5768731052403737,28422,2.5473224966575225,29146,2.4977698483496846,29874,2.4369016536118338,30602,2.3789294817332163,31330,2.3236514522821494,32058,2.2740033688938732,32787,2.2112422606520798,33512,2.1693721651945497,34239,2.1145477379596267,34963,2.0679003518004668,35686,2.0232023762820184,36408,1.9775873434410007,37128]
[2107,"Mataquescuintla",41152,2.1238335925349849,42026,2.0844239280445542,42902,2.0535173185399325,43783,2.0213324806431787,44668,1.9678517059192213,45547,1.912310360726277,46418,1.857038217932705,47280,1.8020304568527878,48132,1.7452006980802848,48972,1.6948460344686778,49802,1.6445122685835978,50621,1.5942000355583685,51428,1.5477949754997278,52224,1.5031403186274606,53009,1.4582429398781294,53782]
[22,"Jutiapa",514645,1.2016049898473602,520829,1.2067300399939418,527114,1.2022067332683184,533451,1.1873630380297318,539785,1.1523106422001383,546005,1.1188542229466858,552114,1.0851019898064473,558105,1.0487273900072536,563958,1.0124867454668562,569668,0.97969343547470444,575249,0.94567743707507645,580689,0.91047014839269469,585976,0.87802230808087245,591121,0.84957225339650222,596143,0.81658259847050552,601011]
[2201,"Jutiapa",153973,1.2294363297461253,155866,1.2234868412610789,157773,1.2112338613070595,159684,1.1898499536584728,161584,1.1511040697098629,163444,1.1147549007611168,165266,1.0788667965582865,167049,1.0404132919083597,168787,1.0036317962876184,170481,0.96960951660303163,172134,0.93531783378066891,173744,0.90017497007091052,175308,0.86761585324115487,176829,0.83866334142024268,178312,0.80589079815156506,179749]
[2202,"El Progreso",23401,1.4871159352164431,23749,1.4779569666091286,24100,1.4605809128630742,24452,1.4477343366595674,24806,1.4069176812061546,25155,1.3675213675213627,25499,1.3333856229656105,25839,1.2964898022369331,26174,1.2569725681974564,26503,1.226276270610871,26828,1.1927836588638829,27148,1.149255930455273,27460,1.12163146394757,27768,1.0947853644482919,28072,1.0615559988600642,28370]
[2203,"Santa Catarina Mita",28396,1.6445978306803832,28863,1.6422409312961239,29337,1.6327504516480795,29816,1.6098738932116996,30296,1.5678637443887089,30771,1.5306619869357441,31242,1.494782664362071,31709,1.4601532687880336,32172,1.4204898669650579,32629,1.3852707713996715,33081,1.3482059188053563,33527,1.3213231127151337,33970,1.2805416544009462,34405,1.2556314489173159,34837,1.2199672761718849,35262]
[2204,"Agua Blanca",16113,1.4584496990007967,16348,1.4436016638120774,16584,1.4411480945489608,16823,1.4206740771562698,17062,1.3831907162114687,17298,1.3585385593710253,17533,1.3232190726059523,17765,1.2834224598930577,17993,1.2560440171177634,18219,1.223996926285742,18442,1.1983515887647789,18663,1.1573701977174,18879,1.1335346151808867,19093,1.105117058607874,19304,1.0826771653543288,19513]
[2205,"Asunción Mita",46912,1.9866984993178738,47844,1.9354569015968659,48770,1.874102932130417,49684,1.8114483535947246,50584,1.7337498023090259,51461,1.6556227045724015,52313,1.5827805707950171,53141,1.5110743117366932,53944,1.4385288447278599,54720,1.3760964912280738,55473,1.3105474735456868,56200,1.2491103202846965,56902,1.1897648588801824,57579,1.1358307716354821,58233,1.080143561211,58862]
[2206,"Yupiltepeque",17203,0.76149508806604427,17334,0.81919926156686085,17476,0.86976424811169295,17628,0.8906285454957974,17785,0.88838909193140747,17943,0.89171264559995134,18103,0.87830746285146866,18262,0.85970868470046646,18419,0.84695151745479702,18575,0.82368775235530656,18728,0.80093976932935629,18878,0.76808984002543212,19023,0.75172160016820921,19166,0.73046018991964612,19306,0.69926447736454733,19441]
[2207,"Atescatempa",18097,1.51958888213517,18372,1.5131722185935059,18650,1.501340482573732,18930,1.4844162704701569,19211,1.4470876060590276,19489,1.4007901893375641,19762,1.3713186924400267,20033,1.3328008785503886,20300,1.2955665024630525,20563,1.2595438408792514,20822,1.2246662184228319,21077,1.1956160743938904,21329,1.1580477284448332,21576,1.1308861698183126,21820,1.0953253895508608,22059]
[2208,"Jerez",6188,1.5998707175177707,6287,1.6064895816764846,6388,1.5967438948027546,6490,1.6024653312789017,6594,1.5620260843190792,6697,1.5380020904882885,6800,1.5147058823529402,6903,1.4921048819353855,7006,1.4416214673137251,7107,1.449275362318847,7210,1.4147018030513214,7312,1.3949671772428784,7414,1.3622875640679766,7515,1.357285429141708,7617,1.3259813574898249,7718]
[2209,"El Adelanto",7894,0.93742082594374665,7968,0.94126506024097001,8043,0.92005470595548644,8117,0.899347049402488,8190,0.85470085470085166,8260,0.83535108958838755,8329,0.78040581102172268,8394,0.75053609721229542,8457,0.72129596783729877,8518,0.66917116694058532,8575,0.65306122448980375,8631,0.60247943459621478,8683,0.58735460094436753,8734,0.54957636821617584,8782,0.52379867911638289,8828]
[2210,"Zapotitlán",9684,1.3217678645187858,9812,1.3147166734610582,9941,1.3077155215773129,10071,1.2809055704497974,10200,1.2352941176470678,10326,1.2105365097811349,10451,1.1673524064682805,10573,1.1349664239099555,10693,1.0941737585336231,10810,1.0638297872340496,10925,1.0251716247139608,11037,0.99664763975717552,11147,0.95989952453574556,11254,0.92411586991292261,11358,0.89804543053353392,11460]
[2211,"Comapa",34652,0.96386932933163472,34986,1.031841307951753,35347,1.0609104025801397,35722,1.0693690162924874,36104,1.0469754043873181,36482,1.0169398607532409,36853,0.99042140395626532,37218,0.95115266806384824,37572,0.91823698498882944,37917,0.88614605585883854,38253,0.85222074085693489,38579,0.81650638948651544,38894,0.78675374093690742,39200,0.75765306122448361,39497,0.72410562827556202,39783]
[2212,"Jalpatagua",29894,0.69913695055863201,30103,0.75739959472478358,30331,0.80445748574065057,30575,0.82747342600164586,30828,0.83041390943299209,31084,0.83000900784970799,31342,0.82636717503670187,31601,0.8132654029935793,31858,0.79728796534621615,32112,0.78163926258096872,32363,0.76630720266972485,32611,0.74208089295022539,32853,0.71530758226037161,33088,0.70418278529980061,33321,0.67524984244169417,33546]
[2213,"Conguaco",27022,1.5098808378358308,27430,1.5020051039008386,27842,1.4905538395230122,28257,1.4686626322681029,28672,1.4299665178571397,29082,1.3926139880338306,29487,1.3565299962695399,29887,1.3182989259544309,30281,1.2813315280208792,30669,1.2520786461899691,31053,1.2108330918107812,31429,1.1772566737726198,31799,1.1478348375735026,32164,1.1130456410894274,32522,1.0854191009163072,32875]
[2214,"Moyuta",48886,0.591171296485693,49175,0.58769700050838036,49464,0.5721332686398295,49747,0.55279715359719539,50022,0.51577305985366362,50280,0.47732696897375693,50520,0.43942992874108633,50742,0.40400457214930796,50947,0.3670481088189792,51134,0.33050416552586892,51303,0.29822817379101529,51456,0.26236007462685507,51591,0.22872206392587913,51709,0.2011255294049441,51813,0.16791152799491282,51900]
[2215,"Pasaco",10535,0.977693402942581,10638,0.95882684715171695,10740,0.95903165735566898,10843,0.94069906852347618,10945,0.88624942896300407,11042,0.86035138561855184,11137,0.82607524467990245,11229,0.79259061358980532,11318,0.74218059727866326,11402,0.71917207507454783,11484,0.67920585161964642,11562,0.64002767687252327,11636,0.61876933654176902,11708,0.58934062179705204,11777,0.55192324021398065,11842]
[2216,"San José Acatempa",13308,0.68379921851517977,13399,0.69408164788415938,13492,0.68929736139935471,13585,0.6772175193227925,13677,0.65803904364991617,13767,0.63194595772499973,13854,0.60632308358596898,13938,0.56679581001577439,14017,0.55646714703574407,14095,0.52500886839303984,14169,0.50109393746913256,14240,0.48455056179774747,14309,0.44727094835417258,14373,0.43832185347527641,14436,0.40870047104462071,14495]
[2217,"Quesada",22487,0.74709832347579219,22655,0.79894063120724557,22836,0.83639866876861202,23027,0.8598601641551129,23225,0.85683530678148934,23424,0.8495560109289535,23623,0.84239935655927578,23822,0.83116446981781333,24020,0.80766028309742222,24214,0.7929297100850663,24406,0.77439973776940452,24595,0.74811953649116525,24779,0.7304572420194555,24960,0.70512820512820262,25136,0.68427753023552196,25308]
[null,"Fuente: Instituto Nacional de Estadística  2020"]

{"sheet":"INE (2)","index":1,"n_rows":342,"n_cols":34,"rows_kept":342,"cut":false,"hidden":true,"merged":[]}
["Codigo Municipio","Departamento","Municipio",2015,"TC",2016,"TC",2017,"TC",2018,"TC",2019,"TC",2020,"TC",2021,"TC",2022,"TC",2023,"TC",2024,"TC",2025,"TC",2026,"TC",2027,"TC",2028,"TC",2029,"TC",2030]
[101,"Guatemala","Guatemala",1142188,{"$f":"+(((F2/D2)^(1/1))-1)*100","v":1.0192717836293053},1153830,{"$f":"+(((H2/F2)^(1/1))-1)*100","v":0.97752701871158809},1165109,{"$f":"+(((J2/H2)^(1/1))-1)*100","v":0.91218933164192162},1175737,{"$f":"+(((L2/J2)^(1/1))-1)*100","v":0.87060286441611456},1185973,{"$f":"+(((N2/L2)^(1/1))-1)*100","v":0.82244705402230167},1195727,{"$f":"+(((P2/N2)^(1/1))-1)*100","v":0.77250074640784483},1204964,{"$f":"+(((R2/P2)^(1/1))-1)*100","v":0.72093440135971854},1213651,{"$f":"+(((T2/R2)^(1/1))-1)*100","v":0.66641892932977065},1221739,{"$f":"+(((V2/T2)^(1/1))-1)*100","v":0.61191465607630668},1229215,{"$f":"+(((X2/V2)^(1/1))-1)*100","v":0.55588322628670195},1236048,{"$f":"+(((Z2/X2)^(1/1))-1)*100","v":0.49925245621529335},1242219,{"$f":"+(((AB2/Z2)^(1/1))-1)*100","v":0.44146805031963776},1247703,{"$f":"+(((AD2/AB2)^(1/1))-1)*100","v":0.38470693746828211},1252503,{"$f":"+(((AF2/AD2)^(1/1))-1)*100","v":0.32662596416934697},1256594,{"$f":"+(((AH2/AF2)^(1/1))-1)*100","v":0.27049309482616302},1259993]
[102,"Guatemala","Santa Catarina Pinula",84215,0.61509232322032314,84733,0.59126904511819234,85234,0.54555693737241562,85699,0.5239267669401082,86148,0.495658633978735,86575,0.46780248339590713,86980,0.43918142101633251,87362,0.40635516586158271,87717,0.3762098566982397,88047,0.34413438277283159,88350,0.31465761177136287,88628,0.28207789863248234,88878,0.25315601161142176,89103,0.22333703691232998,89302,0.1970840518689343,89478]
[103,"Guatemala","San José Pinula",84770,0.88946561283473891,85524,0.86642346008138915,86265,0.821886048803111,86974,0.79793961413756609,87668,0.77223160104029631,88345,0.74254343765918218,89001,0.71347512949293534,89636,0.68164576732563376,90247,0.65154520371868418,90835,0.62090603842130943,91399,0.58972198820554933,91938,0.55798472883898942,92451,0.52892883797903689,92940,0.49817086292232027,93403,0.47107694613663931,93843]
[104,"Guatemala","San José del Golfo",8078,0.75513741025006187,8139,0.71261825777122478,8197,0.68317677198974636,8253,0.65430752453652374,8307,0.61394005055976919,8358,0.61019382627423013,8409,0.55892496135092617,8456,0.5439924314096567,8502,0.5057633498000369,8545,0.4681100058513854,8585,0.44263249854397113,8623,0.41748811318567114,8659,0.38110636332140402,8692,0.356649792913033,8723,0.33245443081508785,8752]
[105,"Guatemala","Palencia",72175,0.60824385174922391,72614,0.58528658385434973,73039,0.53806870302166576,73432,0.51884736899443507,73813,0.49042851530218812,74175,0.46107178968655127,74517,0.43211616141283216,74839,0.40086051390317845,75139,0.36998096860485497,75417,0.33944601349829018,75673,0.30658226844448855,75905,0.27797905276332191,76116,0.24567764990277574,76303,0.21755370037874755,76469,0.19092704233087954,76615]
[106,"Guatemala","Chinautla",116768,0.99342285557686427,117928,0.97177939081474207,119074,0.92463510086164824,120175,0.90201789057624548,121259,0.87581127998745956,122321,0.84613435141962512,123356,0.8179577807321925,124365,0.78559080127045267,125342,0.75553286208931425,126289,0.72373682585180621,127203,0.69337987311619553,128085,0.66127961900299681,128932,0.63289175689511534,129748,0.60193606067144856,130529,0.57535107140942454,131280]
[107,"Guatemala","San Pedro Ayampuc",60608,1.7720432946145781,61682,1.7363250218864534,62753,1.6764138766274028,63805,1.6440717812083783,64854,1.603601936657717,65894,1.5661516981819279,66926,1.52407136240027,67946,1.4835310393547907,68954,1.4415407373031375,69948,1.4010407731457564,70928,1.3619445071058056,71894,1.3199988872506729,72843,1.282209683840585,73777,1.2442902259511834,74695,1.2102550371510867,75599]
[108,"Guatemala","Mixco",446877,2.2115705216424253,456760,2.1869252999386912,466749,2.139693925428876,476736,2.1166851255202124,486827,2.0880107307113205,496992,2.0579808125684051,507220,2.0277197271400871,517505,1.9947633356199423,527828,1.96295005191085,538189,1.9303627536051415,548578,1.8978158074148155,558989,1.8655107703371643,569417,1.8346835447484056,579864,1.8036987983389263,590323,1.7752992853065086,600803]
[109,"Guatemala","San Pedro Sacatepéquez",50756,1.6372448577508081,51587,1.6166863744741855,52421,1.571889128402737,53245,1.5513193727110464,54071,1.5276210907880339,54897,1.504635954605904,55723,1.4751538861870417,56545,1.4448669201520881,57362,1.4173145985146851,58175,1.3889127632144449,58983,1.3614092196056582,59786,1.3314153815274565,60582,1.3056683503350763,61373,1.2774347025565014,62157,1.2548868188619222,62937]
[110,"Guatemala","San Juan Sacatepéquez",261052,1.3411121155938233,264553,1.3176943750401682,268039,1.2718298456567911,271448,1.2499631605316752,274841,1.2221611768258756,278200,1.1933860531991414,281520,1.1643932935492929,284798,1.1327326736845,288024,1.1023386939977176,291199,1.0704020274795001,294316,1.0396988271109908,297376,1.0081512966749084,300374,0.97877978786446995,303314,0.94918137639541378,306193,0.92196751721953518,309016]
[111,"Guatemala","San Raymundo",37606,0.57171727915759085,37821,0.54731498373918885,38028,0.49963185021562051,38218,0.47883196399602923,38401,0.4531132001770688,38575,0.42514581983150723,38739,0.39236944681071417,38891,0.36512303617803887,39033,0.33048958573513865,39162,0.30386599254379476,39281,0.26985056388584283,39387,0.23865742503872411,39481,0.2102277044654377,39564,0.17692852087756172,39634,0.15390826058434559,39695]
[112,"Guatemala","Chuarrancho",16123,0.27910438503999657,16168,0.57521029193468021,16261,0.75641104483119559,16384,0.909423828125,16533,0.99195548297343894,16697,1.0480924717015005,16872,1.0964912280701844,17057,1.1021867854839718,17245,1.1075674108437239,17436,1.1011699931176899,17628,1.0891763104152519,17820,1.0718294051627275,18011,1.0493587252234704,18200,1.0329670329670249,18388,1.0060909288666542,18573]
[113,"Guatemala","Fraijanes",56956,2.2157454877449245,58218,1.8774262255659702,59311,1.6472492455025245,60288,1.5110801486199588,61199,1.4183238288207223,62067,1.3517650281147819,62906,1.2955838870696068,63721,1.2523343952543176,64519,1.2135959949782338,65302,1.1760742396863755,66070,1.142727410322375,66825,1.1103628881406591,67567,1.0789290630041304,68296,1.048377650228427,69012,1.021561467570864,69717]
[114,"Guatemala","Amatitlán",138168,1.4894910543685969,140226,1.4676308245261227,142284,1.4203986393410473,144305,1.3991199196146997,146324,1.3709302643448718,148330,1.3429515270006132,150322,1.3131810380383468,152296,1.281714555864899,154248,1.250583475960787,156177,1.2197698764862874,158082,1.1886236257132365,159961,1.1565319046517697,161811,1.1278590454295356,163636,1.0975579945733172,165432,1.0705304898689594,167203]
[115,"Guatemala","Villa Nueva",425783,1.8997940265346402,433872,1.8874230187705177,442061,1.8524592759822767,450250,1.8423098278734118,458545,1.8268654112464366,466922,1.8099382766286531,475373,1.7931182460930728,483897,1.7737245736179297,492480,1.755807342430149,501127,1.737084611286166,509832,1.7189976305920451,518596,1.7007458599757719,527416,1.6846284526825128,536301,1.6682795668850225,545248,1.6552101062268898,554273]
[116,"Guatemala","Villa Canales",160276,0.74496493548628084,161470,0.72211556326251536,162636,0.67635701812636118,163736,0.65410172472761818,164807,0.6261869944844678,165839,0.59817051477637495,166831,0.5682397156403729,167779,0.53701595551289838,168680,0.50628408821435933,169534,0.47424115516652154,170338,0.44382345689160108,171094,0.41205419243222074,171799,0.3824236462377506,172456,0.35313355290624848,173065,0.325889116805822,173629]
[117,"Guatemala","San Miguel Petapa",131101,2.6071502124316304,134519,2.3580312074874099,137691,2.1163329484134685,140605,1.9316525016891184,143321,1.7722455188004638,145861,1.6378607029980508,148250,1.5264755480607128,150513,1.4304412243460796,152666,1.3513159446111089,154729,1.2828881463720521,156714,1.2232474443891528,158631,1.1712716934268785,160489,1.125310768962362,162295,1.0832126682892351,164053,1.0472225439339677,165771]
[2,"Guatemala","El Progreso",185607,0.914836186135215,187305,0.8355356237153222,188870,0.78731402552019158,190357,0.72337765356671468,191734,0.69627713394597723,193069,0.68317544504814531,194388,0.66104903594872422,195673,0.63575454968238798,196917,0.61548774356707803,198129,0.59254324202917541,199303,0.5669759110500161,200433,0.54980966208160176,201535,0.51951273972263845,202582,0.49905717191063292,203593,0.48037015025075291,204571]
[201,"Guatemala","Guastatoya",25803,1.0347633996046879,26070,0.9474491752972769,26317,0.90055857430557662,26554,0.82850041425019949,26774,0.80301785314109697,26989,0.78550520582458816,27201,0.75732509834196549,27407,0.73338928011092985,27608,0.70631700956245158,27803,0.67978275725641968,27992,0.64661331809088285,28173,0.62826110105420607,28350,0.59259259259258901,28518,0.56806227645698204,28680,0.54393305439330852,28836]
[202,"Guatemala","Morazán",12442,0.32149172158817407,12482,0.28040378144527089,12517,0.26364144763122432,12550,0.23107569721114718,12579,0.23054296843947331,12608,0.24587563451776706,12639,0.26109660574411553,12672,0.24463383838384534,12703,0.25978115405809188,12736,0.25125628140703071,12768,0.25062656641603454,12800,0.24218750000000178,12831,0.23380874444705046,12861,0.22548790918279771,12890,0.21722265321955092,12918]
[203,"Guatemala","San Agustín Acasaguastlán",52014,1.0747106548236962,52573,0.99861145454891442,53098,0.95483822366191351,53605,0.90103535117993516,54088,0.87819849134742611,54563,0.8723860491541835,55039,0.85212304002615369,55508,0.83411400158535098,55971,0.81649425595398117,56428,0.79747643014107528,56878,0.77534371813354763,57319,0.76065528009909844,57755,0.73067266903299455,58177,0.71334032349554821,58592,0.69634079737848076,59000]
[204,"Guatemala","San Cristóbal Acasaguastlán",7692,0.57202288091524611,7736,0.54291623578075487,7778,0.53998457186936744,7820,0.49872122762149029,7859,0.50897060694745644,7899,0.50639321433092466,7939,0.50384179367679582,7979,0.4887830555207362,8018,0.46146171114991308,8055,0.45934202358783871,8092,0.4325259515570945,8127,0.43066322136089408,8162,0.40431266846361336,8195,0.37827943868211644,8226,0.36469730123998012,8256]
[205,"Guatemala","El Jícaro",13476,7.4205995844467409E-2,13486,4.4490582826628433E-2,13492,3.7058997924699355E-2,13497,1.4818107727632146E-2,13499,2.222386843468982E-2,13502,5.184417123389462E-2,13509,6.6622251832115786E-2,13518,6.6577896138486636E-2,13527,8.8711465956969882E-2,13539,8.8632838466651265E-2,13551,9.5933879418486079E-2,13564,8.8469478030073212E-2,13576,9.5757218621095319E-2,13589,8.8306718669506346E-2,13601,9.5581207264161527E-2,13614]
[206,"Guatemala","Sansare",13107,0.74769207293812201,13205,0.66641423703142078,13293,0.63191153238546516,13377,0.57561486132915451,13454,0.55745503196076296,13529,0.53958163944121118,13602,0.52933392148213354,13674,0.51192043293841749,13744,0.49476135040744662,13812,0.47784535186794486,13878,0.44675025219771403,13940,0.44476327116211856,14002,0.39994286530495859,14058,0.39834969412433363,14114,0.37551367436587935,14167]
[207,"Guatemala","Sanarate",40710,0.70498648980594769,40997,0.65126716589019029,41264,0.61554866227220284,41518,0.56120237005636842,41751,0.54130439989461543,41977,0.53839007075302536,42203,0.51892045589176927,42422,0.49974070057989817,42634,0.48318243655298687,42840,0.46451914098972757,43039,0.44146007109830965,43229,0.42795345716994948,43414,0.40309577555626142,43589,0.38083002592397275,43755,0.36567249457204465,43915]
[208,"Guatemala","San Antonio La Paz",20363,1.9299710258802838,20756,1.7103488148005441,21111,1.5394817867462551,21436,1.371524538160096,21730,1.2517257248044089,22002,1.1544405054086049,22256,1.0648813803019408,22493,0.97363624238651081,22712,0.89820359281436168,22916,0.82475126549135247,23105,0.76173988314218732,23281,0.70443709462650883,23445,0.63979526551503074,23595,0.59334604789149648,23735,0.54771434590268342,23865]
[301,"Sacatepéquez","Antigua Guatemala",55089,0.918513677866728,55595,1.1260005396168671,56221,1.2041763753757539,56898,1.237301838377447,57602,1.2777334120342987,58338,1.2907538825465359,59091,1.2844595623699107,59850,1.2664995822890601,60608,1.2407602956705288,61360,1.2125162972620673,62104,1.1834986474301257,62839,1.1457852607457131,63559,1.1139256438899237,64267,1.0814259262140746,64962,1.0452264400726552,65641]
[302,"Sacatepéquez","Jocotenango",21351,1.8593976862910422,21748,1.7426889828949799,22127,1.6134134767478603,22484,1.5121864436932864,22824,1.4721345951629772,23160,1.4335060449050196,23492,1.3962199897837646,23820,1.3602015113350019,24144,1.3212392312790033,24463,1.2917467195356247,24779,1.2470236894144282,25088,1.2157206632652962,25393,1.1774898594100636,25692,1.1443250817374961,25986,1.1082890787347033,26274]
[303,"Sacatepéquez","Pastores",17737,2.2890003946552495,18143,1.9621892741002123,18499,1.7190118384777575,18817,1.5517882765584412,19109,1.4652781411900184,19389,1.4028572902160974,19661,1.3580184120848271,19928,1.3147330389401857,20190,1.2630014858840966,20445,1.2276840303252712,20696,1.1934673366834181,20943,1.1507424915246034,21184,1.1234894259818828,21422,1.0783306880776777,21653,1.0483535768715635,21880]
[304,"Sacatepéquez","Sumpango",40889,2.272004695639418,41818,2.1474006408723545,42716,2.0179792115366579,43578,1.9206939281288804,44415,1.8777440054035699,45249,1.8409246613184882,46082,1.8011371034243329,46912,1.7650068212823999,47740,1.7260159195643165,48564,1.6926118112181809,49386,1.6563398533997464,50204,1.615409130746559,51015,1.5799274723120593,51821,1.5457054090040723,52622,1.5107749610429044,53417]
[305,"Sacatepéquez","Santo Domingo Xenacoj",12429,2.8079491511787014,12778,2.6921270934418429,13122,2.5529644871208568,13457,2.4522553317975815,13787,2.4225719881047381,14121,2.3652715813327729,14455,2.3382912487028618,14793,2.3051443250185821,15134,2.259812343068579,15476,2.2227965882656964,15820,2.1871049304677648,16166,2.1526660893232741,16514,2.1133583626014252,16863,2.0814801636719338,17214,2.0448472173812071,17566]
[306,"Sacatepéquez","Santiago Sacatepéquez",33338,2.0007198992141095,34005,1.8791354212615685,34644,1.749220644267413,35250,1.651063829787236,35832,1.6102924759991089,36409,1.573786701090385,36982,1.5331783029582047,37549,1.4967109643399201,38111,1.4588963816221101,38667,1.4249877156231383,39218,1.3896680095874414,39763,1.3479868219198776,40299,1.3176505620486889,40830,1.278471711976481,41352,1.2454053008318811,41867]
[307,"Sacatepéquez","San Bartolomé Milpas Altas",7751,2.4512966068894304,7941,2.1030096965117817,8108,1.8253576714356123,8256,1.6351744186046568,8391,1.525443928018122,8519,1.4438314356145066,8642,1.3885674612358345,8762,1.335311572700304,8879,1.2839283703119708,8993,1.245413099077064,9105,1.1971444261394737,9214,1.1612763186455322,9321,1.1157601115760141,9425,1.0822281167108816,9527,1.049648367796796,9627]
[308,"Sacatepéquez","San Lucas Sacatepéquez",26381,1.7398885561578314,26840,1.6169895678092461,27274,1.4922636943609291,27681,1.390845706441235,28066,1.3503883702700836,28445,1.3148180699595668,28819,1.2769353551476348,29187,1.2402782060506379,29549,1.1946258756641459,29902,1.1671460103003239,30251,1.1305411391358877,30593,1.0950217369986692,30928,1.0540610450077592,31254,1.0270685352274933,31575,0.98812351543942079,31887]
[309,"Sacatepéquez","Santa Lucía Milpas Altas",15182,3.0562508233434427,15646,2.6971749968042857,16068,2.358725416977836,16447,2.0976469872925119,16792,1.9294902334444863,17116,1.7878008880579666,17422,1.6645620479853074,17712,1.5639114724480541,17989,1.4675635110345198,18253,1.3970306251027242,18508,1.3237518910741208,18753,1.2531328320801949,18988,1.2060248578049215,19217,1.1448196908986796,19437,1.1009929515871875,19651]
[310,"Sacatepéquez","Magdalena Milpas Altas",12102,1.1568335812262465,12242,1.0210749877471059,12367,0.89754993126869298,12478,0.80141048244910529,12578,0.76323739863253248,12674,0.72589553416442243,12766,0.68149772834089628,12853,0.64576363494903699,12936,0.61842918985777207,13016,0.57621389059618888,13091,0.54235734474066266,13162,0.50144354961252358,13228,0.46870275173873654,13290,0.43641835966892195,13348,0.38957147138147796,13400]
[311,"Sacatepéquez","Santa María de Jesús",24780,1.5536723163841915,25165,1.4305583151202006,25525,1.3006856023506375,25857,1.2027690760722409,26168,1.1617242433506592,26472,1.1219401631912929,26769,1.0908140012701351,27061,1.0531761575699239,27346,1.0092883785562723,27622,0.97748171747158441,27892,0.93933744442851186,28154,0.90573275555871913,28409,0.86944278221690041,28656,0.83403126744834299,28895,0.80290707734902433,29127]
[312,"Sacatepéquez","Ciudad Vieja",35075,3.0620099786172528,36149,2.8714487261058297,37187,2.6729771156587034,38181,2.5117204892485701,39140,2.4092999489013778,40083,2.3127011451238744,41010,2.2189709826871518,41920,2.1350190839694694,42815,2.0436762816769871,43690,1.9638361181048225,44548,1.8856065367693242,45388,1.8022384771305244,46206,1.7292126563649646,47005,1.6572705031379531,47784,1.5863050393437161,48542]
[313,"Sacatepéquez","San Miguel Dueñas",13491,2.727744422207401,13859,2.5903744858936539,14218,2.4194682796455202,14562,2.3073753605274083,14898,2.2351993556182004,15231,2.173199395968739,15562,2.1205500578331815,15892,2.0513465894789862,16218,1.991614255765195,16541,1.9406323680551285,16862,1.8799667892302141,17179,1.8161709063391429,17491,1.7666228346006507,17800,1.7078651685393353,18104,1.6570923552805983,18404]
[314,"Sacatepéquez","San Juan Alotenango",25878,1.6577788082541067,26307,1.5319116584939341,26710,1.4077124672407404,27086,1.3032562947648207,27439,1.2682677940158094,27787,1.230791377262741,28129,1.1909417327313543,28464,1.1523327712197773,28792,1.1183662128368965,29114,1.0819536992512147,29429,1.0465867001936857,29737,1.0088442008272525,30037,0.97213436761327543,30329,0.93969468165782111,30614,0.90154831123014922,30890]
[315,"Sacatepéquez","San Antonio Aguas Calientes",11018,2.6774369214013438,11313,2.5545832228409893,11602,2.4219962075504142,11883,2.3310611798367464,12160,2.2861842105263097,12438,2.2350860266924011,12716,2.20981440704624,12997,2.1697314764945741,13279,2.13118457715189,13562,2.0940864179324503,13846,2.0583562039578229,14131,2.0168424032269483,14416,1.9908435072142128,14703,1.9519825885873532,14990,1.914609739826556,15277]
[316,"Sacatepéquez","Santa Catarina Barahona",4022,2.4117354549975101,4119,2.282107307598924,4213,2.1599810111559536,4304,2.0446096654274992,4392,2.0036429872495543,4480,1.9866071428571441,4569,1.9260231998249111,4657,1.9111015675327359,4746,1.8541930046354738,4834,1.8204385601986006,4922,1.7878911011783849,5010,1.7564870259481058,5098,1.7065515888583738,5185,1.6779170684667388,5272,1.6502276176024289,5359]
[401,"Chimaltenango","Chimaltenango",102730,1.9789740095395691,104763,1.9567977243874379,106813,1.9005177272429341,108843,1.8136214547559426,110817,1.7695840890838088,112778,1.7219670503112239,114720,1.6753835425383556,116642,1.6280585037979467,118541,1.5783568554339933,120412,1.5322393116965038,122257,1.485395519274979,124073,1.4386691705689403,125858,1.3944286418026586,127613,1.35252678018698,129339,1.3097364290739932,131033]
[402,"Chimaltenango","San José Poaquil",30322,1.8105665853175967,30871,1.771889475559596,31418,1.6996626137882664,31952,1.5961442163244799,32462,1.5433429856447578,32963,1.4895488881473185,33454,1.428827643928976,33932,1.3792290463279455,34400,1.3226744186046524,34855,1.2681107445129847,35297,1.2182338442360496,35727,1.1671844823242905,36144,1.120517928286846,36549,1.0697967112643259,36940,1.0314022739577711,37321]
[403,"Chimaltenango","San Martín Jilotepeque",84520,1.8587316611452964,86091,1.8190054709551484,87657,1.7488620418220968,89190,1.6470456329184868,90659,1.5927817425738233,92103,1.5352377229840508,93517,1.4799448228664414,94901,1.4256962518835348,96254,1.3682548257734739,97571,1.3180145740025129,98857,1.2664758186066827,100109,1.2146760031565673,101325,1.1665433012583382,102507,1.121874603685602,103657,1.0766277241286204,104773]
[404,"Chimaltenango","San Juan Comalapa",51449,2.6142393438162159,52794,2.5741561541084312,54153,2.5021697782209751,55508,2.4014556460330017,56841,2.3451381925018833,58174,2.2879636951215421,59505,2.2334257625409526,60834,2.1747706874445161,62157,2.1220457872805909,63476,2.0669229315016802,64788,2.0158053960610101,66094,1.9638696402094036,67392,1.9171415004748393,68684,1.8694310174130813,69968,1.8236908300937493,71244]
[405,"Chimaltenango","Santa Apolonia",21523,1.6075825860707216,21869,1.5638575152041811,22211,1.5037593984962516,22545,1.3927700155245137,22859,1.3430158799597525,23166,1.2863679530346284,23464,1.2231503579952285,23751,1.1788977306218751,24031,1.115226166201988,24299,1.0700028807769879,24559,1.0138849301681629,24808,0.96742986133504516,25048,0.9142446502714785,25277,0.87035645052815358,25497,0.82754833902027869,25708]
[406,"Chimaltenango","Tecpán Guatemala",98471,2.1579957550954099,100596,2.1193685633623671,102728,2.0471536484697461,104831,1.9459892589024141,106871,1.8920006362811215,108893,1.8348286850394357,110891,1.7792246440198056,112864,1.724199036007934,114810,1.6679731730685488,116725,1.6157635467980214,118611,1.5656220755241979,120468,1.5124348374672136,122290,1.4661869327009525,124083,1.4200172465204774,125845,1.3747069808097256,127575]
[407,"Chimaltenango","Patzún",63573,1.9426486086860706,64808,1.9009998765584513,66040,1.8322228952150299,67250,1.7308550185873628,68414,1.6750957406378886,69560,1.6173087981598666,70685,1.5632736789983781,71790,1.5085666527371533,72873,1.4532131242023905,73932,1.3985824811989289,74966,1.3499453085398683,75978,1.2977440838137344,76964,1.2499350345616111,77926,1.2049893488694341,78865,1.1602104862740159,79780]
[408,"Chimaltenango","San Miguel Pochuta",10439,0.96752562505986184,10540,1.0531309297912683,10651,1.0609332457046206,10764,1.0590858416945403,10878,1.0847582276153789,10996,1.0913059294288763,11116,1.1065131342209433,11239,1.1210961829344335,11365,1.1086669599648102,11491,1.1226177008093252,11620,1.1015490533562877,11748,1.0980592441266701,11877,1.0861328618337884,12006,1.0661335998667365,12134,1.0548870941156974,12262]
[409,"Chimaltenango","Patzicía",35017,2.6901219407716281,35959,2.5167551934147214,36864,2.346462673611116,37729,2.1680935089718689,38547,2.0494461306975964,39337,1.9498182372829742,40104,1.8551765409934085,40848,1.7699764982373578,41571,1.6982992951817266,42277,1.6249970433096061,42964,1.5617726468671433,43635,1.5010885756846504,44290,1.4427636035222458,44929,1.3955351777248604,45556,1.343401527789978,46168]
[410,"Chimaltenango","Santa Cruz Balanyá",9743,1.90906291696602,9929,1.8733004330748315,10115,1.8091942659416604,10298,1.689648475432115,10472,1.661573720397258,10646,1.5874506857035398,10815,1.5349052242256134,10981,1.4843821145615221,11144,1.4178033022254066,11302,1.3714386834188685,11457,1.3179715457798835,11608,1.274982770503108,11756,1.2249064307587654,11900,1.1764705882352899,12040,1.1378737541528183,12177]
[411,"Chimaltenango","Acatenango",25993,1.6542915400300062,26423,1.6160163493925683,26850,1.5456238361266195,27265,1.4487438107463779,27660,1.3846710050614552,28043,1.3336661555468421,28417,1.2774043706232252,28780,1.2230715774843581,29132,1.1705341205547226,29473,1.1128829776405613,29801,1.0670782859635519,30119,1.0093296590192313,30423,0.96966111165894819,30718,0.91477309720684463,30999,0.8774476596019154,31271]
[412,"Chimaltenango","San Pedro Yepocapa",36948,2.3790191620655987,37827,2.3422423136912895,38713,2.2679719990700731,39591,2.1671592028491338,40449,2.1137728992064009,41304,2.0554909936083776,42153,1.9998576613764252,42996,1.9443669178528245,43832,1.8867494068260715,44659,1.838375243511936,45480,1.783201407211954,46291,1.734678447214355,47094,1.6838663099333351,47887,1.6413640445214872,48673,1.5943130688472085,49449]
[413,"Chimaltenango","San Andrés Itzapa",32050,1.5975039001560054,32562,1.5877403107917187,33079,1.5568789866682753,33594,1.4853842948145513,34093,1.4607104097615453,34591,1.4338989910670508,35087,1.4022287456892935,35579,1.3715956041485233,36067,1.3391743144702817,36550,1.3077975376196926,37028,1.2774116884519904,37501,1.2399669342150865,37966,1.2116103882421125,38426,1.1814916983292623,38880,1.1496913580246959,39327]
[414,"Chimaltenango","Parramos",17334,2.7114341756086402,17804,2.6735565041563714,18280,2.5984682713347862,18755,2.4953345774460178,19223,2.4449877750611249,19693,2.3866348448687402,20163,2.326042751574664,20632,2.2780147343931745,21102,2.2177992607335772,21570,2.1650440426518314,22037,2.1146254027317735,22503,2.0663911478469466,22968,2.0114942528735691,23430,1.9675629534784411,23891,1.9212255661127609,24350]
[415,"Chimaltenango","Zaragoza",25209,2.7053829981355859,25891,2.6032211965547836,26565,2.4731789949181238,27222,2.3216516053192304,27854,2.2223020033029339,28473,2.1213079057352591,29077,2.0325343054647949,29668,1.944856410947815,30245,1.8581583732848461,30807,1.7788165027428748,31355,1.7062669430712774,31890,1.6306052053935316,32410,1.5705029311940732,32919,1.5067286369573774,33415,1.4454586263654035,33898]
[416,"Chimaltenango","El Tejar",19735,2.8882695718267071,20305,2.8515144053188779,20884,2.7820340930856169,21465,2.6787794083391603,22040,2.6225045372050726,22618,2.5643292952515662,23198,2.5088369687042089,23780,2.451640033641711,24363,2.3970775356072727,24947,2.344971339239188,25532,2.2912423625254474,26117,2.2437492820768012,26703,2.1907650825749858,27288,2.1437994722955045,27873,2.1023929968069455,28459]
[501,"Escuintla","Escuintla",154623,1.592259883717162,157085,1.4909125632619258,159427,1.4294943767366952,161706,1.3604937355447433,163906,1.3184386172562235,166067,1.2802061818422583,168193,1.2408364200650501,170280,1.2003758515386487,172324,1.1629256516793918,174328,1.1237437474186596,176287,1.0868640342169389,178203,1.0516096810940345,180077,1.0167872632262931,181908,0.98291444026650243,183696,0.95157216270360667,185444]
[502,"Escuintla","Santa Lucía Cotzumalguapa",113756,1.9691269031963055,115996,1.8147177488878841,118101,1.7180210159101206,120130,1.6232414883875723,122080,1.5620904325032825,123987,1.505803027736774,125854,1.4532712508144252,127683,1.4019094162887713,129473,1.3531778826473495,131225,1.3031053534006576,132935,1.2585097980215787,134608,1.2146380601450124,136243,1.1721703133372063,137840,1.1302959953569447,139398,1.0925551299157732,140921]
[503,"Escuintla","La Democracia",24075,1.3416407061266789,24398,1.2132141978850708,24694,1.1298291082854073,24973,1.0331157650262268,25231,0.96310094724743056,25474,0.89895579806862358,25703,0.83258763568454519,25917,0.7678357834626004,26116,0.70071986521671459,26299,0.64260998517053913,26468,0.57427837388543956,26620,0.51840721262208511,26758,0.45220121085283171,26879,0.39435990922280784,26985,0.33722438391698972,27076]
[504,"Escuintla","Siquinalá",24427,{"$f":"+(((F63/D63)^(1/1))-1)*100","v":0.75326482990134558},24611,{"$f":"+(((H63/F63)^(1/1))-1)*100","v":0.91422534638982977},24836,{"$f":"+(((J63/H63)^(1/1))-1)*100","v":1.0468674504751085},25096,{"$f":"+(((L63/J63)^(1/1))-1)*100","v":1.1197003506534964},25377,{"$f":"+(((N63/L63)^(1/1))-1)*100","v":1.1861134097805204},25678,{"$f":"+(((P63/N63)^(1/1))-1)*100","v":1.2267310538203846},25993,{"$f":"+(((R63/P63)^(1/1))-1)*100","v":1.2464894394644821},26317,{"$f":"+(((T63/R63)^(1/1))-1)*100","v":1.2463426682372658},26645,{"$f":"+(((V63/T63)^(1/1))-1)*100","v":1.2385062863576657},26975,{"$f":"+(((X63/V63)^(1/1))-1)*100","v":1.2159406858202049},27303,{"$f":"+(((Z63/X63)^(1/1))-1)*100","v":1.1940079844705798},27629,{"$f":"+(((AB63/Z63)^(1/1))-1)*100","v":1.1654421079300814},27951,{"$f":"+(((AD63/AB63)^(1/1))-1)*100","v":1.1377052699366841},28269,{"$f":"+(((AF63/AD63)^(1/1))-1)*100","v":1.1036824790406463},28581,{"$f":"+(((AH63/AF63)^(1/1))-1)*100","v":1.0706413351527333},28887]
[505,"Escuintla","Masagua",44275,1.5674760022586165,44969,1.4521114545575919,45622,1.3765288676515608,46250,1.2994594594594622,46851,1.2465048771637788,47435,1.1953199114577817,48002,1.1457855922669902,48552,1.0977920579996692,49085,1.0492003667108118,49600,1.0020161290322571,50097,0.95814120606023678,50577,0.91345868675485331,51039,0.87188228609493823,51484,0.82938388625592996,51911,0.79173970834698348,52322]
[506,"Escuintla","Tiquisate",60648,0.66778789077956979,61053,0.68628896204936396,61472,0.73366736074960137,61923,0.75900715404615404,62393,0.80297469267385235,62894,0.83950774318695132,63422,0.86563022295103043,63971,0.88477591408606671,64537,0.89715976881479254,65116,0.90300387001658322,65704,0.90557652502130104,66299,0.90348270712981016,66898,0.89838261233519123,67499,0.88890205780827181,68099,0.88107020661096769,68699]
[507,"Escuintla","La Gomera",60984,-23.619309982946348,46580,2.4109059682267064,47703,2.3352828962539096,48817,2.2574103283692137,49919,2.1995632925339015,51017,2.150263637610994,52114,2.1050005756610535,53211,2.0484486290428761,54301,2.001804754976888,55388,1.9552971762836657,56471,1.9071735935258793,57548,1.864530478904558,58621,1.8201668344108857,59688,1.7809274896126492,60751,1.7382429918848974,61807]
[508,"Escuintla","Guanagazapa",17061,8.7919817126791422E-2,17076,0.15226048254861624,17102,0.25727985030989942,17146,0.32660678875540139,17202,0.42436925938844627,17275,0.49782923299566129,17361,0.55872357583088839,17458,0.61289953030130295,17565,0.66040421292343776,17681,0.68435043266783513,17802,0.71902033479385175,17930,0.73619631901840066,18062,0.74742553427085134,18197,0.75836676375227174,18335,0.76356694845922668,18475]
[509,"Escuintla","San José",60845,1.911414249322041,62008,1.7981550767642851,63123,1.7236189661454571,64211,1.6445780318014025,65267,1.5888580752907222,66304,1.5413851351351315,67326,1.4927368327243506,68331,1.441512637016884,69316,1.3950603035374209,70283,1.3459869385199941,71229,1.3014362127784951,72156,1.2583846111203556,73064,1.2153728238256889,73952,1.175086542622239,74821,1.1360446933347479,75671]
[510,"Escuintla","Iztapa",17918,2.40540238865945,18349,2.1363562046978091,18741,1.9582733045194978,19108,1.7950596608750313,19451,1.6914297465425943,19780,1.5975733063700703,20096,1.5177149681528723,20401,1.4509092691534775,20697,1.3866743972556383,20984,1.3343499809378656,21264,1.2697516930022523,21534,1.2306120553543298,21799,1.1835405293820767,22057,1.1334270299678151,22307,1.0938270498049851,22551]
[511,"Escuintla","Palín",64408,1.951620916656327,65665,1.7817711109419099,66835,1.6907309044662311,67965,1.6008239535054702,69053,1.5480862525885986,70122,1.4973902626850277,71172,1.4486033833529977,72203,1.3974488594656664,73212,1.3508714418401402,74201,1.3018692470451843,75167,1.2585310042970921,76113,1.2139844704583957,77037,1.1708659475317074,77939,1.1303711877237221,78820,1.092362344582587,79681]
[512,"Escuintla","San Vicente Pacaya",16558,1.7755767604783257,16852,1.6615238547353472,17132,1.5759981321503691,17402,1.5113205378692207,17665,1.4435324087177959,17920,1.4062500000000089,18172,1.3482280431432958,18417,1.3031438345007418,18657,1.2542209358417766,18891,1.2122174580488032,19120,1.1610878661087787,19342,1.116740771378355,19558,1.0788424174250855,19769,1.036977085335633,19974,0.99629518373887116,20173]
[513,"Escuintla","Nueva Concepción",74647,1.6290004956662774,75863,1.514572321157881,77012,1.4426323170414923,78123,1.3606748332757324,79186,1.3095749248604571,80223,1.2589905638034082,81233,1.2100993438627139,82216,1.1603580811520908,83170,1.1133822291691686,84096,1.0642598934550884,84991,1.0201080114365046,85858,0.97719490321228619,86697,0.93428838368110334,87507,0.89250002856913202,88288,0.85515585357014423,89043]
[514,"Escuintla","Sipacate","…",{"$error":"#VALUE!"},15944,2.4084295032614111,16328,2.3395394414502668,16710,2.2501496110113761,17086,2.2064848413906102,17463,2.1473973544064551,17838,2.0966476062338923,18212,2.0535910388754575,18586,2.0068869041213855,18959,1.951579724669017,19329,1.9090485798541001,19698,1.8580566554980305,20064,1.8241626794258448,20430,1.7767988252569644,20793,1.7457798297503935,21156]
[601,"Santa Rosa","Cuilapa",43972,1.1439097607568449,44475,1.1332209106239555,44979,1.1494252873563315,45496,1.0989977140847484,45996,1.0718323332463697,46489,1.0432575447955506,46974,1.0090688465959952,47448,0.97369752149720767,47910,0.93926111458986217,48360,0.89950372208436047,48795,0.86074392868120686,49215,0.82495174235497348,49621,0.78998810987283008,50013,0.75780297122747253,50392,0.72233687886966713,50756]
[602,"Santa Rosa","Barberena",56507,1.4918505671863702,57350,1.3809938971229396,58142,1.3398231914966807,58921,1.2474330035131764,59656,1.2069196727906739,60376,1.164369948323829,61079,1.1214983873344408,61764,1.0831552360598407,62433,1.0459212275559349,63086,1.0049773325301992,63720,0.96516007532956305,64335,0.92950959819693146,64933,0.89630850261037676,65515,0.86087155613219224,66079,0.82628369073380892,66625]
[603,"Santa Rosa","Santa Rosa de Lima",19147,2.2927873818352706,19586,2.0780149086081945,19993,1.9456809883459103,20382,1.7760769306250701,20744,1.6583108368684929,21088,1.5506449165402225,21415,1.4522530936259548,21726,1.3716284635920006,22024,1.2804213585179802,22306,1.1969873576616052,22573,1.1296681876578285,22828,1.0601016295777033,23070,0.99696575639358631,23300,0.93991416309013864,23519,0.88439134316935508,23727]
[604,"Santa Rosa","Casillas",25055,0.50688485332268662,25182,0.56786593598601165,25325,0.66337611056268564,25493,0.69430824147804771,25670,0.73626801714063994,25859,0.77342511311342399,26059,0.7905138339920903,26265,0.79192842185418222,26473,0.79703849204850741,26684,0.78698845750262425,26894,0.76968840633597768,27101,0.75273975130067949,27305,0.73246658121224328,27505,0.71259770950735657,27701,0.68589581603553107,27891]
[605,"Santa Rosa","San Rafael Las Flores",12421,2.0127203928830273,12671,1.9098729382053481,12913,1.8663362502904013,13154,1.7789265622624395,13388,1.7328951299671269,13620,1.6886930983847304,13850,1.6462093862815941,14078,1.6124449495666937,14305,1.5728766165676422,14530,1.5278733654507937,14752,1.4913232104121432,14972,1.456051295752081,15190,1.4154048716260803,15405,1.382667964946438,15618,1.3510052503521663,15829]
[606,"Santa Rosa","Oratorio",24434,1.9399197839076621,24908,1.8267223382046005,25363,1.782123565824234,25815,1.6966879721092454,26253,1.6493353140593525,26686,1.6075845012366141,27115,1.5637101235478568,27539,1.5251098442209177,27959,1.4878929861583012,28375,1.4484581497797411,28786,1.4069339262141378,29191,1.3702853619266264,29591,1.3382447365753114,29987,1.3005635775502622,30377,1.2674062613161174,30762]
[607,"Santa Rosa","San Juan Tecuaco",11429,2.1261702686149242,11672,2.0133653187114353,11907,1.9820273788527798,12143,1.877624969118008,12371,1.8430199660496305,12599,1.7937931581871513,12825,1.7543859649122862,13050,1.7241379310344751,13275,1.6798493408662907,13498,1.6372795969773257,13719,1.5963262628471364,13938,1.564069450423311,14156,1.5187906188188771,14371,1.4960684712267858,14586,1.460304401480883,14799]
[608,"Santa Rosa","Chiquimulilla",58748,1.8570844964934885,59839,1.7413392603486066,60881,1.6983952300389182,61915,1.6118872647985061,62913,1.5640646607219422,63897,1.5243282157221705,64871,1.4814015507699896,65832,1.4415481832543486,66781,1.4045911262185351,67719,1.3629852773962892,68642,1.3213484455581126,69549,1.2868624998202627,70444,1.2520583726080226,71326,1.2155455233715529,72193,1.1815549984070417,73046]
[609,"Santa Rosa","Taxisco",32826,2.0898068604155329,33512,1.9783957985199274,34175,1.9341623994147739,34836,1.8429211160868153,35478,1.8011161846778201,36117,1.755406041476304,36751,1.7142390683246633,37381,1.6773227040475014,38008,1.6364975794569636,38630,1.5946155837432086,39246,1.5568465576109691,39857,1.5179265875504999,40462,1.4828728189412388,41062,1.451463640348738,41658,1.4114935906668569,42246]
[610,"Santa Rosa","Santa María Ixhuatán",25558,0.93121527506063728,25796,0.81795627229028778,26007,0.78055908024763365,26210,0.6867607783288765,26390,0.64418340280409936,26560,0.60617469879518104,26721,0.56135623666779821,26871,0.52472926202968839,27012,0.48496964312156887,27143,0.44210293630033703,27263,0.40714521512672519,27374,0.36896324979907025,27475,0.33848953594175502,27568,0.30107370864771443,27651,0.26762142417995349,27725]
[611,"Santa Rosa","Guazacapán",20338,1.656996754843143,20675,1.5429262394195842,20994,1.5004286939125366,21309,1.4125486883476368,21610,1.3697362332253604,21906,1.3284031772117233,22197,1.2839572915258834,22482,1.2454407970821091,22762,1.2081539407784891,23037,1.1676867647697264,23306,1.1284647730198216,23569,1.0946582375153779,23827,1.0534267847400081,24078,1.0216795414901503,24324,0.99079098832428603,24565]
[612,"Santa Rosa","Santa Cruz Naranjo",15980,2.071339173967468,16311,1.9679970572006544,16632,1.9179894179894186,16951,1.8288006607279916,17261,1.7843693876368638,17569,1.7417041379702791,17875,1.7006993006992932,18179,1.6612574949117054,18481,1.6286997456847585,18782,1.5866254924928214,19080,1.5408805031446482,19374,1.5071745638484568,19666,1.4695413403844171,19955,1.4382360310699172,20242,1.4030234166584332,20526]
[613,"Santa Rosa","Pueblo Nuevo Viñas",28385,0.7856262110269574,28608,0.67114093959732557,28800,0.63194444444445441,28982,0.54516596508178417,29140,0.49759780370624007,29285,0.4541574184736108,29418,0.41471208103882606,29540,0.37576167907922287,29651,0.33725675356648388,29751,0.29914960841652682,29840,0.25804289544235637,29917,0.22061035531637518,29983,0.19010772771237416,30040,0.15312916111851482,30086,0.11965698331450891,30122]
[614,"Santa Rosa","Nueva Santa Rosa",37182,1.108063041256524,37594,0.99749960100015134,37969,0.95340936026757639,38331,0.86613967806736802,38663,0.82249178801439005,38981,0.78243246709934766,39286,0.73817644962581586,39576,0.70244592682433549,39854,0.66241782506146762,40118,0.62066902637221144,40367,0.58463596502094095,40603,0.54675762874665246,40825,0.51194121249233948,41034,0.48008968172734701,41231,0.4438407993985205,41414]
[701,"Sololá","Sololá",94406,1.0253585577187918,95374,1.0222911904711918,96349,0.98392302981868962,97297,0.94350288292548434,98215,0.89497530927047375,99094,0.84767998062444949,99934,0.79852702783838048,100732,0.75348449350751689,101491,0.7064665832438255,102208,0.65943957420162569,102882,0.61429598958029352,103514,0.56997121162354336,104104,0.52831783601015037,104654,0.48636459189328463,105163,0.4469252493747744,105633]
[702,"Sololá","San José Chacayá",4644,2.1963824289405576,4746,2.0648967551622377,4844,1.9818331957060176,4940,1.9230769230769162,5035,1.8470705064548065,5128,1.7940717628705194,5220,1.7432950191570873,5311,1.713424967049515,5402,1.6475379489078179,5491,1.6026224731378713,5579,1.5773436099659532,5667,1.5175577907181825,5753,1.4774900052146656,5838,1.4559780746831175,5923,1.4013169002194736,6006]
[703,"Sololá","Santa María Visitación",2355,1.7409766454352438,2396,1.7529215358931483,2438,1.722723543888427,2480,1.6532258064516192,2521,1.5866719555731823,2561,1.6009371339320566,2602,1.4988470407378829,2641,1.4767133661491849,2680,1.4179104477611837,2718,1.3980868285504044,2756,1.3425253991291797,2793,1.2889366272824887,2829,1.2725344644750836,2865,1.221640488656206,2900,1.172413793103444,2934]
[704,"Sololá","Santa Lucía Utatlán",21011,0.67583646661273367,21153,0.67602704108165046,21296,0.6386175807663319,21432,0.59723777528928323,21560,0.55658627087198376,21680,0.50738007380073391,21790,0.46351537402478105,21891,0.41569594810653143,21982,0.37303248112092735,22064,0.32632342277012505,22136,0.28460426454643972,22199,0.23874949322042482,22252,0.20222901312241248,22297,0.15697178992688521,22332,0.12538061973850212,22360]
[705,"Sololá","Nahualá",81246,2.4456588632055798,83233,2.4437422656878871,85267,2.4065582229936489,87319,2.3683276262898012,89387,2.3191291798583702,91460,2.2753116116335015,93541,2.2257619653414107,95623,2.1825293078025165,97710,2.1348889571179974,99796,2.0912661830133406,101883,2.0464650628662318,103968,2.0025392428439481,106050,1.9622819424799598,108131,1.922667875077444,110210,1.8827692586879552,112285]
[706,"Sololá","Santa Catarina Ixtahuacán",54702,2.0310043508463993,55813,1.9816171859602605,56919,1.9290570811152596,58017,1.8856542048020453,59111,1.8355297660334058,60196,1.7908166655591806,61274,1.7429905016809633,62342,1.7002983542395267,63402,1.6545219393709898,64451,1.6089742595149836,65488,1.5666992426093262,66514,1.5229876416994914,67527,1.4838509040828063,68529,1.4431846371609103,69518,1.406829885784977,70496]
[707,"Sololá","Santa Clara La Laguna",9435,1.6110227874933658,9587,1.6063419213518282,9741,1.5706806282722585,9894,1.5160703456640334,10044,1.4834727200318643,10193,1.4421661924850282,10340,1.382978723404249,10483,1.3545740723075461,10625,1.2988235294117745,10763,1.2542971290532279,10898,1.2112314186089268,11030,1.1786038077969074,11160,1.1290322580645107,11286,1.0898458266879407,11409,1.0518012095714013,11529]
[708,"Sololá","Concepción",6744,0.37069988137603538,6769,0.84207416161914406,6826,1.1719894520949348,6906,1.3756154068925497,7001,1.4712183973718096,7104,1.5484234234234284,7214,1.580260604380368,7328,1.5829694323144183,7444,1.5851692638366499,7562,1.5604337476857966,7680,1.5364583333333348,7798,1.4875609130546197,7914,1.4657568865301895,8030,1.4445828144458384,8146,1.3994598575988171,8260]
[709,"Sololá","San Andrés Semetabaj",13451,1.7396476098431313,13685,1.74643770551699,13924,1.7020970985349049,14161,1.6665489725301796,14397,1.618392720705697,14630,1.5789473684210575,14861,1.5274880559854598,15088,1.4779957582184533,15311,1.436875449023578,15531,1.3972055888223478,15748,1.3462026924053738,15960,1.3157894736842035,16170,1.267779839208405,16375,1.2274809160305322,16576,1.1884652509652538,16773]
[710,"Sololá","Panajachel",14448,1.8895348837209225,14721,1.888458664492898,14999,1.853456897126482,15277,1.8131832166001116,15554,1.7744631606017691,15830,1.7119393556538132,16101,1.6769144773616462,16371,1.637041109278603,16639,1.5866338121281354,16903,1.5441045968171307,17164,1.5031461197855922,17422,1.4521868901389068,17675,1.4144271570014189,17925,1.3779637377963727,18172,1.3372220999339657,18415]
[711,"Sololá","Santa Catarina Palopó",4588,1.0897994768962471,4638,1.1211729193618014,4690,1.0660980810234477,4740,1.0337552742615941,4789,0.98141574441428236,4836,0.95119933829610481,4882,0.90126997132322639,4926,0.85261875761266648,4968,0.80515297906602612,5008,0.75878594249201292,5046,0.71343638525565023,5082,0.68870523415978102,5117,0.6253664256400171,5149,0.60205865216547139,5180,0.5791505791505891,5210]
[712,"Sololá","San Antonio Palopó",14934,0.96424266773804668,15078,0.95503382411461502,15222,0.91972145578766984,15362,0.88530139304778821,15498,0.83881791198865407,15628,0.79344765804965078,15752,0.74276282376841696,15869,0.69947696767282963,15980,0.65707133917396465,16085,0.60926328877837221,16183,0.56849780633998481,16275,0.52227342549924227,16360,0.48899755501221609,16440,0.44403892944038237,16513,0.40574093138738831,16580]
[713,"Sololá","San Lucas Tolimán",30177,0.94774165755375783,30463,0.94540918491283765,30751,0.91053949465058626,31031,0.87332022815893584,31302,0.82103379975719815,31559,0.7794923793529529,31805,0.73258921553214229,32038,0.68980585554654361,32259,0.63858148113704605,32465,0.59756661019558788,32659,0.55421170274656539,32840,0.51157125456759989,33008,0.46958313136209462,33163,0.43120344962759294,33306,0.39332252447006333,33437]
[714,"Sololá","Santa Cruz La Laguna",7371,1.2210012210012167,7461,1.2062726176115701,7551,1.1786518341941443,7640,1.1387434554973819,7727,1.1000388248997073,7812,1.0496671786994316,7894,0.98809222194071733,7972,0.9533366783743169,8048,0.91948310139164935,8122,0.86185668554543682,8192,0.830078125,8260,0.77481840193704965,8324,0.75684766938972636,8387,0.69154644092046524,8445,0.66311426879810398,8501]
[715,"Sololá","San Pablo La Laguna",7685,0.58555627846454961,7730,0.67270375161707641,7782,0.68105885376510411,7835,0.70197830248883708,7890,0.70975918884663702,7946,0.72992700729928028,8004,0.7371314342828672,8063,0.75654222993923881,8124,0.73855243722305008,8184,0.7575757575757569,8246,0.75187969924812581,8308,0.75830524795377219,8371,0.75259825588340767,8434,0.75883329381076781,8498,0.7531183807954811,8562]
[716,"Sololá","San Marcos La Laguna",2723,1.3955196474476628,2761,1.3400941687794266,2798,1.3581129378127166,2836,1.2693935119887145,2872,1.2883008356545878,2909,1.20316259883122,2944,1.1548913043478271,2978,1.1081262592343766,3011,1.0959814015277347,3044,1.018396846254932,3075,0.97560975609756184,3105,0.96618357487923134,3135,0.8612440191387627,3162,0.88551549652118311,3190,0.84639498432601545,3217]
[717,"Sololá","San Juan La Laguna",11700,2.3504273504273421,11975,2.3632567849686925,12258,2.3086963615597922,12541,2.2884937405310612,12828,2.2217025257249778,13113,2.1886677343094574,13400,2.1417910447761201,13687,2.0895740483670711,13973,2.0539612109067518,14260,2.0056100981767244,14546,1.9593015261927693,14831,1.9149079630503607,15115,1.8855441614290536,15400,1.8311688311688279,15682,1.7982400204055615,15964]
[718,"Sololá","San Pedro La Laguna",10424,2.1968534151957098,10653,2.1871773209424683,10886,2.167922101782116,11122,2.1129293292573292,11357,2.0780135599189897,11593,2.0270853101009179,11828,1.9783564423402122,12062,1.9399767866025597,12296,1.8867924528301883,12528,1.8438697318007735,12759,1.8026491104318421,12989,1.7630302563707678,13218,1.7173551218035987,13445,1.6809222759390119,13671,1.6458196181698526,13896]
[719,"Sololá","Santiago Atitlán",39702,2.1207999596997595,40544,2.1211523283346523,41404,2.0843396773258638,42267,2.046513828755292,43132,1.9985161828804499,43994,1.954812019820884,44854,1.9061845097427144,45709,1.8639655210133776,46561,1.8169712849809949,47407,1.7739996203092412,48248,1.7306416846294193,49083,1.6849010859157021,49910,1.6469645361651075,50732,1.6084522589292716,51548,1.5674710949018289,52356]
[801,"Totonicapán","Totonicapán",110020,1.2715869841847027,111419,1.331011766395318,112902,1.3728720483251022,114452,1.3333100339006698,115978,1.297659901015713,117483,1.2572031698203201,118960,1.2172158708809722,120408,1.1768321041791152,121825,1.1376975169300252,123211,1.094869776237517,124560,1.0549132947976769,125874,1.0176843510176781,127155,0.97911997168809162,128400,0.943146417445484,129611,0.90810193579249354,130788]
[802,"Totonicapán","San Cristóbal Totonicapán",39435,1.389628502599205,39983,1.4481154490658454,40562,1.4915438094768474,41167,1.4501906867150804,41764,1.412699932956607,42354,1.3764933654436318,42937,1.3368423504203752,43511,1.2939256739675109,44074,1.2524390797295393,44626,1.2145386097790478,45168,1.1733970952886974,45698,1.1357170992166044,46217,1.0991626457796944,46725,1.0615302300695628,47221,1.0270854069164059,47706]
[803,"Totonicapán","San Francisco El Alto",57465,2.3266336030627333,58802,2.3145471242474791,60163,2.2954307464720936,61544,2.2000519953204289,62898,2.108175140704005,64224,2.0194942700548113,65521,1.9337311701591808,66788,1.8536263999520797,68026,1.7743215829241654,69233,1.6971675357127403,70408,1.6248153618906969,71552,1.5597048300536764,72668,1.4930918698739415,73753,1.4331620408661427,74810,1.3754845608875854,75839]
[804,"Totonicapán","San Andrés Xecul",26927,1.6897537787351036,27382,1.7529764078591858,27862,1.7981480152178486,28363,1.7522829037830867,28860,1.7186417186417113,29356,1.6793841122768827,29849,1.6415960333679536,30339,1.595306371337224,30823,1.5605229860818248,31304,1.5173779708663515,31779,1.4758173636678418,32248,1.4419498883651682,32713,1.4000550239965825,33171,1.3626360375026403,33623,1.3294471046604972,34070]
[805,"Totonicapán","Momostenango",124019,1.9497012554527959,126437,2.006532897806812,128974,2.04925023648177,131617,2.0088590379662152,134261,1.9722778766730453,136909,1.930479369508209,139552,1.891051364365981,142191,1.848921521052671,144820,1.8084518712884856,147439,1.7647976451278247,150041,1.7248618710885788,152629,1.6864422881627927,155203,1.6475197000058062,157760,1.6100405679513097,160300,1.57392389270119,162823]
[806,"Totonicapán","Santa María Chiquimula",56425,0.68586619406292293,56812,0.74632119974653577,57236,0.78447131176182516,57685,0.74542775418220408,58115,0.70721844618428786,58526,0.66978778662474259,58918,0.62629417156048195,59287,0.58697522222410647,59635,0.54665884128448639,59961,0.50532846350128668,60264,0.46296296296295392,60543,0.42614340220998859,60801,0.38650680087497502,61036,0.35061275312930906,61250,0.31346938775509425,61442]
[807,"Totonicapán","Santa Lucía la Reforma",24370,0.8288879770209201,24572,0.88718867003092505,24790,0.93182734973780157,25021,0.8952479916869871,25245,0.85561497326203106,25461,0.81300813008129413,25668,0.7791803023219579,25868,0.73449822174114221,26058,0.69844193721697589,26240,0.65167682926829951,26411,0.61338078830790455,26573,0.57577240055695089,26726,0.53880116740252504,26870,0.50614067733532053,27006,0.46656298600311619,27132]
[808,"Totonicapán","San Bartolo Aguas Calientes",12100,0.1735537190082681,12121,0.35475620823364196,12164,0.50970075633014478,12226,0.57255030263372308,12296,0.63435263500324357,12374,0.68692419589462261,12459,0.72236937153864478,12549,0.75703243286318056,12644,0.77507118000632591,12742,0.80050227593784218,12844,0.80971659919029104,12948,0.82638245288848555,13055,0.82726924549980652,13163,0.82807870546228735,13272,0.83634719710670158,13383]
[901,"Quetzaltenango","Quetzaltenango",178463,2.0480435720569456,182118,2.0267079585763126,185809,1.9939830686349858,189514,1.9486686999377278,193207,1.8943413023337685,196867,1.840836707015403,200491,1.7876114139786736,204075,1.7371064559598137,207620,1.6848087852808113,211118,1.6351045386939989,214570,1.5873607680477297,217976,1.5405365728337062,221334,1.4968328408649478,224647,1.4529461777811337,227911,1.4110771309853387,231127]
[902,"Quetzaltenango","Salcajá",18653,2.6376454189674492,19145,2.4236092974667001,19609,2.2336682135754016,20047,2.0551703496782592,20459,1.9160271763038361,20851,1.7792911610953865,21222,1.6727923852605686,21577,1.5757519581035329,21917,1.4919925172240722,22244,1.4116166157166044,22558,1.3432041847681431,22861,1.2860329819343042,23155,1.2308356726409064,23440,1.1689419795221756,23714,1.1301340980011787,23982]
[903,"Quetzaltenango","San Juan Olintepeque",34844,2.2643783721731037,35633,1.9672775236438067,36334,1.799966973083067,36988,1.6951443711473946,37615,1.6057423900039947,38219,1.5411182919490285,38808,1.4816532673675553,39383,1.4244724881294024,39944,1.3744241938714152,40493,1.3212160126441663,41028,1.2771765623476705,41552,1.2273777435502398,42062,1.1839665256050624,42560,1.1442669172932352,43047,1.0987989871535708,43520]
[904,"Quetzaltenango","San Carlos Sija",31919,1.8452959052601914,32508,1.8241663590500723,33101,1.7945077188000313,33695,1.7480338329128875,34284,1.697584879243963,34866,1.6376986175643982,35437,1.5915568473629182,36001,1.5360684425432591,36554,1.4854735459867596,37097,1.4394694988813184,37631,1.3871542079668453,38153,1.3445862710665057,38666,1.300884498008581,39169,1.2535423421583314,39660,1.2153303076147148,40142]
[905,"Quetzaltenango","Sibilia",7984,1.9539078156312728,8140,1.9410319410319454,8298,1.8920221740178267,8455,1.8568894145476023,8612,1.7882025081281894,8766,1.7567875884097583,8920,1.692825112107621,9071,1.642597288060843,9220,1.5943600867678986,9367,1.5373118394363283,9511,1.5035222374093049,9654,1.4501760928112617,9794,1.3988156013886144,9931,1.3593797200684765,10066,1.3212795549374157,10199]
[906,"Quetzaltenango","Cabricán",25156,1.7172841469232036,25588,1.700015632327645,26023,1.6639126926180747,26456,1.6215603265799849,26885,1.569648502882659,27307,1.5124327095616508,27720,1.4574314574314684,28124,1.4151614279618752,28522,1.3603534114017268,28910,1.3075060532687699,29288,1.259901666211416,29657,1.2172505647907839,30018,1.172629755480048,30370,1.1326967402041532,30714,1.0874519762974488,31048]
[907,"Quetzaltenango","Cajolá",17791,1.2140970153448283,18007,1.221747098350634,18227,1.2344324353980252,18452,1.2085410795577678,18675,1.1834002677376221,18896,1.1642675698560589,19116,1.1351747227453357,19333,1.1069156364764909,19547,1.074333657338733,19757,1.0477299185098987,19964,1.0218393107593648,20168,0.98671162237207177,20367,0.96725094515637267,20564,0.9336704921221628,20756,0.91058007323183698,20945]
[908,"Quetzaltenango","San Miguel Siguilá",8912,1.570915619389579,9052,1.5576668139637651,9193,1.5228978570651641,9333,1.478624236579873,9471,1.4359624115721781,9607,1.3739981263661827,9739,1.3348393058835617,9869,1.2767250987941958,9995,1.2406203101550828,10119,1.1858879335902683,10239,1.1426897157925664,10356,1.1104673619158012,10471,1.0505204851494643,10581,1.0206974766090227,10689,0.98231827111985304,10794]
[909,"Quetzaltenango","San Juan Ostuncalco",59311,{"$f":"+(((F123/D123)^(1/1))-1)*100","v":0.38778641398728997},59541,{"$f":"+(((H123/F123)^(1/1))-1)*100","v":0.45682806805393827},59813,{"$f":"+(((J123/H123)^(1/1))-1)*100","v":0.50992259207864876},60118,{"$f":"+(((L123/J123)^(1/1))-1)*100","v":0.54725706111313777},60447,{"$f":"+(((N123/L123)^(1/1))-1)*100","v":0.56909358611676453},60791,{"$f":"+(((P123/N123)^(1/1))-1)*100","v":0.58725798226710868},61148,{"$f":"+(((R123/P123)^(1/1))-1)*100","v":0.60345391509124546},61517,{"$f":"+(((T123/R123)^(1/1))-1)*100","v":0.6160898613391419},61896,{"$f":"+(((V123/T123)^(1/1))-1)*100","v":0.62362672870621694},62282,{"$f":"+(((X123/V123)^(1/1))-1)*100","v":0.62939533091423971},62674,{"$f":"+(((Z123/X123)^(1/1))-1)*100","v":0.63343651274849755},63071,{"$f":"+(((AB123/Z123)^(1/1))-1)*100","v":0.63579140968115233},63472,{"$f":"+(((AD123/AB123)^(1/1))-1)*100","v":0.63807663221577826},63877,{"$f":"+(((AF123/AD123)^(1/1))-1)*100","v":0.63403102838266445},64282,{"$f":"+(((AH123/AF123)^(1/1))-1)*100","v":0.63314769297782014},64689]
[910,"Quetzaltenango","San Mateo",7682,3.1892736266597277,7927,2.6996341617257391,8141,2.309298611964139,8329,2.0530675951494715,8500,1.8588235294117572,8658,1.7094017094017033,8806,1.5898251192368873,8946,1.5090543259557387,9081,1.4095363946701855,9209,1.3573677923770289,9334,1.3070494964645407,9456,1.2373096446700593,9573,1.1908492635537504,9687,1.1458655930628669,9798,1.102265768524191,9906]
[911,"Quetzaltenango","Concepción Chiquirichapa",18499,1.8865884642413011,18848,1.8622665534804739,19199,1.8334288244179486,19551,1.7850749322285253,19900,1.7336683417085386,20245,1.6794270190170435,20585,1.6273985912071964,20920,1.5726577437858547,21249,1.5247776365946653,21573,1.4740648032262493,21891,1.4252432506509427,22203,1.3826960320677317,22510,1.3371834740115496,22811,1.2932357196089539,23106,1.2550852592400297,23396]
[912,"Quetzaltenango","San Martín Sacatepéquez",30040,1.8175765645805697,30586,1.7982083306087748,31136,1.7664439876670102,31686,1.7231584927097199,32232,1.6722511789525996,32771,1.6233865307741624,33303,1.5704290904723361,33826,1.5224974871400621,34341,1.4734573833027564,34847,1.4291043705340511,35345,1.3778469373320057,35832,1.3367939272159068,36311,1.2971275921896952,36782,1.256049154477723,37244,1.2136183009343826,37696]
[913,"Quetzaltenango","Almolonga",15087,2.0878902366275653,15402,2.0711595896636847,15721,2.0418548438394524,16042,1.9947637451689371,16362,1.9374159638186006,16679,1.8826068709155264,16993,1.8360501382922445,17305,1.7798324183761816,17613,1.7316754669846057,17918,1.6798749860475581,18219,1.6356550853504626,18517,1.5877301938759025,18811,1.5416511615544026,19101,1.4973038060834609,19387,1.459741063599318,19670]
[914,"Quetzaltenango","Cantel",39421,3.3357854950407217,40736,3.0268067556951994,41969,2.7567966832662272,43126,2.5182024764643041,44212,2.3002804668415866,45229,2.1158990912909958,46186,1.9508076040358535,47087,1.8136640686388983,47941,1.6895767714482313,48751,1.5794547804147685,49521,1.4842188162597747,50256,1.3988379496975512,50959,1.3245942816774159,51634,1.2530503156834571,52281,1.1916374973699906,52904]
[915,"Quetzaltenango","Huitán",13952,0.50172018348624281,14022,0.69890172585935773,14120,0.84277620396600028,14239,0.94810028794156676,14374,1.0296368443022175,14522,1.0673460955791247,14677,1.10376779995911,14839,1.1254127636633138,15006,1.1262161801945947,15175,1.1202635914332681,15345,1.1143695014662836,15516,1.0956432070121203,15686,1.0710187428280005,15854,1.0596694840418808,16022,1.0298339782798704,16187]
[916,"Quetzaltenango","Zunil",13954,2.4795757488892178,14300,2.1678321678321621,14610,1.9507186858316317,14895,1.7858341725411231,15161,1.6687553591451687,15414,1.5764889061891774,15657,1.5073130229290355,15893,1.4345938463474539,16121,1.3832888778611663,16344,1.3215859030837107,16560,1.2801932367149771,16772,1.2282375387550726,16978,1.1897750029449927,17180,1.1408614668218853,17376,1.0992173112338799,17567]
[917,"Quetzaltenango","Colomba Costa Cuca",53017,0.59226285908293708,53331,0.7537829780052796,53733,0.88027841363780279,54206,0.96668265505663875,54730,1.0232048236798796,55290,1.0634834508952862,55878,1.0898743691613921,56487,1.1046789526793832,57111,1.1066169389434499,57743,1.1031640198811976,58380,1.0928400137033334,59018,1.0776373309837606,59654,1.0611191202601677,60287,1.0383664803357284,60913,1.0145617520069594,61531]
[918,"Quetzaltenango","San Francisco La Unión",8509,2.1154072158890536,8689,2.0255495454022387,8865,1.9176536943034339,9035,1.8372993912562308,9201,1.7389414194109332,9361,1.6558060036320876,9516,1.5762925598991062,9666,1.5104489964825163,9812,1.4370158988993076,9953,1.3764694062091909,10090,1.3082259663032669,10222,1.271766777538641,10352,1.2074961360123648,10477,1.1549107568960659,10598,1.1228533685601061,10717]
[919,"Quetzaltenango","El Palmar",29115,1.2433453546282003,29477,1.2620008820436235,29849,1.2596736909109119,30225,1.2406947890818865,30600,1.2189542483660221,30973,1.1913602169631554,31342,1.161380894646169,31706,1.1322778023087121,32065,1.1040074847965098,32419,1.0734445849656105,32767,1.0467848750266961,33110,1.0147991543340451,33446,0.98666507205644738,33776,0.95926101373755568,34100,0.92961876832844403,34417]
[920,"Quetzaltenango","Coatepeque",110644,1.0276201149633124,111781,1.1719344074574423,113091,1.2653526805846527,114522,1.3159043677197335,116029,1.335872928319648,117579,1.3378239311441664,119152,1.3302336511346935,120737,1.3119424865617013,122321,1.285960709935341,123894,1.2559123121377969,125450,1.2235950577919485,126985,1.1891168248218342,128495,1.1556869917117352,129980,1.1178642868133526,131433,1.0826809096649903,132856]
[921,"Quetzaltenango","Génova",42336,1.2896825396825351,42882,1.3105732008768189,43444,1.3143356965288566,44015,1.3063728274451902,44590,1.282798833819232,45162,1.2599087728621505,45731,1.231112374538057,46294,1.205339784853332,46852,1.1760437121147493,47403,1.1433875493112255,47945,1.115861925122541,48480,1.0849834983498452,49006,1.0529322940048047,49522,1.0258067121683201,50030,0.99340395762541611,50527]
[922,"Quetzaltenango","Flores Costa Cuca",21312,2.317942942942941,21806,2.3067045767219962,22309,2.2905553812362811,22820,2.2567922874671353,23335,2.2112706235268842,23851,2.1718166953167639,24369,2.1297550166194723,24888,2.0893603342976519,25408,2.0505352644836217,25929,2.0170465501947676,26452,1.9809466202933557,26976,1.9461743772241968,27501,1.9162939529471679,28028,1.8838304552590168,28556,1.8595041322314154,29087]
[923,"Quetzaltenango","La Esperanza",21878,2.5962153761769802,22446,2.1919272921678612,22938,1.9487313628040903,23385,1.7831943553559881,23802,1.6679270649525346,24199,1.5703128228439223,24579,1.5012815818381542,24948,1.4389931056597804,25307,1.3830165566839137,25657,1.3251744163386148,25997,1.2770704312035974,26329,1.2267841543545099,26652,1.1894041722947613,26969,1.138344024620852,27276,1.1035342425575578,27577]
[924,"Quetzaltenango","Palestina de Los Altos",19606,0.35703356115475149,19676,0.57938605407603649,19790,0.74279939363315339,19937,0.86271756031499613,20109,0.94485056442388249,20299,1.0099019656140795,20504,1.0485758876316753,20719,1.0763067715623409,20942,1.083946136949665,21169,1.0912182908970669,21400,1.0841121495327011,21632,1.0771079881656709,21865,1.0564829636405149,22096,1.040912382331638,22326,1.0122726865537945,22552]
[1001,"Suchitepéquez","Mazatenango",82645,5.0819771311028106E-2,82687,0.1221473750408153,82788,0.21863071942793688,82969,0.29167520399184799,83211,0.34730985086106614,83500,0.3928143712574883,83828,0.42706494250130955,84186,0.45494500273204341,84569,0.47535148813395711,84971,0.48840192536276916,85386,0.49773967629354043,85811,0.50110125741456013,86241,0.50324091789288872,86675,0.50187481972887582,87110,0.49822064056939119,87544]
[1002,"Suchitepéquez","Cuyotenango",34558,1.6117830892991458,35115,1.5491955004983682,35659,1.519952887069187,36201,1.4833844368939975,36738,1.4372039849746887,37266,1.392690388021256,37785,1.3470954082307696,38294,1.2978534496265626,38791,1.2606016859580738,39280,1.2118126272912422,39756,1.1671194285139297,40220,1.1312779711586174,40675,1.0915795943454265,41119,1.0506092074223705,41551,1.0204327212341546,41975]
[1003,"Suchitepéquez","San Francisco Zapotitlán",21855,2.2191718142301475,22340,2.1530886302596253,22821,2.1252355286797142,23306,2.0852999227666702,23792,2.0427034297242797,24278,1.9976933849575662,24763,1.9464523684529444,25245,1.9053277876807329,25726,1.8580424473295443,26204,1.8127003510914452,26679,1.7729300198658038,27152,1.7309958750736598,27622,1.6870610383028062,28088,1.6519510111079549,28552,1.6181003082095913,29014]
[1004,"Suchitepéquez","San Bernardino",15289,2.0079795931715605,15596,1.9428058476532506,15899,1.9183596452607032,16204,1.876079980251788,16508,1.8294160407075433,16810,1.7846519928613969,17110,1.7416715371127989,17408,1.6888786764705843,17702,1.6551802056264719,17995,1.6060016671297639,18284,1.5642091446073092,18570,1.5185783521809437,18852,1.485253553999577,19132,1.4478360861384099,19409,1.4117162141274564,19683]
[1005,"Suchitepéquez","San José el Ídolo",11056,1.5104920405209832,11223,1.4523745878998406,11386,1.4140172141225982,11547,1.3856412921104955,11707,1.341077987528827,11864,1.2896156439649253,12017,1.2399101273196322,12166,1.216505013973368,12314,1.1450381679389388,12455,1.1160176635889307,12594,1.0719390185802702,12729,1.0370021211407066,12861,0.98748153331777999,12988,0.95472744071449789,13112,0.91519219035998134,13232]
[1006,"Suchitepéquez","Santo Domingo Suchitepéquez",44724,1.5852785976209649,45433,1.5209209165144344,46124,1.4959673922469774,46814,1.4568291536719791,47496,1.4106451069563652,48166,1.3681850267823759,48825,1.3210445468510024,49470,1.271477663230236,50099,1.2335575560390444,50717,1.1869787250823105,51319,1.1457744694947314,51907,1.1019708324503386,52479,1.0651879799538966,53038,1.0275651419736853,53583,0.99285221058917905,54115]
[1007,"Suchitepéquez","San Lorenzo",13115,1.1208539839878018,13262,1.0556477152767307,13402,1.0371586330398364,13541,0.98958717967654319,13675,0.94332723948811203,13804,0.91277890466532341,13930,0.84709260588657909,14048,0.81862186788155267,14163,0.76961095813032898,14272,0.72169282511209687,14375,0.68173913043478862,14473,0.64948524839356647,14567,0.59724033774970486,14654,0.56639825303670399,14737,0.53606568501052276,14816]
[1008,"Suchitepéquez","Samayac",24259,2.1682674471330321,24785,1.8236836796449385,25237,1.5968617506042726,25640,1.43525741029642,26008,1.3111350353737228,26349,1.20308171088086,26666,1.1287782194554952,26967,1.0568472577594745,27252,1.0017613386173574,27525,0.94096276112625166,27784,0.89619925136770195,28033,0.84899939357185872,28271,0.81001733224859152,28500,0.77192982456140147,28720,0.73467966573816934,28931]
[1009,"Suchitepéquez","San Pablo Jocopilas",19787,2.2742204477687267,20237,2.2038839748974581,20683,2.1805347386742779,21134,2.1387337938866269,21586,2.0939497822662911,22038,2.0510028133224445,22490,1.9964428634948961,22939,1.9573651859279062,23388,1.9112365315546498,23835,1.8670023075309405,24280,1.8245469522240487,24723,1.7797192897302194,25163,1.7446250447084921,25602,1.7029919537536076,26038,1.6667946846915971,26472]
[1010,"Suchitepéquez","San Antonio Suchitepéquez",58859,1.9113474574831368,59984,1.8488263536943217,61093,1.81853894881574,62204,1.7828435470387705,63313,1.7342409931609515,64411,1.6922575336510759,65501,1.6427230118624125,66577,1.5981495110924282,67641,1.5537913395721636,68692,1.509637221219351,69729,1.4656742531801603,70751,1.4247148450198477,71759,1.3851921013392055,72753,1.3470234904402467,73733,1.3142012396077707,74702]
[1011,"Suchitepéquez","San Miguel Panán",11139,2.0199299757608369,11364,1.9535374868004274,11586,1.9333678577593716,11810,1.888230313293815,12033,1.8449264522562903,12255,1.7951856385148846,12475,1.7555110220440984,12694,1.7015913029777785,12910,1.6653756777691653,13125,1.6152380952380918,13337,1.5745669940766316,13547,1.5353952904702206,13755,1.4976372228280521,13961,1.4612133801303662,14165,1.4189904694669853,14366]
[1012,"Suchitepéquez","San Gabriel",7080,2.8389830508474656,7281,2.5271253948633499,7465,2.2906898861352998,7636,2.0953378732320616,7796,1.8984094407388463,7944,1.7371601208459264,8082,1.5961395694135128,8211,1.4614541468761511,8331,1.3323730644580589,8442,1.2319355602937732,8546,1.1467353147671444,8644,1.0643220731143099,8736,0.97298534798535563,8821,0.91826323546082556,8902,0.85374073241968329,8978]
[1013,"Suchitepéquez","Chicacao",66745,0.28616375758483414,66936,0.31522648500059702,67147,0.37529599237493549,67399,0.41692013234617686,67680,0.44178486997636934,67979,0.46632048132511095,68296,0.47733395806488499,68622,0.48963889131765637,68958,0.49595405899243161,69300,0.49783549783550818,69645,0.49680522650585868,69991,0.49292051835236883,70336,0.48908098271156497,70680,0.48245614035087314,71021,0.47732360851016065,71360]
[1014,"Suchitepéquez","Patulul",40676,0.72032648244664266,40969,0.69564792892187199,41254,0.70053812963590811,41543,0.69085044411814067,41830,0.6813291895768625,42115,0.66247180339547018,42394,0.64395905080907312,42667,0.62577636112217672,42934,0.60558065868543398,43194,0.58341436310598294,43446,0.56391842747318677,43691,0.5424458126387588,43928,0.52130759424513506,44157,0.50501619222320659,44380,0.48219918882379531,44594]
[1015,"Suchitepéquez","Santa Bárbara",26634,0.77344747315462037,26840,0.70789865871832003,27030,0.68442471328153953,27215,0.64670218629432341,27391,0.5987368113614,27555,0.55525313010342803,27708,0.50887830229535691,27849,0.46321232360229114,27978,0.42175995424977852,28096,0.37727790432802166,28202,0.33330969434792745,28296,0.29332767882386257,28379,0.25723246062228089,28452,0.2179108674258412,28514,0.18587360594795044,28567]
[1016,"Suchitepéquez","San Juan Bautista",8205,2.8762949421084594,8441,2.594479327093957,8660,2.3556581986143188,8864,2.1773465703971207,9057,1.9763718670641417,9236,1.8189692507579069,9404,1.6588685665674285,9560,1.5167364016736462,9705,1.4116434827408542,9842,1.3005486689697143,9970,1.1935807422266853,10089,1.1101199325998623,10201,1.0293108518772742,10306,0.96060547254026574,10405,0.89380105718404046,10498]
[1017,"Suchitepéquez","Santo Tomas La Unión",11372,2.1016531832571239,11611,2.0411678580656289,11848,2.017218095881157,12087,1.9690576652601877,12325,1.9310344827586201,12563,1.8864920799172236,12800,1.8359374999999956,13035,1.7951668584579972,13269,1.748436204687609,13501,1.7035775127768327,13731,1.6604762945160667,13959,1.6190271509420429,14185,1.5791328868523191,14409,1.5407037268373891,14631,1.5104914223224686,14852]
[1018,"Suchitepéquez","Zunilito",7809,2.4843129722115442,8003,2.3366237660877198,8190,2.2222222222222143,8372,2.1261347348303872,8550,2.0116959064327533,8722,1.9032332033937172,8888,1.8001800180017957,9048,1.7020335985853174,9202,1.5974788089545777,9349,1.5081826933361908,9490,1.4330874604847166,9626,1.3505090380220297,9756,1.2710127101271063,9880,1.1842105263157876,9997,1.1303391017305264,10110]
[1019,"Suchitepéquez","Pueblo Nuevo",11261,1.3586715211792999,11414,1.2791308918871591,11560,1.2370242214532867,11703,1.1962744595402919,11843,1.148357679641987,11979,1.1019283746556363,12111,1.0568904301874404,12239,1.0131546694991389,12363,0.97063819461296053,12483,0.92926379876632215,12599,0.88102230335740384,12710,0.84185680566482013,12817,0.79581805414683515,12919,0.77405371932812717,13019,0.72970274214609887,13114]
[1020,"Suchitepéquez","Río Bravo",28019,1.9807987437096219,28574,1.9108280254777066,29120,1.8887362637362681,29670,1.8469834850016742,30218,1.8002515057250701,30762,1.7586632858721751,31303,1.7091013640865071,31838,1.6646774294867717,32368,1.6219723183390933,32893,1.5748031496062964,33411,1.532429439406191,33923,1.4916133596674763,34429,1.4551686078596582,34930,1.4142570855997683,35424,1.3804200542005374,35913]
[1021,"Suchitepéquez","San José La Máquina",23836,1.6110085584829736,24220,1.5483071841453366,24595,1.5206342752591917,24969,1.4858424446313467,25340,1.4325177584846083,25703,1.3967241178072687,26062,1.3429514235285156,26412,1.3024382856277494,26756,1.2557930931379913,27092,1.2143806289679704,27421,1.1706356442142907,27742,1.1282531901088522,28055,1.0907146676171875,28361,1.0542646592151206,28660,1.0153524075366294,28951]
[1101,"Retalhuleu","Retalhuleu",100309,1.6648555962077261,101979,1.6120966081252019,103623,1.5614294123891481,105241,1.51936982734866,106840,1.4648071883189839,108405,1.411374014113731,109935,1.3608041115204417,111431,1.3129201030233961,112894,1.2631317873403436,114320,1.2158852344296811,115710,1.1710310258404633,117065,1.127578695596454,118385,1.0845968661570282,119669,1.0437122395942078,120918,1.0097752195702858,122139]
[1102,"Retalhuleu","San Sebastián",28865,1.1675038974536589,29202,1.1232107389904877,29530,1.066711818489674,29845,1.0252973697436829,30151,0.97177539716759576,30444,0.91972145578766984,30724,0.8690274703814671,30991,0.81636604175405747,31244,0.77454871335296271,31486,0.72095534523279881,31713,0.67795541260682324,31928,0.63580556251565667,32131,0.59132924589959668,32321,0.55381949815909159,32500,0.51692307692308148,32668]
[1103,"Retalhuleu","Santa Cruz Muluá",14297,2.1752815275932091,14608,2.108433734939763,14916,2.0648967551622377,15224,2.0099842354177611,15530,1.9639407598196934,15835,1.9134827912851371,16138,1.8589664146734464,16438,1.8189560773816726,16737,1.7565872020075313,17031,1.7145205801186059,17323,1.6683022571148287,17612,1.6238928003633912,17898,1.5811822550005683,18181,1.5345690556074931,18460,1.5059588299024984,18738]
[1104,"Retalhuleu","San Martín Zapotitlán",11767,2.2265658196651605,12029,2.0034915620583682,12270,1.8255908720456349,12494,1.6968144709460509,12706,1.5661892019518397,12905,1.4645486245641326,13094,1.3823125095463462,13275,1.3032015065913338,13448,1.2343842950624628,13614,1.1826061407374855,13775,1.1179673321234151,13929,1.0697106755689578,14078,1.0228725671260097,14222,0.9843903810996979,14362,0.93998050410806222,14497]
[1105,"Retalhuleu","San Felipe",23884,1.9552838720482413,24351,1.9095725021559762,24816,1.857672469374605,25277,1.8158800490564619,25736,1.7679515076157948,26191,1.7143293497766443,26640,1.6629129129129172,27083,1.6135583207177895,27520,1.5734011627906996,27953,1.5204092583980255,28378,1.4800197335964382,28798,1.4410722966872624,29213,1.3966384828672185,29621,1.3571452685594787,30023,1.3256503347433668,30421]
[1106,"Retalhuleu","San Andrés Villa Seca",50341,1.9367910848016479,51316,1.8844025255281061,52283,1.8323355584032974,53241,1.7899738923010444,54194,1.7326641325607905,55133,1.6813886420111279,56060,1.6303960042811205,56974,1.5831782918524162,57876,1.5325869099453993,58763,1.4839269608426964,59635,1.4404292781085015,60494,1.3951796872416988,61338,1.3515276011607735,62167,1.3109849276947472,62982,1.2765552062494079,63786]
[1107,"Retalhuleu","Champerico",35040,1.7380136986301364,35649,1.6858817919156222,36250,1.6331034482758522,36842,1.5932902665436233,37429,1.5415854016938679,38006,1.4839762142819568,38570,1.436349494425726,39124,1.3853389224005808,39666,1.3361569102001702,40196,1.2911732510697549,40715,1.242785214294484,41221,1.2008442298828248,41716,1.1602262920701989,42200,1.1161137440758306,42671,1.0850460500105408,43134]
[1108,"Retalhuleu","Nuevo San Carlos",39942,0.59586400280406959,40180,0.72175211548033413,40470,0.81788979490982072,40801,0.89458591701183643,41166,0.93766700675315118,41552,0.97227570273392683,41956,0.98436457240917985,42369,0.99601123462909058,42791,0.9885256245472096,43214,0.97884944693849008,43637,0.9647775969933825,44058,0.94420990512507075,44474,0.92188694518144931,44884,0.89787006505659406,45287,0.87663126283481496,45684]
[1109,"Retalhuleu","El Asintal",39062,1.8509036915672628,39785,1.7971597335679323,40500,1.74567901234568,41207,1.7035940495546908,41909,1.6511966403397915,42601,1.596206661815458,43281,1.5457128994246894,43950,1.4948805460750947,44607,1.4482031968076736,45253,1.3988022893509866,45886,1.3555332781240548,46508,1.3116023049797976,47118,1.2670317076276527,47715,1.2281253274651682,48301,1.192521893956644,48877]
[1201,"San Marcos","San Marcos",46835,0.43984199850539696,47041,0.64411896005611702,47344,0.80052382561677238,47723,0.87798336232005614,48142,0.97004694445599338,48609,1.0409594930979926,49115,1.0974244120940613,49654,1.1358601522535983,50218,1.1589469911187145,50800,1.1751968503937116,51397,1.1810027822635627,52004,1.1826013383585909,52619,1.1763811550960623,53238,1.1664600473346054,53859,1.1585807385952274,54483]
[1202,"San Marcos","San Pedro Sacatepéquez",76620,2.2122161315583311,78315,2.0366468748004962,79910,1.9121511700663341,81438,1.7719000957783893,82881,1.6988212014816373,84289,1.639597100452006,85671,1.5863010820464263,87030,1.5396989543835504,88370,1.4959827995926211,89692,1.4538643357267178,90996,1.4132489340190846,92282,1.3729654753906528,93549,1.3383360591775473,94801,1.3016740329743426,96035,1.2682876034779023,97253]
[1203,"San Marcos","San Antonio Sacatepéquez",18096,2.9840848806365949,18636,2.7795664305644951,19154,2.594758275033926,19651,2.3764693908706835,20118,2.2218908440202911,20565,2.0860685630926357,20994,1.9767552634085916,21409,1.8637021813256105,21808,1.7654071900220059,22193,1.68071013382598,22566,1.599751839049901,22927,1.535307715793599,23279,1.4648395549637039,23620,1.4098221845893377,23953,1.3609986223020121,24279]
[1204,"San Marcos","Comitancillo",75535,1.1451644932812588,76400,1.1505235602094155,77279,1.1361430660334682,78157,1.0658034469081423,78990,1.0381060893783989,79810,1.0048866056885153,80612,0.96883838634447272,81393,0.93374123081837457,82153,0.89710661813933168,82890,0.85776330076003937,83601,0.82056434731641037,84287,0.78303890279640687,84947,0.74752492730760789,85582,0.71159823327335836,86191,0.67872515691893565,86776]
[1205,"San Marcos","San Miguel Ixtahuacán",49187,1.1324130359647855,49744,1.1358153747185629,50309,1.1230594923373527,50874,1.0555490034202197,51411,1.0231273462877555,51937,0.99158595991297727,52452,0.95897201250667585,52955,0.91964875837975413,53442,0.88320047902399335,53914,0.84579144563563524,54370,0.80743056832812687,54809,0.76994654162636511,55231,0.73509442161105998,55637,0.70097237449897598,56027,0.66753529548253532,56401]
[1206,"San Marcos","Concepción Tutuapa",76129,1.7365261595449821,77451,1.7404552555809527,78799,1.7284483305625598,80161,1.6566659597559985,81489,1.6296678079249949,82817,1.595083135105102,84138,1.561720031377023,85452,1.5260029022141186,86756,1.4869288579464346,88046,1.4503782113894914,89323,1.4106109288761104,90583,1.3755340406036431,91829,1.3394461444641736,93059,1.3034741400616889,94272,1.2707909029192166,95470]
[1207,"San Marcos","Tacaná",77851,0.82593672528290529,78494,0.88032206283283898,79185,0.91178884889815404,79907,0.88728146470271607,80616,0.89932519599087435,81341,0.90729152579880346,82079,0.91009880724668424,82826,0.91154951343781487,83581,0.90690467929313012,84339,0.90349660299504642,85101,0.89658170879307608,85864,0.88861455324700245,86627,0.8796333706581061,87389,0.87196329057432909,88151,0.8655602318748512,88914]
[1208,"San Marcos","Sibinal",16104,0.86934923000496767,16244,0.94188623491751056,16397,0.99408428371043911,16560,0.99637681159421287,16725,1.010463378176385,16894,1.0358707233337316,17069,1.0486847501318231,17248,1.0551948051948035,17430,1.0613884107860017,17615,1.0559182514902066,17801,1.050502780742657,17988,1.050700466977994,18177,1.0397755405182396,18366,1.0290754655341461,18555,1.0239827539746615,18745]
[1209,"San Marcos","Tajumulco",56684,1.9405828805306502,57784,1.9451751349854662,58908,1.9318258980104641,60046,1.8602404822969154,61163,1.8328074162483832,62284,1.7998201785370149,63405,1.7648450437662611,64524,1.7295889901431938,65640,1.6895185862279005,66749,1.6524592128720927,67852,1.6152803159818374,68948,1.5765504438127298,70035,1.5435139573070522,71116,1.5059902131728364,72187,1.473949603114133,73251]
[1210,"San Marcos","Tejutla",38897,2.2906650898526948,39788,2.2971750276465253,40702,2.2824431231880604,41631,2.2146957795873279,42553,2.1808098136441689,43481,2.1503645270347871,44416,2.116354466858783,45356,2.0769027251080319,46298,2.0411248866041731,47243,2.0024130559024522,48189,1.9651787752391625,49136,1.9273038098339246,50083,1.8888644849549774,51029,1.8558074820200332,51976,1.8219947668154601,52923]
[1211,"San Marcos","San Rafael Pie de la Cuesta",16888,1.4507342491710151,17133,1.4533356680091147,17382,1.4440225520653494,17633,1.366755515227136,17874,1.348327179142883,18115,1.3083080320176688,18352,1.2750653879686213,18586,1.242870978155608,18817,1.206355954721805,19044,1.1657214870825383,19266,1.1263365514377677,19483,1.0881281116871033,19695,1.0561056105610644,19903,1.0199467416972308,20106,0.98478066248881557,20304]
[1212,"San Marcos","Nuevo Progreso",28986,1.7008210860415263,29479,1.7062993995725861,29982,1.6910146087652622,30489,1.6235363573747996,30984,1.5911438161631875,31477,1.5598691107792995,31968,1.5265265265265171,32456,1.4912496918905616,32940,1.4480874316939785,33417,1.4124547386060948,33889,1.3780282687597678,34356,1.338921876819188,34816,1.3011259191176405,35269,1.2674019677336945,35716,1.237540598051301,36158]
[1213,"San Marcos","El Tumbador",46839,1.8595614765473112,47710,1.8633410186543742,48599,1.8518899565834746,49499,1.7798339360391102,50380,1.7526796347757001,51263,1.7185884556112585,52144,1.6837987112611197,53022,1.6483723737316547,53896,1.6105091286922946,54764,1.5740267328902213,55626,1.5316578578362661,56478,1.4979283968979074,57324,1.461865885144098,58162,1.4253292527767192,58991,1.393432896543545,59813]
[1214,"San Marcos","San José el Rodeo",17389,1.8920006900914332,17718,1.9020205440794635,18055,1.8886734976460762,18396,1.8210480539247564,18731,1.7884789920452615,19066,1.757054442463013,19401,1.7215607442915282,19735,1.682290347099058,20067,1.6544575671500583,20399,1.6079219569586689,20727,1.5728277126453527,21053,1.5342231510948601,21376,1.5016841317365248,21697,1.465640411116742,22015,1.4308426073131875,22330]
[1215,"San Marcos","Malacatán",101444,1.3100824099996133,102773,1.3126015587751727,104122,1.3003976104953852,105476,1.2306117031362529,106774,1.2006668290033051,108056,1.1679129340341987,109318,1.1343054208821979,110558,1.0980661734112385,111772,1.0592992878359464,112956,1.0216367435107454,114110,0.98413811234774329,115233,0.94764520580041811,116325,0.9103803997420945,117384,0.87575819532474952,118412,0.84366449346349182,119411]
[1216,"San Marcos","Catarina",29726,{"$f":"+(((F184/D184)^(1/1))-1)*100","v":1.5743793312251952},30194,{"$f":"+(((H184/F184)^(1/1))-1)*100","v":1.5797840630588755},30671,{"$f":"+(((J184/H184)^(1/1))-1)*100","v":1.5649962505298154},31151,{"$f":"+(((L184/J184)^(1/1))-1)*100","v":1.4991493049982374},31618,{"$f":"+(((N184/L184)^(1/1))-1)*100","v":1.4675185021190362},32082,{"$f":"+(((P184/N184)^(1/1))-1)*100","v":1.4338258213328237},32542,{"$f":"+(((R184/P184)^(1/1))-1)*100","v":1.4012660561735668},32998,{"$f":"+(((T184/R184)^(1/1))-1)*100","v":1.3637190132735233},33448,{"$f":"+(((V184/T184)^(1/1))-1)*100","v":1.324443912939488},33891,{"$f":"+(((X184/V184)^(1/1))-1)*100","v":1.2894278717063612},34328,{"$f":"+(((Z184/X184)^(1/1))-1)*100","v":1.2497086926124501},34757,{"$f":"+(((AB184/Z184)^(1/1))-1)*100","v":1.2112667951779565},35178,{"$f":"+(((AD184/AB184)^(1/1))-1)*100","v":1.1797145943487353},35593,{"$f":"+(((AF184/AD184)^(1/1))-1)*100","v":1.1434832691821439},36000,{"$f":"+(((AH184/AF184)^(1/1))-1)*100","v":1.1083333333333334},36399]
[1217,"San Marcos","Ayutla",39796,3.0606091064428576,41014,2.8624372165602097,42188,2.6737460889352471,43316,2.4563671622495065,44380,2.3005858494817399,45401,2.1629479526882767,46383,2.037384386520924,47328,1.9248647734956048,48239,1.8221770766392309,49118,1.7305264872348181,49968,1.6470541146333728,50791,1.5711444941032937,51589,1.5041966310647581,52365,1.4398930583404912,53119,1.3874508179747336,53856]
[1218,"San Marcos","Ocós",11340,2.4603174603174516,11619,2.2205009036922352,11877,2.0459712048497058,12120,1.8646864686468589,12346,1.7657540903936564,12564,1.6873607131486779,12776,1.6202254226675095,12983,1.5558807671570474,13185,1.5168752370117611,13385,1.4643257377661589,13581,1.4137397835211063,13773,1.3867712190517745,13964,1.3391578344313926,14151,1.3002614656208111,14335,1.2696198116498136,14517]
[1219,"San Marcos","San Pablo",46260,2.0946822308689939,47229,2.1004044125431331,48221,2.0841542066734497,49226,2.0172266688335494,50219,1.9853043668730974,51216,1.9544673539518831,52217,1.9189152957848954,53219,1.8827862229654713,54221,1.8443038675052037,55221,1.8054725557306028,56218,1.7698957629229017,57213,1.7303759635048044,58203,1.6957888768620144,59190,1.6607535056597289,60173,1.6269755538198094,61152]
[1220,"San Marcos","El Quetzal",24325,0.95786228160328335,24558,1.0261421939897319,24810,1.0721483272873922,25076,1.048811612697409,25339,1.0734440980306958,25611,1.0815665143883546,25888,1.0854449938195287,26169,1.0928961748633892,26455,1.0886410886410847,26743,1.0806566204240253,27032,1.076501923646056,27323,1.0613768619843977,27613,1.0574729294173135,27905,1.0392402795198041,28195,1.0320978896967592,28486]
[1221,"San Marcos","La Reforma",21636,1.5991865409502592,21982,1.6013101628605142,22334,1.5895047909017634,22689,1.5205606240909608,23034,1.4891030650342918,23377,1.4544210121059109,23717,1.4251380866045382,24055,1.3884847225109187,24389,1.3489687974086673,24718,1.3148312970304943,25043,1.2698159166234069,25361,1.238121525176461,25675,1.1996105160662074,25983,1.1661470961782605,26286,1.1336833295290338,26584]
[1222,"San Marcos","Pajapita",22079,0.86507541102405217,22270,0.86663673102829186,22463,0.8502871388505584,22654,0.78573320384920375,22832,0.75770847932725705,23005,0.72158226472505138,23171,0.69051832031419291,23331,0.65149372080064438,23483,0.61320955584891479,23627,0.57561264654844013,23763,0.54286074990530508,23892,0.50226017076846485,24012,0.46643344994170555,24124,0.43110595257833673,24228,0.40036321611358616,24325]
[1223,"San Marcos","Ixchiguán",22707,1.6206456158893712,23075,1.6251354279523289,23450,1.6119402985074638,23828,1.5444015444015413,24196,1.5085138039345303,24561,1.4860958430031435,24926,1.4442750541603155,25286,1.4078936961164246,25642,1.3727478355822553,25994,1.3349234438716717,26341,1.2945598117003909,26682,1.263023761337223,27019,1.2213627447351882,27349,1.188343266664238,27674,1.1563200115632055,27994]
[1224,"San Marcos","San José Ojetenam",21760,0.63419117647058876,21898,0.71696045300939648,22055,0.77986851054183681,22227,0.77383362577045922,22399,0.80807178891915132,22580,0.83259521700620454,22768,0.85646521433591083,22963,0.87532116883681788,23164,0.88499395613883536,23369,0.89006803885489649,23577,0.89493998388259222,23788,0.89120564990752271,24000,0.8999999999999897,24216,0.89610175090848454,24433,0.88814308517168872,24650]
[1225,"San Marcos","San Cristóbal Cucho",16798,1.2025241100130923,17000,1.2058823529411677,17205,1.1915140947398983,17410,1.1200459506031102,17605,1.0962794660607678,17798,1.0619170693336288,17987,1.0285205982098145,18172,0.99053488883997787,18352,0.94812554489973611,18526,0.91762927777176984,18696,0.87719298245614308,18860,0.8430540827147448,19019,0.80445869919554269,19172,0.76674316711871082,19319,0.74538019566230407,19463]
[1226,"San Marcos","Sipacapa",23637,2.661082201633036,24266,2.5797412016813626,24892,2.4867427285874877,25511,2.3440868644898361,26109,2.2444367842506363,26695,2.1539614159955089,27270,2.0645397873120697,27833,1.9760715697193953,28383,1.8955008279603947,28921,1.815289927734165,29446,1.7421721116620326,29959,1.6722854567909451,30460,1.6053841103085942,30949,1.544476396652561,31427,1.4828014127979072,31893]
[1227,"San Marcos","Esquipulas Palo Gordo",12393,2.4529976599693359,12697,2.2840040954556162,12987,2.1252021252021303,13263,1.9603407977079046,13523,1.863491828736219,13775,1.7640653357531733,14018,1.6835497217862816,14254,1.620597726953843,14485,1.5602347255781801,14711,1.5090748419549938,14933,1.4397642804526933,15148,1.4061262212833325,15361,1.3540785105136344,15569,1.3231421414348965,15775,1.2805071315372452,15977]
[1228,"San Marcos","Río Blanco",5608,1.4265335235378096,5688,1.4240506329114,5769,1.4213901889408964,5851,1.3501965475986921,5930,1.3153456998313606,6008,1.2816245006657789,6085,1.265406737880026,6162,1.2171372930866564,6237,1.1704345037678365,6310,1.12519809825673,6381,1.1283497884344129,6453,1.0537734387106701,6521,1.0427848489495517,6589,0.9713158294126556,6653,0.97700285585449187,6718]
[1229,"San Marcos","San Lorenzo",12359,2.2574641961323749,12638,2.2630163000474823,12924,2.2516248839368647,13215,2.1793416572077229,13503,2.1476708879508255,13793,2.1170158776190773,14085,2.0802271920482784,14378,2.0447906523855863,14672,2.0106324972737122,14967,1.9710028729872375,15262,1.9263530336784074,15556,1.8963743893031682,15851,1.8547725695539752,16145,1.8271910808299818,16440,1.7883211678832112,16734]
[1230,"San Marcos","La Blanca",30451,2.4662572657712323,31202,2.2210114736234798,31895,2.0473428437059127,32548,1.8649379378149256,33155,1.7644397526768163,33740,1.6804979253111973,34307,1.6206605066021451,34863,1.5632619109084089,35408,1.5081337550836071,35942,1.4662511824606206,36469,1.4203844360964002,36987,1.3788628437018335,37497,1.3387737685681467,37999,1.3052975078291507,38495,1.2702948434861749,38984]
[1301,"Huehuetenango","Huehuetenango",110707,3.3087338650672482,114370,3.2158782897613092,118048,3.1512605042016917,121768,3.0689507916694003,125505,2.9696028046691358,129232,2.8723535966324043,132944,2.7793657479841194,136639,2.6873732975212006,140311,2.5963751951023184,143954,2.5105241952290358,147568,2.4266778705410497,151149,2.3480142111426572,154698,2.2715225794774252,158212,2.1995803099638556,161692,2.128738589416912,165134]
[1302,"Huehuetenango","Chiantla",88719,0.50383796030162298,89166,0.61346253056098199,89713,0.7390233299521709,90376,0.83650526688501259,91132,0.90198832462802248,91954,0.9635252408813022,92840,1.0124946143903468,93780,1.0524632117722366,94767,1.0858210136439839,95796,1.1148690968307617,96864,1.1366451932606436,97965,1.1534731791966513,99095,1.1665573439628707,100251,1.1760481192207628,101430,1.183081928423535,102630]
[1303,"Huehuetenango","Malacatancito",19363,2.5254351081960502,19852,2.4833769897239621,20345,2.4625215040550597,20846,2.417730020147757,21350,2.3653395784543285,21855,2.2969572180279174,22357,2.2453817596278514,22859,2.1873222800647518,23359,2.136221584828113,23858,2.0747757565596547,24353,2.024391245431767,24846,1.980198019801982,25338,1.9299076485910449,25827,1.8817516552445124,26313,1.8393949758674477,26797]
[1304,"Huehuetenango","Cuilco",59650,1.8692372170997507,60765,1.8201267176828795,61871,1.7972879054807489,62983,1.7592048648047864,64091,1.696025963083736,65178,1.64165822823652,66248,1.5834440284989704,67297,1.52755694904676,68325,1.4694474935967872,69329,1.4193194766980666,70313,1.3653236243653444,71273,1.316066392603088,72211,1.2685047984379194,73127,1.2252656337604417,74023,1.1793631709063446,74896]
[1305,"Huehuetenango","Nentón",43937,2.5855201766165292,45073,2.3872384797994473,46149,2.2990747361806285,47210,2.2262232577843655,48261,2.1508049978243404,49299,2.0872634333353624,50328,2.0286917819106742,51349,1.968879627646114,52360,1.9136745607333916,53362,1.8571267943480407,54353,1.8067080013982606,55335,1.7565735971807994,56307,1.7084909513914726,57269,1.6640765510136379,58222,1.6213802342756933,59166]
[1306,"Huehuetenango","San Pedro Necta",37610,1.5660728529646395,38199,1.520982224665568,38780,1.4981949458483745,39361,1.4557556972637942,39934,1.3998096859818787,40493,1.340972513767813,41036,1.2818013451603383,41562,1.229488475049334,42073,1.1693960497231037,42565,1.1206390226712104,43042,1.0640769480972034,43500,1.0183908045976908,43943,0.97171335593837505,44370,0.92404778003154497,44780,0.87985707905315902,45174]
[1307,"Huehuetenango","Jacaltenango",36747,3.0478678531580705,37867,2.9550796207779895,38986,2.9010413994767337,40117,2.8242391006306544,41250,2.7272727272727337,42375,2.638348082595865,43493,2.5567332674223398,44605,2.4638493442439291,45704,2.3849116051111396,46794,2.3037141513869264,47872,2.2267713903743269,48938,2.1557889574563838,49993,2.0822915208129178,51034,2.0202218129090399,52065,1.9552482473830679,53083]
[1308,"Huehuetenango","San Pedro Soloma",53376,3.0481864508393297,55003,2.9598385542606742,56631,2.8959403860076671,58271,2.819584355854543,59914,2.7255733217611988,61547,2.6305100167351769,63166,2.5425070449292431,64772,2.4563082813561454,66363,2.3702967014752163,67936,2.2889189825718415,69491,2.2132362464204025,71029,2.1385631221050527,72548,2.0675966256822997,74048,2.0014044943820197,75530,1.9369786839666281,76993]
[1309,"Huehuetenango","San Ildefonso Ixtahuacán",48982,2.1946837613817216,50057,2.143556345765818,51130,2.1259534519851409,52217,2.08361261658081,53305,2.0204483631929504,54382,1.9694016402486136,55453,1.9079220240564077,56511,1.8527366353453312,57558,1.7964487994718281,58592,1.742558711086839,59613,1.6909063459312534,60621,1.6413454083568313,61616,1.5937418852246088,62598,1.5495702738106631,63568,1.5039013340045315,64524]
[1310,"Huehuetenango","Santa Bárbara",37195,2.9439440785051785,38290,2.8545312091929897,39383,2.7880049767666337,40481,2.7099132926558189,41578,2.6191736014238298,42667,2.521855298005482,43743,2.4369613423862013,44809,2.349974335512961,45862,2.2676725829662958,46902,2.189672082213967,47929,2.1114565294498178,48941,2.0412333217547651,49940,1.9743692430917115,50926,1.9086517692337823,51898,1.8478554086862609,52857]
[1311,"Huehuetenango","La Libertad",40546,2.9867311202091518,41757,2.90011255597864,42968,2.8439769130515824,44190,2.7698574338085535,45414,2.6753864447086828,46629,2.5906624632739295,47837,2.5043376465915479,49035,2.4227592535943643,50223,2.3375744180953006,51397,2.2608323443002565,52559,2.1861146521052532,53708,2.1151411335369019,54844,2.0458026402158769,55966,1.9815602329986026,57075,1.9202803328953078,58171]
[1312,"Huehuetenango","La Democracia",55263,1.6647666612380707,56183,1.617927130982677,57092,1.5974217053177364,58004,1.555065167919456,58906,1.4973007843004149,59788,1.4367431591623792,60647,1.3834155028278339,61486,1.3238786065120411,62300,1.2696629213483135,63091,1.2157043001378876,63858,1.1635190579097454,64601,1.1160817943994594,65322,1.067021830317505,66019,1.0224329359729722,66694,0.97909856958646735,67347]
[1313,"Huehuetenango","San Miguel Acatán",32815,0.9995428919701288,33143,1.2008568928582264,33541,1.3863629587668846,34006,1.5173792860083468,34522,1.590290249695836,35071,1.6452339539790639,35648,1.6747082585278239,36245,1.6885087598289328,36857,1.6876034403234152,37479,1.6836094879799424,38110,1.6636053529257344,38744,1.6441255420194034,39381,1.6200705924176662,40019,1.591743921637212,40656,1.5643447461629378,41292]
[1314,"Huehuetenango","San Rafael La Independencia",16858,1.6490686914224728,17136,1.5989729225023286,17410,1.5795519816197645,17685,1.5323720667232088,17956,1.4813989752728851,18222,1.4213587970584918,18481,1.3635625777825844,18733,1.3078524528906232,18978,1.2540836758351714,19216,1.1969192339716939,19446,1.1467654016250162,19669,1.0981747928211938,19885,1.0460145838571799,20093,1.0103020952570541,20296,0.95585337012218385,20490]
[1315,"Huehuetenango","Todos Santos Cuchumatán",34858,1.9823283034023698,35549,1.935356831415791,36237,1.9124099677125583,36930,1.8738153262929824,37622,1.8101111052043928,38303,1.7570425293057967,38976,1.6984811165845715,39638,1.6423633886674338,40289,1.5835587877584434,40927,1.5319959928653537,41554,1.4824084324012166,42170,1.4299264880246687,42773,1.3863886096369127,43366,1.3374533044320458,43946,1.2947708551404036,44515]
[1316,"Huehuetenango","San Juan Atitán",23467,1.069587079728973,23718,1.2775107513281148,24021,1.4570584072270076,24371,1.5797464199253319,24756,1.6521247374373882,25165,1.6928273395589111,25591,1.7193544605525357,26031,1.7325496523376005,26482,1.7219243259572581,26938,1.7113371445541592,27399,1.6861929267491416,27861,1.6689996769678084,28326,1.6345407046529647,28789,1.6082531522456422,29252,1.5759606180773877,29713]
[1317,"Huehuetenango","Santa Eulalia",45681,1.9723736345526488,46582,1.9234897599931244,47478,1.9040397657862584,48382,1.8622628250175577,49283,1.8018383621126954,50171,1.7460285822487043,51047,1.6905988598742372,51910,1.6297437873242115,52756,1.5789673212525557,53589,1.5208344996174628,54404,1.4723182118961731,55205,1.4201612172810352,55989,1.375270142349394,56759,1.3284236861114573,57513,1.2866656234242768,58253]
[1318,"Huehuetenango","San Mateo Ixtatán",50129,2.7828203235652049,51524,2.7346479310612626,52933,2.7090850698052282,54367,2.6725771147938948,55820,2.6101755643138658,57277,2.5507620860031111,58738,2.4941264598726587,60203,2.440077736989843,61672,2.3787131923725502,63139,2.3297803259475058,64610,2.2720941030800246,66078,2.2276703290051048,67550,2.1746854182087327,69019,2.1341949318303577,70492,2.086761618339672,71963]
[1319,"Huehuetenango","Colotenango",40409,1.6209260313296614,41064,1.5731541009156524,41710,1.553584272356745,42358,1.508569809717164,42997,1.4535897853338531,43622,1.3960845444958903,44231,1.3384277995071248,44823,1.2805925529304041,45397,1.2269533229068097,45954,1.1707359533446482,46492,1.1227738105480611,47014,1.0698940741055818,47517,1.0248963528842303,48004,0.97700191650695878,48473,0.93660388257379434,48927]
[1320,"Huehuetenango","San Sebastián Huehuetenango",35393,3.178594637357679,36518,3.0779341694506801,37642,3.0099357101110558,38775,2.9245647969052158,39909,2.8214187276053071,41035,2.724503472645301,42153,2.6285199155457573,43261,2.538082799750363,44359,2.4459523433801422,45444,2.3611477862864216,46517,2.2765870541952449,47576,2.2006894232386109,48623,2.1265656170947889,49657,2.0540910647038668,50677,1.9870947372575332,51684]
[1321,"Huehuetenango","Tectitán",10838,1.5131943162945083,11002,1.454281039810934,11162,1.4334348683031628,11322,1.4043455219925782,11481,1.3413465725982121,11635,1.2720240653201653,11783,1.2305864380887765,11928,1.1569416498993901,12066,1.1188463451019315,12201,1.0572903860339267,12330,1.0056772100567768,12454,0.96354584872331284,12574,0.90663273421345281,12688,0.87484237074400006,12799,0.81256348152198843,12903]
[1322,"Huehuetenango","Concepción Huista",24466,-23.497915474536089,18717,2.206550195009882,19130,2.190277051751166,19549,2.1433321397513971,19968,2.0833333333333259,20384,2.0310047095761341,20798,1.9713433984037021,21208,1.9143719351188304,21614,1.8599056167299066,22016,1.8032340116278966,22413,1.7534466604202992,22806,1.7013066736823568,23194,1.655600586358541,23578,1.6116718975315969,23958,1.56941313966108,24334]
[1323,"Huehuetenango","San Juan Ixcoy",27877,1.6967392474082521,28350,1.6507936507936583,28818,1.6239850093691333,29286,1.5877893874206128,29751,1.5259991260798023,30205,1.4699553054130066,30649,1.4095076511468463,31081,1.3577426723721864,31503,1.2982890518363321,31912,1.2471797442968224,32310,1.1915815536985397,32695,1.1500229392873429,33071,1.0946146170360826,33433,1.0558430293422738,33786,1.006333984490615,34126]
[1324,"Huehuetenango","San Antonio Huista",15713,3.2648125755743607,16226,3.1615925058547933,16739,3.0945695680745455,17257,3.0016804774873895,17775,2.9029535864978806,18291,2.7991908588923531,18803,2.7016965377865132,19311,2.6047330536999702,19814,2.5184213182598114,20313,2.4270171811155317,20806,2.3406709602999065,21293,2.2589583431174454,21774,2.1860935060163511,22250,2.1078651685393357,22719,2.0423434130023344,23183]
[1325,"Huehuetenango","San Sebastián Coatán",23683,1.4356289321454163,24023,1.3861715855638446,24356,1.3631138117917496,24688,1.3285806869734351,25016,1.2631915574032648,25332,1.2119058897836821,25639,1.1544912048051748,25935,1.0950453055716292,26219,1.0374156146306213,26491,0.98524027028046302,26752,0.93824760765550685,27003,0.88508684220272027,27242,0.83694295573011335,27470,0.79359301055696996,27688,0.75122796879514286,27896]
[1326,"Huehuetenango","Santa Cruz Barillas",107436,2.9496630552142689,110605,2.7684101080421408,113667,2.6428074990982431,116671,2.5164779593900732,119607,2.3903283252652452,122466,2.2798164388483366,125258,2.1818965654888389,127991,2.0923346172777801,130669,2.0096579908011947,133295,1.9355564724858443,135875,1.8664213431462739,138411,1.8054923380367072,140910,1.7472145340997836,143372,1.6941941243757475,145801,1.644021645942062,148198]
[1327,"Huehuetenango","Aguacatán",53559,1.6785227506114664,54458,1.628778140952658,55345,1.6062878308790385,56234,1.568446135789725,57116,1.5074585054975831,57977,1.4505752281076978,58818,1.3941310483185365,59638,1.3363962574197696,60435,1.2807148175725924,61209,1.228577496773342,61961,1.1749326189054443,62689,1.1277895643573732,63396,1.0789324247586496,64080,1.0330836454431891,64742,0.99008371690709751,65383]
[1328,"Huehuetenango","San Rafael Petzal",11160,2.0878136200716879,11393,2.0538927411568597,11627,2.0211576502967121,11862,1.9811161692800505,12097,1.92609737951559,12330,1.8572587185725853,12559,1.8074687475117424,12786,1.751916158298128,13010,1.6986933128362747,13231,1.6476456805985862,13449,1.5911963714774435,13663,1.5369977310985883,13873,1.4921069703741185,14080,1.4559659090909172,14285,1.4000700035001756,14485]
[1329,"Huehuetenango","San Gaspar Ixchil",9684,1.404378356051228,9820,1.3543788187372785,9953,1.3262332964935286,10085,1.2989588497768878,10216,1.2235708692247549,10341,1.179769848177159,10463,1.1277836184650614,10581,1.0585010868537914,10693,1.0100065463387153,10801,0.94435700398112221,10903,0.90800697055857249,11002,0.85439011088892514,11096,0.80209084354723181,11185,0.75994635672775868,11270,0.7187222715173025,11351]
[1330,"Huehuetenango","Santiago Chimaltenango",12317,2.6548672566371723,12644,2.5862068965517349,12971,2.5672654382854043,13304,2.5030066145520058,13637,2.4492190364449717,13971,2.3691933290387324,14302,2.3003775695706885,14631,2.2349805208119689,14958,2.172750367696219,15283,2.1069161813779935,15605,2.0442165972444748,15924,1.9907058528008115,16241,1.9333784865463999,16555,1.8846270009060806,16867,1.8260508685599142,17175]
[1331,"Huehuetenango","Santa Ana Huista",8878,3.4129308402793379,9181,3.0715608321533638,9463,2.810947902356542,9729,2.6107513619076927,9983,2.4241210057097007,10225,2.2982885085574667,10460,2.1701720841300176,10687,2.0866473285299891,10910,1.9798350137488541,11126,1.9234226136976451,11340,1.8430335097001871,11549,1.7837042168153072,11755,1.7354317311782275,11959,1.67238063383226,12159,1.6284233900814238,12357]
[1332,"Huehuetenango","Unión Cantinil",15047,3.0238585764604142,15502,2.9673590504450953,15962,2.9507580503696174,16433,2.9087811111787154,16911,2.8502158358464813,17393,2.7884781233829647,17878,2.7352052802326776,18367,2.6732727173735427,18858,2.6195778979743345,19352,2.563042579578334,19848,2.5141072148327392,20347,2.4622794515162028,20848,2.4127014581734496,21351,2.3699124162802621,21857,2.3287733906757646,22366]
[1333,"Huehuetenango","Petatán","…",{"$error":"#VALUE!"},6300,2.2063492063492118,6439,2.1897810218978186,6580,2.1428571428571352,6721,2.0830233596190961,6861,2.0259437399795965,7000,1.9714285714285795,7138,1.9193051274866813,7275,1.8419243986254275,7409,1.8086111486030454,7543,1.7632241813602123,7676,1.6935904116727407,7806,1.6653856008198797,7936,1.6003024193548487,8063,1.5750961180702072,8190]
[1401,"Quiché","Santa Cruz del Quiché",90521,1.512356248826241,91890,1.5583850255740606,93322,1.6362701185143935,94849,1.6499910383873218,96414,1.6003899848569647,97957,1.5537429688536886,99479,1.505845454819621,100977,1.4557770581419494,102447,1.4065809638154292,103888,1.357230864007386,105298,1.310566202586938,106678,1.2654905416299433,108028,1.2209797459917793,109347,1.1806451022890352,110638,1.1397530685659518,111899]
[1402,"Quiché","Chiché",30813,0.70100282348359855,31029,0.74768764703987411,31261,0.82530949105914519,31519,0.8344173355753659,31782,0.78975520735007354,32033,0.74298379795836311,32271,0.69102289981717302,32494,0.64319566689234886,32703,0.59321774760725532,32897,0.5471623552299576,33077,0.49883604921849845,33242,0.45424463028698181,33393,0.41026562453208015,33530,0.36683566954964775,33653,0.32686536118622378,33763]
[1403,"Quiché","Chinique",12062,1.8819432929862323,12289,1.9285539913743932,12526,2.0038320293788825,12777,2.0192533458558426,13035,1.9716148830072777,13292,1.9184471862774499,13547,1.8675721561969505,13800,1.826086956521733,14052,1.7791061770566552,14302,1.7200391553628958,14548,1.6772064888644467,14792,1.6292590589507938,15033,1.5964877270006061,15273,1.5452105021934059,15509,1.5088013411567402,15743]
[1404,"Quiché","Zacualpa",35695,1.8433954335341118,36353,1.8898027673094342,37040,1.968142548596119,37769,1.9804601657444021,38517,1.9342108679284431,39262,1.8873210738118207,40003,1.8398620103492247,40739,1.7869854439235056,41467,1.7387320037620224,42188,1.6924243860813482,42902,1.6432800335648645,43607,1.5983672346183031,44304,1.5529071867099953,44992,1.5136024182076824,45673,1.4735182711886674,46346]
[1405,"Quiché","Chajul",44438,2.8826679868581007,45719,2.7887749075876656,46994,2.7429033493637567,48283,2.6489654743905744,49562,2.5099874904160435,50806,2.3875132858323767,52019,2.2722466790980222,53201,2.1691321591699397,54355,2.0715665532149652,55481,1.9844631495467002,56582,1.9034321869145554,57659,1.8314573613833041,58715,1.7610491356552904,59749,1.7021205375822079,60766,1.6423657966626148,61764]
[1406,"Quiché","Santo Tomás Chichicastenango",138976,1.3138959244761717,140802,1.3579352566014613,142714,1.4371400142943136,144765,1.4478637792284088,146861,1.4006441465058694,148918,1.3524221383580226,150932,1.3038984443325408,152900,1.2537606278613556,154817,1.2040021444673421,156681,1.1545752197139381,158490,1.1073253833049357,160245,1.0621236232019715,161947,1.0176168746565128,163595,0.97680246951312721,165193,0.93526965428316622,166738]
[1407,"Quiché","Patzité",6963,1.6228637081717734,7076,1.8089315997738886,7204,1.9294836202109922,7343,2.0155249897861882,7491,1.9757041783473595,7639,1.9374263647074175,7787,1.9134454860665118,7936,1.8649193548387011,8084,1.8060366155368657,8230,1.7739975698663368,8376,1.7311365807067824,8521,1.6664710714704878,8663,1.6391550271268596,8805,1.5900056785917105,8945,1.5539407490217982,9084]
[1408,"Quiché","San Antonio Ilotenango",26663,2.3965795296853276,27302,2.43938173027618,27968,2.5207379862700163,28673,2.5319987444634373,29399,2.4830776557025702,30129,2.4395101065418645,30864,2.3846552617936778,31600,2.3386075949367147,32339,2.2913510003401472,33080,2.2370012091898372,33820,2.1910112359550649,34561,2.1469286189635728,35303,2.1018043792312202,36045,2.0613122485781732,36788,2.0196803305425615,37531]
[1409,"Quiché","San Pedro Jocopilas",34586,1.5034985254149147,35106,1.5495926622229872,35650,1.6297335203365959,36231,1.6422400706577189,36826,1.591267039591604,37412,1.544958836736865,37990,1.5003948407475542,38560,1.4445020746888027,39117,1.3983689955773704,39664,1.3513513513513598,40200,1.3034825870646749,40724,1.259699440133577,41237,1.2125033343841629,41737,1.1740182571818858,42227,1.131977171004328,42705]
[1410,"Quiché","Cunén",41985,1.9125878289865339,42788,1.9631672431522862,43628,2.0399743284129412,44518,2.0508558335953886,45431,2.0074398538442839,46343,1.9571456314869451,47250,1.9068783068783013,48151,1.8608128595460016,49047,1.8105082879686929,49935,1.7622909782717633,50815,1.7120928859588602,51685,1.6697300957724703,52548,1.6251807870899082,53402,1.5842103292011522,54248,1.5429140244801687,55085]
[1411,"Quiché","San Juan Cotzal",32305,1.8882525924779348,32915,1.9352878626765824,33552,2.011802575107291,34227,2.0247173284249298,34920,1.9759450171821236,35610,1.9320415613591768,36298,1.881646371700918,36981,1.8333738947026834,37659,1.7817785921028229,38330,1.7323245499608619,38994,1.687439093193821,39652,1.6417835165943639,40303,1.5978959382676239,40947,1.5556695240188434,41584,1.5150057714505616,42214]
[1412,"Quiché","Joyabaj",91528,2.7106459225592072,94009,2.7390994479252084,96584,2.7986001822247975,99287,2.7939206542649142,102061,2.7268006388336374,104844,2.6610964862080699,107634,2.5949049556831527,110427,2.5265560053247871,113217,2.4616444526881942,116004,2.3956070480328329,118783,2.3319835329971506,121553,2.2697917780721166,124312,2.2113713881202202,127061,2.1540834717183044,129798,2.0994160156550867,132523]
[1413,"Quiché","Santa María Nebaj",69162,1.8145802608368733,70417,1.8603462232131385,71727,1.9406917897026199,73119,1.9516131238118684,74546,1.904864110750415,75966,1.8574098938999084,77377,1.8080308101890763,78776,1.7594191124200353,80162,1.7090391956288586,81532,1.6619241524800099,82887,1.6142459010459964,84225,1.5684179281685973,85546,1.5243260935636993,86850,1.4841681059297729,88139,1.4431749849669329,89411]
[1414,"Quiché","San Andrés Sajcabajá",25349,1.5740265888200655,25748,1.6234270622961011,26166,1.7006802721088343,26611,1.7135770921799187,27067,1.6625411017105796,27517,1.6171821056074398,27962,1.5699878406408629,28401,1.5210732016478268,28833,1.4705372316442977,29257,1.418463957343552,29672,1.3750337018064274,30080,1.3297872340425565,30480,1.286089238845145,30872,1.2470847369784988,31257,1.1997312601977228,31632]
[1415,"Quiché","San Miguel Uspantán",66651,{"$f":"+(((F246/D246)^(1/1))-1)*100","v":1.741909348696935},67812,{"$f":"+(((H246/F246)^(1/1))-1)*100","v":1.7872942841974826},69024,{"$f":"+(((J246/H246)^(1/1))-1)*100","v":1.8645688456189191},70311,{"$f":"+(((L246/J246)^(1/1))-1)*100","v":1.8787956365291292},71632,{"$f":"+(((N246/L246)^(1/1))-1)*100","v":1.8301876256421767},72943,{"$f":"+(((P246/N246)^(1/1))-1)*100","v":1.7835844426469905},74244,{"$f":"+(((R246/P246)^(1/1))-1)*100","v":1.7334734119928807},75531,{"$f":"+(((T246/R246)^(1/1))-1)*100","v":1.6854006964027946},76804,{"$f":"+(((V246/T246)^(1/1))-1)*100","v":1.635331493151404},78060,{"$f":"+(((X246/V246)^(1/1))-1)*100","v":1.5885216500128196},79300,{"$f":"+(((Z246/X246)^(1/1))-1)*100","v":1.5397225725094499},80521,{"$f":"+(((AB246/Z246)^(1/1))-1)*100","v":1.4952621055376758},81725,{"$f":"+(((AD246/AB246)^(1/1))-1)*100","v":1.4512083205873383},82911,{"$f":"+(((AF246/AD246)^(1/1))-1)*100","v":1.4087394917441598},84079,{"$f":"+(((AH246/AF246)^(1/1))-1)*100","v":1.3701399873928155},85231]
[1416,"Quiché","Sacapulas",52010,0.98442607190925013,52522,1.0319485168120091,53064,1.1080958842152766,53652,1.1220457764854919,54254,1.072731964463447,54836,1.0248741702531206,55398,0.97837467056571814,55940,0.92599213442974282,56458,0.878529172127962,56954,0.82873898233661869,57426,0.78013443388011972,57874,0.73780972457406779,58301,0.69295552391896997,58705,0.65241461545013646,59088,0.60926076360683368,59448]
[1417,"Quiché","San Bartolomé Jocotenango",14621,1.2105875111141584,14798,1.243411271793482,14982,1.3282605793619062,15181,1.3371978130557904,15384,1.2935517420696874,15583,1.2449464159661083,15777,1.191608037015901,15965,1.1525211399937341,16149,1.0960430986438841,16326,1.0474090407938341,16497,1.0062435594350383,16663,0.96021124647422962,16823,0.90946917910004199,16976,0.87181903864279597,17124,0.83508526045317222,17267]
[1418,"Quiché","Canillá",12020,0.57404326123127181,12089,0.76102241707336482,12181,0.96872177982103569,12299,1.0813887307911108,12432,1.142213642213652,12574,1.1929378081755981,12724,1.2260295504558316,12880,1.2499999999999956,13041,1.2652403956751712,13206,1.2797213387854001,13375,1.2859813084112215,13547,1.284417214143363,13721,1.2899934407113234,13898,1.2879551014534529,14077,1.278681537259363,14257]
[1419,"Quiché","Chicamán",38465,1.8562329390354959,39179,1.901528880267489,39924,1.9812644023645021,40715,1.9943509762986533,41527,1.9457220603462888,42335,1.8991378292193328,43139,1.849834256705063,43937,1.8003049821335049,44728,1.7505812913611196,45511,1.7006877458196845,46285,1.6571243383385559,47052,1.6088582844512533,47809,1.5645589742517174,48557,1.5260415594044119,49298,1.4848472554667591,50030]
[1420,"Quiché","Playa Grande Ixcán",96526,2.2242711808217575,98673,2.1333090105702723,100778,2.137371251662068,102932,2.1101309602455931,105104,2.0398843050692728,107248,1.9804565120095541,109372,1.9255385290567917,111478,1.8721182654873658,113565,1.8227446836613481,115635,1.7719548579582245,117684,1.7232588967064366,119712,1.6790296712108965,121722,1.6348729071162138,123712,1.5932165028453182,125683,1.5523181337173675,127634]
[1421,"Quiché","Pachalum",8413,2.8408415547367172,8652,2.8201571890892341,8896,2.8214928057553879,9147,2.7659341860719389,9400,2.659574468085113,9650,2.5595854922279893,9897,2.465393553602091,10141,2.3666305098116514,10381,2.2637510837106189,10616,2.1853805576488305,10848,2.1017699115044142,11076,2.0223907547851194,11300,1.9469026548672552,11520,1.8750000000000044,11736,1.8149284253578646,11949]
[1501,"Baja Verapaz","Salamá",63021,2.1770520937465232,64393,2.1663845449039432,65788,2.1706086216331189,67216,2.1244941680552243,68644,2.0715576015383652,70066,2.0152427711015219,71478,1.9670388091440616,72884,1.9112562427967772,74277,1.8538713195201728,75654,1.8055886007349198,77020,1.7540898467930388,78371,1.7059881844049496,79708,1.654789983439553,81027,1.6105742530267753,82332,1.5643978040130291,83620]
[1502,"Baja Verapaz","San Miguel Chicaj",31304,2.8079478660874013,32183,2.8027219339402887,33085,2.8048964787668051,34013,2.7577690882897743,34951,2.7009241509541981,35895,2.6466081626967508,36845,2.597367349708235,37802,2.5369028093751744,38761,2.4818761125873889,39723,2.4318404954308592,40689,2.3765636904323095,41656,2.3285961206068739,42626,2.277952423403562,43597,2.2318049407069385,44570,2.1830827911150985,45543]
[1503,"Baja Verapaz","Rabinal",43367,1.1921507136762877,43884,1.1849421201348909,44404,1.1845779659490185,44930,1.1417760961495604,45443,1.0870761173338073,45937,1.0318479656921342,46411,0.98252569433969761,46867,0.93029210318560374,47303,0.8688666680760182,47714,0.82156180575931881,48106,0.77121357003284707,48477,0.72405470635559244,48828,0.67174571966903684,49156,0.62657661323135549,49464,0.58021995794921288,49751]
[1504,"Baja Verapaz","Cubulco",56153,1.1985112104428985,56826,1.1878365536902136,57501,1.1912836298499263,58186,1.148042484446421,58854,1.090834947497199,59496,1.0353637219308931,60112,0.98815544317274462,60706,0.93071525055183901,61271,0.87317001517845938,61806,0.82678057146554629,62317,0.77346470465522454,62799,0.72453383015653738,63254,0.67347519524456612,63680,0.62971105527638294,64081,0.58363633526319347,64455]
[1505,"Baja Verapaz","Granados",13340,1.5217391304347849,13543,1.5210810012552534,13749,1.5419303222052427,13961,1.5041902442518351,14171,1.4748429892033066,14380,1.4255910987482689,14585,1.3849845731916277,14787,1.3457766957462702,14986,1.3012144668357095,15181,1.2515644555694649,15371,1.2230824279487296,15559,1.1761681341988517,15742,1.1434379367297742,15922,1.1053887702549892,16098,1.0622437569884458,16269]
[1506,"Baja Verapaz","Santa Cruz El Chol",9158,2.2712382616291826,9366,2.2635062993807464,9578,2.2656086865733949,9795,2.2256253190403363,10013,2.1571956456606367,10229,2.1116433668980417,10445,2.067975107707043,10661,1.9979364037144842,10874,1.949604561338969,11086,1.9123218473750647,11298,1.841033811294035,11506,1.8077524769685382,11714,1.7500426839679006,11919,1.7031630170316392,12122,1.6663916845405025,12324]
[1507,"Baja Verapaz","San Jerónimo",24063,2.8092922744462401,24739,2.8012449977767861,25432,2.8035545769109715,26145,2.7538726333907082,26865,2.702400893355672,27591,2.6457902939364342,28321,2.5987782917269886,29057,2.5398354957497427,29795,2.4836381943279084,30535,2.429998362534791,31277,2.3819420021101712,32022,2.3296483667478718,32768,2.276611328125,33514,2.2348869129318993,34263,2.1860315792545881,35012]
[1508,"Baja Verapaz","Purulhá",58932,1.7901988732776708,59987,1.7803857502458831,61055,1.7836377037097728,62144,1.7411174047373912,63226,1.6860152468920919,64292,1.6300628383002502,65340,1.5824915824915742,66374,1.527706632114989,67388,1.4705882352941124,68379,1.4229514909548158,69352,1.3712654285384707,70303,1.3242678121843987,71234,1.2746722070921201,72142,1.2295195586482288,73029,1.1830916485231935,73893]
[1601,"Alta Verapaz","Cobán",200830,2.3009510531295074,205451,2.2720746065971964,210119,2.2330203360952705,214811,2.180055956166127,219494,2.1025631680136936,224109,2.0324931171885163,228664,1.9622677815484657,233151,1.8961960274671785,237572,1.833128483154578,241927,1.7720221389096791,246214,1.7139561519653679,250434,1.6595190748859956,254590,1.6065045759849239,258680,1.5571362300912384,262708,1.5100415670630474,266675]
[1602,"Alta Verapaz","Santa Cruz Verapaz",30540,2.8356254092992694,31406,2.8083805642233894,32288,2.7657333994053568,33181,2.7154094210542157,34082,2.6377560002347256,34981,2.5642491638317999,35878,2.4945649144322513,36773,2.4284121502189171,37666,2.3655285934264247,38557,2.3056773089192628,39446,2.2461086041677181,40332,2.1893285728453726,41215,2.1375712725949292,42096,2.088084378563293,42975,2.0407213496218768,43852]
[1603,"Alta Verapaz","San Cristóbal Verapaz",72436,1.913413219945892,73822,1.8829075343393509,75212,1.8441206190501491,76599,1.7911460985130301,77971,1.7147400956766035,79308,1.6454834316840694,80613,1.5754282807983744,81883,1.5094708303310833,83119,1.4461194191460525,84321,1.3851828132968036,85489,1.3288259308215089,86625,1.2721500721500689,87727,1.2219727107959821,88799,1.1711843601842409,89839,1.1253464530994295,90850]
[1604,"Alta Verapaz","Tactic",37524,1.9800660910350709,38267,1.9520735882091689,39014,1.9146972881529667,39761,1.8611201931540977,40501,1.7851411076269752,41224,1.7125946050844165,41930,1.6432148819460979,42619,1.5791079096177718,43292,1.5176014044165242,43949,1.4516826321417931,44587,1.397268262049467,45210,1.3426233134262278,45817,1.2899142239779948,46408,1.241165316324766,46984,1.1918951132300348,47544]
[1605,"Alta Verapaz","Tamahú",20807,2.9557360503676744,21422,2.8755485015404814,22038,2.7906343588347315,22653,2.6883856442855292,23262,2.5621184764852645,23858,2.45619917847264,24444,2.3441335297005317,25017,2.2424751169204837,25578,2.1424661818750579,26126,2.0554237158386224,26663,1.9652702246558906,27187,1.879574796777872,27698,1.8015741208751601,28197,1.7306805688548366,28685,1.65940386961827,29161]
[1606,"Alta Verapaz","San Miguel Tucurú",45512,2.0192476709439244,46431,1.9922034847408066,47356,1.951178308978796,48280,1.8972659486329757,49196,1.823318969021881,50093,1.752739903778977,50971,1.6813482176139427,51828,1.6168866249903546,52666,1.5531842175217303,53484,1.4920350011218275,54282,1.4350981909288629,55061,1.380287317702189,55821,1.3274574085021751,56562,1.2782433435875706,57285,1.2306886619533941,57990]
[1607,"Alta Verapaz","Panzós",72979,1.8799928746625838,74351,1.8506812282282681,75727,1.8130917638358834,77100,1.7600518806744514,78457,1.6824502593777435,79777,1.611993431690828,81063,1.5432441434439781,82314,1.4772699662268796,83530,1.4150604573207159,84712,1.3528189630748866,85858,1.2951617787509528,86970,1.2418075198344258,88050,1.1890971039182352,89097,1.1392078296687869,90112,1.0930841619318121,91097]
[1608,"Alta Verapaz","Senahú",89845,1.672881072958976,91348,1.6519245084730905,92857,1.6207717242641806,94362,1.5769059579067823,95850,1.5086071987480354,97296,1.4461026147015277,98703,1.3829366888544525,100068,1.3260982531878351,101395,1.2702795995857885,102683,1.2183126710360925,103934,1.1670868050878358,105147,1.1193852416141237,106324,1.0750159888642363,107467,1.0319446899978546,108576,0.99193191865605268,109653]
[1609,"Alta Verapaz","San Pedro Carchá",218371,2.7352533074446628,224344,2.7052205541489904,230413,2.6656482056133912,236555,2.6108093255268416,242731,2.5332569799489946,248880,2.4614271938283583,255006,2.3905319874826469,261102,2.3228470099807774,267167,2.2596353591573859,273204,2.196893164082514,279206,2.1382061990071755,285176,2.0825735686032409,291115,2.0284080174501451,297020,1.9783179583866328,302896,1.9300353916855917,308742]
[1610,"Alta Verapaz","San Juan Chamelco",53857,2.3878047421876492,55143,2.3593203126416773,56444,2.3173410814258277,57752,2.2683197118714471,59062,2.1892248823270455,60355,2.1191284897688734,61634,2.0475711457961454,62896,1.9842279318239564,64144,1.919119481167364,65375,1.8585086042065102,66590,1.8005706562546964,67789,1.7451208898198844,68972,1.6934408165632409,70140,1.6438551468491491,71293,1.5962296438640555,72431]
[1611,"Alta Verapaz","San Agustín Lanquín",24350,1.2443531827515342,24653,1.3791424978704336,24993,1.4764133957508196,25362,1.5298478038009655,25750,1.5378640776698926,26146,1.5489941099977145,26551,1.5328989491921297,26958,1.5171748646042094,27367,1.4945006759966351,27776,1.4652937788018461,28183,1.4334882730724141,28587,1.3992374156085008,28987,1.3661296443233217,29383,1.3307014259946293,29774,1.2930744945254258,30159]
[1612,"Alta Verapaz","Santa María Cahabón",62767,2.0265426099702166,64039,1.9972204437920693,65318,1.958112618267549,66597,1.9054912383440703,67866,1.8286034243951255,69107,1.7566961378731483,70321,1.6893957708223661,71509,1.6221734327147574,72669,1.5605003509061577,73803,1.498584068398312,74909,1.440414369434917,75988,1.3870611149128909,77042,1.3330391215181425,78069,1.2847609166250384,79072,1.2381121003642193,80051]
[1613,"Alta Verapaz","Chisec",98126,0.78062898722051077,98892,1.1113133519394802,99991,1.3391205208468815,101330,1.483272476068298,102833,1.5510585123452492,104428,1.5857815911441309,106084,1.5911918856754914,107772,1.5811156886760935,109476,1.5583324198911175,111182,1.5272256300480347,112880,1.4909638554216897,114563,1.4507301659349103,116225,1.4093353409335263,117863,1.3676896057286836,119475,1.3274743670223854,121061]
[1614,"Alta Verapaz","Chahal",25615,2.5180558266640674,26260,2.4904798172124876,26914,2.4522553317975815,27574,2.3971857546964515,28235,2.3198158314149175,28890,2.2499134648667374,29540,2.1767095463777864,30183,2.1170857767617512,30822,2.0504834209331024,31454,1.9870286767978529,32079,1.9296112721718162,32698,1.8747323995351506,33311,1.825222899342549,33919,1.7748164745422956,34521,1.7235885403088069,35116]
[1615,"Alta Verapaz","Fray Bartolomé de Las Casas",66532,2.8587747249443796,68434,2.7953941023467932,70347,2.7236413777417701,72263,2.6389715345335851,74170,2.5306727787515193,76047,2.4313911133904131,77896,2.333881072198829,79714,2.2405098226158549,81500,2.1533742331288241,83255,2.0671431145276475,84976,1.986443231029944,86664,1.9096741438198173,88319,1.8365244171695716,89941,1.7656018945753305,91529,1.7011001977515372,93086]
[1616,"Alta Verapaz","Santa Catalina La Tinta",40037,2.3927866723280955,40995,2.3515062812538012,41959,2.295097595271578,42922,2.2296258329062013,43879,2.1422548371658356,44819,2.0593944532452779,45742,1.980674216256384,46648,1.9036185902932656,47536,1.8280881857960285,48405,1.7622146472471956,49258,1.693125989686961,50092,1.6309989619100795,50909,1.5694670883340756,51708,1.5142724530053275,52491,1.4592977843820742,53257]
[1617,"Alta Verapaz","Raxruhá",35103,2.7775403811640009,36078,2.4419313709185708,36959,2.2457317568115975,37789,2.1064330889941418,38585,1.9826357392769278,39350,1.8907242693773751,40094,1.8057564722901098,40818,1.7345288843157336,41526,1.668833983528395,42219,1.603543428314258,42896,1.5479298769115912,43560,1.4898989898989967,44209,1.4386210952521017,44845,1.3892295685137723,45468,1.3416028855458784,46078]
[1701,"Petén","Flores",38188,2.7207499738137741,39227,2.5135748336604813,40213,2.3698803869395491,41166,2.1935577904095505,42069,2.117949083648285,42960,2.0460893854748585,43839,1.9776910969684591,44706,1.9102581308996447,45560,1.8459174714662074,46401,1.7779789228680398,47226,1.7215093380764879,48039,1.6611503153687535,48837,1.605340213362827,49621,1.5517623586787765,50391,1.5022523863388315,51148]
[1702,"Petén","San José",6852,0.94862813776999122,6917,0.85297094115945882,6976,0.8314220183486265,7034,0.76769974410009212,7088,0.7759593679458332,7143,0.82598348033038338,7202,0.81921688419883676,7261,0.85387687646329979,7323,0.84664754881877968,7385,0.86662153012864174,7449,0.85917572828566602,7513,0.87847730600292273,7579,0.87082728592162706,7645,0.87638979725310762,7712,0.86877593360996652,7779]
[1703,"Petén","San Benito",47868,2.0577421241748217,48853,1.9139049802468611,49788,1.8337752068771529,50701,1.7100254432851347,51568,1.6890319578032997,52439,1.6666984496271908,53313,1.6431264419559888,54189,1.6165642473564779,55065,1.5908471806047375,55941,1.5605727462862706,56814,1.5330728341605981,57685,1.5047239316980043,58553,1.4772940754530062,59418,1.4490558416641486,60279,1.4233812770616527,61137]
[1704,"Petén","San Andrés",32963,1.3166277341261523,33397,1.1767524029104415,33790,1.0949985202722612,34160,0.97775175644028156,34494,0.95378906476488723,34823,0.92754788501852037,35146,0.90764240596370449,35465,0.87974058931341581,35777,0.85250300472370366,36082,0.82589656892633201,36380,0.79714128642112136,36670,0.77174802290700395,36953,0.74148242361919969,37227,0.71453514921964167,37493,0.68279412156935226,37749]
[1705,"Petén","La Libertad",76075,2.0663818600065831,77647,1.9215166072095613,79139,1.8423280556994603,80597,1.7209077260940342,81984,1.6966725214676126,83375,1.6755622188905583,84772,1.6503090643136931,86171,1.6258369985261867,87572,1.5986845110309122,88972,1.5679090050802591,90367,1.5414919162968888,91760,1.5137314734088969,93149,1.4857915812300782,94533,1.4566341912348069,95910,1.4305077676988853,97282]
[1706,"Petén","San Francisco",15132,1.7644726407612943,15399,1.6169881161114397,15648,1.540132924335369,15889,1.416074013468438,16114,1.3963013528608625,16339,1.3709529346961347,16563,1.3524120026565223,16787,1.3224518973014909,17009,1.2993121288729537,17230,1.2594312246082318,17447,1.24376683670544,17664,1.2115036231884035,17878,1.1802215012864936,18089,1.1609265299353133,18299,1.1312093557025005,18506]
[1707,"Petén","Santa Ana",21238,2.2600998210754231,21718,2.1180587531080208,22178,2.0380557309044978,22630,1.9133893062306617,23063,1.8904739192646236,23499,1.8724201029830967,23939,1.842182213125021,24380,1.8211648892534793,24824,1.7926200451176211,25269,1.7650085084490952,25715,1.7343962667703661,26161,1.7086502809525728,26608,1.6837041491280846,27056,1.6484328799526882,27502,1.6253363391753428,27949]
[1708,"Petén","Dolores",28691,0.88878045380085258,28946,0.80149243418778937,29178,0.78141065186099201,29406,0.71413997143439101,29616,0.7428417071853044,29836,0.76752915940474509,30065,0.78829203392649649,30302,0.80522737773083275,30546,0.81516401492831569,30795,0.8248092222763459,31049,0.83738606718413156,31309,0.83682008368199945,31571,0.84254537391910134,31837,0.84806985582812633,32107,0.84405269878842226,32378]
[1709,"Petén","San Luis",72377,1.2310540641363943,73268,1.0891521537369719,74066,1.0085599330327044,74813,0.88620961597583037,75476,0.86385076050665699,76128,0.84068936527952332,76768,0.81674656106711652,77395,0.79074875637961117,78007,0.76531593318547309,78604,0.73278713551472308,79180,0.70598636019196803,79739,0.67971757860019189,80281,0.64897049114984728,80802,0.62250934382812595,81305,0.59405940594059459,81788]
[1710,"Petén","Sayaxché",89557,1.8256529361188933,91192,1.6821651022019379,92726,1.6025710156805983,94212,1.4817645310576166,95608,1.4580369843527841,97002,1.438114678047886,98397,1.4126446944520588,99787,1.3869542124725687,101171,1.3600735388599405,102547,1.3310969604181544,103912,1.3030256370775373,105266,1.2767655273307588,106610,1.2465997561204478,107939,1.2201335939743707,109256,1.1935271289448712,110560]
[1711,"Petén","Melchor de Mencos",28157,1.5022907269950592,28580,1.3610916724982491,28969,1.2772273809934731,29339,1.1622754695115756,29680,1.1388140161725069,30018,1.1126657338929924,30352,1.087243015287287,30682,1.0657714620950332,31009,1.0384082040697962,31331,1.008585745747026,31647,0.98271558125573311,31958,0.9543776206270671,32263,0.92675820599448233,32562,0.89982187826300741,32855,0.87049155379699261,33141]
[1712,"Petén","Poptún",59162,2.7652885297995367,60798,2.5543603408006765,62351,2.4105467434363481,63854,2.230087386851265,65278,2.1508011887619194,66682,2.0800215950331324,68069,2.0097254256710162,69437,1.9398879559888726,70784,1.8718919529837175,72109,1.8055998557738873,73411,1.7449700998487971,74692,1.6842499866116745,75950,1.6273864384463543,77186,1.5715285155339043,78399,1.5204275564739245,79591]
[1713,"Petén","Las Cruces",34597,2.0637627539960013,35311,1.9229135396901853,35990,1.8393998332870254,36652,1.7215977300010898,37283,1.6951425582705237,37915,1.6774363708294882,38551,1.6523566185053573,39188,1.6229457997346097,39824,1.5970269184411467,40460,1.5694513099357321,41095,1.5427667599464678,41729,1.5145342567518982,42361,1.482495691791974,42989,1.4585126427690831,43616,1.4306676449009625,44240]
[1714,"Petén","El Chal",14728,0.88267246061923821,14858,0.80764571274734021,14978,0.78114568033116338,15095,0.72209340841338232,15204,0.73664825046040328,15316,0.76390702533297716,15433,0.7905138339920903,15555,0.80360012857600971,15680,0.81632653061225469,15808,0.8286943319838036,15939,0.83443126921387556,16072,0.83997013439522927,16207,0.84531375331646785,16344,0.83822809593734338,16481,0.84946301802075741,16621]
[1801,"Izabal","Puerto Barrios",102777,1.2716852992401106,104084,1.2634026363322004,105399,1.2761031888347985,106744,1.3040545604436682,108136,1.2632240881852441,109502,1.2273748424686204,110846,1.18813488984717,112163,1.1474372119147924,113450,1.1115028646980996,114711,1.0731316089999998,115942,1.0324127581031961,117139,1.0005207488539281,118311,0.96187167718977395,119449,0.92926688377465982,120559,0.89582693950680525,121639]
[1802,"Izabal","Livingston",73849,1.4001543690503659,74883,1.3915040796976585,75925,1.4027000329272399,76990,1.4313547213923972,78092,1.3906674179173351,79178,1.3526484629568847,80249,1.3146581265810253,81304,1.2730000983961487,82339,1.2363521539003441,83357,1.1972599781661986,84355,1.1582004623318154,85332,1.122673791777995,86290,1.0858732182176478,87227,1.052426427596953,88145,1.0187758806512015,89043]
[1803,"Izabal","El Estor",74849,1.6393004582559545,76076,1.6299489983700566,77316,1.6426095504164628,78586,1.6695085638663398,79898,1.6283261157976403,81199,1.5911526004014798,82491,1.5516844261798335,83771,1.5088753864702653,85035,1.4735109072734787,86288,1.4347302058223654,87526,1.3915865000114325,88744,1.3589651131344027,89950,1.3207337409671949,91138,1.2859619478154061,92310,1.2523020257826811,93466]
[1804,"Izabal","Morales",98533,1.4523053190301782,99964,1.442519306950496,101406,1.4555351754333978,102882,1.4822806710600434,104407,1.4424320208415109,105913,1.4039825139501305,107400,1.3659217877094898,108867,1.3254705282592427,110310,1.287281298159737,111730,1.2485456010024265,113125,1.2075138121546924,114491,1.1747648286764889,115836,1.1360889533478469,117152,1.1028407538923757,118444,1.0688595454392047,119710]
[1805,"Izabal","Los Amates",61031,1.066671036030864,61682,1.1413378295126675,62386,1.1973840284679182,63133,1.2497426068775352,63922,1.2218015706642493,64703,1.1931440582353181,65475,1.1576937762504791,66233,1.1172678272160397,66973,1.0840189330028505,67699,1.0443285720616258,68406,1.0057597286787789,69094,0.97114076475526279,69765,0.93456604314483549,70417,0.90035076757033483,71051,0.86698287145852149,71667]
[1901,"Zacapa","Zacapa",61808,1.2231426352575792,62564,1.2067642733840644,63319,1.1765820685734063,64064,1.2331418581418507,64854,1.2134949270669493,65641,1.191328590362728,66423,1.1712810321725886,67201,1.1502805017782558,67974,1.1239591608556143,68738,1.0998283336727921,69494,1.0720349958269759,70239,1.0478509090391386,70975,1.0200774920746669,71699,0.99861922760429156,72415,0.9707933439204508,73118]
[1902,"Zacapa","Estanzuela",10847,-0.12906794505392893,10833,-6.4617372842246112E-2,10826,-1.8474043968219611E-2,10824,0.10162601626015899,10835,0.1476695892939528,10851,0.19353055017969911,10872,0.22075055187638082,10896,0.26615271659324868,10925,0.29290617848969358,10957,0.31030391530528778,10991,0.31844236193248054,11026,0.35370941411210222,11065,0.35246272028919279,11104,0.36923631123919609,11145,0.38582323912068617,11188]
[1903,"Zacapa","Río Hondo",21145,1.7119886497990011,21507,1.6924722183475183,21871,1.6597320652919301,22234,1.7135917963479352,22615,1.6979880610214382,22999,1.6739858254706697,23384,1.6549777625727069,23771,1.6322409658827919,24159,1.6060267395173744,24547,1.584715036460671,24936,1.55197305101058,25323,1.5282549460964301,25710,1.4974718008556875,26095,1.4792105767388319,26481,1.450096295457115,26865]
[1904,"Zacapa","Gualán",47500,0.77473684210527249,47868,0.76251357900893879,48233,0.72771753778533288,48584,0.78626708381359656,48966,0.76583751991177174,49341,0.74583003992623187,49709,0.72622663903920692,50070,0.70101857399640366,50421,0.67828880823466164,50763,0.65401965998856948,51095,0.62628437224776512,51415,0.59904697072838964,51723,0.57614600854551945,52021,0.55170027488897766,52308,0.52382044811500883,52582]
[1905,"Zacapa","Teculután",18702,1.3688375574804734,18958,1.3503534128072481,19214,1.321952742791721,19468,1.376618039860289,19736,1.362991487636811,20005,1.3346663334166564,20272,1.3170876085240701,20539,1.2950971322849281,20805,1.273732275895223,21070,1.2387280493592723,21331,1.2188833153626177,21591,1.1949423370849033,21849,1.1625246006682133,22103,1.144640998959412,22356,1.1182680264805844,22606]
[1906,"Zacapa","Usumatlán",12079,1.7633910091894966,12292,1.6596160104132673,12496,1.5364916773367376,12688,1.5290037831021452,12882,1.4361124049060647,13067,1.3622101477003046,13245,1.2986032465081232,13417,1.244689572929869,13584,1.1704946996466514,13743,1.127846903878349,13898,1.0649014246654209,14046,1.0180834401253058,14189,0.97258439636338512,14327,0.93529699169401237,14461,0.89205449139062587,14590]
[1907,"Zacapa","Cabañas",13790,1.2182741116751217,13958,1.2036108324974926,14126,1.1751380433243641,14292,1.2244612370556851,14467,1.2096495472454505,14642,1.1951919136729883,14817,1.1675777822771183,14990,1.1407605070046678,15161,1.1212980674097928,15331,1.0958189289674625,15499,1.0710368410865145,15665,1.0469198850941552,15829,1.0171204750773821,15990,0.9943714821763594,16149,0.9660040869403641,16305]
[1908,"Zacapa","San Diego",7290,0.98765432098766315,7362,0.97799511002445438,7434,0.95507129405434377,7505,1.0126582278481067,7581,1.0025062656641603,7657,0.97949588611727645,7732,0.96999482669426484,7807,0.96067631612655191,7882,0.93884800811976366,7956,0.90497737556560764,8028,0.87194818136522301,8098,0.86441096567053677,8168,0.84476003917728359,8237,0.8255432803204954,8305,0.79470198675497539,8371]
[1909,"Zacapa","La Unión",36931,{"$f":"+(((F305/D305)^(1/1))-1)*100","v":0.70130784435840088},37190,{"$f":"+(((H305/F305)^(1/1))-1)*100","v":0.68566819037376714},37445,{"$f":"+(((J305/H305)^(1/1))-1)*100","v":0.64895179596742292},37688,{"$f":"+(((L305/J305)^(1/1))-1)*100","v":0.71110167692634008},37956,{"$f":"+(((N305/L305)^(1/1))-1)*100","v":0.69027294762356028},38218,{"$f":"+(((P305/N305)^(1/1))-1)*100","v":0.66722486786330304},38473,{"$f":"+(((R305/P305)^(1/1))-1)*100","v":0.64720713227457427},38722,{"$f":"+(((T305/R305)^(1/1))-1)*100","v":0.62496771860958145},38964,{"$f":"+(((V305/T305)^(1/1))-1)*100","v":0.60055435786880995},39198,{"$f":"+(((X305/V305)^(1/1))-1)*100","v":0.57911117914180021},39425,{"$f":"+(((Z305/X305)^(1/1))-1)*100","v":0.54787571337984176},39641,{"$f":"+(((AB305/Z305)^(1/1))-1)*100","v":0.52470926565928444},39849,{"$f":"+(((AD305/AB305)^(1/1))-1)*100","v":0.49436623252778755},40046,{"$f":"+(((AF305/AD305)^(1/1))-1)*100","v":0.47445437746591601},40236,{"$f":"+(((AH305/AF305)^(1/1))-1)*100","v":0.44736057262153572},40416]
[1910,"Zacapa","Huité",11480,0.78397212543555028,11570,0.7692307692307665,11659,0.74620464876919979,11746,0.79175889664566679,11839,0.77709265985301812,11931,0.75433744028161609,12021,0.74037101738624322,12110,0.71841453344343442,12197,0.68869394113306726,12281,0.65955541079716351,12362,0.63905516906650472,12441,0.61088336950405608,12517,0.59119597347607744,12591,0.5638948455245707,12662,0.53703996209129023,12730]
[1911,"Zacapa","San Jorge",12586,1.2235817575083408,12740,1.2087912087912045,12894,1.1710873274391131,13045,1.234189344576464,13206,1.2115704982583742,13366,1.1895855154870461,13525,1.1756007393715295,13684,1.1473253434668207,13841,1.1270861931941267,13997,1.100235764806734,14151,1.0741290368171841,14303,1.0417394952108028,14452,1.0240797121505718,14600,1.0000000000000009,14746,0.96975450969754018,14889]
[2001,"Chiquimula","Chiquimula",107907,1.6727367084619083,109712,1.6470395216567013,111519,1.6302154789766821,113337,1.5625965042307399,115108,1.5342113493414855,116874,1.5067508599003965,118635,1.474269819193319,120384,1.4437134502923943,122122,1.4100653444915734,123844,1.3767320176996778,125549,1.3429019745278659,127235,1.3101740873187495,128902,1.2792664194504422,130551,1.2493201890448891,132182,1.2180175818190087,133792]
[2002,"Chiquimula","San José La Arada",8614,1.1144648247039646,8710,1.0907003444316832,8805,1.0675752413401574,8899,1.0225868075064648,8990,0.97886540600666816,9078,0.95836087243885704,9165,0.91653027823239697,9249,0.88658233322520541,9331,0.86807416139749183,9412,0.81810454738631133,9489,0.79038887132469871,9564,0.76327896277708085,9637,0.72636712669917891,9707,0.70052539404552583,9775,0.67519181585677934,9841]
[2003,"Chiquimula","San Juan Ermita",16328,2.1313081822635915,16676,2.0868313744303091,17024,2.0676691729323293,17376,1.9739871086556171,17719,1.9470624753089805,18064,1.8988042515500458,18407,1.8688542402346853,18751,1.8185696762839321,19092,1.770375026188975,19430,1.7344312918167848,19767,1.6896848282490939,20101,1.6417093676931449,20431,1.6054035534237121,20759,1.5607688231610295,21083,1.5225537162642855,21404]
[2004,"Chiquimula","Jocotán",66557,1.9306759619574176,67842,1.9044249874708985,69134,1.8876384991465933,70439,1.8214341486960439,71722,1.7902456707844072,73006,1.7628688053036745,74293,1.7296380547292545,75578,1.7002302257270729,76863,1.6666016158619845,78144,1.6303235053235055,79418,1.5978745372585479,80687,1.5640685612304361,81949,1.5338808283200445,83206,1.5034973439415511,84457,1.4705708230223768,85699]
[2005,"Chiquimula","Camotán",57580,1.1497047585967257,58242,1.1211840252738581,58895,1.1070549282621522,59547,1.041194350680974,60167,1.0105207173367381,60775,0.98560263266145309,61374,0.95154299866393455,61958,0.91997804964654151,62528,0.88920163766632587,63084,0.85600152178049171,63624,0.82044511505092732,64146,0.79038443550649706,64653,0.75634541320588333,65142,0.72764115317307532,65616,0.6980004876859347,66074]
[2006,"Chiquimula","Olopa",27868,1.3097459451700821,28233,1.3530266000779223,28615,1.369910885898995,29007,1.3238183886647992,29391,1.3065224048178115,29775,1.2795969773299776,30156,1.2534818941504211,30534,1.224864085936983,30908,1.1906302575384942,31276,1.157437012405671,31638,1.1283899108666784,31995,1.0907954367870065,32344,1.063566658421955,32688,1.0340186000978857,33026,0.99921274147640737,33356]
[2007,"Chiquimula","Esquipulas",52498,1.238142405424969,53148,1.2117106946639478,53792,1.1972040452111754,54436,1.1279300462929021,55050,1.0990009082652241,55655,1.074476686730752,56253,1.0417222192594222,56839,1.0081106282658014,57412,0.97888943078101587,57974,0.94352640838997193,58521,0.90907537465183541,59053,0.87887152219192632,59572,0.8477136909957661,60077,0.81728448491102945,60568,0.78754457799499189,61045]
[2008,"Chiquimula","Concepción Las Minas",12125,0.65979381443299623,12205,0.63908234330192215,12283,0.62688268338353392,12360,0.55016181229774475,12428,0.53910524621820777,12495,0.49619847939175177,12557,0.46189376443417363,12615,0.44391597304795916,12671,0.40249388367137318,12722,0.37729916679767328,12770,0.33672670321065468,12813,0.30437836572232424,12852,0.28011204481792618,12888,0.24053382991930938,12919,0.21673504141186406,12947]
[2009,"Chiquimula","Quezaltepeque",27288,1.5244796247434689,27704,1.4979786312445897,28119,1.4829830363811025,28536,1.4157555368657038,28940,1.385625431928128,29341,1.3598718516751207,29740,1.3315400134499056,30136,1.2974515529599051,30527,1.2644544174009953,30913,1.226021414938705,31292,1.2015850696663666,31668,1.1620563344701296,32036,1.1331002622050113,32399,1.1049723756906049,32757,1.0745794791952923,33109]
[2010,"Chiquimula","San Jacinto",12377,1.2200048477013725,12528,1.1973180076628287,12678,1.1673765578166906,12826,1.1149228130360234,12969,1.0794972627033772,13109,1.0527118773361765,13247,1.0115497848569577,13381,0.98647335774606493,13513,0.9620365573891787,13643,0.93088030491828011,13770,0.87872185911401779,13891,0.86386869195882454,14011,0.82792091927770262,14127,0.79280809796842266,14239,0.76550319544912426,14348]
[2011,"Chiquimula","Ipala",21808,1.4902787967718378,22133,1.4593593277007155,22456,1.4472746704666806,22781,1.3783416004565119,23095,1.3509417622862063,23407,1.3243901397018032,23717,1.2944301555845916,24024,1.2612387612387588,24327,1.2249763637111055,24625,1.1939086294416201,24919,1.1637706167984208,25209,1.1265817763497221,25493,1.0983407209822271,25773,1.0708881387498481,26049,1.036508119313595,26319]
[2101,"Jalapa","Jalapa",172722,1.6975255034101133,175654,1.6555273435276074,178562,1.6229656925885738,181460,1.5926374958668665,184350,1.5400054244643302,187189,1.4829931245959882,189965,1.4271049930250301,192676,1.3727708692312435,195321,1.3173186702914785,197894,1.2643132181875183,200396,1.2160921375676148,202833,1.1635187568098004,205193,1.1189465527576381,207489,1.0733099104048849,209716,1.0290106620381767,211874]
[2102,"Jalapa","San Pedro Pinula",68442,2.052833055726011,69847,2.0129712084985707,71253,1.9788640478295649,72663,1.9487221832294344,74079,1.8952739642813743,75483,1.8401494376217187,76872,1.7847850973046198,78244,1.7292060733091308,79597,1.6746862318931521,80930,1.6211540837760996,82242,1.5734053160185724,83536,1.5214997126987262,84807,1.4762932305116383,86059,1.4292520247737084,87289,1.3873454845398703,88500]
[2103,"Jalapa","San Luis Jilotepeque",23698,1.9368723098995622,24157,1.895930786107547,24615,1.8606540727198917,25073,1.8306544888924359,25532,1.7781607394641963,25986,1.7240052335873113,26434,1.6645229628508673,26874,1.6112227431718473,27307,1.5600395502984643,27733,1.5000180290628551,28149,1.4600873920920909,28560,1.404061624649855,28961,1.3604502606954227,29355,1.3149378300119308,29741,1.2709727312464336,30119]
[2104,"Jalapa","San Manuel Chaparrón",8262,1.5492616799806402,8390,1.501787842669855,8516,1.4795678722404837,8642,1.4464244387873082,8767,1.402988479525491,8890,1.3385826771653564,9009,1.298701298701288,9126,1.2382204689896925,9239,1.1797813616192254,9348,1.14462986735131,9455,1.0893707033315714,9558,1.046243984097095,9658,0.99399461586249238,9754,0.96370719704736985,9848,0.90373679935011886,9937]
[2105,"Jalapa","San Carlos Alzatate",19514,1.808957671415401,19867,1.766748880052349,20218,1.7360767632802476,20569,1.7064514560746646,20920,1.649139579349912,21265,1.5988713849047764,21605,1.5413098819717641,21938,1.4860060169568756,22264,1.4328063241106692,22583,1.3815702076783509,22895,1.3321685957632612,23200,1.2715517241379315,23495,1.2385613960417041,23786,1.1855713444883564,24068,1.1509057669935263,24345]
[2106,"Jalapa","Monjas",26304,2.6573905109489093,27003,2.6108210198866777,27708,2.5768731052403737,28422,2.5473224966575225,29146,2.4977698483496846,29874,2.4369016536118338,30602,2.3789294817332163,31330,2.3236514522821494,32058,2.2740033688938732,32787,2.2112422606520798,33512,2.1693721651945497,34239,2.1145477379596267,34963,2.0679003518004668,35686,2.0232023762820184,36408,1.9775873434410007,37128]
[2107,"Jalapa","Mataquescuintla",41152,2.1238335925349849,42026,2.0844239280445542,42902,2.0535173185399325,43783,2.0213324806431787,44668,1.9678517059192213,45547,1.912310360726277,46418,1.857038217932705,47280,1.8020304568527878,48132,1.7452006980802848,48972,1.6948460344686778,49802,1.6445122685835978,50621,1.5942000355583685,51428,1.5477949754997278,52224,1.5031403186274606,53009,1.4582429398781294,53782]
[2201,"Jutiapa","Jutiapa",153973,1.2294363297461253,155866,1.2234868412610789,157773,1.2112338613070595,159684,1.1898499536584728,161584,1.1511040697098629,163444,1.1147549007611168,165266,1.0788667965582865,167049,1.0404132919083597,168787,1.0036317962876184,170481,0.96960951660303163,172134,0.93531783378066891,173744,0.90017497007091052,175308,0.86761585324115487,176829,0.83866334142024268,178312,0.80589079815156506,179749]
[2202,"Jutiapa","El Progreso",23401,1.4871159352164431,23749,1.4779569666091286,24100,1.4605809128630742,24452,1.4477343366595674,24806,1.4069176812061546,25155,1.3675213675213627,25499,1.3333856229656105,25839,1.2964898022369331,26174,1.2569725681974564,26503,1.226276270610871,26828,1.1927836588638829,27148,1.149255930455273,27460,1.12163146394757,27768,1.0947853644482919,28072,1.0615559988600642,28370]
[2203,"Jutiapa","Santa Catarina Mita",28396,1.6445978306803832,28863,1.6422409312961239,29337,1.6327504516480795,29816,1.6098738932116996,30296,1.5678637443887089,30771,1.5306619869357441,31242,1.494782664362071,31709,1.4601532687880336,32172,1.4204898669650579,32629,1.3852707713996715,33081,1.3482059188053563,33527,1.3213231127151337,33970,1.2805416544009462,34405,1.2556314489173159,34837,1.2199672761718849,35262]
[2204,"Jutiapa","Agua Blanca",16113,1.4584496990007967,16348,1.4436016638120774,16584,1.4411480945489608,16823,1.4206740771562698,17062,1.3831907162114687,17298,1.3585385593710253,17533,1.3232190726059523,17765,1.2834224598930577,17993,1.2560440171177634,18219,1.223996926285742,18442,1.1983515887647789,18663,1.1573701977174,18879,1.1335346151808867,19093,1.105117058607874,19304,1.0826771653543288,19513]
[2205,"Jutiapa","Asunción Mita",46912,1.9866984993178738,47844,1.9354569015968659,48770,1.874102932130417,49684,1.8114483535947246,50584,1.7337498023090259,51461,1.6556227045724015,52313,1.5827805707950171,53141,1.5110743117366932,53944,1.4385288447278599,54720,1.3760964912280738,55473,1.3105474735456868,56200,1.2491103202846965,56902,1.1897648588801824,57579,1.1358307716354821,58233,1.080143561211,58862]
[2206,"Jutiapa","Yupiltepeque",17203,0.76149508806604427,17334,0.81919926156686085,17476,0.86976424811169295,17628,0.8906285454957974,17785,0.88838909193140747,17943,0.89171264559995134,18103,0.87830746285146866,18262,0.85970868470046646,18419,0.84695151745479702,18575,0.82368775235530656,18728,0.80093976932935629,18878,0.76808984002543212,19023,0.75172160016820921,19166,0.73046018991964612,19306,0.69926447736454733,19441]
[2207,"Jutiapa","Atescatempa",18097,1.51958888213517,18372,1.5131722185935059,18650,1.501340482573732,18930,1.4844162704701569,19211,1.4470876060590276,19489,1.4007901893375641,19762,1.3713186924400267,20033,1.3328008785503886,20300,1.2955665024630525,20563,1.2595438408792514,20822,1.2246662184228319,21077,1.1956160743938904,21329,1.1580477284448332,21576,1.1308861698183126,21820,1.0953253895508608,22059]
[2208,"Jutiapa","Jerez",6188,1.5998707175177707,6287,1.6064895816764846,6388,1.5967438948027546,6490,1.6024653312789017,6594,1.5620260843190792,6697,1.5380020904882885,6800,1.5147058823529402,6903,1.4921048819353855,7006,1.4416214673137251,7107,1.449275362318847,7210,1.4147018030513214,7312,1.3949671772428784,7414,1.3622875640679766,7515,1.357285429141708,7617,1.3259813574898249,7718]
[2209,"Jutiapa","El Adelanto",7894,0.93742082594374665,7968,0.94126506024097001,8043,0.92005470595548644,8117,0.899347049402488,8190,0.85470085470085166,8260,0.83535108958838755,8329,0.78040581102172268,8394,0.75053609721229542,8457,0.72129596783729877,8518,0.66917116694058532,8575,0.65306122448980375,8631,0.60247943459621478,8683,0.58735460094436753,8734,0.54957636821617584,8782,0.52379867911638289,8828]
[2210,"Jutiapa","Zapotitlán",9684,1.3217678645187858,9812,1.3147166734610582,9941,1.3077155215773129,10071,1.2809055704497974,10200,1.2352941176470678,10326,1.2105365097811349,10451,1.1673524064682805,10573,1.1349664239099555,10693,1.0941737585336231,10810,1.0638297872340496,10925,1.0251716247139608,11037,0.99664763975717552,11147,0.95989952453574556,11254,0.92411586991292261,11358,0.89804543053353392,11460]
[2211,"Jutiapa","Comapa",34652,0.96386932933163472,34986,1.031841307951753,35347,1.0609104025801397,35722,1.0693690162924874,36104,1.0469754043873181,36482,1.0169398607532409,36853,0.99042140395626532,37218,0.95115266806384824,37572,0.91823698498882944,37917,0.88614605585883854,38253,0.85222074085693489,38579,0.81650638948651544,38894,0.78675374093690742,39200,0.75765306122448361,39497,0.72410562827556202,39783]
[2212,"Jutiapa","Jalpatagua",29894,0.69913695055863201,30103,0.75739959472478358,30331,0.80445748574065057,30575,0.82747342600164586,30828,0.83041390943299209,31084,0.83000900784970799,31342,0.82636717503670187,31601,0.8132654029935793,31858,0.79728796534621615,32112,0.78163926258096872,32363,0.76630720266972485,32611,0.74208089295022539,32853,0.71530758226037161,33088,0.70418278529980061,33321,0.67524984244169417,33546]
[2213,"Jutiapa","Conguaco",27022,1.5098808378358308,27430,1.5020051039008386,27842,1.4905538395230122,28257,1.4686626322681029,28672,1.4299665178571397,29082,1.3926139880338306,29487,1.3565299962695399,29887,1.3182989259544309,30281,1.2813315280208792,30669,1.2520786461899691,31053,1.2108330918107812,31429,1.1772566737726198,31799,1.1478348375735026,32164,1.1130456410894274,32522,1.0854191009163072,32875]
[2214,"Jutiapa","Moyuta",48886,0.591171296485693,49175,0.58769700050838036,49464,0.5721332686398295,49747,0.55279715359719539,50022,0.51577305985366362,50280,0.47732696897375693,50520,0.43942992874108633,50742,0.40400457214930796,50947,0.3670481088189792,51134,0.33050416552586892,51303,0.29822817379101529,51456,0.26236007462685507,51591,0.22872206392587913,51709,0.2011255294049441,51813,0.16791152799491282,51900]
[2215,"Jutiapa","Pasaco",10535,0.977693402942581,10638,0.95882684715171695,10740,0.95903165735566898,10843,0.94069906852347618,10945,0.88624942896300407,11042,0.86035138561855184,11137,0.82607524467990245,11229,0.79259061358980532,11318,0.74218059727866326,11402,0.71917207507454783,11484,0.67920585161964642,11562,0.64002767687252327,11636,0.61876933654176902,11708,0.58934062179705204,11777,0.55192324021398065,11842]
[2216,"Jutiapa","San José Acatempa",13308,0.68379921851517977,13399,0.69408164788415938,13492,0.68929736139935471,13585,0.6772175193227925,13677,0.65803904364991617,13767,0.63194595772499973,13854,0.60632308358596898,13938,0.56679581001577439,14017,0.55646714703574407,14095,0.52500886839303984,14169,0.50109393746913256,14240,0.48455056179774747,14309,0.44727094835417258,14373,0.43832185347527641,14436,0.40870047104462071,14495]
[2217,"Jutiapa","Quesada",22487,0.74709832347579219,22655,0.79894063120724557,22836,0.83639866876861202,23027,0.8598601641551129,23225,0.85683530678148934,23424,0.8495560109289535,23623,0.84239935655927578,23822,0.83116446981781333,24020,0.80766028309742222,24214,0.7929297100850663,24406,0.77439973776940452,24595,0.74811953649116525,24779,0.7304572420194555,24960,0.70512820512820262,25136,0.68427753023552196,25308]

{"sheet":"TC","index":2,"n_rows":379,"n_cols":341,"rows_kept":379,"cut":false,"hidden":true,"merged":[]}
["Codigo Municipio","Departamento","Municipio","Abastecimiento de agua",2015,"TC 2016",2016,"TC 2017",2017,"TC 2018",2018,"TC 2019",2019,"TC 2020",2020,"TC 2021",2021,"TC 2022",2022,"TC 2023",2023,"TC 2024",2024,"TC 2025",2025,"TC 2026",2026,"TC 2027",2027,"TC 2028",2028,"TC 2029",2029,"TC 2030",2030]
[101,"Guatemala","Guatemala",5.1046441768786988,1142188,1.0192717836293053,1153830,0.97752701871158809,1165109,0.91218933164192162,1175737,0.87060286441611456,1185973,0.82244705402230167,1195727,0.77250074640784483,1204964,0.72093440135971854,1213651,0.66641892932977065,1221739,0.61191465607630668,1229215,0.55588322628670195,1236048,0.49925245621529335,1242219,0.44146805031963776,1247703,0.38470693746828211,1252503,0.32662596416934697,1256594,0.27049309482616302,1259993]
[102,"Guatemala","Santa Catarina Pinula",10.157496012759172,84215,0.61509232322032314,84733,0.59126904511819234,85234,0.54555693737241562,85699,0.5239267669401082,86148,0.495658633978735,86575,0.46780248339590713,86980,0.43918142101633251,87362,0.40635516586158271,87717,0.3762098566982397,88047,0.34413438277283159,88350,0.31465761177136287,88628,0.28207789863248234,88878,0.25315601161142176,89103,0.22333703691232998,89302,0.1970840518689343,89478]
[103,"Guatemala","San José Pinula",13.570991432068544,84770,0.88946561283473891,85524,0.86642346008138915,86265,0.821886048803111,86974,0.79793961413756609,87668,0.77223160104029631,88345,0.74254343765918218,89001,0.71347512949293534,89636,0.68164576732563376,90247,0.65154520371868418,90835,0.62090603842130943,91399,0.58972198820554933,91938,0.55798472883898942,92451,0.52892883797903689,92940,0.49817086292232027,93403,0.47107694613663931,93843]
[104,"Guatemala","San José del Golfo",2.0909566126502876,8078,0.75513741025006187,8139,0.71261825777122478,8197,0.68317677198974636,8253,0.65430752453652374,8307,0.61394005055976919,8358,0.61019382627423013,8409,0.55892496135092617,8456,0.5439924314096567,8502,0.5057633498000369,8545,0.4681100058513854,8585,0.44263249854397113,8623,0.41748811318567114,8659,0.38110636332140402,8692,0.356649792913033,8723,0.33245443081508785,8752]
[105,"Guatemala","Palencia",13.330653035437368,72175,0.60824385174922391,72614,0.58528658385434973,73039,0.53806870302166576,73432,0.51884736899443507,73813,0.49042851530218812,74175,0.46107178968655127,74517,0.43211616141283216,74839,0.40086051390317845,75139,0.36998096860485497,75417,0.33944601349829018,75673,0.30658226844448855,75905,0.27797905276332191,76116,0.24567764990277574,76303,0.21755370037874755,76469,0.19092704233087954,76615]
[106,"Guatemala","Chinautla",6.713680236492503,116768,0.99342285557686427,117928,0.97177939081474207,119074,0.92463510086164824,120175,0.90201789057624548,121259,0.87581127998745956,122321,0.84613435141962512,123356,0.8179577807321925,124365,0.78559080127045267,125342,0.75553286208931425,126289,0.72373682585180621,127203,0.69337987311619553,128085,0.66127961900299681,128932,0.63289175689511534,129748,0.60193606067144856,130529,0.57535107140942454,131280]
[107,"Guatemala","San Pedro Ayampuc",16.748105658239503,60608,1.7720432946145781,61682,1.7363250218864534,62753,1.6764138766274028,63805,1.6440717812083783,64854,1.603601936657717,65894,1.5661516981819279,66926,1.52407136240027,67946,1.4835310393547907,68954,1.4415407373031375,69948,1.4010407731457564,70928,1.3619445071058056,71894,1.3199988872506729,72843,1.282209683840585,73777,1.2442902259511834,74695,1.2102550371510867,75599]
[108,"Guatemala","Mixco",5.2064874352353474,446877,2.2115705216424253,456760,2.1869252999386912,466749,2.139693925428876,476736,2.1166851255202124,486827,2.0880107307113205,496992,2.0579808125684051,507220,2.0277197271400871,517505,1.9947633356199423,527828,1.96295005191085,538189,1.9303627536051415,548578,1.8978158074148155,558989,1.8655107703371643,569417,1.8346835447484056,579864,1.8036987983389263,590323,1.7752992853065086,600803]
[109,"Guatemala","San Pedro Sacatepéquez",18.748301784258672,50756,1.6372448577508081,51587,1.6166863744741855,52421,1.571889128402737,53245,1.5513193727110464,54071,1.5276210907880339,54897,1.504635954605904,55723,1.4751538861870417,56545,1.4448669201520881,57362,1.4173145985146851,58175,1.3889127632144449,58983,1.3614092196056582,59786,1.3314153815274565,60582,1.3056683503350763,61373,1.2774347025565014,62157,1.2548868188619222,62937]
[110,"Guatemala","San Juan Sacatepéquez",26.622776114144798,261052,1.3411121155938233,264553,1.3176943750401682,268039,1.2718298456567911,271448,1.2499631605316752,274841,1.2221611768258756,278200,1.1933860531991414,281520,1.1643932935492929,284798,1.1327326736845,288024,1.1023386939977176,291199,1.0704020274795001,294316,1.0396988271109908,297376,1.0081512966749084,300374,0.97877978786446995,303314,0.94918137639541378,306193,0.92196751721953518,309016]
[111,"Guatemala","San Raymundo",8.0113234253361636,37606,0.57171727915759085,37821,0.54731498373918885,38028,0.49963185021562051,38218,0.47883196399602923,38401,0.4531132001770688,38575,0.42514581983150723,38739,0.39236944681071417,38891,0.36512303617803887,39033,0.33048958573513865,39162,0.30386599254379476,39281,0.26985056388584283,39387,0.23865742503872411,39481,0.2102277044654377,39564,0.17692852087756172,39634,0.15390826058434559,39695]
[112,"Guatemala","Chuarrancho",6.4737242955064733,16123,0.27910438503999657,16168,0.57521029193468021,16261,0.75641104483119559,16384,0.909423828125,16533,0.99195548297343894,16697,1.0480924717015005,16872,1.0964912280701844,17057,1.1021867854839718,17245,1.1075674108437239,17436,1.1011699931176899,17628,1.0891763104152519,17820,1.0718294051627275,18011,1.0493587252234704,18200,1.0329670329670249,18388,1.0060909288666542,18573]
[113,"Guatemala","Fraijanes",9.4234300403966209,56956,2.2157454877449245,58218,1.8774262255659702,59311,1.6472492455025245,60288,1.5110801486199588,61199,1.4183238288207223,62067,1.3517650281147819,62906,1.2955838870696068,63721,1.2523343952543176,64519,1.2135959949782338,65302,1.1760742396863755,66070,1.142727410322375,66825,1.1103628881406591,67567,1.0789290630041304,68296,1.048377650228427,69012,1.021561467570864,69717]
[114,"Guatemala","Amatitlán",5.6606383346588744,138168,1.4894910543685969,140226,1.4676308245261227,142284,1.4203986393410473,144305,1.3991199196146997,146324,1.3709302643448718,148330,1.3429515270006132,150322,1.3131810380383468,152296,1.281714555864899,154248,1.250583475960787,156177,1.2197698764862874,158082,1.1886236257132365,159961,1.1565319046517697,161811,1.1278590454295356,163636,1.0975579945733172,165432,1.0705304898689594,167203]
[115,"Guatemala","Villa Nueva",4.9764965684073559,425783,1.8997940265346402,433872,1.8874230187705177,442061,1.8524592759822767,450250,1.8423098278734118,458545,1.8268654112464366,466922,1.8099382766286531,475373,1.7931182460930728,483897,1.7737245736179297,492480,1.755807342430149,501127,1.737084611286166,509832,1.7189976305920451,518596,1.7007458599757719,527416,1.6846284526825128,536301,1.6682795668850225,545248,1.6552101062268898,554273]
[116,"Guatemala","Villa Canales",11.435606862952765,160276,0.74496493548628084,161470,0.72211556326251536,162636,0.67635701812636118,163736,0.65410172472761818,164807,0.6261869944844678,165839,0.59817051477637495,166831,0.5682397156403729,167779,0.53701595551289838,168680,0.50628408821435933,169534,0.47424115516652154,170338,0.44382345689160108,171094,0.41205419243222074,171799,0.3824236462377506,172456,0.35313355290624848,173065,0.325889116805822,173629]
[117,"Guatemala","San Miguel Petapa",3.6154692294332191,131101,2.6071502124316304,134519,2.3580312074874099,137691,2.1163329484134685,140605,1.9316525016891184,143321,1.7722455188004638,145861,1.6378607029980508,148250,1.5264755480607128,150513,1.4304412243460796,152666,1.3513159446111089,154729,1.2828881463720521,156714,1.2232474443891528,158631,1.1712716934268785,160489,1.125310768962362,162295,1.0832126682892351,164053,1.0472225439339677,165771]
[201,"El Progreso","Guastatoya",8.8986251699652517,25803,1.0347633996046879,26070,0.9474491752972769,26317,0.90055857430557662,26554,0.82850041425019949,26774,0.80301785314109697,26989,0.78550520582458816,27201,0.75732509834196549,27407,0.73338928011092985,27608,0.70631700956245158,27803,0.67978275725641968,27992,0.64661331809088285,28173,0.62826110105420607,28350,0.59259259259258901,28518,0.56806227645698204,28680,0.54393305439330852,28836]
[202,"El Progreso","Morazán",6.2558067513161966,12442,0.32149172158817407,12482,0.28040378144527089,12517,0.26364144763122432,12550,0.23107569721114718,12579,0.23054296843947331,12608,0.24587563451776706,12639,0.26109660574411553,12672,0.24463383838384534,12703,0.25978115405809188,12736,0.25125628140703071,12768,0.25062656641603454,12800,0.24218750000000178,12831,0.23380874444705046,12861,0.22548790918279771,12890,0.21722265321955092,12918]
[203,"El Progreso","San Agustín Acasaguastlán",9.3280408278990645,52014,1.0747106548236962,52573,0.99861145454891442,53098,0.95483822366191351,53605,0.90103535117993516,54088,0.87819849134742611,54563,0.8723860491541835,55039,0.85212304002615369,55508,0.83411400158535098,55971,0.81649425595398117,56428,0.79747643014107528,56878,0.77534371813354763,57319,0.76065528009909844,57755,0.73067266903299455,58177,0.71334032349554821,58592,0.69634079737848076,59000]
[204,"El Progreso","San Cristóbal Acasaguastlán",2.9629629629629632,7692,0.57202288091524611,7736,0.54291623578075487,7778,0.53998457186936744,7820,0.49872122762149029,7859,0.50897060694745644,7899,0.50639321433092466,7939,0.50384179367679582,7979,0.4887830555207362,8018,0.46146171114991308,8055,0.45934202358783871,8092,0.4325259515570945,8127,0.43066322136089408,8162,0.40431266846361336,8195,0.37827943868211644,8226,0.36469730123998012,8256]
[205,"El Progreso","El Jícaro",4.4849537037037033,13476,7.4205995844467409E-2,13486,4.4490582826628433E-2,13492,3.7058997924699355E-2,13497,1.4818107727632146E-2,13499,2.222386843468982E-2,13502,5.184417123389462E-2,13509,6.6622251832115786E-2,13518,6.6577896138486636E-2,13527,8.8711465956969882E-2,13539,8.8632838466651265E-2,13551,9.5933879418486079E-2,13564,8.8469478030073212E-2,13576,9.5757218621095319E-2,13589,8.8306718669506346E-2,13601,9.5581207264161527E-2,13614]
[206,"El Progreso","Sansare",16.79554593257037,13107,0.74769207293812201,13205,0.66641423703142078,13293,0.63191153238546516,13377,0.57561486132915451,13454,0.55745503196076296,13529,0.53958163944121118,13602,0.52933392148213354,13674,0.51192043293841749,13744,0.49476135040744662,13812,0.47784535186794486,13878,0.44675025219771403,13940,0.44476327116211856,14002,0.39994286530495859,14058,0.39834969412433363,14114,0.37551367436587935,14167]
[207,"El Progreso","Sanarate",8.4699728397545506,40710,0.70498648980594769,40997,0.65126716589019029,41264,0.61554866227220284,41518,0.56120237005636842,41751,0.54130439989461543,41977,0.53839007075302536,42203,0.51892045589176927,42422,0.49974070057989817,42634,0.48318243655298687,42840,0.46451914098972757,43039,0.44146007109830965,43229,0.42795345716994948,43414,0.40309577555626142,43589,0.38083002592397275,43755,0.36567249457204465,43915]
[208,"El Progreso","San Antonio La Paz",14.323708206686931,20363,1.9299710258802838,20756,1.7103488148005441,21111,1.5394817867462551,21436,1.371524538160096,21730,1.2517257248044089,22002,1.1544405054086049,22256,1.0648813803019408,22493,0.97363624238651081,22712,0.89820359281436168,22916,0.82475126549135247,23105,0.76173988314218732,23281,0.70443709462650883,23445,0.63979526551503074,23595,0.59334604789149648,23735,0.54771434590268342,23865]
[301,"Sacatepéquez","Antigua Guatemala",6.0282095049860747,55089,0.918513677866728,55595,1.1260005396168671,56221,1.2041763753757539,56898,1.237301838377447,57602,1.2777334120342987,58338,1.2907538825465359,59091,1.2844595623699107,59850,1.2664995822890601,60608,1.2407602956705288,61360,1.2125162972620673,62104,1.1834986474301257,62839,1.1457852607457131,63559,1.1139256438899237,64267,1.0814259262140746,64962,1.0452264400726552,65641]
[302,"Sacatepéquez","Jocotenango",0.71442000376010528,21351,1.8593976862910422,21748,1.7426889828949799,22127,1.6134134767478603,22484,1.5121864436932864,22824,1.4721345951629772,23160,1.4335060449050196,23492,1.3962199897837646,23820,1.3602015113350019,24144,1.3212392312790033,24463,1.2917467195356247,24779,1.2470236894144282,25088,1.2157206632652962,25393,1.1774898594100636,25692,1.1443250817374961,25986,1.1082890787347033,26274]
[303,"Sacatepéquez","Pastores",1.5700761948741631,17737,2.2890003946552495,18143,1.9621892741002123,18499,1.7190118384777575,18817,1.5517882765584412,19109,1.4652781411900184,19389,1.4028572902160974,19661,1.3580184120848271,19928,1.3147330389401857,20190,1.2630014858840966,20445,1.2276840303252712,20696,1.1934673366834181,20943,1.1507424915246034,21184,1.1234894259818828,21422,1.0783306880776777,21653,1.0483535768715635,21880]
[304,"Sacatepéquez","Sumpango",5.33447265625,40889,2.272004695639418,41818,2.1474006408723545,42716,2.0179792115366579,43578,1.9206939281288804,44415,1.8777440054035699,45249,1.8409246613184882,46082,1.8011371034243329,46912,1.7650068212823999,47740,1.7260159195643165,48564,1.6926118112181809,49386,1.6563398533997464,50204,1.615409130746559,51015,1.5799274723120593,51821,1.5457054090040723,52622,1.5107749610429044,53417]
[305,"Sacatepéquez","Santo Domingo Xenacoj",1.5838732901367891,12429,2.8079491511787014,12778,2.6921270934418429,13122,2.5529644871208568,13457,2.4522553317975815,13787,2.4225719881047381,14121,2.3652715813327729,14455,2.3382912487028618,14793,2.3051443250185821,15134,2.259812343068579,15476,2.2227965882656964,15820,2.1871049304677648,16166,2.1526660893232741,16514,2.1133583626014252,16863,2.0814801636719338,17214,2.0448472173812071,17566]
[306,"Sacatepéquez","Santiago Sacatepéquez",5.3774874677198845,33338,2.0007198992141095,34005,1.8791354212615685,34644,1.749220644267413,35250,1.651063829787236,35832,1.6102924759991089,36409,1.573786701090385,36982,1.5331783029582047,37549,1.4967109643399201,38111,1.4588963816221101,38667,1.4249877156231383,39218,1.3896680095874414,39763,1.3479868219198776,40299,1.3176505620486889,40830,1.278471711976481,41352,1.2454053008318811,41867]
[307,"Sacatepéquez","San Bartolomé Milpas Altas",3.8064165307232187,7751,2.4512966068894304,7941,2.1030096965117817,8108,1.8253576714356123,8256,1.6351744186046568,8391,1.525443928018122,8519,1.4438314356145066,8642,1.3885674612358345,8762,1.335311572700304,8879,1.2839283703119708,8993,1.245413099077064,9105,1.1971444261394737,9214,1.1612763186455322,9321,1.1157601115760141,9425,1.0822281167108816,9527,1.049648367796796,9627]
[308,"Sacatepéquez","San Lucas Sacatepéquez",6.5016001347481893,26381,1.7398885561578314,26840,1.6169895678092461,27274,1.4922636943609291,27681,1.390845706441235,28066,1.3503883702700836,28445,1.3148180699595668,28819,1.2769353551476348,29187,1.2402782060506379,29549,1.1946258756641459,29902,1.1671460103003239,30251,1.1305411391358877,30593,1.0950217369986692,30928,1.0540610450077592,31254,1.0270685352274933,31575,0.98812351543942079,31887]
[309,"Sacatepéquez","Santa Lucía Milpas Altas",4.4266114418845453,15182,3.0562508233434427,15646,2.6971749968042857,16068,2.358725416977836,16447,2.0976469872925119,16792,1.9294902334444863,17116,1.7878008880579666,17422,1.6645620479853074,17712,1.5639114724480541,17989,1.4675635110345198,18253,1.3970306251027242,18508,1.3237518910741208,18753,1.2531328320801949,18988,1.2060248578049215,19217,1.1448196908986796,19437,1.1009929515871875,19651]
[310,"Sacatepéquez","Magdalena Milpas Altas",5.1677593521018128,12102,1.1568335812262465,12242,1.0210749877471059,12367,0.89754993126869298,12478,0.80141048244910529,12578,0.76323739863253248,12674,0.72589553416442243,12766,0.68149772834089628,12853,0.64576363494903699,12936,0.61842918985777207,13016,0.57621389059618888,13091,0.54235734474066266,13162,0.50144354961252358,13228,0.46870275173873654,13290,0.43641835966892195,13348,0.38957147138147796,13400]
[311,"Sacatepéquez","Santa María de Jesús",15.060240963855422,24780,1.5536723163841915,25165,1.4305583151202006,25525,1.3006856023506375,25857,1.2027690760722409,26168,1.1617242433506592,26472,1.1219401631912929,26769,1.0908140012701351,27061,1.0531761575699239,27346,1.0092883785562723,27622,0.97748171747158441,27892,0.93933744442851186,28154,0.90573275555871913,28409,0.86944278221690041,28656,0.83403126744834299,28895,0.80290707734902433,29127]
[312,"Sacatepéquez","Ciudad Vieja",1.8188613429674847,35075,3.0620099786172528,36149,2.8714487261058297,37187,2.6729771156587034,38181,2.5117204892485701,39140,2.4092999489013778,40083,2.3127011451238744,41010,2.2189709826871518,41920,2.1350190839694694,42815,2.0436762816769871,43690,1.9638361181048225,44548,1.8856065367693242,45388,1.8022384771305244,46206,1.7292126563649646,47005,1.6572705031379531,47784,1.5863050393437161,48542]
[313,"Sacatepéquez","San Miguel Dueñas",3.1530036508463324,13491,2.727744422207401,13859,2.5903744858936539,14218,2.4194682796455202,14562,2.3073753605274083,14898,2.2351993556182004,15231,2.173199395968739,15562,2.1205500578331815,15892,2.0513465894789862,16218,1.991614255765195,16541,1.9406323680551285,16862,1.8799667892302141,17179,1.8161709063391429,17491,1.7666228346006507,17800,1.7078651685393353,18104,1.6570923552805983,18404]
[314,"Sacatepéquez","San Juan Alotenango",11.329866270430907,25878,1.6577788082541067,26307,1.5319116584939341,26710,1.4077124672407404,27086,1.3032562947648207,27439,1.2682677940158094,27787,1.230791377262741,28129,1.1909417327313543,28464,1.1523327712197773,28792,1.1183662128368965,29114,1.0819536992512147,29429,1.0465867001936857,29737,1.0088442008272525,30037,0.97213436761327543,30329,0.93969468165782111,30614,0.90154831123014922,30890]
[315,"Sacatepéquez","San Antonio Aguas Calientes",2.8795811518324608,11018,2.6774369214013438,11313,2.5545832228409893,11602,2.4219962075504142,11883,2.3310611798367464,12160,2.2861842105263097,12438,2.2350860266924011,12716,2.20981440704624,12997,2.1697314764945741,13279,2.13118457715189,13562,2.0940864179324503,13846,2.0583562039578229,14131,2.0168424032269483,14416,1.9908435072142128,14703,1.9519825885873532,14990,1.914609739826556,15277]
[316,"Sacatepéquez","Santa Catarina Barahona",4.7619047619047619,4022,2.4117354549975101,4119,2.282107307598924,4213,2.1599810111559536,4304,2.0446096654274992,4392,2.0036429872495543,4480,1.9866071428571441,4569,1.9260231998249111,4657,1.9111015675327359,4746,1.8541930046354738,4834,1.8204385601986006,4922,1.7878911011783849,5010,1.7564870259481058,5098,1.7065515888583738,5185,1.6779170684667388,5272,1.6502276176024289,5359]
[401,"Chimaltenango","Chimaltenango",17.94737093461961,102730,1.9789740095395691,104763,1.9567977243874379,106813,1.9005177272429341,108843,1.8136214547559426,110817,1.7695840890838088,112778,1.7219670503112239,114720,1.6753835425383556,116642,1.6280585037979467,118541,1.5783568554339933,120412,1.5322393116965038,122257,1.485395519274979,124073,1.4386691705689403,125858,1.3944286418026586,127613,1.35252678018698,129339,1.3097364290739932,131033]
[402,"Chimaltenango","San José Poaquil",6.9980879541108987,30322,1.8105665853175967,30871,1.771889475559596,31418,1.6996626137882664,31952,1.5961442163244799,32462,1.5433429856447578,32963,1.4895488881473185,33454,1.428827643928976,33932,1.3792290463279455,34400,1.3226744186046524,34855,1.2681107445129847,35297,1.2182338442360496,35727,1.1671844823242905,36144,1.120517928286846,36549,1.0697967112643259,36940,1.0314022739577711,37321]
[403,"Chimaltenango","San Martín Jilotepeque",14.711460308859387,84520,1.8587316611452964,86091,1.8190054709551484,87657,1.7488620418220968,89190,1.6470456329184868,90659,1.5927817425738233,92103,1.5352377229840508,93517,1.4799448228664414,94901,1.4256962518835348,96254,1.3682548257734739,97571,1.3180145740025129,98857,1.2664758186066827,100109,1.2146760031565673,101325,1.1665433012583382,102507,1.121874603685602,103657,1.0766277241286204,104773]
[404,"Chimaltenango","San Juan Comalapa",12.781728939196634,51449,2.6142393438162159,52794,2.5741561541084312,54153,2.5021697782209751,55508,2.4014556460330017,56841,2.3451381925018833,58174,2.2879636951215421,59505,2.2334257625409526,60834,2.1747706874445161,62157,2.1220457872805909,63476,2.0669229315016802,64788,2.0158053960610101,66094,1.9638696402094036,67392,1.9171415004748393,68684,1.8694310174130813,69968,1.8236908300937493,71244]
[405,"Chimaltenango","Santa Apolonia",4.6121593291404608,21523,1.6075825860707216,21869,1.5638575152041811,22211,1.5037593984962516,22545,1.3927700155245137,22859,1.3430158799597525,23166,1.2863679530346284,23464,1.2231503579952285,23751,1.1788977306218751,24031,1.115226166201988,24299,1.0700028807769879,24559,1.0138849301681629,24808,0.96742986133504516,25048,0.9142446502714785,25277,0.87035645052815358,25497,0.82754833902027869,25708]
[406,"Chimaltenango","Tecpán Guatemala",16.1203007518797,98471,2.1579957550954099,100596,2.1193685633623671,102728,2.0471536484697461,104831,1.9459892589024141,106871,1.8920006362811215,108893,1.8348286850394357,110891,1.7792246440198056,112864,1.724199036007934,114810,1.6679731730685488,116725,1.6157635467980214,118611,1.5656220755241979,120468,1.5124348374672136,122290,1.4661869327009525,124083,1.4200172465204774,125845,1.3747069808097256,127575]
[407,"Chimaltenango","Patzún",25.381788485095957,63573,1.9426486086860706,64808,1.9009998765584513,66040,1.8322228952150299,67250,1.7308550185873628,68414,1.6750957406378886,69560,1.6173087981598666,70685,1.5632736789983781,71790,1.5085666527371533,72873,1.4532131242023905,73932,1.3985824811989289,74966,1.3499453085398683,75978,1.2977440838137344,76964,1.2499350345616111,77926,1.2049893488694341,78865,1.1602104862740159,79780]
[408,"Chimaltenango","San Miguel Pochuta",4.2999475616151024,10439,0.96752562505986184,10540,1.0531309297912683,10651,1.0609332457046206,10764,1.0590858416945403,10878,1.0847582276153789,10996,1.0913059294288763,11116,1.1065131342209433,11239,1.1210961829344335,11365,1.1086669599648102,11491,1.1226177008093252,11620,1.1015490533562877,11748,1.0980592441266701,11877,1.0861328618337884,12006,1.0661335998667365,12134,1.0548870941156974,12262]
[409,"Chimaltenango","Patzicía",41.52923538230884,35017,2.6901219407716281,35959,2.5167551934147214,36864,2.346462673611116,37729,2.1680935089718689,38547,2.0494461306975964,39337,1.9498182372829742,40104,1.8551765409934085,40848,1.7699764982373578,41571,1.6982992951817266,42277,1.6249970433096061,42964,1.5617726468671433,43635,1.5010885756846504,44290,1.4427636035222458,44929,1.3955351777248604,45556,1.343401527789978,46168]
[410,"Chimaltenango","Santa Cruz Balanyá",4.0614165428429914,9743,1.90906291696602,9929,1.8733004330748315,10115,1.8091942659416604,10298,1.689648475432115,10472,1.661573720397258,10646,1.5874506857035398,10815,1.5349052242256134,10981,1.4843821145615221,11144,1.4178033022254066,11302,1.3714386834188685,11457,1.3179715457798835,11608,1.274982770503108,11756,1.2249064307587654,11900,1.1764705882352899,12040,1.1378737541528183,12177]
[411,"Chimaltenango","Acatenango",9.5849207940645673,25993,1.6542915400300062,26423,1.6160163493925683,26850,1.5456238361266195,27265,1.4487438107463779,27660,1.3846710050614552,28043,1.3336661555468421,28417,1.2774043706232252,28780,1.2230715774843581,29132,1.1705341205547226,29473,1.1128829776405613,29801,1.0670782859635519,30119,1.0093296590192313,30423,0.96966111165894819,30718,0.91477309720684463,30999,0.8774476596019154,31271]
[412,"Chimaltenango","San Pedro Yepocapa",2.2994874636376226,36948,2.3790191620655987,37827,2.3422423136912895,38713,2.2679719990700731,39591,2.1671592028491338,40449,2.1137728992064009,41304,2.0554909936083776,42153,1.9998576613764252,42996,1.9443669178528245,43832,1.8867494068260715,44659,1.838375243511936,45480,1.783201407211954,46291,1.734678447214355,47094,1.6838663099333351,47887,1.6413640445214872,48673,1.5943130688472085,49449]
[413,"Chimaltenango","San Andrés Itzapa",5.0511124473842459,32050,1.5975039001560054,32562,1.5877403107917187,33079,1.5568789866682753,33594,1.4853842948145513,34093,1.4607104097615453,34591,1.4338989910670508,35087,1.4022287456892935,35579,1.3715956041485233,36067,1.3391743144702817,36550,1.3077975376196926,37028,1.2774116884519904,37501,1.2399669342150865,37966,1.2116103882421125,38426,1.1814916983292623,38880,1.1496913580246959,39327]
[414,"Chimaltenango","Parramos",4.151369669584863,17334,2.7114341756086402,17804,2.6735565041563714,18280,2.5984682713347862,18755,2.4953345774460178,19223,2.4449877750611249,19693,2.3866348448687402,20163,2.326042751574664,20632,2.2780147343931745,21102,2.2177992607335772,21570,2.1650440426518314,22037,2.1146254027317735,22503,2.0663911478469466,22968,2.0114942528735691,23430,1.9675629534784411,23891,1.9212255661127609,24350]
[415,"Chimaltenango","Zaragoza",3.3166009322337757,25209,2.7053829981355859,25891,2.6032211965547836,26565,2.4731789949181238,27222,2.3216516053192304,27854,2.2223020033029339,28473,2.1213079057352591,29077,2.0325343054647949,29668,1.944856410947815,30245,1.8581583732848461,30807,1.7788165027428748,31355,1.7062669430712774,31890,1.6306052053935316,32410,1.5705029311940732,32919,1.5067286369573774,33415,1.4454586263654035,33898]
[416,"Chimaltenango","El Tejar",2.7264533573681837,19735,2.8882695718267071,20305,2.8515144053188779,20884,2.7820340930856169,21465,2.6787794083391603,22040,2.6225045372050726,22618,2.5643292952515662,23198,2.5088369687042089,23780,2.451640033641711,24363,2.3970775356072727,24947,2.344971339239188,25532,2.2912423625254474,26117,2.2437492820768012,26703,2.1907650825749858,27288,2.1437994722955045,27873,2.1023929968069455,28459]
[501,"Escuintla","Escuintla",27.033474608532345,154623,1.592259883717162,157085,1.4909125632619258,159427,1.4294943767366952,161706,1.3604937355447433,163906,1.3184386172562235,166067,1.2802061818422583,168193,1.2408364200650501,170280,1.2003758515386487,172324,1.1629256516793918,174328,1.1237437474186596,176287,1.0868640342169389,178203,1.0516096810940345,180077,1.0167872632262931,181908,0.98291444026650243,183696,0.95157216270360667,185444]
[502,"Escuintla","Santa Lucía Cotzumalguapa",16.147678538131643,113756,1.9691269031963055,115996,1.8147177488878841,118101,1.7180210159101206,120130,1.6232414883875723,122080,1.5620904325032825,123987,1.505803027736774,125854,1.4532712508144252,127683,1.4019094162887713,129473,1.3531778826473495,131225,1.3031053534006576,132935,1.2585097980215787,134608,1.2146380601450124,136243,1.1721703133372063,137840,1.1302959953569447,139398,1.0925551299157732,140921]
[503,"Escuintla","La Democracia",22.407127248277021,24075,1.3416407061266789,24398,1.2132141978850708,24694,1.1298291082854073,24973,1.0331157650262268,25231,0.96310094724743056,25474,0.89895579806862358,25703,0.83258763568454519,25917,0.7678357834626004,26116,0.70071986521671459,26299,0.64260998517053913,26468,0.57427837388543956,26620,0.51840721262208511,26758,0.45220121085283171,26879,0.39435990922280784,26985,0.33722438391698972,27076]
[504,"Escuintla","Siquinalá",30.633738877791899,24427,0.75326482990134558,24611,0.91422534638982977,24836,1.0468674504751085,25096,1.1197003506534964,25377,1.1861134097805204,25678,1.2267310538203846,25993,1.2464894394644821,26317,1.2463426682372658,26645,1.2385062863576657,26975,1.2159406858202049,27303,1.1940079844705798,27629,1.1654421079300814,27951,1.1377052699366841,28269,1.1036824790406463,28581,1.0706413351527333,28887]
[505,"Escuintla","Masagua",17.122819021553198,44275,1.5674760022586165,44969,1.4521114545575919,45622,1.3765288676515608,46250,1.2994594594594622,46851,1.2465048771637788,47435,1.1953199114577817,48002,1.1457855922669902,48552,1.0977920579996692,49085,1.0492003667108118,49600,1.0020161290322571,50097,0.95814120606023678,50577,0.91345868675485331,51039,0.87188228609493823,51484,0.82938388625592996,51911,0.79173970834698348,52322]
[506,"Escuintla","Tiquisate",20.942622950819672,60648,0.66778789077956979,61053,0.68628896204936396,61472,0.73366736074960137,61923,0.75900715404615404,62393,0.80297469267385235,62894,0.83950774318695132,63422,0.86563022295103043,63971,0.88477591408606671,64537,0.89715976881479254,65116,0.90300387001658322,65704,0.90557652502130104,66299,0.90348270712981016,66898,0.89838261233519123,67499,0.88890205780827181,68099,0.88107020661096769,68699]
[507,"Escuintla","La Gomera",6.8532654792196777,60984,-23.619309982946348,46580,2.4109059682267064,47703,2.3352828962539096,48817,2.2574103283692137,49919,2.1995632925339015,51017,2.150263637610994,52114,2.1050005756610535,53211,2.0484486290428761,54301,2.001804754976888,55388,1.9552971762836657,56471,1.9071735935258793,57548,1.864530478904558,58621,1.8201668344108857,59688,1.7809274896126492,60751,1.7382429918848974,61807]
[508,"Escuintla","Guanagazapa",3.0777839955232231,17061,8.7919817126791422E-2,17076,0.15226048254861624,17102,0.25727985030989942,17146,0.32660678875540139,17202,0.42436925938844627,17275,0.49782923299566129,17361,0.55872357583088839,17458,0.61289953030130295,17565,0.66040421292343776,17681,0.68435043266783513,17802,0.71902033479385175,17930,0.73619631901840066,18062,0.74742553427085134,18197,0.75836676375227174,18335,0.76356694845922668,18475]
[509,"Escuintla","San José",11.502826175630791,60845,1.911414249322041,62008,1.7981550767642851,63123,1.7236189661454571,64211,1.6445780318014025,65267,1.5888580752907222,66304,1.5413851351351315,67326,1.4927368327243506,68331,1.441512637016884,69316,1.3950603035374209,70283,1.3459869385199941,71229,1.3014362127784951,72156,1.2583846111203556,73064,1.2153728238256889,73952,1.175086542622239,74821,1.1360446933347479,75671]
[510,"Escuintla","Iztapa",5.1664284255666733,17918,2.40540238865945,18349,2.1363562046978091,18741,1.9582733045194978,19108,1.7950596608750313,19451,1.6914297465425943,19780,1.5975733063700703,20096,1.5177149681528723,20401,1.4509092691534775,20697,1.3866743972556383,20984,1.3343499809378656,21264,1.2697516930022523,21534,1.2306120553543298,21799,1.1835405293820767,22057,1.1334270299678151,22307,1.0938270498049851,22551]
[511,"Escuintla","Palín",14.266991200149784,64408,1.951620916656327,65665,1.7817711109419099,66835,1.6907309044662311,67965,1.6008239535054702,69053,1.5480862525885986,70122,1.4973902626850277,71172,1.4486033833529977,72203,1.3974488594656664,73212,1.3508714418401402,74201,1.3018692470451843,75167,1.2585310042970921,76113,1.2139844704583957,77037,1.1708659475317074,77939,1.1303711877237221,78820,1.092362344582587,79681]
[512,"Escuintla","San Vicente Pacaya",3.0373831775700935,16558,1.7755767604783257,16852,1.6615238547353472,17132,1.5759981321503691,17402,1.5113205378692207,17665,1.4435324087177959,17920,1.4062500000000089,18172,1.3482280431432958,18417,1.3031438345007418,18657,1.2542209358417766,18891,1.2122174580488032,19120,1.1610878661087787,19342,1.116740771378355,19558,1.0788424174250855,19769,1.036977085335633,19974,0.99629518373887116,20173]
[513,"Escuintla","Nueva Concepción",22.638631659222138,74647,1.6290004956662774,75863,1.514572321157881,77012,1.4426323170414923,78123,1.3606748332757324,79186,1.3095749248604571,80223,1.2589905638034082,81233,1.2100993438627139,82216,1.1603580811520908,83170,1.1133822291691686,84096,1.0642598934550884,84991,1.0201080114365046,85858,0.97719490321228619,86697,0.93428838368110334,87507,0.89250002856913202,88288,0.85515585357014423,89043]
[514,"Escuintla","Sipacate",11.230585424133812,"…",{"$error":"#VALUE!"},15944,2.4084295032614111,16328,2.3395394414502668,16710,2.2501496110113761,17086,2.2064848413906102,17463,2.1473973544064551,17838,2.0966476062338923,18212,2.0535910388754575,18586,2.0068869041213855,18959,1.951579724669017,19329,1.9090485798541001,19698,1.8580566554980305,20064,1.8241626794258448,20430,1.7767988252569644,20793,1.7457798297503935,21156]
[601,"Santa Rosa","Cuilapa",21.013412816691503,43972,1.1439097607568449,44475,1.1332209106239555,44979,1.1494252873563315,45496,1.0989977140847484,45996,1.0718323332463697,46489,1.0432575447955506,46974,1.0090688465959952,47448,0.97369752149720767,47910,0.93926111458986217,48360,0.89950372208436047,48795,0.86074392868120686,49215,0.82495174235497348,49621,0.78998810987283008,50013,0.75780297122747253,50392,0.72233687886966713,50756]
[602,"Santa Rosa","Barberena",23.097978663672095,56507,1.4918505671863702,57350,1.3809938971229396,58142,1.3398231914966807,58921,1.2474330035131764,59656,1.2069196727906739,60376,1.164369948323829,61079,1.1214983873344408,61764,1.0831552360598407,62433,1.0459212275559349,63086,1.0049773325301992,63720,0.96516007532956305,64335,0.92950959819693146,64933,0.89630850261037676,65515,0.86087155613219224,66079,0.82628369073380892,66625]
[603,"Santa Rosa","Santa Rosa de Lima",4.5363307908470496,19147,2.2927873818352706,19586,2.0780149086081945,19993,1.9456809883459103,20382,1.7760769306250701,20744,1.6583108368684929,21088,1.5506449165402225,21415,1.4522530936259548,21726,1.3716284635920006,22024,1.2804213585179802,22306,1.1969873576616052,22573,1.1296681876578285,22828,1.0601016295777033,23070,0.99696575639358631,23300,0.93991416309013864,23519,0.88439134316935508,23727]
[604,"Santa Rosa","Casillas",11.317345597897503,25055,0.50688485332268662,25182,0.56786593598601165,25325,0.66337611056268564,25493,0.69430824147804771,25670,0.73626801714063994,25859,0.77342511311342399,26059,0.7905138339920903,26265,0.79192842185418222,26473,0.79703849204850741,26684,0.78698845750262425,26894,0.76968840633597768,27101,0.75273975130067949,27305,0.73246658121224328,27505,0.71259770950735657,27701,0.68589581603553107,27891]
[605,"Santa Rosa","San Rafael Las Flores",11.186113789778208,12421,2.0127203928830273,12671,1.9098729382053481,12913,1.8663362502904013,13154,1.7789265622624395,13388,1.7328951299671269,13620,1.6886930983847304,13850,1.6462093862815941,14078,1.6124449495666937,14305,1.5728766165676422,14530,1.5278733654507937,14752,1.4913232104121432,14972,1.456051295752081,15190,1.4154048716260803,15405,1.382667964946438,15618,1.3510052503521663,15829]
[606,"Santa Rosa","Oratorio",9.2989756722151089,24434,1.9399197839076621,24908,1.8267223382046005,25363,1.782123565824234,25815,1.6966879721092454,26253,1.6493353140593525,26686,1.6075845012366141,27115,1.5637101235478568,27539,1.5251098442209177,27959,1.4878929861583012,28375,1.4484581497797411,28786,1.4069339262141378,29191,1.3702853619266264,29591,1.3382447365753114,29987,1.3005635775502622,30377,1.2674062613161174,30762]
[607,"Santa Rosa","San Juan Tecuaco",6.4714218233349081,11429,2.1261702686149242,11672,2.0133653187114353,11907,1.9820273788527798,12143,1.877624969118008,12371,1.8430199660496305,12599,1.7937931581871513,12825,1.7543859649122862,13050,1.7241379310344751,13275,1.6798493408662907,13498,1.6372795969773257,13719,1.5963262628471364,13938,1.564069450423311,14156,1.5187906188188771,14371,1.4960684712267858,14586,1.460304401480883,14799]
[608,"Santa Rosa","Chiquimulilla",8.4501951713170449,58748,1.8570844964934885,59839,1.7413392603486066,60881,1.6983952300389182,61915,1.6118872647985061,62913,1.5640646607219422,63897,1.5243282157221705,64871,1.4814015507699896,65832,1.4415481832543486,66781,1.4045911262185351,67719,1.3629852773962892,68642,1.3213484455581126,69549,1.2868624998202627,70444,1.2520583726080226,71326,1.2155455233715529,72193,1.1815549984070417,73046]
[609,"Santa Rosa","Taxisco",5.1302498670919725,32826,2.0898068604155329,33512,1.9783957985199274,34175,1.9341623994147739,34836,1.8429211160868153,35478,1.8011161846778201,36117,1.755406041476304,36751,1.7142390683246633,37381,1.6773227040475014,38008,1.6364975794569636,38630,1.5946155837432086,39246,1.5568465576109691,39857,1.5179265875504999,40462,1.4828728189412388,41062,1.451463640348738,41658,1.4114935906668569,42246]
[610,"Santa Rosa","Santa María Ixhuatán",25.896481732070363,25558,0.93121527506063728,25796,0.81795627229028778,26007,0.78055908024763365,26210,0.6867607783288765,26390,0.64418340280409936,26560,0.60617469879518104,26721,0.56135623666779821,26871,0.52472926202968839,27012,0.48496964312156887,27143,0.44210293630033703,27263,0.40714521512672519,27374,0.36896324979907025,27475,0.33848953594175502,27568,0.30107370864771443,27651,0.26762142417995349,27725]
[611,"Santa Rosa","Guazacapán",4.8961748633879782,20338,1.656996754843143,20675,1.5429262394195842,20994,1.5004286939125366,21309,1.4125486883476368,21610,1.3697362332253604,21906,1.3284031772117233,22197,1.2839572915258834,22482,1.2454407970821091,22762,1.2081539407784891,23037,1.1676867647697264,23306,1.1284647730198216,23569,1.0946582375153779,23827,1.0534267847400081,24078,1.0216795414901503,24324,0.99079098832428603,24565]
[612,"Santa Rosa","Santa Cruz Naranjo",5.9280855199222549,15980,2.071339173967468,16311,1.9679970572006544,16632,1.9179894179894186,16951,1.8288006607279916,17261,1.7843693876368638,17569,1.7417041379702791,17875,1.7006993006992932,18179,1.6612574949117054,18481,1.6286997456847585,18782,1.5866254924928214,19080,1.5408805031446482,19374,1.5071745638484568,19666,1.4695413403844171,19955,1.4382360310699172,20242,1.4030234166584332,20526]
[613,"Santa Rosa","Pueblo Nuevo Viñas",15.08307791579287,28385,0.7856262110269574,28608,0.67114093959732557,28800,0.63194444444445441,28982,0.54516596508178417,29140,0.49759780370624007,29285,0.4541574184736108,29418,0.41471208103882606,29540,0.37576167907922287,29651,0.33725675356648388,29751,0.29914960841652682,29840,0.25804289544235637,29917,0.22061035531637518,29983,0.19010772771237416,30040,0.15312916111851482,30086,0.11965698331450891,30122]
[614,"Santa Rosa","Nueva Santa Rosa",14.849563248139761,37182,1.108063041256524,37594,0.99749960100015134,37969,0.95340936026757639,38331,0.86613967806736802,38663,0.82249178801439005,38981,0.78243246709934766,39286,0.73817644962581586,39576,0.70244592682433549,39854,0.66241782506146762,40118,0.62066902637221144,40367,0.58463596502094095,40603,0.54675762874665246,40825,0.51194121249233948,41034,0.48008968172734701,41231,0.4438407993985205,41414]
[701,"Sololá","Sololá",10.081762281235218,94406,1.0253585577187918,95374,1.0222911904711918,96349,0.98392302981868962,97297,0.94350288292548434,98215,0.89497530927047375,99094,0.84767998062444949,99934,0.79852702783838048,100732,0.75348449350751689,101491,0.7064665832438255,102208,0.65943957420162569,102882,0.61429598958029352,103514,0.56997121162354336,104104,0.52831783601015037,104654,0.48636459189328463,105163,0.4469252493747744,105633]
[702,"Sololá","San José Chacayá",0.40268456375838929,4644,2.1963824289405576,4746,2.0648967551622377,4844,1.9818331957060176,4940,1.9230769230769162,5035,1.8470705064548065,5128,1.7940717628705194,5220,1.7432950191570873,5311,1.713424967049515,5402,1.6475379489078179,5491,1.6026224731378713,5579,1.5773436099659532,5667,1.5175577907181825,5753,1.4774900052146656,5838,1.4559780746831175,5923,1.4013169002194736,6006]
[703,"Sololá","Santa María Visitación",1.4598540145985401,2355,1.7409766454352438,2396,1.7529215358931483,2438,1.722723543888427,2480,1.6532258064516192,2521,1.5866719555731823,2561,1.6009371339320566,2602,1.4988470407378829,2641,1.4767133661491849,2680,1.4179104477611837,2718,1.3980868285504044,2756,1.3425253991291797,2793,1.2889366272824887,2829,1.2725344644750836,2865,1.221640488656206,2900,1.172413793103444,2934]
[704,"Sololá","Santa Lucía Utatlán",4.1693256753882153,21011,0.67583646661273367,21153,0.67602704108165046,21296,0.6386175807663319,21432,0.59723777528928323,21560,0.55658627087198376,21680,0.50738007380073391,21790,0.46351537402478105,21891,0.41569594810653143,21982,0.37303248112092735,22064,0.32632342277012505,22136,0.28460426454643972,22199,0.23874949322042482,22252,0.20222901312241248,22297,0.15697178992688521,22332,0.12538061973850212,22360]
[705,"Sololá","Nahualá",2.2620745873242307,81246,2.4456588632055798,83233,2.4437422656878871,85267,2.4065582229936489,87319,2.3683276262898012,89387,2.3191291798583702,91460,2.2753116116335015,93541,2.2257619653414107,95623,2.1825293078025165,97710,2.1348889571179974,99796,2.0912661830133406,101883,2.0464650628662318,103968,2.0025392428439481,106050,1.9622819424799598,108131,1.922667875077444,110210,1.8827692586879552,112285]
[706,"Sololá","Santa Catarina Ixtahuacán",3.1627422017551483,54702,2.0310043508463993,55813,1.9816171859602605,56919,1.9290570811152596,58017,1.8856542048020453,59111,1.8355297660334058,60196,1.7908166655591806,61274,1.7429905016809633,62342,1.7002983542395267,63402,1.6545219393709898,64451,1.6089742595149836,65488,1.5666992426093262,66514,1.5229876416994914,67527,1.4838509040828063,68529,1.4431846371609103,69518,1.406829885784977,70496]
[707,"Sololá","Santa Clara La Laguna",0.80492424242424243,9435,1.6110227874933658,9587,1.6063419213518282,9741,1.5706806282722585,9894,1.5160703456640334,10044,1.4834727200318643,10193,1.4421661924850282,10340,1.382978723404249,10483,1.3545740723075461,10625,1.2988235294117745,10763,1.2542971290532279,10898,1.2112314186089268,11030,1.1786038077969074,11160,1.1290322580645107,11286,1.0898458266879407,11409,1.0518012095714013,11529]
[708,"Sololá","Concepción",18.690601900739175,6744,0.37069988137603538,6769,0.84207416161914406,6826,1.1719894520949348,6906,1.3756154068925497,7001,1.4712183973718096,7104,1.5484234234234284,7214,1.580260604380368,7328,1.5829694323144183,7444,1.5851692638366499,7562,1.5604337476857966,7680,1.5364583333333348,7798,1.4875609130546197,7914,1.4657568865301895,8030,1.4445828144458384,8146,1.3994598575988171,8260]
[709,"Sololá","San Andrés Semetabaj",2.4924471299093658,13451,1.7396476098431313,13685,1.74643770551699,13924,1.7020970985349049,14161,1.6665489725301796,14397,1.618392720705697,14630,1.5789473684210575,14861,1.5274880559854598,15088,1.4779957582184533,15311,1.436875449023578,15531,1.3972055888223478,15748,1.3462026924053738,15960,1.3157894736842035,16170,1.267779839208405,16375,1.2274809160305322,16576,1.1884652509652538,16773]
[710,"Sololá","Panajachel",6.8582271618324757,14448,1.8895348837209225,14721,1.888458664492898,14999,1.853456897126482,15277,1.8131832166001116,15554,1.7744631606017691,15830,1.7119393556538132,16101,1.6769144773616462,16371,1.637041109278603,16639,1.5866338121281354,16903,1.5441045968171307,17164,1.5031461197855922,17422,1.4521868901389068,17675,1.4144271570014189,17925,1.3779637377963727,18172,1.3372220999339657,18415]
[711,"Sololá","Santa Catarina Palopó",15.24966261808367,4588,1.0897994768962471,4638,1.1211729193618014,4690,1.0660980810234477,4740,1.0337552742615941,4789,0.98141574441428236,4836,0.95119933829610481,4882,0.90126997132322639,4926,0.85261875761266648,4968,0.80515297906602612,5008,0.75878594249201292,5046,0.71343638525565023,5082,0.68870523415978102,5117,0.6253664256400171,5149,0.60205865216547139,5180,0.5791505791505891,5210]
[712,"Sololá","San Antonio Palopó",6.9155446756425949,14934,0.96424266773804668,15078,0.95503382411461502,15222,0.91972145578766984,15362,0.88530139304778821,15498,0.83881791198865407,15628,0.79344765804965078,15752,0.74276282376841696,15869,0.69947696767282963,15980,0.65707133917396465,16085,0.60926328877837221,16183,0.56849780633998481,16275,0.52227342549924227,16360,0.48899755501221609,16440,0.44403892944038237,16513,0.40574093138738831,16580]
[713,"Sololá","San Lucas Tolimán",12.60543580131209,30177,0.94774165755375783,30463,0.94540918491283765,30751,0.91053949465058626,31031,0.87332022815893584,31302,0.82103379975719815,31559,0.7794923793529529,31805,0.73258921553214229,32038,0.68980585554654361,32259,0.63858148113704605,32465,0.59756661019558788,32659,0.55421170274656539,32840,0.51157125456759989,33008,0.46958313136209462,33163,0.43120344962759294,33306,0.39332252447006333,33437]
[714,"Sololá","Santa Cruz La Laguna",1.633705932932072,7371,1.2210012210012167,7461,1.2062726176115701,7551,1.1786518341941443,7640,1.1387434554973819,7727,1.1000388248997073,7812,1.0496671786994316,7894,0.98809222194071733,7972,0.9533366783743169,8048,0.91948310139164935,8122,0.86185668554543682,8192,0.830078125,8260,0.77481840193704965,8324,0.75684766938972636,8387,0.69154644092046524,8445,0.66311426879810398,8501]
[715,"Sololá","San Pablo La Laguna",1.4450867052023122,7685,0.58555627846454961,7730,0.67270375161707641,7782,0.68105885376510411,7835,0.70197830248883708,7890,0.70975918884663702,7946,0.72992700729928028,8004,0.7371314342828672,8063,0.75654222993923881,8124,0.73855243722305008,8184,0.7575757575757569,8246,0.75187969924812581,8308,0.75830524795377219,8371,0.75259825588340767,8434,0.75883329381076781,8498,0.7531183807954811,8562]
[716,"Sololá","San Marcos La Laguna",0.55045871559633031,2723,1.3955196474476628,2761,1.3400941687794266,2798,1.3581129378127166,2836,1.2693935119887145,2872,1.2883008356545878,2909,1.20316259883122,2944,1.1548913043478271,2978,1.1081262592343766,3011,1.0959814015277347,3044,1.018396846254932,3075,0.97560975609756184,3105,0.96618357487923134,3135,0.8612440191387627,3162,0.88551549652118311,3190,0.84639498432601545,3217]
[717,"Sololá","San Juan La Laguna",0.79756931257121155,11700,2.3504273504273421,11975,2.3632567849686925,12258,2.3086963615597922,12541,2.2884937405310612,12828,2.2217025257249778,13113,2.1886677343094574,13400,2.1417910447761201,13687,2.0895740483670711,13973,2.0539612109067518,14260,2.0056100981767244,14546,1.9593015261927693,14831,1.9149079630503607,15115,1.8855441614290536,15400,1.8311688311688279,15682,1.7982400204055615,15964]
[718,"Sololá","San Pedro La Laguna",3.2294832826747721,10424,2.1968534151957098,10653,2.1871773209424683,10886,2.167922101782116,11122,2.1129293292573292,11357,2.0780135599189897,11593,2.0270853101009179,11828,1.9783564423402122,12062,1.9399767866025597,12296,1.8867924528301883,12528,1.8438697318007735,12759,1.8026491104318421,12989,1.7630302563707678,13218,1.7173551218035987,13445,1.6809222759390119,13671,1.6458196181698526,13896]
[719,"Sololá","Santiago Atitlán",2.5908278737343657,39702,2.1207999596997595,40544,2.1211523283346523,41404,2.0843396773258638,42267,2.046513828755292,43132,1.9985161828804499,43994,1.954812019820884,44854,1.9061845097427144,45709,1.8639655210133776,46561,1.8169712849809949,47407,1.7739996203092412,48248,1.7306416846294193,49083,1.6849010859157021,49910,1.6469645361651075,50732,1.6084522589292716,51548,1.5674710949018289,52356]
[801,"Totonicapán","Totonicapán",30.415573053368327,110020,1.2715869841847027,111419,1.331011766395318,112902,1.3728720483251022,114452,1.3333100339006698,115978,1.297659901015713,117483,1.2572031698203201,118960,1.2172158708809722,120408,1.1768321041791152,121825,1.1376975169300252,123211,1.094869776237517,124560,1.0549132947976769,125874,1.0176843510176781,127155,0.97911997168809162,128400,0.943146417445484,129611,0.90810193579249354,130788]
[802,"Totonicapán","San Cristóbal Totonicapán",13.96317699233974,39435,1.389628502599205,39983,1.4481154490658454,40562,1.4915438094768474,41167,1.4501906867150804,41764,1.412699932956607,42354,1.3764933654436318,42937,1.3368423504203752,43511,1.2939256739675109,44074,1.2524390797295393,44626,1.2145386097790478,45168,1.1733970952886974,45698,1.1357170992166044,46217,1.0991626457796944,46725,1.0615302300695628,47221,1.0270854069164059,47706]
[803,"Totonicapán","San Francisco El Alto",14.525452172291628,57465,2.3266336030627333,58802,2.3145471242474791,60163,2.2954307464720936,61544,2.2000519953204289,62898,2.108175140704005,64224,2.0194942700548113,65521,1.9337311701591808,66788,1.8536263999520797,68026,1.7743215829241654,69233,1.6971675357127403,70408,1.6248153618906969,71552,1.5597048300536764,72668,1.4930918698739415,73753,1.4331620408661427,74810,1.3754845608875854,75839]
[804,"Totonicapán","San Andrés Xecul",14.652857690832374,26927,1.6897537787351036,27382,1.7529764078591858,27862,1.7981480152178486,28363,1.7522829037830867,28860,1.7186417186417113,29356,1.6793841122768827,29849,1.6415960333679536,30339,1.595306371337224,30823,1.5605229860818248,31304,1.5173779708663515,31779,1.4758173636678418,32248,1.4419498883651682,32713,1.4000550239965825,33171,1.3626360375026403,33623,1.3294471046604972,34070]
[805,"Totonicapán","Momostenango",12.064911978897873,124019,1.9497012554527959,126437,2.006532897806812,128974,2.04925023648177,131617,2.0088590379662152,134261,1.9722778766730453,136909,1.930479369508209,139552,1.891051364365981,142191,1.848921521052671,144820,1.8084518712884856,147439,1.7647976451278247,150041,1.7248618710885788,152629,1.6864422881627927,155203,1.6475197000058062,157760,1.6100405679513097,160300,1.57392389270119,162823]
[806,"Totonicapán","Santa María Chiquimula",10.469521294914475,56425,0.68586619406292293,56812,0.74632119974653577,57236,0.78447131176182516,57685,0.74542775418220408,58115,0.70721844618428786,58526,0.66978778662474259,58918,0.62629417156048195,59287,0.58697522222410647,59635,0.54665884128448639,59961,0.50532846350128668,60264,0.46296296296295392,60543,0.42614340220998859,60801,0.38650680087497502,61036,0.35061275312930906,61250,0.31346938775509425,61442]
[807,"Totonicapán","Santa Lucía la Reforma",30.945648759032355,24370,0.8288879770209201,24572,0.88718867003092505,24790,0.93182734973780157,25021,0.8952479916869871,25245,0.85561497326203106,25461,0.81300813008129413,25668,0.7791803023219579,25868,0.73449822174114221,26058,0.69844193721697589,26240,0.65167682926829951,26411,0.61338078830790455,26573,0.57577240055695089,26726,0.53880116740252504,26870,0.50614067733532053,27006,0.46656298600311619,27132]
[808,"Totonicapán","San Bartolo Aguas Calientes",7.1063394683026582,12100,0.1735537190082681,12121,0.35475620823364196,12164,0.50970075633014478,12226,0.57255030263372308,12296,0.63435263500324357,12374,0.68692419589462261,12459,0.72236937153864478,12549,0.75703243286318056,12644,0.77507118000632591,12742,0.80050227593784218,12844,0.80971659919029104,12948,0.82638245288848555,13055,0.82726924549980652,13163,0.82807870546228735,13272,0.83634719710670158,13383]
[901,"Quetzaltenango","Quetzaltenango",9.1341869518315271,178463,2.0480435720569456,182118,2.0267079585763126,185809,1.9939830686349858,189514,1.9486686999377278,193207,1.8943413023337685,196867,1.840836707015403,200491,1.7876114139786736,204075,1.7371064559598137,207620,1.6848087852808113,211118,1.6351045386939989,214570,1.5873607680477297,217976,1.5405365728337062,221334,1.4968328408649478,224647,1.4529461777811337,227911,1.4110771309853387,231127]
[902,"Quetzaltenango","Salcajá",3.0322307039864294,18653,2.6376454189674492,19145,2.4236092974667001,19609,2.2336682135754016,20047,2.0551703496782592,20459,1.9160271763038361,20851,1.7792911610953865,21222,1.6727923852605686,21577,1.5757519581035329,21917,1.4919925172240722,22244,1.4116166157166044,22558,1.3432041847681431,22861,1.2860329819343042,23155,1.2308356726409064,23440,1.1689419795221756,23714,1.1301340980011787,23982]
[903,"Quetzaltenango","San Juan Olintepeque",7.0197668525088703,34844,2.2643783721731037,35633,1.9672775236438067,36334,1.799966973083067,36988,1.6951443711473946,37615,1.6057423900039947,38219,1.5411182919490285,38808,1.4816532673675553,39383,1.4244724881294024,39944,1.3744241938714152,40493,1.3212160126441663,41028,1.2771765623476705,41552,1.2273777435502398,42062,1.1839665256050624,42560,1.1442669172932352,43047,1.0987989871535708,43520]
[904,"Quetzaltenango","San Carlos Sija",15.200361554685147,31919,1.8452959052601914,32508,1.8241663590500723,33101,1.7945077188000313,33695,1.7480338329128875,34284,1.697584879243963,34866,1.6376986175643982,35437,1.5915568473629182,36001,1.5360684425432591,36554,1.4854735459867596,37097,1.4394694988813184,37631,1.3871542079668453,38153,1.3445862710665057,38666,1.300884498008581,39169,1.2535423421583314,39660,1.2153303076147148,40142]
[905,"Quetzaltenango","Sibilia",3.7172774869109948,7984,1.9539078156312728,8140,1.9410319410319454,8298,1.8920221740178267,8455,1.8568894145476023,8612,1.7882025081281894,8766,1.7567875884097583,8920,1.692825112107621,9071,1.642597288060843,9220,1.5943600867678986,9367,1.5373118394363283,9511,1.5035222374093049,9654,1.4501760928112617,9794,1.3988156013886144,9931,1.3593797200684765,10066,1.3212795549374157,10199]
[906,"Quetzaltenango","Cabricán",10.262257696693272,25156,1.7172841469232036,25588,1.700015632327645,26023,1.6639126926180747,26456,1.6215603265799849,26885,1.569648502882659,27307,1.5124327095616508,27720,1.4574314574314684,28124,1.4151614279618752,28522,1.3603534114017268,28910,1.3075060532687699,29288,1.259901666211416,29657,1.2172505647907839,30018,1.172629755480048,30370,1.1326967402041532,30714,1.0874519762974488,31048]
[907,"Quetzaltenango","Cajolá",6.7558299039780518,17791,1.2140970153448283,18007,1.221747098350634,18227,1.2344324353980252,18452,1.2085410795577678,18675,1.1834002677376221,18896,1.1642675698560589,19116,1.1351747227453357,19333,1.1069156364764909,19547,1.074333657338733,19757,1.0477299185098987,19964,1.0218393107593648,20168,0.98671162237207177,20367,0.96725094515637267,20564,0.9336704921221628,20756,0.91058007323183698,20945]
[908,"Quetzaltenango","San Miguel Siguilá",7.7288135593220346,8912,1.570915619389579,9052,1.5576668139637651,9193,1.5228978570651641,9333,1.478624236579873,9471,1.4359624115721781,9607,1.3739981263661827,9739,1.3348393058835617,9869,1.2767250987941958,9995,1.2406203101550828,10119,1.1858879335902683,10239,1.1426897157925664,10356,1.1104673619158012,10471,1.0505204851494643,10581,1.0206974766090227,10689,0.98231827111985304,10794]
[909,"Quetzaltenango","San Juan Ostuncalco",11.782807226523724,59311,0.38778641398728997,59541,0.45682806805393827,59813,0.50992259207864876,60118,0.54725706111313777,60447,0.56909358611676453,60791,0.58725798226710868,61148,0.60345391509124546,61517,0.6160898613391419,61896,0.62362672870621694,62282,0.62939533091423971,62674,0.63343651274849755,63071,0.63579140968115233,63472,0.63807663221577826,63877,0.63403102838266445,64282,0.63314769297782014,64689]
[910,"Quetzaltenango","San Mateo",2.1558872305140961,7682,3.1892736266597277,7927,2.6996341617257391,8141,2.309298611964139,8329,2.0530675951494715,8500,1.8588235294117572,8658,1.7094017094017033,8806,1.5898251192368873,8946,1.5090543259557387,9081,1.4095363946701855,9209,1.3573677923770289,9334,1.3070494964645407,9456,1.2373096446700593,9573,1.1908492635537504,9687,1.1458655930628669,9798,1.102265768524191,9906]
[911,"Quetzaltenango","Concepción Chiquirichapa",0.53536207382361234,18499,1.8865884642413011,18848,1.8622665534804739,19199,1.8334288244179486,19551,1.7850749322285253,19900,1.7336683417085386,20245,1.6794270190170435,20585,1.6273985912071964,20920,1.5726577437858547,21249,1.5247776365946653,21573,1.4740648032262493,21891,1.4252432506509427,22203,1.3826960320677317,22510,1.3371834740115496,22811,1.2932357196089539,23106,1.2550852592400297,23396]
[912,"Quetzaltenango","San Martín Sacatepéquez",3.6961681926076637,30040,1.8175765645805697,30586,1.7982083306087748,31136,1.7664439876670102,31686,1.7231584927097199,32232,1.6722511789525996,32771,1.6233865307741624,33303,1.5704290904723361,33826,1.5224974871400621,34341,1.4734573833027564,34847,1.4291043705340511,35345,1.3778469373320057,35832,1.3367939272159068,36311,1.2971275921896952,36782,1.256049154477723,37244,1.2136183009343826,37696]
[913,"Quetzaltenango","Almolonga",1.4224751066856329,15087,2.0878902366275653,15402,2.0711595896636847,15721,2.0418548438394524,16042,1.9947637451689371,16362,1.9374159638186006,16679,1.8826068709155264,16993,1.8360501382922445,17305,1.7798324183761816,17613,1.7316754669846057,17918,1.6798749860475581,18219,1.6356550853504626,18517,1.5877301938759025,18811,1.5416511615544026,19101,1.4973038060834609,19387,1.459741063599318,19670]
[914,"Quetzaltenango","Cantel",7.4266740453790812,39421,3.3357854950407217,40736,3.0268067556951994,41969,2.7567966832662272,43126,2.5182024764643041,44212,2.3002804668415866,45229,2.1158990912909958,46186,1.9508076040358535,47087,1.8136640686388983,47941,1.6895767714482313,48751,1.5794547804147685,49521,1.4842188162597747,50256,1.3988379496975512,50959,1.3245942816774159,51634,1.2530503156834571,52281,1.1916374973699906,52904]
[915,"Quetzaltenango","Huitán",8.5978304539975881,13952,0.50172018348624281,14022,0.69890172585935773,14120,0.84277620396600028,14239,0.94810028794156676,14374,1.0296368443022175,14522,1.0673460955791247,14677,1.10376779995911,14839,1.1254127636633138,15006,1.1262161801945947,15175,1.1202635914332681,15345,1.1143695014662836,15516,1.0956432070121203,15686,1.0710187428280005,15854,1.0596694840418808,16022,1.0298339782798704,16187]
[916,"Quetzaltenango","Zunil",0.62968515742128939,13954,2.4795757488892178,14300,2.1678321678321621,14610,1.9507186858316317,14895,1.7858341725411231,15161,1.6687553591451687,15414,1.5764889061891774,15657,1.5073130229290355,15893,1.4345938463474539,16121,1.3832888778611663,16344,1.3215859030837107,16560,1.2801932367149771,16772,1.2282375387550726,16978,1.1897750029449927,17180,1.1408614668218853,17376,1.0992173112338799,17567]
[917,"Quetzaltenango","Colomba Costa Cuca",17.192912996139761,53017,0.59226285908293708,53331,0.7537829780052796,53733,0.88027841363780279,54206,0.96668265505663875,54730,1.0232048236798796,55290,1.0634834508952862,55878,1.0898743691613921,56487,1.1046789526793832,57111,1.1066169389434499,57743,1.1031640198811976,58380,1.0928400137033334,59018,1.0776373309837606,59654,1.0611191202601677,60287,1.0383664803357284,60913,1.0145617520069594,61531]
[918,"Quetzaltenango","San Francisco La Unión",10.767326732673267,8509,2.1154072158890536,8689,2.0255495454022387,8865,1.9176536943034339,9035,1.8372993912562308,9201,1.7389414194109332,9361,1.6558060036320876,9516,1.5762925598991062,9666,1.5104489964825163,9812,1.4370158988993076,9953,1.3764694062091909,10090,1.3082259663032669,10222,1.271766777538641,10352,1.2074961360123648,10477,1.1549107568960659,10598,1.1228533685601061,10717]
[919,"Quetzaltenango","El Palmar",2.9657545469441255,29115,1.2433453546282003,29477,1.2620008820436235,29849,1.2596736909109119,30225,1.2406947890818865,30600,1.2189542483660221,30973,1.1913602169631554,31342,1.161380894646169,31706,1.1322778023087121,32065,1.1040074847965098,32419,1.0734445849656105,32767,1.0467848750266961,33110,1.0147991543340451,33446,0.98666507205644738,33776,0.95926101373755568,34100,0.92961876832844403,34417]
[920,"Quetzaltenango","Coatepeque",4.6665528135940573,110644,1.0276201149633124,111781,1.1719344074574423,113091,1.2653526805846527,114522,1.3159043677197335,116029,1.335872928319648,117579,1.3378239311441664,119152,1.3302336511346935,120737,1.3119424865617013,122321,1.285960709935341,123894,1.2559123121377969,125450,1.2235950577919485,126985,1.1891168248218342,128495,1.1556869917117352,129980,1.1178642868133526,131433,1.0826809096649903,132856]
[921,"Quetzaltenango","Génova",11.493246623311656,42336,1.2896825396825351,42882,1.3105732008768189,43444,1.3143356965288566,44015,1.3063728274451902,44590,1.282798833819232,45162,1.2599087728621505,45731,1.231112374538057,46294,1.205339784853332,46852,1.1760437121147493,47403,1.1433875493112255,47945,1.115861925122541,48480,1.0849834983498452,49006,1.0529322940048047,49522,1.0258067121683201,50030,0.99340395762541611,50527]
[922,"Quetzaltenango","Flores Costa Cuca",7.5,21312,2.317942942942941,21806,2.3067045767219962,22309,2.2905553812362811,22820,2.2567922874671353,23335,2.2112706235268842,23851,2.1718166953167639,24369,2.1297550166194723,24888,2.0893603342976519,25408,2.0505352644836217,25929,2.0170465501947676,26452,1.9809466202933557,26976,1.9461743772241968,27501,1.9162939529471679,28028,1.8838304552590168,28556,1.8595041322314154,29087]
[923,"Quetzaltenango","La Esperanza",1.5973826020015396,21878,2.5962153761769802,22446,2.1919272921678612,22938,1.9487313628040903,23385,1.7831943553559881,23802,1.6679270649525346,24199,1.5703128228439223,24579,1.5012815818381542,24948,1.4389931056597804,25307,1.3830165566839137,25657,1.3251744163386148,25997,1.2770704312035974,26329,1.2267841543545099,26652,1.1894041722947613,26969,1.138344024620852,27276,1.1035342425575578,27577]
[924,"Quetzaltenango","Palestina de Los Altos",4.082240762812873,19606,0.35703356115475149,19676,0.57938605407603649,19790,0.74279939363315339,19937,0.86271756031499613,20109,0.94485056442388249,20299,1.0099019656140795,20504,1.0485758876316753,20719,1.0763067715623409,20942,1.083946136949665,21169,1.0912182908970669,21400,1.0841121495327011,21632,1.0771079881656709,21865,1.0564829636405149,22096,1.040912382331638,22326,1.0122726865537945,22552]
[1001,"Suchitepéquez","Mazatenango",35.738456500382057,82645,5.0819771311028106E-2,82687,0.1221473750408153,82788,0.21863071942793688,82969,0.29167520399184799,83211,0.34730985086106614,83500,0.3928143712574883,83828,0.42706494250130955,84186,0.45494500273204341,84569,0.47535148813395711,84971,0.48840192536276916,85386,0.49773967629354043,85811,0.50110125741456013,86241,0.50324091789288872,86675,0.50187481972887582,87110,0.49822064056939119,87544]
[1002,"Suchitepéquez","Cuyotenango",3.7166085946573753,34558,1.6117830892991458,35115,1.5491955004983682,35659,1.519952887069187,36201,1.4833844368939975,36738,1.4372039849746887,37266,1.392690388021256,37785,1.3470954082307696,38294,1.2978534496265626,38791,1.2606016859580738,39280,1.2118126272912422,39756,1.1671194285139297,40220,1.1312779711586174,40675,1.0915795943454265,41119,1.0506092074223705,41551,1.0204327212341546,41975]
[1003,"Suchitepéquez","San Francisco Zapotitlán",2.2971191865938616,21855,2.2191718142301475,22340,2.1530886302596253,22821,2.1252355286797142,23306,2.0852999227666702,23792,2.0427034297242797,24278,1.9976933849575662,24763,1.9464523684529444,25245,1.9053277876807329,25726,1.8580424473295443,26204,1.8127003510914452,26679,1.7729300198658038,27152,1.7309958750736598,27622,1.6870610383028062,28088,1.6519510111079549,28552,1.6181003082095913,29014]
[1004,"Suchitepéquez","San Bernardino",3.5494689770821686,15289,2.0079795931715605,15596,1.9428058476532506,15899,1.9183596452607032,16204,1.876079980251788,16508,1.8294160407075433,16810,1.7846519928613969,17110,1.7416715371127989,17408,1.6888786764705843,17702,1.6551802056264719,17995,1.6060016671297639,18284,1.5642091446073092,18570,1.5185783521809437,18852,1.485253553999577,19132,1.4478360861384099,19409,1.4117162141274564,19683]
[1005,"Suchitepéquez","San José el Ídolo",0.97375105842506349,11056,1.5104920405209832,11223,1.4523745878998406,11386,1.4140172141225982,11547,1.3856412921104955,11707,1.341077987528827,11864,1.2896156439649253,12017,1.2399101273196322,12166,1.216505013973368,12314,1.1450381679389388,12455,1.1160176635889307,12594,1.0719390185802702,12729,1.0370021211407066,12861,0.98748153331777999,12988,0.95472744071449789,13112,0.91519219035998134,13232]
[1006,"Suchitepéquez","Santo Domingo Suchitepéquez",5.9148182859523066,44724,1.5852785976209649,45433,1.5209209165144344,46124,1.4959673922469774,46814,1.4568291536719791,47496,1.4106451069563652,48166,1.3681850267823759,48825,1.3210445468510024,49470,1.271477663230236,50099,1.2335575560390444,50717,1.1869787250823105,51319,1.1457744694947314,51907,1.1019708324503386,52479,1.0651879799538966,53038,1.0275651419736853,53583,0.99285221058917905,54115]
[1007,"Suchitepéquez","San Lorenzo",3.4246575342465753,13115,1.1208539839878018,13262,1.0556477152767307,13402,1.0371586330398364,13541,0.98958717967654319,13675,0.94332723948811203,13804,0.91277890466532341,13930,0.84709260588657909,14048,0.81862186788155267,14163,0.76961095813032898,14272,0.72169282511209687,14375,0.68173913043478862,14473,0.64948524839356647,14567,0.59724033774970486,14654,0.56639825303670399,14737,0.53606568501052276,14816]
[1008,"Suchitepéquez","Samayac",11.468916824522129,24259,2.1682674471330321,24785,1.8236836796449385,25237,1.5968617506042726,25640,1.43525741029642,26008,1.3111350353737228,26349,1.20308171088086,26666,1.1287782194554952,26967,1.0568472577594745,27252,1.0017613386173574,27525,0.94096276112625166,27784,0.89619925136770195,28033,0.84899939357185872,28271,0.81001733224859152,28500,0.77192982456140147,28720,0.73467966573816934,28931]
[1009,"Suchitepéquez","San Pablo Jocopilas",14.124999999999998,19787,2.2742204477687267,20237,2.2038839748974581,20683,2.1805347386742779,21134,2.1387337938866269,21586,2.0939497822662911,22038,2.0510028133224445,22490,1.9964428634948961,22939,1.9573651859279062,23388,1.9112365315546498,23835,1.8670023075309405,24280,1.8245469522240487,24723,1.7797192897302194,25163,1.7446250447084921,25602,1.7029919537536076,26038,1.6667946846915971,26472]
[1010,"Suchitepéquez","San Antonio Suchitepéquez",8.5307285307285312,58859,1.9113474574831368,59984,1.8488263536943217,61093,1.81853894881574,62204,1.7828435470387705,63313,1.7342409931609515,64411,1.6922575336510759,65501,1.6427230118624125,66577,1.5981495110924282,67641,1.5537913395721636,68692,1.509637221219351,69729,1.4656742531801603,70751,1.4247148450198477,71759,1.3851921013392055,72753,1.3470234904402467,73733,1.3142012396077707,74702]
[1011,"Suchitepéquez","San Miguel Panán",9.2271662763466047,11139,2.0199299757608369,11364,1.9535374868004274,11586,1.9333678577593716,11810,1.888230313293815,12033,1.8449264522562903,12255,1.7951856385148846,12475,1.7555110220440984,12694,1.7015913029777785,12910,1.6653756777691653,13125,1.6152380952380918,13337,1.5745669940766316,13547,1.5353952904702206,13755,1.4976372228280521,13961,1.4612133801303662,14165,1.4189904694669853,14366]
[1012,"Suchitepéquez","San Gabriel",2.7421236872812136,7080,2.8389830508474656,7281,2.5271253948633499,7465,2.2906898861352998,7636,2.0953378732320616,7796,1.8984094407388463,7944,1.7371601208459264,8082,1.5961395694135128,8211,1.4614541468761511,8331,1.3323730644580589,8442,1.2319355602937732,8546,1.1467353147671444,8644,1.0643220731143099,8736,0.97298534798535563,8821,0.91826323546082556,8902,0.85374073241968329,8978]
[1013,"Suchitepéquez","Chicacao",8.248108422715557,66745,0.28616375758483414,66936,0.31522648500059702,67147,0.37529599237493549,67399,0.41692013234617686,67680,0.44178486997636934,67979,0.46632048132511095,68296,0.47733395806488499,68622,0.48963889131765637,68958,0.49595405899243161,69300,0.49783549783550818,69645,0.49680522650585868,69991,0.49292051835236883,70336,0.48908098271156497,70680,0.48245614035087314,71021,0.47732360851016065,71360]
[1014,"Suchitepéquez","Patulul",10.673305910370209,40676,0.72032648244664266,40969,0.69564792892187199,41254,0.70053812963590811,41543,0.69085044411814067,41830,0.6813291895768625,42115,0.66247180339547018,42394,0.64395905080907312,42667,0.62577636112217672,42934,0.60558065868543398,43194,0.58341436310598294,43446,0.56391842747318677,43691,0.5424458126387588,43928,0.52130759424513506,44157,0.50501619222320659,44380,0.48219918882379531,44594]
[1015,"Suchitepéquez","Santa Bárbara",6.0262008733624448,26634,0.77344747315462037,26840,0.70789865871832003,27030,0.68442471328153953,27215,0.64670218629432341,27391,0.5987368113614,27555,0.55525313010342803,27708,0.50887830229535691,27849,0.46321232360229114,27978,0.42175995424977852,28096,0.37727790432802166,28202,0.33330969434792745,28296,0.29332767882386257,28379,0.25723246062228089,28452,0.2179108674258412,28514,0.18587360594795044,28567]
[1016,"Suchitepéquez","San Juan Bautista",15.302690582959642,8205,2.8762949421084594,8441,2.594479327093957,8660,2.3556581986143188,8864,2.1773465703971207,9057,1.9763718670641417,9236,1.8189692507579069,9404,1.6588685665674285,9560,1.5167364016736462,9705,1.4116434827408542,9842,1.3005486689697143,9970,1.1935807422266853,10089,1.1101199325998623,10201,1.0293108518772742,10306,0.96060547254026574,10405,0.89380105718404046,10498]
[1017,"Suchitepéquez","Santo Tomas La Unión",0.53030303030303039,11372,2.1016531832571239,11611,2.0411678580656289,11848,2.017218095881157,12087,1.9690576652601877,12325,1.9310344827586201,12563,1.8864920799172236,12800,1.8359374999999956,13035,1.7951668584579972,13269,1.748436204687609,13501,1.7035775127768327,13731,1.6604762945160667,13959,1.6190271509420429,14185,1.5791328868523191,14409,1.5407037268373891,14631,1.5104914223224686,14852]
[1018,"Suchitepéquez","Zunilito",0.3785830178474851,7809,2.4843129722115442,8003,2.3366237660877198,8190,2.2222222222222143,8372,2.1261347348303872,8550,2.0116959064327533,8722,1.9032332033937172,8888,1.8001800180017957,9048,1.7020335985853174,9202,1.5974788089545777,9349,1.5081826933361908,9490,1.4330874604847166,9626,1.3505090380220297,9756,1.2710127101271063,9880,1.1842105263157876,9997,1.1303391017305264,10110]
[1019,"Suchitepéquez","Pueblo Nuevo",1.0264508487958943,11261,1.3586715211792999,11414,1.2791308918871591,11560,1.2370242214532867,11703,1.1962744595402919,11843,1.148357679641987,11979,1.1019283746556363,12111,1.0568904301874404,12239,1.0131546694991389,12363,0.97063819461296053,12483,0.92926379876632215,12599,0.88102230335740384,12710,0.84185680566482013,12817,0.79581805414683515,12919,0.77405371932812717,13019,0.72970274214609887,13114]
[1020,"Suchitepéquez","Río Bravo",17.120075046904315,28019,1.9807987437096219,28574,1.9108280254777066,29120,1.8887362637362681,29670,1.8469834850016742,30218,1.8002515057250701,30762,1.7586632858721751,31303,1.7091013640865071,31838,1.6646774294867717,32368,1.6219723183390933,32893,1.5748031496062964,33411,1.532429439406191,33923,1.4916133596674763,34429,1.4551686078596582,34930,1.4142570855997683,35424,1.3804200542005374,35913]
[1021,"Suchitepéquez","San José La Máquina",14.975480950584686,23836,1.6110085584829736,24220,1.5483071841453366,24595,1.5206342752591917,24969,1.4858424446313467,25340,1.4325177584846083,25703,1.3967241178072687,26062,1.3429514235285156,26412,1.3024382856277494,26756,1.2557930931379913,27092,1.2143806289679704,27421,1.1706356442142907,27742,1.1282531901088522,28055,1.0907146676171875,28361,1.0542646592151206,28660,1.0153524075366294,28951]
[1101,"Retalhuleu","Retalhuleu",40.797445169774107,100309,1.6648555962077261,101979,1.6120966081252019,103623,1.5614294123891481,105241,1.51936982734866,106840,1.4648071883189839,108405,1.411374014113731,109935,1.3608041115204417,111431,1.3129201030233961,112894,1.2631317873403436,114320,1.2158852344296811,115710,1.1710310258404633,117065,1.127578695596454,118385,1.0845968661570282,119669,1.0437122395942078,120918,1.0097752195702858,122139]
[1102,"Retalhuleu","San Sebastián",21.747154721624113,28865,1.1675038974536589,29202,1.1232107389904877,29530,1.066711818489674,29845,1.0252973697436829,30151,0.97177539716759576,30444,0.91972145578766984,30724,0.8690274703814671,30991,0.81636604175405747,31244,0.77454871335296271,31486,0.72095534523279881,31713,0.67795541260682324,31928,0.63580556251565667,32131,0.59132924589959668,32321,0.55381949815909159,32500,0.51692307692308148,32668]
[1103,"Retalhuleu","Santa Cruz Muluá",4.0842787682333874,14297,2.1752815275932091,14608,2.108433734939763,14916,2.0648967551622377,15224,2.0099842354177611,15530,1.9639407598196934,15835,1.9134827912851371,16138,1.8589664146734464,16438,1.8189560773816726,16737,1.7565872020075313,17031,1.7145205801186059,17323,1.6683022571148287,17612,1.6238928003633912,17898,1.5811822550005683,18181,1.5345690556074931,18460,1.5059588299024984,18738]
[1104,"Retalhuleu","San Martín Zapotitlán",3.110135382363703,11767,2.2265658196651605,12029,2.0034915620583682,12270,1.8255908720456349,12494,1.6968144709460509,12706,1.5661892019518397,12905,1.4645486245641326,13094,1.3823125095463462,13275,1.3032015065913338,13448,1.2343842950624628,13614,1.1826061407374855,13775,1.1179673321234151,13929,1.0697106755689578,14078,1.0228725671260097,14222,0.9843903810996979,14362,0.93998050410806222,14497]
[1105,"Retalhuleu","San Felipe",3.4258052504189167,23884,1.9552838720482413,24351,1.9095725021559762,24816,1.857672469374605,25277,1.8158800490564619,25736,1.7679515076157948,26191,1.7143293497766443,26640,1.6629129129129172,27083,1.6135583207177895,27520,1.5734011627906996,27953,1.5204092583980255,28378,1.4800197335964382,28798,1.4410722966872624,29213,1.3966384828672185,29621,1.3571452685594787,30023,1.3256503347433668,30421]
[1106,"Retalhuleu","San Andrés Villa Seca",6.538242550768647,50341,1.9367910848016479,51316,1.8844025255281061,52283,1.8323355584032974,53241,1.7899738923010444,54194,1.7326641325607905,55133,1.6813886420111279,56060,1.6303960042811205,56974,1.5831782918524162,57876,1.5325869099453993,58763,1.4839269608426964,59635,1.4404292781085015,60494,1.3951796872416988,61338,1.3515276011607735,62167,1.3109849276947472,62982,1.2765552062494079,63786]
[1107,"Retalhuleu","Champerico",6.4044507698279212,35040,1.7380136986301364,35649,1.6858817919156222,36250,1.6331034482758522,36842,1.5932902665436233,37429,1.5415854016938679,38006,1.4839762142819568,38570,1.436349494425726,39124,1.3853389224005808,39666,1.3361569102001702,40196,1.2911732510697549,40715,1.242785214294484,41221,1.2008442298828248,41716,1.1602262920701989,42200,1.1161137440758306,42671,1.0850460500105408,43134]
[1108,"Retalhuleu","Nuevo San Carlos",20.197856553998349,39942,0.59586400280406959,40180,0.72175211548033413,40470,0.81788979490982072,40801,0.89458591701183643,41166,0.93766700675315118,41552,0.97227570273392683,41956,0.98436457240917985,42369,0.99601123462909058,42791,0.9885256245472096,43214,0.97884944693849008,43637,0.9647775969933825,44058,0.94420990512507075,44474,0.92188694518144931,44884,0.89787006505659406,45287,0.87663126283481496,45684]
[1109,"Retalhuleu","El Asintal",28.255959849435381,39062,1.8509036915672628,39785,1.7971597335679323,40500,1.74567901234568,41207,1.7035940495546908,41909,1.6511966403397915,42601,1.596206661815458,43281,1.5457128994246894,43950,1.4948805460750947,44607,1.4482031968076736,45253,1.3988022893509866,45886,1.3555332781240548,46508,1.3116023049797976,47118,1.2670317076276527,47715,1.2281253274651682,48301,1.192521893956644,48877]
[1201,"San Marcos","San Marcos",4.8826571201272877,46835,0.43984199850539696,47041,0.64411896005611702,47344,0.80052382561677238,47723,0.87798336232005614,48142,0.97004694445599338,48609,1.0409594930979926,49115,1.0974244120940613,49654,1.1358601522535983,50218,1.1589469911187145,50800,1.1751968503937116,51397,1.1810027822635627,52004,1.1826013383585909,52619,1.1763811550960623,53238,1.1664600473346054,53859,1.1585807385952274,54483]
[1202,"San Marcos","San Pedro Sacatepéquez",3.9914308264742364,76620,2.2122161315583311,78315,2.0366468748004962,79910,1.9121511700663341,81438,1.7719000957783893,82881,1.6988212014816373,84289,1.639597100452006,85671,1.5863010820464263,87030,1.5396989543835504,88370,1.4959827995926211,89692,1.4538643357267178,90996,1.4132489340190846,92282,1.3729654753906528,93549,1.3383360591775473,94801,1.3016740329743426,96035,1.2682876034779023,97253]
[1203,"San Marcos","San Antonio Sacatepéquez",8.0499143626131637,18096,2.9840848806365949,18636,2.7795664305644951,19154,2.594758275033926,19651,2.3764693908706835,20118,2.2218908440202911,20565,2.0860685630926357,20994,1.9767552634085916,21409,1.8637021813256105,21808,1.7654071900220059,22193,1.68071013382598,22566,1.599751839049901,22927,1.535307715793599,23279,1.4648395549637039,23620,1.4098221845893377,23953,1.3609986223020121,24279]
[1204,"San Marcos","Comitancillo",5.4104661476298412,75535,1.1451644932812588,76400,1.1505235602094155,77279,1.1361430660334682,78157,1.0658034469081423,78990,1.0381060893783989,79810,1.0048866056885153,80612,0.96883838634447272,81393,0.93374123081837457,82153,0.89710661813933168,82890,0.85776330076003937,83601,0.82056434731641037,84287,0.78303890279640687,84947,0.74752492730760789,85582,0.71159823327335836,86191,0.67872515691893565,86776]
[1205,"San Marcos","San Miguel Ixtahuacán",9.1946967836975197,49187,1.1324130359647855,49744,1.1358153747185629,50309,1.1230594923373527,50874,1.0555490034202197,51411,1.0231273462877555,51937,0.99158595991297727,52452,0.95897201250667585,52955,0.91964875837975413,53442,0.88320047902399335,53914,0.84579144563563524,54370,0.80743056832812687,54809,0.76994654162636511,55231,0.73509442161105998,55637,0.70097237449897598,56027,0.66753529548253532,56401]
[1206,"San Marcos","Concepción Tutuapa",27.036265110462693,76129,1.7365261595449821,77451,1.7404552555809527,78799,1.7284483305625598,80161,1.6566659597559985,81489,1.6296678079249949,82817,1.595083135105102,84138,1.561720031377023,85452,1.5260029022141186,86756,1.4869288579464346,88046,1.4503782113894914,89323,1.4106109288761104,90583,1.3755340406036431,91829,1.3394461444641736,93059,1.3034741400616889,94272,1.2707909029192166,95470]
[1207,"San Marcos","Tacaná",12.427921092564493,77851,0.82593672528290529,78494,0.88032206283283898,79185,0.91178884889815404,79907,0.88728146470271607,80616,0.89932519599087435,81341,0.90729152579880346,82079,0.91009880724668424,82826,0.91154951343781487,83581,0.90690467929313012,84339,0.90349660299504642,85101,0.89658170879307608,85864,0.88861455324700245,86627,0.8796333706581061,87389,0.87196329057432909,88151,0.8655602318748512,88914]
[1208,"San Marcos","Sibinal",5.8035714285714288,16104,0.86934923000496767,16244,0.94188623491751056,16397,0.99408428371043911,16560,0.99637681159421287,16725,1.010463378176385,16894,1.0358707233337316,17069,1.0486847501318231,17248,1.0551948051948035,17430,1.0613884107860017,17615,1.0559182514902066,17801,1.050502780742657,17988,1.050700466977994,18177,1.0397755405182396,18366,1.0290754655341461,18555,1.0239827539746615,18745]
[1209,"San Marcos","Tajumulco",18.877495952509442,56684,1.9405828805306502,57784,1.9451751349854662,58908,1.9318258980104641,60046,1.8602404822969154,61163,1.8328074162483832,62284,1.7998201785370149,63405,1.7648450437662611,64524,1.7295889901431938,65640,1.6895185862279005,66749,1.6524592128720927,67852,1.6152803159818374,68948,1.5765504438127298,70035,1.5435139573070522,71116,1.5059902131728364,72187,1.473949603114133,73251]
[1210,"San Marcos","Tejutla",16.223585548738921,38897,2.2906650898526948,39788,2.2971750276465253,40702,2.2824431231880604,41631,2.2146957795873279,42553,2.1808098136441689,43481,2.1503645270347871,44416,2.116354466858783,45356,2.0769027251080319,46298,2.0411248866041731,47243,2.0024130559024522,48189,1.9651787752391625,49136,1.9273038098339246,50083,1.8888644849549774,51029,1.8558074820200332,51976,1.8219947668154601,52923]
[1211,"San Marcos","San Rafael Pie de la Cuesta",5.3737696195796758,16888,1.4507342491710151,17133,1.4533356680091147,17382,1.4440225520653494,17633,1.366755515227136,17874,1.348327179142883,18115,1.3083080320176688,18352,1.2750653879686213,18586,1.242870978155608,18817,1.206355954721805,19044,1.1657214870825383,19266,1.1263365514377677,19483,1.0881281116871033,19695,1.0561056105610644,19903,1.0199467416972308,20106,0.98478066248881557,20304]
[1212,"San Marcos","Nuevo Progreso",6.4932992980216975,28986,1.7008210860415263,29479,1.7062993995725861,29982,1.6910146087652622,30489,1.6235363573747996,30984,1.5911438161631875,31477,1.5598691107792995,31968,1.5265265265265171,32456,1.4912496918905616,32940,1.4480874316939785,33417,1.4124547386060948,33889,1.3780282687597678,34356,1.338921876819188,34816,1.3011259191176405,35269,1.2674019677336945,35716,1.237540598051301,36158]
[1213,"San Marcos","El Tumbador",17.544444444444444,46839,1.8595614765473112,47710,1.8633410186543742,48599,1.8518899565834746,49499,1.7798339360391102,50380,1.7526796347757001,51263,1.7185884556112585,52144,1.6837987112611197,53022,1.6483723737316547,53896,1.6105091286922946,54764,1.5740267328902213,55626,1.5316578578362661,56478,1.4979283968979074,57324,1.461865885144098,58162,1.4253292527767192,58991,1.393432896543545,59813]
[1214,"San Marcos","San José el Rodeo",10.36241610738255,17389,1.8920006900914332,17718,1.9020205440794635,18055,1.8886734976460762,18396,1.8210480539247564,18731,1.7884789920452615,19066,1.757054442463013,19401,1.7215607442915282,19735,1.682290347099058,20067,1.6544575671500583,20399,1.6079219569586689,20727,1.5728277126453527,21053,1.5342231510948601,21376,1.5016841317365248,21697,1.465640411116742,22015,1.4308426073131875,22330]
[1215,"San Marcos","Malacatán",10.591576992407276,101444,1.3100824099996133,102773,1.3126015587751727,104122,1.3003976104953852,105476,1.2306117031362529,106774,1.2006668290033051,108056,1.1679129340341987,109318,1.1343054208821979,110558,1.0980661734112385,111772,1.0592992878359464,112956,1.0216367435107454,114110,0.98413811234774329,115233,0.94764520580041811,116325,0.9103803997420945,117384,0.87575819532474952,118412,0.84366449346349182,119411]
[1216,"San Marcos","Catarina",13.224125093075203,29726,1.5743793312251952,30194,1.5797840630588755,30671,1.5649962505298154,31151,1.4991493049982374,31618,1.4675185021190362,32082,1.4338258213328237,32542,1.4012660561735668,32998,1.3637190132735233,33448,1.324443912939488,33891,1.2894278717063612,34328,1.2497086926124501,34757,1.2112667951779565,35178,1.1797145943487353,35593,1.1434832691821439,36000,1.1083333333333334,36399]
[1217,"San Marcos","Ayutla",18.526194588370753,39796,3.0606091064428576,41014,2.8624372165602097,42188,2.6737460889352471,43316,2.4563671622495065,44380,2.3005858494817399,45401,2.1629479526882767,46383,2.037384386520924,47328,1.9248647734956048,48239,1.8221770766392309,49118,1.7305264872348181,49968,1.6470541146333728,50791,1.5711444941032937,51589,1.5041966310647581,52365,1.4398930583404912,53119,1.3874508179747336,53856]
[1218,"San Marcos","Ocós",20.98717450446949,11340,2.4603174603174516,11619,2.2205009036922352,11877,2.0459712048497058,12120,1.8646864686468589,12346,1.7657540903936564,12564,1.6873607131486779,12776,1.6202254226675095,12983,1.5558807671570474,13185,1.5168752370117611,13385,1.4643257377661589,13581,1.4137397835211063,13773,1.3867712190517745,13964,1.3391578344313926,14151,1.3002614656208111,14335,1.2696198116498136,14517]
[1219,"San Marcos","San Pablo",20.792079207920793,46260,2.0946822308689939,47229,2.1004044125431331,48221,2.0841542066734497,49226,2.0172266688335494,50219,1.9853043668730974,51216,1.9544673539518831,52217,1.9189152957848954,53219,1.8827862229654713,54221,1.8443038675052037,55221,1.8054725557306028,56218,1.7698957629229017,57213,1.7303759635048044,58203,1.6957888768620144,59190,1.6607535056597289,60173,1.6269755538198094,61152]
[1220,"San Marcos","El Quetzal",10.425210446794733,24325,0.95786228160328335,24558,1.0261421939897319,24810,1.0721483272873922,25076,1.048811612697409,25339,1.0734440980306958,25611,1.0815665143883546,25888,1.0854449938195287,26169,1.0928961748633892,26455,1.0886410886410847,26743,1.0806566204240253,27032,1.076501923646056,27323,1.0613768619843977,27613,1.0574729294173135,27905,1.0392402795198041,28195,1.0320978896967592,28486]
[1221,"San Marcos","La Reforma",6.5347071583514102,21636,1.5991865409502592,21982,1.6013101628605142,22334,1.5895047909017634,22689,1.5205606240909608,23034,1.4891030650342918,23377,1.4544210121059109,23717,1.4251380866045382,24055,1.3884847225109187,24389,1.3489687974086673,24718,1.3148312970304943,25043,1.2698159166234069,25361,1.238121525176461,25675,1.1996105160662074,25983,1.1661470961782605,26286,1.1336833295290338,26584]
[1222,"San Marcos","Pajapita",6.224857082362905,22079,0.86507541102405217,22270,0.86663673102829186,22463,0.8502871388505584,22654,0.78573320384920375,22832,0.75770847932725705,23005,0.72158226472505138,23171,0.69051832031419291,23331,0.65149372080064438,23483,0.61320955584891479,23627,0.57561264654844013,23763,0.54286074990530508,23892,0.50226017076846485,24012,0.46643344994170555,24124,0.43110595257833673,24228,0.40036321611358616,24325]
[1223,"San Marcos","Ixchiguán",7.6431613819214386,22707,1.6206456158893712,23075,1.6251354279523289,23450,1.6119402985074638,23828,1.5444015444015413,24196,1.5085138039345303,24561,1.4860958430031435,24926,1.4442750541603155,25286,1.4078936961164246,25642,1.3727478355822553,25994,1.3349234438716717,26341,1.2945598117003909,26682,1.263023761337223,27019,1.2213627447351882,27349,1.188343266664238,27674,1.1563200115632055,27994]
[1224,"San Marcos","San José Ojetenam",16.397082143989852,21760,0.63419117647058876,21898,0.71696045300939648,22055,0.77986851054183681,22227,0.77383362577045922,22399,0.80807178891915132,22580,0.83259521700620454,22768,0.85646521433591083,22963,0.87532116883681788,23164,0.88499395613883536,23369,0.89006803885489649,23577,0.89493998388259222,23788,0.89120564990752271,24000,0.8999999999999897,24216,0.89610175090848454,24433,0.88814308517168872,24650]
[1225,"San Marcos","San Cristóbal Cucho",8.0023364485981308,16798,1.2025241100130923,17000,1.2058823529411677,17205,1.1915140947398983,17410,1.1200459506031102,17605,1.0962794660607678,17798,1.0619170693336288,17987,1.0285205982098145,18172,0.99053488883997787,18352,0.94812554489973611,18526,0.91762927777176984,18696,0.87719298245614308,18860,0.8430540827147448,19019,0.80445869919554269,19172,0.76674316711871082,19319,0.74538019566230407,19463]
[1226,"San Marcos","Sipacapa",12.140845070422534,23637,2.661082201633036,24266,2.5797412016813626,24892,2.4867427285874877,25511,2.3440868644898361,26109,2.2444367842506363,26695,2.1539614159955089,27270,2.0645397873120697,27833,1.9760715697193953,28383,1.8955008279603947,28921,1.815289927734165,29446,1.7421721116620326,29959,1.6722854567909451,30460,1.6053841103085942,30949,1.544476396652561,31427,1.4828014127979072,31893]
[1227,"San Marcos","Esquipulas Palo Gordo",18.90452643590719,12393,2.4529976599693359,12697,2.2840040954556162,12987,2.1252021252021303,13263,1.9603407977079046,13523,1.863491828736219,13775,1.7640653357531733,14018,1.6835497217862816,14254,1.620597726953843,14485,1.5602347255781801,14711,1.5090748419549938,14933,1.4397642804526933,15148,1.4061262212833325,15361,1.3540785105136344,15569,1.3231421414348965,15775,1.2805071315372452,15977]
[1228,"San Marcos","Río Blanco",1.8683274021352312,5608,1.4265335235378096,5688,1.4240506329114,5769,1.4213901889408964,5851,1.3501965475986921,5930,1.3153456998313606,6008,1.2816245006657789,6085,1.265406737880026,6162,1.2171372930866564,6237,1.1704345037678365,6310,1.12519809825673,6381,1.1283497884344129,6453,1.0537734387106701,6521,1.0427848489495517,6589,0.9713158294126556,6653,0.97700285585449187,6718]
[1229,"San Marcos","San Lorenzo",13.407821229050279,12359,2.2574641961323749,12638,2.2630163000474823,12924,2.2516248839368647,13215,2.1793416572077229,13503,2.1476708879508255,13793,2.1170158776190773,14085,2.0802271920482784,14378,2.0447906523855863,14672,2.0106324972737122,14967,1.9710028729872375,15262,1.9263530336784074,15556,1.8963743893031682,15851,1.8547725695539752,16145,1.8271910808299818,16440,1.7883211678832112,16734]
[1230,"San Marcos","La Blanca",29.544436146377894,30451,2.4662572657712323,31202,2.2210114736234798,31895,2.0473428437059127,32548,1.8649379378149256,33155,1.7644397526768163,33740,1.6804979253111973,34307,1.6206605066021451,34863,1.5632619109084089,35408,1.5081337550836071,35942,1.4662511824606206,36469,1.4203844360964002,36987,1.3788628437018335,37497,1.3387737685681467,37999,1.3052975078291507,38495,1.2702948434861749,38984]
[1301,"Huehuetenango","Huehuetenango",43.731940431206937,110707,3.3087338650672482,114370,3.2158782897613092,118048,3.1512605042016917,121768,3.0689507916694003,125505,2.9696028046691358,129232,2.8723535966324043,132944,2.7793657479841194,136639,2.6873732975212006,140311,2.5963751951023184,143954,2.5105241952290358,147568,2.4266778705410497,151149,2.3480142111426572,154698,2.2715225794774252,158212,2.1995803099638556,161692,2.128738589416912,165134]
[1302,"Huehuetenango","Chiantla",22.062647754137117,88719,0.50383796030162298,89166,0.61346253056098199,89713,0.7390233299521709,90376,0.83650526688501259,91132,0.90198832462802248,91954,0.9635252408813022,92840,1.0124946143903468,93780,1.0524632117722366,94767,1.0858210136439839,95796,1.1148690968307617,96864,1.1366451932606436,97965,1.1534731791966513,99095,1.1665573439628707,100251,1.1760481192207628,101430,1.183081928423535,102630]
[1303,"Huehuetenango","Malacatancito",22.952452078665672,19363,2.5254351081960502,19852,2.4833769897239621,20345,2.4625215040550597,20846,2.417730020147757,21350,2.3653395784543285,21855,2.2969572180279174,22357,2.2453817596278514,22859,2.1873222800647518,23359,2.136221584828113,23858,2.0747757565596547,24353,2.024391245431767,24846,1.980198019801982,25338,1.9299076485910449,25827,1.8817516552445124,26313,1.8393949758674477,26797]
[1304,"Huehuetenango","Cuilco",22.442157121492038,59650,1.8692372170997507,60765,1.8201267176828795,61871,1.7972879054807489,62983,1.7592048648047864,64091,1.696025963083736,65178,1.64165822823652,66248,1.5834440284989704,67297,1.52755694904676,68325,1.4694474935967872,69329,1.4193194766980666,70313,1.3653236243653444,71273,1.316066392603088,72211,1.2685047984379194,73127,1.2252656337604417,74023,1.1793631709063446,74896]
[1305,"Huehuetenango","Nentón",13.61023113927021,43937,2.5855201766165292,45073,2.3872384797994473,46149,2.2990747361806285,47210,2.2262232577843655,48261,2.1508049978243404,49299,2.0872634333353624,50328,2.0286917819106742,51349,1.968879627646114,52360,1.9136745607333916,53362,1.8571267943480407,54353,1.8067080013982606,55335,1.7565735971807994,56307,1.7084909513914726,57269,1.6640765510136379,58222,1.6213802342756933,59166]
[1306,"Huehuetenango","San Pedro Necta",17.14809074256728,37610,1.5660728529646395,38199,1.520982224665568,38780,1.4981949458483745,39361,1.4557556972637942,39934,1.3998096859818787,40493,1.340972513767813,41036,1.2818013451603383,41562,1.229488475049334,42073,1.1693960497231037,42565,1.1206390226712104,43042,1.0640769480972034,43500,1.0183908045976908,43943,0.97171335593837505,44370,0.92404778003154497,44780,0.87985707905315902,45174]
[1307,"Huehuetenango","Jacaltenango",5.1886792452830193,36747,3.0478678531580705,37867,2.9550796207779895,38986,2.9010413994767337,40117,2.8242391006306544,41250,2.7272727272727337,42375,2.638348082595865,43493,2.5567332674223398,44605,2.4638493442439291,45704,2.3849116051111396,46794,2.3037141513869264,47872,2.2267713903743269,48938,2.1557889574563838,49993,2.0822915208129178,51034,2.0202218129090399,52065,1.9552482473830679,53083]
[1308,"Huehuetenango","San Pedro Soloma",20.812296645349491,53376,3.0481864508393297,55003,2.9598385542606742,56631,2.8959403860076671,58271,2.819584355854543,59914,2.7255733217611988,61547,2.6305100167351769,63166,2.5425070449292431,64772,2.4563082813561454,66363,2.3702967014752163,67936,2.2889189825718415,69491,2.2132362464204025,71029,2.1385631221050527,72548,2.0675966256822997,74048,2.0014044943820197,75530,1.9369786839666281,76993]
[1309,"Huehuetenango","San Ildefonso Ixtahuacán",23.872745490981963,48982,2.1946837613817216,50057,2.143556345765818,51130,2.1259534519851409,52217,2.08361261658081,53305,2.0204483631929504,54382,1.9694016402486136,55453,1.9079220240564077,56511,1.8527366353453312,57558,1.7964487994718281,58592,1.742558711086839,59613,1.6909063459312534,60621,1.6413454083568313,61616,1.5937418852246088,62598,1.5495702738106631,63568,1.5039013340045315,64524]
[1310,"Huehuetenango","Santa Bárbara",41.465986992441557,37195,2.9439440785051785,38290,2.8545312091929897,39383,2.7880049767666337,40481,2.7099132926558189,41578,2.6191736014238298,42667,2.521855298005482,43743,2.4369613423862013,44809,2.349974335512961,45862,2.2676725829662958,46902,2.189672082213967,47929,2.1114565294498178,48941,2.0412333217547651,49940,1.9743692430917115,50926,1.9086517692337823,51898,1.8478554086862609,52857]
[1311,"Huehuetenango","La Libertad",20.878666850296103,40546,2.9867311202091518,41757,2.90011255597864,42968,2.8439769130515824,44190,2.7698574338085535,45414,2.6753864447086828,46629,2.5906624632739295,47837,2.5043376465915479,49035,2.4227592535943643,50223,2.3375744180953006,51397,2.2608323443002565,52559,2.1861146521052532,53708,2.1151411335369019,54844,2.0458026402158769,55966,1.9815602329986026,57075,1.9202803328953078,58171]
[1312,"Huehuetenango","La Democracia",17.728132600666608,55263,1.6647666612380707,56183,1.617927130982677,57092,1.5974217053177364,58004,1.555065167919456,58906,1.4973007843004149,59788,1.4367431591623792,60647,1.3834155028278339,61486,1.3238786065120411,62300,1.2696629213483135,63091,1.2157043001378876,63858,1.1635190579097454,64601,1.1160817943994594,65322,1.067021830317505,66019,1.0224329359729722,66694,0.97909856958646735,67347]
[1313,"Huehuetenango","San Miguel Acatán",10.744920993227991,32815,0.9995428919701288,33143,1.2008568928582264,33541,1.3863629587668846,34006,1.5173792860083468,34522,1.590290249695836,35071,1.6452339539790639,35648,1.6747082585278239,36245,1.6885087598289328,36857,1.6876034403234152,37479,1.6836094879799424,38110,1.6636053529257344,38744,1.6441255420194034,39381,1.6200705924176662,40019,1.591743921637212,40656,1.5643447461629378,41292]
[1314,"Huehuetenango","San Rafael La Independencia",9.8658589355257469,16858,1.6490686914224728,17136,1.5989729225023286,17410,1.5795519816197645,17685,1.5323720667232088,17956,1.4813989752728851,18222,1.4213587970584918,18481,1.3635625777825844,18733,1.3078524528906232,18978,1.2540836758351714,19216,1.1969192339716939,19446,1.1467654016250162,19669,1.0981747928211938,19885,1.0460145838571799,20093,1.0103020952570541,20296,0.95585337012218385,20490]
[1315,"Huehuetenango","Todos Santos Cuchumatán",9.5293337752734502,34858,1.9823283034023698,35549,1.935356831415791,36237,1.9124099677125583,36930,1.8738153262929824,37622,1.8101111052043928,38303,1.7570425293057967,38976,1.6984811165845715,39638,1.6423633886674338,40289,1.5835587877584434,40927,1.5319959928653537,41554,1.4824084324012166,42170,1.4299264880246687,42773,1.3863886096369127,43366,1.3374533044320458,43946,1.2947708551404036,44515]
[1316,"Huehuetenango","San Juan Atitán",2.5942829690127311,23467,1.069587079728973,23718,1.2775107513281148,24021,1.4570584072270076,24371,1.5797464199253319,24756,1.6521247374373882,25165,1.6928273395589111,25591,1.7193544605525357,26031,1.7325496523376005,26482,1.7219243259572581,26938,1.7113371445541592,27399,1.6861929267491416,27861,1.6689996769678084,28326,1.6345407046529647,28789,1.6082531522456422,29252,1.5759606180773877,29713]
[1317,"Huehuetenango","Santa Eulalia",42.216801341667939,45681,1.9723736345526488,46582,1.9234897599931244,47478,1.9040397657862584,48382,1.8622628250175577,49283,1.8018383621126954,50171,1.7460285822487043,51047,1.6905988598742372,51910,1.6297437873242115,52756,1.5789673212525557,53589,1.5208344996174628,54404,1.4723182118961731,55205,1.4201612172810352,55989,1.375270142349394,56759,1.3284236861114573,57513,1.2866656234242768,58253]
[1318,"Huehuetenango","San Mateo Ixtatán",4.2765502494654317,50129,2.7828203235652049,51524,2.7346479310612626,52933,2.7090850698052282,54367,2.6725771147938948,55820,2.6101755643138658,57277,2.5507620860031111,58738,2.4941264598726587,60203,2.440077736989843,61672,2.3787131923725502,63139,2.3297803259475058,64610,2.2720941030800246,66078,2.2276703290051048,67550,2.1746854182087327,69019,2.1341949318303577,70492,2.086761618339672,71963]
[1319,"Huehuetenango","Colotenango",4.4671239752384144,40409,1.6209260313296614,41064,1.5731541009156524,41710,1.553584272356745,42358,1.508569809717164,42997,1.4535897853338531,43622,1.3960845444958903,44231,1.3384277995071248,44823,1.2805925529304041,45397,1.2269533229068097,45954,1.1707359533446482,46492,1.1227738105480611,47014,1.0698940741055818,47517,1.0248963528842303,48004,0.97700191650695878,48473,0.93660388257379434,48927]
[1320,"Huehuetenango","San Sebastián Huehuetenango",13.858790632645929,35393,3.178594637357679,36518,3.0779341694506801,37642,3.0099357101110558,38775,2.9245647969052158,39909,2.8214187276053071,41035,2.724503472645301,42153,2.6285199155457573,43261,2.538082799750363,44359,2.4459523433801422,45444,2.3611477862864216,46517,2.2765870541952449,47576,2.2006894232386109,48623,2.1265656170947889,49657,2.0540910647038668,50677,1.9870947372575332,51684]
[1321,"Huehuetenango","Tectitán",10.471491228070176,10838,1.5131943162945083,11002,1.454281039810934,11162,1.4334348683031628,11322,1.4043455219925782,11481,1.3413465725982121,11635,1.2720240653201653,11783,1.2305864380887765,11928,1.1569416498993901,12066,1.1188463451019315,12201,1.0572903860339267,12330,1.0056772100567768,12454,0.96354584872331284,12574,0.90663273421345281,12688,0.87484237074400006,12799,0.81256348152198843,12903]
[1322,"Huehuetenango","Concepción Huista",9.1114245416078994,24466,-23.497915474536089,18717,2.206550195009882,19130,2.190277051751166,19549,2.1433321397513971,19968,2.0833333333333259,20384,2.0310047095761341,20798,1.9713433984037021,21208,1.9143719351188304,21614,1.8599056167299066,22016,1.8032340116278966,22413,1.7534466604202992,22806,1.7013066736823568,23194,1.655600586358541,23578,1.6116718975315969,23958,1.56941313966108,24334]
[1323,"Huehuetenango","San Juan Ixcoy",46.108903949520922,27877,1.6967392474082521,28350,1.6507936507936583,28818,1.6239850093691333,29286,1.5877893874206128,29751,1.5259991260798023,30205,1.4699553054130066,30649,1.4095076511468463,31081,1.3577426723721864,31503,1.2982890518363321,31912,1.2471797442968224,32310,1.1915815536985397,32695,1.1500229392873429,33071,1.0946146170360826,33433,1.0558430293422738,33786,1.006333984490615,34126]
[1324,"Huehuetenango","San Antonio Huista",6.5096251266464042,15713,3.2648125755743607,16226,3.1615925058547933,16739,3.0945695680745455,17257,3.0016804774873895,17775,2.9029535864978806,18291,2.7991908588923531,18803,2.7016965377865132,19311,2.6047330536999702,19814,2.5184213182598114,20313,2.4270171811155317,20806,2.3406709602999065,21293,2.2589583431174454,21774,2.1860935060163511,22250,2.1078651685393357,22719,2.0423434130023344,23183]
[1325,"Huehuetenango","San Sebastián Coatán",6.1820816227964261,23683,1.4356289321454163,24023,1.3861715855638446,24356,1.3631138117917496,24688,1.3285806869734351,25016,1.2631915574032648,25332,1.2119058897836821,25639,1.1544912048051748,25935,1.0950453055716292,26219,1.0374156146306213,26491,0.98524027028046302,26752,0.93824760765550685,27003,0.88508684220272027,27242,0.83694295573011335,27470,0.79359301055696996,27688,0.75122796879514286,27896]
[1326,"Huehuetenango","Santa Cruz Barillas",28.70799864238036,107436,2.9496630552142689,110605,2.7684101080421408,113667,2.6428074990982431,116671,2.5164779593900732,119607,2.3903283252652452,122466,2.2798164388483366,125258,2.1818965654888389,127991,2.0923346172777801,130669,2.0096579908011947,133295,1.9355564724858443,135875,1.8664213431462739,138411,1.8054923380367072,140910,1.7472145340997836,143372,1.6941941243757475,145801,1.644021645942062,148198]
[1327,"Huehuetenango","Aguacatán",21.939442712000805,53559,1.6785227506114664,54458,1.628778140952658,55345,1.6062878308790385,56234,1.568446135789725,57116,1.5074585054975831,57977,1.4505752281076978,58818,1.3941310483185365,59638,1.3363962574197696,60435,1.2807148175725924,61209,1.228577496773342,61961,1.1749326189054443,62689,1.1277895643573732,63396,1.0789324247586496,64080,1.0330836454431891,64742,0.99008371690709751,65383]
[1328,"Huehuetenango","San Rafael Petzal",1.1520737327188941,11160,2.0878136200716879,11393,2.0538927411568597,11627,2.0211576502967121,11862,1.9811161692800505,12097,1.92609737951559,12330,1.8572587185725853,12559,1.8074687475117424,12786,1.751916158298128,13010,1.6986933128362747,13231,1.6476456805985862,13449,1.5911963714774435,13663,1.5369977310985883,13873,1.4921069703741185,14080,1.4559659090909172,14285,1.4000700035001756,14485]
[1329,"Huehuetenango","San Gaspar Ixchil",27.229407760381214,9684,1.404378356051228,9820,1.3543788187372785,9953,1.3262332964935286,10085,1.2989588497768878,10216,1.2235708692247549,10341,1.179769848177159,10463,1.1277836184650614,10581,1.0585010868537914,10693,1.0100065463387153,10801,0.94435700398112221,10903,0.90800697055857249,11002,0.85439011088892514,11096,0.80209084354723181,11185,0.75994635672775868,11270,0.7187222715173025,11351]
[1330,"Huehuetenango","Santiago Chimaltenango",20.83827599841835,12317,2.6548672566371723,12644,2.5862068965517349,12971,2.5672654382854043,13304,2.5030066145520058,13637,2.4492190364449717,13971,2.3691933290387324,14302,2.3003775695706885,14631,2.2349805208119689,14958,2.172750367696219,15283,2.1069161813779935,15605,2.0442165972444748,15924,1.9907058528008115,16241,1.9333784865463999,16555,1.8846270009060806,16867,1.8260508685599142,17175]
[1331,"Huehuetenango","Santa Ana Huista",2.8706083976006855,8878,3.4129308402793379,9181,3.0715608321533638,9463,2.810947902356542,9729,2.6107513619076927,9983,2.4241210057097007,10225,2.2982885085574667,10460,2.1701720841300176,10687,2.0866473285299891,10910,1.9798350137488541,11126,1.9234226136976451,11340,1.8430335097001871,11549,1.7837042168153072,11755,1.7354317311782275,11959,1.67238063383226,12159,1.6284233900814238,12357]
[1332,"Huehuetenango","Unión Cantinil",29.181286549707604,15047,3.0238585764604142,15502,2.9673590504450953,15962,2.9507580503696174,16433,2.9087811111787154,16911,2.8502158358464813,17393,2.7884781233829647,17878,2.7352052802326776,18367,2.6732727173735427,18858,2.6195778979743345,19352,2.563042579578334,19848,2.5141072148327392,20347,2.4622794515162028,20848,2.4127014581734496,21351,2.3699124162802621,21857,2.3287733906757646,22366]
[1333,"Huehuetenango","Petatán",11.88707280832095,"…",{"$error":"#VALUE!"},6300,2.2063492063492118,6439,2.1897810218978186,6580,2.1428571428571352,6721,2.0830233596190961,6861,2.0259437399795965,7000,1.9714285714285795,7138,1.9193051274866813,7275,1.8419243986254275,7409,1.8086111486030454,7543,1.7632241813602123,7676,1.6935904116727407,7806,1.6653856008198797,7936,1.6003024193548487,8063,1.5750961180702072,8190]
[1401,"Quiché","Santa Cruz del Quiché",51.135694180794658,90521,1.512356248826241,91890,1.5583850255740606,93322,1.6362701185143935,94849,1.6499910383873218,96414,1.6003899848569647,97957,1.5537429688536886,99479,1.505845454819621,100977,1.4557770581419494,102447,1.4065809638154292,103888,1.357230864007386,105298,1.310566202586938,106678,1.2654905416299433,108028,1.2209797459917793,109347,1.1806451022890352,110638,1.1397530685659518,111899]
[1402,"Quiché","Chiché",13.250559739466722,30813,0.70100282348359855,31029,0.74768764703987411,31261,0.82530949105914519,31519,0.8344173355753659,31782,0.78975520735007354,32033,0.74298379795836311,32271,0.69102289981717302,32494,0.64319566689234886,32703,0.59321774760725532,32897,0.5471623552299576,33077,0.49883604921849845,33242,0.45424463028698181,33393,0.41026562453208015,33530,0.36683566954964775,33653,0.32686536118622378,33763]
[1403,"Quiché","Chinique",7.5764491099954352,12062,1.8819432929862323,12289,1.9285539913743932,12526,2.0038320293788825,12777,2.0192533458558426,13035,1.9716148830072777,13292,1.9184471862774499,13547,1.8675721561969505,13800,1.826086956521733,14052,1.7791061770566552,14302,1.7200391553628958,14548,1.6772064888644467,14792,1.6292590589507938,15033,1.5964877270006061,15273,1.5452105021934059,15509,1.5088013411567402,15743]
[1404,"Quiché","Zacualpa",24.815983175604629,35695,1.8433954335341118,36353,1.8898027673094342,37040,1.968142548596119,37769,1.9804601657444021,38517,1.9342108679284431,39262,1.8873210738118207,40003,1.8398620103492247,40739,1.7869854439235056,41467,1.7387320037620224,42188,1.6924243860813482,42902,1.6432800335648645,43607,1.5983672346183031,44304,1.5529071867099953,44992,1.5136024182076824,45673,1.4735182711886674,46346]
[1405,"Quiché","Chajul",13.830798479087452,44438,2.8826679868581007,45719,2.7887749075876656,46994,2.7429033493637567,48283,2.6489654743905744,49562,2.5099874904160435,50806,2.3875132858323767,52019,2.2722466790980222,53201,2.1691321591699397,54355,2.0715665532149652,55481,1.9844631495467002,56582,1.9034321869145554,57659,1.8314573613833041,58715,1.7610491356552904,59749,1.7021205375822079,60766,1.6423657966626148,61764]
[1406,"Quiché","Santo Tomás Chichicastenango",4.3974370227332571,138976,1.3138959244761717,140802,1.3579352566014613,142714,1.4371400142943136,144765,1.4478637792284088,146861,1.4006441465058694,148918,1.3524221383580226,150932,1.3038984443325408,152900,1.2537606278613556,154817,1.2040021444673421,156681,1.1545752197139381,158490,1.1073253833049357,160245,1.0621236232019715,161947,1.0176168746565128,163595,0.97680246951312721,165193,0.93526965428316622,166738]
[1407,"Quiché","Patzité",9.1079812206572761,6963,1.6228637081717734,7076,1.8089315997738886,7204,1.9294836202109922,7343,2.0155249897861882,7491,1.9757041783473595,7639,1.9374263647074175,7787,1.9134454860665118,7936,1.8649193548387011,8084,1.8060366155368657,8230,1.7739975698663368,8376,1.7311365807067824,8521,1.6664710714704878,8663,1.6391550271268596,8805,1.5900056785917105,8945,1.5539407490217982,9084]
[1408,"Quiché","San Antonio Ilotenango",2.3994354269583629,26663,2.3965795296853276,27302,2.43938173027618,27968,2.5207379862700163,28673,2.5319987444634373,29399,2.4830776557025702,30129,2.4395101065418645,30864,2.3846552617936778,31600,2.3386075949367147,32339,2.2913510003401472,33080,2.2370012091898372,33820,2.1910112359550649,34561,2.1469286189635728,35303,2.1018043792312202,36045,2.0613122485781732,36788,2.0196803305425615,37531]
[1409,"Quiché","San Pedro Jocopilas",29.115293099718798,34586,1.5034985254149147,35106,1.5495926622229872,35650,1.6297335203365959,36231,1.6422400706577189,36826,1.591267039591604,37412,1.544958836736865,37990,1.5003948407475542,38560,1.4445020746888027,39117,1.3983689955773704,39664,1.3513513513513598,40200,1.3034825870646749,40724,1.259699440133577,41237,1.2125033343841629,41737,1.1740182571818858,42227,1.131977171004328,42705]
[1410,"Quiché","Cunén",7.7463735606400475,41985,1.9125878289865339,42788,1.9631672431522862,43628,2.0399743284129412,44518,2.0508558335953886,45431,2.0074398538442839,46343,1.9571456314869451,47250,1.9068783068783013,48151,1.8608128595460016,49047,1.8105082879686929,49935,1.7622909782717633,50815,1.7120928859588602,51685,1.6697300957724703,52548,1.6251807870899082,53402,1.5842103292011522,54248,1.5429140244801687,55085]
[1411,"Quiché","San Juan Cotzal",2.8805120910384066,32305,1.8882525924779348,32915,1.9352878626765824,33552,2.011802575107291,34227,2.0247173284249298,34920,1.9759450171821236,35610,1.9320415613591768,36298,1.881646371700918,36981,1.8333738947026834,37659,1.7817785921028229,38330,1.7323245499608619,38994,1.687439093193821,39652,1.6417835165943639,40303,1.5978959382676239,40947,1.5556695240188434,41584,1.5150057714505616,42214]
[1412,"Quiché","Joyabaj",22.780965237934524,91528,2.7106459225592072,94009,2.7390994479252084,96584,2.7986001822247975,99287,2.7939206542649142,102061,2.7268006388336374,104844,2.6610964862080699,107634,2.5949049556831527,110427,2.5265560053247871,113217,2.4616444526881942,116004,2.3956070480328329,118783,2.3319835329971506,121553,2.2697917780721166,124312,2.2113713881202202,127061,2.1540834717183044,129798,2.0994160156550867,132523]
[1413,"Quiché","Santa María Nebaj",3.5490889311939084,69162,1.8145802608368733,70417,1.8603462232131385,71727,1.9406917897026199,73119,1.9516131238118684,74546,1.904864110750415,75966,1.8574098938999084,77377,1.8080308101890763,78776,1.7594191124200353,80162,1.7090391956288586,81532,1.6619241524800099,82887,1.6142459010459964,84225,1.5684179281685973,85546,1.5243260935636993,86850,1.4841681059297729,88139,1.4431749849669329,89411]
[1414,"Quiché","San Andrés Sajcabajá",13.191899710703952,25349,1.5740265888200655,25748,1.6234270622961011,26166,1.7006802721088343,26611,1.7135770921799187,27067,1.6625411017105796,27517,1.6171821056074398,27962,1.5699878406408629,28401,1.5210732016478268,28833,1.4705372316442977,29257,1.418463957343552,29672,1.3750337018064274,30080,1.3297872340425565,30480,1.286089238845145,30872,1.2470847369784988,31257,1.1997312601977228,31632]
[1415,"Quiché","San Miguel Uspantán",23.09448112823021,66651,1.741909348696935,67812,1.7872942841974826,69024,1.8645688456189191,70311,1.8787956365291292,71632,1.8301876256421767,72943,1.7835844426469905,74244,1.7334734119928807,75531,1.6854006964027946,76804,1.635331493151404,78060,1.5885216500128196,79300,1.5397225725094499,80521,1.4952621055376758,81725,1.4512083205873383,82911,1.4087394917441598,84079,1.3701399873928155,85231]
[1416,"Quiché","Sacapulas",13.836477987421384,52010,0.98442607190925013,52522,1.0319485168120091,53064,1.1080958842152766,53652,1.1220457764854919,54254,1.072731964463447,54836,1.0248741702531206,55398,0.97837467056571814,55940,0.92599213442974282,56458,0.878529172127962,56954,0.82873898233661869,57426,0.78013443388011972,57874,0.73780972457406779,58301,0.69295552391896997,58705,0.65241461545013646,59088,0.60926076360683368,59448]
[1417,"Quiché","San Bartolomé Jocotenango",10.95959595959596,14621,1.2105875111141584,14798,1.243411271793482,14982,1.3282605793619062,15181,1.3371978130557904,15384,1.2935517420696874,15583,1.2449464159661083,15777,1.191608037015901,15965,1.1525211399937341,16149,1.0960430986438841,16326,1.0474090407938341,16497,1.0062435594350383,16663,0.96021124647422962,16823,0.90946917910004199,16976,0.87181903864279597,17124,0.83508526045317222,17267]
[1418,"Quiché","Canillá",34.850166481687019,12020,0.57404326123127181,12089,0.76102241707336482,12181,0.96872177982103569,12299,1.0813887307911108,12432,1.142213642213652,12574,1.1929378081755981,12724,1.2260295504558316,12880,1.2499999999999956,13041,1.2652403956751712,13206,1.2797213387854001,13375,1.2859813084112215,13547,1.284417214143363,13721,1.2899934407113234,13898,1.2879551014534529,14077,1.278681537259363,14257]
[1419,"Quiché","Chicamán",41.135418064689304,38465,1.8562329390354959,39179,1.901528880267489,39924,1.9812644023645021,40715,1.9943509762986533,41527,1.9457220603462888,42335,1.8991378292193328,43139,1.849834256705063,43937,1.8003049821335049,44728,1.7505812913611196,45511,1.7006877458196845,46285,1.6571243383385559,47052,1.6088582844512533,47809,1.5645589742517174,48557,1.5260415594044119,49298,1.4848472554667591,50030]
[1420,"Quiché","Playa Grande Ixcán",35.038335746072597,96526,2.2242711808217575,98673,2.1333090105702723,100778,2.137371251662068,102932,2.1101309602455931,105104,2.0398843050692728,107248,1.9804565120095541,109372,1.9255385290567917,111478,1.8721182654873658,113565,1.8227446836613481,115635,1.7719548579582245,117684,1.7232588967064366,119712,1.6790296712108965,121722,1.6348729071162138,123712,1.5932165028453182,125683,1.5523181337173675,127634]
[1421,"Quiché","Pachalum",9.9151406878070567,8413,2.8408415547367172,8652,2.8201571890892341,8896,2.8214928057553879,9147,2.7659341860719389,9400,2.659574468085113,9650,2.5595854922279893,9897,2.465393553602091,10141,2.3666305098116514,10381,2.2637510837106189,10616,2.1853805576488305,10848,2.1017699115044142,11076,2.0223907547851194,11300,1.9469026548672552,11520,1.8750000000000044,11736,1.8149284253578646,11949]
[1501,"Baja Verapaz","Salamá",21.753783543176905,63021,2.1770520937465232,64393,2.1663845449039432,65788,2.1706086216331189,67216,2.1244941680552243,68644,2.0715576015383652,70066,2.0152427711015219,71478,1.9670388091440616,72884,1.9112562427967772,74277,1.8538713195201728,75654,1.8055886007349198,77020,1.7540898467930388,78371,1.7059881844049496,79708,1.654789983439553,81027,1.6105742530267753,82332,1.5643978040130291,83620]
[1502,"Baja Verapaz","San Miguel Chicaj",8.3550555631773911,31304,2.8079478660874013,32183,2.8027219339402887,33085,2.8048964787668051,34013,2.7577690882897743,34951,2.7009241509541981,35895,2.6466081626967508,36845,2.597367349708235,37802,2.5369028093751744,38761,2.4818761125873889,39723,2.4318404954308592,40689,2.3765636904323095,41656,2.3285961206068739,42626,2.277952423403562,43597,2.2318049407069385,44570,2.1830827911150985,45543]
[1503,"Baja Verapaz","Rabinal",10.103572183470726,43367,1.1921507136762877,43884,1.1849421201348909,44404,1.1845779659490185,44930,1.1417760961495604,45443,1.0870761173338073,45937,1.0318479656921342,46411,0.98252569433969761,46867,0.93029210318560374,47303,0.8688666680760182,47714,0.82156180575931881,48106,0.77121357003284707,48477,0.72405470635559244,48828,0.67174571966903684,49156,0.62657661323135549,49464,0.58021995794921288,49751]
[1504,"Baja Verapaz","Cubulco",20.80353555644837,56153,1.1985112104428985,56826,1.1878365536902136,57501,1.1912836298499263,58186,1.148042484446421,58854,1.090834947497199,59496,1.0353637219308931,60112,0.98815544317274462,60706,0.93071525055183901,61271,0.87317001517845938,61806,0.82678057146554629,62317,0.77346470465522454,62799,0.72453383015653738,63254,0.67347519524456612,63680,0.62971105527638294,64081,0.58363633526319347,64455]
[1505,"Baja Verapaz","Granados",15.681376630585623,13340,1.5217391304347849,13543,1.5210810012552534,13749,1.5419303222052427,13961,1.5041902442518351,14171,1.4748429892033066,14380,1.4255910987482689,14585,1.3849845731916277,14787,1.3457766957462702,14986,1.3012144668357095,15181,1.2515644555694649,15371,1.2230824279487296,15559,1.1761681341988517,15742,1.1434379367297742,15922,1.1053887702549892,16098,1.0622437569884458,16269]
[1506,"Baja Verapaz","Santa Cruz El Chol",7.0933550754178549,9158,2.2712382616291826,9366,2.2635062993807464,9578,2.2656086865733949,9795,2.2256253190403363,10013,2.1571956456606367,10229,2.1116433668980417,10445,2.067975107707043,10661,1.9979364037144842,10874,1.949604561338969,11086,1.9123218473750647,11298,1.841033811294035,11506,1.8077524769685382,11714,1.7500426839679006,11919,1.7031630170316392,12122,1.6663916845405025,12324]
[1507,"Baja Verapaz","San Jerónimo",9.0066655828320599,24063,2.8092922744462401,24739,2.8012449977767861,25432,2.8035545769109715,26145,2.7538726333907082,26865,2.702400893355672,27591,2.6457902939364342,28321,2.5987782917269886,29057,2.5398354957497427,29795,2.4836381943279084,30535,2.429998362534791,31277,2.3819420021101712,32022,2.3296483667478718,32768,2.276611328125,33514,2.2348869129318993,34263,2.1860315792545881,35012]
[1508,"Baja Verapaz","Purulhá",42.688982894978849,58932,1.7901988732776708,59987,1.7803857502458831,61055,1.7836377037097728,62144,1.7411174047373912,63226,1.6860152468920919,64292,1.6300628383002502,65340,1.5824915824915742,66374,1.527706632114989,67388,1.4705882352941124,68379,1.4229514909548158,69352,1.3712654285384707,70303,1.3242678121843987,71234,1.2746722070921201,72142,1.2295195586482288,73029,1.1830916485231935,73893]
[1601,"Alta Verapaz","Cobán",55.734970462180009,200830,2.3009510531295074,205451,2.2720746065971964,210119,2.2330203360952705,214811,2.180055956166127,219494,2.1025631680136936,224109,2.0324931171885163,228664,1.9622677815484657,233151,1.8961960274671785,237572,1.833128483154578,241927,1.7720221389096791,246214,1.7139561519653679,250434,1.6595190748859956,254590,1.6065045759849239,258680,1.5571362300912384,262708,1.5100415670630474,266675]
[1602,"Alta Verapaz","Santa Cruz Verapaz",8.8361358391031981,30540,2.8356254092992694,31406,2.8083805642233894,32288,2.7657333994053568,33181,2.7154094210542157,34082,2.6377560002347256,34981,2.5642491638317999,35878,2.4945649144322513,36773,2.4284121502189171,37666,2.3655285934264247,38557,2.3056773089192628,39446,2.2461086041677181,40332,2.1893285728453726,41215,2.1375712725949292,42096,2.088084378563293,42975,2.0407213496218768,43852]
[1603,"Alta Verapaz","San Cristóbal Verapaz",32.648701938876108,72436,1.913413219945892,73822,1.8829075343393509,75212,1.8441206190501491,76599,1.7911460985130301,77971,1.7147400956766035,79308,1.6454834316840694,80613,1.5754282807983744,81883,1.5094708303310833,83119,1.4461194191460525,84321,1.3851828132968036,85489,1.3288259308215089,86625,1.2721500721500689,87727,1.2219727107959821,88799,1.1711843601842409,89839,1.1253464530994295,90850]
[1604,"Alta Verapaz","Tactic",10.95872853114586,37524,1.9800660910350709,38267,1.9520735882091689,39014,1.9146972881529667,39761,1.8611201931540977,40501,1.7851411076269752,41224,1.7125946050844165,41930,1.6432148819460979,42619,1.5791079096177718,43292,1.5176014044165242,43949,1.4516826321417931,44587,1.397268262049467,45210,1.3426233134262278,45817,1.2899142239779948,46408,1.241165316324766,46984,1.1918951132300348,47544]
[1605,"Alta Verapaz","Tamahú",11.40011068068622,20807,2.9557360503676744,21422,2.8755485015404814,22038,2.7906343588347315,22653,2.6883856442855292,23262,2.5621184764852645,23858,2.45619917847264,24444,2.3441335297005317,25017,2.2424751169204837,25578,2.1424661818750579,26126,2.0554237158386224,26663,1.9652702246558906,27187,1.879574796777872,27698,1.8015741208751601,28197,1.7306805688548366,28685,1.65940386961827,29161]
[1606,"Alta Verapaz","San Miguel Tucurú",10.925373134328359,45512,2.0192476709439244,46431,1.9922034847408066,47356,1.951178308978796,48280,1.8972659486329757,49196,1.823318969021881,50093,1.752739903778977,50971,1.6813482176139427,51828,1.6168866249903546,52666,1.5531842175217303,53484,1.4920350011218275,54282,1.4350981909288629,55061,1.380287317702189,55821,1.3274574085021751,56562,1.2782433435875706,57285,1.2306886619533941,57990]
[1607,"Alta Verapaz","Panzós",24.988519822439919,72979,1.8799928746625838,74351,1.8506812282282681,75727,1.8130917638358834,77100,1.7600518806744514,78457,1.6824502593777435,79777,1.611993431690828,81063,1.5432441434439781,82314,1.4772699662268796,83530,1.4150604573207159,84712,1.3528189630748866,85858,1.2951617787509528,86970,1.2418075198344258,88050,1.1890971039182352,89097,1.1392078296687869,90112,1.0930841619318121,91097]
[1608,"Alta Verapaz","Senahú",52.7605140891812,89845,1.672881072958976,91348,1.6519245084730905,92857,1.6207717242641806,94362,1.5769059579067823,95850,1.5086071987480354,97296,1.4461026147015277,98703,1.3829366888544525,100068,1.3260982531878351,101395,1.2702795995857885,102683,1.2183126710360925,103934,1.1670868050878358,105147,1.1193852416141237,106324,1.0750159888642363,107467,1.0319446899978546,108576,0.99193191865605268,109653]
[1609,"Alta Verapaz","San Pedro Carchá",79.006171281745395,218371,2.7352533074446628,224344,2.7052205541489904,230413,2.6656482056133912,236555,2.6108093255268416,242731,2.5332569799489946,248880,2.4614271938283583,255006,2.3905319874826469,261102,2.3228470099807774,267167,2.2596353591573859,273204,2.196893164082514,279206,2.1382061990071755,285176,2.0825735686032409,291115,2.0284080174501451,297020,1.9783179583866328,302896,1.9300353916855917,308742]
[1610,"Alta Verapaz","San Juan Chamelco",30.965292841648591,53857,2.3878047421876492,55143,2.3593203126416773,56444,2.3173410814258277,57752,2.2683197118714471,59062,2.1892248823270455,60355,2.1191284897688734,61634,2.0475711457961454,62896,1.9842279318239564,64144,1.919119481167364,65375,1.8585086042065102,66590,1.8005706562546964,67789,1.7451208898198844,68972,1.6934408165632409,70140,1.6438551468491491,71293,1.5962296438640555,72431]
[1611,"Alta Verapaz","San Agustín Lanquín",68.233683249657702,24350,1.2443531827515342,24653,1.3791424978704336,24993,1.4764133957508196,25362,1.5298478038009655,25750,1.5378640776698926,26146,1.5489941099977145,26551,1.5328989491921297,26958,1.5171748646042094,27367,1.4945006759966351,27776,1.4652937788018461,28183,1.4334882730724141,28587,1.3992374156085008,28987,1.3661296443233217,29383,1.3307014259946293,29774,1.2930744945254258,30159]
[1612,"Alta Verapaz","Santa María Cahabón",51.687024856923216,62767,2.0265426099702166,64039,1.9972204437920693,65318,1.958112618267549,66597,1.9054912383440703,67866,1.8286034243951255,69107,1.7566961378731483,70321,1.6893957708223661,71509,1.6221734327147574,72669,1.5605003509061577,73803,1.498584068398312,74909,1.440414369434917,75988,1.3870611149128909,77042,1.3330391215181425,78069,1.2847609166250384,79072,1.2381121003642193,80051]
[1613,"Alta Verapaz","Chisec",45.23091360010725,98126,0.78062898722051077,98892,1.1113133519394802,99991,1.3391205208468815,101330,1.483272476068298,102833,1.5510585123452492,104428,1.5857815911441309,106084,1.5911918856754914,107772,1.5811156886760935,109476,1.5583324198911175,111182,1.5272256300480347,112880,1.4909638554216897,114563,1.4507301659349103,116225,1.4093353409335263,117863,1.3676896057286836,119475,1.3274743670223854,121061]
[1614,"Alta Verapaz","Chahal",41.121495327102799,25615,2.5180558266640674,26260,2.4904798172124876,26914,2.4522553317975815,27574,2.3971857546964515,28235,2.3198158314149175,28890,2.2499134648667374,29540,2.1767095463777864,30183,2.1170857767617512,30822,2.0504834209331024,31454,1.9870286767978529,32079,1.9296112721718162,32698,1.8747323995351506,33311,1.825222899342549,33919,1.7748164745422956,34521,1.7235885403088069,35116]
[1615,"Alta Verapaz","Fray Bartolomé de Las Casas",34.642345069300625,66532,2.8587747249443796,68434,2.7953941023467932,70347,2.7236413777417701,72263,2.6389715345335851,74170,2.5306727787515193,76047,2.4313911133904131,77896,2.333881072198829,79714,2.2405098226158549,81500,2.1533742331288241,83255,2.0671431145276475,84976,1.986443231029944,86664,1.9096741438198173,88319,1.8365244171695716,89941,1.7656018945753305,91529,1.7011001977515372,93086]
[1616,"Alta Verapaz","Santa Catalina La Tinta",19.649805447470818,40037,2.3927866723280955,40995,2.3515062812538012,41959,2.295097595271578,42922,2.2296258329062013,43879,2.1422548371658356,44819,2.0593944532452779,45742,1.980674216256384,46648,1.9036185902932656,47536,1.8280881857960285,48405,1.7622146472471956,49258,1.693125989686961,50092,1.6309989619100795,50909,1.5694670883340756,51708,1.5142724530053275,52491,1.4592977843820742,53257]
[1617,"Alta Verapaz","Raxruhá",41.08725033788857,35103,2.7775403811640009,36078,2.4419313709185708,36959,2.2457317568115975,37789,2.1064330889941418,38585,1.9826357392769278,39350,1.8907242693773751,40094,1.8057564722901098,40818,1.7345288843157336,41526,1.668833983528395,42219,1.603543428314258,42896,1.5479298769115912,43560,1.4898989898989967,44209,1.4386210952521017,44845,1.3892295685137723,45468,1.3416028855458784,46078]
[1701,"Petén","Flores",11.471756612731324,38188,2.7207499738137741,39227,2.5135748336604813,40213,2.3698803869395491,41166,2.1935577904095505,42069,2.117949083648285,42960,2.0460893854748585,43839,1.9776910969684591,44706,1.9102581308996447,45560,1.8459174714662074,46401,1.7779789228680398,47226,1.7215093380764879,48039,1.6611503153687535,48837,1.605340213362827,49621,1.5517623586787765,50391,1.5022523863388315,51148]
[1702,"Petén","San José",7.9002079002079011,6852,0.94862813776999122,6917,0.85297094115945882,6976,0.8314220183486265,7034,0.76769974410009212,7088,0.7759593679458332,7143,0.82598348033038338,7202,0.81921688419883676,7261,0.85387687646329979,7323,0.84664754881877968,7385,0.86662153012864174,7449,0.85917572828566602,7513,0.87847730600292273,7579,0.87082728592162706,7645,0.87638979725310762,7712,0.86877593360996652,7779]
[1703,"Petén","San Benito",3.2314563446886768,47868,2.0577421241748217,48853,1.9139049802468611,49788,1.8337752068771529,50701,1.7100254432851347,51568,1.6890319578032997,52439,1.6666984496271908,53313,1.6431264419559888,54189,1.6165642473564779,55065,1.5908471806047375,55941,1.5605727462862706,56814,1.5330728341605981,57685,1.5047239316980043,58553,1.4772940754530062,59418,1.4490558416641486,60279,1.4233812770616527,61137]
[1704,"Petén","San Andrés",20.350535540408959,32963,1.3166277341261523,33397,1.1767524029104415,33790,1.0949985202722612,34160,0.97775175644028156,34494,0.95378906476488723,34823,0.92754788501852037,35146,0.90764240596370449,35465,0.87974058931341581,35777,0.85250300472370366,36082,0.82589656892633201,36380,0.79714128642112136,36670,0.77174802290700395,36953,0.74148242361919969,37227,0.71453514921964167,37493,0.68279412156935226,37749]
[1705,"Petén","La Libertad",7.335470488402791,76075,2.0663818600065831,77647,1.9215166072095613,79139,1.8423280556994603,80597,1.7209077260940342,81984,1.6966725214676126,83375,1.6755622188905583,84772,1.6503090643136931,86171,1.6258369985261867,87572,1.5986845110309122,88972,1.5679090050802591,90367,1.5414919162968888,91760,1.5137314734088969,93149,1.4857915812300782,94533,1.4566341912348069,95910,1.4305077676988853,97282]
[1706,"Petén","San Francisco",3.5460992907801421,15132,1.7644726407612943,15399,1.6169881161114397,15648,1.540132924335369,15889,1.416074013468438,16114,1.3963013528608625,16339,1.3709529346961347,16563,1.3524120026565223,16787,1.3224518973014909,17009,1.2993121288729537,17230,1.2594312246082318,17447,1.24376683670544,17664,1.2115036231884035,17878,1.1802215012864936,18089,1.1609265299353133,18299,1.1312093557025005,18506]
[1707,"Petén","Santa Ana",5.9635781468881328,21238,2.2600998210754231,21718,2.1180587531080208,22178,2.0380557309044978,22630,1.9133893062306617,23063,1.8904739192646236,23499,1.8724201029830967,23939,1.842182213125021,24380,1.8211648892534793,24824,1.7926200451176211,25269,1.7650085084490952,25715,1.7343962667703661,26161,1.7086502809525728,26608,1.6837041491280846,27056,1.6484328799526882,27502,1.6253363391753428,27949]
[1708,"Petén","Dolores",14.486853265479219,28691,0.88878045380085258,28946,0.80149243418778937,29178,0.78141065186099201,29406,0.71413997143439101,29616,0.7428417071853044,29836,0.76752915940474509,30065,0.78829203392649649,30302,0.80522737773083275,30546,0.81516401492831569,30795,0.8248092222763459,31049,0.83738606718413156,31309,0.83682008368199945,31571,0.84254537391910134,31837,0.84806985582812633,32107,0.84405269878842226,32378]
[1709,"Petén","San Luis",25.901745313510023,72377,1.2310540641363943,73268,1.0891521537369719,74066,1.0085599330327044,74813,0.88620961597583037,75476,0.86385076050665699,76128,0.84068936527952332,76768,0.81674656106711652,77395,0.79074875637961117,78007,0.76531593318547309,78604,0.73278713551472308,79180,0.70598636019196803,79739,0.67971757860019189,80281,0.64897049114984728,80802,0.62250934382812595,81305,0.59405940594059459,81788]
[1710,"Petén","Sayaxché",24.597913776270488,89557,1.8256529361188933,91192,1.6821651022019379,92726,1.6025710156805983,94212,1.4817645310576166,95608,1.4580369843527841,97002,1.438114678047886,98397,1.4126446944520588,99787,1.3869542124725687,101171,1.3600735388599405,102547,1.3310969604181544,103912,1.3030256370775373,105266,1.2767655273307588,106610,1.2465997561204478,107939,1.2201335939743707,109256,1.1935271289448712,110560]
[1711,"Petén","Melchor de Mencos",13.515098211668134,28157,1.5022907269950592,28580,1.3610916724982491,28969,1.2772273809934731,29339,1.1622754695115756,29680,1.1388140161725069,30018,1.1126657338929924,30352,1.087243015287287,30682,1.0657714620950332,31009,1.0384082040697962,31331,1.008585745747026,31647,0.98271558125573311,31958,0.9543776206270671,32263,0.92675820599448233,32562,0.89982187826300741,32855,0.87049155379699261,33141]
[1712,"Petén","Poptún",26.677316293929714,59162,2.7652885297995367,60798,2.5543603408006765,62351,2.4105467434363481,63854,2.230087386851265,65278,2.1508011887619194,66682,2.0800215950331324,68069,2.0097254256710162,69437,1.9398879559888726,70784,1.8718919529837175,72109,1.8055998557738873,73411,1.7449700998487971,74692,1.6842499866116745,75950,1.6273864384463543,77186,1.5715285155339043,78399,1.5204275564739245,79591]
[1713,"Petén","Las Cruces",26.514399205561073,34597,2.0637627539960013,35311,1.9229135396901853,35990,1.8393998332870254,36652,1.7215977300010898,37283,1.6951425582705237,37915,1.6774363708294882,38551,1.6523566185053573,39188,1.6229457997346097,39824,1.5970269184411467,40460,1.5694513099357321,41095,1.5427667599464678,41729,1.5145342567518982,42361,1.482495691791974,42989,1.4585126427690831,43616,1.4306676449009625,44240]
[1714,"Petén","El Chal",15.939803439803441,14728,0.88267246061923821,14858,0.80764571274734021,14978,0.78114568033116338,15095,0.72209340841338232,15204,0.73664825046040328,15316,0.76390702533297716,15433,0.7905138339920903,15555,0.80360012857600971,15680,0.81632653061225469,15808,0.8286943319838036,15939,0.83443126921387556,16072,0.83997013439522927,16207,0.84531375331646785,16344,0.83822809593734338,16481,0.84946301802075741,16621]
[1801,"Izabal","Puerto Barrios",40.369006463249661,102777,1.2716852992401106,104084,1.2634026363322004,105399,1.2761031888347985,106744,1.3040545604436682,108136,1.2632240881852441,109502,1.2273748424686204,110846,1.18813488984717,112163,1.1474372119147924,113450,1.1115028646980996,114711,1.0731316089999998,115942,1.0324127581031961,117139,1.0005207488539281,118311,0.96187167718977395,119449,0.92926688377465982,120559,0.89582693950680525,121639]
[1802,"Izabal","Livingston",27.218526421488644,73849,1.4001543690503659,74883,1.3915040796976585,75925,1.4027000329272399,76990,1.4313547213923972,78092,1.3906674179173351,79178,1.3526484629568847,80249,1.3146581265810253,81304,1.2730000983961487,82339,1.2363521539003441,83357,1.1972599781661986,84355,1.1582004623318154,85332,1.122673791777995,86290,1.0858732182176478,87227,1.052426427596953,88145,1.0187758806512015,89043]
[1803,"Izabal","El Estor",22.000722282412426,74849,1.6393004582559545,76076,1.6299489983700566,77316,1.6426095504164628,78586,1.6695085638663398,79898,1.6283261157976403,81199,1.5911526004014798,82491,1.5516844261798335,83771,1.5088753864702653,85035,1.4735109072734787,86288,1.4347302058223654,87526,1.3915865000114325,88744,1.3589651131344027,89950,1.3207337409671949,91138,1.2859619478154061,92310,1.2523020257826811,93466]
[1804,"Izabal","Morales",12.016518112682967,98533,1.4523053190301782,99964,1.442519306950496,101406,1.4555351754333978,102882,1.4822806710600434,104407,1.4424320208415109,105913,1.4039825139501305,107400,1.3659217877094898,108867,1.3254705282592427,110310,1.287281298159737,111730,1.2485456010024265,113125,1.2075138121546924,114491,1.1747648286764889,115836,1.1360889533478469,117152,1.1028407538923757,118444,1.0688595454392047,119710]
[1805,"Izabal","Los Amates",10.647915620291311,61031,1.066671036030864,61682,1.1413378295126675,62386,1.1973840284679182,63133,1.2497426068775352,63922,1.2218015706642493,64703,1.1931440582353181,65475,1.1576937762504791,66233,1.1172678272160397,66973,1.0840189330028505,67699,1.0443285720616258,68406,1.0057597286787789,69094,0.97114076475526279,69765,0.93456604314483549,70417,0.90035076757033483,71051,0.86698287145852149,71667]
[1901,"Zacapa","Zacapa",32.379389563505086,61808,1.2231426352575792,62564,1.2067642733840644,63319,1.1765820685734063,64064,1.2331418581418507,64854,1.2134949270669493,65641,1.191328590362728,66423,1.1712810321725886,67201,1.1502805017782558,67974,1.1239591608556143,68738,1.0998283336727921,69494,1.0720349958269759,70239,1.0478509090391386,70975,1.0200774920746669,71699,0.99861922760429156,72415,0.9707933439204508,73118]
[1902,"Zacapa","Estanzuela",5.1628276409849088,10847,-0.12906794505392893,10833,-6.4617372842246112E-2,10826,-1.8474043968219611E-2,10824,0.10162601626015899,10835,0.1476695892939528,10851,0.19353055017969911,10872,0.22075055187638082,10896,0.26615271659324868,10925,0.29290617848969358,10957,0.31030391530528778,10991,0.31844236193248054,11026,0.35370941411210222,11065,0.35246272028919279,11104,0.36923631123919609,11145,0.38582323912068617,11188]
[1903,"Zacapa","Río Hondo",3.9828326180257507,21145,1.7119886497990011,21507,1.6924722183475183,21871,1.6597320652919301,22234,1.7135917963479352,22615,1.6979880610214382,22999,1.6739858254706697,23384,1.6549777625727069,23771,1.6322409658827919,24159,1.6060267395173744,24547,1.584715036460671,24936,1.55197305101058,25323,1.5282549460964301,25710,1.4974718008556875,26095,1.4792105767388319,26481,1.450096295457115,26865]
[1904,"Zacapa","Gualán",7.3945273176535178,47500,0.77473684210527249,47868,0.76251357900893879,48233,0.72771753778533288,48584,0.78626708381359656,48966,0.76583751991177174,49341,0.74583003992623187,49709,0.72622663903920692,50070,0.70101857399640366,50421,0.67828880823466164,50763,0.65401965998856948,51095,0.62628437224776512,51415,0.59904697072838964,51723,0.57614600854551945,52021,0.55170027488897766,52308,0.52382044811500883,52582]
[1905,"Zacapa","Teculután",2.4669208342677731,18702,1.3688375574804734,18958,1.3503534128072481,19214,1.321952742791721,19468,1.376618039860289,19736,1.362991487636811,20005,1.3346663334166564,20272,1.3170876085240701,20539,1.2950971322849281,20805,1.273732275895223,21070,1.2387280493592723,21331,1.2188833153626177,21591,1.1949423370849033,21849,1.1625246006682133,22103,1.144640998959412,22356,1.1182680264805844,22606]
[1906,"Zacapa","Usumatlán",5.0179211469534053,12079,1.7633910091894966,12292,1.6596160104132673,12496,1.5364916773367376,12688,1.5290037831021452,12882,1.4361124049060647,13067,1.3622101477003046,13245,1.2986032465081232,13417,1.244689572929869,13584,1.1704946996466514,13743,1.127846903878349,13898,1.0649014246654209,14046,1.0180834401253058,14189,0.97258439636338512,14327,0.93529699169401237,14461,0.89205449139062587,14590]
[1907,"Zacapa","Cabañas",6.8039391226499548,13790,1.2182741116751217,13958,1.2036108324974926,14126,1.1751380433243641,14292,1.2244612370556851,14467,1.2096495472454505,14642,1.1951919136729883,14817,1.1675777822771183,14990,1.1407605070046678,15161,1.1212980674097928,15331,1.0958189289674625,15499,1.0710368410865145,15665,1.0469198850941552,15829,1.0171204750773821,15990,0.9943714821763594,16149,0.9660040869403641,16305]
[1908,"Zacapa","San Diego",2.1352313167259789,7290,0.98765432098766315,7362,0.97799511002445438,7434,0.95507129405434377,7505,1.0126582278481067,7581,1.0025062656641603,7657,0.97949588611727645,7732,0.96999482669426484,7807,0.96067631612655191,7882,0.93884800811976366,7956,0.90497737556560764,8028,0.87194818136522301,8098,0.86441096567053677,8168,0.84476003917728359,8237,0.8255432803204954,8305,0.79470198675497539,8371]
[1909,"Zacapa","La Unión",14.031971580817052,36931,0.70130784435840088,37190,0.68566819037376714,37445,0.64895179596742292,37688,0.71110167692634008,37956,0.69027294762356028,38218,0.66722486786330304,38473,0.64720713227457427,38722,0.62496771860958145,38964,0.60055435786880995,39198,0.57911117914180021,39425,0.54787571337984176,39641,0.52470926565928444,39849,0.49436623252778755,40046,0.47445437746591601,40236,0.44736057262153572,40416]
[1910,"Zacapa","Huité",6.6691230655858513,11480,0.78397212543555028,11570,0.7692307692307665,11659,0.74620464876919979,11746,0.79175889664566679,11839,0.77709265985301812,11931,0.75433744028161609,12021,0.74037101738624322,12110,0.71841453344343442,12197,0.68869394113306726,12281,0.65955541079716351,12362,0.63905516906650472,12441,0.61088336950405608,12517,0.59119597347607744,12591,0.5638948455245707,12662,0.53703996209129023,12730]
[1911,"Zacapa","San Jorge",9.0940525587828489,12586,1.2235817575083408,12740,1.2087912087912045,12894,1.1710873274391131,13045,1.234189344576464,13206,1.2115704982583742,13366,1.1895855154870461,13525,1.1756007393715295,13684,1.1473253434668207,13841,1.1270861931941267,13997,1.100235764806734,14151,1.0741290368171841,14303,1.0417394952108028,14452,1.0240797121505718,14600,1.0000000000000009,14746,0.96975450969754018,14889]
[2001,"Chiquimula","Chiquimula",38.405623452352422,107907,1.6727367084619083,109712,1.6470395216567013,111519,1.6302154789766821,113337,1.5625965042307399,115108,1.5342113493414855,116874,1.5067508599003965,118635,1.474269819193319,120384,1.4437134502923943,122122,1.4100653444915734,123844,1.3767320176996778,125549,1.3429019745278659,127235,1.3101740873187495,128902,1.2792664194504422,130551,1.2493201890448891,132182,1.2180175818190087,133792]
[2002,"Chiquimula","San José La Arada",28.270609318996414,8614,1.1144648247039646,8710,1.0907003444316832,8805,1.0675752413401574,8899,1.0225868075064648,8990,0.97886540600666816,9078,0.95836087243885704,9165,0.91653027823239697,9249,0.88658233322520541,9331,0.86807416139749183,9412,0.81810454738631133,9489,0.79038887132469871,9564,0.76327896277708085,9637,0.72636712669917891,9707,0.70052539404552583,9775,0.67519181585677934,9841]
[2003,"Chiquimula","San Juan Ermita",28.909437041066088,16328,2.1313081822635915,16676,2.0868313744303091,17024,2.0676691729323293,17376,1.9739871086556171,17719,1.9470624753089805,18064,1.8988042515500458,18407,1.8688542402346853,18751,1.8185696762839321,19092,1.770375026188975,19430,1.7344312918167848,19767,1.6896848282490939,20101,1.6417093676931449,20431,1.6054035534237121,20759,1.5607688231610295,21083,1.5225537162642855,21404]
[2004,"Chiquimula","Jocotán",36.817783443550319,66557,1.9306759619574176,67842,1.9044249874708985,69134,1.8876384991465933,70439,1.8214341486960439,71722,1.7902456707844072,73006,1.7628688053036745,74293,1.7296380547292545,75578,1.7002302257270729,76863,1.6666016158619845,78144,1.6303235053235055,79418,1.5978745372585479,80687,1.5640685612304361,81949,1.5338808283200445,83206,1.5034973439415511,84457,1.4705708230223768,85699]
[2005,"Chiquimula","Camotán",22.948991916751833,57580,1.1497047585967257,58242,1.1211840252738581,58895,1.1070549282621522,59547,1.041194350680974,60167,1.0105207173367381,60775,0.98560263266145309,61374,0.95154299866393455,61958,0.91997804964654151,62528,0.88920163766632587,63084,0.85600152178049171,63624,0.82044511505092732,64146,0.79038443550649706,64653,0.75634541320588333,65142,0.72764115317307532,65616,0.6980004876859347,66074]
[2006,"Chiquimula","Olopa",31.554851206198276,27868,1.3097459451700821,28233,1.3530266000779223,28615,1.369910885898995,29007,1.3238183886647992,29391,1.3065224048178115,29775,1.2795969773299776,30156,1.2534818941504211,30534,1.224864085936983,30908,1.1906302575384942,31276,1.157437012405671,31638,1.1283899108666784,31995,1.0907954367870065,32344,1.063566658421955,32688,1.0340186000978857,33026,0.99921274147640737,33356]
[2007,"Chiquimula","Esquipulas",12.339004611225949,52498,1.238142405424969,53148,1.2117106946639478,53792,1.1972040452111754,54436,1.1279300462929021,55050,1.0990009082652241,55655,1.074476686730752,56253,1.0417222192594222,56839,1.0081106282658014,57412,0.97888943078101587,57974,0.94352640838997193,58521,0.90907537465183541,59053,0.87887152219192632,59572,0.8477136909957661,60077,0.81728448491102945,60568,0.78754457799499189,61045]
[2008,"Chiquimula","Concepción Las Minas",7.3406310367031544,12125,0.65979381443299623,12205,0.63908234330192215,12283,0.62688268338353392,12360,0.55016181229774475,12428,0.53910524621820777,12495,0.49619847939175177,12557,0.46189376443417363,12615,0.44391597304795916,12671,0.40249388367137318,12722,0.37729916679767328,12770,0.33672670321065468,12813,0.30437836572232424,12852,0.28011204481792618,12888,0.24053382991930938,12919,0.21673504141186406,12947]
[2009,"Chiquimula","Quezaltepeque",26.181220095693782,27288,1.5244796247434689,27704,1.4979786312445897,28119,1.4829830363811025,28536,1.4157555368657038,28940,1.385625431928128,29341,1.3598718516751207,29740,1.3315400134499056,30136,1.2974515529599051,30527,1.2644544174009953,30913,1.226021414938705,31292,1.2015850696663666,31668,1.1620563344701296,32036,1.1331002622050113,32399,1.1049723756906049,32757,1.0745794791952923,33109]
[2010,"Chiquimula","San Jacinto",75.973574408901257,12377,1.2200048477013725,12528,1.1973180076628287,12678,1.1673765578166906,12826,1.1149228130360234,12969,1.0794972627033772,13109,1.0527118773361765,13247,1.0115497848569577,13381,0.98647335774606493,13513,0.9620365573891787,13643,0.93088030491828011,13770,0.87872185911401779,13891,0.86386869195882454,14011,0.82792091927770262,14127,0.79280809796842266,14239,0.76550319544912426,14348]
[2011,"Chiquimula","Ipala",3.2640949554896146,21808,1.4902787967718378,22133,1.4593593277007155,22456,1.4472746704666806,22781,1.3783416004565119,23095,1.3509417622862063,23407,1.3243901397018032,23717,1.2944301555845916,24024,1.2612387612387588,24327,1.2249763637111055,24625,1.1939086294416201,24919,1.1637706167984208,25209,1.1265817763497221,25493,1.0983407209822271,25773,1.0708881387498481,26049,1.036508119313595,26319]
[2101,"Jalapa","Jalapa",23.530644002872876,172722,1.6975255034101133,175654,1.6555273435276074,178562,1.6229656925885738,181460,1.5926374958668665,184350,1.5400054244643302,187189,1.4829931245959882,189965,1.4271049930250301,192676,1.3727708692312435,195321,1.3173186702914785,197894,1.2643132181875183,200396,1.2160921375676148,202833,1.1635187568098004,205193,1.1189465527576381,207489,1.0733099104048849,209716,1.0290106620381767,211874]
[2102,"Jalapa","San Pedro Pinula",26.130071894884722,68442,2.052833055726011,69847,2.0129712084985707,71253,1.9788640478295649,72663,1.9487221832294344,74079,1.8952739642813743,75483,1.8401494376217187,76872,1.7847850973046198,78244,1.7292060733091308,79597,1.6746862318931521,80930,1.6211540837760996,82242,1.5734053160185724,83536,1.5214997126987262,84807,1.4762932305116383,86059,1.4292520247737084,87289,1.3873454845398703,88500]
[2103,"Jalapa","San Luis Jilotepeque",6.8937285082691995,23698,1.9368723098995622,24157,1.895930786107547,24615,1.8606540727198917,25073,1.8306544888924359,25532,1.7781607394641963,25986,1.7240052335873113,26434,1.6645229628508673,26874,1.6112227431718473,27307,1.5600395502984643,27733,1.5000180290628551,28149,1.4600873920920909,28560,1.404061624649855,28961,1.3604502606954227,29355,1.3149378300119308,29741,1.2709727312464336,30119]
[2104,"Jalapa","San Manuel Chaparrón",6.8934240362811785,8262,1.5492616799806402,8390,1.501787842669855,8516,1.4795678722404837,8642,1.4464244387873082,8767,1.402988479525491,8890,1.3385826771653564,9009,1.298701298701288,9126,1.2382204689896925,9239,1.1797813616192254,9348,1.14462986735131,9455,1.0893707033315714,9558,1.046243984097095,9658,0.99399461586249238,9754,0.96370719704736985,9848,0.90373679935011886,9937]
[2105,"Jalapa","San Carlos Alzatate",14.109742441209406,19514,1.808957671415401,19867,1.766748880052349,20218,1.7360767632802476,20569,1.7064514560746646,20920,1.649139579349912,21265,1.5988713849047764,21605,1.5413098819717641,21938,1.4860060169568756,22264,1.4328063241106692,22583,1.3815702076783509,22895,1.3321685957632612,23200,1.2715517241379315,23495,1.2385613960417041,23786,1.1855713444883564,24068,1.1509057669935263,24345]
[2106,"Jalapa","Monjas",3.6075471698113213,26304,2.6573905109489093,27003,2.6108210198866777,27708,2.5768731052403737,28422,2.5473224966575225,29146,2.4977698483496846,29874,2.4369016536118338,30602,2.3789294817332163,31330,2.3236514522821494,32058,2.2740033688938732,32787,2.2112422606520798,33512,2.1693721651945497,34239,2.1145477379596267,34963,2.0679003518004668,35686,2.0232023762820184,36408,1.9775873434410007,37128]
[2107,"Jalapa","Mataquescuintla",20.959542469815716,41152,2.1238335925349849,42026,2.0844239280445542,42902,2.0535173185399325,43783,2.0213324806431787,44668,1.9678517059192213,45547,1.912310360726277,46418,1.857038217932705,47280,1.8020304568527878,48132,1.7452006980802848,48972,1.6948460344686778,49802,1.6445122685835978,50621,1.5942000355583685,51428,1.5477949754997278,52224,1.5031403186274606,53009,1.4582429398781294,53782]
[2201,"Jutiapa","Jutiapa",42.941520287937983,153973,1.2294363297461253,155866,1.2234868412610789,157773,1.2112338613070595,159684,1.1898499536584728,161584,1.1511040697098629,163444,1.1147549007611168,165266,1.0788667965582865,167049,1.0404132919083597,168787,1.0036317962876184,170481,0.96960951660303163,172134,0.93531783378066891,173744,0.90017497007091052,175308,0.86761585324115487,176829,0.83866334142024268,178312,0.80589079815156506,179749]
[2202,"Jutiapa","El Progreso",0.7854773957060569,23401,1.4871159352164431,23749,1.4779569666091286,24100,1.4605809128630742,24452,1.4477343366595674,24806,1.4069176812061546,25155,1.3675213675213627,25499,1.3333856229656105,25839,1.2964898022369331,26174,1.2569725681974564,26503,1.226276270610871,26828,1.1927836588638829,27148,1.149255930455273,27460,1.12163146394757,27768,1.0947853644482919,28072,1.0615559988600642,28370]
[2203,"Jutiapa","Santa Catarina Mita",3.193586542252596,28396,1.6445978306803832,28863,1.6422409312961239,29337,1.6327504516480795,29816,1.6098738932116996,30296,1.5678637443887089,30771,1.5306619869357441,31242,1.494782664362071,31709,1.4601532687880336,32172,1.4204898669650579,32629,1.3852707713996715,33081,1.3482059188053563,33527,1.3213231127151337,33970,1.2805416544009462,34405,1.2556314489173159,34837,1.2199672761718849,35262]
[2204,"Jutiapa","Agua Blanca",6.7309901217551111,16113,1.4584496990007967,16348,1.4436016638120774,16584,1.4411480945489608,16823,1.4206740771562698,17062,1.3831907162114687,17298,1.3585385593710253,17533,1.3232190726059523,17765,1.2834224598930577,17993,1.2560440171177634,18219,1.223996926285742,18442,1.1983515887647789,18663,1.1573701977174,18879,1.1335346151808867,19093,1.105117058607874,19304,1.0826771653543288,19513]
[2205,"Jutiapa","Asunción Mita",3.0696576151121606,46912,1.9866984993178738,47844,1.9354569015968659,48770,1.874102932130417,49684,1.8114483535947246,50584,1.7337498023090259,51461,1.6556227045724015,52313,1.5827805707950171,53141,1.5110743117366932,53944,1.4385288447278599,54720,1.3760964912280738,55473,1.3105474735456868,56200,1.2491103202846965,56902,1.1897648588801824,57579,1.1358307716354821,58233,1.080143561211,58862]
[2206,"Jutiapa","Yupiltepeque",9.2882382635032812,17203,0.76149508806604427,17334,0.81919926156686085,17476,0.86976424811169295,17628,0.8906285454957974,17785,0.88838909193140747,17943,0.89171264559995134,18103,0.87830746285146866,18262,0.85970868470046646,18419,0.84695151745479702,18575,0.82368775235530656,18728,0.80093976932935629,18878,0.76808984002543212,19023,0.75172160016820921,19166,0.73046018991964612,19306,0.69926447736454733,19441]
[2207,"Jutiapa","Atescatempa",7.0214488061513567,18097,1.51958888213517,18372,1.5131722185935059,18650,1.501340482573732,18930,1.4844162704701569,19211,1.4470876060590276,19489,1.4007901893375641,19762,1.3713186924400267,20033,1.3328008785503886,20300,1.2955665024630525,20563,1.2595438408792514,20822,1.2246662184228319,21077,1.1956160743938904,21329,1.1580477284448332,21576,1.1308861698183126,21820,1.0953253895508608,22059]
[2208,"Jutiapa","Jerez",5.9925093632958806,6188,1.5998707175177707,6287,1.6064895816764846,6388,1.5967438948027546,6490,1.6024653312789017,6594,1.5620260843190792,6697,1.5380020904882885,6800,1.5147058823529402,6903,1.4921048819353855,7006,1.4416214673137251,7107,1.449275362318847,7210,1.4147018030513214,7312,1.3949671772428784,7414,1.3622875640679766,7515,1.357285429141708,7617,1.3259813574898249,7718]
[2209,"Jutiapa","El Adelanto",21.166892808683855,7894,0.93742082594374665,7968,0.94126506024097001,8043,0.92005470595548644,8117,0.899347049402488,8190,0.85470085470085166,8260,0.83535108958838755,8329,0.78040581102172268,8394,0.75053609721229542,8457,0.72129596783729877,8518,0.66917116694058532,8575,0.65306122448980375,8631,0.60247943459621478,8683,0.58735460094436753,8734,0.54957636821617584,8782,0.52379867911638289,8828]
[2210,"Jutiapa","Zapotitlán",14.397266959492436,9684,1.3217678645187858,9812,1.3147166734610582,9941,1.3077155215773129,10071,1.2809055704497974,10200,1.2352941176470678,10326,1.2105365097811349,10451,1.1673524064682805,10573,1.1349664239099555,10693,1.0941737585336231,10810,1.0638297872340496,10925,1.0251716247139608,11037,0.99664763975717552,11147,0.95989952453574556,11254,0.92411586991292261,11358,0.89804543053353392,11460]
[2211,"Jutiapa","Comapa",14.112334180073386,34652,0.96386932933163472,34986,1.031841307951753,35347,1.0609104025801397,35722,1.0693690162924874,36104,1.0469754043873181,36482,1.0169398607532409,36853,0.99042140395626532,37218,0.95115266806384824,37572,0.91823698498882944,37917,0.88614605585883854,38253,0.85222074085693489,38579,0.81650638948651544,38894,0.78675374093690742,39200,0.75765306122448361,39497,0.72410562827556202,39783]
[2212,"Jutiapa","Jalpatagua",8.0242560992807785,29894,0.69913695055863201,30103,0.75739959472478358,30331,0.80445748574065057,30575,0.82747342600164586,30828,0.83041390943299209,31084,0.83000900784970799,31342,0.82636717503670187,31601,0.8132654029935793,31858,0.79728796534621615,32112,0.78163926258096872,32363,0.76630720266972485,32611,0.74208089295022539,32853,0.71530758226037161,33088,0.70418278529980061,33321,0.67524984244169417,33546]
[2213,"Jutiapa","Conguaco",20.08461367178802,27022,1.5098808378358308,27430,1.5020051039008386,27842,1.4905538395230122,28257,1.4686626322681029,28672,1.4299665178571397,29082,1.3926139880338306,29487,1.3565299962695399,29887,1.3182989259544309,30281,1.2813315280208792,30669,1.2520786461899691,31053,1.2108330918107812,31429,1.1772566737726198,31799,1.1478348375735026,32164,1.1130456410894274,32522,1.0854191009163072,32875]
[2214,"Jutiapa","Moyuta",10.449473354885805,48886,0.591171296485693,49175,0.58769700050838036,49464,0.5721332686398295,49747,0.55279715359719539,50022,0.51577305985366362,50280,0.47732696897375693,50520,0.43942992874108633,50742,0.40400457214930796,50947,0.3670481088189792,51134,0.33050416552586892,51303,0.29822817379101529,51456,0.26236007462685507,51591,0.22872206392587913,51709,0.2011255294049441,51813,0.16791152799491282,51900]
[2215,"Jutiapa","Pasaco",1.5398973401773215,10535,0.977693402942581,10638,0.95882684715171695,10740,0.95903165735566898,10843,0.94069906852347618,10945,0.88624942896300407,11042,0.86035138561855184,11137,0.82607524467990245,11229,0.79259061358980532,11318,0.74218059727866326,11402,0.71917207507454783,11484,0.67920585161964642,11562,0.64002767687252327,11636,0.61876933654176902,11708,0.58934062179705204,11777,0.55192324021398065,11842]
[2216,"Jutiapa","San José Acatempa",1.1173184357541899,13308,0.68379921851517977,13399,0.69408164788415938,13492,0.68929736139935471,13585,0.6772175193227925,13677,0.65803904364991617,13767,0.63194595772499973,13854,0.60632308358596898,13938,0.56679581001577439,14017,0.55646714703574407,14095,0.52500886839303984,14169,0.50109393746913256,14240,0.48455056179774747,14309,0.44727094835417258,14373,0.43832185347527641,14436,0.40870047104462071,14495]
[2217,"Jutiapa","Quesada",6.4602720114531138,22487,0.74709832347579219,22655,0.79894063120724557,22836,0.83639866876861202,23027,0.8598601641551129,23225,0.85683530678148934,23424,0.8495560109289535,23623,0.84239935655927578,23822,0.83116446981781333,24020,0.80766028309742222,24214,0.7929297100850663,24406,0.77439973776940452,24595,0.74811953649116525,24779,0.7304572420194555,24960,0.70512820512820262,25136,0.68427753023552196,25308]
[]
[]
[]
["Codigo Municipio",101,102,103,104,105,106,107,108,109,110,111,112,113,114,115,116,117,201,202,203,204,205,206,207,208,301,302,303,304,305,306,307,308,309,310,311,312,313,314,315,316,401,402,403,404,405,406,407,408,409,410,411,412,413,414,415,416,501,502,503,504,505,506,507,508,509,510,511,512,513,514,601,602,603,604,605,606,607,608,609,610,611,612,613,614,701,702,703,704,705,706,707,708,709,710,711,712,713,714,715,716,717,718,719,801,802,803,804,805,806,807,808,901,902,903,904,905,906,907,908,909,910,911,912,913,914,915,916,917,918,919,920,921,922,923,924,1001,1002,1003,1004,1005,1006,1007,1008,1009,1010,1011,1012,1013,1014,1015,1016,1017,1018,1019,1020,1021,1101,1102,1103,1104,1105,1106,1107,1108,1109,1201,1202,1203,1204,1205,1206,1207,1208,1209,1210,1211,1212,1213,1214,1215,1216,1217,1218,1219,1220,1221,1222,1223,1224,1225,1226,1227,1228,1229,1230,1301,1302,1303,1304,1305,1306,1307,1308,1309,1310,1311,1312,1313,1314,1315,1316,1317,1318,1319,1320,1321,1322,1323,1324,1325,1326,1327,1328,1329,1330,1331,1332,1333,1401,1402,1403,1404,1405,1406,1407,1408,1409,1410,1411,1412,1413,1414,1415,1416,1417,1418,1419,1420,1421,1501,1502,1503,1504,1505,1506,1507,1508,1601,1602,1603,1604,1605,1606,1607,1608,1609,1610,1611,1612,1613,1614,1615,1616,1617,1701,1702,1703,1704,1705,1706,1707,1708,1709,1710,1711,1712,1713,1714,1801,1802,1803,1804,1805,1901,1902,1903,1904,1905,1906,1907,1908,1909,1910,1911,2001,2002,2003,2004,2005,2006,2007,2008,2009,2010,2011,2101,2102,2103,2104,2105,2106,2107,2201,2202,2203,2204,2205,2206,2207,2208,2209,2210,2211,2212,2213,2214,2215,2216,2217]
["Departamento","Guatemala","Guatemala","Guatemala","Guatemala","Guatemala","Guatemala","Guatemala","Guatemala","Guatemala","Guatemala","Guatemala","Guatemala","Guatemala","Guatemala","Guatemala","Guatemala","Guatemala","El Progreso","El Progreso","El Progreso","El Progreso","El Progreso","El Progreso","El Progreso","El Progreso","Sacatepéquez","Sacatepéquez","Sacatepéquez","Sacatepéquez","Sacatepéquez","Sacatepéquez","Sacatepéquez","Sacatepéquez","Sacatepéquez","Sacatepéquez","Sacatepéquez","Sacatepéquez","Sacatepéquez","Sacatepéquez","Sacatepéquez","Sacatepéquez","Chimaltenango","Chimaltenango","Chimaltenango","Chimaltenango","Chimaltenango","Chimaltenango","Chimaltenango","Chimaltenango","Chimaltenango","Chimaltenango","Chimaltenango","Chimaltenango","Chimaltenango","Chimaltenango","Chimaltenango","Chimaltenango","Escuintla","Escuintla","Escuintla","Escuintla","Escuintla","Escuintla","Escuintla","Escuintla","Escuintla","Escuintla","Escuintla","Escuintla","Escuintla","Escuintla","Santa Rosa","Santa Rosa","Santa Rosa","Santa Rosa","Santa Rosa","Santa Rosa","Santa Rosa","Santa Rosa","Santa Rosa","Santa Rosa","Santa Rosa","Santa Rosa","Santa Rosa","Santa Rosa","Sololá","Sololá","Sololá","Sololá","Sololá","Sololá","Sololá","Sololá","Sololá","Sololá","Sololá","Sololá","Sololá","Sololá","Sololá","Sololá","Sololá","Sololá","Sololá","Totonicapán","Totonicapán","Totonicapán","Totonicapán","Totonicapán","Totonicapán","Totonicapán","Totonicapán","Quetzaltenango","Quetzaltenango","Quetzaltenango","Quetzaltenango","Quetzaltenango","Quetzaltenango","Quetzaltenango","Quetzaltenango","Quetzaltenango","Quetzaltenango","Quetzaltenango","Quetzaltenango","Quetzaltenango","Quetzaltenango","Quetzaltenango","Quetzaltenango","Quetzaltenango","Quetzaltenango","Quetzaltenango","Quetzaltenango","Quetzaltenango","Quetzaltenango","Quetzaltenango","Quetzaltenango","Suchitepéquez","Suchitepéquez","Suchitepéquez","Suchitepéquez","Suchitepéquez","Suchitepéquez","Suchitepéquez","Suchitepéquez","Suchitepéquez","Suchitepéquez","Suchitepéquez","Suchitepéquez","Suchitepéquez","Suchitepéquez","Suchitepéquez","Suchitepéquez","Suchitepéquez","Suchitepéquez","Suchitepéquez","Suchitepéquez","Suchitepéquez","Retalhuleu","Retalhuleu","Retalhuleu","Retalhuleu","Retalhuleu","Retalhuleu","Retalhuleu","Retalhuleu","Retalhuleu","San Marcos","San Marcos","San Marcos","San Marcos","San Marcos","San Marcos","San Marcos","San Marcos","San Marcos","San Marcos","San Marcos","San Marcos","San Marcos","San Marcos","San Marcos","San Marcos","San Marcos","San Marcos","San Marcos","San Marcos","San Marcos","San Marcos","San Marcos","San Marcos","San Marcos","San Marcos","San Marcos","San Marcos","San Marcos","San Marcos","Huehuetenango","Huehuetenango","Huehuetenango","Huehuetenango","Huehuetenango","Huehuetenango","Huehuetenango","Huehuetenango","Huehuetenango","Huehuetenango","Huehuetenango","Huehuetenango","Huehuetenango","Huehuetenango","Huehuetenango","Huehuetenango","Huehuetenango","Huehuetenango","Huehuetenango","Huehuetenango","Huehuetenango","Huehuetenango","Huehuetenango","Huehuetenango","Huehuetenango","Huehuetenango","Huehuetenango","Huehuetenango","Huehuetenango","Huehuetenango","Huehuetenango","Huehuetenango","Huehuetenango","Quiché","Quiché","Quiché","Quiché","Quiché","Quiché","Quiché","Quiché","Quiché","Quiché","Quiché","Quiché","Quiché","Quiché","Quiché","Quiché","Quiché","Quiché","Quiché","Quiché","Quiché","Baja Verapaz","Baja Verapaz","Baja Verapaz","Baja Verapaz","Baja Verapaz","Baja Verapaz","Baja Verapaz","Baja Verapaz","Alta Verapaz","Alta Verapaz","Alta Verapaz","Alta Verapaz","Alta Verapaz","Alta Verapaz","Alta Verapaz","Alta Verapaz","Alta Verapaz","Alta Verapaz","Alta Verapaz","Alta Verapaz","Alta Verapaz","Alta Verapaz","Alta Verapaz","Alta Verapaz","Alta Verapaz","Petén","Petén","Petén","Petén","Petén","Petén","Petén","Petén","Petén","Petén","Petén","Petén","Petén","Petén","Izabal","Izabal","Izabal","Izabal","Izabal","Zacapa","Zacapa","Zacapa","Zacapa","Zacapa","Zacapa","Zacapa","Zacapa","Zacapa","Zacapa","Zacapa","Chiquimula","Chiquimula","Chiquimula","Chiquimula","Chiquimula","Chiquimula","Chiquimula","Chiquimula","Chiquimula","Chiquimula","Chiquimula","Jalapa","Jalapa","Jalapa","Jalapa","Jalapa","Jalapa","Jalapa","Jutiapa","Jutiapa","Jutiapa","Jutiapa","Jutiapa","Jutiapa","Jutiapa","Jutiapa","Jutiapa","Jutiapa","Jutiapa","Jutiapa","Jutiapa","Jutiapa","Jutiapa","Jutiapa","Jutiapa"]
["Municipio","Guatemala","Santa Catarina Pinula","San José Pinula","San José del Golfo","Palencia","Chinautla","San Pedro Ayampuc","Mixco","San Pedro Sacatepéquez","San Juan Sacatepéquez","San Raymundo","Chuarrancho","Fraijanes","Amatitlán","Villa Nueva","Villa Canales","San Miguel Petapa","Guastatoya","Morazán","San Agustín Acasaguastlán","San Cristóbal Acasaguastlán","El Jícaro","Sansare","Sanarate","San Antonio La Paz","Antigua Guatemala","Jocotenango","Pastores","Sumpango","Santo Domingo Xenacoj","Santiago Sacatepéquez","San Bartolomé Milpas Altas","San Lucas Sacatepéquez","Santa Lucía Milpas Altas","Magdalena Milpas Altas","Santa María de Jesús","Ciudad Vieja","San Miguel Dueñas","San Juan Alotenango","San Antonio Aguas Calientes","Santa Catarina Barahona","Chimaltenango","San José Poaquil","San Martín Jilotepeque","San Juan Comalapa","Santa Apolonia","Tecpán Guatemala","Patzún","San Miguel Pochuta","Patzicía","Santa Cruz Balanyá","Acatenango","San Pedro Yepocapa","San Andrés Itzapa","Parramos","Zaragoza","El Tejar","Escuintla","Santa Lucía Cotzumalguapa","La Democracia","Siquinalá","Masagua","Tiquisate","La Gomera","Guanagazapa","San José","Iztapa","Palín","San Vicente Pacaya","Nueva Concepción","Sipacate","Cuilapa","Barberena","Santa Rosa de Lima","Casillas","San Rafael Las Flores","Oratorio","San Juan Tecuaco","Chiquimulilla","Taxisco","Santa María Ixhuatán","Guazacapán","Santa Cruz Naranjo","Pueblo Nuevo Viñas","Nueva Santa Rosa","Sololá","San José Chacayá","Santa María Visitación","Santa Lucía Utatlán","Nahualá","Santa Catarina Ixtahuacán","Santa Clara La Laguna","Concepción","San Andrés Semetabaj","Panajachel","Santa Catarina Palopó","San Antonio Palopó","San Lucas Tolimán","Santa Cruz La Laguna","San Pablo La Laguna","San Marcos La Laguna","San Juan La Laguna","San Pedro La Laguna","Santiago Atitlán","Totonicapán","San Cristóbal Totonicapán","San Francisco El Alto","San Andrés Xecul","Momostenango","Santa María Chiquimula","Santa Lucía la Reforma","San Bartolo Aguas Calientes","Quetzaltenango","Salcajá","San Juan Olintepeque","San Carlos Sija","Sibilia","Cabricán","Cajolá","San Miguel Siguilá","San Juan Ostuncalco","San Mateo","Concepción Chiquirichapa","San Martín Sacatepéquez","Almolonga","Cantel","Huitán","Zunil","Colomba Costa Cuca","San Francisco La Unión","El Palmar","Coatepeque","Génova","Flores Costa Cuca","La Esperanza","Palestina de Los Altos","Mazatenango","Cuyotenango","San Francisco Zapotitlán","San Bernardino","San José el Ídolo","Santo Domingo Suchitepéquez","San Lorenzo","Samayac","San Pablo Jocopilas","San Antonio Suchitepéquez","San Miguel Panán","San Gabriel","Chicacao","Patulul","Santa Bárbara","San Juan Bautista","Santo Tomas La Unión","Zunilito","Pueblo Nuevo","Río Bravo","San José La Máquina","Retalhuleu","San Sebastián","Santa Cruz Muluá","San Martín Zapotitlán","San Felipe","San Andrés Villa Seca","Champerico","Nuevo San Carlos","El Asintal","San Marcos","San Pedro Sacatepéquez","San Antonio Sacatepéquez","Comitancillo","San Miguel Ixtahuacán","Concepción Tutuapa","Tacaná","Sibinal","Tajumulco","Tejutla","San Rafael Pie de la Cuesta","Nuevo Progreso","El Tumbador","San José el Rodeo","Malacatán","Catarina","Ayutla","Ocós","San Pablo","El Quetzal","La Reforma","Pajapita","Ixchiguán","San José Ojetenam","San Cristóbal Cucho","Sipacapa","Esquipulas Palo Gordo","Río Blanco","San Lorenzo","La Blanca","Huehuetenango","Chiantla","Malacatancito","Cuilco","Nentón","San Pedro Necta","Jacaltenango","San Pedro Soloma","San Ildefonso Ixtahuacán","Santa Bárbara","La Libertad","La Democracia","San Miguel Acatán","San Rafael La Independencia","Todos Santos Cuchumatán","San Juan Atitán","Santa Eulalia","San Mateo Ixtatán","Colotenango","San Sebastián Huehuetenango","Tectitán","Concepción Huista","San Juan Ixcoy","San Antonio Huista","San Sebastián Coatán","Santa Cruz Barillas","Aguacatán","San Rafael Petzal","San Gaspar Ixchil","Santiago Chimaltenango","Santa Ana Huista","Unión Cantinil","Petatán","Santa Cruz del Quiché","Chiché","Chinique","Zacualpa","Chajul","Santo Tomás Chichicastenango","Patzité","San Antonio Ilotenango","San Pedro Jocopilas","Cunén","San Juan Cotzal","Joyabaj","Santa María Nebaj","San Andrés Sajcabajá","San Miguel Uspantán","Sacapulas","San Bartolomé Jocotenango","Canillá","Chicamán","Playa Grande Ixcán","Pachalum","Salamá","San Miguel Chicaj","Rabinal","Cubulco","Granados","Santa Cruz El Chol","San Jerónimo","Purulhá","Cobán","Santa Cruz Verapaz","San Cristóbal Verapaz","Tactic","Tamahú","San Miguel Tucurú","Panzós","Senahú","San Pedro Carchá","San Juan Chamelco","San Agustín Lanquín","Santa María Cahabón","Chisec","Chahal","Fray Bartolomé de Las Casas","Santa Catalina La Tinta","Raxruhá","Flores","San José","San Benito","San Andrés","La Libertad","San Francisco","Santa Ana","Dolores","San Luis","Sayaxché","Melchor de Mencos","Poptún","Las Cruces","El Chal","Puerto Barrios","Livingston","El Estor","Morales","Los Amates","Zacapa","Estanzuela","Río Hondo","Gualán","Teculután","Usumatlán","Cabañas","San Diego","La Unión","Huité","San Jorge","Chiquimula","San José La Arada","San Juan Ermita","Jocotán","Camotán","Olopa","Esquipulas","Concepción Las Minas","Quezaltepeque","San Jacinto","Ipala","Jalapa","San Pedro Pinula","San Luis Jilotepeque","San Manuel Chaparrón","San Carlos Alzatate","Monjas","Mataquescuintla","Jutiapa","El Progreso","Santa Catarina Mita","Agua Blanca","Asunción Mita","Yupiltepeque","Atescatempa","Jerez","El Adelanto","Zapotitlán","Comapa","Jalpatagua","Conguaco","Moyuta","Pasaco","San José Acatempa","Quesada"]
["Abastecimiento de agua",5.1046441768786988,10.157496012759172,13.570991432068544,2.0909566126502876,13.330653035437368,6.713680236492503,16.748105658239503,5.2064874352353474,18.748301784258672,26.622776114144798,8.0113234253361636,6.4737242955064733,9.4234300403966209,5.6606383346588744,4.9764965684073559,11.435606862952765,3.6154692294332191,8.8986251699652517,6.2558067513161966,9.3280408278990645,2.9629629629629632,4.4849537037037033,16.79554593257037,8.4699728397545506,14.323708206686931,6.0282095049860747,0.71442000376010528,1.5700761948741631,5.33447265625,1.5838732901367891,5.3774874677198845,3.8064165307232187,6.5016001347481893,4.4266114418845453,5.1677593521018128,15.060240963855422,1.8188613429674847,3.1530036508463324,11.329866270430907,2.8795811518324608,4.7619047619047619,17.94737093461961,6.9980879541108987,14.711460308859387,12.781728939196634,4.6121593291404608,16.1203007518797,25.381788485095957,4.2999475616151024,41.52923538230884,4.0614165428429914,9.5849207940645673,2.2994874636376226,5.0511124473842459,4.151369669584863,3.3166009322337757,2.7264533573681837,27.033474608532345,16.147678538131643,22.407127248277021,30.633738877791899,17.122819021553198,20.942622950819672,6.8532654792196777,3.0777839955232231,11.502826175630791,5.1664284255666733,14.266991200149784,3.0373831775700935,22.638631659222138,11.230585424133812,21.013412816691503,23.097978663672095,4.5363307908470496,11.317345597897503,11.186113789778208,9.2989756722151089,6.4714218233349081,8.4501951713170449,5.1302498670919725,25.896481732070363,4.8961748633879782,5.9280855199222549,15.08307791579287,14.849563248139761,10.081762281235218,0.40268456375838929,1.4598540145985401,4.1693256753882153,2.2620745873242307,3.1627422017551483,0.80492424242424243,18.690601900739175,2.4924471299093658,6.8582271618324757,15.24966261808367,6.9155446756425949,12.60543580131209,1.633705932932072,1.4450867052023122,0.55045871559633031,0.79756931257121155,3.2294832826747721,2.5908278737343657,30.415573053368327,13.96317699233974,14.525452172291628,14.652857690832374,12.064911978897873,10.469521294914475,30.945648759032355,7.1063394683026582,9.1341869518315271,3.0322307039864294,7.0197668525088703,15.200361554685147,3.7172774869109948,10.262257696693272,6.7558299039780518,7.7288135593220346,11.782807226523724,2.1558872305140961,0.53536207382361234,3.6961681926076637,1.4224751066856329,7.4266740453790812,8.5978304539975881,0.62968515742128939,17.192912996139761,10.767326732673267,2.9657545469441255,4.6665528135940573,11.493246623311656,7.5,1.5973826020015396,4.082240762812873,35.738456500382057,3.7166085946573753,2.2971191865938616,3.5494689770821686,0.97375105842506349,5.9148182859523066,3.4246575342465753,11.468916824522129,14.124999999999998,8.5307285307285312,9.2271662763466047,2.7421236872812136,8.248108422715557,10.673305910370209,6.0262008733624448,15.302690582959642,0.53030303030303039,0.3785830178474851,1.0264508487958943,17.120075046904315,14.975480950584686,40.797445169774107,21.747154721624113,4.0842787682333874,3.110135382363703,3.4258052504189167,6.538242550768647,6.4044507698279212,20.197856553998349,28.255959849435381,4.8826571201272877,3.9914308264742364,8.0499143626131637,5.4104661476298412,9.1946967836975197,27.036265110462693,12.427921092564493,5.8035714285714288,18.877495952509442,16.223585548738921,5.3737696195796758,6.4932992980216975,17.544444444444444,10.36241610738255,10.591576992407276,13.224125093075203,18.526194588370753,20.98717450446949,20.792079207920793,10.425210446794733,6.5347071583514102,6.224857082362905,7.6431613819214386,16.397082143989852,8.0023364485981308,12.140845070422534,18.90452643590719,1.8683274021352312,13.407821229050279,29.544436146377894,43.731940431206937,22.062647754137117,22.952452078665672,22.442157121492038,13.61023113927021,17.14809074256728,5.1886792452830193,20.812296645349491,23.872745490981963,41.465986992441557,20.878666850296103,17.728132600666608,10.744920993227991,9.8658589355257469,9.5293337752734502,2.5942829690127311,42.216801341667939,4.2765502494654317,4.4671239752384144,13.858790632645929,10.471491228070176,9.1114245416078994,46.108903949520922,6.5096251266464042,6.1820816227964261,28.70799864238036,21.939442712000805,1.1520737327188941,27.229407760381214,20.83827599841835,2.8706083976006855,29.181286549707604,11.88707280832095,51.135694180794658,13.250559739466722,7.5764491099954352,24.815983175604629,13.830798479087452,4.3974370227332571,9.1079812206572761,2.3994354269583629,29.115293099718798,7.7463735606400475,2.8805120910384066,22.780965237934524,3.5490889311939084,13.191899710703952,23.09448112823021,13.836477987421384,10.95959595959596,34.850166481687019,41.135418064689304,35.038335746072597,9.9151406878070567,21.753783543176905,8.3550555631773911,10.103572183470726,20.80353555644837,15.681376630585623,7.0933550754178549,9.0066655828320599,42.688982894978849,55.734970462180009,8.8361358391031981,32.648701938876108,10.95872853114586,11.40011068068622,10.925373134328359,24.988519822439919,52.7605140891812,79.006171281745395,30.965292841648591,68.233683249657702,51.687024856923216,45.23091360010725,41.121495327102799,34.642345069300625,19.649805447470818,41.08725033788857,11.471756612731324,7.9002079002079011,3.2314563446886768,20.350535540408959,7.335470488402791,3.5460992907801421,5.9635781468881328,14.486853265479219,25.901745313510023,24.597913776270488,13.515098211668134,26.677316293929714,26.514399205561073,15.939803439803441,40.369006463249661,27.218526421488644,22.000722282412426,12.016518112682967,10.647915620291311,32.379389563505086,5.1628276409849088,3.9828326180257507,7.3945273176535178,2.4669208342677731,5.0179211469534053,6.8039391226499548,2.1352313167259789,14.031971580817052,6.6691230655858513,9.0940525587828489,38.405623452352422,28.270609318996414,28.909437041066088,36.817783443550319,22.948991916751833,31.554851206198276,12.339004611225949,7.3406310367031544,26.181220095693782,75.973574408901257,3.2640949554896146,23.530644002872876,26.130071894884722,6.8937285082691995,6.8934240362811785,14.109742441209406,3.6075471698113213,20.959542469815716,42.941520287937983,0.7854773957060569,3.193586542252596,6.7309901217551111,3.0696576151121606,9.2882382635032812,7.0214488061513567,5.9925093632958806,21.166892808683855,14.397266959492436,14.112334180073386,8.0242560992807785,20.08461367178802,10.449473354885805,1.5398973401773215,1.1173184357541899,6.4602720114531138]
[2015,1142188,84215,84770,8078,72175,116768,60608,446877,50756,261052,37606,16123,56956,138168,425783,160276,131101,25803,12442,52014,7692,13476,13107,40710,20363,55089,21351,17737,40889,12429,33338,7751,26381,15182,12102,24780,35075,13491,25878,11018,4022,102730,30322,84520,51449,21523,98471,63573,10439,35017,9743,25993,36948,32050,17334,25209,19735,154623,113756,24075,24427,44275,60648,60984,17061,60845,17918,64408,16558,74647,"…",43972,56507,19147,25055,12421,24434,11429,58748,32826,25558,20338,15980,28385,37182,94406,4644,2355,21011,81246,54702,9435,6744,13451,14448,4588,14934,30177,7371,7685,2723,11700,10424,39702,110020,39435,57465,26927,124019,56425,24370,12100,178463,18653,34844,31919,7984,25156,17791,8912,59311,7682,18499,30040,15087,39421,13952,13954,53017,8509,29115,110644,42336,21312,21878,19606,82645,34558,21855,15289,11056,44724,13115,24259,19787,58859,11139,7080,66745,40676,26634,8205,11372,7809,11261,28019,23836,100309,28865,14297,11767,23884,50341,35040,39942,39062,46835,76620,18096,75535,49187,76129,77851,16104,56684,38897,16888,28986,46839,17389,101444,29726,39796,11340,46260,24325,21636,22079,22707,21760,16798,23637,12393,5608,12359,30451,110707,88719,19363,59650,43937,37610,36747,53376,48982,37195,40546,55263,32815,16858,34858,23467,45681,50129,40409,35393,10838,24466,27877,15713,23683,107436,53559,11160,9684,12317,8878,15047,"…",90521,30813,12062,35695,44438,138976,6963,26663,34586,41985,32305,91528,69162,25349,66651,52010,14621,12020,38465,96526,8413,63021,31304,43367,56153,13340,9158,24063,58932,200830,30540,72436,37524,20807,45512,72979,89845,218371,53857,24350,62767,98126,25615,66532,40037,35103,38188,6852,47868,32963,76075,15132,21238,28691,72377,89557,28157,59162,34597,14728,102777,73849,74849,98533,61031,61808,10847,21145,47500,18702,12079,13790,7290,36931,11480,12586,107907,8614,16328,66557,57580,27868,52498,12125,27288,12377,21808,172722,68442,23698,8262,19514,26304,41152,153973,23401,28396,16113,46912,17203,18097,6188,7894,9684,34652,29894,27022,48886,10535,13308,22487]
["TC 2016",1.0192717836293053,0.61509232322032314,0.88946561283473891,0.75513741025006187,0.60824385174922391,0.99342285557686427,1.7720432946145781,2.2115705216424253,1.6372448577508081,1.3411121155938233,0.57171727915759085,0.27910438503999657,2.2157454877449245,1.4894910543685969,1.8997940265346402,0.74496493548628084,2.6071502124316304,1.0347633996046879,0.32149172158817407,1.0747106548236962,0.57202288091524611,7.4205995844467409E-2,0.74769207293812201,0.70498648980594769,1.9299710258802838,0.918513677866728,1.8593976862910422,2.2890003946552495,2.272004695639418,2.8079491511787014,2.0007198992141095,2.4512966068894304,1.7398885561578314,3.0562508233434427,1.1568335812262465,1.5536723163841915,3.0620099786172528,2.727744422207401,1.6577788082541067,2.6774369214013438,2.4117354549975101,1.9789740095395691,1.8105665853175967,1.8587316611452964,2.6142393438162159,1.6075825860707216,2.1579957550954099,1.9426486086860706,0.96752562505986184,2.6901219407716281,1.90906291696602,1.6542915400300062,2.3790191620655987,1.5975039001560054,2.7114341756086402,2.7053829981355859,2.8882695718267071,1.592259883717162,1.9691269031963055,1.3416407061266789,0.75326482990134558,1.5674760022586165,0.66778789077956979,-23.619309982946348,8.7919817126791422E-2,1.911414249322041,2.40540238865945,1.951620916656327,1.7755767604783257,1.6290004956662774,{"$error":"#VALUE!"},1.1439097607568449,1.4918505671863702,2.2927873818352706,0.50688485332268662,2.0127203928830273,1.9399197839076621,2.1261702686149242,1.8570844964934885,2.0898068604155329,0.93121527506063728,1.656996754843143,2.071339173967468,0.7856262110269574,1.108063041256524,1.0253585577187918,2.1963824289405576,1.7409766454352438,0.67583646661273367,2.4456588632055798,2.0310043508463993,1.6110227874933658,0.37069988137603538,1.7396476098431313,1.8895348837209225,1.0897994768962471,0.96424266773804668,0.94774165755375783,1.2210012210012167,0.58555627846454961,1.3955196474476628,2.3504273504273421,2.1968534151957098,2.1207999596997595,1.2715869841847027,1.389628502599205,2.3266336030627333,1.6897537787351036,1.9497012554527959,0.68586619406292293,0.8288879770209201,0.1735537190082681,2.0480435720569456,2.6376454189674492,2.2643783721731037,1.8452959052601914,1.9539078156312728,1.7172841469232036,1.2140970153448283,1.570915619389579,0.38778641398728997,3.1892736266597277,1.8865884642413011,1.8175765645805697,2.0878902366275653,3.3357854950407217,0.50172018348624281,2.4795757488892178,0.59226285908293708,2.1154072158890536,1.2433453546282003,1.0276201149633124,1.2896825396825351,2.317942942942941,2.5962153761769802,0.35703356115475149,5.0819771311028106E-2,1.6117830892991458,2.2191718142301475,2.0079795931715605,1.5104920405209832,1.5852785976209649,1.1208539839878018,2.1682674471330321,2.2742204477687267,1.9113474574831368,2.0199299757608369,2.8389830508474656,0.28616375758483414,0.72032648244664266,0.77344747315462037,2.8762949421084594,2.1016531832571239,2.4843129722115442,1.3586715211792999,1.9807987437096219,1.6110085584829736,1.6648555962077261,1.1675038974536589,2.1752815275932091,2.2265658196651605,1.9552838720482413,1.9367910848016479,1.7380136986301364,0.59586400280406959,1.8509036915672628,0.43984199850539696,2.2122161315583311,2.9840848806365949,1.1451644932812588,1.1324130359647855,1.7365261595449821,0.82593672528290529,0.86934923000496767,1.9405828805306502,2.2906650898526948,1.4507342491710151,1.7008210860415263,1.8595614765473112,1.8920006900914332,1.3100824099996133,1.5743793312251952,3.0606091064428576,2.4603174603174516,2.0946822308689939,0.95786228160328335,1.5991865409502592,0.86507541102405217,1.6206456158893712,0.63419117647058876,1.2025241100130923,2.661082201633036,2.4529976599693359,1.4265335235378096,2.2574641961323749,2.4662572657712323,3.3087338650672482,0.50383796030162298,2.5254351081960502,1.8692372170997507,2.5855201766165292,1.5660728529646395,3.0478678531580705,3.0481864508393297,2.1946837613817216,2.9439440785051785,2.9867311202091518,1.6647666612380707,0.9995428919701288,1.6490686914224728,1.9823283034023698,1.069587079728973,1.9723736345526488,2.7828203235652049,1.6209260313296614,3.178594637357679,1.5131943162945083,-23.497915474536089,1.6967392474082521,3.2648125755743607,1.4356289321454163,2.9496630552142689,1.6785227506114664,2.0878136200716879,1.404378356051228,2.6548672566371723,3.4129308402793379,3.0238585764604142,{"$error":"#VALUE!"},1.512356248826241,0.70100282348359855,1.8819432929862323,1.8433954335341118,2.8826679868581007,1.3138959244761717,1.6228637081717734,2.3965795296853276,1.5034985254149147,1.9125878289865339,1.8882525924779348,2.7106459225592072,1.8145802608368733,1.5740265888200655,1.741909348696935,0.98442607190925013,1.2105875111141584,0.57404326123127181,1.8562329390354959,2.2242711808217575,2.8408415547367172,2.1770520937465232,2.8079478660874013,1.1921507136762877,1.1985112104428985,1.5217391304347849,2.2712382616291826,2.8092922744462401,1.7901988732776708,2.3009510531295074,2.8356254092992694,1.913413219945892,1.9800660910350709,2.9557360503676744,2.0192476709439244,1.8799928746625838,1.672881072958976,2.7352533074446628,2.3878047421876492,1.2443531827515342,2.0265426099702166,0.78062898722051077,2.5180558266640674,2.8587747249443796,2.3927866723280955,2.7775403811640009,2.7207499738137741,0.94862813776999122,2.0577421241748217,1.3166277341261523,2.0663818600065831,1.7644726407612943,2.2600998210754231,0.88878045380085258,1.2310540641363943,1.8256529361188933,1.5022907269950592,2.7652885297995367,2.0637627539960013,0.88267246061923821,1.2716852992401106,1.4001543690503659,1.6393004582559545,1.4523053190301782,1.066671036030864,1.2231426352575792,-0.12906794505392893,1.7119886497990011,0.77473684210527249,1.3688375574804734,1.7633910091894966,1.2182741116751217,0.98765432098766315,0.70130784435840088,0.78397212543555028,1.2235817575083408,1.6727367084619083,1.1144648247039646,2.1313081822635915,1.9306759619574176,1.1497047585967257,1.3097459451700821,1.238142405424969,0.65979381443299623,1.5244796247434689,1.2200048477013725,1.4902787967718378,1.6975255034101133,2.052833055726011,1.9368723098995622,1.5492616799806402,1.808957671415401,2.6573905109489093,2.1238335925349849,1.2294363297461253,1.4871159352164431,1.6445978306803832,1.4584496990007967,1.9866984993178738,0.76149508806604427,1.51958888213517,1.5998707175177707,0.93742082594374665,1.3217678645187858,0.96386932933163472,0.69913695055863201,1.5098808378358308,0.591171296485693,0.977693402942581,0.68379921851517977,0.74709832347579219]
[2016,1153830,84733,85524,8139,72614,117928,61682,456760,51587,264553,37821,16168,58218,140226,433872,161470,134519,26070,12482,52573,7736,13486,13205,40997,20756,55595,21748,18143,41818,12778,34005,7941,26840,15646,12242,25165,36149,13859,26307,11313,4119,104763,30871,86091,52794,21869,100596,64808,10540,35959,9929,26423,37827,32562,17804,25891,20305,157085,115996,24398,24611,44969,61053,46580,17076,62008,18349,65665,16852,75863,15944,44475,57350,19586,25182,12671,24908,11672,59839,33512,25796,20675,16311,28608,37594,95374,4746,2396,21153,83233,55813,9587,6769,13685,14721,4638,15078,30463,7461,7730,2761,11975,10653,40544,111419,39983,58802,27382,126437,56812,24572,12121,182118,19145,35633,32508,8140,25588,18007,9052,59541,7927,18848,30586,15402,40736,14022,14300,53331,8689,29477,111781,42882,21806,22446,19676,82687,35115,22340,15596,11223,45433,13262,24785,20237,59984,11364,7281,66936,40969,26840,8441,11611,8003,11414,28574,24220,101979,29202,14608,12029,24351,51316,35649,40180,39785,47041,78315,18636,76400,49744,77451,78494,16244,57784,39788,17133,29479,47710,17718,102773,30194,41014,11619,47229,24558,21982,22270,23075,21898,17000,24266,12697,5688,12638,31202,114370,89166,19852,60765,45073,38199,37867,55003,50057,38290,41757,56183,33143,17136,35549,23718,46582,51524,41064,36518,11002,18717,28350,16226,24023,110605,54458,11393,9820,12644,9181,15502,6300,91890,31029,12289,36353,45719,140802,7076,27302,35106,42788,32915,94009,70417,25748,67812,52522,14798,12089,39179,98673,8652,64393,32183,43884,56826,13543,9366,24739,59987,205451,31406,73822,38267,21422,46431,74351,91348,224344,55143,24653,64039,98892,26260,68434,40995,36078,39227,6917,48853,33397,77647,15399,21718,28946,73268,91192,28580,60798,35311,14858,104084,74883,76076,99964,61682,62564,10833,21507,47868,18958,12292,13958,7362,37190,11570,12740,109712,8710,16676,67842,58242,28233,53148,12205,27704,12528,22133,175654,69847,24157,8390,19867,27003,42026,155866,23749,28863,16348,47844,17334,18372,6287,7968,9812,34986,30103,27430,49175,10638,13399,22655]
["TC 2017",0.97752701871158809,0.59126904511819234,0.86642346008138915,0.71261825777122478,0.58528658385434973,0.97177939081474207,1.7363250218864534,2.1869252999386912,1.6166863744741855,1.3176943750401682,0.54731498373918885,0.57521029193468021,1.8774262255659702,1.4676308245261227,1.8874230187705177,0.72211556326251536,2.3580312074874099,0.9474491752972769,0.28040378144527089,0.99861145454891442,0.54291623578075487,4.4490582826628433E-2,0.66641423703142078,0.65126716589019029,1.7103488148005441,1.1260005396168671,1.7426889828949799,1.9621892741002123,2.1474006408723545,2.6921270934418429,1.8791354212615685,2.1030096965117817,1.6169895678092461,2.6971749968042857,1.0210749877471059,1.4305583151202006,2.8714487261058297,2.5903744858936539,1.5319116584939341,2.5545832228409893,2.282107307598924,1.9567977243874379,1.771889475559596,1.8190054709551484,2.5741561541084312,1.5638575152041811,2.1193685633623671,1.9009998765584513,1.0531309297912683,2.5167551934147214,1.8733004330748315,1.6160163493925683,2.3422423136912895,1.5877403107917187,2.6735565041563714,2.6032211965547836,2.8515144053188779,1.4909125632619258,1.8147177488878841,1.2132141978850708,0.91422534638982977,1.4521114545575919,0.68628896204936396,2.4109059682267064,0.15226048254861624,1.7981550767642851,2.1363562046978091,1.7817711109419099,1.6615238547353472,1.514572321157881,2.4084295032614111,1.1332209106239555,1.3809938971229396,2.0780149086081945,0.56786593598601165,1.9098729382053481,1.8267223382046005,2.0133653187114353,1.7413392603486066,1.9783957985199274,0.81795627229028778,1.5429262394195842,1.9679970572006544,0.67114093959732557,0.99749960100015134,1.0222911904711918,2.0648967551622377,1.7529215358931483,0.67602704108165046,2.4437422656878871,1.9816171859602605,1.6063419213518282,0.84207416161914406,1.74643770551699,1.888458664492898,1.1211729193618014,0.95503382411461502,0.94540918491283765,1.2062726176115701,0.67270375161707641,1.3400941687794266,2.3632567849686925,2.1871773209424683,2.1211523283346523,1.331011766395318,1.4481154490658454,2.3145471242474791,1.7529764078591858,2.006532897806812,0.74632119974653577,0.88718867003092505,0.35475620823364196,2.0267079585763126,2.4236092974667001,1.9672775236438067,1.8241663590500723,1.9410319410319454,1.700015632327645,1.221747098350634,1.5576668139637651,0.45682806805393827,2.6996341617257391,1.8622665534804739,1.7982083306087748,2.0711595896636847,3.0268067556951994,0.69890172585935773,2.1678321678321621,0.7537829780052796,2.0255495454022387,1.2620008820436235,1.1719344074574423,1.3105732008768189,2.3067045767219962,2.1919272921678612,0.57938605407603649,0.1221473750408153,1.5491955004983682,2.1530886302596253,1.9428058476532506,1.4523745878998406,1.5209209165144344,1.0556477152767307,1.8236836796449385,2.2038839748974581,1.8488263536943217,1.9535374868004274,2.5271253948633499,0.31522648500059702,0.69564792892187199,0.70789865871832003,2.594479327093957,2.0411678580656289,2.3366237660877198,1.2791308918871591,1.9108280254777066,1.5483071841453366,1.6120966081252019,1.1232107389904877,2.108433734939763,2.0034915620583682,1.9095725021559762,1.8844025255281061,1.6858817919156222,0.72175211548033413,1.7971597335679323,0.64411896005611702,2.0366468748004962,2.7795664305644951,1.1505235602094155,1.1358153747185629,1.7404552555809527,0.88032206283283898,0.94188623491751056,1.9451751349854662,2.2971750276465253,1.4533356680091147,1.7062993995725861,1.8633410186543742,1.9020205440794635,1.3126015587751727,1.5797840630588755,2.8624372165602097,2.2205009036922352,2.1004044125431331,1.0261421939897319,1.6013101628605142,0.86663673102829186,1.6251354279523289,0.71696045300939648,1.2058823529411677,2.5797412016813626,2.2840040954556162,1.4240506329114,2.2630163000474823,2.2210114736234798,3.2158782897613092,0.61346253056098199,2.4833769897239621,1.8201267176828795,2.3872384797994473,1.520982224665568,2.9550796207779895,2.9598385542606742,2.143556345765818,2.8545312091929897,2.90011255597864,1.617927130982677,1.2008568928582264,1.5989729225023286,1.935356831415791,1.2775107513281148,1.9234897599931244,2.7346479310612626,1.5731541009156524,3.0779341694506801,1.454281039810934,2.206550195009882,1.6507936507936583,3.1615925058547933,1.3861715855638446,2.7684101080421408,1.628778140952658,2.0538927411568597,1.3543788187372785,2.5862068965517349,3.0715608321533638,2.9673590504450953,2.2063492063492118,1.5583850255740606,0.74768764703987411,1.9285539913743932,1.8898027673094342,2.7887749075876656,1.3579352566014613,1.8089315997738886,2.43938173027618,1.5495926622229872,1.9631672431522862,1.9352878626765824,2.7390994479252084,1.8603462232131385,1.6234270622961011,1.7872942841974826,1.0319485168120091,1.243411271793482,0.76102241707336482,1.901528880267489,2.1333090105702723,2.8201571890892341,2.1663845449039432,2.8027219339402887,1.1849421201348909,1.1878365536902136,1.5210810012552534,2.2635062993807464,2.8012449977767861,1.7803857502458831,2.2720746065971964,2.8083805642233894,1.8829075343393509,1.9520735882091689,2.8755485015404814,1.9922034847408066,1.8506812282282681,1.6519245084730905,2.7052205541489904,2.3593203126416773,1.3791424978704336,1.9972204437920693,1.1113133519394802,2.4904798172124876,2.7953941023467932,2.3515062812538012,2.4419313709185708,2.5135748336604813,0.85297094115945882,1.9139049802468611,1.1767524029104415,1.9215166072095613,1.6169881161114397,2.1180587531080208,0.80149243418778937,1.0891521537369719,1.6821651022019379,1.3610916724982491,2.5543603408006765,1.9229135396901853,0.80764571274734021,1.2634026363322004,1.3915040796976585,1.6299489983700566,1.442519306950496,1.1413378295126675,1.2067642733840644,-6.4617372842246112E-2,1.6924722183475183,0.76251357900893879,1.3503534128072481,1.6596160104132673,1.2036108324974926,0.97799511002445438,0.68566819037376714,0.7692307692307665,1.2087912087912045,1.6470395216567013,1.0907003444316832,2.0868313744303091,1.9044249874708985,1.1211840252738581,1.3530266000779223,1.2117106946639478,0.63908234330192215,1.4979786312445897,1.1973180076628287,1.4593593277007155,1.6555273435276074,2.0129712084985707,1.895930786107547,1.501787842669855,1.766748880052349,2.6108210198866777,2.0844239280445542,1.2234868412610789,1.4779569666091286,1.6422409312961239,1.4436016638120774,1.9354569015968659,0.81919926156686085,1.5131722185935059,1.6064895816764846,0.94126506024097001,1.3147166734610582,1.031841307951753,0.75739959472478358,1.5020051039008386,0.58769700050838036,0.95882684715171695,0.69408164788415938,0.79894063120724557]
[2017,1165109,85234,86265,8197,73039,119074,62753,466749,52421,268039,38028,16261,59311,142284,442061,162636,137691,26317,12517,53098,7778,13492,13293,41264,21111,56221,22127,18499,42716,13122,34644,8108,27274,16068,12367,25525,37187,14218,26710,11602,4213,106813,31418,87657,54153,22211,102728,66040,10651,36864,10115,26850,38713,33079,18280,26565,20884,159427,118101,24694,24836,45622,61472,47703,17102,63123,18741,66835,17132,77012,16328,44979,58142,19993,25325,12913,25363,11907,60881,34175,26007,20994,16632,28800,37969,96349,4844,2438,21296,85267,56919,9741,6826,13924,14999,4690,15222,30751,7551,7782,2798,12258,10886,41404,112902,40562,60163,27862,128974,57236,24790,12164,185809,19609,36334,33101,8298,26023,18227,9193,59813,8141,19199,31136,15721,41969,14120,14610,53733,8865,29849,113091,43444,22309,22938,19790,82788,35659,22821,15899,11386,46124,13402,25237,20683,61093,11586,7465,67147,41254,27030,8660,11848,8190,11560,29120,24595,103623,29530,14916,12270,24816,52283,36250,40470,40500,47344,79910,19154,77279,50309,78799,79185,16397,58908,40702,17382,29982,48599,18055,104122,30671,42188,11877,48221,24810,22334,22463,23450,22055,17205,24892,12987,5769,12924,31895,118048,89713,20345,61871,46149,38780,38986,56631,51130,39383,42968,57092,33541,17410,36237,24021,47478,52933,41710,37642,11162,19130,28818,16739,24356,113667,55345,11627,9953,12971,9463,15962,6439,93322,31261,12526,37040,46994,142714,7204,27968,35650,43628,33552,96584,71727,26166,69024,53064,14982,12181,39924,100778,8896,65788,33085,44404,57501,13749,9578,25432,61055,210119,32288,75212,39014,22038,47356,75727,92857,230413,56444,24993,65318,99991,26914,70347,41959,36959,40213,6976,49788,33790,79139,15648,22178,29178,74066,92726,28969,62351,35990,14978,105399,75925,77316,101406,62386,63319,10826,21871,48233,19214,12496,14126,7434,37445,11659,12894,111519,8805,17024,69134,58895,28615,53792,12283,28119,12678,22456,178562,71253,24615,8516,20218,27708,42902,157773,24100,29337,16584,48770,17476,18650,6388,8043,9941,35347,30331,27842,49464,10740,13492,22836]
["TC 2018",0.91218933164192162,0.54555693737241562,0.821886048803111,0.68317677198974636,0.53806870302166576,0.92463510086164824,1.6764138766274028,2.139693925428876,1.571889128402737,1.2718298456567911,0.49963185021562051,0.75641104483119559,1.6472492455025245,1.4203986393410473,1.8524592759822767,0.67635701812636118,2.1163329484134685,0.90055857430557662,0.26364144763122432,0.95483822366191351,0.53998457186936744,3.7058997924699355E-2,0.63191153238546516,0.61554866227220284,1.5394817867462551,1.2041763753757539,1.6134134767478603,1.7190118384777575,2.0179792115366579,2.5529644871208568,1.749220644267413,1.8253576714356123,1.4922636943609291,2.358725416977836,0.89754993126869298,1.3006856023506375,2.6729771156587034,2.4194682796455202,1.4077124672407404,2.4219962075504142,2.1599810111559536,1.9005177272429341,1.6996626137882664,1.7488620418220968,2.5021697782209751,1.5037593984962516,2.0471536484697461,1.8322228952150299,1.0609332457046206,2.346462673611116,1.8091942659416604,1.5456238361266195,2.2679719990700731,1.5568789866682753,2.5984682713347862,2.4731789949181238,2.7820340930856169,1.4294943767366952,1.7180210159101206,1.1298291082854073,1.0468674504751085,1.3765288676515608,0.73366736074960137,2.3352828962539096,0.25727985030989942,1.7236189661454571,1.9582733045194978,1.6907309044662311,1.5759981321503691,1.4426323170414923,2.3395394414502668,1.1494252873563315,1.3398231914966807,1.9456809883459103,0.66337611056268564,1.8663362502904013,1.782123565824234,1.9820273788527798,1.6983952300389182,1.9341623994147739,0.78055908024763365,1.5004286939125366,1.9179894179894186,0.63194444444445441,0.95340936026757639,0.98392302981868962,1.9818331957060176,1.722723543888427,0.6386175807663319,2.4065582229936489,1.9290570811152596,1.5706806282722585,1.1719894520949348,1.7020970985349049,1.853456897126482,1.0660980810234477,0.91972145578766984,0.91053949465058626,1.1786518341941443,0.68105885376510411,1.3581129378127166,2.3086963615597922,2.167922101782116,2.0843396773258638,1.3728720483251022,1.4915438094768474,2.2954307464720936,1.7981480152178486,2.04925023648177,0.78447131176182516,0.93182734973780157,0.50970075633014478,1.9939830686349858,2.2336682135754016,1.799966973083067,1.7945077188000313,1.8920221740178267,1.6639126926180747,1.2344324353980252,1.5228978570651641,0.50992259207864876,2.309298611964139,1.8334288244179486,1.7664439876670102,2.0418548438394524,2.7567966832662272,0.84277620396600028,1.9507186858316317,0.88027841363780279,1.9176536943034339,1.2596736909109119,1.2653526805846527,1.3143356965288566,2.2905553812362811,1.9487313628040903,0.74279939363315339,0.21863071942793688,1.519952887069187,2.1252355286797142,1.9183596452607032,1.4140172141225982,1.4959673922469774,1.0371586330398364,1.5968617506042726,2.1805347386742779,1.81853894881574,1.9333678577593716,2.2906898861352998,0.37529599237493549,0.70053812963590811,0.68442471328153953,2.3556581986143188,2.017218095881157,2.2222222222222143,1.2370242214532867,1.8887362637362681,1.5206342752591917,1.5614294123891481,1.066711818489674,2.0648967551622377,1.8255908720456349,1.857672469374605,1.8323355584032974,1.6331034482758522,0.81788979490982072,1.74567901234568,0.80052382561677238,1.9121511700663341,2.594758275033926,1.1361430660334682,1.1230594923373527,1.7284483305625598,0.91178884889815404,0.99408428371043911,1.9318258980104641,2.2824431231880604,1.4440225520653494,1.6910146087652622,1.8518899565834746,1.8886734976460762,1.3003976104953852,1.5649962505298154,2.6737460889352471,2.0459712048497058,2.0841542066734497,1.0721483272873922,1.5895047909017634,0.8502871388505584,1.6119402985074638,0.77986851054183681,1.1915140947398983,2.4867427285874877,2.1252021252021303,1.4213901889408964,2.2516248839368647,2.0473428437059127,3.1512605042016917,0.7390233299521709,2.4625215040550597,1.7972879054807489,2.2990747361806285,1.4981949458483745,2.9010413994767337,2.8959403860076671,2.1259534519851409,2.7880049767666337,2.8439769130515824,1.5974217053177364,1.3863629587668846,1.5795519816197645,1.9124099677125583,1.4570584072270076,1.9040397657862584,2.7090850698052282,1.553584272356745,3.0099357101110558,1.4334348683031628,2.190277051751166,1.6239850093691333,3.0945695680745455,1.3631138117917496,2.6428074990982431,1.6062878308790385,2.0211576502967121,1.3262332964935286,2.5672654382854043,2.810947902356542,2.9507580503696174,2.1897810218978186,1.6362701185143935,0.82530949105914519,2.0038320293788825,1.968142548596119,2.7429033493637567,1.4371400142943136,1.9294836202109922,2.5207379862700163,1.6297335203365959,2.0399743284129412,2.011802575107291,2.7986001822247975,1.9406917897026199,1.7006802721088343,1.8645688456189191,1.1080958842152766,1.3282605793619062,0.96872177982103569,1.9812644023645021,2.137371251662068,2.8214928057553879,2.1706086216331189,2.8048964787668051,1.1845779659490185,1.1912836298499263,1.5419303222052427,2.2656086865733949,2.8035545769109715,1.7836377037097728,2.2330203360952705,2.7657333994053568,1.8441206190501491,1.9146972881529667,2.7906343588347315,1.951178308978796,1.8130917638358834,1.6207717242641806,2.6656482056133912,2.3173410814258277,1.4764133957508196,1.958112618267549,1.3391205208468815,2.4522553317975815,2.7236413777417701,2.295097595271578,2.2457317568115975,2.3698803869395491,0.8314220183486265,1.8337752068771529,1.0949985202722612,1.8423280556994603,1.540132924335369,2.0380557309044978,0.78141065186099201,1.0085599330327044,1.6025710156805983,1.2772273809934731,2.4105467434363481,1.8393998332870254,0.78114568033116338,1.2761031888347985,1.4027000329272399,1.6426095504164628,1.4555351754333978,1.1973840284679182,1.1765820685734063,-1.8474043968219611E-2,1.6597320652919301,0.72771753778533288,1.321952742791721,1.5364916773367376,1.1751380433243641,0.95507129405434377,0.64895179596742292,0.74620464876919979,1.1710873274391131,1.6302154789766821,1.0675752413401574,2.0676691729323293,1.8876384991465933,1.1070549282621522,1.369910885898995,1.1972040452111754,0.62688268338353392,1.4829830363811025,1.1673765578166906,1.4472746704666806,1.6229656925885738,1.9788640478295649,1.8606540727198917,1.4795678722404837,1.7360767632802476,2.5768731052403737,2.0535173185399325,1.2112338613070595,1.4605809128630742,1.6327504516480795,1.4411480945489608,1.874102932130417,0.86976424811169295,1.501340482573732,1.5967438948027546,0.92005470595548644,1.3077155215773129,1.0609104025801397,0.80445748574065057,1.4905538395230122,0.5721332686398295,0.95903165735566898,0.68929736139935471,0.83639866876861202]
[2018,1175737,85699,86974,8253,73432,120175,63805,476736,53245,271448,38218,16384,60288,144305,450250,163736,140605,26554,12550,53605,7820,13497,13377,41518,21436,56898,22484,18817,43578,13457,35250,8256,27681,16447,12478,25857,38181,14562,27086,11883,4304,108843,31952,89190,55508,22545,104831,67250,10764,37729,10298,27265,39591,33594,18755,27222,21465,161706,120130,24973,25096,46250,61923,48817,17146,64211,19108,67965,17402,78123,16710,45496,58921,20382,25493,13154,25815,12143,61915,34836,26210,21309,16951,28982,38331,97297,4940,2480,21432,87319,58017,9894,6906,14161,15277,4740,15362,31031,7640,7835,2836,12541,11122,42267,114452,41167,61544,28363,131617,57685,25021,12226,189514,20047,36988,33695,8455,26456,18452,9333,60118,8329,19551,31686,16042,43126,14239,14895,54206,9035,30225,114522,44015,22820,23385,19937,82969,36201,23306,16204,11547,46814,13541,25640,21134,62204,11810,7636,67399,41543,27215,8864,12087,8372,11703,29670,24969,105241,29845,15224,12494,25277,53241,36842,40801,41207,47723,81438,19651,78157,50874,80161,79907,16560,60046,41631,17633,30489,49499,18396,105476,31151,43316,12120,49226,25076,22689,22654,23828,22227,17410,25511,13263,5851,13215,32548,121768,90376,20846,62983,47210,39361,40117,58271,52217,40481,44190,58004,34006,17685,36930,24371,48382,54367,42358,38775,11322,19549,29286,17257,24688,116671,56234,11862,10085,13304,9729,16433,6580,94849,31519,12777,37769,48283,144765,7343,28673,36231,44518,34227,99287,73119,26611,70311,53652,15181,12299,40715,102932,9147,67216,34013,44930,58186,13961,9795,26145,62144,214811,33181,76599,39761,22653,48280,77100,94362,236555,57752,25362,66597,101330,27574,72263,42922,37789,41166,7034,50701,34160,80597,15889,22630,29406,74813,94212,29339,63854,36652,15095,106744,76990,78586,102882,63133,64064,10824,22234,48584,19468,12688,14292,7505,37688,11746,13045,113337,8899,17376,70439,59547,29007,54436,12360,28536,12826,22781,181460,72663,25073,8642,20569,28422,43783,159684,24452,29816,16823,49684,17628,18930,6490,8117,10071,35722,30575,28257,49747,10843,13585,23027]
["TC 2019",0.87060286441611456,0.5239267669401082,0.79793961413756609,0.65430752453652374,0.51884736899443507,0.90201789057624548,1.6440717812083783,2.1166851255202124,1.5513193727110464,1.2499631605316752,0.47883196399602923,0.909423828125,1.5110801486199588,1.3991199196146997,1.8423098278734118,0.65410172472761818,1.9316525016891184,0.82850041425019949,0.23107569721114718,0.90103535117993516,0.49872122762149029,1.4818107727632146E-2,0.57561486132915451,0.56120237005636842,1.371524538160096,1.237301838377447,1.5121864436932864,1.5517882765584412,1.9206939281288804,2.4522553317975815,1.651063829787236,1.6351744186046568,1.390845706441235,2.0976469872925119,0.80141048244910529,1.2027690760722409,2.5117204892485701,2.3073753605274083,1.3032562947648207,2.3310611798367464,2.0446096654274992,1.8136214547559426,1.5961442163244799,1.6470456329184868,2.4014556460330017,1.3927700155245137,1.9459892589024141,1.7308550185873628,1.0590858416945403,2.1680935089718689,1.689648475432115,1.4487438107463779,2.1671592028491338,1.4853842948145513,2.4953345774460178,2.3216516053192304,2.6787794083391603,1.3604937355447433,1.6232414883875723,1.0331157650262268,1.1197003506534964,1.2994594594594622,0.75900715404615404,2.2574103283692137,0.32660678875540139,1.6445780318014025,1.7950596608750313,1.6008239535054702,1.5113205378692207,1.3606748332757324,2.2501496110113761,1.0989977140847484,1.2474330035131764,1.7760769306250701,0.69430824147804771,1.7789265622624395,1.6966879721092454,1.877624969118008,1.6118872647985061,1.8429211160868153,0.6867607783288765,1.4125486883476368,1.8288006607279916,0.54516596508178417,0.86613967806736802,0.94350288292548434,1.9230769230769162,1.6532258064516192,0.59723777528928323,2.3683276262898012,1.8856542048020453,1.5160703456640334,1.3756154068925497,1.6665489725301796,1.8131832166001116,1.0337552742615941,0.88530139304778821,0.87332022815893584,1.1387434554973819,0.70197830248883708,1.2693935119887145,2.2884937405310612,2.1129293292573292,2.046513828755292,1.3333100339006698,1.4501906867150804,2.2000519953204289,1.7522829037830867,2.0088590379662152,0.74542775418220408,0.8952479916869871,0.57255030263372308,1.9486686999377278,2.0551703496782592,1.6951443711473946,1.7480338329128875,1.8568894145476023,1.6215603265799849,1.2085410795577678,1.478624236579873,0.54725706111313777,2.0530675951494715,1.7850749322285253,1.7231584927097199,1.9947637451689371,2.5182024764643041,0.94810028794156676,1.7858341725411231,0.96668265505663875,1.8372993912562308,1.2406947890818865,1.3159043677197335,1.3063728274451902,2.2567922874671353,1.7831943553559881,0.86271756031499613,0.29167520399184799,1.4833844368939975,2.0852999227666702,1.876079980251788,1.3856412921104955,1.4568291536719791,0.98958717967654319,1.43525741029642,2.1387337938866269,1.7828435470387705,1.888230313293815,2.0953378732320616,0.41692013234617686,0.69085044411814067,0.64670218629432341,2.1773465703971207,1.9690576652601877,2.1261347348303872,1.1962744595402919,1.8469834850016742,1.4858424446313467,1.51936982734866,1.0252973697436829,2.0099842354177611,1.6968144709460509,1.8158800490564619,1.7899738923010444,1.5932902665436233,0.89458591701183643,1.7035940495546908,0.87798336232005614,1.7719000957783893,2.3764693908706835,1.0658034469081423,1.0555490034202197,1.6566659597559985,0.88728146470271607,0.99637681159421287,1.8602404822969154,2.2146957795873279,1.366755515227136,1.6235363573747996,1.7798339360391102,1.8210480539247564,1.2306117031362529,1.4991493049982374,2.4563671622495065,1.8646864686468589,2.0172266688335494,1.048811612697409,1.5205606240909608,0.78573320384920375,1.5444015444015413,0.77383362577045922,1.1200459506031102,2.3440868644898361,1.9603407977079046,1.3501965475986921,2.1793416572077229,1.8649379378149256,3.0689507916694003,0.83650526688501259,2.417730020147757,1.7592048648047864,2.2262232577843655,1.4557556972637942,2.8242391006306544,2.819584355854543,2.08361261658081,2.7099132926558189,2.7698574338085535,1.555065167919456,1.5173792860083468,1.5323720667232088,1.8738153262929824,1.5797464199253319,1.8622628250175577,2.6725771147938948,1.508569809717164,2.9245647969052158,1.4043455219925782,2.1433321397513971,1.5877893874206128,3.0016804774873895,1.3285806869734351,2.5164779593900732,1.568446135789725,1.9811161692800505,1.2989588497768878,2.5030066145520058,2.6107513619076927,2.9087811111787154,2.1428571428571352,1.6499910383873218,0.8344173355753659,2.0192533458558426,1.9804601657444021,2.6489654743905744,1.4478637792284088,2.0155249897861882,2.5319987444634373,1.6422400706577189,2.0508558335953886,2.0247173284249298,2.7939206542649142,1.9516131238118684,1.7135770921799187,1.8787956365291292,1.1220457764854919,1.3371978130557904,1.0813887307911108,1.9943509762986533,2.1101309602455931,2.7659341860719389,2.1244941680552243,2.7577690882897743,1.1417760961495604,1.148042484446421,1.5041902442518351,2.2256253190403363,2.7538726333907082,1.7411174047373912,2.180055956166127,2.7154094210542157,1.7911460985130301,1.8611201931540977,2.6883856442855292,1.8972659486329757,1.7600518806744514,1.5769059579067823,2.6108093255268416,2.2683197118714471,1.5298478038009655,1.9054912383440703,1.483272476068298,2.3971857546964515,2.6389715345335851,2.2296258329062013,2.1064330889941418,2.1935577904095505,0.76769974410009212,1.7100254432851347,0.97775175644028156,1.7209077260940342,1.416074013468438,1.9133893062306617,0.71413997143439101,0.88620961597583037,1.4817645310576166,1.1622754695115756,2.230087386851265,1.7215977300010898,0.72209340841338232,1.3040545604436682,1.4313547213923972,1.6695085638663398,1.4822806710600434,1.2497426068775352,1.2331418581418507,0.10162601626015899,1.7135917963479352,0.78626708381359656,1.376618039860289,1.5290037831021452,1.2244612370556851,1.0126582278481067,0.71110167692634008,0.79175889664566679,1.234189344576464,1.5625965042307399,1.0225868075064648,1.9739871086556171,1.8214341486960439,1.041194350680974,1.3238183886647992,1.1279300462929021,0.55016181229774475,1.4157555368657038,1.1149228130360234,1.3783416004565119,1.5926374958668665,1.9487221832294344,1.8306544888924359,1.4464244387873082,1.7064514560746646,2.5473224966575225,2.0213324806431787,1.1898499536584728,1.4477343366595674,1.6098738932116996,1.4206740771562698,1.8114483535947246,0.8906285454957974,1.4844162704701569,1.6024653312789017,0.899347049402488,1.2809055704497974,1.0693690162924874,0.82747342600164586,1.4686626322681029,0.55279715359719539,0.94069906852347618,0.6772175193227925,0.8598601641551129]
[2019,1185973,86148,87668,8307,73813,121259,64854,486827,54071,274841,38401,16533,61199,146324,458545,164807,143321,26774,12579,54088,7859,13499,13454,41751,21730,57602,22824,19109,44415,13787,35832,8391,28066,16792,12578,26168,39140,14898,27439,12160,4392,110817,32462,90659,56841,22859,106871,68414,10878,38547,10472,27660,40449,34093,19223,27854,22040,163906,122080,25231,25377,46851,62393,49919,17202,65267,19451,69053,17665,79186,17086,45996,59656,20744,25670,13388,26253,12371,62913,35478,26390,21610,17261,29140,38663,98215,5035,2521,21560,89387,59111,10044,7001,14397,15554,4789,15498,31302,7727,7890,2872,12828,11357,43132,115978,41764,62898,28860,134261,58115,25245,12296,193207,20459,37615,34284,8612,26885,18675,9471,60447,8500,19900,32232,16362,44212,14374,15161,54730,9201,30600,116029,44590,23335,23802,20109,83211,36738,23792,16508,11707,47496,13675,26008,21586,63313,12033,7796,67680,41830,27391,9057,12325,8550,11843,30218,25340,106840,30151,15530,12706,25736,54194,37429,41166,41909,48142,82881,20118,78990,51411,81489,80616,16725,61163,42553,17874,30984,50380,18731,106774,31618,44380,12346,50219,25339,23034,22832,24196,22399,17605,26109,13523,5930,13503,33155,125505,91132,21350,64091,48261,39934,41250,59914,53305,41578,45414,58906,34522,17956,37622,24756,49283,55820,42997,39909,11481,19968,29751,17775,25016,119607,57116,12097,10216,13637,9983,16911,6721,96414,31782,13035,38517,49562,146861,7491,29399,36826,45431,34920,102061,74546,27067,71632,54254,15384,12432,41527,105104,9400,68644,34951,45443,58854,14171,10013,26865,63226,219494,34082,77971,40501,23262,49196,78457,95850,242731,59062,25750,67866,102833,28235,74170,43879,38585,42069,7088,51568,34494,81984,16114,23063,29616,75476,95608,29680,65278,37283,15204,108136,78092,79898,104407,63922,64854,10835,22615,48966,19736,12882,14467,7581,37956,11839,13206,115108,8990,17719,71722,60167,29391,55050,12428,28940,12969,23095,184350,74079,25532,8767,20920,29146,44668,161584,24806,30296,17062,50584,17785,19211,6594,8190,10200,36104,30828,28672,50022,10945,13677,23225]
["TC 2020",0.82244705402230167,0.495658633978735,0.77223160104029631,0.61394005055976919,0.49042851530218812,0.87581127998745956,1.603601936657717,2.0880107307113205,1.5276210907880339,1.2221611768258756,0.4531132001770688,0.99195548297343894,1.4183238288207223,1.3709302643448718,1.8268654112464366,0.6261869944844678,1.7722455188004638,0.80301785314109697,0.23054296843947331,0.87819849134742611,0.50897060694745644,2.222386843468982E-2,0.55745503196076296,0.54130439989461543,1.2517257248044089,1.2777334120342987,1.4721345951629772,1.4652781411900184,1.8777440054035699,2.4225719881047381,1.6102924759991089,1.525443928018122,1.3503883702700836,1.9294902334444863,0.76323739863253248,1.1617242433506592,2.4092999489013778,2.2351993556182004,1.2682677940158094,2.2861842105263097,2.0036429872495543,1.7695840890838088,1.5433429856447578,1.5927817425738233,2.3451381925018833,1.3430158799597525,1.8920006362811215,1.6750957406378886,1.0847582276153789,2.0494461306975964,1.661573720397258,1.3846710050614552,2.1137728992064009,1.4607104097615453,2.4449877750611249,2.2223020033029339,2.6225045372050726,1.3184386172562235,1.5620904325032825,0.96310094724743056,1.1861134097805204,1.2465048771637788,0.80297469267385235,2.1995632925339015,0.42436925938844627,1.5888580752907222,1.6914297465425943,1.5480862525885986,1.4435324087177959,1.3095749248604571,2.2064848413906102,1.0718323332463697,1.2069196727906739,1.6583108368684929,0.73626801714063994,1.7328951299671269,1.6493353140593525,1.8430199660496305,1.5640646607219422,1.8011161846778201,0.64418340280409936,1.3697362332253604,1.7843693876368638,0.49759780370624007,0.82249178801439005,0.89497530927047375,1.8470705064548065,1.5866719555731823,0.55658627087198376,2.3191291798583702,1.8355297660334058,1.4834727200318643,1.4712183973718096,1.618392720705697,1.7744631606017691,0.98141574441428236,0.83881791198865407,0.82103379975719815,1.1000388248997073,0.70975918884663702,1.2883008356545878,2.2217025257249778,2.0780135599189897,1.9985161828804499,1.297659901015713,1.412699932956607,2.108175140704005,1.7186417186417113,1.9722778766730453,0.70721844618428786,0.85561497326203106,0.63435263500324357,1.8943413023337685,1.9160271763038361,1.6057423900039947,1.697584879243963,1.7882025081281894,1.569648502882659,1.1834002677376221,1.4359624115721781,0.56909358611676453,1.8588235294117572,1.7336683417085386,1.6722511789525996,1.9374159638186006,2.3002804668415866,1.0296368443022175,1.6687553591451687,1.0232048236798796,1.7389414194109332,1.2189542483660221,1.335872928319648,1.282798833819232,2.2112706235268842,1.6679270649525346,0.94485056442388249,0.34730985086106614,1.4372039849746887,2.0427034297242797,1.8294160407075433,1.341077987528827,1.4106451069563652,0.94332723948811203,1.3111350353737228,2.0939497822662911,1.7342409931609515,1.8449264522562903,1.8984094407388463,0.44178486997636934,0.6813291895768625,0.5987368113614,1.9763718670641417,1.9310344827586201,2.0116959064327533,1.148357679641987,1.8002515057250701,1.4325177584846083,1.4648071883189839,0.97177539716759576,1.9639407598196934,1.5661892019518397,1.7679515076157948,1.7326641325607905,1.5415854016938679,0.93766700675315118,1.6511966403397915,0.97004694445599338,1.6988212014816373,2.2218908440202911,1.0381060893783989,1.0231273462877555,1.6296678079249949,0.89932519599087435,1.010463378176385,1.8328074162483832,2.1808098136441689,1.348327179142883,1.5911438161631875,1.7526796347757001,1.7884789920452615,1.2006668290033051,1.4675185021190362,2.3005858494817399,1.7657540903936564,1.9853043668730974,1.0734440980306958,1.4891030650342918,0.75770847932725705,1.5085138039345303,0.80807178891915132,1.0962794660607678,2.2444367842506363,1.863491828736219,1.3153456998313606,2.1476708879508255,1.7644397526768163,2.9696028046691358,0.90198832462802248,2.3653395784543285,1.696025963083736,2.1508049978243404,1.3998096859818787,2.7272727272727337,2.7255733217611988,2.0204483631929504,2.6191736014238298,2.6753864447086828,1.4973007843004149,1.590290249695836,1.4813989752728851,1.8101111052043928,1.6521247374373882,1.8018383621126954,2.6101755643138658,1.4535897853338531,2.8214187276053071,1.3413465725982121,2.0833333333333259,1.5259991260798023,2.9029535864978806,1.2631915574032648,2.3903283252652452,1.5074585054975831,1.92609737951559,1.2235708692247549,2.4492190364449717,2.4241210057097007,2.8502158358464813,2.0830233596190961,1.6003899848569647,0.78975520735007354,1.9716148830072777,1.9342108679284431,2.5099874904160435,1.4006441465058694,1.9757041783473595,2.4830776557025702,1.591267039591604,2.0074398538442839,1.9759450171821236,2.7268006388336374,1.904864110750415,1.6625411017105796,1.8301876256421767,1.072731964463447,1.2935517420696874,1.142213642213652,1.9457220603462888,2.0398843050692728,2.659574468085113,2.0715576015383652,2.7009241509541981,1.0870761173338073,1.090834947497199,1.4748429892033066,2.1571956456606367,2.702400893355672,1.6860152468920919,2.1025631680136936,2.6377560002347256,1.7147400956766035,1.7851411076269752,2.5621184764852645,1.823318969021881,1.6824502593777435,1.5086071987480354,2.5332569799489946,2.1892248823270455,1.5378640776698926,1.8286034243951255,1.5510585123452492,2.3198158314149175,2.5306727787515193,2.1422548371658356,1.9826357392769278,2.117949083648285,0.7759593679458332,1.6890319578032997,0.95378906476488723,1.6966725214676126,1.3963013528608625,1.8904739192646236,0.7428417071853044,0.86385076050665699,1.4580369843527841,1.1388140161725069,2.1508011887619194,1.6951425582705237,0.73664825046040328,1.2632240881852441,1.3906674179173351,1.6283261157976403,1.4424320208415109,1.2218015706642493,1.2134949270669493,0.1476695892939528,1.6979880610214382,0.76583751991177174,1.362991487636811,1.4361124049060647,1.2096495472454505,1.0025062656641603,0.69027294762356028,0.77709265985301812,1.2115704982583742,1.5342113493414855,0.97886540600666816,1.9470624753089805,1.7902456707844072,1.0105207173367381,1.3065224048178115,1.0990009082652241,0.53910524621820777,1.385625431928128,1.0794972627033772,1.3509417622862063,1.5400054244643302,1.8952739642813743,1.7781607394641963,1.402988479525491,1.649139579349912,2.4977698483496846,1.9678517059192213,1.1511040697098629,1.4069176812061546,1.5678637443887089,1.3831907162114687,1.7337498023090259,0.88838909193140747,1.4470876060590276,1.5620260843190792,0.85470085470085166,1.2352941176470678,1.0469754043873181,0.83041390943299209,1.4299665178571397,0.51577305985366362,0.88624942896300407,0.65803904364991617,0.85683530678148934]
[2020,1195727,86575,88345,8358,74175,122321,65894,496992,54897,278200,38575,16697,62067,148330,466922,165839,145861,26989,12608,54563,7899,13502,13529,41977,22002,58338,23160,19389,45249,14121,36409,8519,28445,17116,12674,26472,40083,15231,27787,12438,4480,112778,32963,92103,58174,23166,108893,69560,10996,39337,10646,28043,41304,34591,19693,28473,22618,166067,123987,25474,25678,47435,62894,51017,17275,66304,19780,70122,17920,80223,17463,46489,60376,21088,25859,13620,26686,12599,63897,36117,26560,21906,17569,29285,38981,99094,5128,2561,21680,91460,60196,10193,7104,14630,15830,4836,15628,31559,7812,7946,2909,13113,11593,43994,117483,42354,64224,29356,136909,58526,25461,12374,196867,20851,38219,34866,8766,27307,18896,9607,60791,8658,20245,32771,16679,45229,14522,15414,55290,9361,30973,117579,45162,23851,24199,20299,83500,37266,24278,16810,11864,48166,13804,26349,22038,64411,12255,7944,67979,42115,27555,9236,12563,8722,11979,30762,25703,108405,30444,15835,12905,26191,55133,38006,41552,42601,48609,84289,20565,79810,51937,82817,81341,16894,62284,43481,18115,31477,51263,19066,108056,32082,45401,12564,51216,25611,23377,23005,24561,22580,17798,26695,13775,6008,13793,33740,129232,91954,21855,65178,49299,40493,42375,61547,54382,42667,46629,59788,35071,18222,38303,25165,50171,57277,43622,41035,11635,20384,30205,18291,25332,122466,57977,12330,10341,13971,10225,17393,6861,97957,32033,13292,39262,50806,148918,7639,30129,37412,46343,35610,104844,75966,27517,72943,54836,15583,12574,42335,107248,9650,70066,35895,45937,59496,14380,10229,27591,64292,224109,34981,79308,41224,23858,50093,79777,97296,248880,60355,26146,69107,104428,28890,76047,44819,39350,42960,7143,52439,34823,83375,16339,23499,29836,76128,97002,30018,66682,37915,15316,109502,79178,81199,105913,64703,65641,10851,22999,49341,20005,13067,14642,7657,38218,11931,13366,116874,9078,18064,73006,60775,29775,55655,12495,29341,13109,23407,187189,75483,25986,8890,21265,29874,45547,163444,25155,30771,17298,51461,17943,19489,6697,8260,10326,36482,31084,29082,50280,11042,13767,23424]
["TC 2021",0.77250074640784483,0.46780248339590713,0.74254343765918218,0.61019382627423013,0.46107178968655127,0.84613435141962512,1.5661516981819279,2.0579808125684051,1.504635954605904,1.1933860531991414,0.42514581983150723,1.0480924717015005,1.3517650281147819,1.3429515270006132,1.8099382766286531,0.59817051477637495,1.6378607029980508,0.78550520582458816,0.24587563451776706,0.8723860491541835,0.50639321433092466,5.184417123389462E-2,0.53958163944121118,0.53839007075302536,1.1544405054086049,1.2907538825465359,1.4335060449050196,1.4028572902160974,1.8409246613184882,2.3652715813327729,1.573786701090385,1.4438314356145066,1.3148180699595668,1.7878008880579666,0.72589553416442243,1.1219401631912929,2.3127011451238744,2.173199395968739,1.230791377262741,2.2350860266924011,1.9866071428571441,1.7219670503112239,1.4895488881473185,1.5352377229840508,2.2879636951215421,1.2863679530346284,1.8348286850394357,1.6173087981598666,1.0913059294288763,1.9498182372829742,1.5874506857035398,1.3336661555468421,2.0554909936083776,1.4338989910670508,2.3866348448687402,2.1213079057352591,2.5643292952515662,1.2802061818422583,1.505803027736774,0.89895579806862358,1.2267310538203846,1.1953199114577817,0.83950774318695132,2.150263637610994,0.49782923299566129,1.5413851351351315,1.5975733063700703,1.4973902626850277,1.4062500000000089,1.2589905638034082,2.1473973544064551,1.0432575447955506,1.164369948323829,1.5506449165402225,0.77342511311342399,1.6886930983847304,1.6075845012366141,1.7937931581871513,1.5243282157221705,1.755406041476304,0.60617469879518104,1.3284031772117233,1.7417041379702791,0.4541574184736108,0.78243246709934766,0.84767998062444949,1.7940717628705194,1.6009371339320566,0.50738007380073391,2.2753116116335015,1.7908166655591806,1.4421661924850282,1.5484234234234284,1.5789473684210575,1.7119393556538132,0.95119933829610481,0.79344765804965078,0.7794923793529529,1.0496671786994316,0.72992700729928028,1.20316259883122,2.1886677343094574,2.0270853101009179,1.954812019820884,1.2572031698203201,1.3764933654436318,2.0194942700548113,1.6793841122768827,1.930479369508209,0.66978778662474259,0.81300813008129413,0.68692419589462261,1.840836707015403,1.7792911610953865,1.5411182919490285,1.6376986175643982,1.7567875884097583,1.5124327095616508,1.1642675698560589,1.3739981263661827,0.58725798226710868,1.7094017094017033,1.6794270190170435,1.6233865307741624,1.8826068709155264,2.1158990912909958,1.0673460955791247,1.5764889061891774,1.0634834508952862,1.6558060036320876,1.1913602169631554,1.3378239311441664,1.2599087728621505,2.1718166953167639,1.5703128228439223,1.0099019656140795,0.3928143712574883,1.392690388021256,1.9976933849575662,1.7846519928613969,1.2896156439649253,1.3681850267823759,0.91277890466532341,1.20308171088086,2.0510028133224445,1.6922575336510759,1.7951856385148846,1.7371601208459264,0.46632048132511095,0.66247180339547018,0.55525313010342803,1.8189692507579069,1.8864920799172236,1.9032332033937172,1.1019283746556363,1.7586632858721751,1.3967241178072687,1.411374014113731,0.91972145578766984,1.9134827912851371,1.4645486245641326,1.7143293497766443,1.6813886420111279,1.4839762142819568,0.97227570273392683,1.596206661815458,1.0409594930979926,1.639597100452006,2.0860685630926357,1.0048866056885153,0.99158595991297727,1.595083135105102,0.90729152579880346,1.0358707233337316,1.7998201785370149,2.1503645270347871,1.3083080320176688,1.5598691107792995,1.7185884556112585,1.757054442463013,1.1679129340341987,1.4338258213328237,2.1629479526882767,1.6873607131486779,1.9544673539518831,1.0815665143883546,1.4544210121059109,0.72158226472505138,1.4860958430031435,0.83259521700620454,1.0619170693336288,2.1539614159955089,1.7640653357531733,1.2816245006657789,2.1170158776190773,1.6804979253111973,2.8723535966324043,0.9635252408813022,2.2969572180279174,1.64165822823652,2.0872634333353624,1.340972513767813,2.638348082595865,2.6305100167351769,1.9694016402486136,2.521855298005482,2.5906624632739295,1.4367431591623792,1.6452339539790639,1.4213587970584918,1.7570425293057967,1.6928273395589111,1.7460285822487043,2.5507620860031111,1.3960845444958903,2.724503472645301,1.2720240653201653,2.0310047095761341,1.4699553054130066,2.7991908588923531,1.2119058897836821,2.2798164388483366,1.4505752281076978,1.8572587185725853,1.179769848177159,2.3691933290387324,2.2982885085574667,2.7884781233829647,2.0259437399795965,1.5537429688536886,0.74298379795836311,1.9184471862774499,1.8873210738118207,2.3875132858323767,1.3524221383580226,1.9374263647074175,2.4395101065418645,1.544958836736865,1.9571456314869451,1.9320415613591768,2.6610964862080699,1.8574098938999084,1.6171821056074398,1.7835844426469905,1.0248741702531206,1.2449464159661083,1.1929378081755981,1.8991378292193328,1.9804565120095541,2.5595854922279893,2.0152427711015219,2.6466081626967508,1.0318479656921342,1.0353637219308931,1.4255910987482689,2.1116433668980417,2.6457902939364342,1.6300628383002502,2.0324931171885163,2.5642491638317999,1.6454834316840694,1.7125946050844165,2.45619917847264,1.752739903778977,1.611993431690828,1.4461026147015277,2.4614271938283583,2.1191284897688734,1.5489941099977145,1.7566961378731483,1.5857815911441309,2.2499134648667374,2.4313911133904131,2.0593944532452779,1.8907242693773751,2.0460893854748585,0.82598348033038338,1.6666984496271908,0.92754788501852037,1.6755622188905583,1.3709529346961347,1.8724201029830967,0.76752915940474509,0.84068936527952332,1.438114678047886,1.1126657338929924,2.0800215950331324,1.6774363708294882,0.76390702533297716,1.2273748424686204,1.3526484629568847,1.5911526004014798,1.4039825139501305,1.1931440582353181,1.191328590362728,0.19353055017969911,1.6739858254706697,0.74583003992623187,1.3346663334166564,1.3622101477003046,1.1951919136729883,0.97949588611727645,0.66722486786330304,0.75433744028161609,1.1895855154870461,1.5067508599003965,0.95836087243885704,1.8988042515500458,1.7628688053036745,0.98560263266145309,1.2795969773299776,1.074476686730752,0.49619847939175177,1.3598718516751207,1.0527118773361765,1.3243901397018032,1.4829931245959882,1.8401494376217187,1.7240052335873113,1.3385826771653564,1.5988713849047764,2.4369016536118338,1.912310360726277,1.1147549007611168,1.3675213675213627,1.5306619869357441,1.3585385593710253,1.6556227045724015,0.89171264559995134,1.4007901893375641,1.5380020904882885,0.83535108958838755,1.2105365097811349,1.0169398607532409,0.83000900784970799,1.3926139880338306,0.47732696897375693,0.86035138561855184,0.63194595772499973,0.8495560109289535]
[2021,1204964,86980,89001,8409,74517,123356,66926,507220,55723,281520,38739,16872,62906,150322,475373,166831,148250,27201,12639,55039,7939,13509,13602,42203,22256,59091,23492,19661,46082,14455,36982,8642,28819,17422,12766,26769,41010,15562,28129,12716,4569,114720,33454,93517,59505,23464,110891,70685,11116,40104,10815,28417,42153,35087,20163,29077,23198,168193,125854,25703,25993,48002,63422,52114,17361,67326,20096,71172,18172,81233,17838,46974,61079,21415,26059,13850,27115,12825,64871,36751,26721,22197,17875,29418,39286,99934,5220,2602,21790,93541,61274,10340,7214,14861,16101,4882,15752,31805,7894,8004,2944,13400,11828,44854,118960,42937,65521,29849,139552,58918,25668,12459,200491,21222,38808,35437,8920,27720,19116,9739,61148,8806,20585,33303,16993,46186,14677,15657,55878,9516,31342,119152,45731,24369,24579,20504,83828,37785,24763,17110,12017,48825,13930,26666,22490,65501,12475,8082,68296,42394,27708,9404,12800,8888,12111,31303,26062,109935,30724,16138,13094,26640,56060,38570,41956,43281,49115,85671,20994,80612,52452,84138,82079,17069,63405,44416,18352,31968,52144,19401,109318,32542,46383,12776,52217,25888,23717,23171,24926,22768,17987,27270,14018,6085,14085,34307,132944,92840,22357,66248,50328,41036,43493,63166,55453,43743,47837,60647,35648,18481,38976,25591,51047,58738,44231,42153,11783,20798,30649,18803,25639,125258,58818,12559,10463,14302,10460,17878,7000,99479,32271,13547,40003,52019,150932,7787,30864,37990,47250,36298,107634,77377,27962,74244,55398,15777,12724,43139,109372,9897,71478,36845,46411,60112,14585,10445,28321,65340,228664,35878,80613,41930,24444,50971,81063,98703,255006,61634,26551,70321,106084,29540,77896,45742,40094,43839,7202,53313,35146,84772,16563,23939,30065,76768,98397,30352,68069,38551,15433,110846,80249,82491,107400,65475,66423,10872,23384,49709,20272,13245,14817,7732,38473,12021,13525,118635,9165,18407,74293,61374,30156,56253,12557,29740,13247,23717,189965,76872,26434,9009,21605,30602,46418,165266,25499,31242,17533,52313,18103,19762,6800,8329,10451,36853,31342,29487,50520,11137,13854,23623]
["TC 2022",0.72093440135971854,0.43918142101633251,0.71347512949293534,0.55892496135092617,0.43211616141283216,0.8179577807321925,1.52407136240027,2.0277197271400871,1.4751538861870417,1.1643932935492929,0.39236944681071417,1.0964912280701844,1.2955838870696068,1.3131810380383468,1.7931182460930728,0.5682397156403729,1.5264755480607128,0.75732509834196549,0.26109660574411553,0.85212304002615369,0.50384179367679582,6.6622251832115786E-2,0.52933392148213354,0.51892045589176927,1.0648813803019408,1.2844595623699107,1.3962199897837646,1.3580184120848271,1.8011371034243329,2.3382912487028618,1.5331783029582047,1.3885674612358345,1.2769353551476348,1.6645620479853074,0.68149772834089628,1.0908140012701351,2.2189709826871518,2.1205500578331815,1.1909417327313543,2.20981440704624,1.9260231998249111,1.6753835425383556,1.428827643928976,1.4799448228664414,2.2334257625409526,1.2231503579952285,1.7792246440198056,1.5632736789983781,1.1065131342209433,1.8551765409934085,1.5349052242256134,1.2774043706232252,1.9998576613764252,1.4022287456892935,2.326042751574664,2.0325343054647949,2.5088369687042089,1.2408364200650501,1.4532712508144252,0.83258763568454519,1.2464894394644821,1.1457855922669902,0.86563022295103043,2.1050005756610535,0.55872357583088839,1.4927368327243506,1.5177149681528723,1.4486033833529977,1.3482280431432958,1.2100993438627139,2.0966476062338923,1.0090688465959952,1.1214983873344408,1.4522530936259548,0.7905138339920903,1.6462093862815941,1.5637101235478568,1.7543859649122862,1.4814015507699896,1.7142390683246633,0.56135623666779821,1.2839572915258834,1.7006993006992932,0.41471208103882606,0.73817644962581586,0.79852702783838048,1.7432950191570873,1.4988470407378829,0.46351537402478105,2.2257619653414107,1.7429905016809633,1.382978723404249,1.580260604380368,1.5274880559854598,1.6769144773616462,0.90126997132322639,0.74276282376841696,0.73258921553214229,0.98809222194071733,0.7371314342828672,1.1548913043478271,2.1417910447761201,1.9783564423402122,1.9061845097427144,1.2172158708809722,1.3368423504203752,1.9337311701591808,1.6415960333679536,1.891051364365981,0.62629417156048195,0.7791803023219579,0.72236937153864478,1.7876114139786736,1.6727923852605686,1.4816532673675553,1.5915568473629182,1.692825112107621,1.4574314574314684,1.1351747227453357,1.3348393058835617,0.60345391509124546,1.5898251192368873,1.6273985912071964,1.5704290904723361,1.8360501382922445,1.9508076040358535,1.10376779995911,1.5073130229290355,1.0898743691613921,1.5762925598991062,1.161380894646169,1.3302336511346935,1.231112374538057,2.1297550166194723,1.5012815818381542,1.0485758876316753,0.42706494250130955,1.3470954082307696,1.9464523684529444,1.7416715371127989,1.2399101273196322,1.3210445468510024,0.84709260588657909,1.1287782194554952,1.9964428634948961,1.6427230118624125,1.7555110220440984,1.5961395694135128,0.47733395806488499,0.64395905080907312,0.50887830229535691,1.6588685665674285,1.8359374999999956,1.8001800180017957,1.0568904301874404,1.7091013640865071,1.3429514235285156,1.3608041115204417,0.8690274703814671,1.8589664146734464,1.3823125095463462,1.6629129129129172,1.6303960042811205,1.436349494425726,0.98436457240917985,1.5457128994246894,1.0974244120940613,1.5863010820464263,1.9767552634085916,0.96883838634447272,0.95897201250667585,1.561720031377023,0.91009880724668424,1.0486847501318231,1.7648450437662611,2.116354466858783,1.2750653879686213,1.5265265265265171,1.6837987112611197,1.7215607442915282,1.1343054208821979,1.4012660561735668,2.037384386520924,1.6202254226675095,1.9189152957848954,1.0854449938195287,1.4251380866045382,0.69051832031419291,1.4442750541603155,0.85646521433591083,1.0285205982098145,2.0645397873120697,1.6835497217862816,1.265406737880026,2.0802271920482784,1.6206605066021451,2.7793657479841194,1.0124946143903468,2.2453817596278514,1.5834440284989704,2.0286917819106742,1.2818013451603383,2.5567332674223398,2.5425070449292431,1.9079220240564077,2.4369613423862013,2.5043376465915479,1.3834155028278339,1.6747082585278239,1.3635625777825844,1.6984811165845715,1.7193544605525357,1.6905988598742372,2.4941264598726587,1.3384277995071248,2.6285199155457573,1.2305864380887765,1.9713433984037021,1.4095076511468463,2.7016965377865132,1.1544912048051748,2.1818965654888389,1.3941310483185365,1.8074687475117424,1.1277836184650614,2.3003775695706885,2.1701720841300176,2.7352052802326776,1.9714285714285795,1.505845454819621,0.69102289981717302,1.8675721561969505,1.8398620103492247,2.2722466790980222,1.3038984443325408,1.9134454860665118,2.3846552617936778,1.5003948407475542,1.9068783068783013,1.881646371700918,2.5949049556831527,1.8080308101890763,1.5699878406408629,1.7334734119928807,0.97837467056571814,1.191608037015901,1.2260295504558316,1.849834256705063,1.9255385290567917,2.465393553602091,1.9670388091440616,2.597367349708235,0.98252569433969761,0.98815544317274462,1.3849845731916277,2.067975107707043,2.5987782917269886,1.5824915824915742,1.9622677815484657,2.4945649144322513,1.5754282807983744,1.6432148819460979,2.3441335297005317,1.6813482176139427,1.5432441434439781,1.3829366888544525,2.3905319874826469,2.0475711457961454,1.5328989491921297,1.6893957708223661,1.5911918856754914,2.1767095463777864,2.333881072198829,1.980674216256384,1.8057564722901098,1.9776910969684591,0.81921688419883676,1.6431264419559888,0.90764240596370449,1.6503090643136931,1.3524120026565223,1.842182213125021,0.78829203392649649,0.81674656106711652,1.4126446944520588,1.087243015287287,2.0097254256710162,1.6523566185053573,0.7905138339920903,1.18813488984717,1.3146581265810253,1.5516844261798335,1.3659217877094898,1.1576937762504791,1.1712810321725886,0.22075055187638082,1.6549777625727069,0.72622663903920692,1.3170876085240701,1.2986032465081232,1.1675777822771183,0.96999482669426484,0.64720713227457427,0.74037101738624322,1.1756007393715295,1.474269819193319,0.91653027823239697,1.8688542402346853,1.7296380547292545,0.95154299866393455,1.2534818941504211,1.0417222192594222,0.46189376443417363,1.3315400134499056,1.0115497848569577,1.2944301555845916,1.4271049930250301,1.7847850973046198,1.6645229628508673,1.298701298701288,1.5413098819717641,2.3789294817332163,1.857038217932705,1.0788667965582865,1.3333856229656105,1.494782664362071,1.3232190726059523,1.5827805707950171,0.87830746285146866,1.3713186924400267,1.5147058823529402,0.78040581102172268,1.1673524064682805,0.99042140395626532,0.82636717503670187,1.3565299962695399,0.43942992874108633,0.82607524467990245,0.60632308358596898,0.84239935655927578]
[2022,1213651,87362,89636,8456,74839,124365,67946,517505,56545,284798,38891,17057,63721,152296,483897,167779,150513,27407,12672,55508,7979,13518,13674,42422,22493,59850,23820,19928,46912,14793,37549,8762,29187,17712,12853,27061,41920,15892,28464,12997,4657,116642,33932,94901,60834,23751,112864,71790,11239,40848,10981,28780,42996,35579,20632,29668,23780,170280,127683,25917,26317,48552,63971,53211,17458,68331,20401,72203,18417,82216,18212,47448,61764,21726,26265,14078,27539,13050,65832,37381,26871,22482,18179,29540,39576,100732,5311,2641,21891,95623,62342,10483,7328,15088,16371,4926,15869,32038,7972,8063,2978,13687,12062,45709,120408,43511,66788,30339,142191,59287,25868,12549,204075,21577,39383,36001,9071,28124,19333,9869,61517,8946,20920,33826,17305,47087,14839,15893,56487,9666,31706,120737,46294,24888,24948,20719,84186,38294,25245,17408,12166,49470,14048,26967,22939,66577,12694,8211,68622,42667,27849,9560,13035,9048,12239,31838,26412,111431,30991,16438,13275,27083,56974,39124,42369,43950,49654,87030,21409,81393,52955,85452,82826,17248,64524,45356,18586,32456,53022,19735,110558,32998,47328,12983,53219,26169,24055,23331,25286,22963,18172,27833,14254,6162,14378,34863,136639,93780,22859,67297,51349,41562,44605,64772,56511,44809,49035,61486,36245,18733,39638,26031,51910,60203,44823,43261,11928,21208,31081,19311,25935,127991,59638,12786,10581,14631,10687,18367,7138,100977,32494,13800,40739,53201,152900,7936,31600,38560,48151,36981,110427,78776,28401,75531,55940,15965,12880,43937,111478,10141,72884,37802,46867,60706,14787,10661,29057,66374,233151,36773,81883,42619,25017,51828,82314,100068,261102,62896,26958,71509,107772,30183,79714,46648,40818,44706,7261,54189,35465,86171,16787,24380,30302,77395,99787,30682,69437,39188,15555,112163,81304,83771,108867,66233,67201,10896,23771,50070,20539,13417,14990,7807,38722,12110,13684,120384,9249,18751,75578,61958,30534,56839,12615,30136,13381,24024,192676,78244,26874,9126,21938,31330,47280,167049,25839,31709,17765,53141,18262,20033,6903,8394,10573,37218,31601,29887,50742,11229,13938,23822]
["TC 2023",0.66641892932977065,0.40635516586158271,0.68164576732563376,0.5439924314096567,0.40086051390317845,0.78559080127045267,1.4835310393547907,1.9947633356199423,1.4448669201520881,1.1327326736845,0.36512303617803887,1.1021867854839718,1.2523343952543176,1.281714555864899,1.7737245736179297,0.53701595551289838,1.4304412243460796,0.73338928011092985,0.24463383838384534,0.83411400158535098,0.4887830555207362,6.6577896138486636E-2,0.51192043293841749,0.49974070057989817,0.97363624238651081,1.2664995822890601,1.3602015113350019,1.3147330389401857,1.7650068212823999,2.3051443250185821,1.4967109643399201,1.335311572700304,1.2402782060506379,1.5639114724480541,0.64576363494903699,1.0531761575699239,2.1350190839694694,2.0513465894789862,1.1523327712197773,2.1697314764945741,1.9111015675327359,1.6280585037979467,1.3792290463279455,1.4256962518835348,2.1747706874445161,1.1788977306218751,1.724199036007934,1.5085666527371533,1.1210961829344335,1.7699764982373578,1.4843821145615221,1.2230715774843581,1.9443669178528245,1.3715956041485233,2.2780147343931745,1.944856410947815,2.451640033641711,1.2003758515386487,1.4019094162887713,0.7678357834626004,1.2463426682372658,1.0977920579996692,0.88477591408606671,2.0484486290428761,0.61289953030130295,1.441512637016884,1.4509092691534775,1.3974488594656664,1.3031438345007418,1.1603580811520908,2.0535910388754575,0.97369752149720767,1.0831552360598407,1.3716284635920006,0.79192842185418222,1.6124449495666937,1.5251098442209177,1.7241379310344751,1.4415481832543486,1.6773227040475014,0.52472926202968839,1.2454407970821091,1.6612574949117054,0.37576167907922287,0.70244592682433549,0.75348449350751689,1.713424967049515,1.4767133661491849,0.41569594810653143,2.1825293078025165,1.7002983542395267,1.3545740723075461,1.5829694323144183,1.4779957582184533,1.637041109278603,0.85261875761266648,0.69947696767282963,0.68980585554654361,0.9533366783743169,0.75654222993923881,1.1081262592343766,2.0895740483670711,1.9399767866025597,1.8639655210133776,1.1768321041791152,1.2939256739675109,1.8536263999520797,1.595306371337224,1.848921521052671,0.58697522222410647,0.73449822174114221,0.75703243286318056,1.7371064559598137,1.5757519581035329,1.4244724881294024,1.5360684425432591,1.642597288060843,1.4151614279618752,1.1069156364764909,1.2767250987941958,0.6160898613391419,1.5090543259557387,1.5726577437858547,1.5224974871400621,1.7798324183761816,1.8136640686388983,1.1254127636633138,1.4345938463474539,1.1046789526793832,1.5104489964825163,1.1322778023087121,1.3119424865617013,1.205339784853332,2.0893603342976519,1.4389931056597804,1.0763067715623409,0.45494500273204341,1.2978534496265626,1.9053277876807329,1.6888786764705843,1.216505013973368,1.271477663230236,0.81862186788155267,1.0568472577594745,1.9573651859279062,1.5981495110924282,1.7015913029777785,1.4614541468761511,0.48963889131765637,0.62577636112217672,0.46321232360229114,1.5167364016736462,1.7951668584579972,1.7020335985853174,1.0131546694991389,1.6646774294867717,1.3024382856277494,1.3129201030233961,0.81636604175405747,1.8189560773816726,1.3032015065913338,1.6135583207177895,1.5831782918524162,1.3853389224005808,0.99601123462909058,1.4948805460750947,1.1358601522535983,1.5396989543835504,1.8637021813256105,0.93374123081837457,0.91964875837975413,1.5260029022141186,0.91154951343781487,1.0551948051948035,1.7295889901431938,2.0769027251080319,1.242870978155608,1.4912496918905616,1.6483723737316547,1.682290347099058,1.0980661734112385,1.3637190132735233,1.9248647734956048,1.5558807671570474,1.8827862229654713,1.0928961748633892,1.3884847225109187,0.65149372080064438,1.4078936961164246,0.87532116883681788,0.99053488883997787,1.9760715697193953,1.620597726953843,1.2171372930866564,2.0447906523855863,1.5632619109084089,2.6873732975212006,1.0524632117722366,2.1873222800647518,1.52755694904676,1.968879627646114,1.229488475049334,2.4638493442439291,2.4563082813561454,1.8527366353453312,2.349974335512961,2.4227592535943643,1.3238786065120411,1.6885087598289328,1.3078524528906232,1.6423633886674338,1.7325496523376005,1.6297437873242115,2.440077736989843,1.2805925529304041,2.538082799750363,1.1569416498993901,1.9143719351188304,1.3577426723721864,2.6047330536999702,1.0950453055716292,2.0923346172777801,1.3363962574197696,1.751916158298128,1.0585010868537914,2.2349805208119689,2.0866473285299891,2.6732727173735427,1.9193051274866813,1.4557770581419494,0.64319566689234886,1.826086956521733,1.7869854439235056,2.1691321591699397,1.2537606278613556,1.8649193548387011,2.3386075949367147,1.4445020746888027,1.8608128595460016,1.8333738947026834,2.5265560053247871,1.7594191124200353,1.5210732016478268,1.6854006964027946,0.92599213442974282,1.1525211399937341,1.2499999999999956,1.8003049821335049,1.8721182654873658,2.3666305098116514,1.9112562427967772,2.5369028093751744,0.93029210318560374,0.93071525055183901,1.3457766957462702,1.9979364037144842,2.5398354957497427,1.527706632114989,1.8961960274671785,2.4284121502189171,1.5094708303310833,1.5791079096177718,2.2424751169204837,1.6168866249903546,1.4772699662268796,1.3260982531878351,2.3228470099807774,1.9842279318239564,1.5171748646042094,1.6221734327147574,1.5811156886760935,2.1170857767617512,2.2405098226158549,1.9036185902932656,1.7345288843157336,1.9102581308996447,0.85387687646329979,1.6165642473564779,0.87974058931341581,1.6258369985261867,1.3224518973014909,1.8211648892534793,0.80522737773083275,0.79074875637961117,1.3869542124725687,1.0657714620950332,1.9398879559888726,1.6229457997346097,0.80360012857600971,1.1474372119147924,1.2730000983961487,1.5088753864702653,1.3254705282592427,1.1172678272160397,1.1502805017782558,0.26615271659324868,1.6322409658827919,0.70101857399640366,1.2950971322849281,1.244689572929869,1.1407605070046678,0.96067631612655191,0.62496771860958145,0.71841453344343442,1.1473253434668207,1.4437134502923943,0.88658233322520541,1.8185696762839321,1.7002302257270729,0.91997804964654151,1.224864085936983,1.0081106282658014,0.44391597304795916,1.2974515529599051,0.98647335774606493,1.2612387612387588,1.3727708692312435,1.7292060733091308,1.6112227431718473,1.2382204689896925,1.4860060169568756,2.3236514522821494,1.8020304568527878,1.0404132919083597,1.2964898022369331,1.4601532687880336,1.2834224598930577,1.5110743117366932,0.85970868470046646,1.3328008785503886,1.4921048819353855,0.75053609721229542,1.1349664239099555,0.95115266806384824,0.8132654029935793,1.3182989259544309,0.40400457214930796,0.79259061358980532,0.56679581001577439,0.83116446981781333]
[2023,1221739,87717,90247,8502,75139,125342,68954,527828,57362,288024,39033,17245,64519,154248,492480,168680,152666,27608,12703,55971,8018,13527,13744,42634,22712,60608,24144,20190,47740,15134,38111,8879,29549,17989,12936,27346,42815,16218,28792,13279,4746,118541,34400,96254,62157,24031,114810,72873,11365,41571,11144,29132,43832,36067,21102,30245,24363,172324,129473,26116,26645,49085,64537,54301,17565,69316,20697,73212,18657,83170,18586,47910,62433,22024,26473,14305,27959,13275,66781,38008,27012,22762,18481,29651,39854,101491,5402,2680,21982,97710,63402,10625,7444,15311,16639,4968,15980,32259,8048,8124,3011,13973,12296,46561,121825,44074,68026,30823,144820,59635,26058,12644,207620,21917,39944,36554,9220,28522,19547,9995,61896,9081,21249,34341,17613,47941,15006,16121,57111,9812,32065,122321,46852,25408,25307,20942,84569,38791,25726,17702,12314,50099,14163,27252,23388,67641,12910,8331,68958,42934,27978,9705,13269,9202,12363,32368,26756,112894,31244,16737,13448,27520,57876,39666,42791,44607,50218,88370,21808,82153,53442,86756,83581,17430,65640,46298,18817,32940,53896,20067,111772,33448,48239,13185,54221,26455,24389,23483,25642,23164,18352,28383,14485,6237,14672,35408,140311,94767,23359,68325,52360,42073,45704,66363,57558,45862,50223,62300,36857,18978,40289,26482,52756,61672,45397,44359,12066,21614,31503,19814,26219,130669,60435,13010,10693,14958,10910,18858,7275,102447,32703,14052,41467,54355,154817,8084,32339,39117,49047,37659,113217,80162,28833,76804,56458,16149,13041,44728,113565,10381,74277,38761,47303,61271,14986,10874,29795,67388,237572,37666,83119,43292,25578,52666,83530,101395,267167,64144,27367,72669,109476,30822,81500,47536,41526,45560,7323,55065,35777,87572,17009,24824,30546,78007,101171,31009,70784,39824,15680,113450,82339,85035,110310,66973,67974,10925,24159,50421,20805,13584,15161,7882,38964,12197,13841,122122,9331,19092,76863,62528,30908,57412,12671,30527,13513,24327,195321,79597,27307,9239,22264,32058,48132,168787,26174,32172,17993,53944,18419,20300,7006,8457,10693,37572,31858,30281,50947,11318,14017,24020]
["TC 2024",0.61191465607630668,0.3762098566982397,0.65154520371868418,0.5057633498000369,0.36998096860485497,0.75553286208931425,1.4415407373031375,1.96295005191085,1.4173145985146851,1.1023386939977176,0.33048958573513865,1.1075674108437239,1.2135959949782338,1.250583475960787,1.755807342430149,0.50628408821435933,1.3513159446111089,0.70631700956245158,0.25978115405809188,0.81649425595398117,0.46146171114991308,8.8711465956969882E-2,0.49476135040744662,0.48318243655298687,0.89820359281436168,1.2407602956705288,1.3212392312790033,1.2630014858840966,1.7260159195643165,2.259812343068579,1.4588963816221101,1.2839283703119708,1.1946258756641459,1.4675635110345198,0.61842918985777207,1.0092883785562723,2.0436762816769871,1.991614255765195,1.1183662128368965,2.13118457715189,1.8541930046354738,1.5783568554339933,1.3226744186046524,1.3682548257734739,2.1220457872805909,1.115226166201988,1.6679731730685488,1.4532131242023905,1.1086669599648102,1.6982992951817266,1.4178033022254066,1.1705341205547226,1.8867494068260715,1.3391743144702817,2.2177992607335772,1.8581583732848461,2.3970775356072727,1.1629256516793918,1.3531778826473495,0.70071986521671459,1.2385062863576657,1.0492003667108118,0.89715976881479254,2.001804754976888,0.66040421292343776,1.3950603035374209,1.3866743972556383,1.3508714418401402,1.2542209358417766,1.1133822291691686,2.0068869041213855,0.93926111458986217,1.0459212275559349,1.2804213585179802,0.79703849204850741,1.5728766165676422,1.4878929861583012,1.6798493408662907,1.4045911262185351,1.6364975794569636,0.48496964312156887,1.2081539407784891,1.6286997456847585,0.33725675356648388,0.66241782506146762,0.7064665832438255,1.6475379489078179,1.4179104477611837,0.37303248112092735,2.1348889571179974,1.6545219393709898,1.2988235294117745,1.5851692638366499,1.436875449023578,1.5866338121281354,0.80515297906602612,0.65707133917396465,0.63858148113704605,0.91948310139164935,0.73855243722305008,1.0959814015277347,2.0539612109067518,1.8867924528301883,1.8169712849809949,1.1376975169300252,1.2524390797295393,1.7743215829241654,1.5605229860818248,1.8084518712884856,0.54665884128448639,0.69844193721697589,0.77507118000632591,1.6848087852808113,1.4919925172240722,1.3744241938714152,1.4854735459867596,1.5943600867678986,1.3603534114017268,1.074333657338733,1.2406203101550828,0.62362672870621694,1.4095363946701855,1.5247776365946653,1.4734573833027564,1.7316754669846057,1.6895767714482313,1.1262161801945947,1.3832888778611663,1.1066169389434499,1.4370158988993076,1.1040074847965098,1.285960709935341,1.1760437121147493,2.0505352644836217,1.3830165566839137,1.083946136949665,0.47535148813395711,1.2606016859580738,1.8580424473295443,1.6551802056264719,1.1450381679389388,1.2335575560390444,0.76961095813032898,1.0017613386173574,1.9112365315546498,1.5537913395721636,1.6653756777691653,1.3323730644580589,0.49595405899243161,0.60558065868543398,0.42175995424977852,1.4116434827408542,1.748436204687609,1.5974788089545777,0.97063819461296053,1.6219723183390933,1.2557930931379913,1.2631317873403436,0.77454871335296271,1.7565872020075313,1.2343842950624628,1.5734011627906996,1.5325869099453993,1.3361569102001702,0.9885256245472096,1.4482031968076736,1.1589469911187145,1.4959827995926211,1.7654071900220059,0.89710661813933168,0.88320047902399335,1.4869288579464346,0.90690467929313012,1.0613884107860017,1.6895185862279005,2.0411248866041731,1.206355954721805,1.4480874316939785,1.6105091286922946,1.6544575671500583,1.0592992878359464,1.324443912939488,1.8221770766392309,1.5168752370117611,1.8443038675052037,1.0886410886410847,1.3489687974086673,0.61320955584891479,1.3727478355822553,0.88499395613883536,0.94812554489973611,1.8955008279603947,1.5602347255781801,1.1704345037678365,2.0106324972737122,1.5081337550836071,2.5963751951023184,1.0858210136439839,2.136221584828113,1.4694474935967872,1.9136745607333916,1.1693960497231037,2.3849116051111396,2.3702967014752163,1.7964487994718281,2.2676725829662958,2.3375744180953006,1.2696629213483135,1.6876034403234152,1.2540836758351714,1.5835587877584434,1.7219243259572581,1.5789673212525557,2.3787131923725502,1.2269533229068097,2.4459523433801422,1.1188463451019315,1.8599056167299066,1.2982890518363321,2.5184213182598114,1.0374156146306213,2.0096579908011947,1.2807148175725924,1.6986933128362747,1.0100065463387153,2.172750367696219,1.9798350137488541,2.6195778979743345,1.8419243986254275,1.4065809638154292,0.59321774760725532,1.7791061770566552,1.7387320037620224,2.0715665532149652,1.2040021444673421,1.8060366155368657,2.2913510003401472,1.3983689955773704,1.8105082879686929,1.7817785921028229,2.4616444526881942,1.7090391956288586,1.4705372316442977,1.635331493151404,0.878529172127962,1.0960430986438841,1.2652403956751712,1.7505812913611196,1.8227446836613481,2.2637510837106189,1.8538713195201728,2.4818761125873889,0.8688666680760182,0.87317001517845938,1.3012144668357095,1.949604561338969,2.4836381943279084,1.4705882352941124,1.833128483154578,2.3655285934264247,1.4461194191460525,1.5176014044165242,2.1424661818750579,1.5531842175217303,1.4150604573207159,1.2702795995857885,2.2596353591573859,1.919119481167364,1.4945006759966351,1.5605003509061577,1.5583324198911175,2.0504834209331024,2.1533742331288241,1.8280881857960285,1.668833983528395,1.8459174714662074,0.84664754881877968,1.5908471806047375,0.85250300472370366,1.5986845110309122,1.2993121288729537,1.7926200451176211,0.81516401492831569,0.76531593318547309,1.3600735388599405,1.0384082040697962,1.8718919529837175,1.5970269184411467,0.81632653061225469,1.1115028646980996,1.2363521539003441,1.4735109072734787,1.287281298159737,1.0840189330028505,1.1239591608556143,0.29290617848969358,1.6060267395173744,0.67828880823466164,1.273732275895223,1.1704946996466514,1.1212980674097928,0.93884800811976366,0.60055435786880995,0.68869394113306726,1.1270861931941267,1.4100653444915734,0.86807416139749183,1.770375026188975,1.6666016158619845,0.88920163766632587,1.1906302575384942,0.97888943078101587,0.40249388367137318,1.2644544174009953,0.9620365573891787,1.2249763637111055,1.3173186702914785,1.6746862318931521,1.5600395502984643,1.1797813616192254,1.4328063241106692,2.2740033688938732,1.7452006980802848,1.0036317962876184,1.2569725681974564,1.4204898669650579,1.2560440171177634,1.4385288447278599,0.84695151745479702,1.2955665024630525,1.4416214673137251,0.72129596783729877,1.0941737585336231,0.91823698498882944,0.79728796534621615,1.2813315280208792,0.3670481088189792,0.74218059727866326,0.55646714703574407,0.80766028309742222]
[2024,1229215,88047,90835,8545,75417,126289,69948,538189,58175,291199,39162,17436,65302,156177,501127,169534,154729,27803,12736,56428,8055,13539,13812,42840,22916,61360,24463,20445,48564,15476,38667,8993,29902,18253,13016,27622,43690,16541,29114,13562,4834,120412,34855,97571,63476,24299,116725,73932,11491,42277,11302,29473,44659,36550,21570,30807,24947,174328,131225,26299,26975,49600,65116,55388,17681,70283,20984,74201,18891,84096,18959,48360,63086,22306,26684,14530,28375,13498,67719,38630,27143,23037,18782,29751,40118,102208,5491,2718,22064,99796,64451,10763,7562,15531,16903,5008,16085,32465,8122,8184,3044,14260,12528,47407,123211,44626,69233,31304,147439,59961,26240,12742,211118,22244,40493,37097,9367,28910,19757,10119,62282,9209,21573,34847,17918,48751,15175,16344,57743,9953,32419,123894,47403,25929,25657,21169,84971,39280,26204,17995,12455,50717,14272,27525,23835,68692,13125,8442,69300,43194,28096,9842,13501,9349,12483,32893,27092,114320,31486,17031,13614,27953,58763,40196,43214,45253,50800,89692,22193,82890,53914,88046,84339,17615,66749,47243,19044,33417,54764,20399,112956,33891,49118,13385,55221,26743,24718,23627,25994,23369,18526,28921,14711,6310,14967,35942,143954,95796,23858,69329,53362,42565,46794,67936,58592,46902,51397,63091,37479,19216,40927,26938,53589,63139,45954,45444,12201,22016,31912,20313,26491,133295,61209,13231,10801,15283,11126,19352,7409,103888,32897,14302,42188,55481,156681,8230,33080,39664,49935,38330,116004,81532,29257,78060,56954,16326,13206,45511,115635,10616,75654,39723,47714,61806,15181,11086,30535,68379,241927,38557,84321,43949,26126,53484,84712,102683,273204,65375,27776,73803,111182,31454,83255,48405,42219,46401,7385,55941,36082,88972,17230,25269,30795,78604,102547,31331,72109,40460,15808,114711,83357,86288,111730,67699,68738,10957,24547,50763,21070,13743,15331,7956,39198,12281,13997,123844,9412,19430,78144,63084,31276,57974,12722,30913,13643,24625,197894,80930,27733,9348,22583,32787,48972,170481,26503,32629,18219,54720,18575,20563,7107,8518,10810,37917,32112,30669,51134,11402,14095,24214]
["TC 2025",0.55588322628670195,0.34413438277283159,0.62090603842130943,0.4681100058513854,0.33944601349829018,0.72373682585180621,1.4010407731457564,1.9303627536051415,1.3889127632144449,1.0704020274795001,0.30386599254379476,1.1011699931176899,1.1760742396863755,1.2197698764862874,1.737084611286166,0.47424115516652154,1.2828881463720521,0.67978275725641968,0.25125628140703071,0.79747643014107528,0.45934202358783871,8.8632838466651265E-2,0.47784535186794486,0.46451914098972757,0.82475126549135247,1.2125162972620673,1.2917467195356247,1.2276840303252712,1.6926118112181809,2.2227965882656964,1.4249877156231383,1.245413099077064,1.1671460103003239,1.3970306251027242,0.57621389059618888,0.97748171747158441,1.9638361181048225,1.9406323680551285,1.0819536992512147,2.0940864179324503,1.8204385601986006,1.5322393116965038,1.2681107445129847,1.3180145740025129,2.0669229315016802,1.0700028807769879,1.6157635467980214,1.3985824811989289,1.1226177008093252,1.6249970433096061,1.3714386834188685,1.1128829776405613,1.838375243511936,1.3077975376196926,2.1650440426518314,1.7788165027428748,2.344971339239188,1.1237437474186596,1.3031053534006576,0.64260998517053913,1.2159406858202049,1.0020161290322571,0.90300387001658322,1.9552971762836657,0.68435043266783513,1.3459869385199941,1.3343499809378656,1.3018692470451843,1.2122174580488032,1.0642598934550884,1.951579724669017,0.89950372208436047,1.0049773325301992,1.1969873576616052,0.78698845750262425,1.5278733654507937,1.4484581497797411,1.6372795969773257,1.3629852773962892,1.5946155837432086,0.44210293630033703,1.1676867647697264,1.5866254924928214,0.29914960841652682,0.62066902637221144,0.65943957420162569,1.6026224731378713,1.3980868285504044,0.32632342277012505,2.0912661830133406,1.6089742595149836,1.2542971290532279,1.5604337476857966,1.3972055888223478,1.5441045968171307,0.75878594249201292,0.60926328877837221,0.59756661019558788,0.86185668554543682,0.7575757575757569,1.018396846254932,2.0056100981767244,1.8438697318007735,1.7739996203092412,1.094869776237517,1.2145386097790478,1.6971675357127403,1.5173779708663515,1.7647976451278247,0.50532846350128668,0.65167682926829951,0.80050227593784218,1.6351045386939989,1.4116166157166044,1.3212160126441663,1.4394694988813184,1.5373118394363283,1.3075060532687699,1.0477299185098987,1.1858879335902683,0.62939533091423971,1.3573677923770289,1.4740648032262493,1.4291043705340511,1.6798749860475581,1.5794547804147685,1.1202635914332681,1.3215859030837107,1.1031640198811976,1.3764694062091909,1.0734445849656105,1.2559123121377969,1.1433875493112255,2.0170465501947676,1.3251744163386148,1.0912182908970669,0.48840192536276916,1.2118126272912422,1.8127003510914452,1.6060016671297639,1.1160176635889307,1.1869787250823105,0.72169282511209687,0.94096276112625166,1.8670023075309405,1.509637221219351,1.6152380952380918,1.2319355602937732,0.49783549783550818,0.58341436310598294,0.37727790432802166,1.3005486689697143,1.7035775127768327,1.5081826933361908,0.92926379876632215,1.5748031496062964,1.2143806289679704,1.2158852344296811,0.72095534523279881,1.7145205801186059,1.1826061407374855,1.5204092583980255,1.4839269608426964,1.2911732510697549,0.97884944693849008,1.3988022893509866,1.1751968503937116,1.4538643357267178,1.68071013382598,0.85776330076003937,0.84579144563563524,1.4503782113894914,0.90349660299504642,1.0559182514902066,1.6524592128720927,2.0024130559024522,1.1657214870825383,1.4124547386060948,1.5740267328902213,1.6079219569586689,1.0216367435107454,1.2894278717063612,1.7305264872348181,1.4643257377661589,1.8054725557306028,1.0806566204240253,1.3148312970304943,0.57561264654844013,1.3349234438716717,0.89006803885489649,0.91762927777176984,1.815289927734165,1.5090748419549938,1.12519809825673,1.9710028729872375,1.4662511824606206,2.5105241952290358,1.1148690968307617,2.0747757565596547,1.4193194766980666,1.8571267943480407,1.1206390226712104,2.3037141513869264,2.2889189825718415,1.742558711086839,2.189672082213967,2.2608323443002565,1.2157043001378876,1.6836094879799424,1.1969192339716939,1.5319959928653537,1.7113371445541592,1.5208344996174628,2.3297803259475058,1.1707359533446482,2.3611477862864216,1.0572903860339267,1.8032340116278966,1.2471797442968224,2.4270171811155317,0.98524027028046302,1.9355564724858443,1.228577496773342,1.6476456805985862,0.94435700398112221,2.1069161813779935,1.9234226136976451,2.563042579578334,1.8086111486030454,1.357230864007386,0.5471623552299576,1.7200391553628958,1.6924243860813482,1.9844631495467002,1.1545752197139381,1.7739975698663368,2.2370012091898372,1.3513513513513598,1.7622909782717633,1.7323245499608619,2.3956070480328329,1.6619241524800099,1.418463957343552,1.5885216500128196,0.82873898233661869,1.0474090407938341,1.2797213387854001,1.7006877458196845,1.7719548579582245,2.1853805576488305,1.8055886007349198,2.4318404954308592,0.82156180575931881,0.82678057146554629,1.2515644555694649,1.9123218473750647,2.429998362534791,1.4229514909548158,1.7720221389096791,2.3056773089192628,1.3851828132968036,1.4516826321417931,2.0554237158386224,1.4920350011218275,1.3528189630748866,1.2183126710360925,2.196893164082514,1.8585086042065102,1.4652937788018461,1.498584068398312,1.5272256300480347,1.9870286767978529,2.0671431145276475,1.7622146472471956,1.603543428314258,1.7779789228680398,0.86662153012864174,1.5605727462862706,0.82589656892633201,1.5679090050802591,1.2594312246082318,1.7650085084490952,0.8248092222763459,0.73278713551472308,1.3310969604181544,1.008585745747026,1.8055998557738873,1.5694513099357321,0.8286943319838036,1.0731316089999998,1.1972599781661986,1.4347302058223654,1.2485456010024265,1.0443285720616258,1.0998283336727921,0.31030391530528778,1.584715036460671,0.65401965998856948,1.2387280493592723,1.127846903878349,1.0958189289674625,0.90497737556560764,0.57911117914180021,0.65955541079716351,1.100235764806734,1.3767320176996778,0.81810454738631133,1.7344312918167848,1.6303235053235055,0.85600152178049171,1.157437012405671,0.94352640838997193,0.37729916679767328,1.226021414938705,0.93088030491828011,1.1939086294416201,1.2643132181875183,1.6211540837760996,1.5000180290628551,1.14462986735131,1.3815702076783509,2.2112422606520798,1.6948460344686778,0.96960951660303163,1.226276270610871,1.3852707713996715,1.223996926285742,1.3760964912280738,0.82368775235530656,1.2595438408792514,1.449275362318847,0.66917116694058532,1.0638297872340496,0.88614605585883854,0.78163926258096872,1.2520786461899691,0.33050416552586892,0.71917207507454783,0.52500886839303984,0.7929297100850663]
[2025,1236048,88350,91399,8585,75673,127203,70928,548578,58983,294316,39281,17628,66070,158082,509832,170338,156714,27992,12768,56878,8092,13551,13878,43039,23105,62104,24779,20696,49386,15820,39218,9105,30251,18508,13091,27892,44548,16862,29429,13846,4922,122257,35297,98857,64788,24559,118611,74966,11620,42964,11457,29801,45480,37028,22037,31355,25532,176287,132935,26468,27303,50097,65704,56471,17802,71229,21264,75167,19120,84991,19329,48795,63720,22573,26894,14752,28786,13719,68642,39246,27263,23306,19080,29840,40367,102882,5579,2756,22136,101883,65488,10898,7680,15748,17164,5046,16183,32659,8192,8246,3075,14546,12759,48248,124560,45168,70408,31779,150041,60264,26411,12844,214570,22558,41028,37631,9511,29288,19964,10239,62674,9334,21891,35345,18219,49521,15345,16560,58380,10090,32767,125450,47945,26452,25997,21400,85386,39756,26679,18284,12594,51319,14375,27784,24280,69729,13337,8546,69645,43446,28202,9970,13731,9490,12599,33411,27421,115710,31713,17323,13775,28378,59635,40715,43637,45886,51397,90996,22566,83601,54370,89323,85101,17801,67852,48189,19266,33889,55626,20727,114110,34328,49968,13581,56218,27032,25043,23763,26341,23577,18696,29446,14933,6381,15262,36469,147568,96864,24353,70313,54353,43042,47872,69491,59613,47929,52559,63858,38110,19446,41554,27399,54404,64610,46492,46517,12330,22413,32310,20806,26752,135875,61961,13449,10903,15605,11340,19848,7543,105298,33077,14548,42902,56582,158490,8376,33820,40200,50815,38994,118783,82887,29672,79300,57426,16497,13375,46285,117684,10848,77020,40689,48106,62317,15371,11298,31277,69352,246214,39446,85489,44587,26663,54282,85858,103934,279206,66590,28183,74909,112880,32079,84976,49258,42896,47226,7449,56814,36380,90367,17447,25715,31049,79180,103912,31647,73411,41095,15939,115942,84355,87526,113125,68406,69494,10991,24936,51095,21331,13898,15499,8028,39425,12362,14151,125549,9489,19767,79418,63624,31638,58521,12770,31292,13770,24919,200396,82242,28149,9455,22895,33512,49802,172134,26828,33081,18442,55473,18728,20822,7210,8575,10925,38253,32363,31053,51303,11484,14169,24406]
["TC 2026",0.49925245621529335,0.31465761177136287,0.58972198820554933,0.44263249854397113,0.30658226844448855,0.69337987311619553,1.3619445071058056,1.8978158074148155,1.3614092196056582,1.0396988271109908,0.26985056388584283,1.0891763104152519,1.142727410322375,1.1886236257132365,1.7189976305920451,0.44382345689160108,1.2232474443891528,0.64661331809088285,0.25062656641603454,0.77534371813354763,0.4325259515570945,9.5933879418486079E-2,0.44675025219771403,0.44146007109830965,0.76173988314218732,1.1834986474301257,1.2470236894144282,1.1934673366834181,1.6563398533997464,2.1871049304677648,1.3896680095874414,1.1971444261394737,1.1305411391358877,1.3237518910741208,0.54235734474066266,0.93933744442851186,1.8856065367693242,1.8799667892302141,1.0465867001936857,2.0583562039578229,1.7878911011783849,1.485395519274979,1.2182338442360496,1.2664758186066827,2.0158053960610101,1.0138849301681629,1.5656220755241979,1.3499453085398683,1.1015490533562877,1.5617726468671433,1.3179715457798835,1.0670782859635519,1.783201407211954,1.2774116884519904,2.1146254027317735,1.7062669430712774,2.2912423625254474,1.0868640342169389,1.2585097980215787,0.57427837388543956,1.1940079844705798,0.95814120606023678,0.90557652502130104,1.9071735935258793,0.71902033479385175,1.3014362127784951,1.2697516930022523,1.2585310042970921,1.1610878661087787,1.0201080114365046,1.9090485798541001,0.86074392868120686,0.96516007532956305,1.1296681876578285,0.76968840633597768,1.4913232104121432,1.4069339262141378,1.5963262628471364,1.3213484455581126,1.5568465576109691,0.40714521512672519,1.1284647730198216,1.5408805031446482,0.25804289544235637,0.58463596502094095,0.61429598958029352,1.5773436099659532,1.3425253991291797,0.28460426454643972,2.0464650628662318,1.5666992426093262,1.2112314186089268,1.5364583333333348,1.3462026924053738,1.5031461197855922,0.71343638525565023,0.56849780633998481,0.55421170274656539,0.830078125,0.75187969924812581,0.97560975609756184,1.9593015261927693,1.8026491104318421,1.7306416846294193,1.0549132947976769,1.1733970952886974,1.6248153618906969,1.4758173636678418,1.7248618710885788,0.46296296296295392,0.61338078830790455,0.80971659919029104,1.5873607680477297,1.3432041847681431,1.2771765623476705,1.3871542079668453,1.5035222374093049,1.259901666211416,1.0218393107593648,1.1426897157925664,0.63343651274849755,1.3070494964645407,1.4252432506509427,1.3778469373320057,1.6356550853504626,1.4842188162597747,1.1143695014662836,1.2801932367149771,1.0928400137033334,1.3082259663032669,1.0467848750266961,1.2235950577919485,1.115861925122541,1.9809466202933557,1.2770704312035974,1.0841121495327011,0.49773967629354043,1.1671194285139297,1.7729300198658038,1.5642091446073092,1.0719390185802702,1.1457744694947314,0.68173913043478862,0.89619925136770195,1.8245469522240487,1.4656742531801603,1.5745669940766316,1.1467353147671444,0.49680522650585868,0.56391842747318677,0.33330969434792745,1.1935807422266853,1.6604762945160667,1.4330874604847166,0.88102230335740384,1.532429439406191,1.1706356442142907,1.1710310258404633,0.67795541260682324,1.6683022571148287,1.1179673321234151,1.4800197335964382,1.4404292781085015,1.242785214294484,0.9647775969933825,1.3555332781240548,1.1810027822635627,1.4132489340190846,1.599751839049901,0.82056434731641037,0.80743056832812687,1.4106109288761104,0.89658170879307608,1.050502780742657,1.6152803159818374,1.9651787752391625,1.1263365514377677,1.3780282687597678,1.5316578578362661,1.5728277126453527,0.98413811234774329,1.2497086926124501,1.6470541146333728,1.4137397835211063,1.7698957629229017,1.076501923646056,1.2698159166234069,0.54286074990530508,1.2945598117003909,0.89493998388259222,0.87719298245614308,1.7421721116620326,1.4397642804526933,1.1283497884344129,1.9263530336784074,1.4203844360964002,2.4266778705410497,1.1366451932606436,2.024391245431767,1.3653236243653444,1.8067080013982606,1.0640769480972034,2.2267713903743269,2.2132362464204025,1.6909063459312534,2.1114565294498178,2.1861146521052532,1.1635190579097454,1.6636053529257344,1.1467654016250162,1.4824084324012166,1.6861929267491416,1.4723182118961731,2.2720941030800246,1.1227738105480611,2.2765870541952449,1.0056772100567768,1.7534466604202992,1.1915815536985397,2.3406709602999065,0.93824760765550685,1.8664213431462739,1.1749326189054443,1.5911963714774435,0.90800697055857249,2.0442165972444748,1.8430335097001871,2.5141072148327392,1.7632241813602123,1.310566202586938,0.49883604921849845,1.6772064888644467,1.6432800335648645,1.9034321869145554,1.1073253833049357,1.7311365807067824,2.1910112359550649,1.3034825870646749,1.7120928859588602,1.687439093193821,2.3319835329971506,1.6142459010459964,1.3750337018064274,1.5397225725094499,0.78013443388011972,1.0062435594350383,1.2859813084112215,1.6571243383385559,1.7232588967064366,2.1017699115044142,1.7540898467930388,2.3765636904323095,0.77121357003284707,0.77346470465522454,1.2230824279487296,1.841033811294035,2.3819420021101712,1.3712654285384707,1.7139561519653679,2.2461086041677181,1.3288259308215089,1.397268262049467,1.9652702246558906,1.4350981909288629,1.2951617787509528,1.1670868050878358,2.1382061990071755,1.8005706562546964,1.4334882730724141,1.440414369434917,1.4909638554216897,1.9296112721718162,1.986443231029944,1.693125989686961,1.5479298769115912,1.7215093380764879,0.85917572828566602,1.5330728341605981,0.79714128642112136,1.5414919162968888,1.24376683670544,1.7343962667703661,0.83738606718413156,0.70598636019196803,1.3030256370775373,0.98271558125573311,1.7449700998487971,1.5427667599464678,0.83443126921387556,1.0324127581031961,1.1582004623318154,1.3915865000114325,1.2075138121546924,1.0057597286787789,1.0720349958269759,0.31844236193248054,1.55197305101058,0.62628437224776512,1.2188833153626177,1.0649014246654209,1.0710368410865145,0.87194818136522301,0.54787571337984176,0.63905516906650472,1.0741290368171841,1.3429019745278659,0.79038887132469871,1.6896848282490939,1.5978745372585479,0.82044511505092732,1.1283899108666784,0.90907537465183541,0.33672670321065468,1.2015850696663666,0.87872185911401779,1.1637706167984208,1.2160921375676148,1.5734053160185724,1.4600873920920909,1.0893707033315714,1.3321685957632612,2.1693721651945497,1.6445122685835978,0.93531783378066891,1.1927836588638829,1.3482059188053563,1.1983515887647789,1.3105474735456868,0.80093976932935629,1.2246662184228319,1.4147018030513214,0.65306122448980375,1.0251716247139608,0.85222074085693489,0.76630720266972485,1.2108330918107812,0.29822817379101529,0.67920585161964642,0.50109393746913256,0.77439973776940452]
[2026,1242219,88628,91938,8623,75905,128085,71894,558989,59786,297376,39387,17820,66825,159961,518596,171094,158631,28173,12800,57319,8127,13564,13940,43229,23281,62839,25088,20943,50204,16166,39763,9214,30593,18753,13162,28154,45388,17179,29737,14131,5010,124073,35727,100109,66094,24808,120468,75978,11748,43635,11608,30119,46291,37501,22503,31890,26117,178203,134608,26620,27629,50577,66299,57548,17930,72156,21534,76113,19342,85858,19698,49215,64335,22828,27101,14972,29191,13938,69549,39857,27374,23569,19374,29917,40603,103514,5667,2793,22199,103968,66514,11030,7798,15960,17422,5082,16275,32840,8260,8308,3105,14831,12989,49083,125874,45698,71552,32248,152629,60543,26573,12948,217976,22861,41552,38153,9654,29657,20168,10356,63071,9456,22203,35832,18517,50256,15516,16772,59018,10222,33110,126985,48480,26976,26329,21632,85811,40220,27152,18570,12729,51907,14473,28033,24723,70751,13547,8644,69991,43691,28296,10089,13959,9626,12710,33923,27742,117065,31928,17612,13929,28798,60494,41221,44058,46508,52004,92282,22927,84287,54809,90583,85864,17988,68948,49136,19483,34356,56478,21053,115233,34757,50791,13773,57213,27323,25361,23892,26682,23788,18860,29959,15148,6453,15556,36987,151149,97965,24846,71273,55335,43500,48938,71029,60621,48941,53708,64601,38744,19669,42170,27861,55205,66078,47014,47576,12454,22806,32695,21293,27003,138411,62689,13663,11002,15924,11549,20347,7676,106678,33242,14792,43607,57659,160245,8521,34561,40724,51685,39652,121553,84225,30080,80521,57874,16663,13547,47052,119712,11076,78371,41656,48477,62799,15559,11506,32022,70303,250434,40332,86625,45210,27187,55061,86970,105147,285176,67789,28587,75988,114563,32698,86664,50092,43560,48039,7513,57685,36670,91760,17664,26161,31309,79739,105266,31958,74692,41729,16072,117139,85332,88744,114491,69094,70239,11026,25323,51415,21591,14046,15665,8098,39641,12441,14303,127235,9564,20101,80687,64146,31995,59053,12813,31668,13891,25209,202833,83536,28560,9558,23200,34239,50621,173744,27148,33527,18663,56200,18878,21077,7312,8631,11037,38579,32611,31429,51456,11562,14240,24595]
["TC 2027",0.44146805031963776,0.28207789863248234,0.55798472883898942,0.41748811318567114,0.27797905276332191,0.66127961900299681,1.3199988872506729,1.8655107703371643,1.3314153815274565,1.0081512966749084,0.23865742503872411,1.0718294051627275,1.1103628881406591,1.1565319046517697,1.7007458599757719,0.41205419243222074,1.1712716934268785,0.62826110105420607,0.24218750000000178,0.76065528009909844,0.43066322136089408,8.8469478030073212E-2,0.44476327116211856,0.42795345716994948,0.70443709462650883,1.1457852607457131,1.2157206632652962,1.1507424915246034,1.615409130746559,2.1526660893232741,1.3479868219198776,1.1612763186455322,1.0950217369986692,1.2531328320801949,0.50144354961252358,0.90573275555871913,1.8022384771305244,1.8161709063391429,1.0088442008272525,2.0168424032269483,1.7564870259481058,1.4386691705689403,1.1671844823242905,1.2146760031565673,1.9638696402094036,0.96742986133504516,1.5124348374672136,1.2977440838137344,1.0980592441266701,1.5010885756846504,1.274982770503108,1.0093296590192313,1.734678447214355,1.2399669342150865,2.0663911478469466,1.6306052053935316,2.2437492820768012,1.0516096810940345,1.2146380601450124,0.51840721262208511,1.1654421079300814,0.91345868675485331,0.90348270712981016,1.864530478904558,0.73619631901840066,1.2583846111203556,1.2306120553543298,1.2139844704583957,1.116740771378355,0.97719490321228619,1.8580566554980305,0.82495174235497348,0.92950959819693146,1.0601016295777033,0.75273975130067949,1.456051295752081,1.3702853619266264,1.564069450423311,1.2868624998202627,1.5179265875504999,0.36896324979907025,1.0946582375153779,1.5071745638484568,0.22061035531637518,0.54675762874665246,0.56997121162354336,1.5175577907181825,1.2889366272824887,0.23874949322042482,2.0025392428439481,1.5229876416994914,1.1786038077969074,1.4875609130546197,1.3157894736842035,1.4521868901389068,0.68870523415978102,0.52227342549924227,0.51157125456759989,0.77481840193704965,0.75830524795377219,0.96618357487923134,1.9149079630503607,1.7630302563707678,1.6849010859157021,1.0176843510176781,1.1357170992166044,1.5597048300536764,1.4419498883651682,1.6864422881627927,0.42614340220998859,0.57577240055695089,0.82638245288848555,1.5405365728337062,1.2860329819343042,1.2273777435502398,1.3445862710665057,1.4501760928112617,1.2172505647907839,0.98671162237207177,1.1104673619158012,0.63579140968115233,1.2373096446700593,1.3826960320677317,1.3367939272159068,1.5877301938759025,1.3988379496975512,1.0956432070121203,1.2282375387550726,1.0776373309837606,1.271766777538641,1.0147991543340451,1.1891168248218342,1.0849834983498452,1.9461743772241968,1.2267841543545099,1.0771079881656709,0.50110125741456013,1.1312779711586174,1.7309958750736598,1.5185783521809437,1.0370021211407066,1.1019708324503386,0.64948524839356647,0.84899939357185872,1.7797192897302194,1.4247148450198477,1.5353952904702206,1.0643220731143099,0.49292051835236883,0.5424458126387588,0.29332767882386257,1.1101199325998623,1.6190271509420429,1.3505090380220297,0.84185680566482013,1.4916133596674763,1.1282531901088522,1.127578695596454,0.63580556251565667,1.6238928003633912,1.0697106755689578,1.4410722966872624,1.3951796872416988,1.2008442298828248,0.94420990512507075,1.3116023049797976,1.1826013383585909,1.3729654753906528,1.535307715793599,0.78303890279640687,0.76994654162636511,1.3755340406036431,0.88861455324700245,1.050700466977994,1.5765504438127298,1.9273038098339246,1.0881281116871033,1.338921876819188,1.4979283968979074,1.5342231510948601,0.94764520580041811,1.2112667951779565,1.5711444941032937,1.3867712190517745,1.7303759635048044,1.0613768619843977,1.238121525176461,0.50226017076846485,1.263023761337223,0.89120564990752271,0.8430540827147448,1.6722854567909451,1.4061262212833325,1.0537734387106701,1.8963743893031682,1.3788628437018335,2.3480142111426572,1.1534731791966513,1.980198019801982,1.316066392603088,1.7565735971807994,1.0183908045976908,2.1557889574563838,2.1385631221050527,1.6413454083568313,2.0412333217547651,2.1151411335369019,1.1160817943994594,1.6441255420194034,1.0981747928211938,1.4299264880246687,1.6689996769678084,1.4201612172810352,2.2276703290051048,1.0698940741055818,2.2006894232386109,0.96354584872331284,1.7013066736823568,1.1500229392873429,2.2589583431174454,0.88508684220272027,1.8054923380367072,1.1277895643573732,1.5369977310985883,0.85439011088892514,1.9907058528008115,1.7837042168153072,2.4622794515162028,1.6935904116727407,1.2654905416299433,0.45424463028698181,1.6292590589507938,1.5983672346183031,1.8314573613833041,1.0621236232019715,1.6664710714704878,2.1469286189635728,1.259699440133577,1.6697300957724703,1.6417835165943639,2.2697917780721166,1.5684179281685973,1.3297872340425565,1.4952621055376758,0.73780972457406779,0.96021124647422962,1.284417214143363,1.6088582844512533,1.6790296712108965,2.0223907547851194,1.7059881844049496,2.3285961206068739,0.72405470635559244,0.72453383015653738,1.1761681341988517,1.8077524769685382,2.3296483667478718,1.3242678121843987,1.6595190748859956,2.1893285728453726,1.2721500721500689,1.3426233134262278,1.879574796777872,1.380287317702189,1.2418075198344258,1.1193852416141237,2.0825735686032409,1.7451208898198844,1.3992374156085008,1.3870611149128909,1.4507301659349103,1.8747323995351506,1.9096741438198173,1.6309989619100795,1.4898989898989967,1.6611503153687535,0.87847730600292273,1.5047239316980043,0.77174802290700395,1.5137314734088969,1.2115036231884035,1.7086502809525728,0.83682008368199945,0.67971757860019189,1.2767655273307588,0.9543776206270671,1.6842499866116745,1.5145342567518982,0.83997013439522927,1.0005207488539281,1.122673791777995,1.3589651131344027,1.1747648286764889,0.97114076475526279,1.0478509090391386,0.35370941411210222,1.5282549460964301,0.59904697072838964,1.1949423370849033,1.0180834401253058,1.0469198850941552,0.86441096567053677,0.52470926565928444,0.61088336950405608,1.0417394952108028,1.3101740873187495,0.76327896277708085,1.6417093676931449,1.5640685612304361,0.79038443550649706,1.0907954367870065,0.87887152219192632,0.30437836572232424,1.1620563344701296,0.86386869195882454,1.1265817763497221,1.1635187568098004,1.5214997126987262,1.404061624649855,1.046243984097095,1.2715517241379315,2.1145477379596267,1.5942000355583685,0.90017497007091052,1.149255930455273,1.3213231127151337,1.1573701977174,1.2491103202846965,0.76808984002543212,1.1956160743938904,1.3949671772428784,0.60247943459621478,0.99664763975717552,0.81650638948651544,0.74208089295022539,1.1772566737726198,0.26236007462685507,0.64002767687252327,0.48455056179774747,0.74811953649116525]
[2027,1247703,88878,92451,8659,76116,128932,72843,569417,60582,300374,39481,18011,67567,161811,527416,171799,160489,28350,12831,57755,8162,13576,14002,43414,23445,63559,25393,21184,51015,16514,40299,9321,30928,18988,13228,28409,46206,17491,30037,14416,5098,125858,36144,101325,67392,25048,122290,76964,11877,44290,11756,30423,47094,37966,22968,32410,26703,180077,136243,26758,27951,51039,66898,58621,18062,73064,21799,77037,19558,86697,20064,49621,64933,23070,27305,15190,29591,14156,70444,40462,27475,23827,19666,29983,40825,104104,5753,2829,22252,106050,67527,11160,7914,16170,17675,5117,16360,33008,8324,8371,3135,15115,13218,49910,127155,46217,72668,32713,155203,60801,26726,13055,221334,23155,42062,38666,9794,30018,20367,10471,63472,9573,22510,36311,18811,50959,15686,16978,59654,10352,33446,128495,49006,27501,26652,21865,86241,40675,27622,18852,12861,52479,14567,28271,25163,71759,13755,8736,70336,43928,28379,10201,14185,9756,12817,34429,28055,118385,32131,17898,14078,29213,61338,41716,44474,47118,52619,93549,23279,84947,55231,91829,86627,18177,70035,50083,19695,34816,57324,21376,116325,35178,51589,13964,58203,27613,25675,24012,27019,24000,19019,30460,15361,6521,15851,37497,154698,99095,25338,72211,56307,43943,49993,72548,61616,49940,54844,65322,39381,19885,42773,28326,55989,67550,47517,48623,12574,23194,33071,21774,27242,140910,63396,13873,11096,16241,11755,20848,7806,108028,33393,15033,44304,58715,161947,8663,35303,41237,52548,40303,124312,85546,30480,81725,58301,16823,13721,47809,121722,11300,79708,42626,48828,63254,15742,11714,32768,71234,254590,41215,87727,45817,27698,55821,88050,106324,291115,68972,28987,77042,116225,33311,88319,50909,44209,48837,7579,58553,36953,93149,17878,26608,31571,80281,106610,32263,75950,42361,16207,118311,86290,89950,115836,69765,70975,11065,25710,51723,21849,14189,15829,8168,39849,12517,14452,128902,9637,20431,81949,64653,32344,59572,12852,32036,14011,25493,205193,84807,28961,9658,23495,34963,51428,175308,27460,33970,18879,56902,19023,21329,7414,8683,11147,38894,32853,31799,51591,11636,14309,24779]
["TC 2028",0.38470693746828211,0.25315601161142176,0.52892883797903689,0.38110636332140402,0.24567764990277574,0.63289175689511534,1.282209683840585,1.8346835447484056,1.3056683503350763,0.97877978786446995,0.2102277044654377,1.0493587252234704,1.0789290630041304,1.1278590454295356,1.6846284526825128,0.3824236462377506,1.125310768962362,0.59259259259258901,0.23380874444705046,0.73067266903299455,0.40431266846361336,9.5757218621095319E-2,0.39994286530495859,0.40309577555626142,0.63979526551503074,1.1139256438899237,1.1774898594100636,1.1234894259818828,1.5799274723120593,2.1133583626014252,1.3176505620486889,1.1157601115760141,1.0540610450077592,1.2060248578049215,0.46870275173873654,0.86944278221690041,1.7292126563649646,1.7666228346006507,0.97213436761327543,1.9908435072142128,1.7065515888583738,1.3944286418026586,1.120517928286846,1.1665433012583382,1.9171415004748393,0.9142446502714785,1.4661869327009525,1.2499350345616111,1.0861328618337884,1.4427636035222458,1.2249064307587654,0.96966111165894819,1.6838663099333351,1.2116103882421125,2.0114942528735691,1.5705029311940732,2.1907650825749858,1.0167872632262931,1.1721703133372063,0.45220121085283171,1.1377052699366841,0.87188228609493823,0.89838261233519123,1.8201668344108857,0.74742553427085134,1.2153728238256889,1.1835405293820767,1.1708659475317074,1.0788424174250855,0.93428838368110334,1.8241626794258448,0.78998810987283008,0.89630850261037676,0.99696575639358631,0.73246658121224328,1.4154048716260803,1.3382447365753114,1.5187906188188771,1.2520583726080226,1.4828728189412388,0.33848953594175502,1.0534267847400081,1.4695413403844171,0.19010772771237416,0.51194121249233948,0.52831783601015037,1.4774900052146656,1.2725344644750836,0.20222901312241248,1.9622819424799598,1.4838509040828063,1.1290322580645107,1.4657568865301895,1.267779839208405,1.4144271570014189,0.6253664256400171,0.48899755501221609,0.46958313136209462,0.75684766938972636,0.75259825588340767,0.8612440191387627,1.8855441614290536,1.7173551218035987,1.6469645361651075,0.97911997168809162,1.0991626457796944,1.4930918698739415,1.4000550239965825,1.6475197000058062,0.38650680087497502,0.53880116740252504,0.82726924549980652,1.4968328408649478,1.2308356726409064,1.1839665256050624,1.300884498008581,1.3988156013886144,1.172629755480048,0.96725094515637267,1.0505204851494643,0.63807663221577826,1.1908492635537504,1.3371834740115496,1.2971275921896952,1.5416511615544026,1.3245942816774159,1.0710187428280005,1.1897750029449927,1.0611191202601677,1.2074961360123648,0.98666507205644738,1.1556869917117352,1.0529322940048047,1.9162939529471679,1.1894041722947613,1.0564829636405149,0.50324091789288872,1.0915795943454265,1.6870610383028062,1.485253553999577,0.98748153331777999,1.0651879799538966,0.59724033774970486,0.81001733224859152,1.7446250447084921,1.3851921013392055,1.4976372228280521,0.97298534798535563,0.48908098271156497,0.52130759424513506,0.25723246062228089,1.0293108518772742,1.5791328868523191,1.2710127101271063,0.79581805414683515,1.4551686078596582,1.0907146676171875,1.0845968661570282,0.59132924589959668,1.5811822550005683,1.0228725671260097,1.3966384828672185,1.3515276011607735,1.1602262920701989,0.92188694518144931,1.2670317076276527,1.1763811550960623,1.3383360591775473,1.4648395549637039,0.74752492730760789,0.73509442161105998,1.3394461444641736,0.8796333706581061,1.0397755405182396,1.5435139573070522,1.8888644849549774,1.0561056105610644,1.3011259191176405,1.461865885144098,1.5016841317365248,0.9103803997420945,1.1797145943487353,1.5041966310647581,1.3391578344313926,1.6957888768620144,1.0574729294173135,1.1996105160662074,0.46643344994170555,1.2213627447351882,0.8999999999999897,0.80445869919554269,1.6053841103085942,1.3540785105136344,1.0427848489495517,1.8547725695539752,1.3387737685681467,2.2715225794774252,1.1665573439628707,1.9299076485910449,1.2685047984379194,1.7084909513914726,0.97171335593837505,2.0822915208129178,2.0675966256822997,1.5937418852246088,1.9743692430917115,2.0458026402158769,1.067021830317505,1.6200705924176662,1.0460145838571799,1.3863886096369127,1.6345407046529647,1.375270142349394,2.1746854182087327,1.0248963528842303,2.1265656170947889,0.90663273421345281,1.655600586358541,1.0946146170360826,2.1860935060163511,0.83694295573011335,1.7472145340997836,1.0789324247586496,1.4921069703741185,0.80209084354723181,1.9333784865463999,1.7354317311782275,2.4127014581734496,1.6653856008198797,1.2209797459917793,0.41026562453208015,1.5964877270006061,1.5529071867099953,1.7610491356552904,1.0176168746565128,1.6391550271268596,2.1018043792312202,1.2125033343841629,1.6251807870899082,1.5978959382676239,2.2113713881202202,1.5243260935636993,1.286089238845145,1.4512083205873383,0.69295552391896997,0.90946917910004199,1.2899934407113234,1.5645589742517174,1.6348729071162138,1.9469026548672552,1.654789983439553,2.277952423403562,0.67174571966903684,0.67347519524456612,1.1434379367297742,1.7500426839679006,2.276611328125,1.2746722070921201,1.6065045759849239,2.1375712725949292,1.2219727107959821,1.2899142239779948,1.8015741208751601,1.3274574085021751,1.1890971039182352,1.0750159888642363,2.0284080174501451,1.6934408165632409,1.3661296443233217,1.3330391215181425,1.4093353409335263,1.825222899342549,1.8365244171695716,1.5694670883340756,1.4386210952521017,1.605340213362827,0.87082728592162706,1.4772940754530062,0.74148242361919969,1.4857915812300782,1.1802215012864936,1.6837041491280846,0.84254537391910134,0.64897049114984728,1.2465997561204478,0.92675820599448233,1.6273864384463543,1.482495691791974,0.84531375331646785,0.96187167718977395,1.0858732182176478,1.3207337409671949,1.1360889533478469,0.93456604314483549,1.0200774920746669,0.35246272028919279,1.4974718008556875,0.57614600854551945,1.1625246006682133,0.97258439636338512,1.0171204750773821,0.84476003917728359,0.49436623252778755,0.59119597347607744,1.0240797121505718,1.2792664194504422,0.72636712669917891,1.6054035534237121,1.5338808283200445,0.75634541320588333,1.063566658421955,0.8477136909957661,0.28011204481792618,1.1331002622050113,0.82792091927770262,1.0983407209822271,1.1189465527576381,1.4762932305116383,1.3604502606954227,0.99399461586249238,1.2385613960417041,2.0679003518004668,1.5477949754997278,0.86761585324115487,1.12163146394757,1.2805416544009462,1.1335346151808867,1.1897648588801824,0.75172160016820921,1.1580477284448332,1.3622875640679766,0.58735460094436753,0.95989952453574556,0.78675374093690742,0.71530758226037161,1.1478348375735026,0.22872206392587913,0.61876933654176902,0.44727094835417258,0.7304572420194555]
[2028,1252503,89103,92940,8692,76303,129748,73777,579864,61373,303314,39564,18200,68296,163636,536301,172456,162295,28518,12861,58177,8195,13589,14058,43589,23595,64267,25692,21422,51821,16863,40830,9425,31254,19217,13290,28656,47005,17800,30329,14703,5185,127613,36549,102507,68684,25277,124083,77926,12006,44929,11900,30718,47887,38426,23430,32919,27288,181908,137840,26879,28269,51484,67499,59688,18197,73952,22057,77939,19769,87507,20430,50013,65515,23300,27505,15405,29987,14371,71326,41062,27568,24078,19955,30040,41034,104654,5838,2865,22297,108131,68529,11286,8030,16375,17925,5149,16440,33163,8387,8434,3162,15400,13445,50732,128400,46725,73753,33171,157760,61036,26870,13163,224647,23440,42560,39169,9931,30370,20564,10581,63877,9687,22811,36782,19101,51634,15854,17180,60287,10477,33776,129980,49522,28028,26969,22096,86675,41119,28088,19132,12988,53038,14654,28500,25602,72753,13961,8821,70680,44157,28452,10306,14409,9880,12919,34930,28361,119669,32321,18181,14222,29621,62167,42200,44884,47715,53238,94801,23620,85582,55637,93059,87389,18366,71116,51029,19903,35269,58162,21697,117384,35593,52365,14151,59190,27905,25983,24124,27349,24216,19172,30949,15569,6589,16145,37999,158212,100251,25827,73127,57269,44370,51034,74048,62598,50926,55966,66019,40019,20093,43366,28789,56759,69019,48004,49657,12688,23578,33433,22250,27470,143372,64080,14080,11185,16555,11959,21351,7936,109347,33530,15273,44992,59749,163595,8805,36045,41737,53402,40947,127061,86850,30872,82911,58705,16976,13898,48557,123712,11520,81027,43597,49156,63680,15922,11919,33514,72142,258680,42096,88799,46408,28197,56562,89097,107467,297020,70140,29383,78069,117863,33919,89941,51708,44845,49621,7645,59418,37227,94533,18089,27056,31837,80802,107939,32562,77186,42989,16344,119449,87227,91138,117152,70417,71699,11104,26095,52021,22103,14327,15990,8237,40046,12591,14600,130551,9707,20759,83206,65142,32688,60077,12888,32399,14127,25773,207489,86059,29355,9754,23786,35686,52224,176829,27768,34405,19093,57579,19166,21576,7515,8734,11254,39200,33088,32164,51709,11708,14373,24960]
["TC 2029",0.32662596416934697,0.22333703691232998,0.49817086292232027,0.356649792913033,0.21755370037874755,0.60193606067144856,1.2442902259511834,1.8036987983389263,1.2774347025565014,0.94918137639541378,0.17692852087756172,1.0329670329670249,1.048377650228427,1.0975579945733172,1.6682795668850225,0.35313355290624848,1.0832126682892351,0.56806227645698204,0.22548790918279771,0.71334032349554821,0.37827943868211644,8.8306718669506346E-2,0.39834969412433363,0.38083002592397275,0.59334604789149648,1.0814259262140746,1.1443250817374961,1.0783306880776777,1.5457054090040723,2.0814801636719338,1.278471711976481,1.0822281167108816,1.0270685352274933,1.1448196908986796,0.43641835966892195,0.83403126744834299,1.6572705031379531,1.7078651685393353,0.93969468165782111,1.9519825885873532,1.6779170684667388,1.35252678018698,1.0697967112643259,1.121874603685602,1.8694310174130813,0.87035645052815358,1.4200172465204774,1.2049893488694341,1.0661335998667365,1.3955351777248604,1.1764705882352899,0.91477309720684463,1.6413640445214872,1.1814916983292623,1.9675629534784411,1.5067286369573774,2.1437994722955045,0.98291444026650243,1.1302959953569447,0.39435990922280784,1.1036824790406463,0.82938388625592996,0.88890205780827181,1.7809274896126492,0.75836676375227174,1.175086542622239,1.1334270299678151,1.1303711877237221,1.036977085335633,0.89250002856913202,1.7767988252569644,0.75780297122747253,0.86087155613219224,0.93991416309013864,0.71259770950735657,1.382667964946438,1.3005635775502622,1.4960684712267858,1.2155455233715529,1.451463640348738,0.30107370864771443,1.0216795414901503,1.4382360310699172,0.15312916111851482,0.48008968172734701,0.48636459189328463,1.4559780746831175,1.221640488656206,0.15697178992688521,1.922667875077444,1.4431846371609103,1.0898458266879407,1.4445828144458384,1.2274809160305322,1.3779637377963727,0.60205865216547139,0.44403892944038237,0.43120344962759294,0.69154644092046524,0.75883329381076781,0.88551549652118311,1.8311688311688279,1.6809222759390119,1.6084522589292716,0.943146417445484,1.0615302300695628,1.4331620408661427,1.3626360375026403,1.6100405679513097,0.35061275312930906,0.50614067733532053,0.82807870546228735,1.4529461777811337,1.1689419795221756,1.1442669172932352,1.2535423421583314,1.3593797200684765,1.1326967402041532,0.9336704921221628,1.0206974766090227,0.63403102838266445,1.1458655930628669,1.2932357196089539,1.256049154477723,1.4973038060834609,1.2530503156834571,1.0596694840418808,1.1408614668218853,1.0383664803357284,1.1549107568960659,0.95926101373755568,1.1178642868133526,1.0258067121683201,1.8838304552590168,1.138344024620852,1.040912382331638,0.50187481972887582,1.0506092074223705,1.6519510111079549,1.4478360861384099,0.95472744071449789,1.0275651419736853,0.56639825303670399,0.77192982456140147,1.7029919537536076,1.3470234904402467,1.4612133801303662,0.91826323546082556,0.48245614035087314,0.50501619222320659,0.2179108674258412,0.96060547254026574,1.5407037268373891,1.1842105263157876,0.77405371932812717,1.4142570855997683,1.0542646592151206,1.0437122395942078,0.55381949815909159,1.5345690556074931,0.9843903810996979,1.3571452685594787,1.3109849276947472,1.1161137440758306,0.89787006505659406,1.2281253274651682,1.1664600473346054,1.3016740329743426,1.4098221845893377,0.71159823327335836,0.70097237449897598,1.3034741400616889,0.87196329057432909,1.0290754655341461,1.5059902131728364,1.8558074820200332,1.0199467416972308,1.2674019677336945,1.4253292527767192,1.465640411116742,0.87575819532474952,1.1434832691821439,1.4398930583404912,1.3002614656208111,1.6607535056597289,1.0392402795198041,1.1661470961782605,0.43110595257833673,1.188343266664238,0.89610175090848454,0.76674316711871082,1.544476396652561,1.3231421414348965,0.9713158294126556,1.8271910808299818,1.3052975078291507,2.1995803099638556,1.1760481192207628,1.8817516552445124,1.2252656337604417,1.6640765510136379,0.92404778003154497,2.0202218129090399,2.0014044943820197,1.5495702738106631,1.9086517692337823,1.9815602329986026,1.0224329359729722,1.591743921637212,1.0103020952570541,1.3374533044320458,1.6082531522456422,1.3284236861114573,2.1341949318303577,0.97700191650695878,2.0540910647038668,0.87484237074400006,1.6116718975315969,1.0558430293422738,2.1078651685393357,0.79359301055696996,1.6941941243757475,1.0330836454431891,1.4559659090909172,0.75994635672775868,1.8846270009060806,1.67238063383226,2.3699124162802621,1.6003024193548487,1.1806451022890352,0.36683566954964775,1.5452105021934059,1.5136024182076824,1.7021205375822079,0.97680246951312721,1.5900056785917105,2.0613122485781732,1.1740182571818858,1.5842103292011522,1.5556695240188434,2.1540834717183044,1.4841681059297729,1.2470847369784988,1.4087394917441598,0.65241461545013646,0.87181903864279597,1.2879551014534529,1.5260415594044119,1.5932165028453182,1.8750000000000044,1.6105742530267753,2.2318049407069385,0.62657661323135549,0.62971105527638294,1.1053887702549892,1.7031630170316392,2.2348869129318993,1.2295195586482288,1.5571362300912384,2.088084378563293,1.1711843601842409,1.241165316324766,1.7306805688548366,1.2782433435875706,1.1392078296687869,1.0319446899978546,1.9783179583866328,1.6438551468491491,1.3307014259946293,1.2847609166250384,1.3676896057286836,1.7748164745422956,1.7656018945753305,1.5142724530053275,1.3892295685137723,1.5517623586787765,0.87638979725310762,1.4490558416641486,0.71453514921964167,1.4566341912348069,1.1609265299353133,1.6484328799526882,0.84806985582812633,0.62250934382812595,1.2201335939743707,0.89982187826300741,1.5715285155339043,1.4585126427690831,0.83822809593734338,0.92926688377465982,1.052426427596953,1.2859619478154061,1.1028407538923757,0.90035076757033483,0.99861922760429156,0.36923631123919609,1.4792105767388319,0.55170027488897766,1.144640998959412,0.93529699169401237,0.9943714821763594,0.8255432803204954,0.47445437746591601,0.5638948455245707,1.0000000000000009,1.2493201890448891,0.70052539404552583,1.5607688231610295,1.5034973439415511,0.72764115317307532,1.0340186000978857,0.81728448491102945,0.24053382991930938,1.1049723756906049,0.79280809796842266,1.0708881387498481,1.0733099104048849,1.4292520247737084,1.3149378300119308,0.96370719704736985,1.1855713444883564,2.0232023762820184,1.5031403186274606,0.83866334142024268,1.0947853644482919,1.2556314489173159,1.105117058607874,1.1358307716354821,0.73046018991964612,1.1308861698183126,1.357285429141708,0.54957636821617584,0.92411586991292261,0.75765306122448361,0.70418278529980061,1.1130456410894274,0.2011255294049441,0.58934062179705204,0.43832185347527641,0.70512820512820262]
[2029,1256594,89302,93403,8723,76469,130529,74695,590323,62157,306193,39634,18388,69012,165432,545248,173065,164053,28680,12890,58592,8226,13601,14114,43755,23735,64962,25986,21653,52622,17214,41352,9527,31575,19437,13348,28895,47784,18104,30614,14990,5272,129339,36940,103657,69968,25497,125845,78865,12134,45556,12040,30999,48673,38880,23891,33415,27873,183696,139398,26985,28581,51911,68099,60751,18335,74821,22307,78820,19974,88288,20793,50392,66079,23519,27701,15618,30377,14586,72193,41658,27651,24324,20242,30086,41231,105163,5923,2900,22332,110210,69518,11409,8146,16576,18172,5180,16513,33306,8445,8498,3190,15682,13671,51548,129611,47221,74810,33623,160300,61250,27006,13272,227911,23714,43047,39660,10066,30714,20756,10689,64282,9798,23106,37244,19387,52281,16022,17376,60913,10598,34100,131433,50030,28556,27276,22326,87110,41551,28552,19409,13112,53583,14737,28720,26038,73733,14165,8902,71021,44380,28514,10405,14631,9997,13019,35424,28660,120918,32500,18460,14362,30023,62982,42671,45287,48301,53859,96035,23953,86191,56027,94272,88151,18555,72187,51976,20106,35716,58991,22015,118412,36000,53119,14335,60173,28195,26286,24228,27674,24433,19319,31427,15775,6653,16440,38495,161692,101430,26313,74023,58222,44780,52065,75530,63568,51898,57075,66694,40656,20296,43946,29252,57513,70492,48473,50677,12799,23958,33786,22719,27688,145801,64742,14285,11270,16867,12159,21857,8063,110638,33653,15509,45673,60766,165193,8945,36788,42227,54248,41584,129798,88139,31257,84079,59088,17124,14077,49298,125683,11736,82332,44570,49464,64081,16098,12122,34263,73029,262708,42975,89839,46984,28685,57285,90112,108576,302896,71293,29774,79072,119475,34521,91529,52491,45468,50391,7712,60279,37493,95910,18299,27502,32107,81305,109256,32855,78399,43616,16481,120559,88145,92310,118444,71051,72415,11145,26481,52308,22356,14461,16149,8305,40236,12662,14746,132182,9775,21083,84457,65616,33026,60568,12919,32757,14239,26049,209716,87289,29741,9848,24068,36408,53009,178312,28072,34837,19304,58233,19306,21820,7617,8782,11358,39497,33321,32522,51813,11777,14436,25136]
["TC 2030",0.27049309482616302,0.1970840518689343,0.47107694613663931,0.33245443081508785,0.19092704233087954,0.57535107140942454,1.2102550371510867,1.7752992853065086,1.2548868188619222,0.92196751721953518,0.15390826058434559,1.0060909288666542,1.021561467570864,1.0705304898689594,1.6552101062268898,0.325889116805822,1.0472225439339677,0.54393305439330852,0.21722265321955092,0.69634079737848076,0.36469730123998012,9.5581207264161527E-2,0.37551367436587935,0.36567249457204465,0.54771434590268342,1.0452264400726552,1.1082890787347033,1.0483535768715635,1.5107749610429044,2.0448472173812071,1.2454053008318811,1.049648367796796,0.98812351543942079,1.1009929515871875,0.38957147138147796,0.80290707734902433,1.5863050393437161,1.6570923552805983,0.90154831123014922,1.914609739826556,1.6502276176024289,1.3097364290739932,1.0314022739577711,1.0766277241286204,1.8236908300937493,0.82754833902027869,1.3747069808097256,1.1602104862740159,1.0548870941156974,1.343401527789978,1.1378737541528183,0.8774476596019154,1.5943130688472085,1.1496913580246959,1.9212255661127609,1.4454586263654035,2.1023929968069455,0.95157216270360667,1.0925551299157732,0.33722438391698972,1.0706413351527333,0.79173970834698348,0.88107020661096769,1.7382429918848974,0.76356694845922668,1.1360446933347479,1.0938270498049851,1.092362344582587,0.99629518373887116,0.85515585357014423,1.7457798297503935,0.72233687886966713,0.82628369073380892,0.88439134316935508,0.68589581603553107,1.3510052503521663,1.2674062613161174,1.460304401480883,1.1815549984070417,1.4114935906668569,0.26762142417995349,0.99079098832428603,1.4030234166584332,0.11965698331450891,0.4438407993985205,0.4469252493747744,1.4013169002194736,1.172413793103444,0.12538061973850212,1.8827692586879552,1.406829885784977,1.0518012095714013,1.3994598575988171,1.1884652509652538,1.3372220999339657,0.5791505791505891,0.40574093138738831,0.39332252447006333,0.66311426879810398,0.7531183807954811,0.84639498432601545,1.7982400204055615,1.6458196181698526,1.5674710949018289,0.90810193579249354,1.0270854069164059,1.3754845608875854,1.3294471046604972,1.57392389270119,0.31346938775509425,0.46656298600311619,0.83634719710670158,1.4110771309853387,1.1301340980011787,1.0987989871535708,1.2153303076147148,1.3212795549374157,1.0874519762974488,0.91058007323183698,0.98231827111985304,0.63314769297782014,1.102265768524191,1.2550852592400297,1.2136183009343826,1.459741063599318,1.1916374973699906,1.0298339782798704,1.0992173112338799,1.0145617520069594,1.1228533685601061,0.92961876832844403,1.0826809096649903,0.99340395762541611,1.8595041322314154,1.1035342425575578,1.0122726865537945,0.49822064056939119,1.0204327212341546,1.6181003082095913,1.4117162141274564,0.91519219035998134,0.99285221058917905,0.53606568501052276,0.73467966573816934,1.6667946846915971,1.3142012396077707,1.4189904694669853,0.85374073241968329,0.47732360851016065,0.48219918882379531,0.18587360594795044,0.89380105718404046,1.5104914223224686,1.1303391017305264,0.72970274214609887,1.3804200542005374,1.0153524075366294,1.0097752195702858,0.51692307692308148,1.5059588299024984,0.93998050410806222,1.3256503347433668,1.2765552062494079,1.0850460500105408,0.87663126283481496,1.192521893956644,1.1585807385952274,1.2682876034779023,1.3609986223020121,0.67872515691893565,0.66753529548253532,1.2707909029192166,0.8655602318748512,1.0239827539746615,1.473949603114133,1.8219947668154601,0.98478066248881557,1.237540598051301,1.393432896543545,1.4308426073131875,0.84366449346349182,1.1083333333333334,1.3874508179747336,1.2696198116498136,1.6269755538198094,1.0320978896967592,1.1336833295290338,0.40036321611358616,1.1563200115632055,0.88814308517168872,0.74538019566230407,1.4828014127979072,1.2805071315372452,0.97700285585449187,1.7883211678832112,1.2702948434861749,2.128738589416912,1.183081928423535,1.8393949758674477,1.1793631709063446,1.6213802342756933,0.87985707905315902,1.9552482473830679,1.9369786839666281,1.5039013340045315,1.8478554086862609,1.9202803328953078,0.97909856958646735,1.5643447461629378,0.95585337012218385,1.2947708551404036,1.5759606180773877,1.2866656234242768,2.086761618339672,0.93660388257379434,1.9870947372575332,0.81256348152198843,1.56941313966108,1.006333984490615,2.0423434130023344,0.75122796879514286,1.644021645942062,0.99008371690709751,1.4000700035001756,0.7187222715173025,1.8260508685599142,1.6284233900814238,2.3287733906757646,1.5750961180702072,1.1397530685659518,0.32686536118622378,1.5088013411567402,1.4735182711886674,1.6423657966626148,0.93526965428316622,1.5539407490217982,2.0196803305425615,1.131977171004328,1.5429140244801687,1.5150057714505616,2.0994160156550867,1.4431749849669329,1.1997312601977228,1.3701399873928155,0.60926076360683368,0.83508526045317222,1.278681537259363,1.4848472554667591,1.5523181337173675,1.8149284253578646,1.5643978040130291,2.1830827911150985,0.58021995794921288,0.58363633526319347,1.0622437569884458,1.6663916845405025,2.1860315792545881,1.1830916485231935,1.5100415670630474,2.0407213496218768,1.1253464530994295,1.1918951132300348,1.65940386961827,1.2306886619533941,1.0930841619318121,0.99193191865605268,1.9300353916855917,1.5962296438640555,1.2930744945254258,1.2381121003642193,1.3274743670223854,1.7235885403088069,1.7011001977515372,1.4592977843820742,1.3416028855458784,1.5022523863388315,0.86877593360996652,1.4233812770616527,0.68279412156935226,1.4305077676988853,1.1312093557025005,1.6253363391753428,0.84405269878842226,0.59405940594059459,1.1935271289448712,0.87049155379699261,1.5204275564739245,1.4306676449009625,0.84946301802075741,0.89582693950680525,1.0187758806512015,1.2523020257826811,1.0688595454392047,0.86698287145852149,0.9707933439204508,0.38582323912068617,1.450096295457115,0.52382044811500883,1.1182680264805844,0.89205449139062587,0.9660040869403641,0.79470198675497539,0.44736057262153572,0.53703996209129023,0.96975450969754018,1.2180175818190087,0.67519181585677934,1.5225537162642855,1.4705708230223768,0.6980004876859347,0.99921274147640737,0.78754457799499189,0.21673504141186406,1.0745794791952923,0.76550319544912426,1.036508119313595,1.0290106620381767,1.3873454845398703,1.2709727312464336,0.90373679935011886,1.1509057669935263,1.9775873434410007,1.4582429398781294,0.80589079815156506,1.0615559988600642,1.2199672761718849,1.0826771653543288,1.080143561211,0.69926447736454733,1.0953253895508608,1.3259813574898249,0.52379867911638289,0.89804543053353392,0.72410562827556202,0.67524984244169417,1.0854191009163072,0.16791152799491282,0.55192324021398065,0.40870047104462071,0.68427753023552196]
[2030,1259993,89478,93843,8752,76615,131280,75599,600803,62937,309016,39695,18573,69717,167203,554273,173629,165771,28836,12918,59000,8256,13614,14167,43915,23865,65641,26274,21880,53417,17566,41867,9627,31887,19651,13400,29127,48542,18404,30890,15277,5359,131033,37321,104773,71244,25708,127575,79780,12262,46168,12177,31271,49449,39327,24350,33898,28459,185444,140921,27076,28887,52322,68699,61807,18475,75671,22551,79681,20173,89043,21156,50756,66625,23727,27891,15829,30762,14799,73046,42246,27725,24565,20526,30122,41414,105633,6006,2934,22360,112285,70496,11529,8260,16773,18415,5210,16580,33437,8501,8562,3217,15964,13896,52356,130788,47706,75839,34070,162823,61442,27132,13383,231127,23982,43520,40142,10199,31048,20945,10794,64689,9906,23396,37696,19670,52904,16187,17567,61531,10717,34417,132856,50527,29087,27577,22552,87544,41975,29014,19683,13232,54115,14816,28931,26472,74702,14366,8978,71360,44594,28567,10498,14852,10110,13114,35913,28951,122139,32668,18738,14497,30421,63786,43134,45684,48877,54483,97253,24279,86776,56401,95470,88914,18745,73251,52923,20304,36158,59813,22330,119411,36399,53856,14517,61152,28486,26584,24325,27994,24650,19463,31893,15977,6718,16734,38984,165134,102630,26797,74896,59166,45174,53083,76993,64524,52857,58171,67347,41292,20490,44515,29713,58253,71963,48927,51684,12903,24334,34126,23183,27896,148198,65383,14485,11351,17175,12357,22366,8190,111899,33763,15743,46346,61764,166738,9084,37531,42705,55085,42214,132523,89411,31632,85231,59448,17267,14257,50030,127634,11949,83620,45543,49751,64455,16269,12324,35012,73893,266675,43852,90850,47544,29161,57990,91097,109653,308742,72431,30159,80051,121061,35116,93086,53257,46078,51148,7779,61137,37749,97282,18506,27949,32378,81788,110560,33141,79591,44240,16621,121639,89043,93466,119710,71667,73118,11188,26865,52582,22606,14590,16305,8371,40416,12730,14889,133792,9841,21404,85699,66074,33356,61045,12947,33109,14348,26319,211874,88500,30119,9937,24345,37128,53782,179749,28370,35262,19513,58862,19441,22059,7718,8828,11460,39783,33546,32875,51900,11842,14495,25308]

{"sheet":"INFLACIÓN","index":3,"n_rows":62,"n_cols":31,"rows_kept":62,"cut":false,"hidden":true,"merged":[[35,1,39,24],[55,1,57,24],[58,1,58,24],[1,1,1,30],[2,1,2,30],[3,1,3,30],[4,1,4,30],[7,1,7,30],[22,1,22,11]]}
[]
[null,"INFLACIÓN TOTAL"]
[null,"RITMO INFLACIONARIO"]
[null,"AÑOS 1996 - 2024"]
[null,"PORCENTAJES"]
[]
[]
[null,"Inflación de 1996-2024"]
[]
[null,"Periodo",1996,1997,1998,1999,2000,2001,2002,2003,2004,2005,2006,2007,2008,2009,2010,2011,2012,2013,2014,2015,2016,2017,2018,2019,2020,2021,2022,2023,2024]
[null,"Enero",9.76,10.8,7.29,6.29,5.27,6.05,8.85,6.2,6.21,9.0399999999999991,8.08,6.22,8.39,7.88,1.43,4.9000000000000004,5.44,3.86,4.1399999999999997,2.3199999999999998,4.38,3.83,4.71,4.0999999999999996,1.78,5.24,2.87,9.69,3.82]
[null,"Febrero",10.83,12.66,5.45,5.17,6.62,5.99,9.01,6,6.26,9.0399999999999991,7.26,6.62,8.76,6.5,2.48,5.24,5.17,4.18,3.5,2.44,4.2699999999999996,3.96,4.1500000000000004,4.46,1.24,6,2.98,9.92,3.3]
[null,"Marzo",11.48,11.51,6.11,3.99,8.2799999999999994,5.42,9.1300000000000008,5.78,6.57,8.77,7.28,7.02,9.1,5,3.93,4.99,4.55,4.34,3.25,2.4300000000000002,4.26,4,4.1399999999999997,4.17,1.77,5.84,4.17,8.7100000000000009,3.24]
[null,"Abril",11.95,10.130000000000001,6.94,3.47,9.07,4.87,9.25,5.67,6.65,8.8800000000000008,7.48,6.4,10.37,3.62,3.75,5.76,4.2699999999999996,4.13,3.27,2.58,4.09,4.09,3.92,4.75,1.88,5.2,4.62,8.32,3.36]
[null,"Mayo",11.02,9.61,7.32,3.73,7.36,6.05,9.31,5.56,7.27,8.52,7.62,5.47,12.24,2.29,3.51,6.39,3.9,4.2699999999999996,3.22,2.5499999999999998,4.3600000000000003,3.93,4.09,4.54,1.8,5.17,5.82,6.54,3.76]
[null,"Junio",10.34,8.9700000000000006,7.43,4.22,7.23,6.3,9.14,5.24,7.4,8.8000000000000007,7.55,5.31,13.56,0.62,4.07,6.42,3.47,4.79,3.13,2.39,4.43,4.3600000000000003,3.79,4.8,2.39,3.91,7.55,4.93,3.62]
[null,"Julio",11.6,7.98,7.27,5.22,6.14,6.97,9.1,4.6500000000000004,7.64,9.3000000000000007,7.04,5.59,14.16,-0.3,4.12,7.04,2.86,4.74,3.41,2.3199999999999998,4.62,5.22,2.61,4.37,2.88,3.82,8.36,4.53,3.78]
[null,"Agosto",12.03,8.0500000000000007,6.31,6.03,4.71,8.7899999999999991,7.73,4.96,7.66,9.3699999999999992,7,6.21,13.69,-0.73,4.0999999999999996,7.63,2.71,4.42,3.7,1.96,4.74,4.72,3.36,3.01,4.1900000000000004,3.62,8.8699999999999992,4.47,3.07]
[null,"Septiembre",11.77,8.33,5.49,6.79,4.29,8.99,7.1,5.68,8.0500000000000007,9.4499999999999993,5.7,7.33,12.75,0.03,3.76,7.25,3.28,4.21,3.45,1.88,4.5599999999999996,4.3600000000000003,4.55,1.8,4.97,3.67,9.0299999999999994,4.6900000000000004,2.11]
[null,"Octubre",10.64,8.48,4.97,7.57,3.84,9.4700000000000006,6.6,5.84,8.64,10.29,3.85,7.72,12.93,-0.65,4.51,6.65,3.35,4.1500000000000004,3.64,2.23,4.76,4.2,4.34,2.17,5.34,2.96,9.6999999999999993,4.9800000000000004,1.1599999999999999]
[null,"Noviembre",10.44,7.66,7.35,5.15,4.17,9.51,6.34,5.84,9.2200000000000006,9.25,4.4000000000000004,9.1300000000000008,10.85,-0.61,5.25,6.05,3.11,4.63,3.38,2.5099999999999998,4.67,4.6900000000000004,3.15,2.92,5.46,2.89,9.17,4.3,1.66]
[null,"Diciembre",10.85,7.13,7.48,4.92,5.08,8.91,6.33,5.85,9.23,8.57,5.79,8.75,9.4,-0.28000000000000003,5.39,6.2,3.45,4.3899999999999997,2.95,3.07,4.2300000000000004,5.68,2.31,3.41,4.82,3.07,9.24,4.18,1.7]
[null,"Fuente: Instituto Nacional de Estadística (INE)."]
[null,"Tasa de variación del índice del mes en examen con respecto al mismo mes del año anterior."]
[null,"https://banguat.gob.gt/page/inflacion-total"]
[]
[]
[null,"It Promedio",{"$f":"AVERAGE(C11:C22)","v":11.059166666666664},9.2758333333333329,6.6175000000000006,5.2125000000000004,6.0049999999999999,7.2766666666666673,8.1575000000000006,5.605833333333333,7.5666666666666664,9.1066666666666674,6.5874999999999995,6.814166666666666,11.35,1.9475,3.8583333333333329,6.2100000000000009,3.7966666666666669,4.3425000000000002,3.42,2.39,4.4475000000000007,4.42,3.76,3.7083333333333335,3.2100000000000004,4.2824999999999998,6.8649999999999993,6.2716666666666656,2.8816666666666664]
[null,"Is Promedio",null,null,null,null,null,null,{"$f":"C62","v":6.8033333333333346},4.7074999999999996,5.7074999999999996,6.6524999999999999,5.1183333333333341,4.8450000000000006,8.1325000000000021,2.7108333333333334,2.4816666666666665,4.7025000000000006,3.9316666666666666,3.7283333333333335,3.1549999999999994,3.1858333333333335,3.16,2.9783333333333335,2.7341666666666669,3.0208333333333326,2.2641666666666667,3.0016666666666669,4.3191666666666668,4.524166666666666,3.6433333333333326]
[]
[]
[]
[]
[]
[]
[null,"INFLACIÓN SUBYACENTE1/\n RITMO INFLACIONARIO\n AÑOS 2002-2024\n PORCENTAJES"]
[]
[]
[]
[]
[]
[null,"Periodo",2002,2003,2004,2005,2006,2007,2008,2009,2010,2011,2012,2013,2014,2015,2016,2017,2018,2019,2020,2021,2022,2023,2024]
[null,"Enero",7.37,4.8899999999999997,5.27,6.58,6.37,4.04,6.52,6.25,1.58,3.44,4.6399999999999997,3.76,3.44,3.16,3.15,3.21,2.67,2.94,2.56,2.69,3.29,5.24,3.76]
[null,"Febrero",7.68,4.58,5.34,6.3,6.1,4.32,6.75,5.42,1.97,3.78,4.4000000000000004,3.89,3.23,3.21,3.2,3.15,2.62,2.98,2.41,2.71,3.37,5.36,3.71]
[null,"Marzo",7.69,4.53,5.47,6.26,5.98,4.51,6.89,4.71,2.39,3.84,4.25,3.9,3.17,3.12,3.28,3.13,2.67,2.89,2.4500000000000002,2.79,3.47,5.08,3.65]
[null,"Abril",7.73,4.63,5.32,6.37,5.91,4.4800000000000004,7.51,3.89,2.66,4.1500000000000004,4.1100000000000003,3.8,3.14,3.15,3.23,3.07,2.62,2.98,2.35,2.84,3.71,4.99,3.63]
[null,"Mayo",7.52,4.8,5.35,6.51,5.53,4.28,8.39,3.18,2.57,4.5599999999999996,3.98,3.83,3.04,3.2,3.31,2.94,2.63,3,2.2799999999999998,2.89,4.12,4.6900000000000004,3.67]
[null,"Junio",7.24,4.88,5.36,6.68,5.31,4.3,9.09,2.2999999999999998,2.42,4.7,3.85,3.92,2.93,3.25,3.23,2.97,2.6,3.05,2.13,3.05,4.34,4.32,3.61]
[null,"Julio",6.95,4.8099999999999996,5.44,6.87,5.1100000000000003,4.46,9.43,1.65,2.42,5.18,3.56,3.85,2.99,3.3,3.21,2.89,2.63,3.15,2.0299999999999998,3.09,4.5999999999999996,4.21,3.66]
[null,"Agosto",6.38,4.6100000000000003,5.62,6.79,4.96,4.8600000000000003,9.27,1.21,2.6,5.4,3.53,3.65,3.14,3.24,3.09,2.77,2.79,3.1,2.06,3.18,4.8499999999999996,4.1900000000000004,3.48]
[null,"Septiembre",6.13,4.63,5.89,6.8,4.5599999999999996,5.1100000000000003,9.09,1.28,2.54,5.38,3.66,3.52,3.2,3.15,3,2.86,2.82,2.95,2.1,3.3,4.92,4.17,3.55]
[null,"Octubre",5.81,4.68,6.23,7.09,3.86,5.29,9.1199999999999992,0.86,2.81,5.27,3.74,3.48,3.24,3.14,3.04,2.91,2.86,3.01,2.21,3.17,5.09,4.12,3.62]
[null,"Noviembre",5.64,4.6900000000000004,6.53,6.91,3.74,6.07,8.25,0.84,2.76,5.46,3.73,3.58,3.15,3.15,3.09,2.92,2.94,3.08,2.2599999999999998,3.11,5.03,4.05,3.65]
[null,"Diciembre",5.5,4.76,6.67,6.67,3.99,6.42,7.28,0.94,3.06,5.27,3.73,3.56,3.19,3.16,3.09,2.92,2.96,3.12,2.33,3.2,5.04,3.87,3.73]
[]
[null,"1/ A partir de enero de 2017, corresponde a un promedio ponderado de ocho metodologías de inflación subyacente tanto de exclusión fija como variable. Con el propósito de fortalecer su capacidad informativa y predictiva, a partir de los resultados de enero de 2021, se empezó a utilizar el promedio móvil de la inflación de algunas metodologías de cálculo que presentaban una volatilidad excesiva; asimismo, se realizó una nueva recalibración de las ponderaciones de las referidas metodologías. Para una mayor referencia ver el apartado “Revisión de la Política Monetaria, Cambiaria y Crediticia” de la Evaluación de la Política Monetaria, Cambiaria y Crediticia, a noviembre de 2020, y Perspectivas Económicas para 2021."]
[]
[]
[null,"Fuente: Instituto Nacional de Estadística (INE) y Banco de Guatemala."]
[null,"https://banguat.gob.gt/page/inflacion-subyacente"]
[]
[null,"Promedio",{"$f":"AVERAGE(C43:C54)","v":6.8033333333333346},4.7074999999999996,5.7074999999999996,6.6524999999999999,5.1183333333333341,4.8450000000000006,8.1325000000000021,2.7108333333333334,2.4816666666666665,4.7025000000000006,3.9316666666666666,3.7283333333333335,3.1549999999999994,3.1858333333333335,3.16,2.9783333333333335,2.7341666666666669,3.0208333333333326,2.2641666666666667,3.0016666666666669,4.3191666666666668,4.524166666666666,3.6433333333333326]

{"sheet":"DIAGRAMA","index":4,"n_rows":377,"n_cols":15,"rows_kept":377,"cut":false,"hidden":false,"merged":[[18,7,18,8],[13,0,13,2],[22,5,23,5],[33,5,34,5],[30,1,30,2],[31,1,31,2],[30,4,30,5],[32,1,32,2],[31,4,31,5],[32,4,32,5],[19,0,19,1],[20,0,20,1],[21,0,21,1],[19,4,19,5],[20,4,20,5],[21,4,21,5],[38,5,38,6],[4,1,4,5],[0,2,0,5],[1,2,1,5],[2,2,2,5],[9,2,9,3],[17,7,17,8],[10,2,10,3],[11,2,11,3],[7,1,7,4],[5,1,5,5]]}
[null,null,"HERRAMIENTA DE APOYO A LA ELABORACIÓN DEL ESTUDIO DE MERCADO DE PROYECTOS DE AGUA POTABLE"]
[null,null,"DIRECCIÓN DE PREINVERSIÓN "]
[null,null,"Enero 2025"]
[]
["Proyecto:","CONSTRUCCIÓN SISTEMA DE AGUA POTABLE COMUNIDAD EL ALTO"]
["Municipio:",{"$f":"H34","v":"Acatenango"}]
[]
[null,"Diagrama de la Población Objetivo "]
[]
[null,null,"Población de Referencia del Municipio*\n"]
[null,null,{"$f":"I37","v":29473}]
[null,null,1]
[]
["*Fuente INE Estimaciones y proyecciones de la población total a nivel municipal. Tasa de crecimiento lineal -interanual-."]
["Año:",{"$f":"H19-1","v":2024}]
[]
[]
[null,null,null,null,null,null,null,"Seleccionar Año:"]
[null,null,null,null,null,null,null,2025]
["Población No Afectada",null,null,null,"Población Afectada*",null,null,"Tasa de Crecicimiento",{"$f":"I34","v":1.1128829776405613}]
[{"$f":"IFERROR((C11-E21),\"\")","v":25427.396954640353},null,null,null,{"$f":"IFERROR((C11*GETPIVOTDATA(\"Promedio de Abastecimiento de agua\",$A$42)/100),\"\")","v":4045.6030453596468},null,null,"Población ",{"$f":"I37","v":29473}]
[{"$f":"IFERROR((A21*1)/(C11),\"\")","v":0.86273528160147772},null,null,null,{"$f":"IFERROR((E21*1)/(C11),\"\")","v":0.13726471839852228}]
[null,null,null,null,null,"*Índice NBI / INE Abastecimiento Agua"]
[]
[]
[]
[null,null,null,null,null,null,null,null,null,null,null,null,null,{"$f":"_xlfn.IFS(H19=2025,22,H19=2026,24,H19=2027,26,H19=2028,28,H19=2029,30,H19=2030,32)","v":22},{"$f":"N27-1","v":21}]
[]
[]
[]
[null,"Población No Atendida",null,null,"Población Beneficiada*"]
[null,{"$f":"IFERROR((E21-E32),\"\")","v":1030.6030453596468},null,null,3015]
[null,{"$f":"IFERROR((B32*1)/E21,\"\")","v":0.25474645777265775},null,null,{"$f":"IFERROR((E32*1)/E21,\"\")","v":0.7452535422273423}]
[null,null,null,null,null,"*Ingressar la Población Beneficiada del Proyecto",null,{"$f":"A43","v":"Acatenango"},{"$f":"IFERROR(VLOOKUP(DIAGRAMA!H34,TC!C1:AI341,N27,FALSE),\"\")","v":1.1128829776405613},"TC"]
[null,null,null,null,null,null,33164]
[null,null,null,null,null,"Mujeres",{"$f":"+C11-G35","v":-3691}]
[null,null,null,null,null,null,null,{"$f":"A43","v":"Acatenango"},{"$f":"IFERROR(VLOOKUP(DIAGRAMA!H37,TC!C4:AI344,O27,FALSE),\"\")","v":29473},"Población"]
[]
[]
[]
[]
["Etiquetas de fila","Promedio de TC 2024","Población 2024","Promedio de Abastecimiento de agua"]
["Acatenango",1.1705341205547226,29473,9.5849207940645673]
["Agua Blanca",1.2560440171177634,18219,6.7309901217551111]
["Aguacatán",1.2807148175725924,61209,21.939442712000805]
["Almolonga",1.7316754669846057,17918,1.4224751066856329]
["Amatitlán",1.250583475960787,156177,5.6606383346588744]
["Antigua Guatemala",1.2407602956705288,61360,6.0282095049860747]
["Asunción Mita",1.4385288447278599,54720,3.0696576151121606]
["Atescatempa",1.2955665024630525,20563,7.0214488061513567]
["Ayutla",1.8221770766392309,49118,18.526194588370753]
["Barberena",1.0459212275559349,63086,23.097978663672095]
["Cabañas",1.1212980674097928,15331,6.8039391226499548]
["Cabricán",1.3603534114017268,28910,10.262257696693272]
["Cajolá",1.074333657338733,19757,6.7558299039780518]
["Camotán",0.88920163766632587,63084,22.948991916751833]
["Canillá",1.2652403956751712,13206,34.850166481687019]
["Cantel",1.6895767714482313,48751,7.4266740453790812]
["Casillas",0.79703849204850741,26684,11.317345597897503]
["Catarina",1.324443912939488,33891,13.224125093075203]
["Chahal",2.0504834209331024,31454,41.121495327102799]
["Chajul",2.0715665532149652,55481,13.830798479087452]
["Champerico",1.3361569102001702,40196,6.4044507698279212]
["Chiantla",1.0858210136439839,95796,22.062647754137117]
["Chicacao",0.49595405899243161,69300,8.248108422715557]
["Chicamán",1.7505812913611196,45511,41.135418064689304]
["Chiché",0.59321774760725532,32897,13.250559739466722]
["Chimaltenango",1.5783568554339933,120412,17.94737093461961]
["Chinautla",0.75553286208931425,126289,6.713680236492503]
["Chinique",1.7791061770566552,14302,7.5764491099954352]
["Chiquimula",1.4100653444915734,123844,38.405623452352422]
["Chiquimulilla",1.4045911262185351,67719,8.4501951713170449]
["Chisec",1.5583324198911175,111182,45.23091360010725]
["Chuarrancho",1.1075674108437239,17436,6.4737242955064733]
["Ciudad Vieja",2.0436762816769871,43690,1.8188613429674847]
["Coatepeque",1.285960709935341,123894,4.6665528135940573]
["Cobán",1.833128483154578,241927,55.734970462180009]
["Colomba Costa Cuca",1.1066169389434499,57743,17.192912996139761]
["Colotenango",1.2269533229068097,45954,4.4671239752384144]
["Comapa",0.91823698498882944,37917,14.112334180073386]
["Comitancillo",0.89710661813933168,82890,5.4104661476298412]
["Concepción",1.5851692638366499,7562,18.690601900739175]
["Concepción Chiquirichapa",1.5247776365946653,21573,0.53536207382361234]
["Concepción Huista",1.8599056167299066,22016,9.1114245416078994]
["Concepción Las Minas",0.40249388367137318,12722,7.3406310367031544]
["Concepción Tutuapa",1.4869288579464346,88046,27.036265110462693]
["Conguaco",1.2813315280208792,30669,20.08461367178802]
["Cubulco",0.87317001517845938,61806,20.80353555644837]
["Cuilapa",0.93926111458986217,48360,21.013412816691503]
["Cuilco",1.4694474935967872,69329,22.442157121492038]
["Cunén",1.8105082879686929,49935,7.7463735606400475]
["Cuyotenango",1.2606016859580738,39280,3.7166085946573753]
["Dolores",0.81516401492831569,30795,14.486853265479219]
["El Adelanto",0.72129596783729877,8518,21.166892808683855]
["El Asintal",1.4482031968076736,45253,28.255959849435381]
["El Chal",0.81632653061225469,15808,15.939803439803441]
["El Estor",1.4735109072734787,86288,22.000722282412426]
["El Jícaro",8.8711465956969882E-2,13539,4.4849537037037033]
["El Palmar",1.1040074847965098,32419,2.9657545469441255]
["El Progreso",1.2569725681974564,26503,0.7854773957060569]
["El Quetzal",1.0886410886410847,26743,10.425210446794733]
["El Tejar",2.3970775356072727,24947,2.7264533573681837]
["El Tumbador",1.6105091286922946,54764,17.544444444444444]
["Escuintla",1.1629256516793918,174328,27.033474608532345]
["Esquipulas",0.97888943078101587,57974,12.339004611225949]
["Esquipulas Palo Gordo",1.5602347255781801,14711,18.90452643590719]
["Estanzuela",0.29290617848969358,10957,5.1628276409849088]
["Flores",1.8459174714662074,46401,11.471756612731324]
["Flores Costa Cuca",2.0505352644836217,25929,7.5]
["Fraijanes",1.2135959949782338,65302,9.4234300403966209]
["Fray Bartolomé de Las Casas",2.1533742331288241,83255,34.642345069300625]
["Génova",1.1760437121147493,47403,11.493246623311656]
["Granados",1.3012144668357095,15181,15.681376630585623]
["Gualán",0.67828880823466164,50763,7.3945273176535178]
["Guanagazapa",0.66040421292343776,17681,3.0777839955232231]
["Guastatoya",0.70631700956245158,27803,8.8986251699652517]
["Guatemala",0.61191465607630668,1229215,5.1046441768786988]
["Guazacapán",1.2081539407784891,23037,4.8961748633879782]
["Huehuetenango",2.5963751951023184,143954,43.731940431206937]
["Huitán",1.1262161801945947,15175,8.5978304539975881]
["Huité",0.68869394113306726,12281,6.6691230655858513]
["Ipala",1.2249763637111055,24625,3.2640949554896146]
["Ixchiguán",1.3727478355822553,25994,7.6431613819214386]
["Iztapa",1.3866743972556383,20984,5.1664284255666733]
["Jacaltenango",2.3849116051111396,46794,5.1886792452830193]
["Jalapa",1.3173186702914785,197894,23.530644002872876]
["Jalpatagua",0.79728796534621615,32112,8.0242560992807785]
["Jerez",1.4416214673137251,7107,5.9925093632958806]
["Jocotán",1.6666016158619845,78144,36.817783443550319]
["Jocotenango",1.3212392312790033,24463,0.71442000376010528]
["Joyabaj",2.4616444526881942,116004,22.780965237934524]
["Jutiapa",1.0036317962876184,170481,42.941520287937983]
["La Blanca",1.5081337550836071,35942,29.544436146377894]
["La Democracia",0.98519139328251404,89390,20.067629924471817]
["La Esperanza",1.3830165566839137,25657,1.5973826020015396]
["La Gomera",2.001804754976888,55388,6.8532654792196777]
["La Libertad",1.9681294645631064,140369,14.107068669349447]
["La Reforma",1.3489687974086673,24718,6.5347071583514102]
["La Unión",0.60055435786880995,39198,14.031971580817052]
["Las Cruces",1.5970269184411467,40460,26.514399205561073]
["Livingston",1.2363521539003441,83357,27.218526421488644]
["Los Amates",1.0840189330028505,67699,10.647915620291311]
["Magdalena Milpas Altas",0.61842918985777207,13016,5.1677593521018128]
["Malacatán",1.0592992878359464,112956,10.591576992407276]
["Malacatancito",2.136221584828113,23858,22.952452078665672]
["Masagua",1.0492003667108118,49600,17.122819021553198]
["Mataquescuintla",1.7452006980802848,48972,20.959542469815716]
["Mazatenango",0.47535148813395711,84971,35.738456500382057]
["Melchor de Mencos",1.0384082040697962,31331,13.515098211668134]
["Mixco",1.96295005191085,538189,5.2064874352353474]
["Momostenango",1.8084518712884856,147439,12.064911978897873]
["Monjas",2.2740033688938732,32787,3.6075471698113213]
["Morales",1.287281298159737,111730,12.016518112682967]
["Morazán",0.25978115405809188,12736,6.2558067513161966]
["Moyuta",0.3670481088189792,51134,10.449473354885805]
["Nahualá",2.1348889571179974,99796,2.2620745873242307]
["Nentón",1.9136745607333916,53362,13.61023113927021]
["Nueva Concepción",1.1133822291691686,84096,22.638631659222138]
["Nueva Santa Rosa",0.66241782506146762,40118,14.849563248139761]
["Nuevo Progreso",1.4480874316939785,33417,6.4932992980216975]
["Nuevo San Carlos",0.9885256245472096,43214,20.197856553998349]
["Ocós",1.5168752370117611,13385,20.98717450446949]
["Olopa",1.1906302575384942,31276,31.554851206198276]
["Oratorio",1.4878929861583012,28375,9.2989756722151089]
["Pachalum",2.2637510837106189,10616,9.9151406878070567]
["Pajapita",0.61320955584891479,23627,6.224857082362905]
["Palencia",0.36998096860485497,75417,13.330653035437368]
["Palestina de Los Altos",1.083946136949665,21169,4.082240762812873]
["Palín",1.3508714418401402,74201,14.266991200149784]
["Panajachel",1.5866338121281354,16903,6.8582271618324757]
["Panzós",1.4150604573207159,84712,24.988519822439919]
["Parramos",2.2177992607335772,21570,4.151369669584863]
["Pasaco",0.74218059727866326,11402,1.5398973401773215]
["Pastores",1.2630014858840966,20445,1.5700761948741631]
["Patulul",0.60558065868543398,43194,10.673305910370209]
["Patzicía",1.6982992951817266,42277,41.52923538230884]
["Patzité",1.8060366155368657,8230,9.1079812206572761]
["Patzún",1.4532131242023905,73932,25.381788485095957]
["Petatán",1.8419243986254275,7409,11.88707280832095]
["Playa Grande Ixcán",1.8227446836613481,115635,35.038335746072597]
["Poptún",1.8718919529837175,72109,26.677316293929714]
["Pueblo Nuevo",0.97063819461296053,12483,1.0264508487958943]
["Pueblo Nuevo Viñas",0.33725675356648388,29751,15.08307791579287]
["Puerto Barrios",1.1115028646980996,114711,40.369006463249661]
["Purulhá",1.4705882352941124,68379,42.688982894978849]
["Quesada",0.80766028309742222,24214,6.4602720114531138]
["Quetzaltenango",1.6848087852808113,211118,9.1341869518315271]
["Quezaltepeque",1.2644544174009953,30913,26.181220095693782]
["Rabinal",0.8688666680760182,47714,10.103572183470726]
["Raxruhá",1.668833983528395,42219,41.08725033788857]
["Retalhuleu",1.2631317873403436,114320,40.797445169774107]
["Río Blanco",1.1704345037678365,6310,1.8683274021352312]
["Río Bravo",1.6219723183390933,32893,17.120075046904315]
["Río Hondo",1.6060267395173744,24547,3.9828326180257507]
["Sacapulas",0.878529172127962,56954,13.836477987421384]
["Salamá",1.8538713195201728,75654,21.753783543176905]
["Salcajá",1.4919925172240722,22244,3.0322307039864294]
["Samayac",1.0017613386173574,27525,11.468916824522129]
["San Agustín Acasaguastlán",0.81649425595398117,56428,9.3280408278990645]
["San Agustín Lanquín",1.4945006759966351,27776,68.233683249657702]
["San Andrés",0.85250300472370366,36082,20.350535540408959]
["San Andrés Itzapa",1.3391743144702817,36550,5.0511124473842459]
["San Andrés Sajcabajá",1.4705372316442977,29257,13.191899710703952]
["San Andrés Semetabaj",1.436875449023578,15531,2.4924471299093658]
["San Andrés Villa Seca",1.5325869099453993,58763,6.538242550768647]
["San Andrés Xecul",1.5605229860818248,31304,14.652857690832374]
["San Antonio Aguas Calientes",2.13118457715189,13562,2.8795811518324608]
["San Antonio Huista",2.5184213182598114,20313,6.5096251266464042]
["San Antonio Ilotenango",2.2913510003401472,33080,2.3994354269583629]
["San Antonio La Paz",0.89820359281436168,22916,14.323708206686931]
["San Antonio Palopó",0.65707133917396465,16085,6.9155446756425949]
["San Antonio Sacatepéquez",1.7654071900220059,22193,8.0499143626131637]
["San Antonio Suchitepéquez",1.5537913395721636,68692,8.5307285307285312]
["San Bartolo Aguas Calientes",0.77507118000632591,12742,7.1063394683026582]
["San Bartolomé Jocotenango",1.0960430986438841,16326,10.95959595959596]
["San Bartolomé Milpas Altas",1.2839283703119708,8993,3.8064165307232187]
["San Benito",1.5908471806047375,55941,3.2314563446886768]
["San Bernardino",1.6551802056264719,17995,3.5494689770821686]
["San Carlos Alzatate",1.4328063241106692,22583,14.109742441209406]
["San Carlos Sija",1.4854735459867596,37097,15.200361554685147]
["San Cristóbal Acasaguastlán",0.46146171114991308,8055,2.9629629629629632]
["San Cristóbal Cucho",0.94812554489973611,18526,8.0023364485981308]
["San Cristóbal Totonicapán",1.2524390797295393,44626,13.96317699233974]
["San Cristóbal Verapaz",1.4461194191460525,84321,32.648701938876108]
["San Diego",0.93884800811976366,7956,2.1352313167259789]
["San Felipe",1.5734011627906996,27953,3.4258052504189167]
["San Francisco",1.2993121288729537,17230,3.5460992907801421]
["San Francisco El Alto",1.7743215829241654,69233,14.525452172291628]
["San Francisco La Unión",1.4370158988993076,9953,10.767326732673267]
["San Francisco Zapotitlán",1.8580424473295443,26204,2.2971191865938616]
["San Gabriel",1.3323730644580589,8442,2.7421236872812136]
["San Gaspar Ixchil",1.0100065463387153,10801,27.229407760381214]
["San Ildefonso Ixtahuacán",1.7964487994718281,58592,23.872745490981963]
["San Jacinto",0.9620365573891787,13643,75.973574408901257]
["San Jerónimo",2.4836381943279084,30535,9.0066655828320599]
["San Jorge",1.1270861931941267,13997,9.0940525587828489]
["San José",1.1208539261781003,77668,9.7015170379193449]
["San José Acatempa",0.55646714703574407,14095,1.1173184357541899]
["San José Chacayá",1.6475379489078179,5491,0.40268456375838929]
["San José del Golfo",0.5057633498000369,8545,2.0909566126502876]
["San José el Ídolo",1.1450381679389388,12455,0.97375105842506349]
["San José el Rodeo",1.6544575671500583,20399,10.36241610738255]
["San José La Arada",0.86807416139749183,9412,28.270609318996414]
["San José La Máquina",1.2557930931379913,27092,14.975480950584686]
["San José Ojetenam",0.88499395613883536,23369,16.397082143989852]
["San José Pinula",0.65154520371868418,90835,13.570991432068544]
["San José Poaquil",1.3226744186046524,34855,6.9980879541108987]
["San Juan Alotenango",1.1183662128368965,29114,11.329866270430907]
["San Juan Atitán",1.7219243259572581,26938,2.5942829690127311]
["San Juan Bautista",1.4116434827408542,9842,15.302690582959642]
["San Juan Chamelco",1.919119481167364,65375,30.965292841648591]
["San Juan Comalapa",2.1220457872805909,63476,12.781728939196634]
["San Juan Cotzal",1.7817785921028229,38330,2.8805120910384066]
["San Juan Ermita",1.770375026188975,19430,28.909437041066088]
["San Juan Ixcoy",1.2982890518363321,31912,46.108903949520922]
["San Juan La Laguna",2.0539612109067518,14260,0.79756931257121155]
["San Juan Olintepeque",1.3744241938714152,40493,7.0197668525088703]
["San Juan Ostuncalco",0.62362672870621694,62282,11.782807226523724]
["San Juan Sacatepéquez",1.1023386939977176,291199,26.622776114144798]
["San Juan Tecuaco",1.6798493408662907,13498,6.4714218233349081]
["San Lorenzo",1.3901217277020206,29239,8.4162393816484276]
["San Lucas Sacatepéquez",1.1946258756641459,29902,6.5016001347481893]
["San Lucas Tolimán",0.63858148113704605,32465,12.60543580131209]
["San Luis",0.76531593318547309,78604,25.901745313510023]
["San Luis Jilotepeque",1.5600395502984643,27733,6.8937285082691995]
["San Manuel Chaparrón",1.1797813616192254,9348,6.8934240362811785]
["San Marcos",1.1589469911187145,50800,4.8826571201272877]
["San Marcos La Laguna",1.0959814015277347,3044,0.55045871559633031]
["San Martín Jilotepeque",1.3682548257734739,97571,14.711460308859387]
["San Martín Sacatepéquez",1.4734573833027564,34847,3.6961681926076637]
["San Martín Zapotitlán",1.2343842950624628,13614,3.110135382363703]
["San Mateo",1.4095363946701855,9209,2.1558872305140961]
["San Mateo Ixtatán",2.3787131923725502,63139,4.2765502494654317]
["San Miguel Acatán",1.6876034403234152,37479,10.744920993227991]
["San Miguel Chicaj",2.4818761125873889,39723,8.3550555631773911]
["San Miguel Dueñas",1.991614255765195,16541,3.1530036508463324]
["San Miguel Ixtahuacán",0.88320047902399335,53914,9.1946967836975197]
["San Miguel Panán",1.6653756777691653,13125,9.2271662763466047]
["San Miguel Petapa",1.3513159446111089,154729,3.6154692294332191]
["San Miguel Pochuta",1.1086669599648102,11491,4.2999475616151024]
["San Miguel Siguilá",1.2406203101550828,10119,7.7288135593220346]
["San Miguel Tucurú",1.5531842175217303,53484,10.925373134328359]
["San Miguel Uspantán",1.635331493151404,78060,23.09448112823021]
["San Pablo",1.8443038675052037,55221,20.792079207920793]
["San Pablo Jocopilas",1.9112365315546498,23835,14.124999999999998]
["San Pablo La Laguna",0.73855243722305008,8184,1.4450867052023122]
["San Pedro Ayampuc",1.4415407373031375,69948,16.748105658239503]
["San Pedro Carchá",2.2596353591573859,273204,79.006171281745395]
["San Pedro Jocopilas",1.3983689955773704,39664,29.115293099718798]
["San Pedro La Laguna",1.8867924528301883,12528,3.2294832826747721]
["San Pedro Necta",1.1693960497231037,42565,17.14809074256728]
["San Pedro Pinula",1.6746862318931521,80930,26.130071894884722]
["San Pedro Sacatepéquez",1.4566486990536531,147867,11.369866305366454]
["San Pedro Soloma",2.3702967014752163,67936,20.812296645349491]
["San Pedro Yepocapa",1.8867494068260715,44659,2.2994874636376226]
["San Rafael La Independencia",1.2540836758351714,19216,9.8658589355257469]
["San Rafael Las Flores",1.5728766165676422,14530,11.186113789778208]
["San Rafael Petzal",1.6986933128362747,13231,1.1520737327188941]
["San Rafael Pie de la Cuesta",1.206355954721805,19044,5.3737696195796758]
["San Raymundo",0.33048958573513865,39162,8.0113234253361636]
["San Sebastián",0.77454871335296271,31486,21.747154721624113]
["San Sebastián Coatán",1.0374156146306213,26491,6.1820816227964261]
["San Sebastián Huehuetenango",2.4459523433801422,45444,13.858790632645929]
["San Vicente Pacaya",1.2542209358417766,18891,3.0373831775700935]
["Sanarate",0.48318243655298687,42840,8.4699728397545506]
["Sansare",0.49476135040744662,13812,16.79554593257037]
["Santa Ana",1.7926200451176211,25269,5.9635781468881328]
["Santa Ana Huista",1.9798350137488541,11126,2.8706083976006855]
["Santa Apolonia",1.115226166201988,24299,4.6121593291404608]
["Santa Bárbara",1.3447162686080372,74998,23.746093932901999]
["Santa Catalina La Tinta",1.8280881857960285,48405,19.649805447470818]
["Santa Catarina Barahona",1.8541930046354738,4834,4.7619047619047619]
["Santa Catarina Ixtahuacán",1.6545219393709898,64451,3.1627422017551483]
["Santa Catarina Mita",1.4204898669650579,32629,3.193586542252596]
["Santa Catarina Palopó",0.80515297906602612,5008,15.24966261808367]
["Santa Catarina Pinula",0.3762098566982397,88047,10.157496012759172]
["Santa Clara La Laguna",1.2988235294117745,10763,0.80492424242424243]
["Santa Cruz Balanyá",1.4178033022254066,11302,4.0614165428429914]
["Santa Cruz Barillas",2.0096579908011947,133295,28.70799864238036]
["Santa Cruz del Quiché",1.4065809638154292,103888,51.135694180794658]
["Santa Cruz El Chol",1.949604561338969,11086,7.0933550754178549]
["Santa Cruz La Laguna",0.91948310139164935,8122,1.633705932932072]
["Santa Cruz Muluá",1.7565872020075313,17031,4.0842787682333874]
["Santa Cruz Naranjo",1.6286997456847585,18782,5.9280855199222549]
["Santa Cruz Verapaz",2.3655285934264247,38557,8.8361358391031981]
["Santa Eulalia",1.5789673212525557,53589,42.216801341667939]
["Santa Lucía Cotzumalguapa",1.3531778826473495,131225,16.147678538131643]
["Santa Lucía la Reforma",0.69844193721697589,26240,30.945648759032355]
["Santa Lucía Milpas Altas",1.4675635110345198,18253,4.4266114418845453]
["Santa Lucía Utatlán",0.37303248112092735,22064,4.1693256753882153]
["Santa María Cahabón",1.5605003509061577,73803,51.687024856923216]
["Santa María Chiquimula",0.54665884128448639,59961,10.469521294914475]
["Santa María de Jesús",1.0092883785562723,27622,15.060240963855422]
["Santa María Ixhuatán",0.48496964312156887,27143,25.896481732070363]
["Santa María Nebaj",1.7090391956288586,81532,3.5490889311939084]
["Santa María Visitación",1.4179104477611837,2718,1.4598540145985401]
["Santa Rosa de Lima",1.2804213585179802,22306,4.5363307908470496]
["Santiago Atitlán",1.8169712849809949,47407,2.5908278737343657]
["Santiago Chimaltenango",2.172750367696219,15283,20.83827599841835]
["Santiago Sacatepéquez",1.4588963816221101,38667,5.3774874677198845]
["Santo Domingo Suchitepéquez",1.2335575560390444,50717,5.9148182859523066]
["Santo Domingo Xenacoj",2.259812343068579,15476,1.5838732901367891]
["Santo Tomás Chichicastenango",1.2040021444673421,156681,4.3974370227332571]
["Santo Tomas La Unión",1.748436204687609,13501,0.53030303030303039]
["Sayaxché",1.3600735388599405,102547,24.597913776270488]
["Senahú",1.2702795995857885,102683,52.7605140891812]
["Sibilia",1.5943600867678986,9367,3.7172774869109948]
["Sibinal",1.0613884107860017,17615,5.8035714285714288]
["Sipacapa",1.8955008279603947,28921,12.140845070422534]
["Sipacate",2.0068869041213855,18959,11.230585424133812]
["Siquinalá",1.2385062863576657,26975,30.633738877791899]
["Sololá",0.7064665832438255,102208,10.081762281235218]
["Sumpango",1.7260159195643165,48564,5.33447265625]
["Tacaná",0.90690467929313012,84339,12.427921092564493]
["Tactic",1.5176014044165242,43949,10.95872853114586]
["Tajumulco",1.6895185862279005,66749,18.877495952509442]
["Tamahú",2.1424661818750579,26126,11.40011068068622]
["Taxisco",1.6364975794569636,38630,5.1302498670919725]
["Tecpán Guatemala",1.6679731730685488,116725,16.1203007518797]
["Tectitán",1.1188463451019315,12201,10.471491228070176]
["Teculután",1.273732275895223,21070,2.4669208342677731]
["Tejutla",2.0411248866041731,47243,16.223585548738921]
["Tiquisate",0.89715976881479254,65116,20.942622950819672]
["Todos Santos Cuchumatán",1.5835587877584434,40927,9.5293337752734502]
["Totonicapán",1.1376975169300252,123211,30.415573053368327]
["Unión Cantinil",2.6195778979743345,19352,29.181286549707604]
["Usumatlán",1.1704946996466514,13743,5.0179211469534053]
["Villa Canales",0.50628408821435933,169534,11.435606862952765]
["Villa Nueva",1.755807342430149,501127,4.9764965684073559]
["Yupiltepeque",0.84695151745479702,18575,9.2882382635032812]
["Zacapa",1.1239591608556143,68738,32.379389563505086]
["Zacualpa",1.7387320037620224,42188,24.815983175604629]
["Zapotitlán",1.0941737585336231,10810,14.397266959492436]
["Zaragoza",1.8581583732848461,30807,3.3166009322337757]
["Zunil",1.3832888778611663,16344,0.62968515742128939]
["Zunilito",1.5974788089545777,9349,0.3785830178474851]
["Total general",1.3619870231174223,17843132,13.726471839852227]

{"sheet":"Hoja1","index":5,"n_rows":6,"n_cols":2,"rows_kept":6,"cut":false,"hidden":true,"merged":[]}
[2025,22]
[2026,24]
[2027,26]
[2028,28]
[2029,30]
[2030,32]

{"sheet":"POBLACIÓN PROYECTADA","index":6,"n_rows":32,"n_cols":12,"rows_kept":32,"cut":false,"hidden":false,"merged":[[8,1,8,5],[31,1,31,5],[0,2,0,5],[1,2,1,5],[2,2,2,5],[4,1,4,5],[5,1,5,5]]}
[null,null,"HERRAMIENTA DE APOYO A LA ELABORACIÓN DEL ESTUDIO DE MERCADO DE PROYECTOS DE AGUA POTABLE"]
[null,null,"DIRECCIÓN DE PREINVERSIÓN "]
[null,null,"Enero 2025"]
[]
["Proyecto:",{"$f":"DIAGRAMA!B5","v":"CONSTRUCCIÓN SISTEMA DE AGUA POTABLE COMUNIDAD EL ALTO"}]
["Municipio:",{"$f":"DIAGRAMA!B6","v":"Acatenango"}]
[]
[]
[null,"PROYECCIÓN DE LA POBLACIÓN"]
[null,"No. ","AÑO","POBLACIÓN BASE (Po)","TASA DE CRECIMIENTO  TC/100+1","POBLACIÓN PROYECTADA (Px)"]
[null,0,2024,{"$f":"DIAGRAMA!E32","v":3015},null,{"$f":"D11","v":3015},null,null,"TASA DE CRECIMIENTO ",{"$f":"DIAGRAMA!I20","v":1.1128829776405613}]
[null,1,2025,{"$f":"F11","v":3015},{"$f":"$J$11/100+1","v":1.0111288297764056},{"$f":"D12*E12","v":3048.5534217758627},null,null,"PERIODO DE DISEÑO","20 años"]
[null,2,2026,{"$f":"F12","v":3048.5534217758627},1.0111288297764056,{"$f":"D13*E13","v":3082.4802538710851},null,null,"Población Beneficiada",{"$f":"DIAGRAMA!E32","v":3015}]
[null,3,2027,3082.4802538710851,1.0111288297764056,{"$f":"D14*E14","v":3116.7846519055479}]
[null,4,2028,3116.7846519055479,1.0111288297764056,3151.4708177463185]
[null,5,2029,3151.4708177463185,1.0111288297764056,3186.5430000223273,null,null,null,null,"Conformación de formula"]
[null,6,2030,3186.5430000223273,1.0111288297764056,3222.0054946447726,null,null,null,null,"Px","Demanda Proyectada (resultado)"]
[null,7,2031,3222.0054946447726,1.0111288297764056,3257.8626453333177,null,null,null,null,"Po",{"$f":"J13","v":3015}]
[null,8,2032,3257.8626453333177,1.0111288297764056,3294.1188441481427,null,null,null,null,"Constante",1]
[null,9,2033,3294.1188441481427,1.0111288297764056,3330.7785320279172,null,null,null,null,"TC",{"$f":"J11","v":1.1128829776405613}]
[null,10,2034,3330.7785320279172,1.0111288297764056,3367.8461993337619,null,null,null,null,"Constante",100]
[null,11,2035,3367.8461993337619,1.0111288297764056,3405.326386399262,null,null,null,null,"x","No. de año (1,2,3, 4,5,6,7,8,9,10…20)"]
[null,12,2036,3405.326386399262,1.0111288297764056,3443.2236840866017]
[null,13,2037,3443.2236840866017,1.0111288297764056,3481.5427343488896]
[null,14,2038,3481.5427343488896,1.0111288297764056,3520.2882307987402]
[null,15,2039,3520.2882307987402,1.0111288297764056,3559.4649192831835]
[null,16,2040,3559.4649192831835,1.0111288297764056,3599.0775984649736]
[null,17,2041,3599.0775984649736,1.0111288297764056,3639.1311204103649]
[null,18,2042,3639.1311204103649,1.0111288297764056,3679.630391183432]
[null,19,2043,3679.630391183432,1.0111288297764056,3720.5803714470012]
[null,20,2044,3720.5803714470012,1.0111288297764056,{"$f":"D31*E31","v":3761.9860770702708}]
[null,"* Con la población objetivo, sera su dato base para empezar a realizar los calculos."]

{"sheet":"Base_Diseño  ","index":7,"n_rows":45,"n_cols":8,"rows_kept":45,"cut":false,"hidden":false,"merged":[[0,1,0,4],[1,1,1,4],[2,1,2,4],[4,1,4,4],[5,1,5,4],[23,0,23,4],[30,0,30,4],[34,0,34,4],[38,0,38,4],[42,0,43,4]]}
[null,"HERRAMIENTA DE APOYO A LA ELABORACIÓN DEL ESTUDIO DE MERCADO DE PROYECTOS DE AGUA POTABLE"]
[null,"DIRECCIÓN DE PREINVERSIÓN "]
[null,"Enero 2025"]
[]
["Proyecto:",{"$f":"DIAGRAMA!B5","v":"CONSTRUCCIÓN SISTEMA DE AGUA POTABLE COMUNIDAD EL ALTO"}]
["Municipio:",{"$f":"DIAGRAMA!B6","v":"Acatenango"}]
["Tipo de Abastecimiento","Gravedad "]
["Densidad de Vivienda (hab/viv)",5,null,"No. de Auxiliaturas+Comercios",0]
["Aforo de la fuente (L/s)",3.6,null,"No. de Iglesias",0]
["Dotación (L/hab/día) (3)",90,null,"No. de Escuelas",0,"No. CONEXIONES",{"$f":"B13+E8+E9+E10","v":603}]
["Tarifa mensual estimada, en Quetzales",25,null,"Conexiones Futuras (viv)",{"$f":"B13*POWER((1+B16/100),B15)+E8+E9+E10","v":752.39721541405402},"Dotación",500,"Auxiliaruas + comericios"]
[null,null,null,"Población Futura (hab)",{"$f":"B14*POWER((1+B16/100),B15)","v":3761.9860770702703},"Dotación",1500,"L/Escuela/día"]
["Viviendas Actuales (viv)",{"$f":"B14/B8","v":603},null,"Caudal Medio Qm (L/s)",{"$f":"B10*E12/86400+E9*1000/86400+E10*1500/86400+E8*500/86400","v":3.9187354969481984},"Dotación",1000,"L/Iglesia/día"]
["Población Actual (hab)",{"$f":"DIAGRAMA!E32","v":3015},null,"Caudal Máximo Diario - CMD (L/s)",{"$f":"B18*$E$13","v":4.7024825963378376}]
["Periodo de diseño en años (1)",{"$f":"'POBLACIÓN PROYECTADA'!B31","v":20},null,"Caudal Máximo Horario - CMH (L/s)",{"$f":"B19*$E$13","v":9.7968387423704968},{"$f":"IF(E13<=$E$18,\"ACEPTABLE\",\"VERIFICAR\")","v":"VERIFICAR"}]
["Tasa de Crecimiento en % (2)",{"$f":"DIAGRAMA!I20","v":1.1128829776405613},null,"Tanque 1  Distribución Calculado (m³)",{"$f":"(B21/100*E13*86400/1000)","v":118.5025614277135},{"$f":"IF(E14<=$E$18,\"ACEPTABLE\",\"VERIFICAR\")","v":"VERIFICAR"}]
[null,null,null,"Tanque 1 Distribución Recomendado (m³)",{"$f":"ROUND(E16,0)","v":119}]
["Factor Máximo Diario - FMD (4)",1.2,null,"Caudal Ecológico 10% (0.90*Qfuente ≥ CMD)",{"$f":"PRODUCT(B9,0.9)","v":3.24},null,null," "]
["Factor Máximo Horario - FMH (5)",2.5,null,null,{"$f":"IF(B9*0.9>E14,\"Cumple\",\"Sin caudal ecológico\")","v":"Sin caudal ecológico"}]
[]
["% para calcular Vol. en T.D. (6)",35]
[]
["1. PERIODO DE DISEÑO"]
["Es el tiempo para el cual se considera que el diseño de un sistema de agua potable será funcional y cumplirá con su cometido (abastecer) de agua a una comunidad) con eficiencia. Se establece para efectos de la normativa lo siguiente: se recomienda un periodo de diseño de 20 años más 2 años de gestión del proyecto."]
[]
["2. TASA DE CRECIMIENTO POBLACIONAL"]
["El valor de la tasa de crecimiento poblacional considerado es según tasas de crecimiento a nivel municipal período 2015 - 2018."]
["Fuente: INE, Estimaciones y Proyecciones de Población Municipal: 2015 - 2035"]
[]
["3. DOTACIÓN"]
["Es la cantidad de agua asignada a un habitante en un día en una población. Se expresa en L/hab/día. Para servicio de conexiones intradomiciliares con opción a varios grifos por vivienda se recomienda una dotación de 60 a 120 L/hab/día. En este proyecto se considera una dotación de 500 L/día para Auxiliaturas y comercios, para escuelas 1500 L/día y por ultimo iglesias de 1000 L/día. "]
["Guía de normas sanitarias para el diseño de abastecimiento de agua para consumo humano, Noviembre 2011. (área rural)"]
[]
["4. CAUDAL MÁXIMO DIARIO (CMD)  y FACTOR MÁXIMO DIARIO (FMD)"]
["El factor utilizado para calcular este parámetro depende de la población futura del proyecto. Para una población menor de 1,000 habitantes el factor oscila entre 1.2 y 1.5. Para una población mayor de 1,000 habitantes el factor es de 1.2."]
["Guía de normas sanitarias para el diseño de abastecimiento de agua para consumo humano, Noviembre 2011."]
[]
["5. CAUDAL MÁXIMO HORARIO (CMH) Y FACTOR MÁXIMO HORARIO (FMH)"]
["El factor utilizado para calcular este parámetro depende de la población futura del proyecto. Para una poblacion menor de 1,000 habitantes el factor oscila entre 2 y 3. Para una población mayor de 1,000 habitantes el factor es de 2."]
["Guía de normas sanitarias para el diseño de abastecimiento de agua para consumo humano, Noviembre 2011."]
[]
["6. TANQUE DE DISTRIBUCIÓN O ALMACENAMIENTO"]
["El volumen calculado se calcula adoptando del 25 - 40 porciento del consumo medio diario (Qm) en sistemas por gravedad. En sistemas por bombeo se adoptará del 40 - 65 porciento."]
[]
["Guía de normas sanitarias para el diseño de abastecimiento de agua para consumo humano, Noviembre 2011."]

{"sheet":"Tipo Abastecimiento","index":8,"n_rows":2,"n_cols":1,"rows_kept":2,"cut":false,"hidden":true,"merged":[]}
["Gravedad "]
["Bombeo"]

{"sheet":"Hoja3","index":9,"n_rows":8,"n_cols":3,"rows_kept":8,"cut":false,"hidden":true,"merged":[]}
[]
[null,null,"Para una población menor de 1,000 habitantes el factor oscila entre 1.2 y 1.5."]
[null,null,1.2]
[null,null,1.3]
[null,null,1.4]
[null,null,1.5]
[]
[null,null,"Para una población mayor de 1,000 habitantes el factor es de 1.2"]

{"sheet":"DEMANDA FINAL","index":10,"n_rows":31,"n_cols":12,"rows_kept":31,"cut":false,"hidden":false,"merged":[[6,1,7,9],[0,2,0,5],[1,2,1,5],[2,2,2,5],[4,3,5,4],[4,5,5,5]]}
[null,null,"HERRAMIENTA DE APOYO A LA ELABORACIÓN DEL ESTUDIO DE MERCADO DE PROYECTOS DE AGUA POTABLE"]
[null,null,"DIRECCIÓN DE PREINVERSIÓN "]
[null,null,"Enero 2025"]
[]
[null,null,null,"Consumo Diario Por Persona                    Dotación (L/hab/día) (3)",null,{"$f":"'Base_Diseño  '!B10","v":90}]
[]
[]
[]
[null,2.3199999999999998,"TASA DE CRECIMIENTO","(Px) POBLACIÓN PROYECTADA","(CD) CONSUMO DIARIO POR PERSONA","(DAL) DEMANDA ANUAL EN LITROS (Px*CD*dias al año)","(DDL) DEMANDA DIARIA EN LITROS (Px*CD)","(DAm3) DEMANDA ANUAL EN MTS3 (DAL/1000)","(DDm3) DEMANDA DIARIA EN MTS3 (DDL/1000)","(DDLs) DEMANDA DIARIA EN LITROS por segundo"]
[0,2024,{"$f":"'POBLACIÓN PROYECTADA'!E12","v":1.0111288297764056},{"$f":"'POBLACIÓN PROYECTADA'!F11","v":3015},{"$f":"$F$5","v":90},"-o-","-o-","-o-","-o-","-o-"]
[1,2025,{"$f":"C10","v":1.0111288297764056},{"$f":"'POBLACIÓN PROYECTADA'!F12","v":3048.5534217758627},{"$f":"$F$5","v":90},{"$f":"D11*E11*365","v":100144979.9053371},{"$f":"D11*E11","v":274369.80795982765},{"$f":"F11/1000","v":100144.9799053371},{"$f":"G11/1000","v":274.36980795982765},{"$f":"G11/86400","v":3.1755764810165239},"Px","Población Proyectada"]
[2,2026,{"$f":"C11","v":1.0111288297764056},{"$f":"'POBLACIÓN PROYECTADA'!F13","v":3082.4802538710851},90,{"$f":"D12*E12*365","v":101259476.33966516},{"$f":"D12*E12","v":277423.22284839768},{"$f":"F12/1000","v":101259.47633966515},{"$f":"G12/1000","v":277.4232228483977},{"$f":"G12/86400","v":3.210916931115714},"CD","Consumo Diario"]
[3,2027,{"$f":"C12","v":1.0111288297764056},{"$f":"'POBLACIÓN PROYECTADA'!F14","v":3116.7846519055479},90,102386375.81509724,280510.61867149931,102386.37581509724,280.51061867149929,3.2466506790682792,"DAL ","Demanda Anual en Litros"]
[4,2028,1.0111288297764056,{"$f":"'POBLACIÓN PROYECTADA'!F15","v":3151.4708177463185},90,103525816.36296655,283632.37359716865,103525.81636296655,283.63237359716868,3.2827821018190817,"DDL","Demanda diaria en litros"]
[5,2029,1.0111288297764056,{"$f":"'POBLACIÓN PROYECTADA'!F16","v":3186.5430000223273},90,104677937.55073345,286788.87000200944,104677.93755073345,286.78887000200945,3.3193156250232576,"DAm3","Demanda Anual en m3"]
[6,2030,1.0111288297764056,{"$f":"'POBLACIÓN PROYECTADA'!F17","v":3222.0054946447726},90,105842880.49908079,289980.49451802956,105842.8804990808,289.98049451802956,3.3562557235883053,"Px","Población Proyectada"]
[7,2031,1.0111288297764056,{"$f":"'POBLACIÓN PROYECTADA'!F18","v":3257.8626453333177},90,107020787.89919949,293207.63807999861,107020.78789919948,293.20763807999862,3.3936069222222063,"dias/Año",365]
[8,2032,1.0111288297764056,{"$f":"'POBLACIÓN PROYECTADA'!F19","v":3294.1188441481427},90,108211804.03026649,296470.69597333285,108211.80403026649,296.47069597333285,3.4313737959876489]
[9,2033,1.0111288297764056,{"$f":"'POBLACIÓN PROYECTADA'!F20","v":3330.7785320279172},90,109416074.77711707,299770.06788251252,109416.07477711707,299.77006788251254,3.4695609708624136,"Columnas","calculos que debe realizar"]
[10,2034,1.0111288297764056,{"$f":"'POBLACIÓN PROYECTADA'!F21","v":3367.8461993337619},90,110633747.64811409,303106.1579400386,110633.74764811409,303.1061579400386,3.5081731243060021,"(CD) CONSUMO DIARIO","90 y 100"]
[11,2035,1.0111288297764056,{"$f":"'POBLACIÓN PROYECTADA'!F22","v":3405.326386399262},90,111864971.79321575,306479.37477593357,111864.97179321575,306.47937477593359,3.5472149858325643,"(DAL) DEMANDA ANUAL EN LITROS ","=(Px*CD*365)"]
[12,2036,1.0111288297764056,{"$f":"'POBLACIÓN PROYECTADA'!F23","v":3443.2236840866017},90,113109898.02224486,309890.13156779413,113109.89802224486,309.89013156779413,3.5866913375902096,"(DDL) DEMANDA DIARIA EN LITROS ","=(Px*CD)"]
[13,2037,1.0111288297764056,{"$f":"'POBLACIÓN PROYECTADA'!F24","v":3481.5427343488896},90,114368678.82336102,313338.84609140008,114368.67882336103,313.33884609140006,3.6266070149467602,"(DAm3) DEMANDA ANUAL EN MTS3 ","=(DAL/1000)"]
[14,2038,1.0111288297764056,{"$f":"'POBLACIÓN PROYECTADA'!F25","v":3520.2882307987402},90,115641468.38173862,316825.94077188661,115641.46838173862,316.82594077188662,3.666966907082021,"(DDm3) DEMANDA DIARIA EN MTS3 ","=(DDL/1000)"]
[15,2039,1.0111288297764056,{"$f":"'POBLACIÓN PROYECTADA'!F26","v":3559.4649192831835},90,116928422.59845258,320351.84273548651,116928.42259845258,320.35184273548651,3.7077759575866494,"SEGUNDOS ANUALES","31536000"]
[16,2040,1.0111288297764056,{"$f":"'POBLACIÓN PROYECTADA'!F27","v":3599.0775984649736},90,118229699.10957438,323916.98386184761,118229.69910957437,323.9169838618476,3.7490391650676806,"SEGUNDOS AL DIA",86400]
[17,2041,1.0111288297764056,{"$f":"'POBLACIÓN PROYECTADA'!F28","v":3639.1311204103649},90,119545457.3054805,327521.80083693285,119545.45730548049,327.52180083693287,3.7907615837607969,"(DDLs) DEMANDA DIARIA EN LITROS POR SEGUNDO","=(DDL/86400)"]
[18,2042,1.0111288297764056,{"$f":"'POBLACIÓN PROYECTADA'!F29","v":3679.630391183432},90,120875858.35037574,331166.73520650889,120875.85835037574,331.16673520650892,3.8329483241494087]
[19,2043,1.0111288297764056,{"$f":"'POBLACIÓN PROYECTADA'!F30","v":3720.5803714470012},90,122221065.202034,334852.23343023012,122221.06520203399,334.85223343023011,3.8756045535906263]
[20,2044,1.0111288297764056,{"$f":"'POBLACIÓN PROYECTADA'!F31","v":3761.9860770702708},90,123581242.63175839,338578.74693632434,123581.24263175839,338.57874693632436,3.9187354969481984]
[null,"PROMEDIO",null,{"$f":"AVERAGE(D10:D30)","v":3375.4140654429411}]

{"sheet":"OFERTA FINAL","index":11,"n_rows":33,"n_cols":19,"rows_kept":33,"cut":false,"hidden":false,"merged":[[3,1,3,13],[4,12,5,12],[28,2,28,5],[4,13,5,13],[0,2,0,7],[1,2,1,7],[2,2,2,7],[0,10,1,10],[0,11,1,11],[31,2,31,5],[32,2,32,5],[29,2,29,5],[30,2,30,5],[4,1,4,5]]}
[null,null,"HERRAMIENTA DE APOYO A LA ELABORACIÓN DEL ESTUDIO DE MERCADO DE PROYECTOS DE AGUA POTABLE",null,null,null,null,null,null,null,"Oferta Diaria Litros por Segundo",{"$f":"'Base_Diseño  '!B9","v":3.6}]
[null,null,"DIRECCIÓN DE PREINVERSIÓN ",null,null,null,null,null,null,null,null,null,null,null,null,null,null,"Columnas","Calculos que debe realizar"]
[null,null,"Enero 2025",null,null,null,null,null,null,null,null,null,null,null,null,null,null,"(Px) POBLACIÓN PROYECTA","Copiar de Poblacion Poyectada"]
[null,"BALANCE OFERTA Y DEMANDA",null,null,null,null,null,null,null,null,null,null,null,null,"x","1…..15",null,"(OFA) OFERTA EN MTS3 ANUALES                                  ","= (sA*LsA)/1000"]
[null,"PROYECCIÓN DE LA POBLACIÓN",null,null,null,null,"OFERTA","OFERTA DIARIA",null,"DEMANDA   ","DEMANDA DIARIA",null,"EXCENDENTE                                           =(OFA) - (DAm3)","EXCENDENTE                                           =(OFDs) - (DDls)","Px","Población Proyectada",null,"(OFD) OFERTA DIARIA EN MTS3                "," =(OFA/365)"]
[null,"No. (x)","AÑO","POBLACIÓN BASE","TASA DE CRECIMIENTO","(Px) POBLACIÓN PROYECTA","(OFA) OFERTA EN MTS3 ANUALES                                  = (sA*LsA)/1000","(OFD) OFERTA DIARIA EN MTS3                 =(OFA/365)","(OFDLs)"," (DAm3) DEMANDA ANUAL EN MTS3 ","(DDm3)DEMANDA DIARIA EN MTS3","(DDLs) DEMANDA DIARIA EN LITROS por segundo",null,null,"OFA","Oferta Anual  en m3",null,"(OFDLs) OFERTA DIARIA EN LITROS X SEGUNDO","3.93"]
[null,0,{"$f":"'DEMANDA FINAL'!B10","v":2024},null,null,{"$f":"'DEMANDA FINAL'!D10","v":3015},"-o-","-o-",null,"-o-","-o-","-o-","-o-","-o-","sA","segundos al Año (31536000)",null," (DAm3) DEMANDA ANUAL EN MTS3 ","Datos calculados en Demanda Final"]
[null,1,{"$f":"'DEMANDA FINAL'!B11","v":2025},4230,1.028,{"$f":"'DEMANDA FINAL'!D11","v":3048.5534217758627},{"$f":"(60*60*24*365)*$L$1/1000","v":113529.60000000001},{"$f":"G8/365","v":311.04000000000002},{"$f":"$L$1","v":3.6},{"$f":"'DEMANDA FINAL'!H11","v":100144.9799053371},{"$f":"'DEMANDA FINAL'!I11","v":274.36980795982765},{"$f":"'DEMANDA FINAL'!J11","v":3.1755764810165239},{"$f":"G8-J8","v":13384.620094662911},{"$f":"I8-L8","v":0.42442351898347619},"LsA","Litros por segundo Aforo (3.93)",null,"(DDm3)DEMANDA DIARIA EN MTS3","Datos calculados en Demanda Final"]
[null,2,{"$f":"'DEMANDA FINAL'!B12","v":2026},4348,1.028,{"$f":"'DEMANDA FINAL'!D12","v":3082.4802538710851},113529.60000000001,{"$f":"G9/365","v":311.04000000000002},3.6,{"$f":"'DEMANDA FINAL'!H12","v":101259.47633966515},{"$f":"'DEMANDA FINAL'!I12","v":277.4232228483977},{"$f":"'DEMANDA FINAL'!J12","v":3.210916931115714},{"$f":"G9-J9","v":12270.123660334852},{"$f":"I9-L9","v":0.38908306888428612},"DAm3","Demanda Anual en m3",null,"EXCENDENTE                                           ","=(OFA) - (DAm3)"]
[null,3,{"$f":"'DEMANDA FINAL'!B13","v":2027},4470,1.028,{"$f":"'DEMANDA FINAL'!D13","v":3116.7846519055479},113529.60000000001,311.04000000000002,3.6,{"$f":"'DEMANDA FINAL'!H13","v":102386.37581509724},{"$f":"'DEMANDA FINAL'!I13","v":280.51061867149929},{"$f":"'DEMANDA FINAL'!J13","v":3.2466506790682792},11143.224184902763,0.35334932093172089,"1 m3","Ls/1000",null,"EXCENDENTE                                           ","=(OFDLs) - (DDLs)"]
[null,4,{"$f":"'DEMANDA FINAL'!B14","v":2028},4595,1.028,{"$f":"'DEMANDA FINAL'!D14","v":3151.4708177463185},113529.60000000001,311.04000000000002,3.6,{"$f":"'DEMANDA FINAL'!H14","v":103525.81636296655},{"$f":"'DEMANDA FINAL'!I14","v":283.63237359716868},{"$f":"'DEMANDA FINAL'!J14","v":3.2827821018190817},10003.783637033455,0.31721789818091839,"Sd",86400]
[null,5,{"$f":"'DEMANDA FINAL'!B15","v":2029},4724,1.028,{"$f":"'DEMANDA FINAL'!D15","v":3186.5430000223273},113529.60000000001,311.04000000000002,3.6,{"$f":"'DEMANDA FINAL'!H15","v":104677.93755073345},{"$f":"'DEMANDA FINAL'!I15","v":286.78887000200945},{"$f":"'DEMANDA FINAL'!J15","v":3.3193156250232576},8851.6624492665578,0.28068437497674248]
[null,6,{"$f":"'DEMANDA FINAL'!B16","v":2030},4856,1.028,{"$f":"'DEMANDA FINAL'!D16","v":3222.0054946447726},113529.60000000001,311.04000000000002,3.6,{"$f":"'DEMANDA FINAL'!H16","v":105842.8804990808},{"$f":"'DEMANDA FINAL'!I16","v":289.98049451802956},{"$f":"'DEMANDA FINAL'!J16","v":3.3562557235883053},7686.7195009192073,0.24374427641169483]
[null,7,{"$f":"'DEMANDA FINAL'!B17","v":2031},4992,1.028,{"$f":"'DEMANDA FINAL'!D17","v":3257.8626453333177},113529.60000000001,311.04000000000002,3.6,{"$f":"'DEMANDA FINAL'!H17","v":107020.78789919948},{"$f":"'DEMANDA FINAL'!I17","v":293.20763807999862},{"$f":"'DEMANDA FINAL'!J17","v":3.3936069222222063},6508.8121008005255,0.20639307777779381]
[null,8,{"$f":"'DEMANDA FINAL'!B18","v":2032},5132,1.028,{"$f":"'DEMANDA FINAL'!D18","v":3294.1188441481427},113529.60000000001,311.04000000000002,3.6,{"$f":"'DEMANDA FINAL'!H18","v":108211.80403026649},{"$f":"'DEMANDA FINAL'!I18","v":296.47069597333285},{"$f":"'DEMANDA FINAL'!J18","v":3.4313737959876489},5317.7959697335173,0.16862620401235118,null,null,null,null,"."]
[null,9,{"$f":"'DEMANDA FINAL'!B19","v":2033},5276,1.028,{"$f":"'DEMANDA FINAL'!D19","v":3330.7785320279172},113529.60000000001,311.04000000000002,3.6,{"$f":"'DEMANDA FINAL'!H19","v":109416.07477711707},{"$f":"'DEMANDA FINAL'!I19","v":299.77006788251254},{"$f":"'DEMANDA FINAL'!J19","v":3.4695609708624136},4113.525222882934,0.13043902913758654]
[null,10,{"$f":"'DEMANDA FINAL'!B20","v":2034},5424,1.028,{"$f":"'DEMANDA FINAL'!D20","v":3367.8461993337619},113529.60000000001,311.04000000000002,3.6,{"$f":"'DEMANDA FINAL'!H20","v":110633.74764811409},{"$f":"'DEMANDA FINAL'!I20","v":303.1061579400386},{"$f":"'DEMANDA FINAL'!J20","v":3.5081731243060021},2895.8523518859147,9.1826875693997945E-2]
[null,11,{"$f":"'DEMANDA FINAL'!B21","v":2035},5572,1.028,{"$f":"'DEMANDA FINAL'!D21","v":3405.326386399262},113529.60000000001,311.04000000000002,3.6,{"$f":"'DEMANDA FINAL'!H21","v":111864.97179321575},{"$f":"'DEMANDA FINAL'!I21","v":306.47937477593359},{"$f":"'DEMANDA FINAL'!J21","v":3.5472149858325643},1664.6282067842549,5.2785014167435751E-2]
[null,12,{"$f":"'DEMANDA FINAL'!B22","v":2036},5720,1.028,{"$f":"'DEMANDA FINAL'!D22","v":3443.2236840866017},113529.60000000001,311.04000000000002,3.6,{"$f":"'DEMANDA FINAL'!H22","v":113109.89802224486},{"$f":"'DEMANDA FINAL'!I22","v":309.89013156779413},{"$f":"'DEMANDA FINAL'!J22","v":3.5866913375902096},419.7019777551468,1.330866240979045E-2]
[null,13,{"$f":"'DEMANDA FINAL'!B23","v":2037},5868,1.028,{"$f":"'DEMANDA FINAL'!D23","v":3481.5427343488896},113529.60000000001,311.04000000000002,3.6,{"$f":"'DEMANDA FINAL'!H23","v":114368.67882336103},{"$f":"'DEMANDA FINAL'!I23","v":313.33884609140006},{"$f":"'DEMANDA FINAL'!J23","v":3.6266070149467602},-839.07882336102193,-2.6607014946760099E-2]
[null,14,{"$f":"'DEMANDA FINAL'!B24","v":2038},6016,1.028,{"$f":"'DEMANDA FINAL'!D24","v":3520.2882307987402},113529.60000000001,311.04000000000002,3.6,{"$f":"'DEMANDA FINAL'!H24","v":115641.46838173862},{"$f":"'DEMANDA FINAL'!I24","v":316.82594077188662},{"$f":"'DEMANDA FINAL'!J24","v":3.666966907082021},-2111.8683817386191,-6.696690708202091E-2]
[null,15,{"$f":"'DEMANDA FINAL'!B25","v":2039},6164,1.028,{"$f":"'DEMANDA FINAL'!D25","v":3559.4649192831835},113529.60000000001,311.04000000000002,3.6,{"$f":"'DEMANDA FINAL'!H25","v":116928.42259845258},{"$f":"'DEMANDA FINAL'!I25","v":320.35184273548651},{"$f":"'DEMANDA FINAL'!J25","v":3.7077759575866494},-3398.8225984525779,-0.10777595758664926]
[null,16,{"$f":"'DEMANDA FINAL'!B26","v":2040},6312,1.028,{"$f":"'DEMANDA FINAL'!D26","v":3599.0775984649736},113529.60000000001,311.04000000000002,3.6,{"$f":"'DEMANDA FINAL'!H26","v":118229.69910957437},{"$f":"'DEMANDA FINAL'!I26","v":323.9169838618476},{"$f":"'DEMANDA FINAL'!J26","v":3.7490391650676806},-4700.0991095743666,-0.14903916506768056]
[null,17,{"$f":"'DEMANDA FINAL'!B27","v":2041},6460,1.028,{"$f":"'DEMANDA FINAL'!D27","v":3639.1311204103649},113529.60000000001,311.04000000000002,3.6,{"$f":"'DEMANDA FINAL'!H27","v":119545.45730548049},{"$f":"'DEMANDA FINAL'!I27","v":327.52180083693287},{"$f":"'DEMANDA FINAL'!J27","v":3.7907615837607969},-6015.8573054804874,-0.19076158376079677]
[null,18,{"$f":"'DEMANDA FINAL'!B28","v":2042},6608,1.028,{"$f":"'DEMANDA FINAL'!D28","v":3679.630391183432},113529.60000000001,311.04000000000002,3.6,{"$f":"'DEMANDA FINAL'!H28","v":120875.85835037574},{"$f":"'DEMANDA FINAL'!I28","v":331.16673520650892},{"$f":"'DEMANDA FINAL'!J28","v":3.8329483241494087},-7346.2583503757342,-0.23294832414940858]
[null,19,{"$f":"'DEMANDA FINAL'!B29","v":2043},6756,1.028,{"$f":"'DEMANDA FINAL'!D29","v":3720.5803714470012},113529.60000000001,311.04000000000002,3.6,{"$f":"'DEMANDA FINAL'!H29","v":122221.06520203399},{"$f":"'DEMANDA FINAL'!I29","v":334.85223343023011},{"$f":"'DEMANDA FINAL'!J29","v":3.8756045535906263},-8691.4652020339854,-0.27560455359062619]
[null,20,{"$f":"'DEMANDA FINAL'!B30","v":2044},6904,1.028,{"$f":"'DEMANDA FINAL'!D30","v":3761.9860770702708},113529.60000000001,311.04000000000002,3.6,{"$f":"'DEMANDA FINAL'!H30","v":123581.24263175839},{"$f":"'DEMANDA FINAL'!I30","v":338.57874693632436},{"$f":"'DEMANDA FINAL'!J30","v":3.9187354969481984},-10051.642631758383,-0.31873549694819836]
[]
[null,"SEGUNDOS","TIEMPO",null,null,null,60,"segundos"]
[null,60,"UN MINUTO",null,null,null,60,"minutos"]
[null,{"$f":"60*60","v":3600},"UNA HORA",null,null,null,24,"horas"]
[null,{"$f":"60*60*24","v":86400},"UN DIA",null,null,null,365,"dias"]
[null,{"$f":"60*60*24*365","v":31536000},"UN AÑO",null,null,null,{"$f":"G29*G30*G31*G32","v":31536000},"segundos al Año (sA)"]

{"sheet":"INGRESOS E2 ALTERNATIVA 1 ","index":12,"n_rows":33,"n_cols":9,"rows_kept":33,"cut":false,"hidden":false,"merged":[[4,1,5,1],[8,7,8,10],[9,8,9,10],[10,8,10,10],[11,8,11,10],[12,8,12,10],[13,8,13,10],[0,2,0,5],[1,2,1,5],[2,2,2,5]]}
[null,null,"HERRAMIENTA DE APOYO A LA ELABORACIÓN DEL ESTUDIO DE MERCADO DE PROYECTOS DE AGUA POTABLE"]
[null,null,"DIRECCIÓN DE PREINVERSIÓN "]
[null,null,"Enero 2025"]
[null,null,"Alternativa 1: Abastecimiento por gravedad. "]
[null,"TARIFA MENSUAL","Tarifa Preliminar","Tarifa Corregida"]
[null,null,{"$f":"'Base_Diseño  '!B11","v":25}]
[]
[null,"Año / descripción ","(Px) Población beneficiada a/","(Tv) Total de viviendas                =Px/5  (conexiones)b/"," (T) TARIFA MENSUAL "," Ingresos Anuales = Tv*T"]
[null,0,{"$f":"'POBLACIÓN PROYECTADA'!F11","v":3015},{"$f":"C9/5","v":603},"-o-","-o-",null,"INSTRUCCIONES"]
[null,1,{"$f":"'POBLACIÓN PROYECTADA'!F12","v":3048.5534217758627},609.71068435517259,{"$f":"IF($D$6<$C$6,$C$6,$D$6)*12","v":300},{"$f":"D10*E10","v":182913.20530655177},null,"Columnas","Calculos que debe realizar"]
[null,2,{"$f":"'POBLACIÓN PROYECTADA'!F13","v":3082.4802538710851},616.496050774217,{"$f":"IF($D$6<$C$6,$C$6,$D$6)*12","v":300},184948.8152322651,null,"(Px) Población beneficiada ","Copiar de pestaña Población Proyectada"]
[null,3,{"$f":"'POBLACIÓN PROYECTADA'!F14","v":3116.7846519055479},623.35693038110958,300,187007.07911433288,null,"(Tv) Total de viviendas a/ b/","=(PX)/5"]
[null,4,{"$f":"'POBLACIÓN PROYECTADA'!F15","v":3151.4708177463185},630.29416354926366,300,189088.24906477908,null,"(T) TARIFA ","= Tarifa mensual * 12 meses"]
[null,5,{"$f":"'POBLACIÓN PROYECTADA'!F16","v":3186.5430000223273},637.30860000446546,300,191192.58000133964,null," Ingresos Anuales","= Tv * T"]
[null,6,{"$f":"'POBLACIÓN PROYECTADA'!F17","v":3222.0054946447726},644.40109892895453,300,193320.32967868636]
[null,7,{"$f":"'POBLACIÓN PROYECTADA'!F18","v":3257.8626453333177},651.57252906666349,300,195471.75871999905]
[null,8,{"$f":"'POBLACIÓN PROYECTADA'!F19","v":3294.1188441481427},658.82376882962853,300,197647.13064888856]
[null,9,{"$f":"'POBLACIÓN PROYECTADA'!F20","v":3330.7785320279172},666.15570640558349,300,199846.71192167504]
[null,10,{"$f":"'POBLACIÓN PROYECTADA'!F21","v":3367.8461993337619},673.56923986675235,300,202070.77196002571]
[null,11,{"$f":"'POBLACIÓN PROYECTADA'!F22","v":3405.326386399262},681.06527727985235,300,204319.58318395569]
[null,12,{"$f":"'POBLACIÓN PROYECTADA'!F23","v":3443.2236840866017},688.64473681732034,300,206593.4210451961]
[null,13,{"$f":"'POBLACIÓN PROYECTADA'!F24","v":3481.5427343488896},696.30854686977796,300,208892.56406093339]
[null,14,{"$f":"'POBLACIÓN PROYECTADA'!F25","v":3520.2882307987402},704.05764615974806,300,211217.29384792442]
[null,15,{"$f":"'POBLACIÓN PROYECTADA'!F26","v":3559.4649192831835},711.89298385663665,300,213567.895156991]
[null,16,{"$f":"'POBLACIÓN PROYECTADA'!F27","v":3599.0775984649736},719.81551969299471,300,215944.65590789841]
[null,17,{"$f":"'POBLACIÓN PROYECTADA'!F28","v":3639.1311204103649},727.82622408207294,300,218347.86722462188]
[null,18,{"$f":"'POBLACIÓN PROYECTADA'!F29","v":3679.630391183432},735.92607823668641,300,220777.82347100592]
[null,19,{"$f":"'POBLACIÓN PROYECTADA'!F30","v":3720.5803714470012},744.11607428940022,300,223234.82228682007]
[null,20,{"$f":"'POBLACIÓN PROYECTADA'!F31","v":3761.9860770702708},752.39721541405413,300,225719.16462421624]
[null,"Promedios",{"$f":"AVERAGE(C9:C29)","v":3375.4140654429411},{"$f":"AVERAGE(D9:D29)","v":675.08281308858818},"Total Ingresos",{"$f":"SUM(F10:F29)","v":4072121.7224581069}]
[null,"a/ Se promedia 5 personas por vivienda. (Pv)"]
[null,"b/ Se asume que cada familia es propietaria de una vivienda."]
[null,"Fuente: elaboración propia en base a presupuesto del proyecto. "]

{"sheet":"VAC CAE ALTERNATIVA 1","index":13,"n_rows":42,"n_cols":12,"rows_kept":42,"cut":false,"hidden":false,"merged":[[19,11,20,11],[0,0,0,2],[1,0,1,2],[2,0,2,2],[4,0,4,1],[6,0,6,1],[10,6,10,9],[11,6,11,9],[18,6,18,9],[19,6,20,7],[19,8,20,9],[19,10,20,10],[3,0,3,2],[21,6,21,7],[21,8,21,9],[31,7,31,9],[38,0,39,2],[39,3,39,4]]}
["HERRAMIENTA DE APOYO A LA ELABORACIÓN DEL ESTUDIO DE MERCADO DE PROYECTOS DE AGUA POTABLE"]
["DIRECCIÓN DE PREINVERSIÓN "]
["Enero 2025"]
[{"$f":"'INGRESOS E2 ALTERNATIVA 1 '!C4","v":"Alternativa 1: Abastecimiento por gravedad. "}]
["Total del Proyecto ",null,2288130.4300000002]
[]
["Total de costos administrativos, O y M",null,7500]
["costo se mantiene igual en todos los años"]
[]
["Años","Costos de inversión","Costos de operación y Mant.","TSD","Flujo actualizado"]
[0,{"$f":"C5","v":2288130.4300000002},null,0.12,{"$f":"C5","v":2288130.4300000002},null,"Parámetros para el cálculo del flujo de costos"]
[1,null,{"$f":"C7","v":7500},{"$f":"1/(1+$D$11)^A12","v":0.89285714285714279},{"$f":"C12*D12","v":6696.4285714285706}]
[2,null,{"$f":"C12*(($I$13/100)+1)","v":7715.9999999999991},{"$f":"1/(1+$D$11)^A13","v":0.79719387755102034},{"$f":"C13*D13","v":6151.1479591836724},null,1,"Inflación",2.88]
[3,null,7938.2207999999982,{"$f":"1/(1+$D$11)^A14","v":0.71178024781341087},5650.268768221571,null,2,"Período de diseño",20,"años"]
[4,null,8166.8415590399973,0.63551807840483121,5190.1754542378148,null,3,"Tasa social de descuento",0.12]
[5,null,8402.0465959403482,0.56742685571859919,4767.5468815355916]
[6,null,8644.0255379034297,0.50663112117732068,4379.3323497534075]
[7,null,8892.9734733950481,0.45234921533689343,4022.7295727020578]
[8,null,9149.0911094288258,0.4038832279793691,3695.1644503534612,null,"FORMULA EXTENDIDA PARA DETERMINAR CAE"]
[9,null,9412.5849333803762,0.36061002498157957,3394.272487967537,null,"FACTOR DETERMINAR CAE",null,{"$f":"-PMT(D11,A31,1)","v":0.13387878003966067},null,null,"Formula automatica Excel"]
[10,null,9683.6673794617309,0.32197323659069599,3117.8817282330369]
[11,null,9962.5569999902273,0.28747610409883567,2863.9970732197744,null,"CAE",null,{"$f":"I20*E32","v":315327.98360835807}]
[12,null,10249.478641589945,0.25667509294538904,2630.7858829718789,null,"Tomar en cuenta que son 20 años, por lo que cambia el factor"]
[13,null,10544.663626467735,0.22917419012981158,2416.5647467870249]
[14,null,10848.349938910005,0.20461981261590317,2219.7873316915097]
[15,null,11160.782417150613,0.18269626126419927,2039.0332203966298]
[16,null,11482.21295076455,0.16312166184303503,1872.9976581643323]
[17,null,11812.900683746568,0.14564434093128129,1720.4821345709508]
[18,null,12153.112223438467,0.13003959011721541,1580.3857321844587]
[19,null,12503.121855473495,0.1161067768903709,1451.6971797065812]
[20,null,12863.211764911131,0.1036667650806883,1333.4875522161881]
[null,null,null,"VAC",{"$f":"SUM(E11:E31)","v":2355324.5967355268},null,"CAE","COSTO MÍNIMO CON EL QUE PUEDE OPERAR CADA AÑO para poder mantener el proyecto "]
[null,null,null,"CAE",{"$f":"-PMT(D11,A31,E32)","v":315327.98360835802}]
[null,null,null,"REL C/EFICIENCIA",{"$f":"E32/E35","v":697.78834568743423},"inversión mínima por vivienda",{"$f":"E32/G35","v":697.78834568743423},"Inversión minima por persona"]
[null,null,null,"Servicios/Poblacion",{"$f":"'INGRESOS E2 ALTERNATIVA 1 '!C30","v":3375.4140654429411},null,{"$f":"E35","v":3375.4140654429411},"Promedio población"]
[null,null,null,"VAC"]
[]
[]
["En el caso de utilizar No. de servicios se divide el VAC  entre el numero de Servicios",null,null,"VAC/No. de conexiones",{"$f":"E32/'INGRESOS E2 ALTERNATIVA 1 '!D30","v":3488.9417284371716}]
[null,null,null,"inversion minima por conexión"]
[]
[null,null,null,null,null,null,{"$f":"+E32","v":2355324.5967355268},{"$f":"+I20","v":0.13387878003966067},{"$f":"G42*H42","v":315327.98360835807}]

{"sheet":"VAN TIR R-BC ALTERNATIVA 1","index":14,"n_rows":45,"n_cols":8,"rows_kept":45,"cut":false,"hidden":false,"merged":[[16,0,16,1],[0,0,0,2],[1,0,1,2],[2,0,2,2],[3,0,3,2],[4,0,4,1],[5,0,5,1],[6,0,6,1],[8,0,8,1],[9,0,9,1],[14,0,14,1],[15,0,15,1],[17,0,17,1],[18,0,18,1],[19,0,19,1],[20,0,20,1],[44,0,44,4]]}
["HERRAMIENTA DE APOYO A LA ELABORACIÓN DEL ESTUDIO DE MERCADO DE PROYECTOS DE AGUA POTABLE"]
["DIRECCIÓN DE PREINVERSIÓN "]
["Enero 2025"]
[{"$f":"'INGRESOS E2 ALTERNATIVA 1 '!C4","v":"Alternativa 1: Abastecimiento por gravedad. "}]
["INVERSION"]
["TOTAL DE INVERSIÓN",null,{"$f":"'VAC CAE ALTERNATIVA 1'!C5","v":2288130.4300000002}]
["COSTOS DE OPERACIÓN Y MANTENIMIENTO",null,{"$f":"'VAC CAE ALTERNATIVA 1'!C7","v":7500}]
[]
["BENEFICIOS (=ingresos, =Ahorros)"]
["TOTAL DE INGRESOS",null,{"$f":"'INGRESOS E2 ALTERNATIVA 1 '!F30","v":4072121.7224581069}]
[]
[]
[]
["INDICADORES FINANCIEROS"]
["PORCENTAJE DE INCREMENTO ",null,2.88]
["INGRESOS",null,{"$f":"C10","v":4072121.7224581069}]
["VAN",null,{"$f":"NPV(E24,D25:D44)+D24","v":-892557.00204230752},">0"]
["TIR",null,{"$f":"IRR(D24:D44)","v":5.4240266663730941E-2},">12%"]
["R-B/C",null,{"$f":"C21/C20","v":0.62104713580481041},"> 1"]
["VAC",null,{"$f":"NPV(E24,C25:C44)+C6","v":2355324.5967355263}]
["VAB",null,{"$f":"NPV(E24,B25:B44)","v":1462767.5946932188}]
[]
["AÑOS","Beneficios (Ahorros/ingresos)","COSTOS","FLUJO DE FONDOS","Tasa de Interes","FLUJO ACTUALIZADO DE FONDOS NETOS","VAB               BENEFICIOS ACTUALIZADOS","VAC                      COSTOS ACTUALIZADOS"]
[0,null,null,{"$f":"-C6","v":-2288130.4300000002},0.12,{"$f":"D24","v":-2288130.4300000002},null,{"$f":"'[2]VAC CAE R-CE'!E11","v":2288130.4300000002}]
[1,{"$f":"'INGRESOS E2 ALTERNATIVA 1 '!F10","v":182913.20530655177},{"$f":"'VAC CAE ALTERNATIVA 1'!C12","v":7500},{"$f":"B25-C25","v":175413.20530655177},{"$f":"1/((1+$E$24)^A25)","v":0.89285714285714279},{"$f":"D25*E25","v":156618.93330942121},{"$f":"B25*E25","v":163315.36188084978},{"$f":"C25*E25","v":6696.4285714285706}]
[2,{"$f":"'INGRESOS E2 ALTERNATIVA 1 '!F11","v":184948.8152322651},{"$f":"'VAC CAE ALTERNATIVA 1'!C13","v":7715.9999999999991},{"$f":"B26-C26","v":177232.8152322651},{"$f":"1/((1+$E$24)^A26)","v":0.79719387755102034},{"$f":"D26*E26","v":141288.91520429295},{"$f":"B26*E26","v":147440.06316347662},{"$f":"C26*E26","v":6151.1479591836724}]
[3,{"$f":"'INGRESOS E2 ALTERNATIVA 1 '!F12","v":187007.07911433288},{"$f":"'VAC CAE ALTERNATIVA 1'!C14","v":7938.2207999999982},179068.85831433287,0.71178024781341087,127457.67634664041,133107.945114862,5650.268768221571]
[4,{"$f":"'INGRESOS E2 ALTERNATIVA 1 '!F13","v":189088.24906477908},{"$f":"'VAC CAE ALTERNATIVA 1'!C15","v":8166.8415590399973},180921.40750573907,0.63551807840483121,114978.8252403447,120169.00069458253,5190.1754542378148]
[5,{"$f":"'INGRESOS E2 ALTERNATIVA 1 '!F14","v":191192.58000133964},{"$f":"'VAC CAE ALTERNATIVA 1'!C16","v":8402.0465959403482},182790.5334053993,0.56742685571859919,103720.2576253513,108487.80450688688,4767.5468815355916]
[6,{"$f":"'INGRESOS E2 ALTERNATIVA 1 '!F15","v":193320.32967868636},{"$f":"'VAC CAE ALTERNATIVA 1'!C17","v":8644.0255379034297},184676.30414078294,0.50663112117732068,93562.763021728737,97942.095371482137,4379.3323497534075]
[7,{"$f":"'INGRESOS E2 ALTERNATIVA 1 '!F16","v":195471.75871999905},{"$f":"'VAC CAE ALTERNATIVA 1'!C18","v":8892.9734733950481},186578.78524660401,0.45234921533689343,84398.767104812068,88421.496677514122,4022.7295727020578]
[8,{"$f":"'INGRESOS E2 ALTERNATIVA 1 '!F17","v":197647.13064888856},{"$f":"'VAC CAE ALTERNATIVA 1'!C19","v":9149.0911094288258},188498.03953945974,0.4038832279793691,76131.196676979744,79826.361127333206,3695.1644503534612]
[9,{"$f":"'INGRESOS E2 ALTERNATIVA 1 '!F18","v":199846.71192167504},{"$f":"'VAC CAE ALTERNATIVA 1'!C20","v":9412.5849333803762},190434.12698829468,0.36061002498157957,68672.45529059424,72066.727778561777,3394.272487967537]
[10,{"$f":"'INGRESOS E2 ALTERNATIVA 1 '!F19","v":202070.77196002571},{"$f":"'VAC CAE ALTERNATIVA 1'!C21","v":9683.6673794617309},192387.10458056399,0.32197323659069599,61943.498740116898,65061.380468349933,3117.8817282330369]
[11,{"$f":"'INGRESOS E2 ALTERNATIVA 1 '!F20","v":204319.58318395569},{"$f":"'VAC CAE ALTERNATIVA 1'!C22","v":9962.5569999902273},194357.02618396547,0.28747610409883567,55873.000691601788,58736.997764821564,2863.9970732197744]
[12,{"$f":"'INGRESOS E2 ALTERNATIVA 1 '!F21","v":206593.4210451961},{"$f":"'VAC CAE ALTERNATIVA 1'!C23","v":10249.478641589945},196343.94240360614,0.25667509294538904,50396.59966570972,53027.385548681603,2630.7858829718789]
[13,{"$f":"'INGRESOS E2 ALTERNATIVA 1 '!F22","v":208892.56406093339},{"$f":"'VAC CAE ALTERNATIVA 1'!C24","v":10544.663626467735},198347.90043446567,0.22917419012981158,45456.219446017174,47872.784192804196,2416.5647467870249]
[14,{"$f":"'INGRESOS E2 ALTERNATIVA 1 '!F23","v":211217.29384792442},{"$f":"'VAC CAE ALTERNATIVA 1'!C25","v":10848.349938910005},200368.9439090144,0.20461981261590317,40999.455756708943,43219.24308840045,2219.7873316915097]
[15,{"$f":"'INGRESOS E2 ALTERNATIVA 1 '!F24","v":213567.895156991},{"$f":"'VAC CAE ALTERNATIVA 1'!C26","v":11160.782417150613},202407.11273984038,0.18269626126419927,36979.022750850112,39018.055971246744,2039.0332203966298]
[16,{"$f":"'INGRESOS E2 ALTERNATIVA 1 '!F25","v":215944.65590789841},{"$f":"'VAC CAE ALTERNATIVA 1'!C27","v":11482.21295076455},204462.44295713387,0.16312166184303503,33352.253479654428,35225.251137818763,1872.9976581643323]
[17,{"$f":"'INGRESOS E2 ALTERNATIVA 1 '!F26","v":218347.86722462188},{"$f":"'VAC CAE ALTERNATIVA 1'!C28","v":11812.900683746568},206534.96654087532,0.14564434093128129,30080.649081110019,31801.131215680969,1720.4821345709508]
[18,{"$f":"'INGRESOS E2 ALTERNATIVA 1 '!F27","v":220777.82347100592},{"$f":"'VAC CAE ALTERNATIVA 1'!C29","v":12153.112223438467},208624.71124756744,0.13003959011721541,27129.471938956089,28709.857671140551,1580.3857321844587]
[19,{"$f":"'INGRESOS E2 ALTERNATIVA 1 '!F28","v":223234.82228682007},{"$f":"'VAC CAE ALTERNATIVA 1'!C30","v":12503.121855473495},210731.70043134657,0.1161067768903709,24467.378525710832,25919.075705417414,1451.6971797065812]
[20,{"$f":"'INGRESOS E2 ALTERNATIVA 1 '!F29","v":225719.16462421624},{"$f":"'VAC CAE ALTERNATIVA 1'!C31","v":12863.211764911131},212855.95285930511,0.1036667650806883,22066.088061091647,23399.575613307832,1333.4875522161881]
["VAN VALOR ACTUAL NETO",null,null,null,null,{"$f":"SUM(F24:F44)","v":-892557.00204230752},{"$f":"SUM(G25:G44)","v":1462767.5946932191},{"$f":"SUM(H24:H44)","v":2355324.5967355268}]

{"sheet":"INGRESOS E2 ALTERNATIVA 1  2","index":15,"n_rows":33,"n_cols":9,"rows_kept":33,"cut":false,"hidden":false,"merged":[[9,8,9,10],[10,8,10,10],[11,8,11,10],[12,8,12,10],[13,8,13,10],[0,2,0,5],[1,2,1,5],[2,2,2,5],[4,1,5,1],[8,7,8,10]]}
[null,null,"HERRAMIENTA DE APOYO A LA ELABORACIÓN DEL ESTUDIO DE MERCADO DE PROYECTOS DE AGUA POTABLE"]
[null,null,"DIRECCIÓN DE PREINVERSIÓN "]
[null,null,"Enero 2025"]
[null,null,"Alternativa 2: Abastecimiento por bombeo"]
[null,"TARIFA MENSUAL","Tarifa Preliminar","Tarifa Corregida"]
[null,null,{"$f":"'Base_Diseño  '!B11","v":25}]
[]
[null,"Año / descripción ","(Px) Población beneficiada a/","(Tv) Total de viviendas                =Px/5  (conexiones)b/"," (T) TARIFA MENSUAL "," Ingresos Anuales = Tv*T"]
[null,0,{"$f":"'POBLACIÓN PROYECTADA'!F11","v":3015},{"$f":"C9/5","v":603},"-o-","-o-",null,"INSTRUCCIONES"]
[null,1,{"$f":"'POBLACIÓN PROYECTADA'!F12","v":3048.5534217758627},609.71068435517259,{"$f":"IF($D$6<$C$6,$C$6,$D$6)*12","v":300},{"$f":"D10*E10","v":182913.20530655177},null,"Columnas","Calculos que debe realizar"]
[null,2,{"$f":"'POBLACIÓN PROYECTADA'!F13","v":3082.4802538710851},616.496050774217,{"$f":"IF($D$6<$C$6,$C$6,$D$6)*12","v":300},184948.8152322651,null,"(Px) Población beneficiada ","Copiar de pestaña Población Proyectada"]
[null,3,{"$f":"'POBLACIÓN PROYECTADA'!F14","v":3116.7846519055479},623.35693038110958,300,187007.07911433288,null,"(Tv) Total de viviendas a/ b/","=(PX)/5"]
[null,4,{"$f":"'POBLACIÓN PROYECTADA'!F15","v":3151.4708177463185},630.29416354926366,300,189088.24906477908,null,"(T) TARIFA ","= Tarifa mensual * 12 meses"]
[null,5,{"$f":"'POBLACIÓN PROYECTADA'!F16","v":3186.5430000223273},637.30860000446546,300,191192.58000133964,null," Ingresos Anuales","= Tv * T"]
[null,6,{"$f":"'POBLACIÓN PROYECTADA'!F17","v":3222.0054946447726},644.40109892895453,300,193320.32967868636]
[null,7,{"$f":"'POBLACIÓN PROYECTADA'!F18","v":3257.8626453333177},651.57252906666349,300,195471.75871999905]
[null,8,{"$f":"'POBLACIÓN PROYECTADA'!F19","v":3294.1188441481427},658.82376882962853,300,197647.13064888856]
[null,9,{"$f":"'POBLACIÓN PROYECTADA'!F20","v":3330.7785320279172},666.15570640558349,300,199846.71192167504]
[null,10,{"$f":"'POBLACIÓN PROYECTADA'!F21","v":3367.8461993337619},673.56923986675235,300,202070.77196002571]
[null,11,{"$f":"'POBLACIÓN PROYECTADA'!F22","v":3405.326386399262},681.06527727985235,300,204319.58318395569]
[null,12,{"$f":"'POBLACIÓN PROYECTADA'!F23","v":3443.2236840866017},688.64473681732034,300,206593.4210451961]
[null,13,{"$f":"'POBLACIÓN PROYECTADA'!F24","v":3481.5427343488896},696.30854686977796,300,208892.56406093339]
[null,14,{"$f":"'POBLACIÓN PROYECTADA'!F25","v":3520.2882307987402},704.05764615974806,300,211217.29384792442]
[null,15,{"$f":"'POBLACIÓN PROYECTADA'!F26","v":3559.4649192831835},711.89298385663665,300,213567.895156991]
[null,16,{"$f":"'POBLACIÓN PROYECTADA'!F27","v":3599.0775984649736},719.81551969299471,300,215944.65590789841]
[null,17,{"$f":"'POBLACIÓN PROYECTADA'!F28","v":3639.1311204103649},727.82622408207294,300,218347.86722462188]
[null,18,{"$f":"'POBLACIÓN PROYECTADA'!F29","v":3679.630391183432},735.92607823668641,300,220777.82347100592]
[null,19,{"$f":"'POBLACIÓN PROYECTADA'!F30","v":3720.5803714470012},744.11607428940022,300,223234.82228682007]
[null,20,{"$f":"'POBLACIÓN PROYECTADA'!F31","v":3761.9860770702708},752.39721541405413,300,225719.16462421624]
[null,"Promedios",{"$f":"AVERAGE(C9:C29)","v":3375.4140654429411},{"$f":"AVERAGE(D9:D29)","v":675.08281308858818},"Total Ingresos",{"$f":"SUM(F10:F29)","v":4072121.7224581069}]
[null,"a/ Se promedia 5 personas por vivienda. (Pv)"]
[null,"b/ Se asume que cada familia es propietaria de una vivienda."]
[null,"Fuente: elaboración propia en base a presupuesto del proyecto. "]

{"sheet":"VAC CAE ALTERNATIVA 2","index":16,"n_rows":42,"n_cols":12,"rows_kept":42,"cut":false,"hidden":false,"merged":[[19,11,20,11],[21,6,21,7],[21,8,21,9],[31,7,31,9],[38,0,39,2],[39,3,39,4],[19,10,20,10],[10,6,10,9],[11,6,11,9],[18,6,18,9],[19,6,20,7],[19,8,20,9],[6,0,6,1],[0,0,0,2],[1,0,1,2],[2,0,2,2],[3,0,3,2],[4,0,4,1]]}
["HERRAMIENTA DE APOYO A LA ELABORACIÓN DEL ESTUDIO DE MERCADO DE PROYECTOS DE AGUA POTABLE"]
["DIRECCIÓN DE PREINVERSIÓN "]
["Enero 2025"]
[{"$f":"'INGRESOS E2 ALTERNATIVA 1  2'!C4","v":"Alternativa 2: Abastecimiento por bombeo"}]
["Total del Proyecto ",null,3228330.43]
[]
["Total de costos administrativos, O y M",null,27600]
["costo se mantiene igual en todos los años"]
[]
["Años","Costos de inversión","Costos de operación y Mant.","TSD","Flujo actualizado"]
[0,{"$f":"C5","v":3228330.43},null,0.12,{"$f":"C5","v":3228330.43},null,"Parámetros para el cálculo del flujo de costos"]
[1,null,{"$f":"C7","v":27600},{"$f":"1/(1+$D$11)^A12","v":0.89285714285714279},{"$f":"C12*D12","v":24642.857142857141}]
[2,null,{"$f":"C12*(($I$13/100)+1)","v":28394.879999999997},{"$f":"1/(1+$D$11)^A13","v":0.79719387755102034},{"$f":"C13*D13","v":22636.224489795914},null,1,"Inflación",2.88]
[3,null,29212.652543999997,{"$f":"1/(1+$D$11)^A14","v":0.71178024781341087},20792.989067055387,null,2,"Período de diseño",20,"años"]
[4,null,30053.976937267194,0.63551807840483121,19099.845671595162,null,3,"Tasa social de descuento",0.12]
[5,null,30919.531473060488,0.56742685571859919,17544.572524050978]
[6,null,31810.013979484629,0.50663112117732068,16115.943047092542]
[7,null,32726.142382093785,0.45234921533689343,14803.644827543576]
[8,null,33668.655282698084,0.4038832279793691,13598.205177300741,null,"FORMULA EXTENDIDA PARA DETERMINAR CAE"]
[9,null,34638.312554839787,0.36061002498157957,12490.922755720538,null,"FACTOR DETERMINAR CAE",null,{"$f":"-PMT(D11,A31,1)","v":0.13387878003966067},null,null,"Formula automatica Excel"]
[10,null,35635.895956419168,0.32197323659069599,11473.804759897575]
[11,null,36662.20975996404,0.28747610409883567,10539.509229448771,null,"CAE",null,{"$f":"I20*E32","v":465309.75242478156}]
[12,null,37718.081401051,0.25667509294538904,9681.2920493365145,null,"Tomar en cuenta que son 20 años, por lo que cambia el factor"]
[13,null,38804.362145401268,0.22917419012981158,8892.9582681762531]
[14,null,39921.927775188822,0.20461981261590317,8168.8173806247569]
[15,null,41071.679295114256,0.18269626126419927,7503.6422510595976]
[16,null,42254.543658813542,0.16312166184303503,6892.6313820447431]
[17,null,43471.474516187373,0.14564434093128129,6331.3742552210997]
[18,null,44723.45298225357,0.13003959011721541,5815.8194944388097]
[19,null,46011.488428142467,0.1161067768903709,5342.2456213202195]
[20,null,47336.619294872966,0.1036667650806883,4907.2341921555726]
[null,null,null,"VAC",{"$f":"SUM(E11:E31)","v":3475604.9635867369},null,"CAE","COSTO MÍNIMO CON EL QUE PUEDE OPERAR CADA AÑO para poder mantener el proyecto "]
[null,null,null,"CAE",{"$f":"-PMT(D11,A31,E32)","v":465309.75242478156}]
[null,null,null,"REL C/EFICIENCIA",{"$f":"E32/E35","v":1029.68255040753},"inversión mínima por vivienda",{"$f":"E32/G35","v":1029.68255040753},"Inversión minima por persona"]
[null,null,null,"Servicios/Poblacion",{"$f":"'INGRESOS E2 ALTERNATIVA 1  2'!C30","v":3375.4140654429411},null,{"$f":"E35","v":3375.4140654429411},"Promedio población"]
[null,null,null,"VAC"]
[]
[]
["En el caso de utilizar No. de servicios se divide el VAC  entre el numero de Servicios",null,null,"VAC/No. de conexiones",{"$f":"E32/'INGRESOS E2 ALTERNATIVA 1  2'!D30","v":5148.4127520376505}]
[null,null,null,"inversion minima por conexión"]
[]
[null,null,null,null,null,null,{"$f":"+E32","v":3475604.9635867369},{"$f":"+I20","v":0.13387878003966067},{"$f":"G42*H42","v":465309.75242478156}]

{"sheet":"VAN TIR R-BC ALTERNATIVA 2","index":17,"n_rows":45,"n_cols":8,"rows_kept":45,"cut":false,"hidden":false,"merged":[[17,0,17,1],[18,0,18,1],[19,0,19,1],[20,0,20,1],[44,0,44,4],[16,0,16,1],[0,0,0,2],[1,0,1,2],[2,0,2,2],[3,0,3,2],[4,0,4,1],[5,0,5,1],[6,0,6,1],[8,0,8,1],[9,0,9,1],[14,0,14,1],[15,0,15,1]]}
["HERRAMIENTA DE APOYO A LA ELABORACIÓN DEL ESTUDIO DE MERCADO DE PROYECTOS DE AGUA POTABLE"]
["DIRECCIÓN DE PREINVERSIÓN "]
["Enero 2025"]
[{"$f":"'INGRESOS E2 ALTERNATIVA 1  2'!C4","v":"Alternativa 2: Abastecimiento por bombeo"}]
["INVERSION"]
["TOTAL DE INVERSIÓN",null,{"$f":"'VAC CAE ALTERNATIVA 2'!C5","v":3228330.43}]
["COSTOS DE OPERACIÓN Y MANTENIMIENTO",null,{"$f":"'VAC CAE ALTERNATIVA 2'!C7","v":27600}]
[]
["BENEFICIOS (=ingresos, =Ahorros)"]
["TOTAL DE INGRESOS",null,{"$f":"'INGRESOS E2 ALTERNATIVA 1  2'!F30","v":4072121.7224581069}]
[]
[]
[]
["INDICADORES FINANCIEROS"]
["PORCENTAJE DE INCREMENTO ",null,2.88]
["INGRESOS",null,{"$f":"C10","v":4072121.7224581069}]
["VAN",null,{"$f":"NPV(E24,D25:D44)+D24","v":-2012837.3688935169},">0"]
["TIR",null,{"$f":"IRR(D24:D44)","v":3.1717533360837713E-3},">12%"]
["R-B/C",null,{"$f":"C21/C20","v":0.42086704617422338},"> 1"]
["VAC",null,{"$f":"NPV(E24,C25:C44)+C6","v":3475604.963586736}]
["VAB",null,{"$f":"NPV(E24,B25:B44)","v":1462767.5946932188}]
[]
["AÑOS","Beneficios (Ahorros/ingresos)","COSTOS","FLUJO DE FONDOS","Tasa de Interes","FLUJO ACTUALIZADO DE FONDOS NETOS","VAB               BENEFICIOS ACTUALIZADOS","VAC                      COSTOS ACTUALIZADOS"]
[0,null,null,{"$f":"-C6","v":-3228330.43},0.12,{"$f":"D24","v":-3228330.43},null,{"$f":"C6","v":3228330.43}]
[1,{"$f":"'INGRESOS E2 ALTERNATIVA 1  2'!F10","v":182913.20530655177},{"$f":"'VAC CAE ALTERNATIVA 2'!C12","v":27600},{"$f":"B25-C25","v":155313.20530655177},{"$f":"1/((1+$E$24)^A25)","v":0.89285714285714279},{"$f":"D25*E25","v":138672.50473799265},{"$f":"B25*E25","v":163315.36188084978},{"$f":"C25*E25","v":24642.857142857141}]
[2,{"$f":"'INGRESOS E2 ALTERNATIVA 1  2'!F11","v":184948.8152322651},{"$f":"'VAC CAE ALTERNATIVA 2'!C13","v":28394.879999999997},{"$f":"B26-C26","v":156553.9352322651},{"$f":"1/((1+$E$24)^A26)","v":0.79719387755102034},{"$f":"D26*E26","v":124803.83867368072},{"$f":"B26*E26","v":147440.06316347662},{"$f":"C26*E26","v":22636.224489795914}]
[3,{"$f":"'INGRESOS E2 ALTERNATIVA 1  2'!F12","v":187007.07911433288},{"$f":"'VAC CAE ALTERNATIVA 2'!C14","v":29212.652543999997},157794.4265703329,0.71178024781341087,112314.95604780661,133107.945114862,20792.989067055387]
[4,{"$f":"'INGRESOS E2 ALTERNATIVA 1  2'!F13","v":189088.24906477908},{"$f":"'VAC CAE ALTERNATIVA 2'!C15","v":30053.976937267194},159034.27212751188,0.63551807840483121,101069.15502298735,120169.00069458253,19099.845671595162]
[5,{"$f":"'INGRESOS E2 ALTERNATIVA 1  2'!F14","v":191192.58000133964},{"$f":"'VAC CAE ALTERNATIVA 2'!C16","v":30919.531473060488},160273.04852827915,0.56742685571859919,90943.231982835903,108487.80450688688,17544.572524050978]
[6,{"$f":"'INGRESOS E2 ALTERNATIVA 1  2'!F15","v":193320.32967868636},{"$f":"'VAC CAE ALTERNATIVA 2'!C17","v":31810.013979484629},161510.31569920175,0.50663112117732068,81826.152324389594,97942.095371482137,16115.943047092542]
[7,{"$f":"'INGRESOS E2 ALTERNATIVA 1  2'!F16","v":195471.75871999905},{"$f":"'VAC CAE ALTERNATIVA 2'!C18","v":32726.142382093785},162745.61633790526,0.45234921533689343,73617.851849970553,88421.496677514122,14803.644827543576]
[8,{"$f":"'INGRESOS E2 ALTERNATIVA 1  2'!F17","v":197647.13064888856},{"$f":"'VAC CAE ALTERNATIVA 2'!C19","v":33668.655282698084},163978.47536619048,0.4038832279793691,66228.155950032466,79826.361127333206,13598.205177300741]
[9,{"$f":"'INGRESOS E2 ALTERNATIVA 1  2'!F18","v":199846.71192167504},{"$f":"'VAC CAE ALTERNATIVA 2'!C20","v":34638.312554839787},165208.39936683525,0.36061002498157957,59575.805022841232,72066.727778561777,12490.922755720538]
[10,{"$f":"'INGRESOS E2 ALTERNATIVA 1  2'!F19","v":202070.77196002571},{"$f":"'VAC CAE ALTERNATIVA 2'!C21","v":35635.895956419168},166434.87600360654,0.32197323659069599,53587.575708452358,65061.380468349933,11473.804759897575]
[11,{"$f":"'INGRESOS E2 ALTERNATIVA 1  2'!F20","v":204319.58318395569},{"$f":"'VAC CAE ALTERNATIVA 2'!C22","v":36662.20975996404},167657.37342399167,0.28747610409883567,48197.488535372795,58736.997764821564,10539.509229448771]
[12,{"$f":"'INGRESOS E2 ALTERNATIVA 1  2'!F21","v":206593.4210451961},{"$f":"'VAC CAE ALTERNATIVA 2'!C23","v":37718.081401051},168875.3396441451,0.25667509294538904,43346.093499345086,53027.385548681603,9681.2920493365145]
[13,{"$f":"'INGRESOS E2 ALTERNATIVA 1  2'!F22","v":208892.56406093339},{"$f":"'VAC CAE ALTERNATIVA 2'!C24","v":38804.362145401268},170088.20191553212,0.22917419012981158,38979.825924627941,47872.784192804196,8892.9582681762531]
[14,{"$f":"'INGRESOS E2 ALTERNATIVA 1  2'!F23","v":211217.29384792442},{"$f":"'VAC CAE ALTERNATIVA 2'!C25","v":39921.927775188822},171295.3660727356,0.20461981261590317,35050.425707775699,43219.24308840045,8168.8173806247569]
[15,{"$f":"'INGRESOS E2 ALTERNATIVA 1  2'!F24","v":213567.895156991},{"$f":"'VAC CAE ALTERNATIVA 2'!C26","v":41071.679295114256},172496.21586187673,0.18269626126419927,31514.413720187145,39018.055971246744,7503.6422510595976]
[16,{"$f":"'INGRESOS E2 ALTERNATIVA 1  2'!F25","v":215944.65590789841},{"$f":"'VAC CAE ALTERNATIVA 2'!C27","v":42254.543658813542},173690.11224908486,0.16312166184303503,28332.61975577402,35225.251137818763,6892.6313820447431]
[17,{"$f":"'INGRESOS E2 ALTERNATIVA 1  2'!F26","v":218347.86722462188},{"$f":"'VAC CAE ALTERNATIVA 2'!C28","v":43471.474516187373},174876.39270843449,0.14564434093128129,25469.756960459865,31801.131215680969,6331.3742552210997]
[18,{"$f":"'INGRESOS E2 ALTERNATIVA 1  2'!F27","v":220777.82347100592},{"$f":"'VAC CAE ALTERNATIVA 2'!C29","v":44723.45298225357},176054.37048875235,0.13003959011721541,22894.038176701742,28709.857671140551,5815.8194944388097]
[19,{"$f":"'INGRESOS E2 ALTERNATIVA 1  2'!F28","v":223234.82228682007},{"$f":"'VAC CAE ALTERNATIVA 2'!C30","v":46011.488428142467},177223.33385867759,0.1161067768903709,20576.830084097193,25919.075705417414,5342.2456213202195]
[20,{"$f":"'INGRESOS E2 ALTERNATIVA 1  2'!F29","v":225719.16462421624},{"$f":"'VAC CAE ALTERNATIVA 2'!C31","v":47336.619294872966},178382.54532934327,0.1036667650806883,18492.341421152261,23399.575613307832,4907.2341921555726]
["VAN VALOR ACTUAL NETO",null,null,null,null,{"$f":"SUM(F24:F44)","v":-2012837.3688935174},{"$f":"SUM(G25:G44)","v":1462767.5946932191},{"$f":"SUM(H24:H44)","v":3475604.9635867369}]

{"sheet":"RESUMEN","index":18,"n_rows":25,"n_cols":4,"rows_kept":25,"cut":false,"hidden":false,"merged":[[8,0,8,2],[14,0,14,2],[17,0,17,2],[0,0,4,0],[5,0,5,2],[0,1,0,2],[1,1,1,2],[6,0,6,2]]}
[null,"HERRAMIENTA DE APOYO A LA ELABORACIÓN DEL ESTUDIO DE MERCADO DE PROYECTOS DE AGUA POTABLE"]
[null,"DIRECCIÓN DE PREINVERSIÓN "]
[null,"Nombre",{"$f":"DIAGRAMA!B5","v":"CONSTRUCCIÓN SISTEMA DE AGUA POTABLE COMUNIDAD EL ALTO"}]
[null,"Municipio",{"$f":"DIAGRAMA!B6","v":"Acatenango"}]
[null,"Fecha",{"$f":"TODAY()","v":"2025-02-26"}]
[]
["COMPARACIÓN DE OPCIONES"]
["OPCIÓN",{"$f":"'INGRESOS E2 ALTERNATIVA 1 '!C4","v":"Alternativa 1: Abastecimiento por gravedad. "},{"$f":"'INGRESOS E2 ALTERNATIVA 1  2'!C4","v":"Alternativa 2: Abastecimiento por bombeo"}]
["INVERSION"]
["TOTAL, DE INVERSIÓN",{"$f":"'VAC CAE ALTERNATIVA 1'!C5","v":2288130.4300000002},{"$f":"'VAC CAE ALTERNATIVA 2'!C5","v":3228330.43}]
["COSTOS DE OPERACIÓN Y MANTENIMIENTO",{"$f":"'VAC CAE ALTERNATIVA 1'!C7","v":7500},{"$f":"'VAC CAE ALTERNATIVA 2'!C7","v":27600}]
["VAC",{"$f":"'VAC CAE ALTERNATIVA 1'!E32","v":2355324.5967355268},{"$f":"'VAC CAE ALTERNATIVA 2'!E32","v":3475604.9635867369}]
["CAE ",{"$f":"'VAC CAE ALTERNATIVA 1'!E33","v":315327.98360835802},{"$f":"'VAC CAE ALTERNATIVA 2'!E33","v":465309.75242478156}]
[]
["BENEFICIOS (=ingresos, =Ahorros)"]
["TOTAL DE INGRESOS",{"$f":"'VAN TIR R-BC ALTERNATIVA 1'!C10","v":4072121.7224581069},{"$f":"'INGRESOS E2 ALTERNATIVA 1  2'!F30","v":4072121.7224581069}]
[]
["INDICADORES FINANCIEROS"]
["PORCENTAJE DE INCREMENTO",{"$f":"'VAN TIR R-BC ALTERNATIVA 1'!C15","v":2.88},{"$f":"'VAN TIR R-BC ALTERNATIVA 2'!C15","v":2.88}]
["INGRESOS",{"$f":"'VAN TIR R-BC ALTERNATIVA 1'!C16","v":4072121.7224581069},{"$f":"'VAN TIR R-BC ALTERNATIVA 2'!C16","v":4072121.7224581069}]
["VAN",{"$f":"NPV('VAN TIR R-BC ALTERNATIVA 1'!E24,'VAN TIR R-BC ALTERNATIVA 1'!D25:D44)+'VAN TIR R-BC ALTERNATIVA 1'!D24","v":-892557.00204230752},{"$f":"NPV('VAN TIR R-BC ALTERNATIVA 2'!E24,'VAN TIR R-BC ALTERNATIVA 2'!D25:D44)+'VAN TIR R-BC ALTERNATIVA 2'!D24","v":-2012837.3688935169},">0"]
["TIR",{"$f":"'VAN TIR R-BC ALTERNATIVA 1'!C18","v":5.4240266663730941E-2},{"$f":"'VAN TIR R-BC ALTERNATIVA 2'!C18","v":3.1717533360837713E-3},">12%"]
["R-B/C",{"$f":"'VAN TIR R-BC ALTERNATIVA 1'!C19","v":0.62104713580481041},{"$f":"'VAN TIR R-BC ALTERNATIVA 2'!C19","v":0.42086704617422338},"> 1"]
["VAC",{"$f":"'VAN TIR R-BC ALTERNATIVA 1'!C20","v":2355324.5967355263},{"$f":"'VAN TIR R-BC ALTERNATIVA 2'!C20","v":3475604.963586736}]
["VAB",{"$f":"'VAN TIR R-BC ALTERNATIVA 1'!C21","v":1462767.5946932188},{"$f":"'VAN TIR R-BC ALTERNATIVA 2'!C21","v":1462767.5946932188}]

{"sheet":"Recopilación FINAL","index":19,"n_rows":341,"n_cols":39,"rows_kept":341,"cut":false,"hidden":true,"merged":[]}
["MUN SNIP","CODIGO municipio","Municipio","Corredor seco Segeplan","Corredor Seco","Cod_Dep","DEPARTAMENTO","CLASIFICAC","POTENCIAL","CLASIFIC_1","POBREZA_GE","CLASIFIC_2","TIPOLOGIAS","DESNUTRICI","CLASIFIC_3","TIPOLOGI_1","Calidad de Vivienda Total","Calidad Vivienda Urbano","Calidad Vivienda Rural","Hacinamiento Total","Hacinamiento Urbano","Hacinamiento Rural","Abastecimiento de agua Total","Abastecimiento de agua Urbano","Abastecimiento de Agua Rural","Saneamiento Total","Saneamiento Urbano","Saneamiento Rural","Asistencia Escolar Total","Asistencia Escolar Urbano","Asistencia Escolar Rural","Precariedad Ocupacional Total","Precariedad ocupacional Urbano","Precariedad ocupacional Rural","Indice de Pobreza NBI Total","Indice de Pobreza NBI Urbano","Índice de Pobreza NBI Rural","Priorización AT","Priorización PGG"]
[{"$f":"IFERROR(VLOOKUP(Tabla38[[#This Row],[Municipio]],[3]!Tabla2[#All],3,FALSE),\"\")","v":""},101,"Guatemala",{"$f":"IFERROR(VLOOKUP(Tabla38[[#This Row],[CODIGO municipio]],[3]!Tabla6[[#All],[codigo_mun]],1,FALSE),\"\")","v":""},{"$f":"IFERROR(VLOOKUP(Tabla38[[#This Row],[CODIGO municipio]],[3]!Tabla12[#All],2,FALSE),\"\")","v":""},{"$f":"IFERROR(VLOOKUP(Tabla38[[#This Row],[CODIGO municipio]],[3]!Tabla7[#All],3,FALSE),\"\")","v":""},{"$f":"IFERROR(VLOOKUP(Tabla38[[#This Row],[CODIGO municipio]],[3]!Tabla7[#All],4,FALSE),\"\")","v":""},{"$f":"IFERROR(VLOOKUP(Tabla38[[#This Row],[CODIGO municipio]],[3]!Tabla7[#All],11,FALSE),\"\")","v":""},{"$f":"IFERROR(VLOOKUP(Tabla38[[#This Row],[CODIGO municipio]],[3]!Tabla7[#All],12,FALSE),\"\")","v":""},{"$f":"IFERROR(VLOOKUP(Tabla38[[#This Row],[CODIGO municipio]],[3]!Tabla7[#All],13,FALSE),\"\")","v":""},{"$f":"IFERROR(VLOOKUP(Tabla38[[#This Row],[CODIGO municipio]],[3]!Tabla7[#All],14,FALSE),\"\")","v":""},{"$f":"IFERROR(VLOOKUP(Tabla38[[#This Row],[CODIGO municipio]],[3]!Tabla7[#All],15,FALSE),\"\")","v":""},{"$f":"IFERROR(VLOOKUP(Tabla38[[#This Row],[CODIGO municipio]],[3]!Tabla7[#All],16,FALSE),\"\")","v":""},{"$f":"IFERROR(VLOOKUP(Tabla38[[#This Row],[CODIGO municipio]],[3]!Tabla7[#All],17,FALSE),\"\")","v":""},{"$f":"IFERROR(VLOOKUP(Tabla38[[#This Row],[CODIGO municipio]],[3]!Tabla7[#All],18,FALSE),\"\")","v":""},{"$f":"IFERROR(VLOOKUP(Tabla38[[#This Row],[CODIGO municipio]],[3]!Tabla7[#All],19,FALSE),\"\")","v":""},{"$f":"IFERROR(VLOOKUP(Tabla38[[#This Row],[CODIGO municipio]],[3]!Tabla8[#All],3,FALSE),\"\")","v":""},{"$f":"IFERROR(VLOOKUP(Tabla38[[#This Row],[CODIGO municipio]],[3]!Tabla8[#All],4,FALSE),\"\")","v":""},{"$f":"IFERROR(VLOOKUP(Tabla38[[#This Row],[CODIGO municipio]],[3]!Tabla8[#All],5,FALSE),\"\")","v":""},{"$f":"IFERROR(VLOOKUP(Tabla38[[#This Row],[CODIGO municipio]],[3]!Tabla8[#All],6,FALSE),\"\")","v":""},{"$f":"IFERROR(VLOOKUP(Tabla38[[#This Row],[CODIGO municipio]],[3]!Tabla8[#All],7,FALSE),\"\")","v":""},{"$f":"IFERROR(VLOOKUP(Tabla38[[#This Row],[CODIGO municipio]],[3]!Tabla8[#All],8,FALSE),\"\")","v":""},{"$f":"IFERROR(VLOOKUP(Tabla38[[#This Row],[CODIGO municipio]],[3]!Tabla8[#All],9,FALSE),\"\")","v":""},{"$f":"IFERROR(VLOOKUP(Tabla38[[#This Row],[CODIGO municipio]],[3]!Tabla8[#All],10,FALSE),\"\")","v":""},{"$f":"IFERROR(VLOOKUP(Tabla38[[#This Row],[CODIGO municipio]],[3]!Tabla8[#All],11,FALSE),\"\")","v":""},{"$f":"IFERROR(VLOOKUP(Tabla38[[#This Row],[CODIGO municipio]],[3]!Tabla8[#All],12,FALSE),\"\")","v":""},{"$f":"IFERROR(VLOOKUP(Tabla38[[#This Row],[CODIGO municipio]],[3]!Tabla8[#All],13,FALSE),\"\")","v":""},{"$f":"IFERROR(VLOOKUP(Tabla38[[#This Row],[CODIGO municipio]],[3]!Tabla8[#All],14,FALSE),\"\")","v":""},{"$f":"IFERROR(VLOOKUP(Tabla38[[#This Row],[CODIGO municipio]],[3]!Tabla8[#All],15,FALSE),\"\")","v":""},{"$f":"IFERROR(VLOOKUP(Tabla38[[#This Row],[CODIGO municipio]],[3]!Tabla8[#All],16,FALSE),\"\")","v":""},{"$f":"IFERROR(VLOOKUP(Tabla38[[#This Row],[CODIGO municipio]],[3]!Tabla8[#All],17,FALSE),\"\")","v":""},{"$f":"IFERROR(VLOOKUP(Tabla38[[#This Row],[CODIGO municipio]],[3]!Tabla8[#All],18,FALSE),\"\")","v":""},{"$f":"IFERROR(VLOOKUP(Tabla38[[#This Row],[CODIGO municipio]],[3]!Tabla8[#All],19,FALSE),\"\")","v":""},{"$f":"IFERROR(VLOOKUP(Tabla38[[#This Row],[CODIGO municipio]],[3]!Tabla8[#All],20,FALSE),\"\")","v":""},{"$f":"IFERROR(VLOOKUP(Tabla38[[#This Row],[CODIGO municipio]],[3]!Tabla8[#All],21,FALSE),\"\")","v":""},{"$f":"IFERROR(VLOOKUP(Tabla38[[#This Row],[CODIGO municipio]],[3]!Tabla8[#All],22,FALSE),\"\")","v":""},{"$f":"IFERROR(VLOOKUP(Tabla38[[#This Row],[CODIGO municipio]],[3]!Tabla8[#All],23,FALSE),\"\")","v":""},{"$f":"IFERROR(VLOOKUP(Tabla38[[#This Row],[CODIGO municipio]],[3]!Tabla9[#All],3,FALSE),\"\")","v":""}]
[{"$f":"IFERROR(VLOOKUP(Tabla38[[#This Row],[Municipio]],[3]!Tabla2[#All],3,FALSE),\"\")","v":""},102,"Santa Catarina Pinula",{"$f":"IFERROR(VLOOKUP(Tabla38[[#This Row],[CODIGO municipio]],[3]!Tabla6[[#All],[codigo_mun]],1,FALSE),\"\")","v":""},{"$f":"IFERROR(VLOOKUP(Tabla38[[#This Row],[CODIGO municipio]],[3]!Tabla12[#All],2,FALSE),\"\")","v":""},{"$f":"IFERROR(VLOOKUP(Tabla38[[#This Row],[CODIGO municipio]],[3]!Tabla7[#All],3,FALSE),\"\")","v":""},{"$f":"IFERROR(VLOOKUP(Tabla38[[#This Row],[CODIGO municipio]],[3]!Tabla7[#All],4,FALSE),\"\")","v":""},{"$f":"IFERROR(VLOOKUP(Tabla38[[#This Row],[CODIGO municipio]],[3]!Tabla7[#All],11,FALSE),\"\")","v":""},{"$f":"IFERROR(VLOOKUP(Tabla38[[#This Row],[CODIGO municipio]],[3]!Tabla7[#All],12,FALSE),\"\")","v":""},{"$f":"IFERROR(VLOOKUP(Tabla38[[#This Row],[CODIGO municipio]],[3]!Tabla7[#All],13,FALSE),\"\")","v":""},{"$f":"IFERROR(VLOOKUP(Tabla38[[#This Row],[CODIGO municipio]],[3]!Tabla7[#All],14,FALSE),\"\")","v":""},{"$f":"IFERROR(VLOOKUP(Tabla38[[#This Row],[CODIGO municipio]],[3]!Tabla7[#All],15,FALSE),\"\")","v":""},{"$f":"IFERROR(VLOOKUP(Tabla38[[#This Row],[CODIGO municipio]],[3]!Tabla7[#All],16,FALSE),\"\")","v":""},{"$f":"IFERROR(VLOOKUP(Tabla38[[#This Row],[CODIGO municipio]],[3]!Tabla7[#All],17,FALSE),\"\")","v":""},{"$f":"IFERROR(VLOOKUP(Tabla38[[#This Row],[CODIGO municipio]],[3]!Tabla7[#All],18,FALSE),\"\")","v":""},{"$f":"IFERROR(VLOOKUP(Tabla38[[#This Row],[CODIGO municipio]],[3]!Tabla7[#All],19,FALSE),\"\")","v":""},{"$f":"IFERROR(VLOOKUP(Tabla38[[#This Row],[CODIGO municipio]],[3]!Tabla8[#All],3,FALSE),\"\")","v":""},{"$f":"IFERROR(VLOOKUP(Tabla38[[#This Row],[CODIGO municipio]],[3]!Tabla8[#All],4,FALSE),\"\")","v":""},{"$f":"IFERROR(VLOOKUP(Tabla38[[#This Row],[CODIGO municipio]],[3]!Tabla8[#All],5,FALSE),\"\")","v":""},{"$f":"IFERROR(VLOOKUP(Tabla38[[#This Row],[CODIGO municipio]],[3]!Tabla8[#All],6,FALSE),\"\")","v":""},{"$f":"IFERROR(VLOOKUP(Tabla38[[#This Row],[CODIGO municipio]],[3]!Tabla8[#All],7,FALSE),\"\")","v":""},{"$f":"IFERROR(VLOOKUP(Tabla38[[#This Row],[CODIGO municipio]],[3]!Tabla8[#All],8,FALSE),\"\")","v":""},{"$f":"IFERROR(VLOOKUP(Tabla38[[#This Row],[CODIGO municipio]],[3]!Tabla8[#All],9,FALSE),\"\")","v":""},{"$f":"IFERROR(VLOOKUP(Tabla38[[#This Row],[CODIGO municipio]],[3]!Tabla8[#All],10,FALSE),\"\")","v":""},{"$f":"IFERROR(VLOOKUP(Tabla38[[#This Row],[CODIGO municipio]],[3]!Tabla8[#All],11,FALSE),\"\")","v":""},{"$f":"IFERROR(VLOOKUP(Tabla38[[#This Row],[CODIGO municipio]],[3]!Tabla8[#All],12,FALSE),\"\")","v":""},{"$f":"IFERROR(VLOOKUP(Tabla38[[#This Row],[CODIGO municipio]],[3]!Tabla8[#All],13,FALSE),\"\")","v":""},{"$f":"IFERROR(VLOOKUP(Tabla38[[#This Row],[CODIGO municipio]],[3]!Tabla8[#All],14,FALSE),\"\")","v":""},{"$f":"IFERROR(VLOOKUP(Tabla38[[#This Row],[CODIGO municipio]],[3]!Tabla8[#All],15,FALSE),\"\")","v":""},{"$f":"IFERROR(VLOOKUP(Tabla38[[#This Row],[CODIGO municipio]],[3]!Tabla8[#All],16,FALSE),\"\")","v":""},{"$f":"IFERROR(VLOOKUP(Tabla38[[#This Row],[CODIGO municipio]],[3]!Tabla8[#All],17,FALSE),\"\")","v":""},{"$f":"IFERROR(VLOOKUP(Tabla38[[#This Row],[CODIGO municipio]],[3]!Tabla8[#All],18,FALSE),\"\")","v":""},{"$f":"IFERROR(VLOOKUP(Tabla38[[#This Row],[CODIGO municipio]],[3]!Tabla8[#All],19,FALSE),\"\")","v":""},{"$f":"IFERROR(VLOOKUP(Tabla38[[#This Row],[CODIGO municipio]],[3]!Tabla8[#All],20,FALSE),\"\")","v":""},{"$f":"IFERROR(VLOOKUP(Tabla38[[#This Row],[CODIGO municipio]],[3]!Tabla8[#All],21,FALSE),\"\")","v":""},{"$f":"IFERROR(VLOOKUP(Tabla38[[#This Row],[CODIGO municipio]],[3]!Tabla8[#All],22,FALSE),\"\")","v":""},{"$f":"IFERROR(VLOOKUP(Tabla38[[#This Row],[CODIGO municipio]],[3]!Tabla8[#All],23,FALSE),\"\")","v":""},{"$f":"IFERROR(VLOOKUP(Tabla38[[#This Row],[CODIGO municipio]],[3]!Tabla9[#All],3,FALSE),\"\")","v":""}]
[{"$f":"IFERROR(VLOOKUP(Tabla38[[#This Row],[Municipio]],[3]!Tabla2[#All],3,FALSE),\"\")","v":""},103,"San José Pinula",{"$f":"IFERROR(VLOOKUP(Tabla38[[#This Row],[CODIGO municipio]],[3]!Tabla6[[#All],[codigo_mun]],1,FALSE),\"\")","v":""},{"$f":"IFERROR(VLOOKUP(Tabla38[[#This Row],[CODIGO municipio]],[3]!Tabla12[#All],2,FALSE),\"\")","v":""},{"$f":"IFERROR(VLOOKUP(Tabla38[[#This Row],[CODIGO municipio]],[3]!Tabla7[#All],3,FALSE),\"\")","v":""},{"$f":"IFERROR(VLOOKUP(Tabla38[[#This Row],[CODIGO municipio]],[3]!Tabla7[#All],4,FALSE),\"\")","v":""},{"$f":"IFERROR(VLOOKUP(Tabla38[[#This Row],[CODIGO municipio]],[3]!Tabla7[#All],11,FALSE),\"\")","v":""},{"$f":"IFERROR(VLOOKUP(Tabla38[[#This Row],[CODIGO municipio]],[3]!Tabla7[#All],12,FALSE),\"\")","v":""},{"$f":"IFERROR(VLOOKUP(Tabla38[[#This Row],[CODIGO municipio]],[3]!Tabla7[#All],13,FALSE),\"\")","v":""},{"$f":"IFERROR(VLOOKUP(Tabla38[[#This Row],[CODIGO municipio]],[3]!Tabla7[#All],14,FALSE),\"\")","v":""},{"$f":"IFERROR(VLOOKUP(Tabla38[[#This Row],[CODIGO municipio]],[3]!Tabla7[#All],15,FALSE),\"\")","v":""},{"$f":"IFERROR(VLOOKUP(Tabla38[[#This Row],[CODIGO municipio]],[3]!Tabla7[#All],16,FALSE),\"\")","v":""},{"$f":"IFERROR(VLOOKUP(Tabla38[[#This Row],[CODIGO municipio]],[3]!Tabla7[#All],17,FALSE),\"\")","v":""},{"$f":"IFERROR(VLOOKUP(Tabla38[[#This Row],[CODIGO municipio]],[3]!Tabla7[#All],18,FALSE),\"\")","v":""},{"$f":"IFERROR(VLOOKUP(Tabla38[[#This Row],[CODIGO municipio]],[3]!Tabla7[#All],19,FALSE),\"\")","v":""},{"$f":"IFERROR(VLOOKUP(Tabla38[[#This Row],[CODIGO municipio]],[3]!Tabla8[#All],3,FALSE),\"\")","v":""},{"$f":"IFERROR(VLOOKUP(Tabla38[[#This Row],[CODIGO municipio]],[3]!Tabla8[#All],4,FALSE),\"\")","v":""},{"$f":"IFERROR(VLOOKUP(Tabla38[[#This Row],[CODIGO municipio]],[3]!Tabla8[#All],5,FALSE),\"\")","v":""},{"$f":"IFERROR(VLOOKUP(Tabla38[[#This Row],[CODIGO municipio]],[3]!Tabla8[#All],6,FALSE),\"\")","v":""},{"$f":"IFERROR(VLOOKUP(Tabla38[[#This Row],[CODIGO municipio]],[3]!Tabla8[#All],7,FALSE),\"\")","v":""},{"$f":"IFERROR(VLOOKUP(Tabla38[[#This Row],[CODIGO municipio]],[3]!Tabla8[#All],8,FALSE),\"\")","v":""},{"$f":"IFERROR(VLOOKUP(Tabla38[[#This Row],[CODIGO municipio]],[3]!Tabla8[#All],9,FALSE),\"\")","v":""},{"$f":"IFERROR(VLOOKUP(Tabla38[[#This Row],[CODIGO municipio]],[3]!Tabla8[#All],10,FALSE),\"\")","v":""},{"$f":"IFERROR(VLOOKUP(Tabla38[[#This Row],[CODIGO municipio]],[3]!Tabla8[#All],11,FALSE),\"\")","v":""},{"$f":"IFERROR(VLOOKUP(Tabla38[[#This Row],[CODIGO municipio]],[3]!Tabla8[#All],12,FALSE),\"\")","v":""},{"$f":"IFERROR(VLOOKUP(Tabla38[[#This Row],[CODIGO municipio]],[3]!Tabla8[#All],13,FALSE),\"\")","v":""},{"$f":"IFERROR(VLOOKUP(Tabla38[[#This Row],[CODIGO municipio]],[3]!Tabla8[#All],14,FALSE),\"\")","v":""},{"$f":"IFERROR(VLOOKUP(Tabla38[[#This Row],[CODIGO municipio]],[3]!Tabla8[#All],15,FALSE),\"\")","v":""},{"$f":"IFERROR(VLOOKUP(Tabla38[[#This Row],[CODIGO municipio]],[3]!Tabla8[#All],16,FALSE),\"\")","v":""},{"$f":"IFERROR(VLOOKUP(Tabla38[[#This Row],[CODIGO municipio]],[3]!Tabla8[#All],17,FALSE),\"\")","v":""},{"$f":"IFERROR(VLOOKUP(Tabla38[[#This Row],[CODIGO municipio]],[3]!Tabla8[#All],18,FALSE),\"\")","v":""},{"$f":"IFERROR(VLOOKUP(Tabla38[[#This Row],[CODIGO municipio]],[3]!Tabla8[#All],19,FALSE),\"\")","v":""},{"$f":"IFERROR(VLOOKUP(Tabla38[[#This Row],[CODIGO municipio]],[3]!Tabla8[#All],20,FALSE),\"\")","v":""},{"$f":"IFERROR(VLOOKUP(Tabla38[[#This Row],[CODIGO municipio]],[3]!Tabla8[#All],21,FALSE),\"\")","v":""},{"$f":"IFERROR(VLOOKUP(Tabla38[[#This Row],[CODIGO municipio]],[3]!Tabla8[#All],22,FALSE),\"\")","v":""},{"$f":"IFERROR(VLOOKUP(Tabla38[[#This Row],[CODIGO municipio]],[3]!Tabla8[#All],23,FALSE),\"\")","v":""},{"$f":"IFERROR(VLOOKUP(Tabla38[[#This Row],[CODIGO municipio]],[3]!Tabla9[#All],3,FALSE),\"\")","v":""}]
[{"$f":"IFERROR(VLOOKUP(Tabla38[[#This Row],[Municipio]],[3]!Tabla2[#All],3,FALSE),\"\")","v":""},104,"San José del Golfo",{"$f":"IFERROR(VLOOKUP(Tabla38[[#This Row],[CODIGO municipio]],[3]!Tabla6[[#All],[codigo_mun]],1,FALSE),\"\")","v":""},{"$f":"IFERROR(VLOOKUP(Tabla38[[#This Row],[CODIGO municipio]],[3]!Tabla12[#All],2,FALSE),\"\")","v":""},{"$f":"IFERROR(VLOOKUP(Tabla38[[#This Row],[CODIGO municipio]],[3]!Tabla7[#All],3,FALSE),\"\")","v":""},{"$f":"IFERROR(VLOOKUP(Tabla38[[#This Row],[CODIGO municipio]],[3]!Tabla7[#All],4,FALSE),\"\")","v":""},{"$f":"IFERROR(VLOOKUP(Tabla38[[#This Row],[CODIGO municipio]],[3]!Tabla7[#All],11,FALSE),\"\")","v":""},{"$f":"IFERROR(VLOOKUP(Tabla38[[#This Row],[CODIGO municipio]],[3]!Tabla7[#All],12,FALSE),\"\")","v":""},{"$f":"IFERROR(VLOOKUP(Tabla38[[#This Row],[CODIGO municipio]],[3]!Tabla7[#All],13,FALSE),\"\")","v":""},{"$f":"IFERROR(VLOOKUP(Tabla38[[#This Row],[CODIGO municipio]],[3]!Tabla7[#All],14,FALSE),\"\")","v":""},{"$f":"IFERROR(VLOOKUP(Tabla38[[#This Row],[CODIGO municipio]],[3]!Tabla7[#All],15,FALSE),\"\")","v":""},{"$f":"IFERROR(VLOOKUP(Tabla38[[#This Row],[CODIGO municipio]],[3]!Tabla7[#All],16,FALSE),\"\")","v":""},{"$f":"IFERROR(VLOOKUP(Tabla38[[#This Row],[CODIGO municipio]],[3]!Tabla7[#All],17,FALSE),\"\")","v":""},{"$f":"IFERROR(VLOOKUP(Tabla38[[#This Row],[CODIGO municipio]],[3]!Tabla7[#All],18,FALSE),\"\")","v":""},{"$f":"IFERROR(VLOOKUP(Tabla38[[#This Row],[CODIGO municipio]],[3]!Tabla7[#All],19,FALSE),\"\")","v":""},{"$f":"IFERROR(VLOOKUP(Tabla38[[#This Row],[CODIGO municipio]],[3]!Tabla8[#All],3,FALSE),\"\")","v":""},{"$f":"IFERROR(VLOOKUP(Tabla38[[#This Row],[CODIGO municipio]],[3]!Tabla8[#All],4,FALSE),\"\")","v":""},{"$f":"IFERROR(VLOOKUP(Tabla38[[#This Row],[CODIGO municipio]],[3]!Tabla8[#All],5,FALSE),\"\")","v":""},{"$f":"IFERROR(VLOOKUP(Tabla38[[#This Row],[CODIGO municipio]],[3]!Tabla8[#All],6,FALSE),\"\")","v":""},{"$f":"IFERROR(VLOOKUP(Tabla38[[#This Row],[CODIGO municipio]],[3]!Tabla8[#All],7,FALSE),\"\")","v":""},{"$f":"IFERROR(VLOOKUP(Tabla38[[#This Row],[CODIGO municipio]],[3]!Tabla8[#All],8,FALSE),\"\")","v":""},{"$f":"IFERROR(VLOOKUP(Tabla38[[#This Row],[CODIGO municipio]],[3]!Tabla8[#All],9,FALSE),\"\")","v":""},{"$f":"IFERROR(VLOOKUP(Tabla38[[#This Row],[CODIGO municipio]],[3]!Tabla8[#All],10,FALSE),\"\")","v":""},{"$f":"IFERROR(VLOOKUP(Tabla38[[#This Row],[CODIGO municipio]],[3]!Tabla8[#All],11,FALSE),\"\")","v":""},{"$f":"IFERROR(VLOOKUP(Tabla38[[#This Row],[CODIGO municipio]],[3]!Tabla8[#All],12,FALSE),\"\")","v":""},{"$f":"IFERROR(VLOOKUP(Tabla38[[#This Row],[CODIGO municipio]],[3]!Tabla8[#All],13,FALSE),\"\")","v":""},{"$f":"IFERROR(VLOOKUP(Tabla38[[#This Row],[CODIGO municipio]],[3]!Tabla8[#All],14,FALSE),\"\")","v":""},{"$f":"IFERROR(VLOOKUP(Tabla38[[#This Row],[CODIGO municipio]],[3]!Tabla8[#All],15,FALSE),\"\")","v":""},{"$f":"IFERROR(VLOOKUP(Tabla38[[#This Row],[CODIGO municipio]],[3]!Tabla8[#All],16,FALSE),\"\")","v":""},{"$f":"IFERROR(VLOOKUP(Tabla38[[#This Row],[CODIGO municipio]],[3]!Tabla8[#All],17,FALSE),\"\")","v":""},{"$f":"IFERROR(VLOOKUP(Tabla38[[#This Row],[CODIGO municipio]],[3]!Tabla8[#All],18,FALSE),\"\")","v":""},{"$f":"IFERROR(VLOOKUP(Tabla38[[#This Row],[CODIGO municipio]],[3]!Tabla8[#All],19,FALSE),\"\")","v":""},{"$f":"IFERROR(VLOOKUP(Tabla38[[#This Row],[CODIGO municipio]],[3]!Tabla8[#All],20,FALSE),\"\")","v":""},{"$f":"IFERROR(VLOOKUP(Tabla38[[#This Row],[CODIGO municipio]],[3]!Tabla8[#All],21,FALSE),\"\")","v":""},{"$f":"IFERROR(VLOOKUP(Tabla38[[#This Row],[CODIGO municipio]],[3]!Tabla8[#All],22,FALSE),\"\")","v":""},{"$f":"IFERROR(VLOOKUP(Tabla38[[#This Row],[CODIGO municipio]],[3]!Tabla8[#All],23,FALSE),\"\")","v":""},{"$f":"IFERROR(VLOOKUP(Tabla38[[#This Row],[CODIGO municipio]],[3]!Tabla9[#All],3,FALSE),\"\")","v":""}]
[{"$f":"IFERROR(VLOOKUP(Tabla38[[#This Row],[Municipio]],[3]!Tabla2[#All],3,FALSE),\"\")","v":""},105,"Palencia",{"$f":"IFERROR(VLOOKUP(Tabla38[[#This Row],[CODIGO municipio]],[3]!Tabla6[[#All],[codigo_mun]],1,FALSE),\"\")","v":""},{"$f":"IFERROR(VLOOKUP(Tabla38[[#This Row],[CODIGO municipio]],[3]!Tabla12[#All],2,FALSE),\"\")","v":""},{"$f":"IFERROR(VLOOKUP(Tabla38[[#This Row],[CODIGO municipio]],[3]!Tabla7[#All],3,FALSE),\"\")","v":""},{"$f":"IFERROR(VLOOKUP(Tabla38[[#This Row],[CODIGO municipio]],[3]!Tabla7[#All],4,FALSE),\"\")","v":""},{"$f":"IFERROR(VLOOKUP(Tabla38[[#This Row],[CODIGO municipio]],[3]!Tabla7[#All],11,FALSE),\"\")","v":""},{"$f":"IFERROR(VLOOKUP(Tabla38[[#This Row],[CODIGO municipio]],[3]!Tabla7[#All],12,FALSE),\"\")","v":""},{"$f":"IFERROR(VLOOKUP(Tabla38[[#This Row],[CODIGO municipio]],[3]!Tabla7[#All],13,FALSE),\"\")","v":""},{"$f":"IFERROR(VLOOKUP(Tabla38[[#This Row],[CODIGO municipio]],[3]!Tabla7[#All],14,FALSE),\"\")","v":""},{"$f":"IFERROR(VLOOKUP(Tabla38[[#This Row],[CODIGO municipio]],[3]!Tabla7[#All],15,FALSE),\"\")","v":""},{"$f":"IFERROR(VLOOKUP(Tabla38[[#This Row],[CODIGO municipio]],[3]!Tabla7[#All],16,FALSE),\"\")","v":""},{"$f":"IFERROR(VLOOKUP(Tabla38[[#This Row],[CODIGO municipio]],[3]!Tabla7[#All],17,FALSE),\"\")","v":""},{"$f":"IFERROR(VLOOKUP(Tabla38[[#This Row],[CODIGO municipio]],[3]!Tabla7[#All],18,FALSE),\"\")","v":""},{"$f":"IFERROR(VLOOKUP(Tabla38[[#This Row],[CODIGO municipio]],[3]!Tabla7[#All],19,FALSE),\"\")","v":""},{"$f":"IFERROR(VLOOKUP(Tabla38[[#This Row],[CODIGO municipio]],[3]!Tabla8[#All],3,FALSE),\"\")","v":""},{"$f":"IFERROR(VLOOKUP(Tabla38[[#This Row],[CODIGO municipio]],[3]!Tabla8[#All],4,FALSE),\"\")","v":""},{"$f":"IFERROR(VLOOKUP(Tabla38[[#This Row],[CODIGO municipio]],[3]!Tabla8[#All],5,FALSE),\"\")","v":""},{"$f":"IFERROR(VLOOKUP(Tabla38[[#This Row],[CODIGO municipio]],[3]!Tabla8[#All],6,FALSE),\"\")","v":""},{"$f":"IFERROR(VLOOKUP(Tabla38[[#This Row],[CODIGO municipio]],[3]!Tabla8[#All],7,FALSE),\"\")","v":""},{"$f":"IFERROR(VLOOKUP(Tabla38[[#This Row],[CODIGO municipio]],[3]!Tabla8[#All],8,FALSE),\"\")","v":""},{"$f":"IFERROR(VLOOKUP(Tabla38[[#This Row],[CODIGO municipio]],[3]!Tabla8[#All],9,FALSE),\"\")","v":""},{"$f":"IFERROR(VLOOKUP(Tabla38[[#This Row],[CODIGO municipio]],[3]!Tabla8[#All],10,FALSE),\"\")","v":""},{"$f":"IFERROR(VLOOKUP(Tabla38[[#This Row],[CODIGO municipio]],[3]!Tabla8[#All],11,FALSE),\"\")","v":""},{"$f":"IFERROR(VLOOKUP(Tabla38[[#This Row],[CODIGO municipio]],[3]!Tabla8[#All],12,FALSE),\"\")","v":""},{"$f":"IFERROR(VLOOKUP(Tabla38[[#This Row],[CODIGO municipio]],[3]!Tabla8[#All],13,FALSE),\"\")","v":""},{"$f":"IFERROR(VLOOKUP(Tabla38[[#This Row],[CODIGO municipio]],[3]!Tabla8[#All],14,FALSE),\"\")","v":""},{"$f":"IFERROR(VLOOKUP(Tabla38[[#This Row],[CODIGO municipio]],[3]!Tabla8[#All],15,FALSE),\"\")","v":""},{"$f":"IFERROR(VLOOKUP(Tabla38[[#This Row],[CODIGO municipio]],[3]!Tabla8[#All],16,FALSE),\"\")","v":""},{"$f":"IFERROR(VLOOKUP(Tabla38[[#This Row],[CODIGO municipio]],[3]!Tabla8[#All],17,FALSE),\"\")","v":""},{"$f":"IFERROR(VLOOKUP(Tabla38[[#This Row],[CODIGO municipio]],[3]!Tabla8[#All],18,FALSE),\"\")","v":""},{"$f":"IFERROR(VLOOKUP(Tabla38[[#This Row],[CODIGO municipio]],[3]!Tabla8[#All],19,FALSE),\"\")","v":""},{"$f":"IFERROR(VLOOKUP(Tabla38[[#This Row],[CODIGO municipio]],[3]!Tabla8[#All],20,FALSE),\"\")","v":""},{"$f":"IFERROR(VLOOKUP(Tabla38[[#This Row],[CODIGO municipio]],[3]!Tabla8[#All],21,FALSE),\"\")","v":""},{"$f":"IFERROR(VLOOKUP(Tabla38[[#This Row],[CODIGO municipio]],[3]!Tabla8[#All],22,FALSE),\"\")","v":""},{"$f":"IFERROR(VLOOKUP(Tabla38[[#This Row],[CODIGO municipio]],[3]!Tabla8[#All],23,FALSE),\"\")","v":""},{"$f":"IFERROR(VLOOKUP(Tabla38[[#This Row],[CODIGO municipio]],[3]!Tabla9[#All],3,FALSE),\"\")","v":""}]
[{"$f":"IFERROR(VLOOKUP(Tabla38[[#This Row],[Municipio]],[3]!Tabla2[#All],3,FALSE),\"\")","v":""},106,"Chinautla",{"$f":"IFERROR(VLOOKUP(Tabla38[[#This Row],[CODIGO municipio]],[3]!Tabla6[[#All],[codigo_mun]],1,FALSE),\"\")","v":""},{"$f":"IFERROR(VLOOKUP(Tabla38[[#This Row],[CODIGO municipio]],[3]!Tabla12[#All],2,FALSE),\"\")","v":""},{"$f":"IFERROR(VLOOKUP(Tabla38[[#This Row],[CODIGO municipio]],[3]!Tabla7[#All],3,FALSE),\"\")","v":""},{"$f":"IFERROR(VLOOKUP(Tabla38[[#This Row],[CODIGO municipio]],[3]!Tabla7[#All],4,FALSE),\"\")","v":""},{"$f":"IFERROR(VLOOKUP(Tabla38[[#This Row],[CODIGO municipio]],[3]!Tabla7[#All],11,FALSE),\"\")","v":""},{"$f":"IFERROR(VLOOKUP(Tabla38[[#This Row],[CODIGO municipio]],[3]!Tabla7[#All],12,FALSE),\"\")","v":""},{"$f":"IFERROR(VLOOKUP(Tabla38[[#This Row],[CODIGO municipio]],[3]!Tabla7[#All],13,FALSE),\"\")","v":""},{"$f":"IFERROR(VLOOKUP(Tabla38[[#This Row],[CODIGO municipio]],[3]!Tabla7[#All],14,FALSE),\"\")","v":""},{"$f":"IFERROR(VLOOKUP(Tabla38[[#This Row],[CODIGO municipio]],[3]!Tabla7[#All],15,FALSE),\"\")","v":""},{"$f":"IFERROR(VLOOKUP(Tabla38[[#This Row],[CODIGO municipio]],[3]!Tabla7[#All],16,FALSE),\"\")","v":""},{"$f":"IFERROR(VLOOKUP(Tabla38[[#This Row],[CODIGO municipio]],[3]!Tabla7[#All],17,FALSE),\"\")","v":""},{"$f":"IFERROR(VLOOKUP(Tabla38[[#This Row],[CODIGO municipio]],[3]!Tabla7[#All],18,FALSE),\"\")","v":""},{"$f":"IFERROR(VLOOKUP(Tabla38[[#This Row],[CODIGO municipio]],[3]!Tabla7[#All],19,FALSE),\"\")","v":""},{"$f":"IFERROR(VLOOKUP(Tabla38[[#This Row],[CODIGO municipio]],[3]!Tabla8[#All],3,FALSE),\"\")","v":""},{"$f":"IFERROR(VLOOKUP(Tabla38[[#This Row],[CODIGO municipio]],[3]!Tabla8[#All],4,FALSE),\"\")","v":""},{"$f":"IFERROR(VLOOKUP(Tabla38[[#This Row],[CODIGO municipio]],[3]!Tabla8[#All],5,FALSE),\"\")","v":""},{"$f":"IFERROR(VLOOKUP(Tabla38[[#This Row],[CODIGO municipio]],[3]!Tabla8[#All],6,FALSE),\"\")","v":""},{"$f":"IFERROR(VLOOKUP(Tabla38[[#This Row],[CODIGO municipio]],[3]!Tabla8[#All],7,FALSE),\"\")","v":""},{"$f":"IFERROR(VLOOKUP(Tabla38[[#This Row],[CODIGO municipio]],[3]!Tabla8[#All],8,FALSE),\"\")","v":""},{"$f":"IFERROR(VLOOKUP(Tabla38[[#This Row],[CODIGO municipio]],[3]!Tabla8[#All],9,FALSE),\"\")","v":""},{"$f":"IFERROR(VLOOKUP(Tabla38[[#This Row],[CODIGO municipio]],[3]!Tabla8[#All],10,FALSE),\"\")","v":""},{"$f":"IFERROR(VLOOKUP(Tabla38[[#This Row],[CODIGO municipio]],[3]!Tabla8[#All],11,FALSE),\"\")","v":""},{"$f":"IFERROR(VLOOKUP(Tabla38[[#This Row],[CODIGO municipio]],[3]!Tabla8[#All],12,FALSE),\"\")","v":""},{"$f":"IFERROR(VLOOKUP(Tabla38[[#This Row],[CODIGO municipio]],[3]!Tabla8[#All],13,FALSE),\"\")","v":""},{"$f":"IFERROR(VLOOKUP(Tabla38[[#This Row],[CODIGO municipio]],[3]!Tabla8[#All],14,FALSE),\"\")","v":""},{"$f":"IFERROR(VLOOKUP(Tabla38[[#This Row],[CODIGO municipio]],[3]!Tabla8[#All],15,FALSE),\"\")","v":""},{"$f":"IFERROR(VLOOKUP(Tabla38[[#This Row],[CODIGO municipio]],[3]!Tabla8[#All],16,FALSE),\"\")","v":""},{"$f":"IFERROR(VLOOKUP(Tabla38[[#This Row],[CODIGO municipio]],[3]!Tabla8[#All],17,FALSE),\"\")","v":""},{"$f":"IFERROR(VLOOKUP(Tabla38[[#This Row],[CODIGO municipio]],[3]!Tabla8[#All],18,FALSE),\"\")","v":""},{"$f":"IFERROR(VLOOKUP(Tabla38[[#This Row],[CODIGO municipio]],[3]!Tabla8[#All],19,FALSE),\"\")","v":""},{"$f":"IFERROR(VLOOKUP(Tabla38[[#This Row],[CODIGO municipio]],[3]!Tabla8[#All],20,FALSE),\"\")","v":""},{"$f":"IFERROR(VLOOKUP(Tabla38[[#This Row],[CODIGO municipio]],[3]!Tabla8[#All],21,FALSE),\"\")","v":""},{"$f":"IFERROR(VLOOKUP(Tabla38[[#This Row],[CODIGO municipio]],[3]!Tabla8[#All],22,FALSE),\"\")","v":""},{"$f":"IFERROR(VLOOKUP(Tabla38[[#This Row],[CODIGO municipio]],[3]!Tabla8[#All],23,FALSE),\"\")","v":""},{"$f":"IFERROR(VLOOKUP(Tabla38[[#This Row],[CODIGO municipio]],[3]!Tabla9[#All],3,FALSE),\"\")","v":""}]
[{"$f":"IFERROR(VLOOKUP(Tabla38[[#This Row],[Municipio]],[3]!Tabla2[#All],3,FALSE),\"\")","v":""},107,"San Pedro Ayampuc",{"$f":"IFERROR(VLOOKUP(Tabla38[[#This Row],[CODIGO municipio]],[3]!Tabla6[[#All],[codigo_mun]],1,FALSE),\"\")","v":""},{"$f":"IFERROR(VLOOKUP(Tabla38[[#This Row],[CODIGO municipio]],[3]!Tabla12[#All],2,FALSE),\"\")","v":""},{"$f":"IFERROR(VLOOKUP(Tabla38[[#This Row],[CODIGO municipio]],[3]!Tabla7[#All],3,FALSE),\"\")","v":""},{"$f":"IFERROR(VLOOKUP(Tabla38[[#This Row],[CODIGO municipio]],[3]!Tabla7[#All],4,FALSE),\"\")","v":""},{"$f":"IFERROR(VLOOKUP(Tabla38[[#This Row],[CODIGO municipio]],[3]!Tabla7[#All],11,FALSE),\"\")","v":""},{"$f":"IFERROR(VLOOKUP(Tabla38[[#This Row],[CODIGO municipio]],[3]!Tabla7[#All],12,FALSE),\"\")","v":""},{"$f":"IFERROR(VLOOKUP(Tabla38[[#This Row],[CODIGO municipio]],[3]!Tabla7[#All],13,FALSE),\"\")","v":""},{"$f":"IFERROR(VLOOKUP(Tabla38[[#This Row],[CODIGO municipio]],[3]!Tabla7[#All],14,FALSE),\"\")","v":""},{"$f":"IFERROR(VLOOKUP(Tabla38[[#This Row],[CODIGO municipio]],[3]!Tabla7[#All],15,FALSE),\"\")","v":""},{"$f":"IFERROR(VLOOKUP(Tabla38[[#This Row],[CODIGO municipio]],[3]!Tabla7[#All],16,FALSE),\"\")","v":""},{"$f":"IFERROR(VLOOKUP(Tabla38[[#This Row],[CODIGO municipio]],[3]!Tabla7[#All],17,FALSE),\"\")","v":""},{"$f":"IFERROR(VLOOKUP(Tabla38[[#This Row],[CODIGO municipio]],[3]!Tabla7[#All],18,FALSE),\"\")","v":""},{"$f":"IFERROR(VLOOKUP(Tabla38[[#This Row],[CODIGO municipio]],[3]!Tabla7[#All],19,FALSE),\"\")","v":""},{"$f":"IFERROR(VLOOKUP(Tabla38[[#This Row],[CODIGO municipio]],[3]!Tabla8[#All],3,FALSE),\"\")","v":""},{"$f":"IFERROR(VLOOKUP(Tabla38[[#This Row],[CODIGO municipio]],[3]!Tabla8[#All],4,FALSE),\"\")","v":""},{"$f":"IFERROR(VLOOKUP(Tabla38[[#This Row],[CODIGO municipio]],[3]!Tabla8[#All],5,FALSE),\"\")","v":""},{"$f":"IFERROR(VLOOKUP(Tabla38[[#This Row],[CODIGO municipio]],[3]!Tabla8[#All],6,FALSE),\"\")","v":""},{"$f":"IFERROR(VLOOKUP(Tabla38[[#This Row],[CODIGO municipio]],[3]!Tabla8[#All],7,FALSE),\"\")","v":""},{"$f":"IFERROR(VLOOKUP(Tabla38[[#This Row],[CODIGO municipio]],[3]!Tabla8[#All],8,FALSE),\"\")","v":""},{"$f":"IFERROR(VLOOKUP(Tabla38[[#This Row],[CODIGO municipio]],[3]!Tabla8[#All],9,FALSE),\"\")","v":""},{"$f":"IFERROR(VLOOKUP(Tabla38[[#This Row],[CODIGO municipio]],[3]!Tabla8[#All],10,FALSE),\"\")","v":""},{"$f":"IFERROR(VLOOKUP(Tabla38[[#This Row],[CODIGO municipio]],[3]!Tabla8[#All],11,FALSE),\"\")","v":""},{"$f":"IFERROR(VLOOKUP(Tabla38[[#This Row],[CODIGO municipio]],[3]!Tabla8[#All],12,FALSE),\"\")","v":""},{"$f":"IFERROR(VLOOKUP(Tabla38[[#This Row],[CODIGO municipio]],[3]!Tabla8[#All],13,FALSE),\"\")","v":""},{"$f":"IFERROR(VLOOKUP(Tabla38[[#This Row],[CODIGO municipio]],[3]!Tabla8[#All],14,FALSE),\"\")","v":""},{"$f":"IFERROR(VLOOKUP(Tabla38[[#This Row],[CODIGO municipio]],[3]!Tabla8[#All],15,FALSE),\"\")","v":""},{"$f":"IFERROR(VLOOKUP(Tabla38[[#This Row],[CODIGO municipio]],[3]!Tabla8[#All],16,FALSE),\"\")","v":""},{"$f":"IFERROR(VLOOKUP(Tabla38[[#This Row],[CODIGO municipio]],[3]!Tabla8[#All],17,FALSE),\"\")","v":""},{"$f":"IFERROR(VLOOKUP(Tabla38[[#This Row],[CODIGO municipio]],[3]!Tabla8[#All],18,FALSE),\"\")","v":""},{"$f":"IFERROR(VLOOKUP(Tabla38[[#This Row],[CODIGO municipio]],[3]!Tabla8[#All],19,FALSE),\"\")","v":""},{"$f":"IFERROR(VLOOKUP(Tabla38[[#This Row],[CODIGO municipio]],[3]!Tabla8[#All],20,FALSE),\"\")","v":""},{"$f":"IFERROR(VLOOKUP(Tabla38[[#This Row],[CODIGO municipio]],[3]!Tabla8[#All],21,FALSE),\"\")","v":""},{"$f":"IFERROR(VLOOKUP(Tabla38[[#This Row],[CODIGO municipio]],[3]!Tabla8[#All],22,FALSE),\"\")","v":""},{"$f":"IFERROR(VLOOKUP(Tabla38[[#This Row],[CODIGO municipio]],[3]!Tabla8[#All],23,FALSE),\"\")","v":""},{"$f":"IFERROR(VLOOKUP(Tabla38[[#This Row],[CODIGO municipio]],[3]!Tabla9[#All],3,FALSE),\"\")","v":""}]
[{"$f":"IFERROR(VLOOKUP(Tabla38[[#This Row],[Municipio]],[3]!Tabla2[#All],3,FALSE),\"\")","v":""},108,"Mixco",{"$f":"IFERROR(VLOOKUP(Tabla38[[#This Row],[CODIGO municipio]],[3]!Tabla6[[#All],[codigo_mun]],1,FALSE),\"\")","v":""},{"$f":"IFERROR(VLOOKUP(Tabla38[[#This Row],[CODIGO municipio]],[3]!Tabla12[#All],2,FALSE),\"\")","v":""},{"$f":"IFERROR(VLOOKUP(Tabla38[[#This Row],[CODIGO municipio]],[3]!Tabla7[#All],3,FALSE),\"\")","v":""},{"$f":"IFERROR(VLOOKUP(Tabla38[[#This Row],[CODIGO municipio]],[3]!Tabla7[#All],4,FALSE),\"\")","v":""},{"$f":"IFERROR(VLOOKUP(Tabla38[[#This Row],[CODIGO municipio]],[3]!Tabla7[#All],11,FALSE),\"\")","v":""},{"$f":"IFERROR(VLOOKUP(Tabla38[[#This Row],[CODIGO municipio]],[3]!Tabla7[#All],12,FALSE),\"\")","v":""},{"$f":"IFERROR(VLOOKUP(Tabla38[[#This Row],[CODIGO municipio]],[3]!Tabla7[#All],13,FALSE),\"\")","v":""},{"$f":"IFERROR(VLOOKUP(Tabla38[[#This Row],[CODIGO municipio]],[3]!Tabla7[#All],14,FALSE),\"\")","v":""},{"$f":"IFERROR(VLOOKUP(Tabla38[[#This Row],[CODIGO municipio]],[3]!Tabla7[#All],15,FALSE),\"\")","v":""},{"$f":"IFERROR(VLOOKUP(Tabla38[[#This Row],[CODIGO municipio]],[3]!Tabla7[#All],16,FALSE),\"\")","v":""},{"$f":"IFERROR(VLOOKUP(Tabla38[[#This Row],[CODIGO municipio]],[3]!Tabla7[#All],17,FALSE),\"\")","v":""},{"$f":"IFERROR(VLOOKUP(Tabla38[[#This Row],[CODIGO municipio]],[3]!Tabla7[#All],18,FALSE),\"\")","v":""},{"$f":"IFERROR(VLOOKUP(Tabla38[[#This Row],[CODIGO municipio]],[3]!Tabla7[#All],19,FALSE),\"\")","v":""},{"$f":"IFERROR(VLOOKUP(Tabla38[[#This Row],[CODIGO municipio]],[3]!Tabla8[#All],3,FALSE),\"\")","v":""},{"$f":"IFERROR(VLOOKUP(Tabla38[[#This Row],[CODIGO municipio]],[3]!Tabla8[#All],4,FALSE),\"\")","v":""},{"$f":"IFERROR(VLOOKUP(Tabla38[[#This Row],[CODIGO municipio]],[3]!Tabla8[#All],5,FALSE),\"\")","v":""},{"$f":"IFERROR(VLOOKUP(Tabla38[[#This Row],[CODIGO municipio]],[3]!Tabla8[#All],6,FALSE),\"\")","v":""},{"$f":"IFERROR(VLOOKUP(Tabla38[[#This Row],[CODIGO municipio]],[3]!Tabla8[#All],7,FALSE),\"\")","v":""},{"$f":"IFERROR(VLOOKUP(Tabla38[[#This Row],[CODIGO municipio]],[3]!Tabla8[#All],8,FALSE),\"\")","v":""},{"$f":"IFERROR(VLOOKUP(Tabla38[[#This Row],[CODIGO municipio]],[3]!Tabla8[#All],9,FALSE),\"\")","v":""},{"$f":"IFERROR(VLOOKUP(Tabla38[[#This Row],[CODIGO municipio]],[3]!Tabla8[#All],10,FALSE),\"\")","v":""},{"$f":"IFERROR(VLOOKUP(Tabla38[[#This Row],[CODIGO municipio]],[3]!Tabla8[#All],11,FALSE),\"\")","v":""},{"$f":"IFERROR(VLOOKUP(Tabla38[[#This Row],[CODIGO municipio]],[3]!Tabla8[#All],12,FALSE),\"\")","v":""},{"$f":"IFERROR(VLOOKUP(Tabla38[[#This Row],[CODIGO municipio]],[3]!Tabla8[#All],13,FALSE),\"\")","v":""},{"$f":"IFERROR(VLOOKUP(Tabla38[[#This Row],[CODIGO municipio]],[3]!Tabla8[#All],14,FALSE),\"\")","v":""},{"$f":"IFERROR(VLOOKUP(Tabla38[[#This Row],[CODIGO municipio]],[3]!Tabla8[#All],15,FALSE),\"\")","v":""},{"$f":"IFERROR(VLOOKUP(Tabla38[[#This Row],[CODIGO municipio]],[3]!Tabla8[#All],16,FALSE),\"\")","v":""},{"$f":"IFERROR(VLOOKUP(Tabla38[[#This Row],[CODIGO municipio]],[3]!Tabla8[#All],17,FALSE),\"\")","v":""},{"$f":"IFERROR(VLOOKUP(Tabla38[[#This Row],[CODIGO municipio]],[3]!Tabla8[#All],18,FALSE),\"\")","v":""},{"$f":"IFERROR(VLOOKUP(Tabla38[[#This Row],[CODIGO municipio]],[3]!Tabla8[#All],19,FALSE),\"\")","v":""},{"$f":"IFERROR(VLOOKUP(Tabla38[[#This Row],[CODIGO municipio]],[3]!Tabla8[#All],20,FALSE),\"\")","v":""},{"$f":"IFERROR(VLOOKUP(Tabla38[[#This Row],[CODIGO municipio]],[3]!Tabla8[#All],21,FALSE),\"\")","v":""},{"$f":"IFERROR(VLOOKUP(Tabla38[[#This Row],[CODIGO municipio]],[3]!Tabla8[#All],22,FALSE),\"\")","v":""},{"$f":"IFERROR(VLOOKUP(Tabla38[[#This Row],[CODIGO municipio]],[3]!Tabla8[#All],23,FALSE),\"\")","v":""},{"$f":"IFERROR(VLOOKUP(Tabla38[[#This Row],[CODIGO municipio]],[3]!Tabla9[#All],3,FALSE),\"\")","v":""}]
[{"$f":"IFERROR(VLOOKUP(Tabla38[[#This Row],[Municipio]],[3]!Tabla2[#All],3,FALSE),\"\")","v":""},109,"San Pedro Sacatepéquez",{"$f":"IFERROR(VLOOKUP(Tabla38[[#This Row],[CODIGO municipio]],[3]!Tabla6[[#All],[codigo_mun]],1,FALSE),\"\")","v":""},{"$f":"IFERROR(VLOOKUP(Tabla38[[#This Row],[CODIGO municipio]],[3]!Tabla12[#All],2,FALSE),\"\")","v":""},{"$f":"IFERROR(VLOOKUP(Tabla38[[#This Row],[CODIGO municipio]],[3]!Tabla7[#All],3,FALSE),\"\")","v":""},{"$f":"IFERROR(VLOOKUP(Tabla38[[#This Row],[CODIGO municipio]],[3]!Tabla7[#All],4,FALSE),\"\")","v":""},{"$f":"IFERROR(VLOOKUP(Tabla38[[#This Row],[CODIGO municipio]],[3]!Tabla7[#All],11,FALSE),\"\")","v":""},{"$f":"IFERROR(VLOOKUP(Tabla38[[#This Row],[CODIGO municipio]],[3]!Tabla7[#All],12,FALSE),\"\")","v":""},{"$f":"IFERROR(VLOOKUP(Tabla38[[#This Row],[CODIGO municipio]],[3]!Tabla7[#All],13,FALSE),\"\")","v":""},{"$f":"IFERROR(VLOOKUP(Tabla38[[#This Row],[CODIGO municipio]],[3]!Tabla7[#All],14,FALSE),\"\")","v":""},{"$f":"IFERROR(VLOOKUP(Tabla38[[#This Row],[CODIGO municipio]],[3]!Tabla7[#All],15,FALSE),\"\")","v":""},{"$f":"IFERROR(VLOOKUP(Tabla38[[#This Row],[CODIGO municipio]],[3]!Tabla7[#All],16,FALSE),\"\")","v":""},{"$f":"IFERROR(VLOOKUP(Tabla38[[#This Row],[CODIGO municipio]],[3]!Tabla7[#All],17,FALSE),\"\")","v":""},{"$f":"IFERROR(VLOOKUP(Tabla38[[#This Row],[CODIGO municipio]],[3]!Tabla7[#All],18,FALSE),\"\")","v":""},{"$f":"IFERROR(VLOOKUP(Tabla38[[#This Row],[CODIGO municipio]],[3]!Tabla7[#All],19,FALSE),\"\")","v":""},{"$f":"IFERROR(VLOOKUP(Tabla38[[#This Row],[CODIGO municipio]],[3]!Tabla8[#All],3,FALSE),\"\")","v":""},{"$f":"IFERROR(VLOOKUP(Tabla38[[#This Row],[CODIGO municipio]],[3]!Tabla8[#All],4,FALSE),\"\")","v":""},{"$f":"IFERROR(VLOOKUP(Tabla38[[#This Row],[CODIGO municipio]],[3]!Tabla8[#All],5,FALSE),\"\")","v":""},{"$f":"IFERROR(VLOOKUP(Tabla38[[#This Row],[CODIGO municipio]],[3]!Tabla8[#All],6,FALSE),\"\")","v":""},{"$f":"IFERROR(VLOOKUP(Tabla38[[#This Row],[CODIGO municipio]],[3]!Tabla8[#All],7,FALSE),\"\")","v":""},{"$f":"IFERROR(VLOOKUP(Tabla38[[#This Row],[CODIGO municipio]],[3]!Tabla8[#All],8,FALSE),\"\")","v":""},{"$f":"IFERROR(VLOOKUP(Tabla38[[#This Row],[CODIGO municipio]],[3]!Tabla8[#All],9,FALSE),\"\")","v":""},{"$f":"IFERROR(VLOOKUP(Tabla38[[#This Row],[CODIGO municipio]],[3]!Tabla8[#All],10,FALSE),\"\")","v":""},{"$f":"IFERROR(VLOOKUP(Tabla38[[#This Row],[CODIGO municipio]],[3]!Tabla8[#All],11,FALSE),\"\")","v":""},{"$f":"IFERROR(VLOOKUP(Tabla38[[#This Row],[CODIGO municipio]],[3]!Tabla8[#All],12,FALSE),\"\")","v":""},{"$f":"IFERROR(VLOOKUP(Tabla38[[#This Row],[CODIGO municipio]],[3]!Tabla8[#All],13,FALSE),\"\")","v":""},{"$f":"IFERROR(VLOOKUP(Tabla38[[#This Row],[CODIGO municipio]],[3]!Tabla8[#All],14,FALSE),\"\")","v":""},{"$f":"IFERROR(VLOOKUP(Tabla38[[#This Row],[CODIGO municipio]],[3]!Tabla8[#All],15,FALSE),\"\")","v":""},{"$f":"IFERROR(VLOOKUP(Tabla38[[#This Row],[CODIGO municipio]],[3]!Tabla8[#All],16,FALSE),\"\")","v":""},{"$f":"IFERROR(VLOOKUP(Tabla38[[#This Row],[CODIGO municipio]],[3]!Tabla8[#All],17,FALSE),\"\")","v":""},{"$f":"IFERROR(VLOOKUP(Tabla38[[#This Row],[CODIGO municipio]],[3]!Tabla8[#All],18,FALSE),\"\")","v":""},{"$f":"IFERROR(VLOOKUP(Tabla38[[#This Row],[CODIGO municipio]],[3]!Tabla8[#All],19,FALSE),\"\")","v":""},{"$f":"IFERROR(VLOOKUP(Tabla38[[#This Row],[CODIGO municipio]],[3]!Tabla8[#All],20,FALSE),\"\")","v":""},{"$f":"IFERROR(VLOOKUP(Tabla38[[#This Row],[CODIGO municipio]],[3]!Tabla8[#All],21,FALSE),\"\")","v":""},{"$f":"IFERROR(VLOOKUP(Tabla38[[#This Row],[CODIGO municipio]],[3]!Tabla8[#All],22,FALSE),\"\")","v":""},{"$f":"IFERROR(VLOOKUP(Tabla38[[#This Row],[CODIGO municipio]],[3]!Tabla8[#All],23,FALSE),\"\")","v":""},{"$f":"IFERROR(VLOOKUP(Tabla38[[#This Row],[CODIGO municipio]],[3]!Tabla9[#All],3,FALSE),\"\")","v":""}]
[{"$f":"IFERROR(VLOOKUP(Tabla38[[#This Row],[Municipio]],[3]!Tabla2[#All],3,FALSE),\"\")","v":""},110,"San Juan Sacatepéquez",{"$f":"IFERROR(VLOOKUP(Tabla38[[#This Row],[CODIGO municipio]],[3]!Tabla6[[#All],[codigo_mun]],1,FALSE),\"\")","v":""},{"$f":"IFERROR(VLOOKUP(Tabla38[[#This Row],[CODIGO municipio]],[3]!Tabla12[#All],2,FALSE),\"\")","v":""},{"$f":"IFERROR(VLOOKUP(Tabla38[[#This Row],[CODIGO municipio]],[3]!Tabla7[#All],3,FALSE),\"\")","v":""},{"$f":"IFERROR(VLOOKUP(Tabla38[[#This Row],[CODIGO municipio]],[3]!Tabla7[#All],4,FALSE),\"\")","v":""},{"$f":"IFERROR(VLOOKUP(Tabla38[[#This Row],[CODIGO municipio]],[3]!Tabla7[#All],11,FALSE),\"\")","v":""},{"$f":"IFERROR(VLOOKUP(Tabla38[[#This Row],[CODIGO municipio]],[3]!Tabla7[#All],12,FALSE),\"\")","v":""},{"$f":"IFERROR(VLOOKUP(Tabla38[[#This Row],[CODIGO municipio]],[3]!Tabla7[#All],13,FALSE),\"\")","v":""},{"$f":"IFERROR(VLOOKUP(Tabla38[[#This Row],[CODIGO municipio]],[3]!Tabla7[#All],14,FALSE),\"\")","v":""},{"$f":"IFERROR(VLOOKUP(Tabla38[[#This Row],[CODIGO municipio]],[3]!Tabla7[#All],15,FALSE),\"\")","v":""},{"$f":"IFERROR(VLOOKUP(Tabla38[[#This Row],[CODIGO municipio]],[3]!Tabla7[#All],16,FALSE),\"\")","v":""},{"$f":"IFERROR(VLOOKUP(Tabla38[[#This Row],[CODIGO municipio]],[3]!Tabla7[#All],17,FALSE),\"\")","v":""},{"$f":"IFERROR(VLOOKUP(Tabla38[[#This Row],[CODIGO municipio]],[3]!Tabla7[#All],18,FALSE),\"\")","v":""},{"$f":"IFERROR(VLOOKUP(Tabla38[[#This Row],[CODIGO municipio]],[3]!Tabla7[#All],19,FALSE),\"\")","v":""},{"$f":"IFERROR(VLOOKUP(Tabla38[[#This Row],[CODIGO municipio]],[3]!Tabla8[#All],3,FALSE),\"\")","v":""},{"$f":"IFERROR(VLOOKUP(Tabla38[[#This Row],[CODIGO municipio]],[3]!Tabla8[#All],4,FALSE),\"\")","v":""},{"$f":"IFERROR(VLOOKUP(Tabla38[[#This Row],[CODIGO municipio]],[3]!Tabla8[#All],5,FALSE),\"\")","v":""},{"$f":"IFERROR(VLOOKUP(Tabla38[[#This Row],[CODIGO municipio]],[3]!Tabla8[#All],6,FALSE),\"\")","v":""},{"$f":"IFERROR(VLOOKUP(Tabla38[[#This Row],[CODIGO municipio]],[3]!Tabla8[#All],7,FALSE),\"\")","v":""},{"$f":"IFERROR(VLOOKUP(Tabla38[[#This Row],[CODIGO municipio]],[3]!Tabla8[#All],8,FALSE),\"\")","v":""},{"$f":"IFERROR(VLOOKUP(Tabla38[[#This Row],[CODIGO municipio]],[3]!Tabla8[#All],9,FALSE),\"\")","v":""},{"$f":"IFERROR(VLOOKUP(Tabla38[[#This Row],[CODIGO municipio]],[3]!Tabla8[#All],10,FALSE),\"\")","v":""},{"$f":"IFERROR(VLOOKUP(Tabla38[[#This Row],[CODIGO municipio]],[3]!Tabla8[#All],11,FALSE),\"\")","v":""},{"$f":"IFERROR(VLOOKUP(Tabla38[[#This Row],[CODIGO municipio]],[3]!Tabla8[#All],12,FALSE),\"\")","v":""},{"$f":"IFERROR(VLOOKUP(Tabla38[[#This Row],[CODIGO municipio]],[3]!Tabla8[#All],13,FALSE),\"\")","v":""},{"$f":"IFERROR(VLOOKUP(Tabla38[[#This Row],[CODIGO municipio]],[3]!Tabla8[#All],14,FALSE),\"\")","v":""},{"$f":"IFERROR(VLOOKUP(Tabla38[[#This Row],[CODIGO municipio]],[3]!Tabla8[#All],15,FALSE),\"\")","v":""},{"$f":"IFERROR(VLOOKUP(Tabla38[[#This Row],[CODIGO municipio]],[3]!Tabla8[#All],16,FALSE),\"\")","v":""},{"$f":"IFERROR(VLOOKUP(Tabla38[[#This Row],[CODIGO municipio]],[3]!Tabla8[#All],17,FALSE),\"\")","v":""},{"$f":"IFERROR(VLOOKUP(Tabla38[[#This Row],[CODIGO municipio]],[3]!Tabla8[#All],18,FALSE),\"\")","v":""},{"$f":"IFERROR(VLOOKUP(Tabla38[[#This Row],[CODIGO municipio]],[3]!Tabla8[#All],19,FALSE),\"\")","v":""},{"$f":"IFERROR(VLOOKUP(Tabla38[[#This Row],[CODIGO municipio]],[3]!Tabla8[#All],20,FALSE),\"\")","v":""},{"$f":"IFERROR(VLOOKUP(Tabla38[[#This Row],[CODIGO municipio]],[3]!Tabla8[#All],21,FALSE),\"\")","v":""},{"$f":"IFERROR(VLOOKUP(Tabla38[[#This Row],[CODIGO municipio]],[3]!Tabla8[#All],22,FALSE),\"\")","v":""},{"$f":"IFERROR(VLOOKUP(Tabla38[[#This Row],[CODIGO municipio]],[3]!Tabla8[#All],23,FALSE),\"\")","v":""},{"$f":"IFERROR(VLOOKUP(Tabla38[[#This Row],[CODIGO municipio]],[3]!Tabla9[#All],3,FALSE),\"\")","v":""}]
[{"$f":"IFERROR(VLOOKUP(Tabla38[[#This Row],[Municipio]],[3]!Tabla2[#All],3,FALSE),\"\")","v":""},111,"San Raymundo",{"$f":"IFERROR(VLOOKUP(Tabla38[[#This Row],[CODIGO municipio]],[3]!Tabla6[[#All],[codigo_mun]],1,FALSE),\"\")","v":""},{"$f":"IFERROR(VLOOKUP(Tabla38[[#This Row],[CODIGO municipio]],[3]!Tabla12[#All],2,FALSE),\"\")","v":""},{"$f":"IFERROR(VLOOKUP(Tabla38[[#This Row],[CODIGO municipio]],[3]!Tabla7[#All],3,FALSE),\"\")","v":""},{"$f":"IFERROR(VLOOKUP(Tabla38[[#This Row],[CODIGO municipio]],[3]!Tabla7[#All],4,FALSE),\"\")","v":""},{"$f":"IFERROR(VLOOKUP(Tabla38[[#This Row],[CODIGO municipio]],[3]!Tabla7[#All],11,FALSE),\"\")","v":""},{"$f":"IFERROR(VLOOKUP(Tabla38[[#This Row],[CODIGO municipio]],[3]!Tabla7[#All],12,FALSE),\"\")","v":""},{"$f":"IFERROR(VLOOKUP(Tabla38[[#This Row],[CODIGO municipio]],[3]!Tabla7[#All],13,FALSE),\"\")","v":""},{"$f":"IFERROR(VLOOKUP(Tabla38[[#This Row],[CODIGO municipio]],[3]!Tabla7[#All],14,FALSE),\"\")","v":""},{"$f":"IFERROR(VLOOKUP(Tabla38[[#This Row],[CODIGO municipio]],[3]!Tabla7[#All],15,FALSE),\"\")","v":""},{"$f":"IFERROR(VLOOKUP(Tabla38[[#This Row],[CODIGO municipio]],[3]!Tabla7[#All],16,FALSE),\"\")","v":""},{"$f":"IFERROR(VLOOKUP(Tabla38[[#This Row],[CODIGO municipio]],[3]!Tabla7[#All],17,FALSE),\"\")","v":""},{"$f":"IFERROR(VLOOKUP(Tabla38[[#This Row],[CODIGO municipio]],[3]!Tabla7[#All],18,FALSE),\"\")","v":""},{"$f":"IFERROR(VLOOKUP(Tabla38[[#This Row],[CODIGO municipio]],[3]!Tabla7[#All],19,FALSE),\"\")","v":""},{"$f":"IFERROR(VLOOKUP(Tabla38[[#This Row],[CODIGO municipio]],[3]!Tabla8[#All],3,FALSE),\"\")","v":""},{"$f":"IFERROR(VLOOKUP(Tabla38[[#This Row],[CODIGO municipio]],[3]!Tabla8[#All],4,FALSE),\"\")","v":""},{"$f":"IFERROR(VLOOKUP(Tabla38[[#This Row],[CODIGO municipio]],[3]!Tabla8[#All],5,FALSE),\"\")","v":""},{"$f":"IFERROR(VLOOKUP(Tabla38[[#This Row],[CODIGO municipio]],[3]!Tabla8[#All],6,FALSE),\"\")","v":""},{"$f":"IFERROR(VLOOKUP(Tabla38[[#This Row],[CODIGO municipio]],[3]!Tabla8[#All],7,FALSE),\"\")","v":""},{"$f":"IFERROR(VLOOKUP(Tabla38[[#This Row],[CODIGO municipio]],[3]!Tabla8[#All],8,FALSE),\"\")","v":""},{"$f":"IFERROR(VLOOKUP(Tabla38[[#This Row],[CODIGO municipio]],[3]!Tabla8[#All],9,FALSE),\"\")","v":""},{"$f":"IFERROR(VLOOKUP(Tabla38[[#This Row],[CODIGO municipio]],[3]!Tabla8[#All],10,FALSE),\"\")","v":""},{"$f":"IFERROR(VLOOKUP(Tabla38[[#This Row],[CODIGO municipio]],[3]!Tabla8[#All],11,FALSE),\"\")","v":""},{"$f":"IFERROR(VLOOKUP(Tabla38[[#This Row],[CODIGO municipio]],[3]!Tabla8[#All],12,FALSE),\"\")","v":""},{"$f":"IFERROR(VLOOKUP(Tabla38[[#This Row],[CODIGO municipio]],[3]!Tabla8[#All],13,FALSE),\"\")","v":""},{"$f":"IFERROR(VLOOKUP(Tabla38[[#This Row],[CODIGO municipio]],[3]!Tabla8[#All],14,FALSE),\"\")","v":""},{"$f":"IFERROR(VLOOKUP(Tabla38[[#This Row],[CODIGO municipio]],[3]!Tabla8[#All],15,FALSE),\"\")","v":""},{"$f":"IFERROR(VLOOKUP(Tabla38[[#This Row],[CODIGO municipio]],[3]!Tabla8[#All],16,FALSE),\"\")","v":""},{"$f":"IFERROR(VLOOKUP(Tabla38[[#This Row],[CODIGO municipio]],[3]!Tabla8[#All],17,FALSE),\"\")","v":""},{"$f":"IFERROR(VLOOKUP(Tabla38[[#This Row],[CODIGO municipio]],[3]!Tabla8[#All],18,FALSE),\"\")","v":""},{"$f":"IFERROR(VLOOKUP(Tabla38[[#This Row],[CODIGO municipio]],[3]!Tabla8[#All],19,FALSE),\"\")","v":""},{"$f":"IFERROR(VLOOKUP(Tabla38[[#This Row],[CODIGO municipio]],[3]!Tabla8[#All],20,FALSE),\"\")","v":""},{"$f":"IFERROR(VLOOKUP(Tabla38[[#This Row],[CODIGO municipio]],[3]!Tabla8[#All],21,FALSE),\"\")","v":""},{"$f":"IFERROR(VLOOKUP(Tabla38[[#This Row],[CODIGO municipio]],[3]!Tabla8[#All],22,FALSE),\"\")","v":""},{"$f":"IFERROR(VLOOKUP(Tabla38[[#This Row],[CODIGO municipio]],[3]!Tabla8[#All],23,FALSE),\"\")","v":""},{"$f":"IFERROR(VLOOKUP(Tabla38[[#This Row],[CODIGO municipio]],[3]!Tabla9[#All],3,FALSE),\"\")","v":""}]
[{"$f":"IFERROR(VLOOKUP(Tabla38[[#This Row],[Municipio]],[3]!Tabla2[#All],3,FALSE),\"\")","v":""},112,"Chuarrancho",{"$f":"IFERROR(VLOOKUP(Tabla38[[#This Row],[CODIGO municipio]],[3]!Tabla6[[#All],[codigo_mun]],1,FALSE),\"\")","v":""},{"$f":"IFERROR(VLOOKUP(Tabla38[[#This Row],[CODIGO municipio]],[3]!Tabla12[#All],2,FALSE),\"\")","v":""},{"$f":"IFERROR(VLOOKUP(Tabla38[[#This Row],[CODIGO municipio]],[3]!Tabla7[#All],3,FALSE),\"\")","v":""},{"$f":"IFERROR(VLOOKUP(Tabla38[[#This Row],[CODIGO municipio]],[3]!Tabla7[#All],4,FALSE),\"\")","v":""},{"$f":"IFERROR(VLOOKUP(Tabla38[[#This Row],[CODIGO municipio]],[3]!Tabla7[#All],11,FALSE),\"\")","v":""},{"$f":"IFERROR(VLOOKUP(Tabla38[[#This Row],[CODIGO municipio]],[3]!Tabla7[#All],12,FALSE),\"\")","v":""},{"$f":"IFERROR(VLOOKUP(Tabla38[[#This Row],[CODIGO municipio]],[3]!Tabla7[#All],13,FALSE),\"\")","v":""},{"$f":"IFERROR(VLOOKUP(Tabla38[[#This Row],[CODIGO municipio]],[3]!Tabla7[#All],14,FALSE),\"\")","v":""},{"$f":"IFERROR(VLOOKUP(Tabla38[[#This Row],[CODIGO municipio]],[3]!Tabla7[#All],15,FALSE),\"\")","v":""},{"$f":"IFERROR(VLOOKUP(Tabla38[[#This Row],[CODIGO municipio]],[3]!Tabla7[#All],16,FALSE),\"\")","v":""},{"$f":"IFERROR(VLOOKUP(Tabla38[[#This Row],[CODIGO municipio]],[3]!Tabla7[#All],17,FALSE),\"\")","v":""},{"$f":"IFERROR(VLOOKUP(Tabla38[[#This Row],[CODIGO municipio]],[3]!Tabla7[#All],18,FALSE),\"\")","v":""},{"$f":"IFERROR(VLOOKUP(Tabla38[[#This Row],[CODIGO municipio]],[3]!Tabla7[#All],19,FALSE),\"\")","v":""},{"$f":"IFERROR(VLOOKUP(Tabla38[[#This Row],[CODIGO municipio]],[3]!Tabla8[#All],3,FALSE),\"\")","v":""},{"$f":"IFERROR(VLOOKUP(Tabla38[[#This Row],[CODIGO municipio]],[3]!Tabla8[#All],4,FALSE),\"\")","v":""},{"$f":"IFERROR(VLOOKUP(Tabla38[[#This Row],[CODIGO municipio]],[3]!Tabla8[#All],5,FALSE),\"\")","v":""},{"$f":"IFERROR(VLOOKUP(Tabla38[[#This Row],[CODIGO municipio]],[3]!Tabla8[#All],6,FALSE),\"\")","v":""},{"$f":"IFERROR(VLOOKUP(Tabla38[[#This Row],[CODIGO municipio]],[3]!Tabla8[#All],7,FALSE),\"\")","v":""},{"$f":"IFERROR(VLOOKUP(Tabla38[[#This Row],[CODIGO municipio]],[3]!Tabla8[#All],8,FALSE),\"\")","v":""},{"$f":"IFERROR(VLOOKUP(Tabla38[[#This Row],[CODIGO municipio]],[3]!Tabla8[#All],9,FALSE),\"\")","v":""},{"$f":"IFERROR(VLOOKUP(Tabla38[[#This Row],[CODIGO municipio]],[3]!Tabla8[#All],10,FALSE),\"\")","v":""},{"$f":"IFERROR(VLOOKUP(Tabla38[[#This Row],[CODIGO municipio]],[3]!Tabla8[#All],11,FALSE),\"\")","v":""},{"$f":"IFERROR(VLOOKUP(Tabla38[[#This Row],[CODIGO municipio]],[3]!Tabla8[#All],12,FALSE),\"\")","v":""},{"$f":"IFERROR(VLOOKUP(Tabla38[[#This Row],[CODIGO municipio]],[3]!Tabla8[#All],13,FALSE),\"\")","v":""},{"$f":"IFERROR(VLOOKUP(Tabla38[[#This Row],[CODIGO municipio]],[3]!Tabla8[#All],14,FALSE),\"\")","v":""},{"$f":"IFERROR(VLOOKUP(Tabla38[[#This Row],[CODIGO municipio]],[3]!Tabla8[#All],15,FALSE),\"\")","v":""},{"$f":"IFERROR(VLOOKUP(Tabla38[[#This Row],[CODIGO municipio]],[3]!Tabla8[#All],16,FALSE),\"\")","v":""},{"$f":"IFERROR(VLOOKUP(Tabla38[[#This Row],[CODIGO municipio]],[3]!Tabla8[#All],17,FALSE),\"\")","v":""},{"$f":"IFERROR(VLOOKUP(Tabla38[[#This Row],[CODIGO municipio]],[3]!Tabla8[#All],18,FALSE),\"\")","v":""},{"$f":"IFERROR(VLOOKUP(Tabla38[[#This Row],[CODIGO municipio]],[3]!Tabla8[#All],19,FALSE),\"\")","v":""},{"$f":"IFERROR(VLOOKUP(Tabla38[[#This Row],[CODIGO municipio]],[3]!Tabla8[#All],20,FALSE),\"\")","v":""},{"$f":"IFERROR(VLOOKUP(Tabla38[[#This Row],[CODIGO municipio]],[3]!Tabla8[#All],21,FALSE),\"\")","v":""},{"$f":"IFERROR(VLOOKUP(Tabla38[[#This Row],[CODIGO municipio]],[3]!Tabla8[#All],22,FALSE),\"\")","v":""},{"$f":"IFERROR(VLOOKUP(Tabla38[[#This Row],[CODIGO municipio]],[3]!Tabla8[#All],23,FALSE),\"\")","v":""},{"$f":"IFERROR(VLOOKUP(Tabla38[[#This Row],[CODIGO municipio]],[3]!Tabla9[#All],3,FALSE),\"\")","v":""}]
[{"$f":"IFERROR(VLOOKUP(Tabla38[[#This Row],[Municipio]],[3]!Tabla2[#All],3,FALSE),\"\")","v":""},113,"Fraijanes",{"$f":"IFERROR(VLOOKUP(Tabla38[[#This Row],[CODIGO municipio]],[3]!Tabla6[[#All],[codigo_mun]],1,FALSE),\"\")","v":""},{"$f":"IFERROR(VLOOKUP(Tabla38[[#This Row],[CODIGO municipio]],[3]!Tabla12[#All],2,FALSE),\"\")","v":""},{"$f":"IFERROR(VLOOKUP(Tabla38[[#This Row],[CODIGO municipio]],[3]!Tabla7[#All],3,FALSE),\"\")","v":""},{"$f":"IFERROR(VLOOKUP(Tabla38[[#This Row],[CODIGO municipio]],[3]!Tabla7[#All],4,FALSE),\"\")","v":""},{"$f":"IFERROR(VLOOKUP(Tabla38[[#This Row],[CODIGO municipio]],[3]!Tabla7[#All],11,FALSE),\"\")","v":""},{"$f":"IFERROR(VLOOKUP(Tabla38[[#This Row],[CODIGO municipio]],[3]!Tabla7[#All],12,FALSE),\"\")","v":""},{"$f":"IFERROR(VLOOKUP(Tabla38[[#This Row],[CODIGO municipio]],[3]!Tabla7[#All],13,FALSE),\"\")","v":""},{"$f":"IFERROR(VLOOKUP(Tabla38[[#This Row],[CODIGO municipio]],[3]!Tabla7[#All],14,FALSE),\"\")","v":""},{"$f":"IFERROR(VLOOKUP(Tabla38[[#This Row],[CODIGO municipio]],[3]!Tabla7[#All],15,FALSE),\"\")","v":""},{"$f":"IFERROR(VLOOKUP(Tabla38[[#This Row],[CODIGO municipio]],[3]!Tabla7[#All],16,FALSE),\"\")","v":""},{"$f":"IFERROR(VLOOKUP(Tabla38[[#This Row],[CODIGO municipio]],[3]!Tabla7[#All],17,FALSE),\"\")","v":""},{"$f":"IFERROR(VLOOKUP(Tabla38[[#This Row],[CODIGO municipio]],[3]!Tabla7[#All],18,FALSE),\"\")","v":""},{"$f":"IFERROR(VLOOKUP(Tabla38[[#This Row],[CODIGO municipio]],[3]!Tabla7[#All],19,FALSE),\"\")","v":""},{"$f":"IFERROR(VLOOKUP(Tabla38[[#This Row],[CODIGO municipio]],[3]!Tabla8[#All],3,FALSE),\"\")","v":""},{"$f":"IFERROR(VLOOKUP(Tabla38[[#This Row],[CODIGO municipio]],[3]!Tabla8[#All],4,FALSE),\"\")","v":""},{"$f":"IFERROR(VLOOKUP(Tabla38[[#This Row],[CODIGO municipio]],[3]!Tabla8[#All],5,FALSE),\"\")","v":""},{"$f":"IFERROR(VLOOKUP(Tabla38[[#This Row],[CODIGO municipio]],[3]!Tabla8[#All],6,FALSE),\"\")","v":""},{"$f":"IFERROR(VLOOKUP(Tabla38[[#This Row],[CODIGO municipio]],[3]!Tabla8[#All],7,FALSE),\"\")","v":""},{"$f":"IFERROR(VLOOKUP(Tabla38[[#This Row],[CODIGO municipio]],[3]!Tabla8[#All],8,FALSE),\"\")","v":""},{"$f":"IFERROR(VLOOKUP(Tabla38[[#This Row],[CODIGO municipio]],[3]!Tabla8[#All],9,FALSE),\"\")","v":""},{"$f":"IFERROR(VLOOKUP(Tabla38[[#This Row],[CODIGO municipio]],[3]!Tabla8[#All],10,FALSE),\"\")","v":""},{"$f":"IFERROR(VLOOKUP(Tabla38[[#This Row],[CODIGO municipio]],[3]!Tabla8[#All],11,FALSE),\"\")","v":""},{"$f":"IFERROR(VLOOKUP(Tabla38[[#This Row],[CODIGO municipio]],[3]!Tabla8[#All],12,FALSE),\"\")","v":""},{"$f":"IFERROR(VLOOKUP(Tabla38[[#This Row],[CODIGO municipio]],[3]!Tabla8[#All],13,FALSE),\"\")","v":""},{"$f":"IFERROR(VLOOKUP(Tabla38[[#This Row],[CODIGO municipio]],[3]!Tabla8[#All],14,FALSE),\"\")","v":""},{"$f":"IFERROR(VLOOKUP(Tabla38[[#This Row],[CODIGO municipio]],[3]!Tabla8[#All],15,FALSE),\"\")","v":""},{"$f":"IFERROR(VLOOKUP(Tabla38[[#This Row],[CODIGO municipio]],[3]!Tabla8[#All],16,FALSE),\"\")","v":""},{"$f":"IFERROR(VLOOKUP(Tabla38[[#This Row],[CODIGO municipio]],[3]!Tabla8[#All],17,FALSE),\"\")","v":""},{"$f":"IFERROR(VLOOKUP(Tabla38[[#This Row],[CODIGO municipio]],[3]!Tabla8[#All],18,FALSE),\"\")","v":""},{"$f":"IFERROR(VLOOKUP(Tabla38[[#This Row],[CODIGO municipio]],[3]!Tabla8[#All],19,FALSE),\"\")","v":""},{"$f":"IFERROR(VLOOKUP(Tabla38[[#This Row],[CODIGO municipio]],[3]!Tabla8[#All],20,FALSE),\"\")","v":""},{"$f":"IFERROR(VLOOKUP(Tabla38[[#This Row],[CODIGO municipio]],[3]!Tabla8[#All],21,FALSE),\"\")","v":""},{"$f":"IFERROR(VLOOKUP(Tabla38[[#This Row],[CODIGO municipio]],[3]!Tabla8[#All],22,FALSE),\"\")","v":""},{"$f":"IFERROR(VLOOKUP(Tabla38[[#This Row],[CODIGO municipio]],[3]!Tabla8[#All],23,FALSE),\"\")","v":""},{"$f":"IFERROR(VLOOKUP(Tabla38[[#This Row],[CODIGO municipio]],[3]!Tabla9[#All],3,FALSE),\"\")","v":""}]
[{"$f":"IFERROR(VLOOKUP(Tabla38[[#This Row],[Municipio]],[3]!Tabla2[#All],3,FALSE),\"\")","v":""},114,"Amatitlán",{"$f":"IFERROR(VLOOKUP(Tabla38[[#This Row],[CODIGO municipio]],[3]!Tabla6[[#All],[codigo_mun]],1,FALSE),\"\")","v":""},{"$f":"IFERROR(VLOOKUP(Tabla38[[#This Row],[CODIGO municipio]],[3]!Tabla12[#All],2,FALSE),\"\")","v":""},{"$f":"IFERROR(VLOOKUP(Tabla38[[#This Row],[CODIGO municipio]],[3]!Tabla7[#All],3,FALSE),\"\")","v":""},{"$f":"IFERROR(VLOOKUP(Tabla38[[#This Row],[CODIGO municipio]],[3]!Tabla7[#All],4,FALSE),\"\")","v":""},{"$f":"IFERROR(VLOOKUP(Tabla38[[#This Row],[CODIGO municipio]],[3]!Tabla7[#All],11,FALSE),\"\")","v":""},{"$f":"IFERROR(VLOOKUP(Tabla38[[#This Row],[CODIGO municipio]],[3]!Tabla7[#All],12,FALSE),\"\")","v":""},{"$f":"IFERROR(VLOOKUP(Tabla38[[#This Row],[CODIGO municipio]],[3]!Tabla7[#All],13,FALSE),\"\")","v":""},{"$f":"IFERROR(VLOOKUP(Tabla38[[#This Row],[CODIGO municipio]],[3]!Tabla7[#All],14,FALSE),\"\")","v":""},{"$f":"IFERROR(VLOOKUP(Tabla38[[#This Row],[CODIGO municipio]],[3]!Tabla7[#All],15,FALSE),\"\")","v":""},{"$f":"IFERROR(VLOOKUP(Tabla38[[#This Row],[CODIGO municipio]],[3]!Tabla7[#All],16,FALSE),\"\")","v":""},{"$f":"IFERROR(VLOOKUP(Tabla38[[#This Row],[CODIGO municipio]],[3]!Tabla7[#All],17,FALSE),\"\")","v":""},{"$f":"IFERROR(VLOOKUP(Tabla38[[#This Row],[CODIGO municipio]],[3]!Tabla7[#All],18,FALSE),\"\")","v":""},{"$f":"IFERROR(VLOOKUP(Tabla38[[#This Row],[CODIGO municipio]],[3]!Tabla7[#All],19,FALSE),\"\")","v":""},{"$f":"IFERROR(VLOOKUP(Tabla38[[#This Row],[CODIGO municipio]],[3]!Tabla8[#All],3,FALSE),\"\")","v":""},{"$f":"IFERROR(VLOOKUP(Tabla38[[#This Row],[CODIGO municipio]],[3]!Tabla8[#All],4,FALSE),\"\")","v":""},{"$f":"IFERROR(VLOOKUP(Tabla38[[#This Row],[CODIGO municipio]],[3]!Tabla8[#All],5,FALSE),\"\")","v":""},{"$f":"IFERROR(VLOOKUP(Tabla38[[#This Row],[CODIGO municipio]],[3]!Tabla8[#All],6,FALSE),\"\")","v":""},{"$f":"IFERROR(VLOOKUP(Tabla38[[#This Row],[CODIGO municipio]],[3]!Tabla8[#All],7,FALSE),\"\")","v":""},{"$f":"IFERROR(VLOOKUP(Tabla38[[#This Row],[CODIGO municipio]],[3]!Tabla8[#All],8,FALSE),\"\")","v":""},{"$f":"IFERROR(VLOOKUP(Tabla38[[#This Row],[CODIGO municipio]],[3]!Tabla8[#All],9,FALSE),\"\")","v":""},{"$f":"IFERROR(VLOOKUP(Tabla38[[#This Row],[CODIGO municipio]],[3]!Tabla8[#All],10,FALSE),\"\")","v":""},{"$f":"IFERROR(VLOOKUP(Tabla38[[#This Row],[CODIGO municipio]],[3]!Tabla8[#All],11,FALSE),\"\")","v":""},{"$f":"IFERROR(VLOOKUP(Tabla38[[#This Row],[CODIGO municipio]],[3]!Tabla8[#All],12,FALSE),\"\")","v":""},{"$f":"IFERROR(VLOOKUP(Tabla38[[#This Row],[CODIGO municipio]],[3]!Tabla8[#All],13,FALSE),\"\")","v":""},{"$f":"IFERROR(VLOOKUP(Tabla38[[#This Row],[CODIGO municipio]],[3]!Tabla8[#All],14,FALSE),\"\")","v":""},{"$f":"IFERROR(VLOOKUP(Tabla38[[#This Row],[CODIGO municipio]],[3]!Tabla8[#All],15,FALSE),\"\")","v":""},{"$f":"IFERROR(VLOOKUP(Tabla38[[#This Row],[CODIGO municipio]],[3]!Tabla8[#All],16,FALSE),\"\")","v":""},{"$f":"IFERROR(VLOOKUP(Tabla38[[#This Row],[CODIGO municipio]],[3]!Tabla8[#All],17,FALSE),\"\")","v":""},{"$f":"IFERROR(VLOOKUP(Tabla38[[#This Row],[CODIGO municipio]],[3]!Tabla8[#All],18,FALSE),\"\")","v":""},{"$f":"IFERROR(VLOOKUP(Tabla38[[#This Row],[CODIGO municipio]],[3]!Tabla8[#All],19,FALSE),\"\")","v":""},{"$f":"IFERROR(VLOOKUP(Tabla38[[#This Row],[CODIGO municipio]],[3]!Tabla8[#All],20,FALSE),\"\")","v":""},{"$f":"IFERROR(VLOOKUP(Tabla38[[#This Row],[CODIGO municipio]],[3]!Tabla8[#All],21,FALSE),\"\")","v":""},{"$f":"IFERROR(VLOOKUP(Tabla38[[#This Row],[CODIGO municipio]],[3]!Tabla8[#All],22,FALSE),\"\")","v":""},{"$f":"IFERROR(VLOOKUP(Tabla38[[#This Row],[CODIGO municipio]],[3]!Tabla8[#All],23,FALSE),\"\")","v":""},{"$f":"IFERROR(VLOOKUP(Tabla38[[#This Row],[CODIGO municipio]],[3]!Tabla9[#All],3,FALSE),\"\")","v":""}]
[{"$f":"IFERROR(VLOOKUP(Tabla38[[#This Row],[Municipio]],[3]!Tabla2[#All],3,FALSE),\"\")","v":""},115,"Villa Nueva",{"$f":"IFERROR(VLOOKUP(Tabla38[[#This Row],[CODIGO municipio]],[3]!Tabla6[[#All],[codigo_mun]],1,FALSE),\"\")","v":""},{"$f":"IFERROR(VLOOKUP(Tabla38[[#This Row],[CODIGO municipio]],[3]!Tabla12[#All],2,FALSE),\"\")","v":""},{"$f":"IFERROR(VLOOKUP(Tabla38[[#This Row],[CODIGO municipio]],[3]!Tabla7[#All],3,FALSE),\"\")","v":""},{"$f":"IFERROR(VLOOKUP(Tabla38[[#This Row],[CODIGO municipio]],[3]!Tabla7[#All],4,FALSE),\"\")","v":""},{"$f":"IFERROR(VLOOKUP(Tabla38[[#This Row],[CODIGO municipio]],[3]!Tabla7[#All],11,FALSE),\"\")","v":""},{"$f":"IFERROR(VLOOKUP(Tabla38[[#This Row],[CODIGO municipio]],[3]!Tabla7[#All],12,FALSE),\"\")","v":""},{"$f":"IFERROR(VLOOKUP(Tabla38[[#This Row],[CODIGO municipio]],[3]!Tabla7[#All],13,FALSE),\"\")","v":""},{"$f":"IFERROR(VLOOKUP(Tabla38[[#This Row],[CODIGO municipio]],[3]!Tabla7[#All],14,FALSE),\"\")","v":""},{"$f":"IFERROR(VLOOKUP(Tabla38[[#This Row],[CODIGO municipio]],[3]!Tabla7[#All],15,FALSE),\"\")","v":""},{"$f":"IFERROR(VLOOKUP(Tabla38[[#This Row],[CODIGO municipio]],[3]!Tabla7[#All],16,FALSE),\"\")","v":""},{"$f":"IFERROR(VLOOKUP(Tabla38[[#This Row],[CODIGO municipio]],[3]!Tabla7[#All],17,FALSE),\"\")","v":""},{"$f":"IFERROR(VLOOKUP(Tabla38[[#This Row],[CODIGO municipio]],[3]!Tabla7[#All],18,FALSE),\"\")","v":""},{"$f":"IFERROR(VLOOKUP(Tabla38[[#This Row],[CODIGO municipio]],[3]!Tabla7[#All],19,FALSE),\"\")","v":""},{"$f":"IFERROR(VLOOKUP(Tabla38[[#This Row],[CODIGO municipio]],[3]!Tabla8[#All],3,FALSE),\"\")","v":""},{"$f":"IFERROR(VLOOKUP(Tabla38[[#This Row],[CODIGO municipio]],[3]!Tabla8[#All],4,FALSE),\"\")","v":""},{"$f":"IFERROR(VLOOKUP(Tabla38[[#This Row],[CODIGO municipio]],[3]!Tabla8[#All],5,FALSE),\"\")","v":""},{"$f":"IFERROR(VLOOKUP(Tabla38[[#This Row],[CODIGO municipio]],[3]!Tabla8[#All],6,FALSE),\"\")","v":""},{"$f":"IFERROR(VLOOKUP(Tabla38[[#This Row],[CODIGO municipio]],[3]!Tabla8[#All],7,FALSE),\"\")","v":""},{"$f":"IFERROR(VLOOKUP(Tabla38[[#This Row],[CODIGO municipio]],[3]!Tabla8[#All],8,FALSE),\"\")","v":""},{"$f":"IFERROR(VLOOKUP(Tabla38[[#This Row],[CODIGO municipio]],[3]!Tabla8[#All],9,FALSE),\"\")","v":""},{"$f":"IFERROR(VLOOKUP(Tabla38[[#This Row],[CODIGO municipio]],[3]!Tabla8[#All],10,FALSE),\"\")","v":""},{"$f":"IFERROR(VLOOKUP(Tabla38[[#This Row],[CODIGO municipio]],[3]!Tabla8[#All],11,FALSE),\"\")","v":""},{"$f":"IFERROR(VLOOKUP(Tabla38[[#This Row],[CODIGO municipio]],[3]!Tabla8[#All],12,FALSE),\"\")","v":""},{"$f":"IFERROR(VLOOKUP(Tabla38[[#This Row],[CODIGO municipio]],[3]!Tabla8[#All],13,FALSE),\"\")","v":""},{"$f":"IFERROR(VLOOKUP(Tabla38[[#This Row],[CODIGO municipio]],[3]!Tabla8[#All],14,FALSE),\"\")","v":""},{"$f":"IFERROR(VLOOKUP(Tabla38[[#This Row],[CODIGO municipio]],[3]!Tabla8[#All],15,FALSE),\"\")","v":""},{"$f":"IFERROR(VLOOKUP(Tabla38[[#This Row],[CODIGO municipio]],[3]!Tabla8[#All],16,FALSE),\"\")","v":""},{"$f":"IFERROR(VLOOKUP(Tabla38[[#This Row],[CODIGO municipio]],[3]!Tabla8[#All],17,FALSE),\"\")","v":""},{"$f":"IFERROR(VLOOKUP(Tabla38[[#This Row],[CODIGO municipio]],[3]!Tabla8[#All],18,FALSE),\"\")","v":""},{"$f":"IFERROR(VLOOKUP(Tabla38[[#This Row],[CODIGO municipio]],[3]!Tabla8[#All],19,FALSE),\"\")","v":""},{"$f":"IFERROR(VLOOKUP(Tabla38[[#This Row],[CODIGO municipio]],[3]!Tabla8[#All],20,FALSE),\"\")","v":""},{"$f":"IFERROR(VLOOKUP(Tabla38[[#This Row],[CODIGO municipio]],[3]!Tabla8[#All],21,FALSE),\"\")","v":""},{"$f":"IFERROR(VLOOKUP(Tabla38[[#This Row],[CODIGO municipio]],[3]!Tabla8[#All],22,FALSE),\"\")","v":""},{"$f":"IFERROR(VLOOKUP(Tabla38[[#This Row],[CODIGO municipio]],[3]!Tabla8[#All],23,FALSE),\"\")","v":""},{"$f":"IFERROR(VLOOKUP(Tabla38[[#This Row],[CODIGO municipio]],[3]!Tabla9[#All],3,FALSE),\"\")","v":""}]
[{"$f":"IFERROR(VLOOKUP(Tabla38[[#This Row],[Municipio]],[3]!Tabla2[#All],3,FALSE),\"\")","v":""},116,"Villa Canales",{"$f":"IFERROR(VLOOKUP(Tabla38[[#This Row],[CODIGO municipio]],[3]!Tabla6[[#All],[codigo_mun]],1,FALSE),\"\")","v":""},{"$f":"IFERROR(VLOOKUP(Tabla38[[#This Row],[CODIGO municipio]],[3]!Tabla12[#All],2,FALSE),\"\")","v":""},{"$f":"IFERROR(VLOOKUP(Tabla38[[#This Row],[CODIGO municipio]],[3]!Tabla7[#All],3,FALSE),\"\")","v":""},{"$f":"IFERROR(VLOOKUP(Tabla38[[#This Row],[CODIGO municipio]],[3]!Tabla7[#All],4,FALSE),\"\")","v":""},{"$f":"IFERROR(VLOOKUP(Tabla38[[#This Row],[CODIGO municipio]],[3]!Tabla7[#All],11,FALSE),\"\")","v":""},{"$f":"IFERROR(VLOOKUP(Tabla38[[#This Row],[CODIGO municipio]],[3]!Tabla7[#All],12,FALSE),\"\")","v":""},{"$f":"IFERROR(VLOOKUP(Tabla38[[#This Row],[CODIGO municipio]],[3]!Tabla7[#All],13,FALSE),\"\")","v":""},{"$f":"IFERROR(VLOOKUP(Tabla38[[#This Row],[CODIGO municipio]],[3]!Tabla7[#All],14,FALSE),\"\")","v":""},{"$f":"IFERROR(VLOOKUP(Tabla38[[#This Row],[CODIGO municipio]],[3]!Tabla7[#All],15,FALSE),\"\")","v":""},{"$f":"IFERROR(VLOOKUP(Tabla38[[#This Row],[CODIGO municipio]],[3]!Tabla7[#All],16,FALSE),\"\")","v":""},{"$f":"IFERROR(VLOOKUP(Tabla38[[#This Row],[CODIGO municipio]],[3]!Tabla7[#All],17,FALSE),\"\")","v":""},{"$f":"IFERROR(VLOOKUP(Tabla38[[#This Row],[CODIGO municipio]],[3]!Tabla7[#All],18,FALSE),\"\")","v":""},{"$f":"IFERROR(VLOOKUP(Tabla38[[#This Row],[CODIGO municipio]],[3]!Tabla7[#All],19,FALSE),\"\")","v":""},{"$f":"IFERROR(VLOOKUP(Tabla38[[#This Row],[CODIGO municipio]],[3]!Tabla8[#All],3,FALSE),\"\")","v":""},{"$f":"IFERROR(VLOOKUP(Tabla38[[#This Row],[CODIGO municipio]],[3]!Tabla8[#All],4,FALSE),\"\")","v":""},{"$f":"IFERROR(VLOOKUP(Tabla38[[#This Row],[CODIGO municipio]],[3]!Tabla8[#All],5,FALSE),\"\")","v":""},{"$f":"IFERROR(VLOOKUP(Tabla38[[#This Row],[CODIGO municipio]],[3]!Tabla8[#All],6,FALSE),\"\")","v":""},{"$f":"IFERROR(VLOOKUP(Tabla38[[#This Row],[CODIGO municipio]],[3]!Tabla8[#All],7,FALSE),\"\")","v":""},{"$f":"IFERROR(VLOOKUP(Tabla38[[#This Row],[CODIGO municipio]],[3]!Tabla8[#All],8,FALSE),\"\")","v":""},{"$f":"IFERROR(VLOOKUP(Tabla38[[#This Row],[CODIGO municipio]],[3]!Tabla8[#All],9,FALSE),\"\")","v":""},{"$f":"IFERROR(VLOOKUP(Tabla38[[#This Row],[CODIGO municipio]],[3]!Tabla8[#All],10,FALSE),\"\")","v":""},{"$f":"IFERROR(VLOOKUP(Tabla38[[#This Row],[CODIGO municipio]],[3]!Tabla8[#All],11,FALSE),\"\")","v":""},{"$f":"IFERROR(VLOOKUP(Tabla38[[#This Row],[CODIGO municipio]],[3]!Tabla8[#All],12,FALSE),\"\")","v":""},{"$f":"IFERROR(VLOOKUP(Tabla38[[#This Row],[CODIGO municipio]],[3]!Tabla8[#All],13,FALSE),\"\")","v":""},{"$f":"IFERROR(VLOOKUP(Tabla38[[#This Row],[CODIGO municipio]],[3]!Tabla8[#All],14,FALSE),\"\")","v":""},{"$f":"IFERROR(VLOOKUP(Tabla38[[#This Row],[CODIGO municipio]],[3]!Tabla8[#All],15,FALSE),\"\")","v":""},{"$f":"IFERROR(VLOOKUP(Tabla38[[#This Row],[CODIGO municipio]],[3]!Tabla8[#All],16,FALSE),\"\")","v":""},{"$f":"IFERROR(VLOOKUP(Tabla38[[#This Row],[CODIGO municipio]],[3]!Tabla8[#All],17,FALSE),\"\")","v":""},{"$f":"IFERROR(VLOOKUP(Tabla38[[#This Row],[CODIGO municipio]],[3]!Tabla8[#All],18,FALSE),\"\")","v":""},{"$f":"IFERROR(VLOOKUP(Tabla38[[#This Row],[CODIGO municipio]],[3]!Tabla8[#All],19,FALSE),\"\")","v":""},{"$f":"IFERROR(VLOOKUP(Tabla38[[#This Row],[CODIGO municipio]],[3]!Tabla8[#All],20,FALSE),\"\")","v":""},{"$f":"IFERROR(VLOOKUP(Tabla38[[#This Row],[CODIGO municipio]],[3]!Tabla8[#All],21,FALSE),\"\")","v":""},{"$f":"IFERROR(VLOOKUP(Tabla38[[#This Row],[CODIGO municipio]],[3]!Tabla8[#All],22,FALSE),\"\")","v":""},{"$f":"IFERROR(VLOOKUP(Tabla38[[#This Row],[CODIGO municipio]],[3]!Tabla8[#All],23,FALSE),\"\")","v":""},{"$f":"IFERROR(VLOOKUP(Tabla38[[#This Row],[CODIGO municipio]],[3]!Tabla9[#All],3,FALSE),\"\")","v":""}]
[{"$f":"IFERROR(VLOOKUP(Tabla38[[#This Row],[Municipio]],[3]!Tabla2[#All],3,FALSE),\"\")","v":""},117,"Petapa",{"$f":"IFERROR(VLOOKUP(Tabla38[[#This Row],[CODIGO municipio]],[3]!Tabla6[[#All],[codigo_mun]],1,FALSE),\"\")","v":""},{"$f":"IFERROR(VLOOKUP(Tabla38[[#This Row],[CODIGO municipio]],[3]!Tabla12[#All],2,FALSE),\"\")","v":""},{"$f":"IFERROR(VLOOKUP(Tabla38[[#This Row],[CODIGO municipio]],[3]!Tabla7[#All],3,FALSE),\"\")","v":""},{"$f":"IFERROR(VLOOKUP(Tabla38[[#This Row],[CODIGO municipio]],[3]!Tabla7[#All],4,FALSE),\"\")","v":""},{"$f":"IFERROR(VLOOKUP(Tabla38[[#This Row],[CODIGO municipio]],[3]!Tabla7[#All],11,FALSE),\"\")","v":""},{"$f":"IFERROR(VLOOKUP(Tabla38[[#This Row],[CODIGO municipio]],[3]!Tabla7[#All],12,FALSE),\"\")","v":""},{"$f":"IFERROR(VLOOKUP(Tabla38[[#This Row],[CODIGO municipio]],[3]!Tabla7[#All],13,FALSE),\"\")","v":""},{"$f":"IFERROR(VLOOKUP(Tabla38[[#This Row],[CODIGO municipio]],[3]!Tabla7[#All],14,FALSE),\"\")","v":""},{"$f":"IFERROR(VLOOKUP(Tabla38[[#This Row],[CODIGO municipio]],[3]!Tabla7[#All],15,FALSE),\"\")","v":""},{"$f":"IFERROR(VLOOKUP(Tabla38[[#This Row],[CODIGO municipio]],[3]!Tabla7[#All],16,FALSE),\"\")","v":""},{"$f":"IFERROR(VLOOKUP(Tabla38[[#This Row],[CODIGO municipio]],[3]!Tabla7[#All],17,FALSE),\"\")","v":""},{"$f":"IFERROR(VLOOKUP(Tabla38[[#This Row],[CODIGO municipio]],[3]!Tabla7[#All],18,FALSE),\"\")","v":""},{"$f":"IFERROR(VLOOKUP(Tabla38[[#This Row],[CODIGO municipio]],[3]!Tabla7[#All],19,FALSE),\"\")","v":""},{"$f":"IFERROR(VLOOKUP(Tabla38[[#This Row],[CODIGO municipio]],[3]!Tabla8[#All],3,FALSE),\"\")","v":""},{"$f":"IFERROR(VLOOKUP(Tabla38[[#This Row],[CODIGO municipio]],[3]!Tabla8[#All],4,FALSE),\"\")","v":""},{"$f":"IFERROR(VLOOKUP(Tabla38[[#This Row],[CODIGO municipio]],[3]!Tabla8[#All],5,FALSE),\"\")","v":""},{"$f":"IFERROR(VLOOKUP(Tabla38[[#This Row],[CODIGO municipio]],[3]!Tabla8[#All],6,FALSE),\"\")","v":""},{"$f":"IFERROR(VLOOKUP(Tabla38[[#This Row],[CODIGO municipio]],[3]!Tabla8[#All],7,FALSE),\"\")","v":""},{"$f":"IFERROR(VLOOKUP(Tabla38[[#This Row],[CODIGO municipio]],[3]!Tabla8[#All],8,FALSE),\"\")","v":""},{"$f":"IFERROR(VLOOKUP(Tabla38[[#This Row],[CODIGO municipio]],[3]!Tabla8[#All],9,FALSE),\"\")","v":""},{"$f":"IFERROR(VLOOKUP(Tabla38[[#This Row],[CODIGO municipio]],[3]!Tabla8[#All],10,FALSE),\"\")","v":""},{"$f":"IFERROR(VLOOKUP(Tabla38[[#This Row],[CODIGO municipio]],[3]!Tabla8[#All],11,FALSE),\"\")","v":""},{"$f":"IFERROR(VLOOKUP(Tabla38[[#This Row],[CODIGO municipio]],[3]!Tabla8[#All],12,FALSE),\"\")","v":""},{"$f":"IFERROR(VLOOKUP(Tabla38[[#This Row],[CODIGO municipio]],[3]!Tabla8[#All],13,FALSE),\"\")","v":""},{"$f":"IFERROR(VLOOKUP(Tabla38[[#This Row],[CODIGO municipio]],[3]!Tabla8[#All],14,FALSE),\"\")","v":""},{"$f":"IFERROR(VLOOKUP(Tabla38[[#This Row],[CODIGO municipio]],[3]!Tabla8[#All],15,FALSE),\"\")","v":""},{"$f":"IFERROR(VLOOKUP(Tabla38[[#This Row],[CODIGO municipio]],[3]!Tabla8[#All],16,FALSE),\"\")","v":""},{"$f":"IFERROR(VLOOKUP(Tabla38[[#This Row],[CODIGO municipio]],[3]!Tabla8[#All],17,FALSE),\"\")","v":""},{"$f":"IFERROR(VLOOKUP(Tabla38[[#This Row],[CODIGO municipio]],[3]!Tabla8[#All],18,FALSE),\"\")","v":""},{"$f":"IFERROR(VLOOKUP(Tabla38[[#This Row],[CODIGO municipio]],[3]!Tabla8[#All],19,FALSE),\"\")","v":""},{"$f":"IFERROR(VLOOKUP(Tabla38[[#This Row],[CODIGO municipio]],[3]!Tabla8[#All],20,FALSE),\"\")","v":""},{"$f":"IFERROR(VLOOKUP(Tabla38[[#This Row],[CODIGO municipio]],[3]!Tabla8[#All],21,FALSE),\"\")","v":""},{"$f":"IFERROR(VLOOKUP(Tabla38[[#This Row],[CODIGO municipio]],[3]!Tabla8[#All],22,FALSE),\"\")","v":""},{"$f":"IFERROR(VLOOKUP(Tabla38[[#This Row],[CODIGO municipio]],[3]!Tabla8[#All],23,FALSE),\"\")","v":""},{"$f":"IFERROR(VLOOKUP(Tabla38[[#This Row],[CODIGO municipio]],[3]!Tabla9[#All],3,FALSE),\"\")","v":""}]
[{"$f":"IFERROR(VLOOKUP(Tabla38[[#This Row],[Municipio]],[3]!Tabla2[#All],3,FALSE),\"\")","v":""},201,"Guastatoya",{"$f":"IFERROR(VLOOKUP(Tabla38[[#This Row],[CODIGO municipio]],[3]!Tabla6[[#All],[codigo_mun]],1,FALSE),\"\")","v":""},{"$f":"IFERROR(VLOOKUP(Tabla38[[#This Row],[CODIGO municipio]],[3]!Tabla12[#All],2,FALSE),\"\")","v":""},{"$f":"IFERROR(VLOOKUP(Tabla38[[#This Row],[CODIGO municipio]],[3]!Tabla7[#All],3,FALSE),\"\")","v":""},{"$f":"IFERROR(VLOOKUP(Tabla38[[#This Row],[CODIGO municipio]],[3]!Tabla7[#All],4,FALSE),\"\")","v":""},{"$f":"IFERROR(VLOOKUP(Tabla38[[#This Row],[CODIGO municipio]],[3]!Tabla7[#All],11,FALSE),\"\")","v":""},{"$f":"IFERROR(VLOOKUP(Tabla38[[#This Row],[CODIGO municipio]],[3]!Tabla7[#All],12,FALSE),\"\")","v":""},{"$f":"IFERROR(VLOOKUP(Tabla38[[#This Row],[CODIGO municipio]],[3]!Tabla7[#All],13,FALSE),\"\")","v":""},{"$f":"IFERROR(VLOOKUP(Tabla38[[#This Row],[CODIGO municipio]],[3]!Tabla7[#All],14,FALSE),\"\")","v":""},{"$f":"IFERROR(VLOOKUP(Tabla38[[#This Row],[CODIGO municipio]],[3]!Tabla7[#All],15,FALSE),\"\")","v":""},{"$f":"IFERROR(VLOOKUP(Tabla38[[#This Row],[CODIGO municipio]],[3]!Tabla7[#All],16,FALSE),\"\")","v":""},{"$f":"IFERROR(VLOOKUP(Tabla38[[#This Row],[CODIGO municipio]],[3]!Tabla7[#All],17,FALSE),\"\")","v":""},{"$f":"IFERROR(VLOOKUP(Tabla38[[#This Row],[CODIGO municipio]],[3]!Tabla7[#All],18,FALSE),\"\")","v":""},{"$f":"IFERROR(VLOOKUP(Tabla38[[#This Row],[CODIGO municipio]],[3]!Tabla7[#All],19,FALSE),\"\")","v":""},{"$f":"IFERROR(VLOOKUP(Tabla38[[#This Row],[CODIGO municipio]],[3]!Tabla8[#All],3,FALSE),\"\")","v":""},{"$f":"IFERROR(VLOOKUP(Tabla38[[#This Row],[CODIGO municipio]],[3]!Tabla8[#All],4,FALSE),\"\")","v":""},{"$f":"IFERROR(VLOOKUP(Tabla38[[#This Row],[CODIGO municipio]],[3]!Tabla8[#All],5,FALSE),\"\")","v":""},{"$f":"IFERROR(VLOOKUP(Tabla38[[#This Row],[CODIGO municipio]],[3]!Tabla8[#All],6,FALSE),\"\")","v":""},{"$f":"IFERROR(VLOOKUP(Tabla38[[#This Row],[CODIGO municipio]],[3]!Tabla8[#All],7,FALSE),\"\")","v":""},{"$f":"IFERROR(VLOOKUP(Tabla38[[#This Row],[CODIGO municipio]],[3]!Tabla8[#All],8,FALSE),\"\")","v":""},{"$f":"IFERROR(VLOOKUP(Tabla38[[#This Row],[CODIGO municipio]],[3]!Tabla8[#All],9,FALSE),\"\")","v":""},{"$f":"IFERROR(VLOOKUP(Tabla38[[#This Row],[CODIGO municipio]],[3]!Tabla8[#All],10,FALSE),\"\")","v":""},{"$f":"IFERROR(VLOOKUP(Tabla38[[#This Row],[CODIGO municipio]],[3]!Tabla8[#All],11,FALSE),\"\")","v":""},{"$f":"IFERROR(VLOOKUP(Tabla38[[#This Row],[CODIGO municipio]],[3]!Tabla8[#All],12,FALSE),\"\")","v":""},{"$f":"IFERROR(VLOOKUP(Tabla38[[#This Row],[CODIGO municipio]],[3]!Tabla8[#All],13,FALSE),\"\")","v":""},{"$f":"IFERROR(VLOOKUP(Tabla38[[#This Row],[CODIGO municipio]],[3]!Tabla8[#All],14,FALSE),\"\")","v":""},{"$f":"IFERROR(VLOOKUP(Tabla38[[#This Row],[CODIGO municipio]],[3]!Tabla8[#All],15,FALSE),\"\")","v":""},{"$f":"IFERROR(VLOOKUP(Tabla38[[#This Row],[CODIGO municipio]],[3]!Tabla8[#All],16,FALSE),\"\")","v":""},{"$f":"IFERROR(VLOOKUP(Tabla38[[#This Row],[CODIGO municipio]],[3]!Tabla8[#All],17,FALSE),\"\")","v":""},{"$f":"IFERROR(VLOOKUP(Tabla38[[#This Row],[CODIGO municipio]],[3]!Tabla8[#All],18,FALSE),\"\")","v":""},{"$f":"IFERROR(VLOOKUP(Tabla38[[#This Row],[CODIGO municipio]],[3]!Tabla8[#All],19,FALSE),\"\")","v":""},{"$f":"IFERROR(VLOOKUP(Tabla38[[#This Row],[CODIGO municipio]],[3]!Tabla8[#All],20,FALSE),\"\")","v":""},{"$f":"IFERROR(VLOOKUP(Tabla38[[#This Row],[CODIGO municipio]],[3]!Tabla8[#All],21,FALSE),\"\")","v":""},{"$f":"IFERROR(VLOOKUP(Tabla38[[#This Row],[CODIGO municipio]],[3]!Tabla8[#All],22,FALSE),\"\")","v":""},{"$f":"IFERROR(VLOOKUP(Tabla38[[#This Row],[CODIGO municipio]],[3]!Tabla8[#All],23,FALSE),\"\")","v":""},{"$f":"IFERROR(VLOOKUP(Tabla38[[#This Row],[CODIGO municipio]],[3]!Tabla9[#All],3,FALSE),\"\")","v":""}]
[{"$f":"IFERROR(VLOOKUP(Tabla38[[#This Row],[Municipio]],[3]!Tabla2[#All],3,FALSE),\"\")","v":""},202,"Morazán",{"$f":"IFERROR(VLOOKUP(Tabla38[[#This Row],[CODIGO municipio]],[3]!Tabla6[[#All],[codigo_mun]],1,FALSE),\"\")","v":""},{"$f":"IFERROR(VLOOKUP(Tabla38[[#This Row],[CODIGO municipio]],[3]!Tabla12[#All],2,FALSE),\"\")","v":""},{"$f":"IFERROR(VLOOKUP(Tabla38[[#This Row],[CODIGO municipio]],[3]!Tabla7[#All],3,FALSE),\"\")","v":""},{"$f":"IFERROR(VLOOKUP(Tabla38[[#This Row],[CODIGO municipio]],[3]!Tabla7[#All],4,FALSE),\"\")","v":""},{"$f":"IFERROR(VLOOKUP(Tabla38[[#This Row],[CODIGO municipio]],[3]!Tabla7[#All],11,FALSE),\"\")","v":""},{"$f":"IFERROR(VLOOKUP(Tabla38[[#This Row],[CODIGO municipio]],[3]!Tabla7[#All],12,FALSE),\"\")","v":""},{"$f":"IFERROR(VLOOKUP(Tabla38[[#This Row],[CODIGO municipio]],[3]!Tabla7[#All],13,FALSE),\"\")","v":""},{"$f":"IFERROR(VLOOKUP(Tabla38[[#This Row],[CODIGO municipio]],[3]!Tabla7[#All],14,FALSE),\"\")","v":""},{"$f":"IFERROR(VLOOKUP(Tabla38[[#This Row],[CODIGO municipio]],[3]!Tabla7[#All],15,FALSE),\"\")","v":""},{"$f":"IFERROR(VLOOKUP(Tabla38[[#This Row],[CODIGO municipio]],[3]!Tabla7[#All],16,FALSE),\"\")","v":""},{"$f":"IFERROR(VLOOKUP(Tabla38[[#This Row],[CODIGO municipio]],[3]!Tabla7[#All],17,FALSE),\"\")","v":""},{"$f":"IFERROR(VLOOKUP(Tabla38[[#This Row],[CODIGO municipio]],[3]!Tabla7[#All],18,FALSE),\"\")","v":""},{"$f":"IFERROR(VLOOKUP(Tabla38[[#This Row],[CODIGO municipio]],[3]!Tabla7[#All],19,FALSE),\"\")","v":""},{"$f":"IFERROR(VLOOKUP(Tabla38[[#This Row],[CODIGO municipio]],[3]!Tabla8[#All],3,FALSE),\"\")","v":""},{"$f":"IFERROR(VLOOKUP(Tabla38[[#This Row],[CODIGO municipio]],[3]!Tabla8[#All],4,FALSE),\"\")","v":""},{"$f":"IFERROR(VLOOKUP(Tabla38[[#This Row],[CODIGO municipio]],[3]!Tabla8[#All],5,FALSE),\"\")","v":""},{"$f":"IFERROR(VLOOKUP(Tabla38[[#This Row],[CODIGO municipio]],[3]!Tabla8[#All],6,FALSE),\"\")","v":""},{"$f":"IFERROR(VLOOKUP(Tabla38[[#This Row],[CODIGO municipio]],[3]!Tabla8[#All],7,FALSE),\"\")","v":""},{"$f":"IFERROR(VLOOKUP(Tabla38[[#This Row],[CODIGO municipio]],[3]!Tabla8[#All],8,FALSE),\"\")","v":""},{"$f":"IFERROR(VLOOKUP(Tabla38[[#This Row],[CODIGO municipio]],[3]!Tabla8[#All],9,FALSE),\"\")","v":""},{"$f":"IFERROR(VLOOKUP(Tabla38[[#This Row],[CODIGO municipio]],[3]!Tabla8[#All],10,FALSE),\"\")","v":""},{"$f":"IFERROR(VLOOKUP(Tabla38[[#This Row],[CODIGO municipio]],[3]!Tabla8[#All],11,FALSE),\"\")","v":""},{"$f":"IFERROR(VLOOKUP(Tabla38[[#This Row],[CODIGO municipio]],[3]!Tabla8[#All],12,FALSE),\"\")","v":""},{"$f":"IFERROR(VLOOKUP(Tabla38[[#This Row],[CODIGO municipio]],[3]!Tabla8[#All],13,FALSE),\"\")","v":""},{"$f":"IFERROR(VLOOKUP(Tabla38[[#This Row],[CODIGO municipio]],[3]!Tabla8[#All],14,FALSE),\"\")","v":""},{"$f":"IFERROR(VLOOKUP(Tabla38[[#This Row],[CODIGO municipio]],[3]!Tabla8[#All],15,FALSE),\"\")","v":""},{"$f":"IFERROR(VLOOKUP(Tabla38[[#This Row],[CODIGO municipio]],[3]!Tabla8[#All],16,FALSE),\"\")","v":""},{"$f":"IFERROR(VLOOKUP(Tabla38[[#This Row],[CODIGO municipio]],[3]!Tabla8[#All],17,FALSE),\"\")","v":""},{"$f":"IFERROR(VLOOKUP(Tabla38[[#This Row],[CODIGO municipio]],[3]!Tabla8[#All],18,FALSE),\"\")","v":""},{"$f":"IFERROR(VLOOKUP(Tabla38[[#This Row],[CODIGO municipio]],[3]!Tabla8[#All],19,FALSE),\"\")","v":""},{"$f":"IFERROR(VLOOKUP(Tabla38[[#This Row],[CODIGO municipio]],[3]!Tabla8[#All],20,FALSE),\"\")","v":""},{"$f":"IFERROR(VLOOKUP(Tabla38[[#This Row],[CODIGO municipio]],[3]!Tabla8[#All],21,FALSE),\"\")","v":""},{"$f":"IFERROR(VLOOKUP(Tabla38[[#This Row],[CODIGO municipio]],[3]!Tabla8[#All],22,FALSE),\"\")","v":""},{"$f":"IFERROR(VLOOKUP(Tabla38[[#This Row],[CODIGO municipio]],[3]!Tabla8[#All],23,FALSE),\"\")","v":""},{"$f":"IFERROR(VLOOKUP(Tabla38[[#This Row],[CODIGO municipio]],[3]!Tabla9[#All],3,FALSE),\"\")","v":""}]
[{"$f":"IFERROR(VLOOKUP(Tabla38[[#This Row],[Municipio]],[3]!Tabla2[#All],3,FALSE),\"\")","v":""},203,"San Agustín Acasaguastlán",{"$f":"IFERROR(VLOOKUP(Tabla38[[#This Row],[CODIGO municipio]],[3]!Tabla6[[#All],[codigo_mun]],1,FALSE),\"\")","v":""},{"$f":"IFERROR(VLOOKUP(Tabla38[[#This Row],[CODIGO municipio]],[3]!Tabla12[#All],2,FALSE),\"\")","v":""},{"$f":"IFERROR(VLOOKUP(Tabla38[[#This Row],[CODIGO municipio]],[3]!Tabla7[#All],3,FALSE),\"\")","v":""},{"$f":"IFERROR(VLOOKUP(Tabla38[[#This Row],[CODIGO municipio]],[3]!Tabla7[#All],4,FALSE),\"\")","v":""},{"$f":"IFERROR(VLOOKUP(Tabla38[[#This Row],[CODIGO municipio]],[3]!Tabla7[#All],11,FALSE),\"\")","v":""},{"$f":"IFERROR(VLOOKUP(Tabla38[[#This Row],[CODIGO municipio]],[3]!Tabla7[#All],12,FALSE),\"\")","v":""},{"$f":"IFERROR(VLOOKUP(Tabla38[[#This Row],[CODIGO municipio]],[3]!Tabla7[#All],13,FALSE),\"\")","v":""},{"$f":"IFERROR(VLOOKUP(Tabla38[[#This Row],[CODIGO municipio]],[3]!Tabla7[#All],14,FALSE),\"\")","v":""},{"$f":"IFERROR(VLOOKUP(Tabla38[[#This Row],[CODIGO municipio]],[3]!Tabla7[#All],15,FALSE),\"\")","v":""},{"$f":"IFERROR(VLOOKUP(Tabla38[[#This Row],[CODIGO municipio]],[3]!Tabla7[#All],16,FALSE),\"\")","v":""},{"$f":"IFERROR(VLOOKUP(Tabla38[[#This Row],[CODIGO municipio]],[3]!Tabla7[#All],17,FALSE),\"\")","v":""},{"$f":"IFERROR(VLOOKUP(Tabla38[[#This Row],[CODIGO municipio]],[3]!Tabla7[#All],18,FALSE),\"\")","v":""},{"$f":"IFERROR(VLOOKUP(Tabla38[[#This Row],[CODIGO municipio]],[3]!Tabla7[#All],19,FALSE),\"\")","v":""},{"$f":"IFERROR(VLOOKUP(Tabla38[[#This Row],[CODIGO municipio]],[3]!Tabla8[#All],3,FALSE),\"\")","v":""},{"$f":"IFERROR(VLOOKUP(Tabla38[[#This Row],[CODIGO municipio]],[3]!Tabla8[#All],4,FALSE),\"\")","v":""},{"$f":"IFERROR(VLOOKUP(Tabla38[[#This Row],[CODIGO municipio]],[3]!Tabla8[#All],5,FALSE),\"\")","v":""},{"$f":"IFERROR(VLOOKUP(Tabla38[[#This Row],[CODIGO municipio]],[3]!Tabla8[#All],6,FALSE),\"\")","v":""},{"$f":"IFERROR(VLOOKUP(Tabla38[[#This Row],[CODIGO municipio]],[3]!Tabla8[#All],7,FALSE),\"\")","v":""},{"$f":"IFERROR(VLOOKUP(Tabla38[[#This Row],[CODIGO municipio]],[3]!Tabla8[#All],8,FALSE),\"\")","v":""},{"$f":"IFERROR(VLOOKUP(Tabla38[[#This Row],[CODIGO municipio]],[3]!Tabla8[#All],9,FALSE),\"\")","v":""},{"$f":"IFERROR(VLOOKUP(Tabla38[[#This Row],[CODIGO municipio]],[3]!Tabla8[#All],10,FALSE),\"\")","v":""},{"$f":"IFERROR(VLOOKUP(Tabla38[[#This Row],[CODIGO municipio]],[3]!Tabla8[#All],11,FALSE),\"\")","v":""},{"$f":"IFERROR(VLOOKUP(Tabla38[[#This Row],[CODIGO municipio]],[3]!Tabla8[#All],12,FALSE),\"\")","v":""},{"$f":"IFERROR(VLOOKUP(Tabla38[[#This Row],[CODIGO municipio]],[3]!Tabla8[#All],13,FALSE),\"\")","v":""},{"$f":"IFERROR(VLOOKUP(Tabla38[[#This Row],[CODIGO municipio]],[3]!Tabla8[#All],14,FALSE),\"\")","v":""},{"$f":"IFERROR(VLOOKUP(Tabla38[[#This Row],[CODIGO municipio]],[3]!Tabla8[#All],15,FALSE),\"\")","v":""},{"$f":"IFERROR(VLOOKUP(Tabla38[[#This Row],[CODIGO municipio]],[3]!Tabla8[#All],16,FALSE),\"\")","v":""},{"$f":"IFERROR(VLOOKUP(Tabla38[[#This Row],[CODIGO municipio]],[3]!Tabla8[#All],17,FALSE),\"\")","v":""},{"$f":"IFERROR(VLOOKUP(Tabla38[[#This Row],[CODIGO municipio]],[3]!Tabla8[#All],18,FALSE),\"\")","v":""},{"$f":"IFERROR(VLOOKUP(Tabla38[[#This Row],[CODIGO municipio]],[3]!Tabla8[#All],19,FALSE),\"\")","v":""},{"$f":"IFERROR(VLOOKUP(Tabla38[[#This Row],[CODIGO municipio]],[3]!Tabla8[#All],20,FALSE),\"\")","v":""},{"$f":"IFERROR(VLOOKUP(Tabla38[[#This Row],[CODIGO municipio]],[3]!Tabla8[#All],21,FALSE),\"\")","v":""},{"$f":"IFERROR(VLOOKUP(Tabla38[[#This Row],[CODIGO municipio]],[3]!Tabla8[#All],22,FALSE),\"\")","v":""},{"$f":"IFERROR(VLOOKUP(Tabla38[[#This Row],[CODIGO municipio]],[3]!Tabla8[#All],23,FALSE),\"\")","v":""},{"$f":"IFERROR(VLOOKUP(Tabla38[[#This Row],[CODIGO municipio]],[3]!Tabla9[#All],3,FALSE),\"\")","v":""}]
[{"$f":"IFERROR(VLOOKUP(Tabla38[[#This Row],[Municipio]],[3]!Tabla2[#All],3,FALSE),\"\")","v":""},204,"San Cristóbal Acasaguastlán",{"$f":"IFERROR(VLOOKUP(Tabla38[[#This Row],[CODIGO municipio]],[3]!Tabla6[[#All],[codigo_mun]],1,FALSE),\"\")","v":""},{"$f":"IFERROR(VLOOKUP(Tabla38[[#This Row],[CODIGO municipio]],[3]!Tabla12[#All],2,FALSE),\"\")","v":""},{"$f":"IFERROR(VLOOKUP(Tabla38[[#This Row],[CODIGO municipio]],[3]!Tabla7[#All],3,FALSE),\"\")","v":""},{"$f":"IFERROR(VLOOKUP(Tabla38[[#This Row],[CODIGO municipio]],[3]!Tabla7[#All],4,FALSE),\"\")","v":""},{"$f":"IFERROR(VLOOKUP(Tabla38[[#This Row],[CODIGO municipio]],[3]!Tabla7[#All],11,FALSE),\"\")","v":""},{"$f":"IFERROR(VLOOKUP(Tabla38[[#This Row],[CODIGO municipio]],[3]!Tabla7[#All],12,FALSE),\"\")","v":""},{"$f":"IFERROR(VLOOKUP(Tabla38[[#This Row],[CODIGO municipio]],[3]!Tabla7[#All],13,FALSE),\"\")","v":""},{"$f":"IFERROR(VLOOKUP(Tabla38[[#This Row],[CODIGO municipio]],[3]!Tabla7[#All],14,FALSE),\"\")","v":""},{"$f":"IFERROR(VLOOKUP(Tabla38[[#This Row],[CODIGO municipio]],[3]!Tabla7[#All],15,FALSE),\"\")","v":""},{"$f":"IFERROR(VLOOKUP(Tabla38[[#This Row],[CODIGO municipio]],[3]!Tabla7[#All],16,FALSE),\"\")","v":""},{"$f":"IFERROR(VLOOKUP(Tabla38[[#This Row],[CODIGO municipio]],[3]!Tabla7[#All],17,FALSE),\"\")","v":""},{"$f":"IFERROR(VLOOKUP(Tabla38[[#This Row],[CODIGO municipio]],[3]!Tabla7[#All],18,FALSE),\"\")","v":""},{"$f":"IFERROR(VLOOKUP(Tabla38[[#This Row],[CODIGO municipio]],[3]!Tabla7[#All],19,FALSE),\"\")","v":""},{"$f":"IFERROR(VLOOKUP(Tabla38[[#This Row],[CODIGO municipio]],[3]!Tabla8[#All],3,FALSE),\"\")","v":""},{"$f":"IFERROR(VLOOKUP(Tabla38[[#This Row],[CODIGO municipio]],[3]!Tabla8[#All],4,FALSE),\"\")","v":""},{"$f":"IFERROR(VLOOKUP(Tabla38[[#This Row],[CODIGO municipio]],[3]!Tabla8[#All],5,FALSE),\"\")","v":""},{"$f":"IFERROR(VLOOKUP(Tabla38[[#This Row],[CODIGO municipio]],[3]!Tabla8[#All],6,FALSE),\"\")","v":""},{"$f":"IFERROR(VLOOKUP(Tabla38[[#This Row],[CODIGO municipio]],[3]!Tabla8[#All],7,FALSE),\"\")","v":""},{"$f":"IFERROR(VLOOKUP(Tabla38[[#This Row],[CODIGO municipio]],[3]!Tabla8[#All],8,FALSE),\"\")","v":""},{"$f":"IFERROR(VLOOKUP(Tabla38[[#This Row],[CODIGO municipio]],[3]!Tabla8[#All],9,FALSE),\"\")","v":""},{"$f":"IFERROR(VLOOKUP(Tabla38[[#This Row],[CODIGO municipio]],[3]!Tabla8[#All],10,FALSE),\"\")","v":""},{"$f":"IFERROR(VLOOKUP(Tabla38[[#This Row],[CODIGO municipio]],[3]!Tabla8[#All],11,FALSE),\"\")","v":""},{"$f":"IFERROR(VLOOKUP(Tabla38[[#This Row],[CODIGO municipio]],[3]!Tabla8[#All],12,FALSE),\"\")","v":""},{"$f":"IFERROR(VLOOKUP(Tabla38[[#This Row],[CODIGO municipio]],[3]!Tabla8[#All],13,FALSE),\"\")","v":""},{"$f":"IFERROR(VLOOKUP(Tabla38[[#This Row],[CODIGO municipio]],[3]!Tabla8[#All],14,FALSE),\"\")","v":""},{"$f":"IFERROR(VLOOKUP(Tabla38[[#This Row],[CODIGO municipio]],[3]!Tabla8[#All],15,FALSE),\"\")","v":""},{"$f":"IFERROR(VLOOKUP(Tabla38[[#This Row],[CODIGO municipio]],[3]!Tabla8[#All],16,FALSE),\"\")","v":""},{"$f":"IFERROR(VLOOKUP(Tabla38[[#This Row],[CODIGO municipio]],[3]!Tabla8[#All],17,FALSE),\"\")","v":""},{"$f":"IFERROR(VLOOKUP(Tabla38[[#This Row],[CODIGO municipio]],[3]!Tabla8[#All],18,FALSE),\"\")","v":""},{"$f":"IFERROR(VLOOKUP(Tabla38[[#This Row],[CODIGO municipio]],[3]!Tabla8[#All],19,FALSE),\"\")","v":""},{"$f":"IFERROR(VLOOKUP(Tabla38[[#This Row],[CODIGO municipio]],[3]!Tabla8[#All],20,FALSE),\"\")","v":""},{"$f":"IFERROR(VLOOKUP(Tabla38[[#This Row],[CODIGO municipio]],[3]!Tabla8[#All],21,FALSE),\"\")","v":""},{"$f":"IFERROR(VLOOKUP(Tabla38[[#This Row],[CODIGO municipio]],[3]!Tabla8[#All],22,FALSE),\"\")","v":""},{"$f":"IFERROR(VLOOKUP(Tabla38[[#This Row],[CODIGO municipio]],[3]!Tabla8[#All],23,FALSE),\"\")","v":""},{"$f":"IFERROR(VLOOKUP(Tabla38[[#This Row],[CODIGO municipio]],[3]!Tabla9[#All],3,FALSE),\"\")","v":""}]
[{"$f":"IFERROR(VLOOKUP(Tabla38[[#This Row],[Municipio]],[3]!Tabla2[#All],3,FALSE),\"\")","v":""},205,"El Jícaro",{"$f":"IFERROR(VLOOKUP(Tabla38[[#This Row],[CODIGO municipio]],[3]!Tabla6[[#All],[codigo_mun]],1,FALSE),\"\")","v":""},{"$f":"IFERROR(VLOOKUP(Tabla38[[#This Row],[CODIGO municipio]],[3]!Tabla12[#All],2,FALSE),\"\")","v":""},{"$f":"IFERROR(VLOOKUP(Tabla38[[#This Row],[CODIGO municipio]],[3]!Tabla7[#All],3,FALSE),\"\")","v":""},{"$f":"IFERROR(VLOOKUP(Tabla38[[#This Row],[CODIGO municipio]],[3]!Tabla7[#All],4,FALSE),\"\")","v":""},{"$f":"IFERROR(VLOOKUP(Tabla38[[#This Row],[CODIGO municipio]],[3]!Tabla7[#All],11,FALSE),\"\")","v":""},{"$f":"IFERROR(VLOOKUP(Tabla38[[#This Row],[CODIGO municipio]],[3]!Tabla7[#All],12,FALSE),\"\")","v":""},{"$f":"IFERROR(VLOOKUP(Tabla38[[#This Row],[CODIGO municipio]],[3]!Tabla7[#All],13,FALSE),\"\")","v":""},{"$f":"IFERROR(VLOOKUP(Tabla38[[#This Row],[CODIGO municipio]],[3]!Tabla7[#All],14,FALSE),\"\")","v":""},{"$f":"IFERROR(VLOOKUP(Tabla38[[#This Row],[CODIGO municipio]],[3]!Tabla7[#All],15,FALSE),\"\")","v":""},{"$f":"IFERROR(VLOOKUP(Tabla38[[#This Row],[CODIGO municipio]],[3]!Tabla7[#All],16,FALSE),\"\")","v":""},{"$f":"IFERROR(VLOOKUP(Tabla38[[#This Row],[CODIGO municipio]],[3]!Tabla7[#All],17,FALSE),\"\")","v":""},{"$f":"IFERROR(VLOOKUP(Tabla38[[#This Row],[CODIGO municipio]],[3]!Tabla7[#All],18,FALSE),\"\")","v":""},{"$f":"IFERROR(VLOOKUP(Tabla38[[#This Row],[CODIGO municipio]],[3]!Tabla7[#All],19,FALSE),\"\")","v":""},{"$f":"IFERROR(VLOOKUP(Tabla38[[#This Row],[CODIGO municipio]],[3]!Tabla8[#All],3,FALSE),\"\")","v":""},{"$f":"IFERROR(VLOOKUP(Tabla38[[#This Row],[CODIGO municipio]],[3]!Tabla8[#All],4,FALSE),\"\")","v":""},{"$f":"IFERROR(VLOOKUP(Tabla38[[#This Row],[CODIGO municipio]],[3]!Tabla8[#All],5,FALSE),\"\")","v":""},{"$f":"IFERROR(VLOOKUP(Tabla38[[#This Row],[CODIGO municipio]],[3]!Tabla8[#All],6,FALSE),\"\")","v":""},{"$f":"IFERROR(VLOOKUP(Tabla38[[#This Row],[CODIGO municipio]],[3]!Tabla8[#All],7,FALSE),\"\")","v":""},{"$f":"IFERROR(VLOOKUP(Tabla38[[#This Row],[CODIGO municipio]],[3]!Tabla8[#All],8,FALSE),\"\")","v":""},{"$f":"IFERROR(VLOOKUP(Tabla38[[#This Row],[CODIGO municipio]],[3]!Tabla8[#All],9,FALSE),\"\")","v":""},{"$f":"IFERROR(VLOOKUP(Tabla38[[#This Row],[CODIGO municipio]],[3]!Tabla8[#All],10,FALSE),\"\")","v":""},{"$f":"IFERROR(VLOOKUP(Tabla38[[#This Row],[CODIGO municipio]],[3]!Tabla8[#All],11,FALSE),\"\")","v":""},{"$f":"IFERROR(VLOOKUP(Tabla38[[#This Row],[CODIGO municipio]],[3]!Tabla8[#All],12,FALSE),\"\")","v":""},{"$f":"IFERROR(VLOOKUP(Tabla38[[#This Row],[CODIGO municipio]],[3]!Tabla8[#All],13,FALSE),\"\")","v":""},{"$f":"IFERROR(VLOOKUP(Tabla38[[#This Row],[CODIGO municipio]],[3]!Tabla8[#All],14,FALSE),\"\")","v":""},{"$f":"IFERROR(VLOOKUP(Tabla38[[#This Row],[CODIGO municipio]],[3]!Tabla8[#All],15,FALSE),\"\")","v":""},{"$f":"IFERROR(VLOOKUP(Tabla38[[#This Row],[CODIGO municipio]],[3]!Tabla8[#All],16,FALSE),\"\")","v":""},{"$f":"IFERROR(VLOOKUP(Tabla38[[#This Row],[CODIGO municipio]],[3]!Tabla8[#All],17,FALSE),\"\")","v":""},{"$f":"IFERROR(VLOOKUP(Tabla38[[#This Row],[CODIGO municipio]],[3]!Tabla8[#All],18,FALSE),\"\")","v":""},{"$f":"IFERROR(VLOOKUP(Tabla38[[#This Row],[CODIGO municipio]],[3]!Tabla8[#All],19,FALSE),\"\")","v":""},{"$f":"IFERROR(VLOOKUP(Tabla38[[#This Row],[CODIGO municipio]],[3]!Tabla8[#All],20,FALSE),\"\")","v":""},{"$f":"IFERROR(VLOOKUP(Tabla38[[#This Row],[CODIGO municipio]],[3]!Tabla8[#All],21,FALSE),\"\")","v":""},{"$f":"IFERROR(VLOOKUP(Tabla38[[#This Row],[CODIGO municipio]],[3]!Tabla8[#All],22,FALSE),\"\")","v":""},{"$f":"IFERROR(VLOOKUP(Tabla38[[#This Row],[CODIGO municipio]],[3]!Tabla8[#All],23,FALSE),\"\")","v":""},{"$f":"IFERROR(VLOOKUP(Tabla38[[#This Row],[CODIGO municipio]],[3]!Tabla9[#All],3,FALSE),\"\")","v":""}]
[{"$f":"IFERROR(VLOOKUP(Tabla38[[#This Row],[Municipio]],[3]!Tabla2[#All],3,FALSE),\"\")","v":""},206,"Sansare",{"$f":"IFERROR(VLOOKUP(Tabla38[[#This Row],[CODIGO municipio]],[3]!Tabla6[[#All],[codigo_mun]],1,FALSE),\"\")","v":""},{"$f":"IFERROR(VLOOKUP(Tabla38[[#This Row],[CODIGO municipio]],[3]!Tabla12[#All],2,FALSE),\"\")","v":""},{"$f":"IFERROR(VLOOKUP(Tabla38[[#This Row],[CODIGO municipio]],[3]!Tabla7[#All],3,FALSE),\"\")","v":""},{"$f":"IFERROR(VLOOKUP(Tabla38[[#This Row],[CODIGO municipio]],[3]!Tabla7[#All],4,FALSE),\"\")","v":""},{"$f":"IFERROR(VLOOKUP(Tabla38[[#This Row],[CODIGO municipio]],[3]!Tabla7[#All],11,FALSE),\"\")","v":""},{"$f":"IFERROR(VLOOKUP(Tabla38[[#This Row],[CODIGO municipio]],[3]!Tabla7[#All],12,FALSE),\"\")","v":""},{"$f":"IFERROR(VLOOKUP(Tabla38[[#This Row],[CODIGO municipio]],[3]!Tabla7[#All],13,FALSE),\"\")","v":""},{"$f":"IFERROR(VLOOKUP(Tabla38[[#This Row],[CODIGO municipio]],[3]!Tabla7[#All],14,FALSE),\"\")","v":""},{"$f":"IFERROR(VLOOKUP(Tabla38[[#This Row],[CODIGO municipio]],[3]!Tabla7[#All],15,FALSE),\"\")","v":""},{"$f":"IFERROR(VLOOKUP(Tabla38[[#This Row],[CODIGO municipio]],[3]!Tabla7[#All],16,FALSE),\"\")","v":""},{"$f":"IFERROR(VLOOKUP(Tabla38[[#This Row],[CODIGO municipio]],[3]!Tabla7[#All],17,FALSE),\"\")","v":""},{"$f":"IFERROR(VLOOKUP(Tabla38[[#This Row],[CODIGO municipio]],[3]!Tabla7[#All],18,FALSE),\"\")","v":""},{"$f":"IFERROR(VLOOKUP(Tabla38[[#This Row],[CODIGO municipio]],[3]!Tabla7[#All],19,FALSE),\"\")","v":""},{"$f":"IFERROR(VLOOKUP(Tabla38[[#This Row],[CODIGO municipio]],[3]!Tabla8[#All],3,FALSE),\"\")","v":""},{"$f":"IFERROR(VLOOKUP(Tabla38[[#This Row],[CODIGO municipio]],[3]!Tabla8[#All],4,FALSE),\"\")","v":""},{"$f":"IFERROR(VLOOKUP(Tabla38[[#This Row],[CODIGO municipio]],[3]!Tabla8[#All],5,FALSE),\"\")","v":""},{"$f":"IFERROR(VLOOKUP(Tabla38[[#This Row],[CODIGO municipio]],[3]!Tabla8[#All],6,FALSE),\"\")","v":""},{"$f":"IFERROR(VLOOKUP(Tabla38[[#This Row],[CODIGO municipio]],[3]!Tabla8[#All],7,FALSE),\"\")","v":""},{"$f":"IFERROR(VLOOKUP(Tabla38[[#This Row],[CODIGO municipio]],[3]!Tabla8[#All],8,FALSE),\"\")","v":""},{"$f":"IFERROR(VLOOKUP(Tabla38[[#This Row],[CODIGO municipio]],[3]!Tabla8[#All],9,FALSE),\"\")","v":""},{"$f":"IFERROR(VLOOKUP(Tabla38[[#This Row],[CODIGO municipio]],[3]!Tabla8[#All],10,FALSE),\"\")","v":""},{"$f":"IFERROR(VLOOKUP(Tabla38[[#This Row],[CODIGO municipio]],[3]!Tabla8[#All],11,FALSE),\"\")","v":""},{"$f":"IFERROR(VLOOKUP(Tabla38[[#This Row],[CODIGO municipio]],[3]!Tabla8[#All],12,FALSE),\"\")","v":""},{"$f":"IFERROR(VLOOKUP(Tabla38[[#This Row],[CODIGO municipio]],[3]!Tabla8[#All],13,FALSE),\"\")","v":""},{"$f":"IFERROR(VLOOKUP(Tabla38[[#This Row],[CODIGO municipio]],[3]!Tabla8[#All],14,FALSE),\"\")","v":""},{"$f":"IFERROR(VLOOKUP(Tabla38[[#This Row],[CODIGO municipio]],[3]!Tabla8[#All],15,FALSE),\"\")","v":""},{"$f":"IFERROR(VLOOKUP(Tabla38[[#This Row],[CODIGO municipio]],[3]!Tabla8[#All],16,FALSE),\"\")","v":""},{"$f":"IFERROR(VLOOKUP(Tabla38[[#This Row],[CODIGO municipio]],[3]!Tabla8[#All],17,FALSE),\"\")","v":""},{"$f":"IFERROR(VLOOKUP(Tabla38[[#This Row],[CODIGO municipio]],[3]!Tabla8[#All],18,FALSE),\"\")","v":""},{"$f":"IFERROR(VLOOKUP(Tabla38[[#This Row],[CODIGO municipio]],[3]!Tabla8[#All],19,FALSE),\"\")","v":""},{"$f":"IFERROR(VLOOKUP(Tabla38[[#This Row],[CODIGO municipio]],[3]!Tabla8[#All],20,FALSE),\"\")","v":""},{"$f":"IFERROR(VLOOKUP(Tabla38[[#This Row],[CODIGO municipio]],[3]!Tabla8[#All],21,FALSE),\"\")","v":""},{"$f":"IFERROR(VLOOKUP(Tabla38[[#This Row],[CODIGO municipio]],[3]!Tabla8[#All],22,FALSE),\"\")","v":""},{"$f":"IFERROR(VLOOKUP(Tabla38[[#This Row],[CODIGO municipio]],[3]!Tabla8[#All],23,FALSE),\"\")","v":""},{"$f":"IFERROR(VLOOKUP(Tabla38[[#This Row],[CODIGO municipio]],[3]!Tabla9[#All],3,FALSE),\"\")","v":""}]
[{"$f":"IFERROR(VLOOKUP(Tabla38[[#This Row],[Municipio]],[3]!Tabla2[#All],3,FALSE),\"\")","v":""},207,"Sanarate",{"$f":"IFERROR(VLOOKUP(Tabla38[[#This Row],[CODIGO municipio]],[3]!Tabla6[[#All],[codigo_mun]],1,FALSE),\"\")","v":""},{"$f":"IFERROR(VLOOKUP(Tabla38[[#This Row],[CODIGO municipio]],[3]!Tabla12[#All],2,FALSE),\"\")","v":""},{"$f":"IFERROR(VLOOKUP(Tabla38[[#This Row],[CODIGO municipio]],[3]!Tabla7[#All],3,FALSE),\"\")","v":""},{"$f":"IFERROR(VLOOKUP(Tabla38[[#This Row],[CODIGO municipio]],[3]!Tabla7[#All],4,FALSE),\"\")","v":""},{"$f":"IFERROR(VLOOKUP(Tabla38[[#This Row],[CODIGO municipio]],[3]!Tabla7[#All],11,FALSE),\"\")","v":""},{"$f":"IFERROR(VLOOKUP(Tabla38[[#This Row],[CODIGO municipio]],[3]!Tabla7[#All],12,FALSE),\"\")","v":""},{"$f":"IFERROR(VLOOKUP(Tabla38[[#This Row],[CODIGO municipio]],[3]!Tabla7[#All],13,FALSE),\"\")","v":""},{"$f":"IFERROR(VLOOKUP(Tabla38[[#This Row],[CODIGO municipio]],[3]!Tabla7[#All],14,FALSE),\"\")","v":""},{"$f":"IFERROR(VLOOKUP(Tabla38[[#This Row],[CODIGO municipio]],[3]!Tabla7[#All],15,FALSE),\"\")","v":""},{"$f":"IFERROR(VLOOKUP(Tabla38[[#This Row],[CODIGO municipio]],[3]!Tabla7[#All],16,FALSE),\"\")","v":""},{"$f":"IFERROR(VLOOKUP(Tabla38[[#This Row],[CODIGO municipio]],[3]!Tabla7[#All],17,FALSE),\"\")","v":""},{"$f":"IFERROR(VLOOKUP(Tabla38[[#This Row],[CODIGO municipio]],[3]!Tabla7[#All],18,FALSE),\"\")","v":""},{"$f":"IFERROR(VLOOKUP(Tabla38[[#This Row],[CODIGO municipio]],[3]!Tabla7[#All],19,FALSE),\"\")","v":""},{"$f":"IFERROR(VLOOKUP(Tabla38[[#This Row],[CODIGO municipio]],[3]!Tabla8[#All],3,FALSE),\"\")","v":""},{"$f":"IFERROR(VLOOKUP(Tabla38[[#This Row],[CODIGO municipio]],[3]!Tabla8[#All],4,FALSE),\"\")","v":""},{"$f":"IFERROR(VLOOKUP(Tabla38[[#This Row],[CODIGO municipio]],[3]!Tabla8[#All],5,FALSE),\"\")","v":""},{"$f":"IFERROR(VLOOKUP(Tabla38[[#This Row],[CODIGO municipio]],[3]!Tabla8[#All],6,FALSE),\"\")","v":""},{"$f":"IFERROR(VLOOKUP(Tabla38[[#This Row],[CODIGO municipio]],[3]!Tabla8[#All],7,FALSE),\"\")","v":""},{"$f":"IFERROR(VLOOKUP(Tabla38[[#This Row],[CODIGO municipio]],[3]!Tabla8[#All],8,FALSE),\"\")","v":""},{"$f":"IFERROR(VLOOKUP(Tabla38[[#This Row],[CODIGO municipio]],[3]!Tabla8[#All],9,FALSE),\"\")","v":""},{"$f":"IFERROR(VLOOKUP(Tabla38[[#This Row],[CODIGO municipio]],[3]!Tabla8[#All],10,FALSE),\"\")","v":""},{"$f":"IFERROR(VLOOKUP(Tabla38[[#This Row],[CODIGO municipio]],[3]!Tabla8[#All],11,FALSE),\"\")","v":""},{"$f":"IFERROR(VLOOKUP(Tabla38[[#This Row],[CODIGO municipio]],[3]!Tabla8[#All],12,FALSE),\"\")","v":""},{"$f":"IFERROR(VLOOKUP(Tabla38[[#This Row],[CODIGO municipio]],[3]!Tabla8[#All],13,FALSE),\"\")","v":""},{"$f":"IFERROR(VLOOKUP(Tabla38[[#This Row],[CODIGO municipio]],[3]!Tabla8[#All],14,FALSE),\"\")","v":""},{"$f":"IFERROR(VLOOKUP(Tabla38[[#This Row],[CODIGO municipio]],[3]!Tabla8[#All],15,FALSE),\"\")","v":""},{"$f":"IFERROR(VLOOKUP(Tabla38[[#This Row],[CODIGO municipio]],[3]!Tabla8[#All],16,FALSE),\"\")","v":""},{"$f":"IFERROR(VLOOKUP(Tabla38[[#This Row],[CODIGO municipio]],[3]!Tabla8[#All],17,FALSE),\"\")","v":""},{"$f":"IFERROR(VLOOKUP(Tabla38[[#This Row],[CODIGO municipio]],[3]!Tabla8[#All],18,FALSE),\"\")","v":""},{"$f":"IFERROR(VLOOKUP(Tabla38[[#This Row],[CODIGO municipio]],[3]!Tabla8[#All],19,FALSE),\"\")","v":""},{"$f":"IFERROR(VLOOKUP(Tabla38[[#This Row],[CODIGO municipio]],[3]!Tabla8[#All],20,FALSE),\"\")","v":""},{"$f":"IFERROR(VLOOKUP(Tabla38[[#This Row],[CODIGO municipio]],[3]!Tabla8[#All],21,FALSE),\"\")","v":""},{"$f":"IFERROR(VLOOKUP(Tabla38[[#This Row],[CODIGO municipio]],[3]!Tabla8[#All],22,FALSE),\"\")","v":""},{"$f":"IFERROR(VLOOKUP(Tabla38[[#This Row],[CODIGO municipio]],[3]!Tabla8[#All],23,FALSE),\"\")","v":""},{"$f":"IFERROR(VLOOKUP(Tabla38[[#This Row],[CODIGO municipio]],[3]!Tabla9[#All],3,FALSE),\"\")","v":""}]
[{"$f":"IFERROR(VLOOKUP(Tabla38[[#This Row],[Municipio]],[3]!Tabla2[#All],3,FALSE),\"\")","v":""},208,"San Antonio la Paz",{"$f":"IFERROR(VLOOKUP(Tabla38[[#This Row],[CODIGO municipio]],[3]!Tabla6[[#All],[codigo_mun]],1,FALSE),\"\")","v":""},{"$f":"IFERROR(VLOOKUP(Tabla38[[#This Row],[CODIGO municipio]],[3]!Tabla12[#All],2,FALSE),\"\")","v":""},{"$f":"IFERROR(VLOOKUP(Tabla38[[#This Row],[CODIGO municipio]],[3]!Tabla7[#All],3,FALSE),\"\")","v":""},{"$f":"IFERROR(VLOOKUP(Tabla38[[#This Row],[CODIGO municipio]],[3]!Tabla7[#All],4,FALSE),\"\")","v":""},{"$f":"IFERROR(VLOOKUP(Tabla38[[#This Row],[CODIGO municipio]],[3]!Tabla7[#All],11,FALSE),\"\")","v":""},{"$f":"IFERROR(VLOOKUP(Tabla38[[#This Row],[CODIGO municipio]],[3]!Tabla7[#All],12,FALSE),\"\")","v":""},{"$f":"IFERROR(VLOOKUP(Tabla38[[#This Row],[CODIGO municipio]],[3]!Tabla7[#All],13,FALSE),\"\")","v":""},{"$f":"IFERROR(VLOOKUP(Tabla38[[#This Row],[CODIGO municipio]],[3]!Tabla7[#All],14,FALSE),\"\")","v":""},{"$f":"IFERROR(VLOOKUP(Tabla38[[#This Row],[CODIGO municipio]],[3]!Tabla7[#All],15,FALSE),\"\")","v":""},{"$f":"IFERROR(VLOOKUP(Tabla38[[#This Row],[CODIGO municipio]],[3]!Tabla7[#All],16,FALSE),\"\")","v":""},{"$f":"IFERROR(VLOOKUP(Tabla38[[#This Row],[CODIGO municipio]],[3]!Tabla7[#All],17,FALSE),\"\")","v":""},{"$f":"IFERROR(VLOOKUP(Tabla38[[#This Row],[CODIGO municipio]],[3]!Tabla7[#All],18,FALSE),\"\")","v":""},{"$f":"IFERROR(VLOOKUP(Tabla38[[#This Row],[CODIGO municipio]],[3]!Tabla7[#All],19,FALSE),\"\")","v":""},{"$f":"IFERROR(VLOOKUP(Tabla38[[#This Row],[CODIGO municipio]],[3]!Tabla8[#All],3,FALSE),\"\")","v":""},{"$f":"IFERROR(VLOOKUP(Tabla38[[#This Row],[CODIGO municipio]],[3]!Tabla8[#All],4,FALSE),\"\")","v":""},{"$f":"IFERROR(VLOOKUP(Tabla38[[#This Row],[CODIGO municipio]],[3]!Tabla8[#All],5,FALSE),\"\")","v":""},{"$f":"IFERROR(VLOOKUP(Tabla38[[#This Row],[CODIGO municipio]],[3]!Tabla8[#All],6,FALSE),\"\")","v":""},{"$f":"IFERROR(VLOOKUP(Tabla38[[#This Row],[CODIGO municipio]],[3]!Tabla8[#All],7,FALSE),\"\")","v":""},{"$f":"IFERROR(VLOOKUP(Tabla38[[#This Row],[CODIGO municipio]],[3]!Tabla8[#All],8,FALSE),\"\")","v":""},{"$f":"IFERROR(VLOOKUP(Tabla38[[#This Row],[CODIGO municipio]],[3]!Tabla8[#All],9,FALSE),\"\")","v":""},{"$f":"IFERROR(VLOOKUP(Tabla38[[#This Row],[CODIGO municipio]],[3]!Tabla8[#All],10,FALSE),\"\")","v":""},{"$f":"IFERROR(VLOOKUP(Tabla38[[#This Row],[CODIGO municipio]],[3]!Tabla8[#All],11,FALSE),\"\")","v":""},{"$f":"IFERROR(VLOOKUP(Tabla38[[#This Row],[CODIGO municipio]],[3]!Tabla8[#All],12,FALSE),\"\")","v":""},{"$f":"IFERROR(VLOOKUP(Tabla38[[#This Row],[CODIGO municipio]],[3]!Tabla8[#All],13,FALSE),\"\")","v":""},{"$f":"IFERROR(VLOOKUP(Tabla38[[#This Row],[CODIGO municipio]],[3]!Tabla8[#All],14,FALSE),\"\")","v":""},{"$f":"IFERROR(VLOOKUP(Tabla38[[#This Row],[CODIGO municipio]],[3]!Tabla8[#All],15,FALSE),\"\")","v":""},{"$f":"IFERROR(VLOOKUP(Tabla38[[#This Row],[CODIGO municipio]],[3]!Tabla8[#All],16,FALSE),\"\")","v":""},{"$f":"IFERROR(VLOOKUP(Tabla38[[#This Row],[CODIGO municipio]],[3]!Tabla8[#All],17,FALSE),\"\")","v":""},{"$f":"IFERROR(VLOOKUP(Tabla38[[#This Row],[CODIGO municipio]],[3]!Tabla8[#All],18,FALSE),\"\")","v":""},{"$f":"IFERROR(VLOOKUP(Tabla38[[#This Row],[CODIGO municipio]],[3]!Tabla8[#All],19,FALSE),\"\")","v":""},{"$f":"IFERROR(VLOOKUP(Tabla38[[#This Row],[CODIGO municipio]],[3]!Tabla8[#All],20,FALSE),\"\")","v":""},{"$f":"IFERROR(VLOOKUP(Tabla38[[#This Row],[CODIGO municipio]],[3]!Tabla8[#All],21,FALSE),\"\")","v":""},{"$f":"IFERROR(VLOOKUP(Tabla38[[#This Row],[CODIGO municipio]],[3]!Tabla8[#All],22,FALSE),\"\")","v":""},{"$f":"IFERROR(VLOOKUP(Tabla38[[#This Row],[CODIGO municipio]],[3]!Tabla8[#All],23,FALSE),\"\")","v":""},{"$f":"IFERROR(VLOOKUP(Tabla38[[#This Row],[CODIGO municipio]],[3]!Tabla9[#All],3,FALSE),\"\")","v":""}]
[{"$f":"IFERROR(VLOOKUP(Tabla38[[#This Row],[Municipio]],[3]!Tabla2[#All],3,FALSE),\"\")","v":""},301,"Antigua Guatemala",{"$f":"IFERROR(VLOOKUP(Tabla38[[#This Row],[CODIGO municipio]],[3]!Tabla6[[#All],[codigo_mun]],1,FALSE),\"\")","v":""},{"$f":"IFERROR(VLOOKUP(Tabla38[[#This Row],[CODIGO municipio]],[3]!Tabla12[#All],2,FALSE),\"\")","v":""},{"$f":"IFERROR(VLOOKUP(Tabla38[[#This Row],[CODIGO municipio]],[3]!Tabla7[#All],3,FALSE),\"\")","v":""},{"$f":"IFERROR(VLOOKUP(Tabla38[[#This Row],[CODIGO municipio]],[3]!Tabla7[#All],4,FALSE),\"\")","v":""},{"$f":"IFERROR(VLOOKUP(Tabla38[[#This Row],[CODIGO municipio]],[3]!Tabla7[#All],11,FALSE),\"\")","v":""},{"$f":"IFERROR(VLOOKUP(Tabla38[[#This Row],[CODIGO municipio]],[3]!Tabla7[#All],12,FALSE),\"\")","v":""},{"$f":"IFERROR(VLOOKUP(Tabla38[[#This Row],[CODIGO municipio]],[3]!Tabla7[#All],13,FALSE),\"\")","v":""},{"$f":"IFERROR(VLOOKUP(Tabla38[[#This Row],[CODIGO municipio]],[3]!Tabla7[#All],14,FALSE),\"\")","v":""},{"$f":"IFERROR(VLOOKUP(Tabla38[[#This Row],[CODIGO municipio]],[3]!Tabla7[#All],15,FALSE),\"\")","v":""},{"$f":"IFERROR(VLOOKUP(Tabla38[[#This Row],[CODIGO municipio]],[3]!Tabla7[#All],16,FALSE),\"\")","v":""},{"$f":"IFERROR(VLOOKUP(Tabla38[[#This Row],[CODIGO municipio]],[3]!Tabla7[#All],17,FALSE),\"\")","v":""},{"$f":"IFERROR(VLOOKUP(Tabla38[[#This Row],[CODIGO municipio]],[3]!Tabla7[#All],18,FALSE),\"\")","v":""},{"$f":"IFERROR(VLOOKUP(Tabla38[[#This Row],[CODIGO municipio]],[3]!Tabla7[#All],19,FALSE),\"\")","v":""},{"$f":"IFERROR(VLOOKUP(Tabla38[[#This Row],[CODIGO municipio]],[3]!Tabla8[#All],3,FALSE),\"\")","v":""},{"$f":"IFERROR(VLOOKUP(Tabla38[[#This Row],[CODIGO municipio]],[3]!Tabla8[#All],4,FALSE),\"\")","v":""},{"$f":"IFERROR(VLOOKUP(Tabla38[[#This Row],[CODIGO municipio]],[3]!Tabla8[#All],5,FALSE),\"\")","v":""},{"$f":"IFERROR(VLOOKUP(Tabla38[[#This Row],[CODIGO municipio]],[3]!Tabla8[#All],6,FALSE),\"\")","v":""},{"$f":"IFERROR(VLOOKUP(Tabla38[[#This Row],[CODIGO municipio]],[3]!Tabla8[#All],7,FALSE),\"\")","v":""},{"$f":"IFERROR(VLOOKUP(Tabla38[[#This Row],[CODIGO municipio]],[3]!Tabla8[#All],8,FALSE),\"\")","v":""},{"$f":"IFERROR(VLOOKUP(Tabla38[[#This Row],[CODIGO municipio]],[3]!Tabla8[#All],9,FALSE),\"\")","v":""},{"$f":"IFERROR(VLOOKUP(Tabla38[[#This Row],[CODIGO municipio]],[3]!Tabla8[#All],10,FALSE),\"\")","v":""},{"$f":"IFERROR(VLOOKUP(Tabla38[[#This Row],[CODIGO municipio]],[3]!Tabla8[#All],11,FALSE),\"\")","v":""},{"$f":"IFERROR(VLOOKUP(Tabla38[[#This Row],[CODIGO municipio]],[3]!Tabla8[#All],12,FALSE),\"\")","v":""},{"$f":"IFERROR(VLOOKUP(Tabla38[[#This Row],[CODIGO municipio]],[3]!Tabla8[#All],13,FALSE),\"\")","v":""},{"$f":"IFERROR(VLOOKUP(Tabla38[[#This Row],[CODIGO municipio]],[3]!Tabla8[#All],14,FALSE),\"\")","v":""},{"$f":"IFERROR(VLOOKUP(Tabla38[[#This Row],[CODIGO municipio]],[3]!Tabla8[#All],15,FALSE),\"\")","v":""},{"$f":"IFERROR(VLOOKUP(Tabla38[[#This Row],[CODIGO municipio]],[3]!Tabla8[#All],16,FALSE),\"\")","v":""},{"$f":"IFERROR(VLOOKUP(Tabla38[[#This Row],[CODIGO municipio]],[3]!Tabla8[#All],17,FALSE),\"\")","v":""},{"$f":"IFERROR(VLOOKUP(Tabla38[[#This Row],[CODIGO municipio]],[3]!Tabla8[#All],18,FALSE),\"\")","v":""},{"$f":"IFERROR(VLOOKUP(Tabla38[[#This Row],[CODIGO municipio]],[3]!Tabla8[#All],19,FALSE),\"\")","v":""},{"$f":"IFERROR(VLOOKUP(Tabla38[[#This Row],[CODIGO municipio]],[3]!Tabla8[#All],20,FALSE),\"\")","v":""},{"$f":"IFERROR(VLOOKUP(Tabla38[[#This Row],[CODIGO municipio]],[3]!Tabla8[#All],21,FALSE),\"\")","v":""},{"$f":"IFERROR(VLOOKUP(Tabla38[[#This Row],[CODIGO municipio]],[3]!Tabla8[#All],22,FALSE),\"\")","v":""},{"$f":"IFERROR(VLOOKUP(Tabla38[[#This Row],[CODIGO municipio]],[3]!Tabla8[#All],23,FALSE),\"\")","v":""},{"$f":"IFERROR(VLOOKUP(Tabla38[[#This Row],[CODIGO municipio]],[3]!Tabla9[#All],3,FALSE),\"\")","v":""}]
[{"$f":"IFERROR(VLOOKUP(Tabla38[[#This Row],[Municipio]],[3]!Tabla2[#All],3,FALSE),\"\")","v":""},302,"Jocotenango",{"$f":"IFERROR(VLOOKUP(Tabla38[[#This Row],[CODIGO municipio]],[3]!Tabla6[[#All],[codigo_mun]],1,FALSE),\"\")","v":""},{"$f":"IFERROR(VLOOKUP(Tabla38[[#This Row],[CODIGO municipio]],[3]!Tabla12[#All],2,FALSE),\"\")","v":""},{"$f":"IFERROR(VLOOKUP(Tabla38[[#This Row],[CODIGO municipio]],[3]!Tabla7[#All],3,FALSE),\"\")","v":""},{"$f":"IFERROR(VLOOKUP(Tabla38[[#This Row],[CODIGO municipio]],[3]!Tabla7[#All],4,FALSE),\"\")","v":""},{"$f":"IFERROR(VLOOKUP(Tabla38[[#This Row],[CODIGO municipio]],[3]!Tabla7[#All],11,FALSE),\"\")","v":""},{"$f":"IFERROR(VLOOKUP(Tabla38[[#This Row],[CODIGO municipio]],[3]!Tabla7[#All],12,FALSE),\"\")","v":""},{"$f":"IFERROR(VLOOKUP(Tabla38[[#This Row],[CODIGO municipio]],[3]!Tabla7[#All],13,FALSE),\"\")","v":""},{"$f":"IFERROR(VLOOKUP(Tabla38[[#This Row],[CODIGO municipio]],[3]!Tabla7[#All],14,FALSE),\"\")","v":""},{"$f":"IFERROR(VLOOKUP(Tabla38[[#This Row],[CODIGO municipio]],[3]!Tabla7[#All],15,FALSE),\"\")","v":""},{"$f":"IFERROR(VLOOKUP(Tabla38[[#This Row],[CODIGO municipio]],[3]!Tabla7[#All],16,FALSE),\"\")","v":""},{"$f":"IFERROR(VLOOKUP(Tabla38[[#This Row],[CODIGO municipio]],[3]!Tabla7[#All],17,FALSE),\"\")","v":""},{"$f":"IFERROR(VLOOKUP(Tabla38[[#This Row],[CODIGO municipio]],[3]!Tabla7[#All],18,FALSE),\"\")","v":""},{"$f":"IFERROR(VLOOKUP(Tabla38[[#This Row],[CODIGO municipio]],[3]!Tabla7[#All],19,FALSE),\"\")","v":""},{"$f":"IFERROR(VLOOKUP(Tabla38[[#This Row],[CODIGO municipio]],[3]!Tabla8[#All],3,FALSE),\"\")","v":""},{"$f":"IFERROR(VLOOKUP(Tabla38[[#This Row],[CODIGO municipio]],[3]!Tabla8[#All],4,FALSE),\"\")","v":""},{"$f":"IFERROR(VLOOKUP(Tabla38[[#This Row],[CODIGO municipio]],[3]!Tabla8[#All],5,FALSE),\"\")","v":""},{"$f":"IFERROR(VLOOKUP(Tabla38[[#This Row],[CODIGO municipio]],[3]!Tabla8[#All],6,FALSE),\"\")","v":""},{"$f":"IFERROR(VLOOKUP(Tabla38[[#This Row],[CODIGO municipio]],[3]!Tabla8[#All],7,FALSE),\"\")","v":""},{"$f":"IFERROR(VLOOKUP(Tabla38[[#This Row],[CODIGO municipio]],[3]!Tabla8[#All],8,FALSE),\"\")","v":""},{"$f":"IFERROR(VLOOKUP(Tabla38[[#This Row],[CODIGO municipio]],[3]!Tabla8[#All],9,FALSE),\"\")","v":""},{"$f":"IFERROR(VLOOKUP(Tabla38[[#This Row],[CODIGO municipio]],[3]!Tabla8[#All],10,FALSE),\"\")","v":""},{"$f":"IFERROR(VLOOKUP(Tabla38[[#This Row],[CODIGO municipio]],[3]!Tabla8[#All],11,FALSE),\"\")","v":""},{"$f":"IFERROR(VLOOKUP(Tabla38[[#This Row],[CODIGO municipio]],[3]!Tabla8[#All],12,FALSE),\"\")","v":""},{"$f":"IFERROR(VLOOKUP(Tabla38[[#This Row],[CODIGO municipio]],[3]!Tabla8[#All],13,FALSE),\"\")","v":""},{"$f":"IFERROR(VLOOKUP(Tabla38[[#This Row],[CODIGO municipio]],[3]!Tabla8[#All],14,FALSE),\"\")","v":""},{"$f":"IFERROR(VLOOKUP(Tabla38[[#This Row],[CODIGO municipio]],[3]!Tabla8[#All],15,FALSE),\"\")","v":""},{"$f":"IFERROR(VLOOKUP(Tabla38[[#This Row],[CODIGO municipio]],[3]!Tabla8[#All],16,FALSE),\"\")","v":""},{"$f":"IFERROR(VLOOKUP(Tabla38[[#This Row],[CODIGO municipio]],[3]!Tabla8[#All],17,FALSE),\"\")","v":""},{"$f":"IFERROR(VLOOKUP(Tabla38[[#This Row],[CODIGO municipio]],[3]!Tabla8[#All],18,FALSE),\"\")","v":""},{"$f":"IFERROR(VLOOKUP(Tabla38[[#This Row],[CODIGO municipio]],[3]!Tabla8[#All],19,FALSE),\"\")","v":""},{"$f":"IFERROR(VLOOKUP(Tabla38[[#This Row],[CODIGO municipio]],[3]!Tabla8[#All],20,FALSE),\"\")","v":""},{"$f":"IFERROR(VLOOKUP(Tabla38[[#This Row],[CODIGO municipio]],[3]!Tabla8[#All],21,FALSE),\"\")","v":""},{"$f":"IFERROR(VLOOKUP(Tabla38[[#This Row],[CODIGO municipio]],[3]!Tabla8[#All],22,FALSE),\"\")","v":""},{"$f":"IFERROR(VLOOKUP(Tabla38[[#This Row],[CODIGO municipio]],[3]!Tabla8[#All],23,FALSE),\"\")","v":""},{"$f":"IFERROR(VLOOKUP(Tabla38[[#This Row],[CODIGO municipio]],[3]!Tabla9[#All],3,FALSE),\"\")","v":""}]
[{"$f":"IFERROR(VLOOKUP(Tabla38[[#This Row],[Municipio]],[3]!Tabla2[#All],3,FALSE),\"\")","v":""},303,"Pastores",{"$f":"IFERROR(VLOOKUP(Tabla38[[#This Row],[CODIGO municipio]],[3]!Tabla6[[#All],[codigo_mun]],1,FALSE),\"\")","v":""},{"$f":"IFERROR(VLOOKUP(Tabla38[[#This Row],[CODIGO municipio]],[3]!Tabla12[#All],2,FALSE),\"\")","v":""},{"$f":"IFERROR(VLOOKUP(Tabla38[[#This Row],[CODIGO municipio]],[3]!Tabla7[#All],3,FALSE),\"\")","v":""},{"$f":"IFERROR(VLOOKUP(Tabla38[[#This Row],[CODIGO municipio]],[3]!Tabla7[#All],4,FALSE),\"\")","v":""},{"$f":"IFERROR(VLOOKUP(Tabla38[[#This Row],[CODIGO municipio]],[3]!Tabla7[#All],11,FALSE),\"\")","v":""},{"$f":"IFERROR(VLOOKUP(Tabla38[[#This Row],[CODIGO municipio]],[3]!Tabla7[#All],12,FALSE),\"\")","v":""},{"$f":"IFERROR(VLOOKUP(Tabla38[[#This Row],[CODIGO municipio]],[3]!Tabla7[#All],13,FALSE),\"\")","v":""},{"$f":"IFERROR(VLOOKUP(Tabla38[[#This Row],[CODIGO municipio]],[3]!Tabla7[#All],14,FALSE),\"\")","v":""},{"$f":"IFERROR(VLOOKUP(Tabla38[[#This Row],[CODIGO municipio]],[3]!Tabla7[#All],15,FALSE),\"\")","v":""},{"$f":"IFERROR(VLOOKUP(Tabla38[[#This Row],[CODIGO municipio]],[3]!Tabla7[#All],16,FALSE),\"\")","v":""},{"$f":"IFERROR(VLOOKUP(Tabla38[[#This Row],[CODIGO municipio]],[3]!Tabla7[#All],17,FALSE),\"\")","v":""},{"$f":"IFERROR(VLOOKUP(Tabla38[[#This Row],[CODIGO municipio]],[3]!Tabla7[#All],18,FALSE),\"\")","v":""},{"$f":"IFERROR(VLOOKUP(Tabla38[[#This Row],[CODIGO municipio]],[3]!Tabla7[#All],19,FALSE),\"\")","v":""},{"$f":"IFERROR(VLOOKUP(Tabla38[[#This Row],[CODIGO municipio]],[3]!Tabla8[#All],3,FALSE),\"\")","v":""},{"$f":"IFERROR(VLOOKUP(Tabla38[[#This Row],[CODIGO municipio]],[3]!Tabla8[#All],4,FALSE),\"\")","v":""},{"$f":"IFERROR(VLOOKUP(Tabla38[[#This Row],[CODIGO municipio]],[3]!Tabla8[#All],5,FALSE),\"\")","v":""},{"$f":"IFERROR(VLOOKUP(Tabla38[[#This Row],[CODIGO municipio]],[3]!Tabla8[#All],6,FALSE),\"\")","v":""},{"$f":"IFERROR(VLOOKUP(Tabla38[[#This Row],[CODIGO municipio]],[3]!Tabla8[#All],7,FALSE),\"\")","v":""},{"$f":"IFERROR(VLOOKUP(Tabla38[[#This Row],[CODIGO municipio]],[3]!Tabla8[#All],8,FALSE),\"\")","v":""},{"$f":"IFERROR(VLOOKUP(Tabla38[[#This Row],[CODIGO municipio]],[3]!Tabla8[#All],9,FALSE),\"\")","v":""},{"$f":"IFERROR(VLOOKUP(Tabla38[[#This Row],[CODIGO municipio]],[3]!Tabla8[#All],10,FALSE),\"\")","v":""},{"$f":"IFERROR(VLOOKUP(Tabla38[[#This Row],[CODIGO municipio]],[3]!Tabla8[#All],11,FALSE),\"\")","v":""},{"$f":"IFERROR(VLOOKUP(Tabla38[[#This Row],[CODIGO municipio]],[3]!Tabla8[#All],12,FALSE),\"\")","v":""},{"$f":"IFERROR(VLOOKUP(Tabla38[[#This Row],[CODIGO municipio]],[3]!Tabla8[#All],13,FALSE),\"\")","v":""},{"$f":"IFERROR(VLOOKUP(Tabla38[[#This Row],[CODIGO municipio]],[3]!Tabla8[#All],14,FALSE),\"\")","v":""},{"$f":"IFERROR(VLOOKUP(Tabla38[[#This Row],[CODIGO municipio]],[3]!Tabla8[#All],15,FALSE),\"\")","v":""},{"$f":"IFERROR(VLOOKUP(Tabla38[[#This Row],[CODIGO municipio]],[3]!Tabla8[#All],16,FALSE),\"\")","v":""},{"$f":"IFERROR(VLOOKUP(Tabla38[[#This Row],[CODIGO municipio]],[3]!Tabla8[#All],17,FALSE),\"\")","v":""},{"$f":"IFERROR(VLOOKUP(Tabla38[[#This Row],[CODIGO municipio]],[3]!Tabla8[#All],18,FALSE),\"\")","v":""},{"$f":"IFERROR(VLOOKUP(Tabla38[[#This Row],[CODIGO municipio]],[3]!Tabla8[#All],19,FALSE),\"\")","v":""},{"$f":"IFERROR(VLOOKUP(Tabla38[[#This Row],[CODIGO municipio]],[3]!Tabla8[#All],20,FALSE),\"\")","v":""},{"$f":"IFERROR(VLOOKUP(Tabla38[[#This Row],[CODIGO municipio]],[3]!Tabla8[#All],21,FALSE),\"\")","v":""},{"$f":"IFERROR(VLOOKUP(Tabla38[[#This Row],[CODIGO municipio]],[3]!Tabla8[#All],22,FALSE),\"\")","v":""},{"$f":"IFERROR(VLOOKUP(Tabla38[[#This Row],[CODIGO municipio]],[3]!Tabla8[#All],23,FALSE),\"\")","v":""},{"$f":"IFERROR(VLOOKUP(Tabla38[[#This Row],[CODIGO municipio]],[3]!Tabla9[#All],3,FALSE),\"\")","v":""}]
[{"$f":"IFERROR(VLOOKUP(Tabla38[[#This Row],[Municipio]],[3]!Tabla2[#All],3,FALSE),\"\")","v":""},304,"Sumpango",{"$f":"IFERROR(VLOOKUP(Tabla38[[#This Row],[CODIGO municipio]],[3]!Tabla6[[#All],[codigo_mun]],1,FALSE),\"\")","v":""},{"$f":"IFERROR(VLOOKUP(Tabla38[[#This Row],[CODIGO municipio]],[3]!Tabla12[#All],2,FALSE),\"\")","v":""},{"$f":"IFERROR(VLOOKUP(Tabla38[[#This Row],[CODIGO municipio]],[3]!Tabla7[#All],3,FALSE),\"\")","v":""},{"$f":"IFERROR(VLOOKUP(Tabla38[[#This Row],[CODIGO municipio]],[3]!Tabla7[#All],4,FALSE),\"\")","v":""},{"$f":"IFERROR(VLOOKUP(Tabla38[[#This Row],[CODIGO municipio]],[3]!Tabla7[#All],11,FALSE),\"\")","v":""},{"$f":"IFERROR(VLOOKUP(Tabla38[[#This Row],[CODIGO municipio]],[3]!Tabla7[#All],12,FALSE),\"\")","v":""},{"$f":"IFERROR(VLOOKUP(Tabla38[[#This Row],[CODIGO municipio]],[3]!Tabla7[#All],13,FALSE),\"\")","v":""},{"$f":"IFERROR(VLOOKUP(Tabla38[[#This Row],[CODIGO municipio]],[3]!Tabla7[#All],14,FALSE),\"\")","v":""},{"$f":"IFERROR(VLOOKUP(Tabla38[[#This Row],[CODIGO municipio]],[3]!Tabla7[#All],15,FALSE),\"\")","v":""},{"$f":"IFERROR(VLOOKUP(Tabla38[[#This Row],[CODIGO municipio]],[3]!Tabla7[#All],16,FALSE),\"\")","v":""},{"$f":"IFERROR(VLOOKUP(Tabla38[[#This Row],[CODIGO municipio]],[3]!Tabla7[#All],17,FALSE),\"\")","v":""},{"$f":"IFERROR(VLOOKUP(Tabla38[[#This Row],[CODIGO municipio]],[3]!Tabla7[#All],18,FALSE),\"\")","v":""},{"$f":"IFERROR(VLOOKUP(Tabla38[[#This Row],[CODIGO municipio]],[3]!Tabla7[#All],19,FALSE),\"\")","v":""},{"$f":"IFERROR(VLOOKUP(Tabla38[[#This Row],[CODIGO municipio]],[3]!Tabla8[#All],3,FALSE),\"\")","v":""},{"$f":"IFERROR(VLOOKUP(Tabla38[[#This Row],[CODIGO municipio]],[3]!Tabla8[#All],4,FALSE),\"\")","v":""},{"$f":"IFERROR(VLOOKUP(Tabla38[[#This Row],[CODIGO municipio]],[3]!Tabla8[#All],5,FALSE),\"\")","v":""},{"$f":"IFERROR(VLOOKUP(Tabla38[[#This Row],[CODIGO municipio]],[3]!Tabla8[#All],6,FALSE),\"\")","v":""},{"$f":"IFERROR(VLOOKUP(Tabla38[[#This Row],[CODIGO municipio]],[3]!Tabla8[#All],7,FALSE),\"\")","v":""},{"$f":"IFERROR(VLOOKUP(Tabla38[[#This Row],[CODIGO municipio]],[3]!Tabla8[#All],8,FALSE),\"\")","v":""},{"$f":"IFERROR(VLOOKUP(Tabla38[[#This Row],[CODIGO municipio]],[3]!Tabla8[#All],9,FALSE),\"\")","v":""},{"$f":"IFERROR(VLOOKUP(Tabla38[[#This Row],[CODIGO municipio]],[3]!Tabla8[#All],10,FALSE),\"\")","v":""},{"$f":"IFERROR(VLOOKUP(Tabla38[[#This Row],[CODIGO municipio]],[3]!Tabla8[#All],11,FALSE),\"\")","v":""},{"$f":"IFERROR(VLOOKUP(Tabla38[[#This Row],[CODIGO municipio]],[3]!Tabla8[#All],12,FALSE),\"\")","v":""},{"$f":"IFERROR(VLOOKUP(Tabla38[[#This Row],[CODIGO municipio]],[3]!Tabla8[#All],13,FALSE),\"\")","v":""},{"$f":"IFERROR(VLOOKUP(Tabla38[[#This Row],[CODIGO municipio]],[3]!Tabla8[#All],14,FALSE),\"\")","v":""},{"$f":"IFERROR(VLOOKUP(Tabla38[[#This Row],[CODIGO municipio]],[3]!Tabla8[#All],15,FALSE),\"\")","v":""},{"$f":"IFERROR(VLOOKUP(Tabla38[[#This Row],[CODIGO municipio]],[3]!Tabla8[#All],16,FALSE),\"\")","v":""},{"$f":"IFERROR(VLOOKUP(Tabla38[[#This Row],[CODIGO municipio]],[3]!Tabla8[#All],17,FALSE),\"\")","v":""},{"$f":"IFERROR(VLOOKUP(Tabla38[[#This Row],[CODIGO municipio]],[3]!Tabla8[#All],18,FALSE),\"\")","v":""},{"$f":"IFERROR(VLOOKUP(Tabla38[[#This Row],[CODIGO municipio]],[3]!Tabla8[#All],19,FALSE),\"\")","v":""},{"$f":"IFERROR(VLOOKUP(Tabla38[[#This Row],[CODIGO municipio]],[3]!Tabla8[#All],20,FALSE),\"\")","v":""},{"$f":"IFERROR(VLOOKUP(Tabla38[[#This Row],[CODIGO municipio]],[3]!Tabla8[#All],21,FALSE),\"\")","v":""},{"$f":"IFERROR(VLOOKUP(Tabla38[[#This Row],[CODIGO municipio]],[3]!Tabla8[#All],22,FALSE),\"\")","v":""},{"$f":"IFERROR(VLOOKUP(Tabla38[[#This Row],[CODIGO municipio]],[3]!Tabla8[#All],23,FALSE),\"\")","v":""},{"$f":"IFERROR(VLOOKUP(Tabla38[[#This Row],[CODIGO municipio]],[3]!Tabla9[#All],3,FALSE),\"\")","v":""}]
[{"$f":"IFERROR(VLOOKUP(Tabla38[[#This Row],[Municipio]],[3]!Tabla2[#All],3,FALSE),\"\")","v":""},305,"Santo Domingo Xenacoj",{"$f":"IFERROR(VLOOKUP(Tabla38[[#This Row],[CODIGO municipio]],[3]!Tabla6[[#All],[codigo_mun]],1,FALSE),\"\")","v":""},{"$f":"IFERROR(VLOOKUP(Tabla38[[#This Row],[CODIGO municipio]],[3]!Tabla12[#All],2,FALSE),\"\")","v":""},{"$f":"IFERROR(VLOOKUP(Tabla38[[#This Row],[CODIGO municipio]],[3]!Tabla7[#All],3,FALSE),\"\")","v":""},{"$f":"IFERROR(VLOOKUP(Tabla38[[#This Row],[CODIGO municipio]],[3]!Tabla7[#All],4,FALSE),\"\")","v":""},{"$f":"IFERROR(VLOOKUP(Tabla38[[#This Row],[CODIGO municipio]],[3]!Tabla7[#All],11,FALSE),\"\")","v":""},{"$f":"IFERROR(VLOOKUP(Tabla38[[#This Row],[CODIGO municipio]],[3]!Tabla7[#All],12,FALSE),\"\")","v":""},{"$f":"IFERROR(VLOOKUP(Tabla38[[#This Row],[CODIGO municipio]],[3]!Tabla7[#All],13,FALSE),\"\")","v":""},{"$f":"IFERROR(VLOOKUP(Tabla38[[#This Row],[CODIGO municipio]],[3]!Tabla7[#All],14,FALSE),\"\")","v":""},{"$f":"IFERROR(VLOOKUP(Tabla38[[#This Row],[CODIGO municipio]],[3]!Tabla7[#All],15,FALSE),\"\")","v":""},{"$f":"IFERROR(VLOOKUP(Tabla38[[#This Row],[CODIGO municipio]],[3]!Tabla7[#All],16,FALSE),\"\")","v":""},{"$f":"IFERROR(VLOOKUP(Tabla38[[#This Row],[CODIGO municipio]],[3]!Tabla7[#All],17,FALSE),\"\")","v":""},{"$f":"IFERROR(VLOOKUP(Tabla38[[#This Row],[CODIGO municipio]],[3]!Tabla7[#All],18,FALSE),\"\")","v":""},{"$f":"IFERROR(VLOOKUP(Tabla38[[#This Row],[CODIGO municipio]],[3]!Tabla7[#All],19,FALSE),\"\")","v":""},{"$f":"IFERROR(VLOOKUP(Tabla38[[#This Row],[CODIGO municipio]],[3]!Tabla8[#All],3,FALSE),\"\")","v":""},{"$f":"IFERROR(VLOOKUP(Tabla38[[#This Row],[CODIGO municipio]],[3]!Tabla8[#All],4,FALSE),\"\")","v":""},{"$f":"IFERROR(VLOOKUP(Tabla38[[#This Row],[CODIGO municipio]],[3]!Tabla8[#All],5,FALSE),\"\")","v":""},{"$f":"IFERROR(VLOOKUP(Tabla38[[#This Row],[CODIGO municipio]],[3]!Tabla8[#All],6,FALSE),\"\")","v":""},{"$f":"IFERROR(VLOOKUP(Tabla38[[#This Row],[CODIGO municipio]],[3]!Tabla8[#All],7,FALSE),\"\")","v":""},{"$f":"IFERROR(VLOOKUP(Tabla38[[#This Row],[CODIGO municipio]],[3]!Tabla8[#All],8,FALSE),\"\")","v":""},{"$f":"IFERROR(VLOOKUP(Tabla38[[#This Row],[CODIGO municipio]],[3]!Tabla8[#All],9,FALSE),\"\")","v":""},{"$f":"IFERROR(VLOOKUP(Tabla38[[#This Row],[CODIGO municipio]],[3]!Tabla8[#All],10,FALSE),\"\")","v":""},{"$f":"IFERROR(VLOOKUP(Tabla38[[#This Row],[CODIGO municipio]],[3]!Tabla8[#All],11,FALSE),\"\")","v":""},{"$f":"IFERROR(VLOOKUP(Tabla38[[#This Row],[CODIGO municipio]],[3]!Tabla8[#All],12,FALSE),\"\")","v":""},{"$f":"IFERROR(VLOOKUP(Tabla38[[#This Row],[CODIGO municipio]],[3]!Tabla8[#All],13,FALSE),\"\")","v":""},{"$f":"IFERROR(VLOOKUP(Tabla38[[#This Row],[CODIGO municipio]],[3]!Tabla8[#All],14,FALSE),\"\")","v":""},{"$f":"IFERROR(VLOOKUP(Tabla38[[#This Row],[CODIGO municipio]],[3]!Tabla8[#All],15,FALSE),\"\")","v":""},{"$f":"IFERROR(VLOOKUP(Tabla38[[#This Row],[CODIGO municipio]],[3]!Tabla8[#All],16,FALSE),\"\")","v":""},{"$f":"IFERROR(VLOOKUP(Tabla38[[#This Row],[CODIGO municipio]],[3]!Tabla8[#All],17,FALSE),\"\")","v":""},{"$f":"IFERROR(VLOOKUP(Tabla38[[#This Row],[CODIGO municipio]],[3]!Tabla8[#All],18,FALSE),\"\")","v":""},{"$f":"IFERROR(VLOOKUP(Tabla38[[#This Row],[CODIGO municipio]],[3]!Tabla8[#All],19,FALSE),\"\")","v":""},{"$f":"IFERROR(VLOOKUP(Tabla38[[#This Row],[CODIGO municipio]],[3]!Tabla8[#All],20,FALSE),\"\")","v":""},{"$f":"IFERROR(VLOOKUP(Tabla38[[#This Row],[CODIGO municipio]],[3]!Tabla8[#All],21,FALSE),\"\")","v":""},{"$f":"IFERROR(VLOOKUP(Tabla38[[#This Row],[CODIGO municipio]],[3]!Tabla8[#All],22,FALSE),\"\")","v":""},{"$f":"IFERROR(VLOOKUP(Tabla38[[#This Row],[CODIGO municipio]],[3]!Tabla8[#All],23,FALSE),\"\")","v":""},{"$f":"IFERROR(VLOOKUP(Tabla38[[#This Row],[CODIGO municipio]],[3]!Tabla9[#All],3,FALSE),\"\")","v":""}]
[{"$f":"IFERROR(VLOOKUP(Tabla38[[#This Row],[Municipio]],[3]!Tabla2[#All],3,FALSE),\"\")","v":""},306,"Santiago Sacatepéquez",{"$f":"IFERROR(VLOOKUP(Tabla38[[#This Row],[CODIGO municipio]],[3]!Tabla6[[#All],[codigo_mun]],1,FALSE),\"\")","v":""},{"$f":"IFERROR(VLOOKUP(Tabla38[[#This Row],[CODIGO municipio]],[3]!Tabla12[#All],2,FALSE),\"\")","v":""},{"$f":"IFERROR(VLOOKUP(Tabla38[[#This Row],[CODIGO municipio]],[3]!Tabla7[#All],3,FALSE),\"\")","v":""},{"$f":"IFERROR(VLOOKUP(Tabla38[[#This Row],[CODIGO municipio]],[3]!Tabla7[#All],4,FALSE),\"\")","v":""},{"$f":"IFERROR(VLOOKUP(Tabla38[[#This Row],[CODIGO municipio]],[3]!Tabla7[#All],11,FALSE),\"\")","v":""},{"$f":"IFERROR(VLOOKUP(Tabla38[[#This Row],[CODIGO municipio]],[3]!Tabla7[#All],12,FALSE),\"\")","v":""},{"$f":"IFERROR(VLOOKUP(Tabla38[[#This Row],[CODIGO municipio]],[3]!Tabla7[#All],13,FALSE),\"\")","v":""},{"$f":"IFERROR(VLOOKUP(Tabla38[[#This Row],[CODIGO municipio]],[3]!Tabla7[#All],14,FALSE),\"\")","v":""},{"$f":"IFERROR(VLOOKUP(Tabla38[[#This Row],[CODIGO municipio]],[3]!Tabla7[#All],15,FALSE),\"\")","v":""},{"$f":"IFERROR(VLOOKUP(Tabla38[[#This Row],[CODIGO municipio]],[3]!Tabla7[#All],16,FALSE),\"\")","v":""},{"$f":"IFERROR(VLOOKUP(Tabla38[[#This Row],[CODIGO municipio]],[3]!Tabla7[#All],17,FALSE),\"\")","v":""},{"$f":"IFERROR(VLOOKUP(Tabla38[[#This Row],[CODIGO municipio]],[3]!Tabla7[#All],18,FALSE),\"\")","v":""},{"$f":"IFERROR(VLOOKUP(Tabla38[[#This Row],[CODIGO municipio]],[3]!Tabla7[#All],19,FALSE),\"\")","v":""},{"$f":"IFERROR(VLOOKUP(Tabla38[[#This Row],[CODIGO municipio]],[3]!Tabla8[#All],3,FALSE),\"\")","v":""},{"$f":"IFERROR(VLOOKUP(Tabla38[[#This Row],[CODIGO municipio]],[3]!Tabla8[#All],4,FALSE),\"\")","v":""},{"$f":"IFERROR(VLOOKUP(Tabla38[[#This Row],[CODIGO municipio]],[3]!Tabla8[#All],5,FALSE),\"\")","v":""},{"$f":"IFERROR(VLOOKUP(Tabla38[[#This Row],[CODIGO municipio]],[3]!Tabla8[#All],6,FALSE),\"\")","v":""},{"$f":"IFERROR(VLOOKUP(Tabla38[[#This Row],[CODIGO municipio]],[3]!Tabla8[#All],7,FALSE),\"\")","v":""},{"$f":"IFERROR(VLOOKUP(Tabla38[[#This Row],[CODIGO municipio]],[3]!Tabla8[#All],8,FALSE),\"\")","v":""},{"$f":"IFERROR(VLOOKUP(Tabla38[[#This Row],[CODIGO municipio]],[3]!Tabla8[#All],9,FALSE),\"\")","v":""},{"$f":"IFERROR(VLOOKUP(Tabla38[[#This Row],[CODIGO municipio]],[3]!Tabla8[#All],10,FALSE),\"\")","v":""},{"$f":"IFERROR(VLOOKUP(Tabla38[[#This Row],[CODIGO municipio]],[3]!Tabla8[#All],11,FALSE),\"\")","v":""},{"$f":"IFERROR(VLOOKUP(Tabla38[[#This Row],[CODIGO municipio]],[3]!Tabla8[#All],12,FALSE),\"\")","v":""},{"$f":"IFERROR(VLOOKUP(Tabla38[[#This Row],[CODIGO municipio]],[3]!Tabla8[#All],13,FALSE),\"\")","v":""},{"$f":"IFERROR(VLOOKUP(Tabla38[[#This Row],[CODIGO municipio]],[3]!Tabla8[#All],14,FALSE),\"\")","v":""},{"$f":"IFERROR(VLOOKUP(Tabla38[[#This Row],[CODIGO municipio]],[3]!Tabla8[#All],15,FALSE),\"\")","v":""},{"$f":"IFERROR(VLOOKUP(Tabla38[[#This Row],[CODIGO municipio]],[3]!Tabla8[#All],16,FALSE),\"\")","v":""},{"$f":"IFERROR(VLOOKUP(Tabla38[[#This Row],[CODIGO municipio]],[3]!Tabla8[#All],17,FALSE),\"\")","v":""},{"$f":"IFERROR(VLOOKUP(Tabla38[[#This Row],[CODIGO municipio]],[3]!Tabla8[#All],18,FALSE),\"\")","v":""},{"$f":"IFERROR(VLOOKUP(Tabla38[[#This Row],[CODIGO municipio]],[3]!Tabla8[#All],19,FALSE),\"\")","v":""},{"$f":"IFERROR(VLOOKUP(Tabla38[[#This Row],[CODIGO municipio]],[3]!Tabla8[#All],20,FALSE),\"\")","v":""},{"$f":"IFERROR(VLOOKUP(Tabla38[[#This Row],[CODIGO municipio]],[3]!Tabla8[#All],21,FALSE),\"\")","v":""},{"$f":"IFERROR(VLOOKUP(Tabla38[[#This Row],[CODIGO municipio]],[3]!Tabla8[#All],22,FALSE),\"\")","v":""},{"$f":"IFERROR(VLOOKUP(Tabla38[[#This Row],[CODIGO municipio]],[3]!Tabla8[#All],23,FALSE),\"\")","v":""},{"$f":"IFERROR(VLOOKUP(Tabla38[[#This Row],[CODIGO municipio]],[3]!Tabla9[#All],3,FALSE),\"\")","v":""}]
[{"$f":"IFERROR(VLOOKUP(Tabla38[[#This Row],[Municipio]],[3]!Tabla2[#All],3,FALSE),\"\")","v":""},307,"San Bartolomé Milpas Altas",{"$f":"IFERROR(VLOOKUP(Tabla38[[#This Row],[CODIGO municipio]],[3]!Tabla6[[#All],[codigo_mun]],1,FALSE),\"\")","v":""},{"$f":"IFERROR(VLOOKUP(Tabla38[[#This Row],[CODIGO municipio]],[3]!Tabla12[#All],2,FALSE),\"\")","v":""},{"$f":"IFERROR(VLOOKUP(Tabla38[[#This Row],[CODIGO municipio]],[3]!Tabla7[#All],3,FALSE),\"\")","v":""},{"$f":"IFERROR(VLOOKUP(Tabla38[[#This Row],[CODIGO municipio]],[3]!Tabla7[#All],4,FALSE),\"\")","v":""},{"$f":"IFERROR(VLOOKUP(Tabla38[[#This Row],[CODIGO municipio]],[3]!Tabla7[#All],11,FALSE),\"\")","v":""},{"$f":"IFERROR(VLOOKUP(Tabla38[[#This Row],[CODIGO municipio]],[3]!Tabla7[#All],12,FALSE),\"\")","v":""},{"$f":"IFERROR(VLOOKUP(Tabla38[[#This Row],[CODIGO municipio]],[3]!Tabla7[#All],13,FALSE),\"\")","v":""},{"$f":"IFERROR(VLOOKUP(Tabla38[[#This Row],[CODIGO municipio]],[3]!Tabla7[#All],14,FALSE),\"\")","v":""},{"$f":"IFERROR(VLOOKUP(Tabla38[[#This Row],[CODIGO municipio]],[3]!Tabla7[#All],15,FALSE),\"\")","v":""},{"$f":"IFERROR(VLOOKUP(Tabla38[[#This Row],[CODIGO municipio]],[3]!Tabla7[#All],16,FALSE),\"\")","v":""},{"$f":"IFERROR(VLOOKUP(Tabla38[[#This Row],[CODIGO municipio]],[3]!Tabla7[#All],17,FALSE),\"\")","v":""},{"$f":"IFERROR(VLOOKUP(Tabla38[[#This Row],[CODIGO municipio]],[3]!Tabla7[#All],18,FALSE),\"\")","v":""},{"$f":"IFERROR(VLOOKUP(Tabla38[[#This Row],[CODIGO municipio]],[3]!Tabla7[#All],19,FALSE),\"\")","v":""},{"$f":"IFERROR(VLOOKUP(Tabla38[[#This Row],[CODIGO municipio]],[3]!Tabla8[#All],3,FALSE),\"\")","v":""},{"$f":"IFERROR(VLOOKUP(Tabla38[[#This Row],[CODIGO municipio]],[3]!Tabla8[#All],4,FALSE),\"\")","v":""},{"$f":"IFERROR(VLOOKUP(Tabla38[[#This Row],[CODIGO municipio]],[3]!Tabla8[#All],5,FALSE),\"\")","v":""},{"$f":"IFERROR(VLOOKUP(Tabla38[[#This Row],[CODIGO municipio]],[3]!Tabla8[#All],6,FALSE),\"\")","v":""},{"$f":"IFERROR(VLOOKUP(Tabla38[[#This Row],[CODIGO municipio]],[3]!Tabla8[#All],7,FALSE),\"\")","v":""},{"$f":"IFERROR(VLOOKUP(Tabla38[[#This Row],[CODIGO municipio]],[3]!Tabla8[#All],8,FALSE),\"\")","v":""},{"$f":"IFERROR(VLOOKUP(Tabla38[[#This Row],[CODIGO municipio]],[3]!Tabla8[#All],9,FALSE),\"\")","v":""},{"$f":"IFERROR(VLOOKUP(Tabla38[[#This Row],[CODIGO municipio]],[3]!Tabla8[#All],10,FALSE),\"\")","v":""},{"$f":"IFERROR(VLOOKUP(Tabla38[[#This Row],[CODIGO municipio]],[3]!Tabla8[#All],11,FALSE),\"\")","v":""},{"$f":"IFERROR(VLOOKUP(Tabla38[[#This Row],[CODIGO municipio]],[3]!Tabla8[#All],12,FALSE),\"\")","v":""},{"$f":"IFERROR(VLOOKUP(Tabla38[[#This Row],[CODIGO municipio]],[3]!Tabla8[#All],13,FALSE),\"\")","v":""},{"$f":"IFERROR(VLOOKUP(Tabla38[[#This Row],[CODIGO municipio]],[3]!Tabla8[#All],14,FALSE),\"\")","v":""},{"$f":"IFERROR(VLOOKUP(Tabla38[[#This Row],[CODIGO municipio]],[3]!Tabla8[#All],15,FALSE),\"\")","v":""},{"$f":"IFERROR(VLOOKUP(Tabla38[[#This Row],[CODIGO municipio]],[3]!Tabla8[#All],16,FALSE),\"\")","v":""},{"$f":"IFERROR(VLOOKUP(Tabla38[[#This Row],[CODIGO municipio]],[3]!Tabla8[#All],17,FALSE),\"\")","v":""},{"$f":"IFERROR(VLOOKUP(Tabla38[[#This Row],[CODIGO municipio]],[3]!Tabla8[#All],18,FALSE),\"\")","v":""},{"$f":"IFERROR(VLOOKUP(Tabla38[[#This Row],[CODIGO municipio]],[3]!Tabla8[#All],19,FALSE),\"\")","v":""},{"$f":"IFERROR(VLOOKUP(Tabla38[[#This Row],[CODIGO municipio]],[3]!Tabla8[#All],20,FALSE),\"\")","v":""},{"$f":"IFERROR(VLOOKUP(Tabla38[[#This Row],[CODIGO municipio]],[3]!Tabla8[#All],21,FALSE),\"\")","v":""},{"$f":"IFERROR(VLOOKUP(Tabla38[[#This Row],[CODIGO municipio]],[3]!Tabla8[#All],22,FALSE),\"\")","v":""},{"$f":"IFERROR(VLOOKUP(Tabla38[[#This Row],[CODIGO municipio]],[3]!Tabla8[#All],23,FALSE),\"\")","v":""},{"$f":"IFERROR(VLOOKUP(Tabla38[[#This Row],[CODIGO municipio]],[3]!Tabla9[#All],3,FALSE),\"\")","v":""}]
[{"$f":"IFERROR(VLOOKUP(Tabla38[[#This Row],[Municipio]],[3]!Tabla2[#All],3,FALSE),\"\")","v":""},308,"San Lucas Sacatepéquez",{"$f":"IFERROR(VLOOKUP(Tabla38[[#This Row],[CODIGO municipio]],[3]!Tabla6[[#All],[codigo_mun]],1,FALSE),\"\")","v":""},{"$f":"IFERROR(VLOOKUP(Tabla38[[#This Row],[CODIGO municipio]],[3]!Tabla12[#All],2,FALSE),\"\")","v":""},{"$f":"IFERROR(VLOOKUP(Tabla38[[#This Row],[CODIGO municipio]],[3]!Tabla7[#All],3,FALSE),\"\")","v":""},{"$f":"IFERROR(VLOOKUP(Tabla38[[#This Row],[CODIGO municipio]],[3]!Tabla7[#All],4,FALSE),\"\")","v":""},{"$f":"IFERROR(VLOOKUP(Tabla38[[#This Row],[CODIGO municipio]],[3]!Tabla7[#All],11,FALSE),\"\")","v":""},{"$f":"IFERROR(VLOOKUP(Tabla38[[#This Row],[CODIGO municipio]],[3]!Tabla7[#All],12,FALSE),\"\")","v":""},{"$f":"IFERROR(VLOOKUP(Tabla38[[#This Row],[CODIGO municipio]],[3]!Tabla7[#All],13,FALSE),\"\")","v":""},{"$f":"IFERROR(VLOOKUP(Tabla38[[#This Row],[CODIGO municipio]],[3]!Tabla7[#All],14,FALSE),\"\")","v":""},{"$f":"IFERROR(VLOOKUP(Tabla38[[#This Row],[CODIGO municipio]],[3]!Tabla7[#All],15,FALSE),\"\")","v":""},{"$f":"IFERROR(VLOOKUP(Tabla38[[#This Row],[CODIGO municipio]],[3]!Tabla7[#All],16,FALSE),\"\")","v":""},{"$f":"IFERROR(VLOOKUP(Tabla38[[#This Row],[CODIGO municipio]],[3]!Tabla7[#All],17,FALSE),\"\")","v":""},{"$f":"IFERROR(VLOOKUP(Tabla38[[#This Row],[CODIGO municipio]],[3]!Tabla7[#All],18,FALSE),\"\")","v":""},{"$f":"IFERROR(VLOOKUP(Tabla38[[#This Row],[CODIGO municipio]],[3]!Tabla7[#All],19,FALSE),\"\")","v":""},{"$f":"IFERROR(VLOOKUP(Tabla38[[#This Row],[CODIGO municipio]],[3]!Tabla8[#All],3,FALSE),\"\")","v":""},{"$f":"IFERROR(VLOOKUP(Tabla38[[#This Row],[CODIGO municipio]],[3]!Tabla8[#All],4,FALSE),\"\")","v":""},{"$f":"IFERROR(VLOOKUP(Tabla38[[#This Row],[CODIGO municipio]],[3]!Tabla8[#All],5,FALSE),\"\")","v":""},{"$f":"IFERROR(VLOOKUP(Tabla38[[#This Row],[CODIGO municipio]],[3]!Tabla8[#All],6,FALSE),\"\")","v":""},{"$f":"IFERROR(VLOOKUP(Tabla38[[#This Row],[CODIGO municipio]],[3]!Tabla8[#All],7,FALSE),\"\")","v":""},{"$f":"IFERROR(VLOOKUP(Tabla38[[#This Row],[CODIGO municipio]],[3]!Tabla8[#All],8,FALSE),\"\")","v":""},{"$f":"IFERROR(VLOOKUP(Tabla38[[#This Row],[CODIGO municipio]],[3]!Tabla8[#All],9,FALSE),\"\")","v":""},{"$f":"IFERROR(VLOOKUP(Tabla38[[#This Row],[CODIGO municipio]],[3]!Tabla8[#All],10,FALSE),\"\")","v":""},{"$f":"IFERROR(VLOOKUP(Tabla38[[#This Row],[CODIGO municipio]],[3]!Tabla8[#All],11,FALSE),\"\")","v":""},{"$f":"IFERROR(VLOOKUP(Tabla38[[#This Row],[CODIGO municipio]],[3]!Tabla8[#All],12,FALSE),\"\")","v":""},{"$f":"IFERROR(VLOOKUP(Tabla38[[#This Row],[CODIGO municipio]],[3]!Tabla8[#All],13,FALSE),\"\")","v":""},{"$f":"IFERROR(VLOOKUP(Tabla38[[#This Row],[CODIGO municipio]],[3]!Tabla8[#All],14,FALSE),\"\")","v":""},{"$f":"IFERROR(VLOOKUP(Tabla38[[#This Row],[CODIGO municipio]],[3]!Tabla8[#All],15,FALSE),\"\")","v":""},{"$f":"IFERROR(VLOOKUP(Tabla38[[#This Row],[CODIGO municipio]],[3]!Tabla8[#All],16,FALSE),\"\")","v":""},{"$f":"IFERROR(VLOOKUP(Tabla38[[#This Row],[CODIGO municipio]],[3]!Tabla8[#All],17,FALSE),\"\")","v":""},{"$f":"IFERROR(VLOOKUP(Tabla38[[#This Row],[CODIGO municipio]],[3]!Tabla8[#All],18,FALSE),\"\")","v":""},{"$f":"IFERROR(VLOOKUP(Tabla38[[#This Row],[CODIGO municipio]],[3]!Tabla8[#All],19,FALSE),\"\")","v":""},{"$f":"IFERROR(VLOOKUP(Tabla38[[#This Row],[CODIGO municipio]],[3]!Tabla8[#All],20,FALSE),\"\")","v":""},{"$f":"IFERROR(VLOOKUP(Tabla38[[#This Row],[CODIGO municipio]],[3]!Tabla8[#All],21,FALSE),\"\")","v":""},{"$f":"IFERROR(VLOOKUP(Tabla38[[#This Row],[CODIGO municipio]],[3]!Tabla8[#All],22,FALSE),\"\")","v":""},{"$f":"IFERROR(VLOOKUP(Tabla38[[#This Row],[CODIGO municipio]],[3]!Tabla8[#All],23,FALSE),\"\")","v":""},{"$f":"IFERROR(VLOOKUP(Tabla38[[#This Row],[CODIGO municipio]],[3]!Tabla9[#All],3,FALSE),\"\")","v":""}]
[{"$f":"IFERROR(VLOOKUP(Tabla38[[#This Row],[Municipio]],[3]!Tabla2[#All],3,FALSE),\"\")","v":""},309,"Santa Lucía Milpas Altas",{"$f":"IFERROR(VLOOKUP(Tabla38[[#This Row],[CODIGO municipio]],[3]!Tabla6[[#All],[codigo_mun]],1,FALSE),\"\")","v":""},{"$f":"IFERROR(VLOOKUP(Tabla38[[#This Row],[CODIGO municipio]],[3]!Tabla12[#All],2,FALSE),\"\")","v":""},{"$f":"IFERROR(VLOOKUP(Tabla38[[#This Row],[CODIGO municipio]],[3]!Tabla7[#All],3,FALSE),\"\")","v":""},{"$f":"IFERROR(VLOOKUP(Tabla38[[#This Row],[CODIGO municipio]],[3]!Tabla7[#All],4,FALSE),\"\")","v":""},{"$f":"IFERROR(VLOOKUP(Tabla38[[#This Row],[CODIGO municipio]],[3]!Tabla7[#All],11,FALSE),\"\")","v":""},{"$f":"IFERROR(VLOOKUP(Tabla38[[#This Row],[CODIGO municipio]],[3]!Tabla7[#All],12,FALSE),\"\")","v":""},{"$f":"IFERROR(VLOOKUP(Tabla38[[#This Row],[CODIGO municipio]],[3]!Tabla7[#All],13,FALSE),\"\")","v":""},{"$f":"IFERROR(VLOOKUP(Tabla38[[#This Row],[CODIGO municipio]],[3]!Tabla7[#All],14,FALSE),\"\")","v":""},{"$f":"IFERROR(VLOOKUP(Tabla38[[#This Row],[CODIGO municipio]],[3]!Tabla7[#All],15,FALSE),\"\")","v":""},{"$f":"IFERROR(VLOOKUP(Tabla38[[#This Row],[CODIGO municipio]],[3]!Tabla7[#All],16,FALSE),\"\")","v":""},{"$f":"IFERROR(VLOOKUP(Tabla38[[#This Row],[CODIGO municipio]],[3]!Tabla7[#All],17,FALSE),\"\")","v":""},{"$f":"IFERROR(VLOOKUP(Tabla38[[#This Row],[CODIGO municipio]],[3]!Tabla7[#All],18,FALSE),\"\")","v":""},{"$f":"IFERROR(VLOOKUP(Tabla38[[#This Row],[CODIGO municipio]],[3]!Tabla7[#All],19,FALSE),\"\")","v":""},{"$f":"IFERROR(VLOOKUP(Tabla38[[#This Row],[CODIGO municipio]],[3]!Tabla8[#All],3,FALSE),\"\")","v":""},{"$f":"IFERROR(VLOOKUP(Tabla38[[#This Row],[CODIGO municipio]],[3]!Tabla8[#All],4,FALSE),\"\")","v":""},{"$f":"IFERROR(VLOOKUP(Tabla38[[#This Row],[CODIGO municipio]],[3]!Tabla8[#All],5,FALSE),\"\")","v":""},{"$f":"IFERROR(VLOOKUP(Tabla38[[#This Row],[CODIGO municipio]],[3]!Tabla8[#All],6,FALSE),\"\")","v":""},{"$f":"IFERROR(VLOOKUP(Tabla38[[#This Row],[CODIGO municipio]],[3]!Tabla8[#All],7,FALSE),\"\")","v":""},{"$f":"IFERROR(VLOOKUP(Tabla38[[#This Row],[CODIGO municipio]],[3]!Tabla8[#All],8,FALSE),\"\")","v":""},{"$f":"IFERROR(VLOOKUP(Tabla38[[#This Row],[CODIGO municipio]],[3]!Tabla8[#All],9,FALSE),\"\")","v":""},{"$f":"IFERROR(VLOOKUP(Tabla38[[#This Row],[CODIGO municipio]],[3]!Tabla8[#All],10,FALSE),\"\")","v":""},{"$f":"IFERROR(VLOOKUP(Tabla38[[#This Row],[CODIGO municipio]],[3]!Tabla8[#All],11,FALSE),\"\")","v":""},{"$f":"IFERROR(VLOOKUP(Tabla38[[#This Row],[CODIGO municipio]],[3]!Tabla8[#All],12,FALSE),\"\")","v":""},{"$f":"IFERROR(VLOOKUP(Tabla38[[#This Row],[CODIGO municipio]],[3]!Tabla8[#All],13,FALSE),\"\")","v":""},{"$f":"IFERROR(VLOOKUP(Tabla38[[#This Row],[CODIGO municipio]],[3]!Tabla8[#All],14,FALSE),\"\")","v":""},{"$f":"IFERROR(VLOOKUP(Tabla38[[#This Row],[CODIGO municipio]],[3]!Tabla8[#All],15,FALSE),\"\")","v":""},{"$f":"IFERROR(VLOOKUP(Tabla38[[#This Row],[CODIGO municipio]],[3]!Tabla8[#All],16,FALSE),\"\")","v":""},{"$f":"IFERROR(VLOOKUP(Tabla38[[#This Row],[CODIGO municipio]],[3]!Tabla8[#All],17,FALSE),\"\")","v":""},{"$f":"IFERROR(VLOOKUP(Tabla38[[#This Row],[CODIGO municipio]],[3]!Tabla8[#All],18,FALSE),\"\")","v":""},{"$f":"IFERROR(VLOOKUP(Tabla38[[#This Row],[CODIGO municipio]],[3]!Tabla8[#All],19,FALSE),\"\")","v":""},{"$f":"IFERROR(VLOOKUP(Tabla38[[#This Row],[CODIGO municipio]],[3]!Tabla8[#All],20,FALSE),\"\")","v":""},{"$f":"IFERROR(VLOOKUP(Tabla38[[#This Row],[CODIGO municipio]],[3]!Tabla8[#All],21,FALSE),\"\")","v":""},{"$f":"IFERROR(VLOOKUP(Tabla38[[#This Row],[CODIGO municipio]],[3]!Tabla8[#All],22,FALSE),\"\")","v":""},{"$f":"IFERROR(VLOOKUP(Tabla38[[#This Row],[CODIGO municipio]],[3]!Tabla8[#All],23,FALSE),\"\")","v":""},{"$f":"IFERROR(VLOOKUP(Tabla38[[#This Row],[CODIGO municipio]],[3]!Tabla9[#All],3,FALSE),\"\")","v":""}]
[{"$f":"IFERROR(VLOOKUP(Tabla38[[#This Row],[Municipio]],[3]!Tabla2[#All],3,FALSE),\"\")","v":""},310,"Magdalena Milpas Altas",{"$f":"IFERROR(VLOOKUP(Tabla38[[#This Row],[CODIGO municipio]],[3]!Tabla6[[#All],[codigo_mun]],1,FALSE),\"\")","v":""},{"$f":"IFERROR(VLOOKUP(Tabla38[[#This Row],[CODIGO municipio]],[3]!Tabla12[#All],2,FALSE),\"\")","v":""},{"$f":"IFERROR(VLOOKUP(Tabla38[[#This Row],[CODIGO municipio]],[3]!Tabla7[#All],3,FALSE),\"\")","v":""},{"$f":"IFERROR(VLOOKUP(Tabla38[[#This Row],[CODIGO municipio]],[3]!Tabla7[#All],4,FALSE),\"\")","v":""},{"$f":"IFERROR(VLOOKUP(Tabla38[[#This Row],[CODIGO municipio]],[3]!Tabla7[#All],11,FALSE),\"\")","v":""},{"$f":"IFERROR(VLOOKUP(Tabla38[[#This Row],[CODIGO municipio]],[3]!Tabla7[#All],12,FALSE),\"\")","v":""},{"$f":"IFERROR(VLOOKUP(Tabla38[[#This Row],[CODIGO municipio]],[3]!Tabla7[#All],13,FALSE),\"\")","v":""},{"$f":"IFERROR(VLOOKUP(Tabla38[[#This Row],[CODIGO municipio]],[3]!Tabla7[#All],14,FALSE),\"\")","v":""},{"$f":"IFERROR(VLOOKUP(Tabla38[[#This Row],[CODIGO municipio]],[3]!Tabla7[#All],15,FALSE),\"\")","v":""},{"$f":"IFERROR(VLOOKUP(Tabla38[[#This Row],[CODIGO municipio]],[3]!Tabla7[#All],16,FALSE),\"\")","v":""},{"$f":"IFERROR(VLOOKUP(Tabla38[[#This Row],[CODIGO municipio]],[3]!Tabla7[#All],17,FALSE),\"\")","v":""},{"$f":"IFERROR(VLOOKUP(Tabla38[[#This Row],[CODIGO municipio]],[3]!Tabla7[#All],18,FALSE),\"\")","v":""},{"$f":"IFERROR(VLOOKUP(Tabla38[[#This Row],[CODIGO municipio]],[3]!Tabla7[#All],19,FALSE),\"\")","v":""},{"$f":"IFERROR(VLOOKUP(Tabla38[[#This Row],[CODIGO municipio]],[3]!Tabla8[#All],3,FALSE),\"\")","v":""},{"$f":"IFERROR(VLOOKUP(Tabla38[[#This Row],[CODIGO municipio]],[3]!Tabla8[#All],4,FALSE),\"\")","v":""},{"$f":"IFERROR(VLOOKUP(Tabla38[[#This Row],[CODIGO municipio]],[3]!Tabla8[#All],5,FALSE),\"\")","v":""},{"$f":"IFERROR(VLOOKUP(Tabla38[[#This Row],[CODIGO municipio]],[3]!Tabla8[#All],6,FALSE),\"\")","v":""},{"$f":"IFERROR(VLOOKUP(Tabla38[[#This Row],[CODIGO municipio]],[3]!Tabla8[#All],7,FALSE),\"\")","v":""},{"$f":"IFERROR(VLOOKUP(Tabla38[[#This Row],[CODIGO municipio]],[3]!Tabla8[#All],8,FALSE),\"\")","v":""},{"$f":"IFERROR(VLOOKUP(Tabla38[[#This Row],[CODIGO municipio]],[3]!Tabla8[#All],9,FALSE),\"\")","v":""},{"$f":"IFERROR(VLOOKUP(Tabla38[[#This Row],[CODIGO municipio]],[3]!Tabla8[#All],10,FALSE),\"\")","v":""},{"$f":"IFERROR(VLOOKUP(Tabla38[[#This Row],[CODIGO municipio]],[3]!Tabla8[#All],11,FALSE),\"\")","v":""},{"$f":"IFERROR(VLOOKUP(Tabla38[[#This Row],[CODIGO municipio]],[3]!Tabla8[#All],12,FALSE),\"\")","v":""},{"$f":"IFERROR(VLOOKUP(Tabla38[[#This Row],[CODIGO municipio]],[3]!Tabla8[#All],13,FALSE),\"\")","v":""},{"$f":"IFERROR(VLOOKUP(Tabla38[[#This Row],[CODIGO municipio]],[3]!Tabla8[#All],14,FALSE),\"\")","v":""},{"$f":"IFERROR(VLOOKUP(Tabla38[[#This Row],[CODIGO municipio]],[3]!Tabla8[#All],15,FALSE),\"\")","v":""},{"$f":"IFERROR(VLOOKUP(Tabla38[[#This Row],[CODIGO municipio]],[3]!Tabla8[#All],16,FALSE),\"\")","v":""},{"$f":"IFERROR(VLOOKUP(Tabla38[[#This Row],[CODIGO municipio]],[3]!Tabla8[#All],17,FALSE),\"\")","v":""},{"$f":"IFERROR(VLOOKUP(Tabla38[[#This Row],[CODIGO municipio]],[3]!Tabla8[#All],18,FALSE),\"\")","v":""},{"$f":"IFERROR(VLOOKUP(Tabla38[[#This Row],[CODIGO municipio]],[3]!Tabla8[#All],19,FALSE),\"\")","v":""},{"$f":"IFERROR(VLOOKUP(Tabla38[[#This Row],[CODIGO municipio]],[3]!Tabla8[#All],20,FALSE),\"\")","v":""},{"$f":"IFERROR(VLOOKUP(Tabla38[[#This Row],[CODIGO municipio]],[3]!Tabla8[#All],21,FALSE),\"\")","v":""},{"$f":"IFERROR(VLOOKUP(Tabla38[[#This Row],[CODIGO municipio]],[3]!Tabla8[#All],22,FALSE),\"\")","v":""},{"$f":"IFERROR(VLOOKUP(Tabla38[[#This Row],[CODIGO municipio]],[3]!Tabla8[#All],23,FALSE),\"\")","v":""},{"$f":"IFERROR(VLOOKUP(Tabla38[[#This Row],[CODIGO municipio]],[3]!Tabla9[#All],3,FALSE),\"\")","v":""}]
[{"$f":"IFERROR(VLOOKUP(Tabla38[[#This Row],[Municipio]],[3]!Tabla2[#All],3,FALSE),\"\")","v":""},311,"Santa María de Jesús",{"$f":"IFERROR(VLOOKUP(Tabla38[[#This Row],[CODIGO municipio]],[3]!Tabla6[[#All],[codigo_mun]],1,FALSE),\"\")","v":""},{"$f":"IFERROR(VLOOKUP(Tabla38[[#This Row],[CODIGO municipio]],[3]!Tabla12[#All],2,FALSE),\"\")","v":""},{"$f":"IFERROR(VLOOKUP(Tabla38[[#This Row],[CODIGO municipio]],[3]!Tabla7[#All],3,FALSE),\"\")","v":""},{"$f":"IFERROR(VLOOKUP(Tabla38[[#This Row],[CODIGO municipio]],[3]!Tabla7[#All],4,FALSE),\"\")","v":""},{"$f":"IFERROR(VLOOKUP(Tabla38[[#This Row],[CODIGO municipio]],[3]!Tabla7[#All],11,FALSE),\"\")","v":""},{"$f":"IFERROR(VLOOKUP(Tabla38[[#This Row],[CODIGO municipio]],[3]!Tabla7[#All],12,FALSE),\"\")","v":""},{"$f":"IFERROR(VLOOKUP(Tabla38[[#This Row],[CODIGO municipio]],[3]!Tabla7[#All],13,FALSE),\"\")","v":""},{"$f":"IFERROR(VLOOKUP(Tabla38[[#This Row],[CODIGO municipio]],[3]!Tabla7[#All],14,FALSE),\"\")","v":""},{"$f":"IFERROR(VLOOKUP(Tabla38[[#This Row],[CODIGO municipio]],[3]!Tabla7[#All],15,FALSE),\"\")","v":""},{"$f":"IFERROR(VLOOKUP(Tabla38[[#This Row],[CODIGO municipio]],[3]!Tabla7[#All],16,FALSE),\"\")","v":""},{"$f":"IFERROR(VLOOKUP(Tabla38[[#This Row],[CODIGO municipio]],[3]!Tabla7[#All],17,FALSE),\"\")","v":""},{"$f":"IFERROR(VLOOKUP(Tabla38[[#This Row],[CODIGO municipio]],[3]!Tabla7[#All],18,FALSE),\"\")","v":""},{"$f":"IFERROR(VLOOKUP(Tabla38[[#This Row],[CODIGO municipio]],[3]!Tabla7[#All],19,FALSE),\"\")","v":""},{"$f":"IFERROR(VLOOKUP(Tabla38[[#This Row],[CODIGO municipio]],[3]!Tabla8[#All],3,FALSE),\"\")","v":""},{"$f":"IFERROR(VLOOKUP(Tabla38[[#This Row],[CODIGO municipio]],[3]!Tabla8[#All],4,FALSE),\"\")","v":""},{"$f":"IFERROR(VLOOKUP(Tabla38[[#This Row],[CODIGO municipio]],[3]!Tabla8[#All],5,FALSE),\"\")","v":""},{"$f":"IFERROR(VLOOKUP(Tabla38[[#This Row],[CODIGO municipio]],[3]!Tabla8[#All],6,FALSE),\"\")","v":""},{"$f":"IFERROR(VLOOKUP(Tabla38[[#This Row],[CODIGO municipio]],[3]!Tabla8[#All],7,FALSE),\"\")","v":""},{"$f":"IFERROR(VLOOKUP(Tabla38[[#This Row],[CODIGO municipio]],[3]!Tabla8[#All],8,FALSE),\"\")","v":""},{"$f":"IFERROR(VLOOKUP(Tabla38[[#This Row],[CODIGO municipio]],[3]!Tabla8[#All],9,FALSE),\"\")","v":""},{"$f":"IFERROR(VLOOKUP(Tabla38[[#This Row],[CODIGO municipio]],[3]!Tabla8[#All],10,FALSE),\"\")","v":""},{"$f":"IFERROR(VLOOKUP(Tabla38[[#This Row],[CODIGO municipio]],[3]!Tabla8[#All],11,FALSE),\"\")","v":""},{"$f":"IFERROR(VLOOKUP(Tabla38[[#This Row],[CODIGO municipio]],[3]!Tabla8[#All],12,FALSE),\"\")","v":""},{"$f":"IFERROR(VLOOKUP(Tabla38[[#This Row],[CODIGO municipio]],[3]!Tabla8[#All],13,FALSE),\"\")","v":""},{"$f":"IFERROR(VLOOKUP(Tabla38[[#This Row],[CODIGO municipio]],[3]!Tabla8[#All],14,FALSE),\"\")","v":""},{"$f":"IFERROR(VLOOKUP(Tabla38[[#This Row],[CODIGO municipio]],[3]!Tabla8[#All],15,FALSE),\"\")","v":""},{"$f":"IFERROR(VLOOKUP(Tabla38[[#This Row],[CODIGO municipio]],[3]!Tabla8[#All],16,FALSE),\"\")","v":""},{"$f":"IFERROR(VLOOKUP(Tabla38[[#This Row],[CODIGO municipio]],[3]!Tabla8[#All],17,FALSE),\"\")","v":""},{"$f":"IFERROR(VLOOKUP(Tabla38[[#This Row],[CODIGO municipio]],[3]!Tabla8[#All],18,FALSE),\"\")","v":""},{"$f":"IFERROR(VLOOKUP(Tabla38[[#This Row],[CODIGO municipio]],[3]!Tabla8[#All],19,FALSE),\"\")","v":""},{"$f":"IFERROR(VLOOKUP(Tabla38[[#This Row],[CODIGO municipio]],[3]!Tabla8[#All],20,FALSE),\"\")","v":""},{"$f":"IFERROR(VLOOKUP(Tabla38[[#This Row],[CODIGO municipio]],[3]!Tabla8[#All],21,FALSE),\"\")","v":""},{"$f":"IFERROR(VLOOKUP(Tabla38[[#This Row],[CODIGO municipio]],[3]!Tabla8[#All],22,FALSE),\"\")","v":""},{"$f":"IFERROR(VLOOKUP(Tabla38[[#This Row],[CODIGO municipio]],[3]!Tabla8[#All],23,FALSE),\"\")","v":""},{"$f":"IFERROR(VLOOKUP(Tabla38[[#This Row],[CODIGO municipio]],[3]!Tabla9[#All],3,FALSE),\"\")","v":""}]
[{"$f":"IFERROR(VLOOKUP(Tabla38[[#This Row],[Municipio]],[3]!Tabla2[#All],3,FALSE),\"\")","v":""},312,"Ciudad Vieja",{"$f":"IFERROR(VLOOKUP(Tabla38[[#This Row],[CODIGO municipio]],[3]!Tabla6[[#All],[codigo_mun]],1,FALSE),\"\")","v":""},{"$f":"IFERROR(VLOOKUP(Tabla38[[#This Row],[CODIGO municipio]],[3]!Tabla12[#All],2,FALSE),\"\")","v":""},{"$f":"IFERROR(VLOOKUP(Tabla38[[#This Row],[CODIGO municipio]],[3]!Tabla7[#All],3,FALSE),\"\")","v":""},{"$f":"IFERROR(VLOOKUP(Tabla38[[#This Row],[CODIGO municipio]],[3]!Tabla7[#All],4,FALSE),\"\")","v":""},{"$f":"IFERROR(VLOOKUP(Tabla38[[#This Row],[CODIGO municipio]],[3]!Tabla7[#All],11,FALSE),\"\")","v":""},{"$f":"IFERROR(VLOOKUP(Tabla38[[#This Row],[CODIGO municipio]],[3]!Tabla7[#All],12,FALSE),\"\")","v":""},{"$f":"IFERROR(VLOOKUP(Tabla38[[#This Row],[CODIGO municipio]],[3]!Tabla7[#All],13,FALSE),\"\")","v":""},{"$f":"IFERROR(VLOOKUP(Tabla38[[#This Row],[CODIGO municipio]],[3]!Tabla7[#All],14,FALSE),\"\")","v":""},{"$f":"IFERROR(VLOOKUP(Tabla38[[#This Row],[CODIGO municipio]],[3]!Tabla7[#All],15,FALSE),\"\")","v":""},{"$f":"IFERROR(VLOOKUP(Tabla38[[#This Row],[CODIGO municipio]],[3]!Tabla7[#All],16,FALSE),\"\")","v":""},{"$f":"IFERROR(VLOOKUP(Tabla38[[#This Row],[CODIGO municipio]],[3]!Tabla7[#All],17,FALSE),\"\")","v":""},{"$f":"IFERROR(VLOOKUP(Tabla38[[#This Row],[CODIGO municipio]],[3]!Tabla7[#All],18,FALSE),\"\")","v":""},{"$f":"IFERROR(VLOOKUP(Tabla38[[#This Row],[CODIGO municipio]],[3]!Tabla7[#All],19,FALSE),\"\")","v":""},{"$f":"IFERROR(VLOOKUP(Tabla38[[#This Row],[CODIGO municipio]],[3]!Tabla8[#All],3,FALSE),\"\")","v":""},{"$f":"IFERROR(VLOOKUP(Tabla38[[#This Row],[CODIGO municipio]],[3]!Tabla8[#All],4,FALSE),\"\")","v":""},{"$f":"IFERROR(VLOOKUP(Tabla38[[#This Row],[CODIGO municipio]],[3]!Tabla8[#All],5,FALSE),\"\")","v":""},{"$f":"IFERROR(VLOOKUP(Tabla38[[#This Row],[CODIGO municipio]],[3]!Tabla8[#All],6,FALSE),\"\")","v":""},{"$f":"IFERROR(VLOOKUP(Tabla38[[#This Row],[CODIGO municipio]],[3]!Tabla8[#All],7,FALSE),\"\")","v":""},{"$f":"IFERROR(VLOOKUP(Tabla38[[#This Row],[CODIGO municipio]],[3]!Tabla8[#All],8,FALSE),\"\")","v":""},{"$f":"IFERROR(VLOOKUP(Tabla38[[#This Row],[CODIGO municipio]],[3]!Tabla8[#All],9,FALSE),\"\")","v":""},{"$f":"IFERROR(VLOOKUP(Tabla38[[#This Row],[CODIGO municipio]],[3]!Tabla8[#All],10,FALSE),\"\")","v":""},{"$f":"IFERROR(VLOOKUP(Tabla38[[#This Row],[CODIGO municipio]],[3]!Tabla8[#All],11,FALSE),\"\")","v":""},{"$f":"IFERROR(VLOOKUP(Tabla38[[#This Row],[CODIGO municipio]],[3]!Tabla8[#All],12,FALSE),\"\")","v":""},{"$f":"IFERROR(VLOOKUP(Tabla38[[#This Row],[CODIGO municipio]],[3]!Tabla8[#All],13,FALSE),\"\")","v":""},{"$f":"IFERROR(VLOOKUP(Tabla38[[#This Row],[CODIGO municipio]],[3]!Tabla8[#All],14,FALSE),\"\")","v":""},{"$f":"IFERROR(VLOOKUP(Tabla38[[#This Row],[CODIGO municipio]],[3]!Tabla8[#All],15,FALSE),\"\")","v":""},{"$f":"IFERROR(VLOOKUP(Tabla38[[#This Row],[CODIGO municipio]],[3]!Tabla8[#All],16,FALSE),\"\")","v":""},{"$f":"IFERROR(VLOOKUP(Tabla38[[#This Row],[CODIGO municipio]],[3]!Tabla8[#All],17,FALSE),\"\")","v":""},{"$f":"IFERROR(VLOOKUP(Tabla38[[#This Row],[CODIGO municipio]],[3]!Tabla8[#All],18,FALSE),\"\")","v":""},{"$f":"IFERROR(VLOOKUP(Tabla38[[#This Row],[CODIGO municipio]],[3]!Tabla8[#All],19,FALSE),\"\")","v":""},{"$f":"IFERROR(VLOOKUP(Tabla38[[#This Row],[CODIGO municipio]],[3]!Tabla8[#All],20,FALSE),\"\")","v":""},{"$f":"IFERROR(VLOOKUP(Tabla38[[#This Row],[CODIGO municipio]],[3]!Tabla8[#All],21,FALSE),\"\")","v":""},{"$f":"IFERROR(VLOOKUP(Tabla38[[#This Row],[CODIGO municipio]],[3]!Tabla8[#All],22,FALSE),\"\")","v":""},{"$f":"IFERROR(VLOOKUP(Tabla38[[#This Row],[CODIGO municipio]],[3]!Tabla8[#All],23,FALSE),\"\")","v":""},{"$f":"IFERROR(VLOOKUP(Tabla38[[#This Row],[CODIGO municipio]],[3]!Tabla9[#All],3,FALSE),\"\")","v":""}]
[{"$f":"IFERROR(VLOOKUP(Tabla38[[#This Row],[Municipio]],[3]!Tabla2[#All],3,FALSE),\"\")","v":""},313,"San Miguel Dueñas",{"$f":"IFERROR(VLOOKUP(Tabla38[[#This Row],[CODIGO municipio]],[3]!Tabla6[[#All],[codigo_mun]],1,FALSE),\"\")","v":""},{"$f":"IFERROR(VLOOKUP(Tabla38[[#This Row],[CODIGO municipio]],[3]!Tabla12[#All],2,FALSE),\"\")","v":""},{"$f":"IFERROR(VLOOKUP(Tabla38[[#This Row],[CODIGO municipio]],[3]!Tabla7[#All],3,FALSE),\"\")","v":""},{"$f":"IFERROR(VLOOKUP(Tabla38[[#This Row],[CODIGO municipio]],[3]!Tabla7[#All],4,FALSE),\"\")","v":""},{"$f":"IFERROR(VLOOKUP(Tabla38[[#This Row],[CODIGO municipio]],[3]!Tabla7[#All],11,FALSE),\"\")","v":""},{"$f":"IFERROR(VLOOKUP(Tabla38[[#This Row],[CODIGO municipio]],[3]!Tabla7[#All],12,FALSE),\"\")","v":""},{"$f":"IFERROR(VLOOKUP(Tabla38[[#This Row],[CODIGO municipio]],[3]!Tabla7[#All],13,FALSE),\"\")","v":""},{"$f":"IFERROR(VLOOKUP(Tabla38[[#This Row],[CODIGO municipio]],[3]!Tabla7[#All],14,FALSE),\"\")","v":""},{"$f":"IFERROR(VLOOKUP(Tabla38[[#This Row],[CODIGO municipio]],[3]!Tabla7[#All],15,FALSE),\"\")","v":""},{"$f":"IFERROR(VLOOKUP(Tabla38[[#This Row],[CODIGO municipio]],[3]!Tabla7[#All],16,FALSE),\"\")","v":""},{"$f":"IFERROR(VLOOKUP(Tabla38[[#This Row],[CODIGO municipio]],[3]!Tabla7[#All],17,FALSE),\"\")","v":""},{"$f":"IFERROR(VLOOKUP(Tabla38[[#This Row],[CODIGO municipio]],[3]!Tabla7[#All],18,FALSE),\"\")","v":""},{"$f":"IFERROR(VLOOKUP(Tabla38[[#This Row],[CODIGO municipio]],[3]!Tabla7[#All],19,FALSE),\"\")","v":""},{"$f":"IFERROR(VLOOKUP(Tabla38[[#This Row],[CODIGO municipio]],[3]!Tabla8[#All],3,FALSE),\"\")","v":""},{"$f":"IFERROR(VLOOKUP(Tabla38[[#This Row],[CODIGO municipio]],[3]!Tabla8[#All],4,FALSE),\"\")","v":""},{"$f":"IFERROR(VLOOKUP(Tabla38[[#This Row],[CODIGO municipio]],[3]!Tabla8[#All],5,FALSE),\"\")","v":""},{"$f":"IFERROR(VLOOKUP(Tabla38[[#This Row],[CODIGO municipio]],[3]!Tabla8[#All],6,FALSE),\"\")","v":""},{"$f":"IFERROR(VLOOKUP(Tabla38[[#This Row],[CODIGO municipio]],[3]!Tabla8[#All],7,FALSE),\"\")","v":""},{"$f":"IFERROR(VLOOKUP(Tabla38[[#This Row],[CODIGO municipio]],[3]!Tabla8[#All],8,FALSE),\"\")","v":""},{"$f":"IFERROR(VLOOKUP(Tabla38[[#This Row],[CODIGO municipio]],[3]!Tabla8[#All],9,FALSE),\"\")","v":""},{"$f":"IFERROR(VLOOKUP(Tabla38[[#This Row],[CODIGO municipio]],[3]!Tabla8[#All],10,FALSE),\"\")","v":""},{"$f":"IFERROR(VLOOKUP(Tabla38[[#This Row],[CODIGO municipio]],[3]!Tabla8[#All],11,FALSE),\"\")","v":""},{"$f":"IFERROR(VLOOKUP(Tabla38[[#This Row],[CODIGO municipio]],[3]!Tabla8[#All],12,FALSE),\"\")","v":""},{"$f":"IFERROR(VLOOKUP(Tabla38[[#This Row],[CODIGO municipio]],[3]!Tabla8[#All],13,FALSE),\"\")","v":""},{"$f":"IFERROR(VLOOKUP(Tabla38[[#This Row],[CODIGO municipio]],[3]!Tabla8[#All],14,FALSE),\"\")","v":""},{"$f":"IFERROR(VLOOKUP(Tabla38[[#This Row],[CODIGO municipio]],[3]!Tabla8[#All],15,FALSE),\"\")","v":""},{"$f":"IFERROR(VLOOKUP(Tabla38[[#This Row],[CODIGO municipio]],[3]!Tabla8[#All],16,FALSE),\"\")","v":""},{"$f":"IFERROR(VLOOKUP(Tabla38[[#This Row],[CODIGO municipio]],[3]!Tabla8[#All],17,FALSE),\"\")","v":""},{"$f":"IFERROR(VLOOKUP(Tabla38[[#This Row],[CODIGO municipio]],[3]!Tabla8[#All],18,FALSE),\"\")","v":""},{"$f":"IFERROR(VLOOKUP(Tabla38[[#This Row],[CODIGO municipio]],[3]!Tabla8[#All],19,FALSE),\"\")","v":""},{"$f":"IFERROR(VLOOKUP(Tabla38[[#This Row],[CODIGO municipio]],[3]!Tabla8[#All],20,FALSE),\"\")","v":""},{"$f":"IFERROR(VLOOKUP(Tabla38[[#This Row],[CODIGO municipio]],[3]!Tabla8[#All],21,FALSE),\"\")","v":""},{"$f":"IFERROR(VLOOKUP(Tabla38[[#This Row],[CODIGO municipio]],[3]!Tabla8[#All],22,FALSE),\"\")","v":""},{"$f":"IFERROR(VLOOKUP(Tabla38[[#This Row],[CODIGO municipio]],[3]!Tabla8[#All],23,FALSE),\"\")","v":""},{"$f":"IFERROR(VLOOKUP(Tabla38[[#This Row],[CODIGO municipio]],[3]!Tabla9[#All],3,FALSE),\"\")","v":""}]
[{"$f":"IFERROR(VLOOKUP(Tabla38[[#This Row],[Municipio]],[3]!Tabla2[#All],3,FALSE),\"\")","v":""},314,"San Juan Alotenango",{"$f":"IFERROR(VLOOKUP(Tabla38[[#This Row],[CODIGO municipio]],[3]!Tabla6[[#All],[codigo_mun]],1,FALSE),\"\")","v":""},{"$f":"IFERROR(VLOOKUP(Tabla38[[#This Row],[CODIGO municipio]],[3]!Tabla12[#All],2,FALSE),\"\")","v":""},{"$f":"IFERROR(VLOOKUP(Tabla38[[#This Row],[CODIGO municipio]],[3]!Tabla7[#All],3,FALSE),\"\")","v":""},{"$f":"IFERROR(VLOOKUP(Tabla38[[#This Row],[CODIGO municipio]],[3]!Tabla7[#All],4,FALSE),\"\")","v":""},{"$f":"IFERROR(VLOOKUP(Tabla38[[#This Row],[CODIGO municipio]],[3]!Tabla7[#All],11,FALSE),\"\")","v":""},{"$f":"IFERROR(VLOOKUP(Tabla38[[#This Row],[CODIGO municipio]],[3]!Tabla7[#All],12,FALSE),\"\")","v":""},{"$f":"IFERROR(VLOOKUP(Tabla38[[#This Row],[CODIGO municipio]],[3]!Tabla7[#All],13,FALSE),\"\")","v":""},{"$f":"IFERROR(VLOOKUP(Tabla38[[#This Row],[CODIGO municipio]],[3]!Tabla7[#All],14,FALSE),\"\")","v":""},{"$f":"IFERROR(VLOOKUP(Tabla38[[#This Row],[CODIGO municipio]],[3]!Tabla7[#All],15,FALSE),\"\")","v":""},{"$f":"IFERROR(VLOOKUP(Tabla38[[#This Row],[CODIGO municipio]],[3]!Tabla7[#All],16,FALSE),\"\")","v":""},{"$f":"IFERROR(VLOOKUP(Tabla38[[#This Row],[CODIGO municipio]],[3]!Tabla7[#All],17,FALSE),\"\")","v":""},{"$f":"IFERROR(VLOOKUP(Tabla38[[#This Row],[CODIGO municipio]],[3]!Tabla7[#All],18,FALSE),\"\")","v":""},{"$f":"IFERROR(VLOOKUP(Tabla38[[#This Row],[CODIGO municipio]],[3]!Tabla7[#All],19,FALSE),\"\")","v":""},{"$f":"IFERROR(VLOOKUP(Tabla38[[#This Row],[CODIGO municipio]],[3]!Tabla8[#All],3,FALSE),\"\")","v":""},{"$f":"IFERROR(VLOOKUP(Tabla38[[#This Row],[CODIGO municipio]],[3]!Tabla8[#All],4,FALSE),\"\")","v":""},{"$f":"IFERROR(VLOOKUP(Tabla38[[#This Row],[CODIGO municipio]],[3]!Tabla8[#All],5,FALSE),\"\")","v":""},{"$f":"IFERROR(VLOOKUP(Tabla38[[#This Row],[CODIGO municipio]],[3]!Tabla8[#All],6,FALSE),\"\")","v":""},{"$f":"IFERROR(VLOOKUP(Tabla38[[#This Row],[CODIGO municipio]],[3]!Tabla8[#All],7,FALSE),\"\")","v":""},{"$f":"IFERROR(VLOOKUP(Tabla38[[#This Row],[CODIGO municipio]],[3]!Tabla8[#All],8,FALSE),\"\")","v":""},{"$f":"IFERROR(VLOOKUP(Tabla38[[#This Row],[CODIGO municipio]],[3]!Tabla8[#All],9,FALSE),\"\")","v":""},{"$f":"IFERROR(VLOOKUP(Tabla38[[#This Row],[CODIGO municipio]],[3]!Tabla8[#All],10,FALSE),\"\")","v":""},{"$f":"IFERROR(VLOOKUP(Tabla38[[#This Row],[CODIGO municipio]],[3]!Tabla8[#All],11,FALSE),\"\")","v":""},{"$f":"IFERROR(VLOOKUP(Tabla38[[#This Row],[CODIGO municipio]],[3]!Tabla8[#All],12,FALSE),\"\")","v":""},{"$f":"IFERROR(VLOOKUP(Tabla38[[#This Row],[CODIGO municipio]],[3]!Tabla8[#All],13,FALSE),\"\")","v":""},{"$f":"IFERROR(VLOOKUP(Tabla38[[#This Row],[CODIGO municipio]],[3]!Tabla8[#All],14,FALSE),\"\")","v":""},{"$f":"IFERROR(VLOOKUP(Tabla38[[#This Row],[CODIGO municipio]],[3]!Tabla8[#All],15,FALSE),\"\")","v":""},{"$f":"IFERROR(VLOOKUP(Tabla38[[#This Row],[CODIGO municipio]],[3]!Tabla8[#All],16,FALSE),\"\")","v":""},{"$f":"IFERROR(VLOOKUP(Tabla38[[#This Row],[CODIGO municipio]],[3]!Tabla8[#All],17,FALSE),\"\")","v":""},{"$f":"IFERROR(VLOOKUP(Tabla38[[#This Row],[CODIGO municipio]],[3]!Tabla8[#All],18,FALSE),\"\")","v":""},{"$f":"IFERROR(VLOOKUP(Tabla38[[#This Row],[CODIGO municipio]],[3]!Tabla8[#All],19,FALSE),\"\")","v":""},{"$f":"IFERROR(VLOOKUP(Tabla38[[#This Row],[CODIGO municipio]],[3]!Tabla8[#All],20,FALSE),\"\")","v":""},{"$f":"IFERROR(VLOOKUP(Tabla38[[#This Row],[CODIGO municipio]],[3]!Tabla8[#All],21,FALSE),\"\")","v":""},{"$f":"IFERROR(VLOOKUP(Tabla38[[#This Row],[CODIGO municipio]],[3]!Tabla8[#All],22,FALSE),\"\")","v":""},{"$f":"IFERROR(VLOOKUP(Tabla38[[#This Row],[CODIGO municipio]],[3]!Tabla8[#All],23,FALSE),\"\")","v":""},{"$f":"IFERROR(VLOOKUP(Tabla38[[#This Row],[CODIGO municipio]],[3]!Tabla9[#All],3,FALSE),\"\")","v":""}]
[{"$f":"IFERROR(VLOOKUP(Tabla38[[#This Row],[Municipio]],[3]!Tabla2[#All],3,FALSE),\"\")","v":""},315,"San Antonio Aguas Calientes",{"$f":"IFERROR(VLOOKUP(Tabla38[[#This Row],[CODIGO municipio]],[3]!Tabla6[[#All],[codigo_mun]],1,FALSE),\"\")","v":""},{"$f":"IFERROR(VLOOKUP(Tabla38[[#This Row],[CODIGO municipio]],[3]!Tabla12[#All],2,FALSE),\"\")","v":""},{"$f":"IFERROR(VLOOKUP(Tabla38[[#This Row],[CODIGO municipio]],[3]!Tabla7[#All],3,FALSE),\"\")","v":""},{"$f":"IFERROR(VLOOKUP(Tabla38[[#This Row],[CODIGO municipio]],[3]!Tabla7[#All],4,FALSE),\"\")","v":""},{"$f":"IFERROR(VLOOKUP(Tabla38[[#This Row],[CODIGO municipio]],[3]!Tabla7[#All],11,FALSE),\"\")","v":""},{"$f":"IFERROR(VLOOKUP(Tabla38[[#This Row],[CODIGO municipio]],[3]!Tabla7[#All],12,FALSE),\"\")","v":""},{"$f":"IFERROR(VLOOKUP(Tabla38[[#This Row],[CODIGO municipio]],[3]!Tabla7[#All],13,FALSE),\"\")","v":""},{"$f":"IFERROR(VLOOKUP(Tabla38[[#This Row],[CODIGO municipio]],[3]!Tabla7[#All],14,FALSE),\"\")","v":""},{"$f":"IFERROR(VLOOKUP(Tabla38[[#This Row],[CODIGO municipio]],[3]!Tabla7[#All],15,FALSE),\"\")","v":""},{"$f":"IFERROR(VLOOKUP(Tabla38[[#This Row],[CODIGO municipio]],[3]!Tabla7[#All],16,FALSE),\"\")","v":""},{"$f":"IFERROR(VLOOKUP(Tabla38[[#This Row],[CODIGO municipio]],[3]!Tabla7[#All],17,FALSE),\"\")","v":""},{"$f":"IFERROR(VLOOKUP(Tabla38[[#This Row],[CODIGO municipio]],[3]!Tabla7[#All],18,FALSE),\"\")","v":""},{"$f":"IFERROR(VLOOKUP(Tabla38[[#This Row],[CODIGO municipio]],[3]!Tabla7[#All],19,FALSE),\"\")","v":""},{"$f":"IFERROR(VLOOKUP(Tabla38[[#This Row],[CODIGO municipio]],[3]!Tabla8[#All],3,FALSE),\"\")","v":""},{"$f":"IFERROR(VLOOKUP(Tabla38[[#This Row],[CODIGO municipio]],[3]!Tabla8[#All],4,FALSE),\"\")","v":""},{"$f":"IFERROR(VLOOKUP(Tabla38[[#This Row],[CODIGO municipio]],[3]!Tabla8[#All],5,FALSE),\"\")","v":""},{"$f":"IFERROR(VLOOKUP(Tabla38[[#This Row],[CODIGO municipio]],[3]!Tabla8[#All],6,FALSE),\"\")","v":""},{"$f":"IFERROR(VLOOKUP(Tabla38[[#This Row],[CODIGO municipio]],[3]!Tabla8[#All],7,FALSE),\"\")","v":""},{"$f":"IFERROR(VLOOKUP(Tabla38[[#This Row],[CODIGO municipio]],[3]!Tabla8[#All],8,FALSE),\"\")","v":""},{"$f":"IFERROR(VLOOKUP(Tabla38[[#This Row],[CODIGO municipio]],[3]!Tabla8[#All],9,FALSE),\"\")","v":""},{"$f":"IFERROR(VLOOKUP(Tabla38[[#This Row],[CODIGO municipio]],[3]!Tabla8[#All],10,FALSE),\"\")","v":""},{"$f":"IFERROR(VLOOKUP(Tabla38[[#This Row],[CODIGO municipio]],[3]!Tabla8[#All],11,FALSE),\"\")","v":""},{"$f":"IFERROR(VLOOKUP(Tabla38[[#This Row],[CODIGO municipio]],[3]!Tabla8[#All],12,FALSE),\"\")","v":""},{"$f":"IFERROR(VLOOKUP(Tabla38[[#This Row],[CODIGO municipio]],[3]!Tabla8[#All],13,FALSE),\"\")","v":""},{"$f":"IFERROR(VLOOKUP(Tabla38[[#This Row],[CODIGO municipio]],[3]!Tabla8[#All],14,FALSE),\"\")","v":""},{"$f":"IFERROR(VLOOKUP(Tabla38[[#This Row],[CODIGO municipio]],[3]!Tabla8[#All],15,FALSE),\"\")","v":""},{"$f":"IFERROR(VLOOKUP(Tabla38[[#This Row],[CODIGO municipio]],[3]!Tabla8[#All],16,FALSE),\"\")","v":""},{"$f":"IFERROR(VLOOKUP(Tabla38[[#This Row],[CODIGO municipio]],[3]!Tabla8[#All],17,FALSE),\"\")","v":""},{"$f":"IFERROR(VLOOKUP(Tabla38[[#This Row],[CODIGO municipio]],[3]!Tabla8[#All],18,FALSE),\"\")","v":""},{"$f":"IFERROR(VLOOKUP(Tabla38[[#This Row],[CODIGO municipio]],[3]!Tabla8[#All],19,FALSE),\"\")","v":""},{"$f":"IFERROR(VLOOKUP(Tabla38[[#This Row],[CODIGO municipio]],[3]!Tabla8[#All],20,FALSE),\"\")","v":""},{"$f":"IFERROR(VLOOKUP(Tabla38[[#This Row],[CODIGO municipio]],[3]!Tabla8[#All],21,FALSE),\"\")","v":""},{"$f":"IFERROR(VLOOKUP(Tabla38[[#This Row],[CODIGO municipio]],[3]!Tabla8[#All],22,FALSE),\"\")","v":""},{"$f":"IFERROR(VLOOKUP(Tabla38[[#This Row],[CODIGO municipio]],[3]!Tabla8[#All],23,FALSE),\"\")","v":""},{"$f":"IFERROR(VLOOKUP(Tabla38[[#This Row],[CODIGO municipio]],[3]!Tabla9[#All],3,FALSE),\"\")","v":""}]
[{"$f":"IFERROR(VLOOKUP(Tabla38[[#This Row],[Municipio]],[3]!Tabla2[#All],3,FALSE),\"\")","v":""},316,"Santa Catarina Barahona",{"$f":"IFERROR(VLOOKUP(Tabla38[[#This Row],[CODIGO municipio]],[3]!Tabla6[[#All],[codigo_mun]],1,FALSE),\"\")","v":""},{"$f":"IFERROR(VLOOKUP(Tabla38[[#This Row],[CODIGO municipio]],[3]!Tabla12[#All],2,FALSE),\"\")","v":""},{"$f":"IFERROR(VLOOKUP(Tabla38[[#This Row],[CODIGO municipio]],[3]!Tabla7[#All],3,FALSE),\"\")","v":""},{"$f":"IFERROR(VLOOKUP(Tabla38[[#This Row],[CODIGO municipio]],[3]!Tabla7[#All],4,FALSE),\"\")","v":""},{"$f":"IFERROR(VLOOKUP(Tabla38[[#This Row],[CODIGO municipio]],[3]!Tabla7[#All],11,FALSE),\"\")","v":""},{"$f":"IFERROR(VLOOKUP(Tabla38[[#This Row],[CODIGO municipio]],[3]!Tabla7[#All],12,FALSE),\"\")","v":""},{"$f":"IFERROR(VLOOKUP(Tabla38[[#This Row],[CODIGO municipio]],[3]!Tabla7[#All],13,FALSE),\"\")","v":""},{"$f":"IFERROR(VLOOKUP(Tabla38[[#This Row],[CODIGO municipio]],[3]!Tabla7[#All],14,FALSE),\"\")","v":""},{"$f":"IFERROR(VLOOKUP(Tabla38[[#This Row],[CODIGO municipio]],[3]!Tabla7[#All],15,FALSE),\"\")","v":""},{"$f":"IFERROR(VLOOKUP(Tabla38[[#This Row],[CODIGO municipio]],[3]!Tabla7[#All],16,FALSE),\"\")","v":""},{"$f":"IFERROR(VLOOKUP(Tabla38[[#This Row],[CODIGO municipio]],[3]!Tabla7[#All],17,FALSE),\"\")","v":""},{"$f":"IFERROR(VLOOKUP(Tabla38[[#This Row],[CODIGO municipio]],[3]!Tabla7[#All],18,FALSE),\"\")","v":""},{"$f":"IFERROR(VLOOKUP(Tabla38[[#This Row],[CODIGO municipio]],[3]!Tabla7[#All],19,FALSE),\"\")","v":""},{"$f":"IFERROR(VLOOKUP(Tabla38[[#This Row],[CODIGO municipio]],[3]!Tabla8[#All],3,FALSE),\"\")","v":""},{"$f":"IFERROR(VLOOKUP(Tabla38[[#This Row],[CODIGO municipio]],[3]!Tabla8[#All],4,FALSE),\"\")","v":""},{"$f":"IFERROR(VLOOKUP(Tabla38[[#This Row],[CODIGO municipio]],[3]!Tabla8[#All],5,FALSE),\"\")","v":""},{"$f":"IFERROR(VLOOKUP(Tabla38[[#This Row],[CODIGO municipio]],[3]!Tabla8[#All],6,FALSE),\"\")","v":""},{"$f":"IFERROR(VLOOKUP(Tabla38[[#This Row],[CODIGO municipio]],[3]!Tabla8[#All],7,FALSE),\"\")","v":""},{"$f":"IFERROR(VLOOKUP(Tabla38[[#This Row],[CODIGO municipio]],[3]!Tabla8[#All],8,FALSE),\"\")","v":""},{"$f":"IFERROR(VLOOKUP(Tabla38[[#This Row],[CODIGO municipio]],[3]!Tabla8[#All],9,FALSE),\"\")","v":""},{"$f":"IFERROR(VLOOKUP(Tabla38[[#This Row],[CODIGO municipio]],[3]!Tabla8[#All],10,FALSE),\"\")","v":""},{"$f":"IFERROR(VLOOKUP(Tabla38[[#This Row],[CODIGO municipio]],[3]!Tabla8[#All],11,FALSE),\"\")","v":""},{"$f":"IFERROR(VLOOKUP(Tabla38[[#This Row],[CODIGO municipio]],[3]!Tabla8[#All],12,FALSE),\"\")","v":""},{"$f":"IFERROR(VLOOKUP(Tabla38[[#This Row],[CODIGO municipio]],[3]!Tabla8[#All],13,FALSE),\"\")","v":""},{"$f":"IFERROR(VLOOKUP(Tabla38[[#This Row],[CODIGO municipio]],[3]!Tabla8[#All],14,FALSE),\"\")","v":""},{"$f":"IFERROR(VLOOKUP(Tabla38[[#This Row],[CODIGO municipio]],[3]!Tabla8[#All],15,FALSE),\"\")","v":""},{"$f":"IFERROR(VLOOKUP(Tabla38[[#This Row],[CODIGO municipio]],[3]!Tabla8[#All],16,FALSE),\"\")","v":""},{"$f":"IFERROR(VLOOKUP(Tabla38[[#This Row],[CODIGO municipio]],[3]!Tabla8[#All],17,FALSE),\"\")","v":""},{"$f":"IFERROR(VLOOKUP(Tabla38[[#This Row],[CODIGO municipio]],[3]!Tabla8[#All],18,FALSE),\"\")","v":""},{"$f":"IFERROR(VLOOKUP(Tabla38[[#This Row],[CODIGO municipio]],[3]!Tabla8[#All],19,FALSE),\"\")","v":""},{"$f":"IFERROR(VLOOKUP(Tabla38[[#This Row],[CODIGO municipio]],[3]!Tabla8[#All],20,FALSE),\"\")","v":""},{"$f":"IFERROR(VLOOKUP(Tabla38[[#This Row],[CODIGO municipio]],[3]!Tabla8[#All],21,FALSE),\"\")","v":""},{"$f":"IFERROR(VLOOKUP(Tabla38[[#This Row],[CODIGO municipio]],[3]!Tabla8[#All],22,FALSE),\"\")","v":""},{"$f":"IFERROR(VLOOKUP(Tabla38[[#This Row],[CODIGO municipio]],[3]!Tabla8[#All],23,FALSE),\"\")","v":""},{"$f":"IFERROR(VLOOKUP(Tabla38[[#This Row],[CODIGO municipio]],[3]!Tabla9[#All],3,FALSE),\"\")","v":""}]
[{"$f":"IFERROR(VLOOKUP(Tabla38[[#This Row],[Municipio]],[3]!Tabla2[#All],3,FALSE),\"\")","v":""},401,"Chimaltenango",{"$f":"IFERROR(VLOOKUP(Tabla38[[#This Row],[CODIGO municipio]],[3]!Tabla6[[#All],[codigo_mun]],1,FALSE),\"\")","v":""},{"$f":"IFERROR(VLOOKUP(Tabla38[[#This Row],[CODIGO municipio]],[3]!Tabla12[#All],2,FALSE),\"\")","v":""},{"$f":"IFERROR(VLOOKUP(Tabla38[[#This Row],[CODIGO municipio]],[3]!Tabla7[#All],3,FALSE),\"\")","v":""},{"$f":"IFERROR(VLOOKUP(Tabla38[[#This Row],[CODIGO municipio]],[3]!Tabla7[#All],4,FALSE),\"\")","v":""},{"$f":"IFERROR(VLOOKUP(Tabla38[[#This Row],[CODIGO municipio]],[3]!Tabla7[#All],11,FALSE),\"\")","v":""},{"$f":"IFERROR(VLOOKUP(Tabla38[[#This Row],[CODIGO municipio]],[3]!Tabla7[#All],12,FALSE),\"\")","v":""},{"$f":"IFERROR(VLOOKUP(Tabla38[[#This Row],[CODIGO municipio]],[3]!Tabla7[#All],13,FALSE),\"\")","v":""},{"$f":"IFERROR(VLOOKUP(Tabla38[[#This Row],[CODIGO municipio]],[3]!Tabla7[#All],14,FALSE),\"\")","v":""},{"$f":"IFERROR(VLOOKUP(Tabla38[[#This Row],[CODIGO municipio]],[3]!Tabla7[#All],15,FALSE),\"\")","v":""},{"$f":"IFERROR(VLOOKUP(Tabla38[[#This Row],[CODIGO municipio]],[3]!Tabla7[#All],16,FALSE),\"\")","v":""},{"$f":"IFERROR(VLOOKUP(Tabla38[[#This Row],[CODIGO municipio]],[3]!Tabla7[#All],17,FALSE),\"\")","v":""},{"$f":"IFERROR(VLOOKUP(Tabla38[[#This Row],[CODIGO municipio]],[3]!Tabla7[#All],18,FALSE),\"\")","v":""},{"$f":"IFERROR(VLOOKUP(Tabla38[[#This Row],[CODIGO municipio]],[3]!Tabla7[#All],19,FALSE),\"\")","v":""},{"$f":"IFERROR(VLOOKUP(Tabla38[[#This Row],[CODIGO municipio]],[3]!Tabla8[#All],3,FALSE),\"\")","v":""},{"$f":"IFERROR(VLOOKUP(Tabla38[[#This Row],[CODIGO municipio]],[3]!Tabla8[#All],4,FALSE),\"\")","v":""},{"$f":"IFERROR(VLOOKUP(Tabla38[[#This Row],[CODIGO municipio]],[3]!Tabla8[#All],5,FALSE),\"\")","v":""},{"$f":"IFERROR(VLOOKUP(Tabla38[[#This Row],[CODIGO municipio]],[3]!Tabla8[#All],6,FALSE),\"\")","v":""},{"$f":"IFERROR(VLOOKUP(Tabla38[[#This Row],[CODIGO municipio]],[3]!Tabla8[#All],7,FALSE),\"\")","v":""},{"$f":"IFERROR(VLOOKUP(Tabla38[[#This Row],[CODIGO municipio]],[3]!Tabla8[#All],8,FALSE),\"\")","v":""},{"$f":"IFERROR(VLOOKUP(Tabla38[[#This Row],[CODIGO municipio]],[3]!Tabla8[#All],9,FALSE),\"\")","v":""},{"$f":"IFERROR(VLOOKUP(Tabla38[[#This Row],[CODIGO municipio]],[3]!Tabla8[#All],10,FALSE),\"\")","v":""},{"$f":"IFERROR(VLOOKUP(Tabla38[[#This Row],[CODIGO municipio]],[3]!Tabla8[#All],11,FALSE),\"\")","v":""},{"$f":"IFERROR(VLOOKUP(Tabla38[[#This Row],[CODIGO municipio]],[3]!Tabla8[#All],12,FALSE),\"\")","v":""},{"$f":"IFERROR(VLOOKUP(Tabla38[[#This Row],[CODIGO municipio]],[3]!Tabla8[#All],13,FALSE),\"\")","v":""},{"$f":"IFERROR(VLOOKUP(Tabla38[[#This Row],[CODIGO municipio]],[3]!Tabla8[#All],14,FALSE),\"\")","v":""},{"$f":"IFERROR(VLOOKUP(Tabla38[[#This Row],[CODIGO municipio]],[3]!Tabla8[#All],15,FALSE),\"\")","v":""},{"$f":"IFERROR(VLOOKUP(Tabla38[[#This Row],[CODIGO municipio]],[3]!Tabla8[#All],16,FALSE),\"\")","v":""},{"$f":"IFERROR(VLOOKUP(Tabla38[[#This Row],[CODIGO municipio]],[3]!Tabla8[#All],17,FALSE),\"\")","v":""},{"$f":"IFERROR(VLOOKUP(Tabla38[[#This Row],[CODIGO municipio]],[3]!Tabla8[#All],18,FALSE),\"\")","v":""},{"$f":"IFERROR(VLOOKUP(Tabla38[[#This Row],[CODIGO municipio]],[3]!Tabla8[#All],19,FALSE),\"\")","v":""},{"$f":"IFERROR(VLOOKUP(Tabla38[[#This Row],[CODIGO municipio]],[3]!Tabla8[#All],20,FALSE),\"\")","v":""},{"$f":"IFERROR(VLOOKUP(Tabla38[[#This Row],[CODIGO municipio]],[3]!Tabla8[#All],21,FALSE),\"\")","v":""},{"$f":"IFERROR(VLOOKUP(Tabla38[[#This Row],[CODIGO municipio]],[3]!Tabla8[#All],22,FALSE),\"\")","v":""},{"$f":"IFERROR(VLOOKUP(Tabla38[[#This Row],[CODIGO municipio]],[3]!Tabla8[#All],23,FALSE),\"\")","v":""},{"$f":"IFERROR(VLOOKUP(Tabla38[[#This Row],[CODIGO municipio]],[3]!Tabla9[#All],3,FALSE),\"\")","v":""}]
[{"$f":"IFERROR(VLOOKUP(Tabla38[[#This Row],[Municipio]],[3]!Tabla2[#All],3,FALSE),\"\")","v":""},402,"San José Poaquil",{"$f":"IFERROR(VLOOKUP(Tabla38[[#This Row],[CODIGO municipio]],[3]!Tabla6[[#All],[codigo_mun]],1,FALSE),\"\")","v":""},{"$f":"IFERROR(VLOOKUP(Tabla38[[#This Row],[CODIGO municipio]],[3]!Tabla12[#All],2,FALSE),\"\")","v":""},{"$f":"IFERROR(VLOOKUP(Tabla38[[#This Row],[CODIGO municipio]],[3]!Tabla7[#All],3,FALSE),\"\")","v":""},{"$f":"IFERROR(VLOOKUP(Tabla38[[#This Row],[CODIGO municipio]],[3]!Tabla7[#All],4,FALSE),\"\")","v":""},{"$f":"IFERROR(VLOOKUP(Tabla38[[#This Row],[CODIGO municipio]],[3]!Tabla7[#All],11,FALSE),\"\")","v":""},{"$f":"IFERROR(VLOOKUP(Tabla38[[#This Row],[CODIGO municipio]],[3]!Tabla7[#All],12,FALSE),\"\")","v":""},{"$f":"IFERROR(VLOOKUP(Tabla38[[#This Row],[CODIGO municipio]],[3]!Tabla7[#All],13,FALSE),\"\")","v":""},{"$f":"IFERROR(VLOOKUP(Tabla38[[#This Row],[CODIGO municipio]],[3]!Tabla7[#All],14,FALSE),\"\")","v":""},{"$f":"IFERROR(VLOOKUP(Tabla38[[#This Row],[CODIGO municipio]],[3]!Tabla7[#All],15,FALSE),\"\")","v":""},{"$f":"IFERROR(VLOOKUP(Tabla38[[#This Row],[CODIGO municipio]],[3]!Tabla7[#All],16,FALSE),\"\")","v":""},{"$f":"IFERROR(VLOOKUP(Tabla38[[#This Row],[CODIGO municipio]],[3]!Tabla7[#All],17,FALSE),\"\")","v":""},{"$f":"IFERROR(VLOOKUP(Tabla38[[#This Row],[CODIGO municipio]],[3]!Tabla7[#All],18,FALSE),\"\")","v":""},{"$f":"IFERROR(VLOOKUP(Tabla38[[#This Row],[CODIGO municipio]],[3]!Tabla7[#All],19,FALSE),\"\")","v":""},{"$f":"IFERROR(VLOOKUP(Tabla38[[#This Row],[CODIGO municipio]],[3]!Tabla8[#All],3,FALSE),\"\")","v":""},{"$f":"IFERROR(VLOOKUP(Tabla38[[#This Row],[CODIGO municipio]],[3]!Tabla8[#All],4,FALSE),\"\")","v":""},{"$f":"IFERROR(VLOOKUP(Tabla38[[#This Row],[CODIGO municipio]],[3]!Tabla8[#All],5,FALSE),\"\")","v":""},{"$f":"IFERROR(VLOOKUP(Tabla38[[#This Row],[CODIGO municipio]],[3]!Tabla8[#All],6,FALSE),\"\")","v":""},{"$f":"IFERROR(VLOOKUP(Tabla38[[#This Row],[CODIGO municipio]],[3]!Tabla8[#All],7,FALSE),\"\")","v":""},{"$f":"IFERROR(VLOOKUP(Tabla38[[#This Row],[CODIGO municipio]],[3]!Tabla8[#All],8,FALSE),\"\")","v":""},{"$f":"IFERROR(VLOOKUP(Tabla38[[#This Row],[CODIGO municipio]],[3]!Tabla8[#All],9,FALSE),\"\")","v":""},{"$f":"IFERROR(VLOOKUP(Tabla38[[#This Row],[CODIGO municipio]],[3]!Tabla8[#All],10,FALSE),\"\")","v":""},{"$f":"IFERROR(VLOOKUP(Tabla38[[#This Row],[CODIGO municipio]],[3]!Tabla8[#All],11,FALSE),\"\")","v":""},{"$f":"IFERROR(VLOOKUP(Tabla38[[#This Row],[CODIGO municipio]],[3]!Tabla8[#All],12,FALSE),\"\")","v":""},{"$f":"IFERROR(VLOOKUP(Tabla38[[#This Row],[CODIGO municipio]],[3]!Tabla8[#All],13,FALSE),\"\")","v":""},{"$f":"IFERROR(VLOOKUP(Tabla38[[#This Row],[CODIGO municipio]],[3]!Tabla8[#All],14,FALSE),\"\")","v":""},{"$f":"IFERROR(VLOOKUP(Tabla38[[#This Row],[CODIGO municipio]],[3]!Tabla8[#All],15,FALSE),\"\")","v":""},{"$f":"IFERROR(VLOOKUP(Tabla38[[#This Row],[CODIGO municipio]],[3]!Tabla8[#All],16,FALSE),\"\")","v":""},{"$f":"IFERROR(VLOOKUP(Tabla38[[#This Row],[CODIGO municipio]],[3]!Tabla8[#All],17,FALSE),\"\")","v":""},{"$f":"IFERROR(VLOOKUP(Tabla38[[#This Row],[CODIGO municipio]],[3]!Tabla8[#All],18,FALSE),\"\")","v":""},{"$f":"IFERROR(VLOOKUP(Tabla38[[#This Row],[CODIGO municipio]],[3]!Tabla8[#All],19,FALSE),\"\")","v":""},{"$f":"IFERROR(VLOOKUP(Tabla38[[#This Row],[CODIGO municipio]],[3]!Tabla8[#All],20,FALSE),\"\")","v":""},{"$f":"IFERROR(VLOOKUP(Tabla38[[#This Row],[CODIGO municipio]],[3]!Tabla8[#All],21,FALSE),\"\")","v":""},{"$f":"IFERROR(VLOOKUP(Tabla38[[#This Row],[CODIGO municipio]],[3]!Tabla8[#All],22,FALSE),\"\")","v":""},{"$f":"IFERROR(VLOOKUP(Tabla38[[#This Row],[CODIGO municipio]],[3]!Tabla8[#All],23,FALSE),\"\")","v":""},{"$f":"IFERROR(VLOOKUP(Tabla38[[#This Row],[CODIGO municipio]],[3]!Tabla9[#All],3,FALSE),\"\")","v":""}]
[{"$f":"IFERROR(VLOOKUP(Tabla38[[#This Row],[Municipio]],[3]!Tabla2[#All],3,FALSE),\"\")","v":""},403,"San Martín Jilotepeque",{"$f":"IFERROR(VLOOKUP(Tabla38[[#This Row],[CODIGO municipio]],[3]!Tabla6[[#All],[codigo_mun]],1,FALSE),\"\")","v":""},{"$f":"IFERROR(VLOOKUP(Tabla38[[#This Row],[CODIGO municipio]],[3]!Tabla12[#All],2,FALSE),\"\")","v":""},{"$f":"IFERROR(VLOOKUP(Tabla38[[#This Row],[CODIGO municipio]],[3]!Tabla7[#All],3,FALSE),\"\")","v":""},{"$f":"IFERROR(VLOOKUP(Tabla38[[#This Row],[CODIGO municipio]],[3]!Tabla7[#All],4,FALSE),\"\")","v":""},{"$f":"IFERROR(VLOOKUP(Tabla38[[#This Row],[CODIGO municipio]],[3]!Tabla7[#All],11,FALSE),\"\")","v":""},{"$f":"IFERROR(VLOOKUP(Tabla38[[#This Row],[CODIGO municipio]],[3]!Tabla7[#All],12,FALSE),\"\")","v":""},{"$f":"IFERROR(VLOOKUP(Tabla38[[#This Row],[CODIGO municipio]],[3]!Tabla7[#All],13,FALSE),\"\")","v":""},{"$f":"IFERROR(VLOOKUP(Tabla38[[#This Row],[CODIGO municipio]],[3]!Tabla7[#All],14,FALSE),\"\")","v":""},{"$f":"IFERROR(VLOOKUP(Tabla38[[#This Row],[CODIGO municipio]],[3]!Tabla7[#All],15,FALSE),\"\")","v":""},{"$f":"IFERROR(VLOOKUP(Tabla38[[#This Row],[CODIGO municipio]],[3]!Tabla7[#All],16,FALSE),\"\")","v":""},{"$f":"IFERROR(VLOOKUP(Tabla38[[#This Row],[CODIGO municipio]],[3]!Tabla7[#All],17,FALSE),\"\")","v":""},{"$f":"IFERROR(VLOOKUP(Tabla38[[#This Row],[CODIGO municipio]],[3]!Tabla7[#All],18,FALSE),\"\")","v":""},{"$f":"IFERROR(VLOOKUP(Tabla38[[#This Row],[CODIGO municipio]],[3]!Tabla7[#All],19,FALSE),\"\")","v":""},{"$f":"IFERROR(VLOOKUP(Tabla38[[#This Row],[CODIGO municipio]],[3]!Tabla8[#All],3,FALSE),\"\")","v":""},{"$f":"IFERROR(VLOOKUP(Tabla38[[#This Row],[CODIGO municipio]],[3]!Tabla8[#All],4,FALSE),\"\")","v":""},{"$f":"IFERROR(VLOOKUP(Tabla38[[#This Row],[CODIGO municipio]],[3]!Tabla8[#All],5,FALSE),\"\")","v":""},{"$f":"IFERROR(VLOOKUP(Tabla38[[#This Row],[CODIGO municipio]],[3]!Tabla8[#All],6,FALSE),\"\")","v":""},{"$f":"IFERROR(VLOOKUP(Tabla38[[#This Row],[CODIGO municipio]],[3]!Tabla8[#All],7,FALSE),\"\")","v":""},{"$f":"IFERROR(VLOOKUP(Tabla38[[#This Row],[CODIGO municipio]],[3]!Tabla8[#All],8,FALSE),\"\")","v":""},{"$f":"IFERROR(VLOOKUP(Tabla38[[#This Row],[CODIGO municipio]],[3]!Tabla8[#All],9,FALSE),\"\")","v":""},{"$f":"IFERROR(VLOOKUP(Tabla38[[#This Row],[CODIGO municipio]],[3]!Tabla8[#All],10,FALSE),\"\")","v":""},{"$f":"IFERROR(VLOOKUP(Tabla38[[#This Row],[CODIGO municipio]],[3]!Tabla8[#All],11,FALSE),\"\")","v":""},{"$f":"IFERROR(VLOOKUP(Tabla38[[#This Row],[CODIGO municipio]],[3]!Tabla8[#All],12,FALSE),\"\")","v":""},{"$f":"IFERROR(VLOOKUP(Tabla38[[#This Row],[CODIGO municipio]],[3]!Tabla8[#All],13,FALSE),\"\")","v":""},{"$f":"IFERROR(VLOOKUP(Tabla38[[#This Row],[CODIGO municipio]],[3]!Tabla8[#All],14,FALSE),\"\")","v":""},{"$f":"IFERROR(VLOOKUP(Tabla38[[#This Row],[CODIGO municipio]],[3]!Tabla8[#All],15,FALSE),\"\")","v":""},{"$f":"IFERROR(VLOOKUP(Tabla38[[#This Row],[CODIGO municipio]],[3]!Tabla8[#All],16,FALSE),\"\")","v":""},{"$f":"IFERROR(VLOOKUP(Tabla38[[#This Row],[CODIGO municipio]],[3]!Tabla8[#All],17,FALSE),\"\")","v":""},{"$f":"IFERROR(VLOOKUP(Tabla38[[#This Row],[CODIGO municipio]],[3]!Tabla8[#All],18,FALSE),\"\")","v":""},{"$f":"IFERROR(VLOOKUP(Tabla38[[#This Row],[CODIGO municipio]],[3]!Tabla8[#All],19,FALSE),\"\")","v":""},{"$f":"IFERROR(VLOOKUP(Tabla38[[#This Row],[CODIGO municipio]],[3]!Tabla8[#All],20,FALSE),\"\")","v":""},{"$f":"IFERROR(VLOOKUP(Tabla38[[#This Row],[CODIGO municipio]],[3]!Tabla8[#All],21,FALSE),\"\")","v":""},{"$f":"IFERROR(VLOOKUP(Tabla38[[#This Row],[CODIGO municipio]],[3]!Tabla8[#All],22,FALSE),\"\")","v":""},{"$f":"IFERROR(VLOOKUP(Tabla38[[#This Row],[CODIGO municipio]],[3]!Tabla8[#All],23,FALSE),\"\")","v":""},{"$f":"IFERROR(VLOOKUP(Tabla38[[#This Row],[CODIGO municipio]],[3]!Tabla9[#All],3,FALSE),\"\")","v":""}]
[{"$f":"IFERROR(VLOOKUP(Tabla38[[#This Row],[Municipio]],[3]!Tabla2[#All],3,FALSE),\"\")","v":""},404,"Comalapa",{"$f":"IFERROR(VLOOKUP(Tabla38[[#This Row],[CODIGO municipio]],[3]!Tabla6[[#All],[codigo_mun]],1,FALSE),\"\")","v":""},{"$f":"IFERROR(VLOOKUP(Tabla38[[#This Row],[CODIGO municipio]],[3]!Tabla12[#All],2,FALSE),\"\")","v":""},{"$f":"IFERROR(VLOOKUP(Tabla38[[#This Row],[CODIGO municipio]],[3]!Tabla7[#All],3,FALSE),\"\")","v":""},{"$f":"IFERROR(VLOOKUP(Tabla38[[#This Row],[CODIGO municipio]],[3]!Tabla7[#All],4,FALSE),\"\")","v":""},{"$f":"IFERROR(VLOOKUP(Tabla38[[#This Row],[CODIGO municipio]],[3]!Tabla7[#All],11,FALSE),\"\")","v":""},{"$f":"IFERROR(VLOOKUP(Tabla38[[#This Row],[CODIGO municipio]],[3]!Tabla7[#All],12,FALSE),\"\")","v":""},{"$f":"IFERROR(VLOOKUP(Tabla38[[#This Row],[CODIGO municipio]],[3]!Tabla7[#All],13,FALSE),\"\")","v":""},{"$f":"IFERROR(VLOOKUP(Tabla38[[#This Row],[CODIGO municipio]],[3]!Tabla7[#All],14,FALSE),\"\")","v":""},{"$f":"IFERROR(VLOOKUP(Tabla38[[#This Row],[CODIGO municipio]],[3]!Tabla7[#All],15,FALSE),\"\")","v":""},{"$f":"IFERROR(VLOOKUP(Tabla38[[#This Row],[CODIGO municipio]],[3]!Tabla7[#All],16,FALSE),\"\")","v":""},{"$f":"IFERROR(VLOOKUP(Tabla38[[#This Row],[CODIGO municipio]],[3]!Tabla7[#All],17,FALSE),\"\")","v":""},{"$f":"IFERROR(VLOOKUP(Tabla38[[#This Row],[CODIGO municipio]],[3]!Tabla7[#All],18,FALSE),\"\")","v":""},{"$f":"IFERROR(VLOOKUP(Tabla38[[#This Row],[CODIGO municipio]],[3]!Tabla7[#All],19,FALSE),\"\")","v":""},{"$f":"IFERROR(VLOOKUP(Tabla38[[#This Row],[CODIGO municipio]],[3]!Tabla8[#All],3,FALSE),\"\")","v":""},{"$f":"IFERROR(VLOOKUP(Tabla38[[#This Row],[CODIGO municipio]],[3]!Tabla8[#All],4,FALSE),\"\")","v":""},{"$f":"IFERROR(VLOOKUP(Tabla38[[#This Row],[CODIGO municipio]],[3]!Tabla8[#All],5,FALSE),\"\")","v":""},{"$f":"IFERROR(VLOOKUP(Tabla38[[#This Row],[CODIGO municipio]],[3]!Tabla8[#All],6,FALSE),\"\")","v":""},{"$f":"IFERROR(VLOOKUP(Tabla38[[#This Row],[CODIGO municipio]],[3]!Tabla8[#All],7,FALSE),\"\")","v":""},{"$f":"IFERROR(VLOOKUP(Tabla38[[#This Row],[CODIGO municipio]],[3]!Tabla8[#All],8,FALSE),\"\")","v":""},{"$f":"IFERROR(VLOOKUP(Tabla38[[#This Row],[CODIGO municipio]],[3]!Tabla8[#All],9,FALSE),\"\")","v":""},{"$f":"IFERROR(VLOOKUP(Tabla38[[#This Row],[CODIGO municipio]],[3]!Tabla8[#All],10,FALSE),\"\")","v":""},{"$f":"IFERROR(VLOOKUP(Tabla38[[#This Row],[CODIGO municipio]],[3]!Tabla8[#All],11,FALSE),\"\")","v":""},{"$f":"IFERROR(VLOOKUP(Tabla38[[#This Row],[CODIGO municipio]],[3]!Tabla8[#All],12,FALSE),\"\")","v":""},{"$f":"IFERROR(VLOOKUP(Tabla38[[#This Row],[CODIGO municipio]],[3]!Tabla8[#All],13,FALSE),\"\")","v":""},{"$f":"IFERROR(VLOOKUP(Tabla38[[#This Row],[CODIGO municipio]],[3]!Tabla8[#All],14,FALSE),\"\")","v":""},{"$f":"IFERROR(VLOOKUP(Tabla38[[#This Row],[CODIGO municipio]],[3]!Tabla8[#All],15,FALSE),\"\")","v":""},{"$f":"IFERROR(VLOOKUP(Tabla38[[#This Row],[CODIGO municipio]],[3]!Tabla8[#All],16,FALSE),\"\")","v":""},{"$f":"IFERROR(VLOOKUP(Tabla38[[#This Row],[CODIGO municipio]],[3]!Tabla8[#All],17,FALSE),\"\")","v":""},{"$f":"IFERROR(VLOOKUP(Tabla38[[#This Row],[CODIGO municipio]],[3]!Tabla8[#All],18,FALSE),\"\")","v":""},{"$f":"IFERROR(VLOOKUP(Tabla38[[#This Row],[CODIGO municipio]],[3]!Tabla8[#All],19,FALSE),\"\")","v":""},{"$f":"IFERROR(VLOOKUP(Tabla38[[#This Row],[CODIGO municipio]],[3]!Tabla8[#All],20,FALSE),\"\")","v":""},{"$f":"IFERROR(VLOOKUP(Tabla38[[#This Row],[CODIGO municipio]],[3]!Tabla8[#All],21,FALSE),\"\")","v":""},{"$f":"IFERROR(VLOOKUP(Tabla38[[#This Row],[CODIGO municipio]],[3]!Tabla8[#All],22,FALSE),\"\")","v":""},{"$f":"IFERROR(VLOOKUP(Tabla38[[#This Row],[CODIGO municipio]],[3]!Tabla8[#All],23,FALSE),\"\")","v":""},{"$f":"IFERROR(VLOOKUP(Tabla38[[#This Row],[CODIGO municipio]],[3]!Tabla9[#All],3,FALSE),\"\")","v":""}]
[{"$f":"IFERROR(VLOOKUP(Tabla38[[#This Row],[Municipio]],[3]!Tabla2[#All],3,FALSE),\"\")","v":""},405,"Santa Apolonia",{"$f":"IFERROR(VLOOKUP(Tabla38[[#This Row],[CODIGO municipio]],[3]!Tabla6[[#All],[codigo_mun]],1,FALSE),\"\")","v":""},{"$f":"IFERROR(VLOOKUP(Tabla38[[#This Row],[CODIGO municipio]],[3]!Tabla12[#All],2,FALSE),\"\")","v":""},{"$f":"IFERROR(VLOOKUP(Tabla38[[#This Row],[CODIGO municipio]],[3]!Tabla7[#All],3,FALSE),\"\")","v":""},{"$f":"IFERROR(VLOOKUP(Tabla38[[#This Row],[CODIGO municipio]],[3]!Tabla7[#All],4,FALSE),\"\")","v":""},{"$f":"IFERROR(VLOOKUP(Tabla38[[#This Row],[CODIGO municipio]],[3]!Tabla7[#All],11,FALSE),\"\")","v":""},{"$f":"IFERROR(VLOOKUP(Tabla38[[#This Row],[CODIGO municipio]],[3]!Tabla7[#All],12,FALSE),\"\")","v":""},{"$f":"IFERROR(VLOOKUP(Tabla38[[#This Row],[CODIGO municipio]],[3]!Tabla7[#All],13,FALSE),\"\")","v":""},{"$f":"IFERROR(VLOOKUP(Tabla38[[#This Row],[CODIGO municipio]],[3]!Tabla7[#All],14,FALSE),\"\")","v":""},{"$f":"IFERROR(VLOOKUP(Tabla38[[#This Row],[CODIGO municipio]],[3]!Tabla7[#All],15,FALSE),\"\")","v":""},{"$f":"IFERROR(VLOOKUP(Tabla38[[#This Row],[CODIGO municipio]],[3]!Tabla7[#All],16,FALSE),\"\")","v":""},{"$f":"IFERROR(VLOOKUP(Tabla38[[#This Row],[CODIGO municipio]],[3]!Tabla7[#All],17,FALSE),\"\")","v":""},{"$f":"IFERROR(VLOOKUP(Tabla38[[#This Row],[CODIGO municipio]],[3]!Tabla7[#All],18,FALSE),\"\")","v":""},{"$f":"IFERROR(VLOOKUP(Tabla38[[#This Row],[CODIGO municipio]],[3]!Tabla7[#All],19,FALSE),\"\")","v":""},{"$f":"IFERROR(VLOOKUP(Tabla38[[#This Row],[CODIGO municipio]],[3]!Tabla8[#All],3,FALSE),\"\")","v":""},{"$f":"IFERROR(VLOOKUP(Tabla38[[#This Row],[CODIGO municipio]],[3]!Tabla8[#All],4,FALSE),\"\")","v":""},{"$f":"IFERROR(VLOOKUP(Tabla38[[#This Row],[CODIGO municipio]],[3]!Tabla8[#All],5,FALSE),\"\")","v":""},{"$f":"IFERROR(VLOOKUP(Tabla38[[#This Row],[CODIGO municipio]],[3]!Tabla8[#All],6,FALSE),\"\")","v":""},{"$f":"IFERROR(VLOOKUP(Tabla38[[#This Row],[CODIGO municipio]],[3]!Tabla8[#All],7,FALSE),\"\")","v":""},{"$f":"IFERROR(VLOOKUP(Tabla38[[#This Row],[CODIGO municipio]],[3]!Tabla8[#All],8,FALSE),\"\")","v":""},{"$f":"IFERROR(VLOOKUP(Tabla38[[#This Row],[CODIGO municipio]],[3]!Tabla8[#All],9,FALSE),\"\")","v":""},{"$f":"IFERROR(VLOOKUP(Tabla38[[#This Row],[CODIGO municipio]],[3]!Tabla8[#All],10,FALSE),\"\")","v":""},{"$f":"IFERROR(VLOOKUP(Tabla38[[#This Row],[CODIGO municipio]],[3]!Tabla8[#All],11,FALSE),\"\")","v":""},{"$f":"IFERROR(VLOOKUP(Tabla38[[#This Row],[CODIGO municipio]],[3]!Tabla8[#All],12,FALSE),\"\")","v":""},{"$f":"IFERROR(VLOOKUP(Tabla38[[#This Row],[CODIGO municipio]],[3]!Tabla8[#All],13,FALSE),\"\")","v":""},{"$f":"IFERROR(VLOOKUP(Tabla38[[#This Row],[CODIGO municipio]],[3]!Tabla8[#All],14,FALSE),\"\")","v":""},{"$f":"IFERROR(VLOOKUP(Tabla38[[#This Row],[CODIGO municipio]],[3]!Tabla8[#All],15,FALSE),\"\")","v":""},{"$f":"IFERROR(VLOOKUP(Tabla38[[#This Row],[CODIGO municipio]],[3]!Tabla8[#All],16,FALSE),\"\")","v":""},{"$f":"IFERROR(VLOOKUP(Tabla38[[#This Row],[CODIGO municipio]],[3]!Tabla8[#All],17,FALSE),\"\")","v":""},{"$f":"IFERROR(VLOOKUP(Tabla38[[#This Row],[CODIGO municipio]],[3]!Tabla8[#All],18,FALSE),\"\")","v":""},{"$f":"IFERROR(VLOOKUP(Tabla38[[#This Row],[CODIGO municipio]],[3]!Tabla8[#All],19,FALSE),\"\")","v":""},{"$f":"IFERROR(VLOOKUP(Tabla38[[#This Row],[CODIGO municipio]],[3]!Tabla8[#All],20,FALSE),\"\")","v":""},{"$f":"IFERROR(VLOOKUP(Tabla38[[#This Row],[CODIGO municipio]],[3]!Tabla8[#All],21,FALSE),\"\")","v":""},{"$f":"IFERROR(VLOOKUP(Tabla38[[#This Row],[CODIGO municipio]],[3]!Tabla8[#All],22,FALSE),\"\")","v":""},{"$f":"IFERROR(VLOOKUP(Tabla38[[#This Row],[CODIGO municipio]],[3]!Tabla8[#All],23,FALSE),\"\")","v":""},{"$f":"IFERROR(VLOOKUP(Tabla38[[#This Row],[CODIGO municipio]],[3]!Tabla9[#All],3,FALSE),\"\")","v":""}]
[{"$f":"IFERROR(VLOOKUP(Tabla38[[#This Row],[Municipio]],[3]!Tabla2[#All],3,FALSE),\"\")","v":""},406,"Tecpán Guatemala",{"$f":"IFERROR(VLOOKUP(Tabla38[[#This Row],[CODIGO municipio]],[3]!Tabla6[[#All],[codigo_mun]],1,FALSE),\"\")","v":""},{"$f":"IFERROR(VLOOKUP(Tabla38[[#This Row],[CODIGO municipio]],[3]!Tabla12[#All],2,FALSE),\"\")","v":""},{"$f":"IFERROR(VLOOKUP(Tabla38[[#This Row],[CODIGO municipio]],[3]!Tabla7[#All],3,FALSE),\"\")","v":""},{"$f":"IFERROR(VLOOKUP(Tabla38[[#This Row],[CODIGO municipio]],[3]!Tabla7[#All],4,FALSE),\"\")","v":""},{"$f":"IFERROR(VLOOKUP(Tabla38[[#This Row],[CODIGO municipio]],[3]!Tabla7[#All],11,FALSE),\"\")","v":""},{"$f":"IFERROR(VLOOKUP(Tabla38[[#This Row],[CODIGO municipio]],[3]!Tabla7[#All],12,FALSE),\"\")","v":""},{"$f":"IFERROR(VLOOKUP(Tabla38[[#This Row],[CODIGO municipio]],[3]!Tabla7[#All],13,FALSE),\"\")","v":""},{"$f":"IFERROR(VLOOKUP(Tabla38[[#This Row],[CODIGO municipio]],[3]!Tabla7[#All],14,FALSE),\"\")","v":""},{"$f":"IFERROR(VLOOKUP(Tabla38[[#This Row],[CODIGO municipio]],[3]!Tabla7[#All],15,FALSE),\"\")","v":""},{"$f":"IFERROR(VLOOKUP(Tabla38[[#This Row],[CODIGO municipio]],[3]!Tabla7[#All],16,FALSE),\"\")","v":""},{"$f":"IFERROR(VLOOKUP(Tabla38[[#This Row],[CODIGO municipio]],[3]!Tabla7[#All],17,FALSE),\"\")","v":""},{"$f":"IFERROR(VLOOKUP(Tabla38[[#This Row],[CODIGO municipio]],[3]!Tabla7[#All],18,FALSE),\"\")","v":""},{"$f":"IFERROR(VLOOKUP(Tabla38[[#This Row],[CODIGO municipio]],[3]!Tabla7[#All],19,FALSE),\"\")","v":""},{"$f":"IFERROR(VLOOKUP(Tabla38[[#This Row],[CODIGO municipio]],[3]!Tabla8[#All],3,FALSE),\"\")","v":""},{"$f":"IFERROR(VLOOKUP(Tabla38[[#This Row],[CODIGO municipio]],[3]!Tabla8[#All],4,FALSE),\"\")","v":""},{"$f":"IFERROR(VLOOKUP(Tabla38[[#This Row],[CODIGO municipio]],[3]!Tabla8[#All],5,FALSE),\"\")","v":""},{"$f":"IFERROR(VLOOKUP(Tabla38[[#This Row],[CODIGO municipio]],[3]!Tabla8[#All],6,FALSE),\"\")","v":""},{"$f":"IFERROR(VLOOKUP(Tabla38[[#This Row],[CODIGO municipio]],[3]!Tabla8[#All],7,FALSE),\"\")","v":""},{"$f":"IFERROR(VLOOKUP(Tabla38[[#This Row],[CODIGO municipio]],[3]!Tabla8[#All],8,FALSE),\"\")","v":""},{"$f":"IFERROR(VLOOKUP(Tabla38[[#This Row],[CODIGO municipio]],[3]!Tabla8[#All],9,FALSE),\"\")","v":""},{"$f":"IFERROR(VLOOKUP(Tabla38[[#This Row],[CODIGO municipio]],[3]!Tabla8[#All],10,FALSE),\"\")","v":""},{"$f":"IFERROR(VLOOKUP(Tabla38[[#This Row],[CODIGO municipio]],[3]!Tabla8[#All],11,FALSE),\"\")","v":""},{"$f":"IFERROR(VLOOKUP(Tabla38[[#This Row],[CODIGO municipio]],[3]!Tabla8[#All],12,FALSE),\"\")","v":""},{"$f":"IFERROR(VLOOKUP(Tabla38[[#This Row],[CODIGO municipio]],[3]!Tabla8[#All],13,FALSE),\"\")","v":""},{"$f":"IFERROR(VLOOKUP(Tabla38[[#This Row],[CODIGO municipio]],[3]!Tabla8[#All],14,FALSE),\"\")","v":""},{"$f":"IFERROR(VLOOKUP(Tabla38[[#This Row],[CODIGO municipio]],[3]!Tabla8[#All],15,FALSE),\"\")","v":""},{"$f":"IFERROR(VLOOKUP(Tabla38[[#This Row],[CODIGO municipio]],[3]!Tabla8[#All],16,FALSE),\"\")","v":""},{"$f":"IFERROR(VLOOKUP(Tabla38[[#This Row],[CODIGO municipio]],[3]!Tabla8[#All],17,FALSE),\"\")","v":""},{"$f":"IFERROR(VLOOKUP(Tabla38[[#This Row],[CODIGO municipio]],[3]!Tabla8[#All],18,FALSE),\"\")","v":""},{"$f":"IFERROR(VLOOKUP(Tabla38[[#This Row],[CODIGO municipio]],[3]!Tabla8[#All],19,FALSE),\"\")","v":""},{"$f":"IFERROR(VLOOKUP(Tabla38[[#This Row],[CODIGO municipio]],[3]!Tabla8[#All],20,FALSE),\"\")","v":""},{"$f":"IFERROR(VLOOKUP(Tabla38[[#This Row],[CODIGO municipio]],[3]!Tabla8[#All],21,FALSE),\"\")","v":""},{"$f":"IFERROR(VLOOKUP(Tabla38[[#This Row],[CODIGO municipio]],[3]!Tabla8[#All],22,FALSE),\"\")","v":""},{"$f":"IFERROR(VLOOKUP(Tabla38[[#This Row],[CODIGO municipio]],[3]!Tabla8[#All],23,FALSE),\"\")","v":""},{"$f":"IFERROR(VLOOKUP(Tabla38[[#This Row],[CODIGO municipio]],[3]!Tabla9[#All],3,FALSE),\"\")","v":""}]
[{"$f":"IFERROR(VLOOKUP(Tabla38[[#This Row],[Municipio]],[3]!Tabla2[#All],3,FALSE),\"\")","v":""},407,"Patzún",{"$f":"IFERROR(VLOOKUP(Tabla38[[#This Row],[CODIGO municipio]],[3]!Tabla6[[#All],[codigo_mun]],1,FALSE),\"\")","v":""},{"$f":"IFERROR(VLOOKUP(Tabla38[[#This Row],[CODIGO municipio]],[3]!Tabla12[#All],2,FALSE),\"\")","v":""},{"$f":"IFERROR(VLOOKUP(Tabla38[[#This Row],[CODIGO municipio]],[3]!Tabla7[#All],3,FALSE),\"\")","v":""},{"$f":"IFERROR(VLOOKUP(Tabla38[[#This Row],[CODIGO municipio]],[3]!Tabla7[#All],4,FALSE),\"\")","v":""},{"$f":"IFERROR(VLOOKUP(Tabla38[[#This Row],[CODIGO municipio]],[3]!Tabla7[#All],11,FALSE),\"\")","v":""},{"$f":"IFERROR(VLOOKUP(Tabla38[[#This Row],[CODIGO municipio]],[3]!Tabla7[#All],12,FALSE),\"\")","v":""},{"$f":"IFERROR(VLOOKUP(Tabla38[[#This Row],[CODIGO municipio]],[3]!Tabla7[#All],13,FALSE),\"\")","v":""},{"$f":"IFERROR(VLOOKUP(Tabla38[[#This Row],[CODIGO municipio]],[3]!Tabla7[#All],14,FALSE),\"\")","v":""},{"$f":"IFERROR(VLOOKUP(Tabla38[[#This Row],[CODIGO municipio]],[3]!Tabla7[#All],15,FALSE),\"\")","v":""},{"$f":"IFERROR(VLOOKUP(Tabla38[[#This Row],[CODIGO municipio]],[3]!Tabla7[#All],16,FALSE),\"\")","v":""},{"$f":"IFERROR(VLOOKUP(Tabla38[[#This Row],[CODIGO municipio]],[3]!Tabla7[#All],17,FALSE),\"\")","v":""},{"$f":"IFERROR(VLOOKUP(Tabla38[[#This Row],[CODIGO municipio]],[3]!Tabla7[#All],18,FALSE),\"\")","v":""},{"$f":"IFERROR(VLOOKUP(Tabla38[[#This Row],[CODIGO municipio]],[3]!Tabla7[#All],19,FALSE),\"\")","v":""},{"$f":"IFERROR(VLOOKUP(Tabla38[[#This Row],[CODIGO municipio]],[3]!Tabla8[#All],3,FALSE),\"\")","v":""},{"$f":"IFERROR(VLOOKUP(Tabla38[[#This Row],[CODIGO municipio]],[3]!Tabla8[#All],4,FALSE),\"\")","v":""},{"$f":"IFERROR(VLOOKUP(Tabla38[[#This Row],[CODIGO municipio]],[3]!Tabla8[#All],5,FALSE),\"\")","v":""},{"$f":"IFERROR(VLOOKUP(Tabla38[[#This Row],[CODIGO municipio]],[3]!Tabla8[#All],6,FALSE),\"\")","v":""},{"$f":"IFERROR(VLOOKUP(Tabla38[[#This Row],[CODIGO municipio]],[3]!Tabla8[#All],7,FALSE),\"\")","v":""},{"$f":"IFERROR(VLOOKUP(Tabla38[[#This Row],[CODIGO municipio]],[3]!Tabla8[#All],8,FALSE),\"\")","v":""},{"$f":"IFERROR(VLOOKUP(Tabla38[[#This Row],[CODIGO municipio]],[3]!Tabla8[#All],9,FALSE),\"\")","v":""},{"$f":"IFERROR(VLOOKUP(Tabla38[[#This Row],[CODIGO municipio]],[3]!Tabla8[#All],10,FALSE),\"\")","v":""},{"$f":"IFERROR(VLOOKUP(Tabla38[[#This Row],[CODIGO municipio]],[3]!Tabla8[#All],11,FALSE),\"\")","v":""},{"$f":"IFERROR(VLOOKUP(Tabla38[[#This Row],[CODIGO municipio]],[3]!Tabla8[#All],12,FALSE),\"\")","v":""},{"$f":"IFERROR(VLOOKUP(Tabla38[[#This Row],[CODIGO municipio]],[3]!Tabla8[#All],13,FALSE),\"\")","v":""},{"$f":"IFERROR(VLOOKUP(Tabla38[[#This Row],[CODIGO municipio]],[3]!Tabla8[#All],14,FALSE),\"\")","v":""},{"$f":"IFERROR(VLOOKUP(Tabla38[[#This Row],[CODIGO municipio]],[3]!Tabla8[#All],15,FALSE),\"\")","v":""},{"$f":"IFERROR(VLOOKUP(Tabla38[[#This Row],[CODIGO municipio]],[3]!Tabla8[#All],16,FALSE),\"\")","v":""},{"$f":"IFERROR(VLOOKUP(Tabla38[[#This Row],[CODIGO municipio]],[3]!Tabla8[#All],17,FALSE),\"\")","v":""},{"$f":"IFERROR(VLOOKUP(Tabla38[[#This Row],[CODIGO municipio]],[3]!Tabla8[#All],18,FALSE),\"\")","v":""},{"$f":"IFERROR(VLOOKUP(Tabla38[[#This Row],[CODIGO municipio]],[3]!Tabla8[#All],19,FALSE),\"\")","v":""},{"$f":"IFERROR(VLOOKUP(Tabla38[[#This Row],[CODIGO municipio]],[3]!Tabla8[#All],20,FALSE),\"\")","v":""},{"$f":"IFERROR(VLOOKUP(Tabla38[[#This Row],[CODIGO municipio]],[3]!Tabla8[#All],21,FALSE),\"\")","v":""},{"$f":"IFERROR(VLOOKUP(Tabla38[[#This Row],[CODIGO municipio]],[3]!Tabla8[#All],22,FALSE),\"\")","v":""},{"$f":"IFERROR(VLOOKUP(Tabla38[[#This Row],[CODIGO municipio]],[3]!Tabla8[#All],23,FALSE),\"\")","v":""},{"$f":"IFERROR(VLOOKUP(Tabla38[[#This Row],[CODIGO municipio]],[3]!Tabla9[#All],3,FALSE),\"\")","v":""}]
[{"$f":"IFERROR(VLOOKUP(Tabla38[[#This Row],[Municipio]],[3]!Tabla2[#All],3,FALSE),\"\")","v":""},408,"San Miguel Pochuta",{"$f":"IFERROR(VLOOKUP(Tabla38[[#This Row],[CODIGO municipio]],[3]!Tabla6[[#All],[codigo_mun]],1,FALSE),\"\")","v":""},{"$f":"IFERROR(VLOOKUP(Tabla38[[#This Row],[CODIGO municipio]],[3]!Tabla12[#All],2,FALSE),\"\")","v":""},{"$f":"IFERROR(VLOOKUP(Tabla38[[#This Row],[CODIGO municipio]],[3]!Tabla7[#All],3,FALSE),\"\")","v":""},{"$f":"IFERROR(VLOOKUP(Tabla38[[#This Row],[CODIGO municipio]],[3]!Tabla7[#All],4,FALSE),\"\")","v":""},{"$f":"IFERROR(VLOOKUP(Tabla38[[#This Row],[CODIGO municipio]],[3]!Tabla7[#All],11,FALSE),\"\")","v":""},{"$f":"IFERROR(VLOOKUP(Tabla38[[#This Row],[CODIGO municipio]],[3]!Tabla7[#All],12,FALSE),\"\")","v":""},{"$f":"IFERROR(VLOOKUP(Tabla38[[#This Row],[CODIGO municipio]],[3]!Tabla7[#All],13,FALSE),\"\")","v":""},{"$f":"IFERROR(VLOOKUP(Tabla38[[#This Row],[CODIGO municipio]],[3]!Tabla7[#All],14,FALSE),\"\")","v":""},{"$f":"IFERROR(VLOOKUP(Tabla38[[#This Row],[CODIGO municipio]],[3]!Tabla7[#All],15,FALSE),\"\")","v":""},{"$f":"IFERROR(VLOOKUP(Tabla38[[#This Row],[CODIGO municipio]],[3]!Tabla7[#All],16,FALSE),\"\")","v":""},{"$f":"IFERROR(VLOOKUP(Tabla38[[#This Row],[CODIGO municipio]],[3]!Tabla7[#All],17,FALSE),\"\")","v":""},{"$f":"IFERROR(VLOOKUP(Tabla38[[#This Row],[CODIGO municipio]],[3]!Tabla7[#All],18,FALSE),\"\")","v":""},{"$f":"IFERROR(VLOOKUP(Tabla38[[#This Row],[CODIGO municipio]],[3]!Tabla7[#All],19,FALSE),\"\")","v":""},{"$f":"IFERROR(VLOOKUP(Tabla38[[#This Row],[CODIGO municipio]],[3]!Tabla8[#All],3,FALSE),\"\")","v":""},{"$f":"IFERROR(VLOOKUP(Tabla38[[#This Row],[CODIGO municipio]],[3]!Tabla8[#All],4,FALSE),\"\")","v":""},{"$f":"IFERROR(VLOOKUP(Tabla38[[#This Row],[CODIGO municipio]],[3]!Tabla8[#All],5,FALSE),\"\")","v":""},{"$f":"IFERROR(VLOOKUP(Tabla38[[#This Row],[CODIGO municipio]],[3]!Tabla8[#All],6,FALSE),\"\")","v":""},{"$f":"IFERROR(VLOOKUP(Tabla38[[#This Row],[CODIGO municipio]],[3]!Tabla8[#All],7,FALSE),\"\")","v":""},{"$f":"IFERROR(VLOOKUP(Tabla38[[#This Row],[CODIGO municipio]],[3]!Tabla8[#All],8,FALSE),\"\")","v":""},{"$f":"IFERROR(VLOOKUP(Tabla38[[#This Row],[CODIGO municipio]],[3]!Tabla8[#All],9,FALSE),\"\")","v":""},{"$f":"IFERROR(VLOOKUP(Tabla38[[#This Row],[CODIGO municipio]],[3]!Tabla8[#All],10,FALSE),\"\")","v":""},{"$f":"IFERROR(VLOOKUP(Tabla38[[#This Row],[CODIGO municipio]],[3]!Tabla8[#All],11,FALSE),\"\")","v":""},{"$f":"IFERROR(VLOOKUP(Tabla38[[#This Row],[CODIGO municipio]],[3]!Tabla8[#All],12,FALSE),\"\")","v":""},{"$f":"IFERROR(VLOOKUP(Tabla38[[#This Row],[CODIGO municipio]],[3]!Tabla8[#All],13,FALSE),\"\")","v":""},{"$f":"IFERROR(VLOOKUP(Tabla38[[#This Row],[CODIGO municipio]],[3]!Tabla8[#All],14,FALSE),\"\")","v":""},{"$f":"IFERROR(VLOOKUP(Tabla38[[#This Row],[CODIGO municipio]],[3]!Tabla8[#All],15,FALSE),\"\")","v":""},{"$f":"IFERROR(VLOOKUP(Tabla38[[#This Row],[CODIGO municipio]],[3]!Tabla8[#All],16,FALSE),\"\")","v":""},{"$f":"IFERROR(VLOOKUP(Tabla38[[#This Row],[CODIGO municipio]],[3]!Tabla8[#All],17,FALSE),\"\")","v":""},{"$f":"IFERROR(VLOOKUP(Tabla38[[#This Row],[CODIGO municipio]],[3]!Tabla8[#All],18,FALSE),\"\")","v":""},{"$f":"IFERROR(VLOOKUP(Tabla38[[#This Row],[CODIGO municipio]],[3]!Tabla8[#All],19,FALSE),\"\")","v":""},{"$f":"IFERROR(VLOOKUP(Tabla38[[#This Row],[CODIGO municipio]],[3]!Tabla8[#All],20,FALSE),\"\")","v":""},{"$f":"IFERROR(VLOOKUP(Tabla38[[#This Row],[CODIGO municipio]],[3]!Tabla8[#All],21,FALSE),\"\")","v":""},{"$f":"IFERROR(VLOOKUP(Tabla38[[#This Row],[CODIGO municipio]],[3]!Tabla8[#All],22,FALSE),\"\")","v":""},{"$f":"IFERROR(VLOOKUP(Tabla38[[#This Row],[CODIGO municipio]],[3]!Tabla8[#All],23,FALSE),\"\")","v":""},{"$f":"IFERROR(VLOOKUP(Tabla38[[#This Row],[CODIGO municipio]],[3]!Tabla9[#All],3,FALSE),\"\")","v":""}]
[{"$f":"IFERROR(VLOOKUP(Tabla38[[#This Row],[Municipio]],[3]!Tabla2[#All],3,FALSE),\"\")","v":""},409,"Patzicía",{"$f":"IFERROR(VLOOKUP(Tabla38[[#This Row],[CODIGO municipio]],[3]!Tabla6[[#All],[codigo_mun]],1,FALSE),\"\")","v":""},{"$f":"IFERROR(VLOOKUP(Tabla38[[#This Row],[CODIGO municipio]],[3]!Tabla12[#All],2,FALSE),\"\")","v":""},{"$f":"IFERROR(VLOOKUP(Tabla38[[#This Row],[CODIGO municipio]],[3]!Tabla7[#All],3,FALSE),\"\")","v":""},{"$f":"IFERROR(VLOOKUP(Tabla38[[#This Row],[CODIGO municipio]],[3]!Tabla7[#All],4,FALSE),\"\")","v":""},{"$f":"IFERROR(VLOOKUP(Tabla38[[#This Row],[CODIGO municipio]],[3]!Tabla7[#All],11,FALSE),\"\")","v":""},{"$f":"IFERROR(VLOOKUP(Tabla38[[#This Row],[CODIGO municipio]],[3]!Tabla7[#All],12,FALSE),\"\")","v":""},{"$f":"IFERROR(VLOOKUP(Tabla38[[#This Row],[CODIGO municipio]],[3]!Tabla7[#All],13,FALSE),\"\")","v":""},{"$f":"IFERROR(VLOOKUP(Tabla38[[#This Row],[CODIGO municipio]],[3]!Tabla7[#All],14,FALSE),\"\")","v":""},{"$f":"IFERROR(VLOOKUP(Tabla38[[#This Row],[CODIGO municipio]],[3]!Tabla7[#All],15,FALSE),\"\")","v":""},{"$f":"IFERROR(VLOOKUP(Tabla38[[#This Row],[CODIGO municipio]],[3]!Tabla7[#All],16,FALSE),\"\")","v":""},{"$f":"IFERROR(VLOOKUP(Tabla38[[#This Row],[CODIGO municipio]],[3]!Tabla7[#All],17,FALSE),\"\")","v":""},{"$f":"IFERROR(VLOOKUP(Tabla38[[#This Row],[CODIGO municipio]],[3]!Tabla7[#All],18,FALSE),\"\")","v":""},{"$f":"IFERROR(VLOOKUP(Tabla38[[#This Row],[CODIGO municipio]],[3]!Tabla7[#All],19,FALSE),\"\")","v":""},{"$f":"IFERROR(VLOOKUP(Tabla38[[#This Row],[CODIGO municipio]],[3]!Tabla8[#All],3,FALSE),\"\")","v":""},{"$f":"IFERROR(VLOOKUP(Tabla38[[#This Row],[CODIGO municipio]],[3]!Tabla8[#All],4,FALSE),\"\")","v":""},{"$f":"IFERROR(VLOOKUP(Tabla38[[#This Row],[CODIGO municipio]],[3]!Tabla8[#All],5,FALSE),\"\")","v":""},{"$f":"IFERROR(VLOOKUP(Tabla38[[#This Row],[CODIGO municipio]],[3]!Tabla8[#All],6,FALSE),\"\")","v":""},{"$f":"IFERROR(VLOOKUP(Tabla38[[#This Row],[CODIGO municipio]],[3]!Tabla8[#All],7,FALSE),\"\")","v":""},{"$f":"IFERROR(VLOOKUP(Tabla38[[#This Row],[CODIGO municipio]],[3]!Tabla8[#All],8,FALSE),\"\")","v":""},{"$f":"IFERROR(VLOOKUP(Tabla38[[#This Row],[CODIGO municipio]],[3]!Tabla8[#All],9,FALSE),\"\")","v":""},{"$f":"IFERROR(VLOOKUP(Tabla38[[#This Row],[CODIGO municipio]],[3]!Tabla8[#All],10,FALSE),\"\")","v":""},{"$f":"IFERROR(VLOOKUP(Tabla38[[#This Row],[CODIGO municipio]],[3]!Tabla8[#All],11,FALSE),\"\")","v":""},{"$f":"IFERROR(VLOOKUP(Tabla38[[#This Row],[CODIGO municipio]],[3]!Tabla8[#All],12,FALSE),\"\")","v":""},{"$f":"IFERROR(VLOOKUP(Tabla38[[#This Row],[CODIGO municipio]],[3]!Tabla8[#All],13,FALSE),\"\")","v":""},{"$f":"IFERROR(VLOOKUP(Tabla38[[#This Row],[CODIGO municipio]],[3]!Tabla8[#All],14,FALSE),\"\")","v":""},{"$f":"IFERROR(VLOOKUP(Tabla38[[#This Row],[CODIGO municipio]],[3]!Tabla8[#All],15,FALSE),\"\")","v":""},{"$f":"IFERROR(VLOOKUP(Tabla38[[#This Row],[CODIGO municipio]],[3]!Tabla8[#All],16,FALSE),\"\")","v":""},{"$f":"IFERROR(VLOOKUP(Tabla38[[#This Row],[CODIGO municipio]],[3]!Tabla8[#All],17,FALSE),\"\")","v":""},{"$f":"IFERROR(VLOOKUP(Tabla38[[#This Row],[CODIGO municipio]],[3]!Tabla8[#All],18,FALSE),\"\")","v":""},{"$f":"IFERROR(VLOOKUP(Tabla38[[#This Row],[CODIGO municipio]],[3]!Tabla8[#All],19,FALSE),\"\")","v":""},{"$f":"IFERROR(VLOOKUP(Tabla38[[#This Row],[CODIGO municipio]],[3]!Tabla8[#All],20,FALSE),\"\")","v":""},{"$f":"IFERROR(VLOOKUP(Tabla38[[#This Row],[CODIGO municipio]],[3]!Tabla8[#All],21,FALSE),\"\")","v":""},{"$f":"IFERROR(VLOOKUP(Tabla38[[#This Row],[CODIGO municipio]],[3]!Tabla8[#All],22,FALSE),\"\")","v":""},{"$f":"IFERROR(VLOOKUP(Tabla38[[#This Row],[CODIGO municipio]],[3]!Tabla8[#All],23,FALSE),\"\")","v":""},{"$f":"IFERROR(VLOOKUP(Tabla38[[#This Row],[CODIGO municipio]],[3]!Tabla9[#All],3,FALSE),\"\")","v":""}]
[{"$f":"IFERROR(VLOOKUP(Tabla38[[#This Row],[Municipio]],[3]!Tabla2[#All],3,FALSE),\"\")","v":""},410,"Santa Cruz Balanyá",{"$f":"IFERROR(VLOOKUP(Tabla38[[#This Row],[CODIGO municipio]],[3]!Tabla6[[#All],[codigo_mun]],1,FALSE),\"\")","v":""},{"$f":"IFERROR(VLOOKUP(Tabla38[[#This Row],[CODIGO municipio]],[3]!Tabla12[#All],2,FALSE),\"\")","v":""},{"$f":"IFERROR(VLOOKUP(Tabla38[[#This Row],[CODIGO municipio]],[3]!Tabla7[#All],3,FALSE),\"\")","v":""},{"$f":"IFERROR(VLOOKUP(Tabla38[[#This Row],[CODIGO municipio]],[3]!Tabla7[#All],4,FALSE),\"\")","v":""},{"$f":"IFERROR(VLOOKUP(Tabla38[[#This Row],[CODIGO municipio]],[3]!Tabla7[#All],11,FALSE),\"\")","v":""},{"$f":"IFERROR(VLOOKUP(Tabla38[[#This Row],[CODIGO municipio]],[3]!Tabla7[#All],12,FALSE),\"\")","v":""},{"$f":"IFERROR(VLOOKUP(Tabla38[[#This Row],[CODIGO municipio]],[3]!Tabla7[#All],13,FALSE),\"\")","v":""},{"$f":"IFERROR(VLOOKUP(Tabla38[[#This Row],[CODIGO municipio]],[3]!Tabla7[#All],14,FALSE),\"\")","v":""},{"$f":"IFERROR(VLOOKUP(Tabla38[[#This Row],[CODIGO municipio]],[3]!Tabla7[#All],15,FALSE),\"\")","v":""},{"$f":"IFERROR(VLOOKUP(Tabla38[[#This Row],[CODIGO municipio]],[3]!Tabla7[#All],16,FALSE),\"\")","v":""},{"$f":"IFERROR(VLOOKUP(Tabla38[[#This Row],[CODIGO municipio]],[3]!Tabla7[#All],17,FALSE),\"\")","v":""},{"$f":"IFERROR(VLOOKUP(Tabla38[[#This Row],[CODIGO municipio]],[3]!Tabla7[#All],18,FALSE),\"\")","v":""},{"$f":"IFERROR(VLOOKUP(Tabla38[[#This Row],[CODIGO municipio]],[3]!Tabla7[#All],19,FALSE),\"\")","v":""},{"$f":"IFERROR(VLOOKUP(Tabla38[[#This Row],[CODIGO municipio]],[3]!Tabla8[#All],3,FALSE),\"\")","v":""},{"$f":"IFERROR(VLOOKUP(Tabla38[[#This Row],[CODIGO municipio]],[3]!Tabla8[#All],4,FALSE),\"\")","v":""},{"$f":"IFERROR(VLOOKUP(Tabla38[[#This Row],[CODIGO municipio]],[3]!Tabla8[#All],5,FALSE),\"\")","v":""},{"$f":"IFERROR(VLOOKUP(Tabla38[[#This Row],[CODIGO municipio]],[3]!Tabla8[#All],6,FALSE),\"\")","v":""},{"$f":"IFERROR(VLOOKUP(Tabla38[[#This Row],[CODIGO municipio]],[3]!Tabla8[#All],7,FALSE),\"\")","v":""},{"$f":"IFERROR(VLOOKUP(Tabla38[[#This Row],[CODIGO municipio]],[3]!Tabla8[#All],8,FALSE),\"\")","v":""},{"$f":"IFERROR(VLOOKUP(Tabla38[[#This Row],[CODIGO municipio]],[3]!Tabla8[#All],9,FALSE),\"\")","v":""},{"$f":"IFERROR(VLOOKUP(Tabla38[[#This Row],[CODIGO municipio]],[3]!Tabla8[#All],10,FALSE),\"\")","v":""},{"$f":"IFERROR(VLOOKUP(Tabla38[[#This Row],[CODIGO municipio]],[3]!Tabla8[#All],11,FALSE),\"\")","v":""},{"$f":"IFERROR(VLOOKUP(Tabla38[[#This Row],[CODIGO municipio]],[3]!Tabla8[#All],12,FALSE),\"\")","v":""},{"$f":"IFERROR(VLOOKUP(Tabla38[[#This Row],[CODIGO municipio]],[3]!Tabla8[#All],13,FALSE),\"\")","v":""},{"$f":"IFERROR(VLOOKUP(Tabla38[[#This Row],[CODIGO municipio]],[3]!Tabla8[#All],14,FALSE),\"\")","v":""},{"$f":"IFERROR(VLOOKUP(Tabla38[[#This Row],[CODIGO municipio]],[3]!Tabla8[#All],15,FALSE),\"\")","v":""},{"$f":"IFERROR(VLOOKUP(Tabla38[[#This Row],[CODIGO municipio]],[3]!Tabla8[#All],16,FALSE),\"\")","v":""},{"$f":"IFERROR(VLOOKUP(Tabla38[[#This Row],[CODIGO municipio]],[3]!Tabla8[#All],17,FALSE),\"\")","v":""},{"$f":"IFERROR(VLOOKUP(Tabla38[[#This Row],[CODIGO municipio]],[3]!Tabla8[#All],18,FALSE),\"\")","v":""},{"$f":"IFERROR(VLOOKUP(Tabla38[[#This Row],[CODIGO municipio]],[3]!Tabla8[#All],19,FALSE),\"\")","v":""},{"$f":"IFERROR(VLOOKUP(Tabla38[[#This Row],[CODIGO municipio]],[3]!Tabla8[#All],20,FALSE),\"\")","v":""},{"$f":"IFERROR(VLOOKUP(Tabla38[[#This Row],[CODIGO municipio]],[3]!Tabla8[#All],21,FALSE),\"\")","v":""},{"$f":"IFERROR(VLOOKUP(Tabla38[[#This Row],[CODIGO municipio]],[3]!Tabla8[#All],22,FALSE),\"\")","v":""},{"$f":"IFERROR(VLOOKUP(Tabla38[[#This Row],[CODIGO municipio]],[3]!Tabla8[#All],23,FALSE),\"\")","v":""},{"$f":"IFERROR(VLOOKUP(Tabla38[[#This Row],[CODIGO municipio]],[3]!Tabla9[#All],3,FALSE),\"\")","v":""}]
[{"$f":"IFERROR(VLOOKUP(Tabla38[[#This Row],[Municipio]],[3]!Tabla2[#All],3,FALSE),\"\")","v":""},411,"Acatenango",{"$f":"IFERROR(VLOOKUP(Tabla38[[#This Row],[CODIGO municipio]],[3]!Tabla6[[#All],[codigo_mun]],1,FALSE),\"\")","v":""},{"$f":"IFERROR(VLOOKUP(Tabla38[[#This Row],[CODIGO municipio]],[3]!Tabla12[#All],2,FALSE),\"\")","v":""},{"$f":"IFERROR(VLOOKUP(Tabla38[[#This Row],[CODIGO municipio]],[3]!Tabla7[#All],3,FALSE),\"\")","v":""},{"$f":"IFERROR(VLOOKUP(Tabla38[[#This Row],[CODIGO municipio]],[3]!Tabla7[#All],4,FALSE),\"\")","v":""},{"$f":"IFERROR(VLOOKUP(Tabla38[[#This Row],[CODIGO municipio]],[3]!Tabla7[#All],11,FALSE),\"\")","v":""},{"$f":"IFERROR(VLOOKUP(Tabla38[[#This Row],[CODIGO municipio]],[3]!Tabla7[#All],12,FALSE),\"\")","v":""},{"$f":"IFERROR(VLOOKUP(Tabla38[[#This Row],[CODIGO municipio]],[3]!Tabla7[#All],13,FALSE),\"\")","v":""},{"$f":"IFERROR(VLOOKUP(Tabla38[[#This Row],[CODIGO municipio]],[3]!Tabla7[#All],14,FALSE),\"\")","v":""},{"$f":"IFERROR(VLOOKUP(Tabla38[[#This Row],[CODIGO municipio]],[3]!Tabla7[#All],15,FALSE),\"\")","v":""},{"$f":"IFERROR(VLOOKUP(Tabla38[[#This Row],[CODIGO municipio]],[3]!Tabla7[#All],16,FALSE),\"\")","v":""},{"$f":"IFERROR(VLOOKUP(Tabla38[[#This Row],[CODIGO municipio]],[3]!Tabla7[#All],17,FALSE),\"\")","v":""},{"$f":"IFERROR(VLOOKUP(Tabla38[[#This Row],[CODIGO municipio]],[3]!Tabla7[#All],18,FALSE),\"\")","v":""},{"$f":"IFERROR(VLOOKUP(Tabla38[[#This Row],[CODIGO municipio]],[3]!Tabla7[#All],19,FALSE),\"\")","v":""},{"$f":"IFERROR(VLOOKUP(Tabla38[[#This Row],[CODIGO municipio]],[3]!Tabla8[#All],3,FALSE),\"\")","v":""},{"$f":"IFERROR(VLOOKUP(Tabla38[[#This Row],[CODIGO municipio]],[3]!Tabla8[#All],4,FALSE),\"\")","v":""},{"$f":"IFERROR(VLOOKUP(Tabla38[[#This Row],[CODIGO municipio]],[3]!Tabla8[#All],5,FALSE),\"\")","v":""},{"$f":"IFERROR(VLOOKUP(Tabla38[[#This Row],[CODIGO municipio]],[3]!Tabla8[#All],6,FALSE),\"\")","v":""},{"$f":"IFERROR(VLOOKUP(Tabla38[[#This Row],[CODIGO municipio]],[3]!Tabla8[#All],7,FALSE),\"\")","v":""},{"$f":"IFERROR(VLOOKUP(Tabla38[[#This Row],[CODIGO municipio]],[3]!Tabla8[#All],8,FALSE),\"\")","v":""},{"$f":"IFERROR(VLOOKUP(Tabla38[[#This Row],[CODIGO municipio]],[3]!Tabla8[#All],9,FALSE),\"\")","v":""},{"$f":"IFERROR(VLOOKUP(Tabla38[[#This Row],[CODIGO municipio]],[3]!Tabla8[#All],10,FALSE),\"\")","v":""},{"$f":"IFERROR(VLOOKUP(Tabla38[[#This Row],[CODIGO municipio]],[3]!Tabla8[#All],11,FALSE),\"\")","v":""},{"$f":"IFERROR(VLOOKUP(Tabla38[[#This Row],[CODIGO municipio]],[3]!Tabla8[#All],12,FALSE),\"\")","v":""},{"$f":"IFERROR(VLOOKUP(Tabla38[[#This Row],[CODIGO municipio]],[3]!Tabla8[#All],13,FALSE),\"\")","v":""},{"$f":"IFERROR(VLOOKUP(Tabla38[[#This Row],[CODIGO municipio]],[3]!Tabla8[#All],14,FALSE),\"\")","v":""},{"$f":"IFERROR(VLOOKUP(Tabla38[[#This Row],[CODIGO municipio]],[3]!Tabla8[#All],15,FALSE),\"\")","v":""},{"$f":"IFERROR(VLOOKUP(Tabla38[[#This Row],[CODIGO municipio]],[3]!Tabla8[#All],16,FALSE),\"\")","v":""},{"$f":"IFERROR(VLOOKUP(Tabla38[[#This Row],[CODIGO municipio]],[3]!Tabla8[#All],17,FALSE),\"\")","v":""},{"$f":"IFERROR(VLOOKUP(Tabla38[[#This Row],[CODIGO municipio]],[3]!Tabla8[#All],18,FALSE),\"\")","v":""},{"$f":"IFERROR(VLOOKUP(Tabla38[[#This Row],[CODIGO municipio]],[3]!Tabla8[#All],19,FALSE),\"\")","v":""},{"$f":"IFERROR(VLOOKUP(Tabla38[[#This Row],[CODIGO municipio]],[3]!Tabla8[#All],20,FALSE),\"\")","v":""},{"$f":"IFERROR(VLOOKUP(Tabla38[[#This Row],[CODIGO municipio]],[3]!Tabla8[#All],21,FALSE),\"\")","v":""},{"$f":"IFERROR(VLOOKUP(Tabla38[[#This Row],[CODIGO municipio]],[3]!Tabla8[#All],22,FALSE),\"\")","v":""},{"$f":"IFERROR(VLOOKUP(Tabla38[[#This Row],[CODIGO municipio]],[3]!Tabla8[#All],23,FALSE),\"\")","v":""},{"$f":"IFERROR(VLOOKUP(Tabla38[[#This Row],[CODIGO municipio]],[3]!Tabla9[#All],3,FALSE),\"\")","v":""}]
[{"$f":"IFERROR(VLOOKUP(Tabla38[[#This Row],[Municipio]],[3]!Tabla2[#All],3,FALSE),\"\")","v":""},412,"San Pedro Yepocapa",{"$f":"IFERROR(VLOOKUP(Tabla38[[#This Row],[CODIGO municipio]],[3]!Tabla6[[#All],[codigo_mun]],1,FALSE),\"\")","v":""},{"$f":"IFERROR(VLOOKUP(Tabla38[[#This Row],[CODIGO municipio]],[3]!Tabla12[#All],2,FALSE),\"\")","v":""},{"$f":"IFERROR(VLOOKUP(Tabla38[[#This Row],[CODIGO municipio]],[3]!Tabla7[#All],3,FALSE),\"\")","v":""},{"$f":"IFERROR(VLOOKUP(Tabla38[[#This Row],[CODIGO municipio]],[3]!Tabla7[#All],4,FALSE),\"\")","v":""},{"$f":"IFERROR(VLOOKUP(Tabla38[[#This Row],[CODIGO municipio]],[3]!Tabla7[#All],11,FALSE),\"\")","v":""},{"$f":"IFERROR(VLOOKUP(Tabla38[[#This Row],[CODIGO municipio]],[3]!Tabla7[#All],12,FALSE),\"\")","v":""},{"$f":"IFERROR(VLOOKUP(Tabla38[[#This Row],[CODIGO municipio]],[3]!Tabla7[#All],13,FALSE),\"\")","v":""},{"$f":"IFERROR(VLOOKUP(Tabla38[[#This Row],[CODIGO municipio]],[3]!Tabla7[#All],14,FALSE),\"\")","v":""},{"$f":"IFERROR(VLOOKUP(Tabla38[[#This Row],[CODIGO municipio]],[3]!Tabla7[#All],15,FALSE),\"\")","v":""},{"$f":"IFERROR(VLOOKUP(Tabla38[[#This Row],[CODIGO municipio]],[3]!Tabla7[#All],16,FALSE),\"\")","v":""},{"$f":"IFERROR(VLOOKUP(Tabla38[[#This Row],[CODIGO municipio]],[3]!Tabla7[#All],17,FALSE),\"\")","v":""},{"$f":"IFERROR(VLOOKUP(Tabla38[[#This Row],[CODIGO municipio]],[3]!Tabla7[#All],18,FALSE),\"\")","v":""},{"$f":"IFERROR(VLOOKUP(Tabla38[[#This Row],[CODIGO municipio]],[3]!Tabla7[#All],19,FALSE),\"\")","v":""},{"$f":"IFERROR(VLOOKUP(Tabla38[[#This Row],[CODIGO municipio]],[3]!Tabla8[#All],3,FALSE),\"\")","v":""},{"$f":"IFERROR(VLOOKUP(Tabla38[[#This Row],[CODIGO municipio]],[3]!Tabla8[#All],4,FALSE),\"\")","v":""},{"$f":"IFERROR(VLOOKUP(Tabla38[[#This Row],[CODIGO municipio]],[3]!Tabla8[#All],5,FALSE),\"\")","v":""},{"$f":"IFERROR(VLOOKUP(Tabla38[[#This Row],[CODIGO municipio]],[3]!Tabla8[#All],6,FALSE),\"\")","v":""},{"$f":"IFERROR(VLOOKUP(Tabla38[[#This Row],[CODIGO municipio]],[3]!Tabla8[#All],7,FALSE),\"\")","v":""},{"$f":"IFERROR(VLOOKUP(Tabla38[[#This Row],[CODIGO municipio]],[3]!Tabla8[#All],8,FALSE),\"\")","v":""},{"$f":"IFERROR(VLOOKUP(Tabla38[[#This Row],[CODIGO municipio]],[3]!Tabla8[#All],9,FALSE),\"\")","v":""},{"$f":"IFERROR(VLOOKUP(Tabla38[[#This Row],[CODIGO municipio]],[3]!Tabla8[#All],10,FALSE),\"\")","v":""},{"$f":"IFERROR(VLOOKUP(Tabla38[[#This Row],[CODIGO municipio]],[3]!Tabla8[#All],11,FALSE),\"\")","v":""},{"$f":"IFERROR(VLOOKUP(Tabla38[[#This Row],[CODIGO municipio]],[3]!Tabla8[#All],12,FALSE),\"\")","v":""},{"$f":"IFERROR(VLOOKUP(Tabla38[[#This Row],[CODIGO municipio]],[3]!Tabla8[#All],13,FALSE),\"\")","v":""},{"$f":"IFERROR(VLOOKUP(Tabla38[[#This Row],[CODIGO municipio]],[3]!Tabla8[#All],14,FALSE),\"\")","v":""},{"$f":"IFERROR(VLOOKUP(Tabla38[[#This Row],[CODIGO municipio]],[3]!Tabla8[#All],15,FALSE),\"\")","v":""},{"$f":"IFERROR(VLOOKUP(Tabla38[[#This Row],[CODIGO municipio]],[3]!Tabla8[#All],16,FALSE),\"\")","v":""},{"$f":"IFERROR(VLOOKUP(Tabla38[[#This Row],[CODIGO municipio]],[3]!Tabla8[#All],17,FALSE),\"\")","v":""},{"$f":"IFERROR(VLOOKUP(Tabla38[[#This Row],[CODIGO municipio]],[3]!Tabla8[#All],18,FALSE),\"\")","v":""},{"$f":"IFERROR(VLOOKUP(Tabla38[[#This Row],[CODIGO municipio]],[3]!Tabla8[#All],19,FALSE),\"\")","v":""},{"$f":"IFERROR(VLOOKUP(Tabla38[[#This Row],[CODIGO municipio]],[3]!Tabla8[#All],20,FALSE),\"\")","v":""},{"$f":"IFERROR(VLOOKUP(Tabla38[[#This Row],[CODIGO municipio]],[3]!Tabla8[#All],21,FALSE),\"\")","v":""},{"$f":"IFERROR(VLOOKUP(Tabla38[[#This Row],[CODIGO municipio]],[3]!Tabla8[#All],22,FALSE),\"\")","v":""},{"$f":"IFERROR(VLOOKUP(Tabla38[[#This Row],[CODIGO municipio]],[3]!Tabla8[#All],23,FALSE),\"\")","v":""},{"$f":"IFERROR(VLOOKUP(Tabla38[[#This Row],[CODIGO municipio]],[3]!Tabla9[#All],3,FALSE),\"\")","v":""}]
[{"$f":"IFERROR(VLOOKUP(Tabla38[[#This Row],[Municipio]],[3]!Tabla2[#All],3,FALSE),\"\")","v":""},413,"San Andrés Itzapa",{"$f":"IFERROR(VLOOKUP(Tabla38[[#This Row],[CODIGO municipio]],[3]!Tabla6[[#All],[codigo_mun]],1,FALSE),\"\")","v":""},{"$f":"IFERROR(VLOOKUP(Tabla38[[#This Row],[CODIGO municipio]],[3]!Tabla12[#All],2,FALSE),\"\")","v":""},{"$f":"IFERROR(VLOOKUP(Tabla38[[#This Row],[CODIGO municipio]],[3]!Tabla7[#All],3,FALSE),\"\")","v":""},{"$f":"IFERROR(VLOOKUP(Tabla38[[#This Row],[CODIGO municipio]],[3]!Tabla7[#All],4,FALSE),\"\")","v":""},{"$f":"IFERROR(VLOOKUP(Tabla38[[#This Row],[CODIGO municipio]],[3]!Tabla7[#All],11,FALSE),\"\")","v":""},{"$f":"IFERROR(VLOOKUP(Tabla38[[#This Row],[CODIGO municipio]],[3]!Tabla7[#All],12,FALSE),\"\")","v":""},{"$f":"IFERROR(VLOOKUP(Tabla38[[#This Row],[CODIGO municipio]],[3]!Tabla7[#All],13,FALSE),\"\")","v":""},{"$f":"IFERROR(VLOOKUP(Tabla38[[#This Row],[CODIGO municipio]],[3]!Tabla7[#All],14,FALSE),\"\")","v":""},{"$f":"IFERROR(VLOOKUP(Tabla38[[#This Row],[CODIGO municipio]],[3]!Tabla7[#All],15,FALSE),\"\")","v":""},{"$f":"IFERROR(VLOOKUP(Tabla38[[#This Row],[CODIGO municipio]],[3]!Tabla7[#All],16,FALSE),\"\")","v":""},{"$f":"IFERROR(VLOOKUP(Tabla38[[#This Row],[CODIGO municipio]],[3]!Tabla7[#All],17,FALSE),\"\")","v":""},{"$f":"IFERROR(VLOOKUP(Tabla38[[#This Row],[CODIGO municipio]],[3]!Tabla7[#All],18,FALSE),\"\")","v":""},{"$f":"IFERROR(VLOOKUP(Tabla38[[#This Row],[CODIGO municipio]],[3]!Tabla7[#All],19,FALSE),\"\")","v":""},{"$f":"IFERROR(VLOOKUP(Tabla38[[#This Row],[CODIGO municipio]],[3]!Tabla8[#All],3,FALSE),\"\")","v":""},{"$f":"IFERROR(VLOOKUP(Tabla38[[#This Row],[CODIGO municipio]],[3]!Tabla8[#All],4,FALSE),\"\")","v":""},{"$f":"IFERROR(VLOOKUP(Tabla38[[#This Row],[CODIGO municipio]],[3]!Tabla8[#All],5,FALSE),\"\")","v":""},{"$f":"IFERROR(VLOOKUP(Tabla38[[#This Row],[CODIGO municipio]],[3]!Tabla8[#All],6,FALSE),\"\")","v":""},{"$f":"IFERROR(VLOOKUP(Tabla38[[#This Row],[CODIGO municipio]],[3]!Tabla8[#All],7,FALSE),\"\")","v":""},{"$f":"IFERROR(VLOOKUP(Tabla38[[#This Row],[CODIGO municipio]],[3]!Tabla8[#All],8,FALSE),\"\")","v":""},{"$f":"IFERROR(VLOOKUP(Tabla38[[#This Row],[CODIGO municipio]],[3]!Tabla8[#All],9,FALSE),\"\")","v":""},{"$f":"IFERROR(VLOOKUP(Tabla38[[#This Row],[CODIGO municipio]],[3]!Tabla8[#All],10,FALSE),\"\")","v":""},{"$f":"IFERROR(VLOOKUP(Tabla38[[#This Row],[CODIGO municipio]],[3]!Tabla8[#All],11,FALSE),\"\")","v":""},{"$f":"IFERROR(VLOOKUP(Tabla38[[#This Row],[CODIGO municipio]],[3]!Tabla8[#All],12,FALSE),\"\")","v":""},{"$f":"IFERROR(VLOOKUP(Tabla38[[#This Row],[CODIGO municipio]],[3]!Tabla8[#All],13,FALSE),\"\")","v":""},{"$f":"IFERROR(VLOOKUP(Tabla38[[#This Row],[CODIGO municipio]],[3]!Tabla8[#All],14,FALSE),\"\")","v":""},{"$f":"IFERROR(VLOOKUP(Tabla38[[#This Row],[CODIGO municipio]],[3]!Tabla8[#All],15,FALSE),\"\")","v":""},{"$f":"IFERROR(VLOOKUP(Tabla38[[#This Row],[CODIGO municipio]],[3]!Tabla8[#All],16,FALSE),\"\")","v":""},{"$f":"IFERROR(VLOOKUP(Tabla38[[#This Row],[CODIGO municipio]],[3]!Tabla8[#All],17,FALSE),\"\")","v":""},{"$f":"IFERROR(VLOOKUP(Tabla38[[#This Row],[CODIGO municipio]],[3]!Tabla8[#All],18,FALSE),\"\")","v":""},{"$f":"IFERROR(VLOOKUP(Tabla38[[#This Row],[CODIGO municipio]],[3]!Tabla8[#All],19,FALSE),\"\")","v":""},{"$f":"IFERROR(VLOOKUP(Tabla38[[#This Row],[CODIGO municipio]],[3]!Tabla8[#All],20,FALSE),\"\")","v":""},{"$f":"IFERROR(VLOOKUP(Tabla38[[#This Row],[CODIGO municipio]],[3]!Tabla8[#All],21,FALSE),\"\")","v":""},{"$f":"IFERROR(VLOOKUP(Tabla38[[#This Row],[CODIGO municipio]],[3]!Tabla8[#All],22,FALSE),\"\")","v":""},{"$f":"IFERROR(VLOOKUP(Tabla38[[#This Row],[CODIGO municipio]],[3]!Tabla8[#All],23,FALSE),\"\")","v":""},{"$f":"IFERROR(VLOOKUP(Tabla38[[#This Row],[CODIGO municipio]],[3]!Tabla9[#All],3,FALSE),\"\")","v":""}]
[{"$f":"IFERROR(VLOOKUP(Tabla38[[#This Row],[Municipio]],[3]!Tabla2[#All],3,FALSE),\"\")","v":""},414,"Parramos",{"$f":"IFERROR(VLOOKUP(Tabla38[[#This Row],[CODIGO municipio]],[3]!Tabla6[[#All],[codigo_mun]],1,FALSE),\"\")","v":""},{"$f":"IFERROR(VLOOKUP(Tabla38[[#This Row],[CODIGO municipio]],[3]!Tabla12[#All],2,FALSE),\"\")","v":""},{"$f":"IFERROR(VLOOKUP(Tabla38[[#This Row],[CODIGO municipio]],[3]!Tabla7[#All],3,FALSE),\"\")","v":""},{"$f":"IFERROR(VLOOKUP(Tabla38[[#This Row],[CODIGO municipio]],[3]!Tabla7[#All],4,FALSE),\"\")","v":""},{"$f":"IFERROR(VLOOKUP(Tabla38[[#This Row],[CODIGO municipio]],[3]!Tabla7[#All],11,FALSE),\"\")","v":""},{"$f":"IFERROR(VLOOKUP(Tabla38[[#This Row],[CODIGO municipio]],[3]!Tabla7[#All],12,FALSE),\"\")","v":""},{"$f":"IFERROR(VLOOKUP(Tabla38[[#This Row],[CODIGO municipio]],[3]!Tabla7[#All],13,FALSE),\"\")","v":""},{"$f":"IFERROR(VLOOKUP(Tabla38[[#This Row],[CODIGO municipio]],[3]!Tabla7[#All],14,FALSE),\"\")","v":""},{"$f":"IFERROR(VLOOKUP(Tabla38[[#This Row],[CODIGO municipio]],[3]!Tabla7[#All],15,FALSE),\"\")","v":""},{"$f":"IFERROR(VLOOKUP(Tabla38[[#This Row],[CODIGO municipio]],[3]!Tabla7[#All],16,FALSE),\"\")","v":""},{"$f":"IFERROR(VLOOKUP(Tabla38[[#This Row],[CODIGO municipio]],[3]!Tabla7[#All],17,FALSE),\"\")","v":""},{"$f":"IFERROR(VLOOKUP(Tabla38[[#This Row],[CODIGO municipio]],[3]!Tabla7[#All],18,FALSE),\"\")","v":""},{"$f":"IFERROR(VLOOKUP(Tabla38[[#This Row],[CODIGO municipio]],[3]!Tabla7[#All],19,FALSE),\"\")","v":""},{"$f":"IFERROR(VLOOKUP(Tabla38[[#This Row],[CODIGO municipio]],[3]!Tabla8[#All],3,FALSE),\"\")","v":""},{"$f":"IFERROR(VLOOKUP(Tabla38[[#This Row],[CODIGO municipio]],[3]!Tabla8[#All],4,FALSE),\"\")","v":""},{"$f":"IFERROR(VLOOKUP(Tabla38[[#This Row],[CODIGO municipio]],[3]!Tabla8[#All],5,FALSE),\"\")","v":""},{"$f":"IFERROR(VLOOKUP(Tabla38[[#This Row],[CODIGO municipio]],[3]!Tabla8[#All],6,FALSE),\"\")","v":""},{"$f":"IFERROR(VLOOKUP(Tabla38[[#This Row],[CODIGO municipio]],[3]!Tabla8[#All],7,FALSE),\"\")","v":""},{"$f":"IFERROR(VLOOKUP(Tabla38[[#This Row],[CODIGO municipio]],[3]!Tabla8[#All],8,FALSE),\"\")","v":""},{"$f":"IFERROR(VLOOKUP(Tabla38[[#This Row],[CODIGO municipio]],[3]!Tabla8[#All],9,FALSE),\"\")","v":""},{"$f":"IFERROR(VLOOKUP(Tabla38[[#This Row],[CODIGO municipio]],[3]!Tabla8[#All],10,FALSE),\"\")","v":""},{"$f":"IFERROR(VLOOKUP(Tabla38[[#This Row],[CODIGO municipio]],[3]!Tabla8[#All],11,FALSE),\"\")","v":""},{"$f":"IFERROR(VLOOKUP(Tabla38[[#This Row],[CODIGO municipio]],[3]!Tabla8[#All],12,FALSE),\"\")","v":""},{"$f":"IFERROR(VLOOKUP(Tabla38[[#This Row],[CODIGO municipio]],[3]!Tabla8[#All],13,FALSE),\"\")","v":""},{"$f":"IFERROR(VLOOKUP(Tabla38[[#This Row],[CODIGO municipio]],[3]!Tabla8[#All],14,FALSE),\"\")","v":""},{"$f":"IFERROR(VLOOKUP(Tabla38[[#This Row],[CODIGO municipio]],[3]!Tabla8[#All],15,FALSE),\"\")","v":""},{"$f":"IFERROR(VLOOKUP(Tabla38[[#This Row],[CODIGO municipio]],[3]!Tabla8[#All],16,FALSE),\"\")","v":""},{"$f":"IFERROR(VLOOKUP(Tabla38[[#This Row],[CODIGO municipio]],[3]!Tabla8[#All],17,FALSE),\"\")","v":""},{"$f":"IFERROR(VLOOKUP(Tabla38[[#This Row],[CODIGO municipio]],[3]!Tabla8[#All],18,FALSE),\"\")","v":""},{"$f":"IFERROR(VLOOKUP(Tabla38[[#This Row],[CODIGO municipio]],[3]!Tabla8[#All],19,FALSE),\"\")","v":""},{"$f":"IFERROR(VLOOKUP(Tabla38[[#This Row],[CODIGO municipio]],[3]!Tabla8[#All],20,FALSE),\"\")","v":""},{"$f":"IFERROR(VLOOKUP(Tabla38[[#This Row],[CODIGO municipio]],[3]!Tabla8[#All],21,FALSE),\"\")","v":""},{"$f":"IFERROR(VLOOKUP(Tabla38[[#This Row],[CODIGO municipio]],[3]!Tabla8[#All],22,FALSE),\"\")","v":""},{"$f":"IFERROR(VLOOKUP(Tabla38[[#This Row],[CODIGO municipio]],[3]!Tabla8[#All],23,FALSE),\"\")","v":""},{"$f":"IFERROR(VLOOKUP(Tabla38[[#This Row],[CODIGO municipio]],[3]!Tabla9[#All],3,FALSE),\"\")","v":""}]
[{"$f":"IFERROR(VLOOKUP(Tabla38[[#This Row],[Municipio]],[3]!Tabla2[#All],3,FALSE),\"\")","v":""},415,"Zaragoza",{"$f":"IFERROR(VLOOKUP(Tabla38[[#This Row],[CODIGO municipio]],[3]!Tabla6[[#All],[codigo_mun]],1,FALSE),\"\")","v":""},{"$f":"IFERROR(VLOOKUP(Tabla38[[#This Row],[CODIGO municipio]],[3]!Tabla12[#All],2,FALSE),\"\")","v":""},{"$f":"IFERROR(VLOOKUP(Tabla38[[#This Row],[CODIGO municipio]],[3]!Tabla7[#All],3,FALSE),\"\")","v":""},{"$f":"IFERROR(VLOOKUP(Tabla38[[#This Row],[CODIGO municipio]],[3]!Tabla7[#All],4,FALSE),\"\")","v":""},{"$f":"IFERROR(VLOOKUP(Tabla38[[#This Row],[CODIGO municipio]],[3]!Tabla7[#All],11,FALSE),\"\")","v":""},{"$f":"IFERROR(VLOOKUP(Tabla38[[#This Row],[CODIGO municipio]],[3]!Tabla7[#All],12,FALSE),\"\")","v":""},{"$f":"IFERROR(VLOOKUP(Tabla38[[#This Row],[CODIGO municipio]],[3]!Tabla7[#All],13,FALSE),\"\")","v":""},{"$f":"IFERROR(VLOOKUP(Tabla38[[#This Row],[CODIGO municipio]],[3]!Tabla7[#All],14,FALSE),\"\")","v":""},{"$f":"IFERROR(VLOOKUP(Tabla38[[#This Row],[CODIGO municipio]],[3]!Tabla7[#All],15,FALSE),\"\")","v":""},{"$f":"IFERROR(VLOOKUP(Tabla38[[#This Row],[CODIGO municipio]],[3]!Tabla7[#All],16,FALSE),\"\")","v":""},{"$f":"IFERROR(VLOOKUP(Tabla38[[#This Row],[CODIGO municipio]],[3]!Tabla7[#All],17,FALSE),\"\")","v":""},{"$f":"IFERROR(VLOOKUP(Tabla38[[#This Row],[CODIGO municipio]],[3]!Tabla7[#All],18,FALSE),\"\")","v":""},{"$f":"IFERROR(VLOOKUP(Tabla38[[#This Row],[CODIGO municipio]],[3]!Tabla7[#All],19,FALSE),\"\")","v":""},{"$f":"IFERROR(VLOOKUP(Tabla38[[#This Row],[CODIGO municipio]],[3]!Tabla8[#All],3,FALSE),\"\")","v":""},{"$f":"IFERROR(VLOOKUP(Tabla38[[#This Row],[CODIGO municipio]],[3]!Tabla8[#All],4,FALSE),\"\")","v":""},{"$f":"IFERROR(VLOOKUP(Tabla38[[#This Row],[CODIGO municipio]],[3]!Tabla8[#All],5,FALSE),\"\")","v":""},{"$f":"IFERROR(VLOOKUP(Tabla38[[#This Row],[CODIGO municipio]],[3]!Tabla8[#All],6,FALSE),\"\")","v":""},{"$f":"IFERROR(VLOOKUP(Tabla38[[#This Row],[CODIGO municipio]],[3]!Tabla8[#All],7,FALSE),\"\")","v":""},{"$f":"IFERROR(VLOOKUP(Tabla38[[#This Row],[CODIGO municipio]],[3]!Tabla8[#All],8,FALSE),\"\")","v":""},{"$f":"IFERROR(VLOOKUP(Tabla38[[#This Row],[CODIGO municipio]],[3]!Tabla8[#All],9,FALSE),\"\")","v":""},{"$f":"IFERROR(VLOOKUP(Tabla38[[#This Row],[CODIGO municipio]],[3]!Tabla8[#All],10,FALSE),\"\")","v":""},{"$f":"IFERROR(VLOOKUP(Tabla38[[#This Row],[CODIGO municipio]],[3]!Tabla8[#All],11,FALSE),\"\")","v":""},{"$f":"IFERROR(VLOOKUP(Tabla38[[#This Row],[CODIGO municipio]],[3]!Tabla8[#All],12,FALSE),\"\")","v":""},{"$f":"IFERROR(VLOOKUP(Tabla38[[#This Row],[CODIGO municipio]],[3]!Tabla8[#All],13,FALSE),\"\")","v":""},{"$f":"IFERROR(VLOOKUP(Tabla38[[#This Row],[CODIGO municipio]],[3]!Tabla8[#All],14,FALSE),\"\")","v":""},{"$f":"IFERROR(VLOOKUP(Tabla38[[#This Row],[CODIGO municipio]],[3]!Tabla8[#All],15,FALSE),\"\")","v":""},{"$f":"IFERROR(VLOOKUP(Tabla38[[#This Row],[CODIGO municipio]],[3]!Tabla8[#All],16,FALSE),\"\")","v":""},{"$f":"IFERROR(VLOOKUP(Tabla38[[#This Row],[CODIGO municipio]],[3]!Tabla8[#All],17,FALSE),\"\")","v":""},{"$f":"IFERROR(VLOOKUP(Tabla38[[#This Row],[CODIGO municipio]],[3]!Tabla8[#All],18,FALSE),\"\")","v":""},{"$f":"IFERROR(VLOOKUP(Tabla38[[#This Row],[CODIGO municipio]],[3]!Tabla8[#All],19,FALSE),\"\")","v":""},{"$f":"IFERROR(VLOOKUP(Tabla38[[#This Row],[CODIGO municipio]],[3]!Tabla8[#All],20,FALSE),\"\")","v":""},{"$f":"IFERROR(VLOOKUP(Tabla38[[#This Row],[CODIGO municipio]],[3]!Tabla8[#All],21,FALSE),\"\")","v":""},{"$f":"IFERROR(VLOOKUP(Tabla38[[#This Row],[CODIGO municipio]],[3]!Tabla8[#All],22,FALSE),\"\")","v":""},{"$f":"IFERROR(VLOOKUP(Tabla38[[#This Row],[CODIGO municipio]],[3]!Tabla8[#All],23,FALSE),\"\")","v":""},{"$f":"IFERROR(VLOOKUP(Tabla38[[#This Row],[CODIGO municipio]],[3]!Tabla9[#All],3,FALSE),\"\")","v":""}]
[{"$f":"IFERROR(VLOOKUP(Tabla38[[#This Row],[Municipio]],[3]!Tabla2[#All],3,FALSE),\"\")","v":""},416,"El Tejar",{"$f":"IFERROR(VLOOKUP(Tabla38[[#This Row],[CODIGO municipio]],[3]!Tabla6[[#All],[codigo_mun]],1,FALSE),\"\")","v":""},{"$f":"IFERROR(VLOOKUP(Tabla38[[#This Row],[CODIGO municipio]],[3]!Tabla12[#All],2,FALSE),\"\")","v":""},{"$f":"IFERROR(VLOOKUP(Tabla38[[#This Row],[CODIGO municipio]],[3]!Tabla7[#All],3,FALSE),\"\")","v":""},{"$f":"IFERROR(VLOOKUP(Tabla38[[#This Row],[CODIGO municipio]],[3]!Tabla7[#All],4,FALSE),\"\")","v":""},{"$f":"IFERROR(VLOOKUP(Tabla38[[#This Row],[CODIGO municipio]],[3]!Tabla7[#All],11,FALSE),\"\")","v":""},{"$f":"IFERROR(VLOOKUP(Tabla38[[#This Row],[CODIGO municipio]],[3]!Tabla7[#All],12,FALSE),\"\")","v":""},{"$f":"IFERROR(VLOOKUP(Tabla38[[#This Row],[CODIGO municipio]],[3]!Tabla7[#All],13,FALSE),\"\")","v":""},{"$f":"IFERROR(VLOOKUP(Tabla38[[#This Row],[CODIGO municipio]],[3]!Tabla7[#All],14,FALSE),\"\")","v":""},{"$f":"IFERROR(VLOOKUP(Tabla38[[#This Row],[CODIGO municipio]],[3]!Tabla7[#All],15,FALSE),\"\")","v":""},{"$f":"IFERROR(VLOOKUP(Tabla38[[#This Row],[CODIGO municipio]],[3]!Tabla7[#All],16,FALSE),\"\")","v":""},{"$f":"IFERROR(VLOOKUP(Tabla38[[#This Row],[CODIGO municipio]],[3]!Tabla7[#All],17,FALSE),\"\")","v":""},{"$f":"IFERROR(VLOOKUP(Tabla38[[#This Row],[CODIGO municipio]],[3]!Tabla7[#All],18,FALSE),\"\")","v":""},{"$f":"IFERROR(VLOOKUP(Tabla38[[#This Row],[CODIGO municipio]],[3]!Tabla7[#All],19,FALSE),\"\")","v":""},{"$f":"IFERROR(VLOOKUP(Tabla38[[#This Row],[CODIGO municipio]],[3]!Tabla8[#All],3,FALSE),\"\")","v":""},{"$f":"IFERROR(VLOOKUP(Tabla38[[#This Row],[CODIGO municipio]],[3]!Tabla8[#All],4,FALSE),\"\")","v":""},{"$f":"IFERROR(VLOOKUP(Tabla38[[#This Row],[CODIGO municipio]],[3]!Tabla8[#All],5,FALSE),\"\")","v":""},{"$f":"IFERROR(VLOOKUP(Tabla38[[#This Row],[CODIGO municipio]],[3]!Tabla8[#All],6,FALSE),\"\")","v":""},{"$f":"IFERROR(VLOOKUP(Tabla38[[#This Row],[CODIGO municipio]],[3]!Tabla8[#All],7,FALSE),\"\")","v":""},{"$f":"IFERROR(VLOOKUP(Tabla38[[#This Row],[CODIGO municipio]],[3]!Tabla8[#All],8,FALSE),\"\")","v":""},{"$f":"IFERROR(VLOOKUP(Tabla38[[#This Row],[CODIGO municipio]],[3]!Tabla8[#All],9,FALSE),\"\")","v":""},{"$f":"IFERROR(VLOOKUP(Tabla38[[#This Row],[CODIGO municipio]],[3]!Tabla8[#All],10,FALSE),\"\")","v":""},{"$f":"IFERROR(VLOOKUP(Tabla38[[#This Row],[CODIGO municipio]],[3]!Tabla8[#All],11,FALSE),\"\")","v":""},{"$f":"IFERROR(VLOOKUP(Tabla38[[#This Row],[CODIGO municipio]],[3]!Tabla8[#All],12,FALSE),\"\")","v":""},{"$f":"IFERROR(VLOOKUP(Tabla38[[#This Row],[CODIGO municipio]],[3]!Tabla8[#All],13,FALSE),\"\")","v":""},{"$f":"IFERROR(VLOOKUP(Tabla38[[#This Row],[CODIGO municipio]],[3]!Tabla8[#All],14,FALSE),\"\")","v":""},{"$f":"IFERROR(VLOOKUP(Tabla38[[#This Row],[CODIGO municipio]],[3]!Tabla8[#All],15,FALSE),\"\")","v":""},{"$f":"IFERROR(VLOOKUP(Tabla38[[#This Row],[CODIGO municipio]],[3]!Tabla8[#All],16,FALSE),\"\")","v":""},{"$f":"IFERROR(VLOOKUP(Tabla38[[#This Row],[CODIGO municipio]],[3]!Tabla8[#All],17,FALSE),\"\")","v":""},{"$f":"IFERROR(VLOOKUP(Tabla38[[#This Row],[CODIGO municipio]],[3]!Tabla8[#All],18,FALSE),\"\")","v":""},{"$f":"IFERROR(VLOOKUP(Tabla38[[#This Row],[CODIGO municipio]],[3]!Tabla8[#All],19,FALSE),\"\")","v":""},{"$f":"IFERROR(VLOOKUP(Tabla38[[#This Row],[CODIGO municipio]],[3]!Tabla8[#All],20,FALSE),\"\")","v":""},{"$f":"IFERROR(VLOOKUP(Tabla38[[#This Row],[CODIGO municipio]],[3]!Tabla8[#All],21,FALSE),\"\")","v":""},{"$f":"IFERROR(VLOOKUP(Tabla38[[#This Row],[CODIGO municipio]],[3]!Tabla8[#All],22,FALSE),\"\")","v":""},{"$f":"IFERROR(VLOOKUP(Tabla38[[#This Row],[CODIGO municipio]],[3]!Tabla8[#All],23,FALSE),\"\")","v":""},{"$f":"IFERROR(VLOOKUP(Tabla38[[#This Row],[CODIGO municipio]],[3]!Tabla9[#All],3,FALSE),\"\")","v":""}]
[{"$f":"IFERROR(VLOOKUP(Tabla38[[#This Row],[Municipio]],[3]!Tabla2[#All],3,FALSE),\"\")","v":""},501,"Escuintla",{"$f":"IFERROR(VLOOKUP(Tabla38[[#This Row],[CODIGO municipio]],[3]!Tabla6[[#All],[codigo_mun]],1,FALSE),\"\")","v":""},{"$f":"IFERROR(VLOOKUP(Tabla38[[#This Row],[CODIGO municipio]],[3]!Tabla12[#All],2,FALSE),\"\")","v":""},{"$f":"IFERROR(VLOOKUP(Tabla38[[#This Row],[CODIGO municipio]],[3]!Tabla7[#All],3,FALSE),\"\")","v":""},{"$f":"IFERROR(VLOOKUP(Tabla38[[#This Row],[CODIGO municipio]],[3]!Tabla7[#All],4,FALSE),\"\")","v":""},{"$f":"IFERROR(VLOOKUP(Tabla38[[#This Row],[CODIGO municipio]],[3]!Tabla7[#All],11,FALSE),\"\")","v":""},{"$f":"IFERROR(VLOOKUP(Tabla38[[#This Row],[CODIGO municipio]],[3]!Tabla7[#All],12,FALSE),\"\")","v":""},{"$f":"IFERROR(VLOOKUP(Tabla38[[#This Row],[CODIGO municipio]],[3]!Tabla7[#All],13,FALSE),\"\")","v":""},{"$f":"IFERROR(VLOOKUP(Tabla38[[#This Row],[CODIGO municipio]],[3]!Tabla7[#All],14,FALSE),\"\")","v":""},{"$f":"IFERROR(VLOOKUP(Tabla38[[#This Row],[CODIGO municipio]],[3]!Tabla7[#All],15,FALSE),\"\")","v":""},{"$f":"IFERROR(VLOOKUP(Tabla38[[#This Row],[CODIGO municipio]],[3]!Tabla7[#All],16,FALSE),\"\")","v":""},{"$f":"IFERROR(VLOOKUP(Tabla38[[#This Row],[CODIGO municipio]],[3]!Tabla7[#All],17,FALSE),\"\")","v":""},{"$f":"IFERROR(VLOOKUP(Tabla38[[#This Row],[CODIGO municipio]],[3]!Tabla7[#All],18,FALSE),\"\")","v":""},{"$f":"IFERROR(VLOOKUP(Tabla38[[#This Row],[CODIGO municipio]],[3]!Tabla7[#All],19,FALSE),\"\")","v":""},{"$f":"IFERROR(VLOOKUP(Tabla38[[#This Row],[CODIGO municipio]],[3]!Tabla8[#All],3,FALSE),\"\")","v":""},{"$f":"IFERROR(VLOOKUP(Tabla38[[#This Row],[CODIGO municipio]],[3]!Tabla8[#All],4,FALSE),\"\")","v":""},{"$f":"IFERROR(VLOOKUP(Tabla38[[#This Row],[CODIGO municipio]],[3]!Tabla8[#All],5,FALSE),\"\")","v":""},{"$f":"IFERROR(VLOOKUP(Tabla38[[#This Row],[CODIGO municipio]],[3]!Tabla8[#All],6,FALSE),\"\")","v":""},{"$f":"IFERROR(VLOOKUP(Tabla38[[#This Row],[CODIGO municipio]],[3]!Tabla8[#All],7,FALSE),\"\")","v":""},{"$f":"IFERROR(VLOOKUP(Tabla38[[#This Row],[CODIGO municipio]],[3]!Tabla8[#All],8,FALSE),\"\")","v":""},{"$f":"IFERROR(VLOOKUP(Tabla38[[#This Row],[CODIGO municipio]],[3]!Tabla8[#All],9,FALSE),\"\")","v":""},{"$f":"IFERROR(VLOOKUP(Tabla38[[#This Row],[CODIGO municipio]],[3]!Tabla8[#All],10,FALSE),\"\")","v":""},{"$f":"IFERROR(VLOOKUP(Tabla38[[#This Row],[CODIGO municipio]],[3]!Tabla8[#All],11,FALSE),\"\")","v":""},{"$f":"IFERROR(VLOOKUP(Tabla38[[#This Row],[CODIGO municipio]],[3]!Tabla8[#All],12,FALSE),\"\")","v":""},{"$f":"IFERROR(VLOOKUP(Tabla38[[#This Row],[CODIGO municipio]],[3]!Tabla8[#All],13,FALSE),\"\")","v":""},{"$f":"IFERROR(VLOOKUP(Tabla38[[#This Row],[CODIGO municipio]],[3]!Tabla8[#All],14,FALSE),\"\")","v":""},{"$f":"IFERROR(VLOOKUP(Tabla38[[#This Row],[CODIGO municipio]],[3]!Tabla8[#All],15,FALSE),\"\")","v":""},{"$f":"IFERROR(VLOOKUP(Tabla38[[#This Row],[CODIGO municipio]],[3]!Tabla8[#All],16,FALSE),\"\")","v":""},{"$f":"IFERROR(VLOOKUP(Tabla38[[#This Row],[CODIGO municipio]],[3]!Tabla8[#All],17,FALSE),\"\")","v":""},{"$f":"IFERROR(VLOOKUP(Tabla38[[#This Row],[CODIGO municipio]],[3]!Tabla8[#All],18,FALSE),\"\")","v":""},{"$f":"IFERROR(VLOOKUP(Tabla38[[#This Row],[CODIGO municipio]],[3]!Tabla8[#All],19,FALSE),\"\")","v":""},{"$f":"IFERROR(VLOOKUP(Tabla38[[#This Row],[CODIGO municipio]],[3]!Tabla8[#All],20,FALSE),\"\")","v":""},{"$f":"IFERROR(VLOOKUP(Tabla38[[#This Row],[CODIGO municipio]],[3]!Tabla8[#All],21,FALSE),\"\")","v":""},{"$f":"IFERROR(VLOOKUP(Tabla38[[#This Row],[CODIGO municipio]],[3]!Tabla8[#All],22,FALSE),\"\")","v":""},{"$f":"IFERROR(VLOOKUP(Tabla38[[#This Row],[CODIGO municipio]],[3]!Tabla8[#All],23,FALSE),\"\")","v":""},{"$f":"IFERROR(VLOOKUP(Tabla38[[#This Row],[CODIGO municipio]],[3]!Tabla9[#All],3,FALSE),\"\")","v":""}]
[{"$f":"IFERROR(VLOOKUP(Tabla38[[#This Row],[Municipio]],[3]!Tabla2[#All],3,FALSE),\"\")","v":""},502,"Santa Lucía Cotzumalguapa",{"$f":"IFERROR(VLOOKUP(Tabla38[[#This Row],[CODIGO municipio]],[3]!Tabla6[[#All],[codigo_mun]],1,FALSE),\"\")","v":""},{"$f":"IFERROR(VLOOKUP(Tabla38[[#This Row],[CODIGO municipio]],[3]!Tabla12[#All],2,FALSE),\"\")","v":""},{"$f":"IFERROR(VLOOKUP(Tabla38[[#This Row],[CODIGO municipio]],[3]!Tabla7[#All],3,FALSE),\"\")","v":""},{"$f":"IFERROR(VLOOKUP(Tabla38[[#This Row],[CODIGO municipio]],[3]!Tabla7[#All],4,FALSE),\"\")","v":""},{"$f":"IFERROR(VLOOKUP(Tabla38[[#This Row],[CODIGO municipio]],[3]!Tabla7[#All],11,FALSE),\"\")","v":""},{"$f":"IFERROR(VLOOKUP(Tabla38[[#This Row],[CODIGO municipio]],[3]!Tabla7[#All],12,FALSE),\"\")","v":""},{"$f":"IFERROR(VLOOKUP(Tabla38[[#This Row],[CODIGO municipio]],[3]!Tabla7[#All],13,FALSE),\"\")","v":""},{"$f":"IFERROR(VLOOKUP(Tabla38[[#This Row],[CODIGO municipio]],[3]!Tabla7[#All],14,FALSE),\"\")","v":""},{"$f":"IFERROR(VLOOKUP(Tabla38[[#This Row],[CODIGO municipio]],[3]!Tabla7[#All],15,FALSE),\"\")","v":""},{"$f":"IFERROR(VLOOKUP(Tabla38[[#This Row],[CODIGO municipio]],[3]!Tabla7[#All],16,FALSE),\"\")","v":""},{"$f":"IFERROR(VLOOKUP(Tabla38[[#This Row],[CODIGO municipio]],[3]!Tabla7[#All],17,FALSE),\"\")","v":""},{"$f":"IFERROR(VLOOKUP(Tabla38[[#This Row],[CODIGO municipio]],[3]!Tabla7[#All],18,FALSE),\"\")","v":""},{"$f":"IFERROR(VLOOKUP(Tabla38[[#This Row],[CODIGO municipio]],[3]!Tabla7[#All],19,FALSE),\"\")","v":""},{"$f":"IFERROR(VLOOKUP(Tabla38[[#This Row],[CODIGO municipio]],[3]!Tabla8[#All],3,FALSE),\"\")","v":""},{"$f":"IFERROR(VLOOKUP(Tabla38[[#This Row],[CODIGO municipio]],[3]!Tabla8[#All],4,FALSE),\"\")","v":""},{"$f":"IFERROR(VLOOKUP(Tabla38[[#This Row],[CODIGO municipio]],[3]!Tabla8[#All],5,FALSE),\"\")","v":""},{"$f":"IFERROR(VLOOKUP(Tabla38[[#This Row],[CODIGO municipio]],[3]!Tabla8[#All],6,FALSE),\"\")","v":""},{"$f":"IFERROR(VLOOKUP(Tabla38[[#This Row],[CODIGO municipio]],[3]!Tabla8[#All],7,FALSE),\"\")","v":""},{"$f":"IFERROR(VLOOKUP(Tabla38[[#This Row],[CODIGO municipio]],[3]!Tabla8[#All],8,FALSE),\"\")","v":""},{"$f":"IFERROR(VLOOKUP(Tabla38[[#This Row],[CODIGO municipio]],[3]!Tabla8[#All],9,FALSE),\"\")","v":""},{"$f":"IFERROR(VLOOKUP(Tabla38[[#This Row],[CODIGO municipio]],[3]!Tabla8[#All],10,FALSE),\"\")","v":""},{"$f":"IFERROR(VLOOKUP(Tabla38[[#This Row],[CODIGO municipio]],[3]!Tabla8[#All],11,FALSE),\"\")","v":""},{"$f":"IFERROR(VLOOKUP(Tabla38[[#This Row],[CODIGO municipio]],[3]!Tabla8[#All],12,FALSE),\"\")","v":""},{"$f":"IFERROR(VLOOKUP(Tabla38[[#This Row],[CODIGO municipio]],[3]!Tabla8[#All],13,FALSE),\"\")","v":""},{"$f":"IFERROR(VLOOKUP(Tabla38[[#This Row],[CODIGO municipio]],[3]!Tabla8[#All],14,FALSE),\"\")","v":""},{"$f":"IFERROR(VLOOKUP(Tabla38[[#This Row],[CODIGO municipio]],[3]!Tabla8[#All],15,FALSE),\"\")","v":""},{"$f":"IFERROR(VLOOKUP(Tabla38[[#This Row],[CODIGO municipio]],[3]!Tabla8[#All],16,FALSE),\"\")","v":""},{"$f":"IFERROR(VLOOKUP(Tabla38[[#This Row],[CODIGO municipio]],[3]!Tabla8[#All],17,FALSE),\"\")","v":""},{"$f":"IFERROR(VLOOKUP(Tabla38[[#This Row],[CODIGO municipio]],[3]!Tabla8[#All],18,FALSE),\"\")","v":""},{"$f":"IFERROR(VLOOKUP(Tabla38[[#This Row],[CODIGO municipio]],[3]!Tabla8[#All],19,FALSE),\"\")","v":""},{"$f":"IFERROR(VLOOKUP(Tabla38[[#This Row],[CODIGO municipio]],[3]!Tabla8[#All],20,FALSE),\"\")","v":""},{"$f":"IFERROR(VLOOKUP(Tabla38[[#This Row],[CODIGO municipio]],[3]!Tabla8[#All],21,FALSE),\"\")","v":""},{"$f":"IFERROR(VLOOKUP(Tabla38[[#This Row],[CODIGO municipio]],[3]!Tabla8[#All],22,FALSE),\"\")","v":""},{"$f":"IFERROR(VLOOKUP(Tabla38[[#This Row],[CODIGO municipio]],[3]!Tabla8[#All],23,FALSE),\"\")","v":""},{"$f":"IFERROR(VLOOKUP(Tabla38[[#This Row],[CODIGO municipio]],[3]!Tabla9[#All],3,FALSE),\"\")","v":""}]
[{"$f":"IFERROR(VLOOKUP(Tabla38[[#This Row],[Municipio]],[3]!Tabla2[#All],3,FALSE),\"\")","v":""},503,"La Democracia",{"$f":"IFERROR(VLOOKUP(Tabla38[[#This Row],[CODIGO municipio]],[3]!Tabla6[[#All],[codigo_mun]],1,FALSE),\"\")","v":""},{"$f":"IFERROR(VLOOKUP(Tabla38[[#This Row],[CODIGO municipio]],[3]!Tabla12[#All],2,FALSE),\"\")","v":""},{"$f":"IFERROR(VLOOKUP(Tabla38[[#This Row],[CODIGO municipio]],[3]!Tabla7[#All],3,FALSE),\"\")","v":""},{"$f":"IFERROR(VLOOKUP(Tabla38[[#This Row],[CODIGO municipio]],[3]!Tabla7[#All],4,FALSE),\"\")","v":""},{"$f":"IFERROR(VLOOKUP(Tabla38[[#This Row],[CODIGO municipio]],[3]!Tabla7[#All],11,FALSE),\"\")","v":""},{"$f":"IFERROR(VLOOKUP(Tabla38[[#This Row],[CODIGO municipio]],[3]!Tabla7[#All],12,FALSE),\"\")","v":""},{"$f":"IFERROR(VLOOKUP(Tabla38[[#This Row],[CODIGO municipio]],[3]!Tabla7[#All],13,FALSE),\"\")","v":""},{"$f":"IFERROR(VLOOKUP(Tabla38[[#This Row],[CODIGO municipio]],[3]!Tabla7[#All],14,FALSE),\"\")","v":""},{"$f":"IFERROR(VLOOKUP(Tabla38[[#This Row],[CODIGO municipio]],[3]!Tabla7[#All],15,FALSE),\"\")","v":""},{"$f":"IFERROR(VLOOKUP(Tabla38[[#This Row],[CODIGO municipio]],[3]!Tabla7[#All],16,FALSE),\"\")","v":""},{"$f":"IFERROR(VLOOKUP(Tabla38[[#This Row],[CODIGO municipio]],[3]!Tabla7[#All],17,FALSE),\"\")","v":""},{"$f":"IFERROR(VLOOKUP(Tabla38[[#This Row],[CODIGO municipio]],[3]!Tabla7[#All],18,FALSE),\"\")","v":""},{"$f":"IFERROR(VLOOKUP(Tabla38[[#This Row],[CODIGO municipio]],[3]!Tabla7[#All],19,FALSE),\"\")","v":""},{"$f":"IFERROR(VLOOKUP(Tabla38[[#This Row],[CODIGO municipio]],[3]!Tabla8[#All],3,FALSE),\"\")","v":""},{"$f":"IFERROR(VLOOKUP(Tabla38[[#This Row],[CODIGO municipio]],[3]!Tabla8[#All],4,FALSE),\"\")","v":""},{"$f":"IFERROR(VLOOKUP(Tabla38[[#This Row],[CODIGO municipio]],[3]!Tabla8[#All],5,FALSE),\"\")","v":""},{"$f":"IFERROR(VLOOKUP(Tabla38[[#This Row],[CODIGO municipio]],[3]!Tabla8[#All],6,FALSE),\"\")","v":""},{"$f":"IFERROR(VLOOKUP(Tabla38[[#This Row],[CODIGO municipio]],[3]!Tabla8[#All],7,FALSE),\"\")","v":""},{"$f":"IFERROR(VLOOKUP(Tabla38[[#This Row],[CODIGO municipio]],[3]!Tabla8[#All],8,FALSE),\"\")","v":""},{"$f":"IFERROR(VLOOKUP(Tabla38[[#This Row],[CODIGO municipio]],[3]!Tabla8[#All],9,FALSE),\"\")","v":""},{"$f":"IFERROR(VLOOKUP(Tabla38[[#This Row],[CODIGO municipio]],[3]!Tabla8[#All],10,FALSE),\"\")","v":""},{"$f":"IFERROR(VLOOKUP(Tabla38[[#This Row],[CODIGO municipio]],[3]!Tabla8[#All],11,FALSE),\"\")","v":""},{"$f":"IFERROR(VLOOKUP(Tabla38[[#This Row],[CODIGO municipio]],[3]!Tabla8[#All],12,FALSE),\"\")","v":""},{"$f":"IFERROR(VLOOKUP(Tabla38[[#This Row],[CODIGO municipio]],[3]!Tabla8[#All],13,FALSE),\"\")","v":""},{"$f":"IFERROR(VLOOKUP(Tabla38[[#This Row],[CODIGO municipio]],[3]!Tabla8[#All],14,FALSE),\"\")","v":""},{"$f":"IFERROR(VLOOKUP(Tabla38[[#This Row],[CODIGO municipio]],[3]!Tabla8[#All],15,FALSE),\"\")","v":""},{"$f":"IFERROR(VLOOKUP(Tabla38[[#This Row],[CODIGO municipio]],[3]!Tabla8[#All],16,FALSE),\"\")","v":""},{"$f":"IFERROR(VLOOKUP(Tabla38[[#This Row],[CODIGO municipio]],[3]!Tabla8[#All],17,FALSE),\"\")","v":""},{"$f":"IFERROR(VLOOKUP(Tabla38[[#This Row],[CODIGO municipio]],[3]!Tabla8[#All],18,FALSE),\"\")","v":""},{"$f":"IFERROR(VLOOKUP(Tabla38[[#This Row],[CODIGO municipio]],[3]!Tabla8[#All],19,FALSE),\"\")","v":""},{"$f":"IFERROR(VLOOKUP(Tabla38[[#This Row],[CODIGO municipio]],[3]!Tabla8[#All],20,FALSE),\"\")","v":""},{"$f":"IFERROR(VLOOKUP(Tabla38[[#This Row],[CODIGO municipio]],[3]!Tabla8[#All],21,FALSE),\"\")","v":""},{"$f":"IFERROR(VLOOKUP(Tabla38[[#This Row],[CODIGO municipio]],[3]!Tabla8[#All],22,FALSE),\"\")","v":""},{"$f":"IFERROR(VLOOKUP(Tabla38[[#This Row],[CODIGO municipio]],[3]!Tabla8[#All],23,FALSE),\"\")","v":""},{"$f":"IFERROR(VLOOKUP(Tabla38[[#This Row],[CODIGO municipio]],[3]!Tabla9[#All],3,FALSE),\"\")","v":""}]
[{"$f":"IFERROR(VLOOKUP(Tabla38[[#This Row],[Municipio]],[3]!Tabla2[#All],3,FALSE),\"\")","v":""},504,"Siquinalá",{"$f":"IFERROR(VLOOKUP(Tabla38[[#This Row],[CODIGO municipio]],[3]!Tabla6[[#All],[codigo_mun]],1,FALSE),\"\")","v":""},{"$f":"IFERROR(VLOOKUP(Tabla38[[#This Row],[CODIGO municipio]],[3]!Tabla12[#All],2,FALSE),\"\")","v":""},{"$f":"IFERROR(VLOOKUP(Tabla38[[#This Row],[CODIGO municipio]],[3]!Tabla7[#All],3,FALSE),\"\")","v":""},{"$f":"IFERROR(VLOOKUP(Tabla38[[#This Row],[CODIGO municipio]],[3]!Tabla7[#All],4,FALSE),\"\")","v":""},{"$f":"IFERROR(VLOOKUP(Tabla38[[#This Row],[CODIGO municipio]],[3]!Tabla7[#All],11,FALSE),\"\")","v":""},{"$f":"IFERROR(VLOOKUP(Tabla38[[#This Row],[CODIGO municipio]],[3]!Tabla7[#All],12,FALSE),\"\")","v":""},{"$f":"IFERROR(VLOOKUP(Tabla38[[#This Row],[CODIGO municipio]],[3]!Tabla7[#All],13,FALSE),\"\")","v":""},{"$f":"IFERROR(VLOOKUP(Tabla38[[#This Row],[CODIGO municipio]],[3]!Tabla7[#All],14,FALSE),\"\")","v":""},{"$f":"IFERROR(VLOOKUP(Tabla38[[#This Row],[CODIGO municipio]],[3]!Tabla7[#All],15,FALSE),\"\")","v":""},{"$f":"IFERROR(VLOOKUP(Tabla38[[#This Row],[CODIGO municipio]],[3]!Tabla7[#All],16,FALSE),\"\")","v":""},{"$f":"IFERROR(VLOOKUP(Tabla38[[#This Row],[CODIGO municipio]],[3]!Tabla7[#All],17,FALSE),\"\")","v":""},{"$f":"IFERROR(VLOOKUP(Tabla38[[#This Row],[CODIGO municipio]],[3]!Tabla7[#All],18,FALSE),\"\")","v":""},{"$f":"IFERROR(VLOOKUP(Tabla38[[#This Row],[CODIGO municipio]],[3]!Tabla7[#All],19,FALSE),\"\")","v":""},{"$f":"IFERROR(VLOOKUP(Tabla38[[#This Row],[CODIGO municipio]],[3]!Tabla8[#All],3,FALSE),\"\")","v":""},{"$f":"IFERROR(VLOOKUP(Tabla38[[#This Row],[CODIGO municipio]],[3]!Tabla8[#All],4,FALSE),\"\")","v":""},{"$f":"IFERROR(VLOOKUP(Tabla38[[#This Row],[CODIGO municipio]],[3]!Tabla8[#All],5,FALSE),\"\")","v":""},{"$f":"IFERROR(VLOOKUP(Tabla38[[#This Row],[CODIGO municipio]],[3]!Tabla8[#All],6,FALSE),\"\")","v":""},{"$f":"IFERROR(VLOOKUP(Tabla38[[#This Row],[CODIGO municipio]],[3]!Tabla8[#All],7,FALSE),\"\")","v":""},{"$f":"IFERROR(VLOOKUP(Tabla38[[#This Row],[CODIGO municipio]],[3]!Tabla8[#All],8,FALSE),\"\")","v":""},{"$f":"IFERROR(VLOOKUP(Tabla38[[#This Row],[CODIGO municipio]],[3]!Tabla8[#All],9,FALSE),\"\")","v":""},{"$f":"IFERROR(VLOOKUP(Tabla38[[#This Row],[CODIGO municipio]],[3]!Tabla8[#All],10,FALSE),\"\")","v":""},{"$f":"IFERROR(VLOOKUP(Tabla38[[#This Row],[CODIGO municipio]],[3]!Tabla8[#All],11,FALSE),\"\")","v":""},{"$f":"IFERROR(VLOOKUP(Tabla38[[#This Row],[CODIGO municipio]],[3]!Tabla8[#All],12,FALSE),\"\")","v":""},{"$f":"IFERROR(VLOOKUP(Tabla38[[#This Row],[CODIGO municipio]],[3]!Tabla8[#All],13,FALSE),\"\")","v":""},{"$f":"IFERROR(VLOOKUP(Tabla38[[#This Row],[CODIGO municipio]],[3]!Tabla8[#All],14,FALSE),\"\")","v":""},{"$f":"IFERROR(VLOOKUP(Tabla38[[#This Row],[CODIGO municipio]],[3]!Tabla8[#All],15,FALSE),\"\")","v":""},{"$f":"IFERROR(VLOOKUP(Tabla38[[#This Row],[CODIGO municipio]],[3]!Tabla8[#All],16,FALSE),\"\")","v":""},{"$f":"IFERROR(VLOOKUP(Tabla38[[#This Row],[CODIGO municipio]],[3]!Tabla8[#All],17,FALSE),\"\")","v":""},{"$f":"IFERROR(VLOOKUP(Tabla38[[#This Row],[CODIGO municipio]],[3]!Tabla8[#All],18,FALSE),\"\")","v":""},{"$f":"IFERROR(VLOOKUP(Tabla38[[#This Row],[CODIGO municipio]],[3]!Tabla8[#All],19,FALSE),\"\")","v":""},{"$f":"IFERROR(VLOOKUP(Tabla38[[#This Row],[CODIGO municipio]],[3]!Tabla8[#All],20,FALSE),\"\")","v":""},{"$f":"IFERROR(VLOOKUP(Tabla38[[#This Row],[CODIGO municipio]],[3]!Tabla8[#All],21,FALSE),\"\")","v":""},{"$f":"IFERROR(VLOOKUP(Tabla38[[#This Row],[CODIGO municipio]],[3]!Tabla8[#All],22,FALSE),\"\")","v":""},{"$f":"IFERROR(VLOOKUP(Tabla38[[#This Row],[CODIGO municipio]],[3]!Tabla8[#All],23,FALSE),\"\")","v":""},{"$f":"IFERROR(VLOOKUP(Tabla38[[#This Row],[CODIGO municipio]],[3]!Tabla9[#All],3,FALSE),\"\")","v":""}]
[{"$f":"IFERROR(VLOOKUP(Tabla38[[#This Row],[Municipio]],[3]!Tabla2[#All],3,FALSE),\"\")","v":""},505,"Masagua",{"$f":"IFERROR(VLOOKUP(Tabla38[[#This Row],[CODIGO municipio]],[3]!Tabla6[[#All],[codigo_mun]],1,FALSE),\"\")","v":""},{"$f":"IFERROR(VLOOKUP(Tabla38[[#This Row],[CODIGO municipio]],[3]!Tabla12[#All],2,FALSE),\"\")","v":""},{"$f":"IFERROR(VLOOKUP(Tabla38[[#This Row],[CODIGO municipio]],[3]!Tabla7[#All],3,FALSE),\"\")","v":""},{"$f":"IFERROR(VLOOKUP(Tabla38[[#This Row],[CODIGO municipio]],[3]!Tabla7[#All],4,FALSE),\"\")","v":""},{"$f":"IFERROR(VLOOKUP(Tabla38[[#This Row],[CODIGO municipio]],[3]!Tabla7[#All],11,FALSE),\"\")","v":""},{"$f":"IFERROR(VLOOKUP(Tabla38[[#This Row],[CODIGO municipio]],[3]!Tabla7[#All],12,FALSE),\"\")","v":""},{"$f":"IFERROR(VLOOKUP(Tabla38[[#This Row],[CODIGO municipio]],[3]!Tabla7[#All],13,FALSE),\"\")","v":""},{"$f":"IFERROR(VLOOKUP(Tabla38[[#This Row],[CODIGO municipio]],[3]!Tabla7[#All],14,FALSE),\"\")","v":""},{"$f":"IFERROR(VLOOKUP(Tabla38[[#This Row],[CODIGO municipio]],[3]!Tabla7[#All],15,FALSE),\"\")","v":""},{"$f":"IFERROR(VLOOKUP(Tabla38[[#This Row],[CODIGO municipio]],[3]!Tabla7[#All],16,FALSE),\"\")","v":""},{"$f":"IFERROR(VLOOKUP(Tabla38[[#This Row],[CODIGO municipio]],[3]!Tabla7[#All],17,FALSE),\"\")","v":""},{"$f":"IFERROR(VLOOKUP(Tabla38[[#This Row],[CODIGO municipio]],[3]!Tabla7[#All],18,FALSE),\"\")","v":""},{"$f":"IFERROR(VLOOKUP(Tabla38[[#This Row],[CODIGO municipio]],[3]!Tabla7[#All],19,FALSE),\"\")","v":""},{"$f":"IFERROR(VLOOKUP(Tabla38[[#This Row],[CODIGO municipio]],[3]!Tabla8[#All],3,FALSE),\"\")","v":""},{"$f":"IFERROR(VLOOKUP(Tabla38[[#This Row],[CODIGO municipio]],[3]!Tabla8[#All],4,FALSE),\"\")","v":""},{"$f":"IFERROR(VLOOKUP(Tabla38[[#This Row],[CODIGO municipio]],[3]!Tabla8[#All],5,FALSE),\"\")","v":""},{"$f":"IFERROR(VLOOKUP(Tabla38[[#This Row],[CODIGO municipio]],[3]!Tabla8[#All],6,FALSE),\"\")","v":""},{"$f":"IFERROR(VLOOKUP(Tabla38[[#This Row],[CODIGO municipio]],[3]!Tabla8[#All],7,FALSE),\"\")","v":""},{"$f":"IFERROR(VLOOKUP(Tabla38[[#This Row],[CODIGO municipio]],[3]!Tabla8[#All],8,FALSE),\"\")","v":""},{"$f":"IFERROR(VLOOKUP(Tabla38[[#This Row],[CODIGO municipio]],[3]!Tabla8[#All],9,FALSE),\"\")","v":""},{"$f":"IFERROR(VLOOKUP(Tabla38[[#This Row],[CODIGO municipio]],[3]!Tabla8[#All],10,FALSE),\"\")","v":""},{"$f":"IFERROR(VLOOKUP(Tabla38[[#This Row],[CODIGO municipio]],[3]!Tabla8[#All],11,FALSE),\"\")","v":""},{"$f":"IFERROR(VLOOKUP(Tabla38[[#This Row],[CODIGO municipio]],[3]!Tabla8[#All],12,FALSE),\"\")","v":""},{"$f":"IFERROR(VLOOKUP(Tabla38[[#This Row],[CODIGO municipio]],[3]!Tabla8[#All],13,FALSE),\"\")","v":""},{"$f":"IFERROR(VLOOKUP(Tabla38[[#This Row],[CODIGO municipio]],[3]!Tabla8[#All],14,FALSE),\"\")","v":""},{"$f":"IFERROR(VLOOKUP(Tabla38[[#This Row],[CODIGO municipio]],[3]!Tabla8[#All],15,FALSE),\"\")","v":""},{"$f":"IFERROR(VLOOKUP(Tabla38[[#This Row],[CODIGO municipio]],[3]!Tabla8[#All],16,FALSE),\"\")","v":""},{"$f":"IFERROR(VLOOKUP(Tabla38[[#This Row],[CODIGO municipio]],[3]!Tabla8[#All],17,FALSE),\"\")","v":""},{"$f":"IFERROR(VLOOKUP(Tabla38[[#This Row],[CODIGO municipio]],[3]!Tabla8[#All],18,FALSE),\"\")","v":""},{"$f":"IFERROR(VLOOKUP(Tabla38[[#This Row],[CODIGO municipio]],[3]!Tabla8[#All],19,FALSE),\"\")","v":""},{"$f":"IFERROR(VLOOKUP(Tabla38[[#This Row],[CODIGO municipio]],[3]!Tabla8[#All],20,FALSE),\"\")","v":""},{"$f":"IFERROR(VLOOKUP(Tabla38[[#This Row],[CODIGO municipio]],[3]!Tabla8[#All],21,FALSE),\"\")","v":""},{"$f":"IFERROR(VLOOKUP(Tabla38[[#This Row],[CODIGO municipio]],[3]!Tabla8[#All],22,FALSE),\"\")","v":""},{"$f":"IFERROR(VLOOKUP(Tabla38[[#This Row],[CODIGO municipio]],[3]!Tabla8[#All],23,FALSE),\"\")","v":""},{"$f":"IFERROR(VLOOKUP(Tabla38[[#This Row],[CODIGO municipio]],[3]!Tabla9[#All],3,FALSE),\"\")","v":""}]
[{"$f":"IFERROR(VLOOKUP(Tabla38[[#This Row],[Municipio]],[3]!Tabla2[#All],3,FALSE),\"\")","v":""},506,"Tiquisate",{"$f":"IFERROR(VLOOKUP(Tabla38[[#This Row],[CODIGO municipio]],[3]!Tabla6[[#All],[codigo_mun]],1,FALSE),\"\")","v":""},{"$f":"IFERROR(VLOOKUP(Tabla38[[#This Row],[CODIGO municipio]],[3]!Tabla12[#All],2,FALSE),\"\")","v":""},{"$f":"IFERROR(VLOOKUP(Tabla38[[#This Row],[CODIGO municipio]],[3]!Tabla7[#All],3,FALSE),\"\")","v":""},{"$f":"IFERROR(VLOOKUP(Tabla38[[#This Row],[CODIGO municipio]],[3]!Tabla7[#All],4,FALSE),\"\")","v":""},{"$f":"IFERROR(VLOOKUP(Tabla38[[#This Row],[CODIGO municipio]],[3]!Tabla7[#All],11,FALSE),\"\")","v":""},{"$f":"IFERROR(VLOOKUP(Tabla38[[#This Row],[CODIGO municipio]],[3]!Tabla7[#All],12,FALSE),\"\")","v":""},{"$f":"IFERROR(VLOOKUP(Tabla38[[#This Row],[CODIGO municipio]],[3]!Tabla7[#All],13,FALSE),\"\")","v":""},{"$f":"IFERROR(VLOOKUP(Tabla38[[#This Row],[CODIGO municipio]],[3]!Tabla7[#All],14,FALSE),\"\")","v":""},{"$f":"IFERROR(VLOOKUP(Tabla38[[#This Row],[CODIGO municipio]],[3]!Tabla7[#All],15,FALSE),\"\")","v":""},{"$f":"IFERROR(VLOOKUP(Tabla38[[#This Row],[CODIGO municipio]],[3]!Tabla7[#All],16,FALSE),\"\")","v":""},{"$f":"IFERROR(VLOOKUP(Tabla38[[#This Row],[CODIGO municipio]],[3]!Tabla7[#All],17,FALSE),\"\")","v":""},{"$f":"IFERROR(VLOOKUP(Tabla38[[#This Row],[CODIGO municipio]],[3]!Tabla7[#All],18,FALSE),\"\")","v":""},{"$f":"IFERROR(VLOOKUP(Tabla38[[#This Row],[CODIGO municipio]],[3]!Tabla7[#All],19,FALSE),\"\")","v":""},{"$f":"IFERROR(VLOOKUP(Tabla38[[#This Row],[CODIGO municipio]],[3]!Tabla8[#All],3,FALSE),\"\")","v":""},{"$f":"IFERROR(VLOOKUP(Tabla38[[#This Row],[CODIGO municipio]],[3]!Tabla8[#All],4,FALSE),\"\")","v":""},{"$f":"IFERROR(VLOOKUP(Tabla38[[#This Row],[CODIGO municipio]],[3]!Tabla8[#All],5,FALSE),\"\")","v":""},{"$f":"IFERROR(VLOOKUP(Tabla38[[#This Row],[CODIGO municipio]],[3]!Tabla8[#All],6,FALSE),\"\")","v":""},{"$f":"IFERROR(VLOOKUP(Tabla38[[#This Row],[CODIGO municipio]],[3]!Tabla8[#All],7,FALSE),\"\")","v":""},{"$f":"IFERROR(VLOOKUP(Tabla38[[#This Row],[CODIGO municipio]],[3]!Tabla8[#All],8,FALSE),\"\")","v":""},{"$f":"IFERROR(VLOOKUP(Tabla38[[#This Row],[CODIGO municipio]],[3]!Tabla8[#All],9,FALSE),\"\")","v":""},{"$f":"IFERROR(VLOOKUP(Tabla38[[#This Row],[CODIGO municipio]],[3]!Tabla8[#All],10,FALSE),\"\")","v":""},{"$f":"IFERROR(VLOOKUP(Tabla38[[#This Row],[CODIGO municipio]],[3]!Tabla8[#All],11,FALSE),\"\")","v":""},{"$f":"IFERROR(VLOOKUP(Tabla38[[#This Row],[CODIGO municipio]],[3]!Tabla8[#All],12,FALSE),\"\")","v":""},{"$f":"IFERROR(VLOOKUP(Tabla38[[#This Row],[CODIGO municipio]],[3]!Tabla8[#All],13,FALSE),\"\")","v":""},{"$f":"IFERROR(VLOOKUP(Tabla38[[#This Row],[CODIGO municipio]],[3]!Tabla8[#All],14,FALSE),\"\")","v":""},{"$f":"IFERROR(VLOOKUP(Tabla38[[#This Row],[CODIGO municipio]],[3]!Tabla8[#All],15,FALSE),\"\")","v":""},{"$f":"IFERROR(VLOOKUP(Tabla38[[#This Row],[CODIGO municipio]],[3]!Tabla8[#All],16,FALSE),\"\")","v":""},{"$f":"IFERROR(VLOOKUP(Tabla38[[#This Row],[CODIGO municipio]],[3]!Tabla8[#All],17,FALSE),\"\")","v":""},{"$f":"IFERROR(VLOOKUP(Tabla38[[#This Row],[CODIGO municipio]],[3]!Tabla8[#All],18,FALSE),\"\")","v":""},{"$f":"IFERROR(VLOOKUP(Tabla38[[#This Row],[CODIGO municipio]],[3]!Tabla8[#All],19,FALSE),\"\")","v":""},{"$f":"IFERROR(VLOOKUP(Tabla38[[#This Row],[CODIGO municipio]],[3]!Tabla8[#All],20,FALSE),\"\")","v":""},{"$f":"IFERROR(VLOOKUP(Tabla38[[#This Row],[CODIGO municipio]],[3]!Tabla8[#All],21,FALSE),\"\")","v":""},{"$f":"IFERROR(VLOOKUP(Tabla38[[#This Row],[CODIGO municipio]],[3]!Tabla8[#All],22,FALSE),\"\")","v":""},{"$f":"IFERROR(VLOOKUP(Tabla38[[#This Row],[CODIGO municipio]],[3]!Tabla8[#All],23,FALSE),\"\")","v":""},{"$f":"IFERROR(VLOOKUP(Tabla38[[#This Row],[CODIGO municipio]],[3]!Tabla9[#All],3,FALSE),\"\")","v":""}]
[{"$f":"IFERROR(VLOOKUP(Tabla38[[#This Row],[Municipio]],[3]!Tabla2[#All],3,FALSE),\"\")","v":""},507,"La Gomera",{"$f":"IFERROR(VLOOKUP(Tabla38[[#This Row],[CODIGO municipio]],[3]!Tabla6[[#All],[codigo_mun]],1,FALSE),\"\")","v":""},{"$f":"IFERROR(VLOOKUP(Tabla38[[#This Row],[CODIGO municipio]],[3]!Tabla12[#All],2,FALSE),\"\")","v":""},{"$f":"IFERROR(VLOOKUP(Tabla38[[#This Row],[CODIGO municipio]],[3]!Tabla7[#All],3,FALSE),\"\")","v":""},{"$f":"IFERROR(VLOOKUP(Tabla38[[#This Row],[CODIGO municipio]],[3]!Tabla7[#All],4,FALSE),\"\")","v":""},{"$f":"IFERROR(VLOOKUP(Tabla38[[#This Row],[CODIGO municipio]],[3]!Tabla7[#All],11,FALSE),\"\")","v":""},{"$f":"IFERROR(VLOOKUP(Tabla38[[#This Row],[CODIGO municipio]],[3]!Tabla7[#All],12,FALSE),\"\")","v":""},{"$f":"IFERROR(VLOOKUP(Tabla38[[#This Row],[CODIGO municipio]],[3]!Tabla7[#All],13,FALSE),\"\")","v":""},{"$f":"IFERROR(VLOOKUP(Tabla38[[#This Row],[CODIGO municipio]],[3]!Tabla7[#All],14,FALSE),\"\")","v":""},{"$f":"IFERROR(VLOOKUP(Tabla38[[#This Row],[CODIGO municipio]],[3]!Tabla7[#All],15,FALSE),\"\")","v":""},{"$f":"IFERROR(VLOOKUP(Tabla38[[#This Row],[CODIGO municipio]],[3]!Tabla7[#All],16,FALSE),\"\")","v":""},{"$f":"IFERROR(VLOOKUP(Tabla38[[#This Row],[CODIGO municipio]],[3]!Tabla7[#All],17,FALSE),\"\")","v":""},{"$f":"IFERROR(VLOOKUP(Tabla38[[#This Row],[CODIGO municipio]],[3]!Tabla7[#All],18,FALSE),\"\")","v":""},{"$f":"IFERROR(VLOOKUP(Tabla38[[#This Row],[CODIGO municipio]],[3]!Tabla7[#All],19,FALSE),\"\")","v":""},{"$f":"IFERROR(VLOOKUP(Tabla38[[#This Row],[CODIGO municipio]],[3]!Tabla8[#All],3,FALSE),\"\")","v":""},{"$f":"IFERROR(VLOOKUP(Tabla38[[#This Row],[CODIGO municipio]],[3]!Tabla8[#All],4,FALSE),\"\")","v":""},{"$f":"IFERROR(VLOOKUP(Tabla38[[#This Row],[CODIGO municipio]],[3]!Tabla8[#All],5,FALSE),\"\")","v":""},{"$f":"IFERROR(VLOOKUP(Tabla38[[#This Row],[CODIGO municipio]],[3]!Tabla8[#All],6,FALSE),\"\")","v":""},{"$f":"IFERROR(VLOOKUP(Tabla38[[#This Row],[CODIGO municipio]],[3]!Tabla8[#All],7,FALSE),\"\")","v":""},{"$f":"IFERROR(VLOOKUP(Tabla38[[#This Row],[CODIGO municipio]],[3]!Tabla8[#All],8,FALSE),\"\")","v":""},{"$f":"IFERROR(VLOOKUP(Tabla38[[#This Row],[CODIGO municipio]],[3]!Tabla8[#All],9,FALSE),\"\")","v":""},{"$f":"IFERROR(VLOOKUP(Tabla38[[#This Row],[CODIGO municipio]],[3]!Tabla8[#All],10,FALSE),\"\")","v":""},{"$f":"IFERROR(VLOOKUP(Tabla38[[#This Row],[CODIGO municipio]],[3]!Tabla8[#All],11,FALSE),\"\")","v":""},{"$f":"IFERROR(VLOOKUP(Tabla38[[#This Row],[CODIGO municipio]],[3]!Tabla8[#All],12,FALSE),\"\")","v":""},{"$f":"IFERROR(VLOOKUP(Tabla38[[#This Row],[CODIGO municipio]],[3]!Tabla8[#All],13,FALSE),\"\")","v":""},{"$f":"IFERROR(VLOOKUP(Tabla38[[#This Row],[CODIGO municipio]],[3]!Tabla8[#All],14,FALSE),\"\")","v":""},{"$f":"IFERROR(VLOOKUP(Tabla38[[#This Row],[CODIGO municipio]],[3]!Tabla8[#All],15,FALSE),\"\")","v":""},{"$f":"IFERROR(VLOOKUP(Tabla38[[#This Row],[CODIGO municipio]],[3]!Tabla8[#All],16,FALSE),\"\")","v":""},{"$f":"IFERROR(VLOOKUP(Tabla38[[#This Row],[CODIGO municipio]],[3]!Tabla8[#All],17,FALSE),\"\")","v":""},{"$f":"IFERROR(VLOOKUP(Tabla38[[#This Row],[CODIGO municipio]],[3]!Tabla8[#All],18,FALSE),\"\")","v":""},{"$f":"IFERROR(VLOOKUP(Tabla38[[#This Row],[CODIGO municipio]],[3]!Tabla8[#All],19,FALSE),\"\")","v":""},{"$f":"IFERROR(VLOOKUP(Tabla38[[#This Row],[CODIGO municipio]],[3]!Tabla8[#All],20,FALSE),\"\")","v":""},{"$f":"IFERROR(VLOOKUP(Tabla38[[#This Row],[CODIGO municipio]],[3]!Tabla8[#All],21,FALSE),\"\")","v":""},{"$f":"IFERROR(VLOOKUP(Tabla38[[#This Row],[CODIGO municipio]],[3]!Tabla8[#All],22,FALSE),\"\")","v":""},{"$f":"IFERROR(VLOOKUP(Tabla38[[#This Row],[CODIGO municipio]],[3]!Tabla8[#All],23,FALSE),\"\")","v":""},{"$f":"IFERROR(VLOOKUP(Tabla38[[#This Row],[CODIGO municipio]],[3]!Tabla9[#All],3,FALSE),\"\")","v":""}]
[{"$f":"IFERROR(VLOOKUP(Tabla38[[#This Row],[Municipio]],[3]!Tabla2[#All],3,FALSE),\"\")","v":""},508,"Guanagazapa",{"$f":"IFERROR(VLOOKUP(Tabla38[[#This Row],[CODIGO municipio]],[3]!Tabla6[[#All],[codigo_mun]],1,FALSE),\"\")","v":""},{"$f":"IFERROR(VLOOKUP(Tabla38[[#This Row],[CODIGO municipio]],[3]!Tabla12[#All],2,FALSE),\"\")","v":""},{"$f":"IFERROR(VLOOKUP(Tabla38[[#This Row],[CODIGO municipio]],[3]!Tabla7[#All],3,FALSE),\"\")","v":""},{"$f":"IFERROR(VLOOKUP(Tabla38[[#This Row],[CODIGO municipio]],[3]!Tabla7[#All],4,FALSE),\"\")","v":""},{"$f":"IFERROR(VLOOKUP(Tabla38[[#This Row],[CODIGO municipio]],[3]!Tabla7[#All],11,FALSE),\"\")","v":""},{"$f":"IFERROR(VLOOKUP(Tabla38[[#This Row],[CODIGO municipio]],[3]!Tabla7[#All],12,FALSE),\"\")","v":""},{"$f":"IFERROR(VLOOKUP(Tabla38[[#This Row],[CODIGO municipio]],[3]!Tabla7[#All],13,FALSE),\"\")","v":""},{"$f":"IFERROR(VLOOKUP(Tabla38[[#This Row],[CODIGO municipio]],[3]!Tabla7[#All],14,FALSE),\"\")","v":""},{"$f":"IFERROR(VLOOKUP(Tabla38[[#This Row],[CODIGO municipio]],[3]!Tabla7[#All],15,FALSE),\"\")","v":""},{"$f":"IFERROR(VLOOKUP(Tabla38[[#This Row],[CODIGO municipio]],[3]!Tabla7[#All],16,FALSE),\"\")","v":""},{"$f":"IFERROR(VLOOKUP(Tabla38[[#This Row],[CODIGO municipio]],[3]!Tabla7[#All],17,FALSE),\"\")","v":""},{"$f":"IFERROR(VLOOKUP(Tabla38[[#This Row],[CODIGO municipio]],[3]!Tabla7[#All],18,FALSE),\"\")","v":""},{"$f":"IFERROR(VLOOKUP(Tabla38[[#This Row],[CODIGO municipio]],[3]!Tabla7[#All],19,FALSE),\"\")","v":""},{"$f":"IFERROR(VLOOKUP(Tabla38[[#This Row],[CODIGO municipio]],[3]!Tabla8[#All],3,FALSE),\"\")","v":""},{"$f":"IFERROR(VLOOKUP(Tabla38[[#This Row],[CODIGO municipio]],[3]!Tabla8[#All],4,FALSE),\"\")","v":""},{"$f":"IFERROR(VLOOKUP(Tabla38[[#This Row],[CODIGO municipio]],[3]!Tabla8[#All],5,FALSE),\"\")","v":""},{"$f":"IFERROR(VLOOKUP(Tabla38[[#This Row],[CODIGO municipio]],[3]!Tabla8[#All],6,FALSE),\"\")","v":""},{"$f":"IFERROR(VLOOKUP(Tabla38[[#This Row],[CODIGO municipio]],[3]!Tabla8[#All],7,FALSE),\"\")","v":""},{"$f":"IFERROR(VLOOKUP(Tabla38[[#This Row],[CODIGO municipio]],[3]!Tabla8[#All],8,FALSE),\"\")","v":""},{"$f":"IFERROR(VLOOKUP(Tabla38[[#This Row],[CODIGO municipio]],[3]!Tabla8[#All],9,FALSE),\"\")","v":""},{"$f":"IFERROR(VLOOKUP(Tabla38[[#This Row],[CODIGO municipio]],[3]!Tabla8[#All],10,FALSE),\"\")","v":""},{"$f":"IFERROR(VLOOKUP(Tabla38[[#This Row],[CODIGO municipio]],[3]!Tabla8[#All],11,FALSE),\"\")","v":""},{"$f":"IFERROR(VLOOKUP(Tabla38[[#This Row],[CODIGO municipio]],[3]!Tabla8[#All],12,FALSE),\"\")","v":""},{"$f":"IFERROR(VLOOKUP(Tabla38[[#This Row],[CODIGO municipio]],[3]!Tabla8[#All],13,FALSE),\"\")","v":""},{"$f":"IFERROR(VLOOKUP(Tabla38[[#This Row],[CODIGO municipio]],[3]!Tabla8[#All],14,FALSE),\"\")","v":""},{"$f":"IFERROR(VLOOKUP(Tabla38[[#This Row],[CODIGO municipio]],[3]!Tabla8[#All],15,FALSE),\"\")","v":""},{"$f":"IFERROR(VLOOKUP(Tabla38[[#This Row],[CODIGO municipio]],[3]!Tabla8[#All],16,FALSE),\"\")","v":""},{"$f":"IFERROR(VLOOKUP(Tabla38[[#This Row],[CODIGO municipio]],[3]!Tabla8[#All],17,FALSE),\"\")","v":""},{"$f":"IFERROR(VLOOKUP(Tabla38[[#This Row],[CODIGO municipio]],[3]!Tabla8[#All],18,FALSE),\"\")","v":""},{"$f":"IFERROR(VLOOKUP(Tabla38[[#This Row],[CODIGO municipio]],[3]!Tabla8[#All],19,FALSE),\"\")","v":""},{"$f":"IFERROR(VLOOKUP(Tabla38[[#This Row],[CODIGO municipio]],[3]!Tabla8[#All],20,FALSE),\"\")","v":""},{"$f":"IFERROR(VLOOKUP(Tabla38[[#This Row],[CODIGO municipio]],[3]!Tabla8[#All],21,FALSE),\"\")","v":""},{"$f":"IFERROR(VLOOKUP(Tabla38[[#This Row],[CODIGO municipio]],[3]!Tabla8[#All],22,FALSE),\"\")","v":""},{"$f":"IFERROR(VLOOKUP(Tabla38[[#This Row],[CODIGO municipio]],[3]!Tabla8[#All],23,FALSE),\"\")","v":""},{"$f":"IFERROR(VLOOKUP(Tabla38[[#This Row],[CODIGO municipio]],[3]!Tabla9[#All],3,FALSE),\"\")","v":""}]
[{"$f":"IFERROR(VLOOKUP(Tabla38[[#This Row],[Municipio]],[3]!Tabla2[#All],3,FALSE),\"\")","v":""},509,"San José",{"$f":"IFERROR(VLOOKUP(Tabla38[[#This Row],[CODIGO municipio]],[3]!Tabla6[[#All],[codigo_mun]],1,FALSE),\"\")","v":""},{"$f":"IFERROR(VLOOKUP(Tabla38[[#This Row],[CODIGO municipio]],[3]!Tabla12[#All],2,FALSE),\"\")","v":""},{"$f":"IFERROR(VLOOKUP(Tabla38[[#This Row],[CODIGO municipio]],[3]!Tabla7[#All],3,FALSE),\"\")","v":""},{"$f":"IFERROR(VLOOKUP(Tabla38[[#This Row],[CODIGO municipio]],[3]!Tabla7[#All],4,FALSE),\"\")","v":""},{"$f":"IFERROR(VLOOKUP(Tabla38[[#This Row],[CODIGO municipio]],[3]!Tabla7[#All],11,FALSE),\"\")","v":""},{"$f":"IFERROR(VLOOKUP(Tabla38[[#This Row],[CODIGO municipio]],[3]!Tabla7[#All],12,FALSE),\"\")","v":""},{"$f":"IFERROR(VLOOKUP(Tabla38[[#This Row],[CODIGO municipio]],[3]!Tabla7[#All],13,FALSE),\"\")","v":""},{"$f":"IFERROR(VLOOKUP(Tabla38[[#This Row],[CODIGO municipio]],[3]!Tabla7[#All],14,FALSE),\"\")","v":""},{"$f":"IFERROR(VLOOKUP(Tabla38[[#This Row],[CODIGO municipio]],[3]!Tabla7[#All],15,FALSE),\"\")","v":""},{"$f":"IFERROR(VLOOKUP(Tabla38[[#This Row],[CODIGO municipio]],[3]!Tabla7[#All],16,FALSE),\"\")","v":""},{"$f":"IFERROR(VLOOKUP(Tabla38[[#This Row],[CODIGO municipio]],[3]!Tabla7[#All],17,FALSE),\"\")","v":""},{"$f":"IFERROR(VLOOKUP(Tabla38[[#This Row],[CODIGO municipio]],[3]!Tabla7[#All],18,FALSE),\"\")","v":""},{"$f":"IFERROR(VLOOKUP(Tabla38[[#This Row],[CODIGO municipio]],[3]!Tabla7[#All],19,FALSE),\"\")","v":""},{"$f":"IFERROR(VLOOKUP(Tabla38[[#This Row],[CODIGO municipio]],[3]!Tabla8[#All],3,FALSE),\"\")","v":""},{"$f":"IFERROR(VLOOKUP(Tabla38[[#This Row],[CODIGO municipio]],[3]!Tabla8[#All],4,FALSE),\"\")","v":""},{"$f":"IFERROR(VLOOKUP(Tabla38[[#This Row],[CODIGO municipio]],[3]!Tabla8[#All],5,FALSE),\"\")","v":""},{"$f":"IFERROR(VLOOKUP(Tabla38[[#This Row],[CODIGO municipio]],[3]!Tabla8[#All],6,FALSE),\"\")","v":""},{"$f":"IFERROR(VLOOKUP(Tabla38[[#This Row],[CODIGO municipio]],[3]!Tabla8[#All],7,FALSE),\"\")","v":""},{"$f":"IFERROR(VLOOKUP(Tabla38[[#This Row],[CODIGO municipio]],[3]!Tabla8[#All],8,FALSE),\"\")","v":""},{"$f":"IFERROR(VLOOKUP(Tabla38[[#This Row],[CODIGO municipio]],[3]!Tabla8[#All],9,FALSE),\"\")","v":""},{"$f":"IFERROR(VLOOKUP(Tabla38[[#This Row],[CODIGO municipio]],[3]!Tabla8[#All],10,FALSE),\"\")","v":""},{"$f":"IFERROR(VLOOKUP(Tabla38[[#This Row],[CODIGO municipio]],[3]!Tabla8[#All],11,FALSE),\"\")","v":""},{"$f":"IFERROR(VLOOKUP(Tabla38[[#This Row],[CODIGO municipio]],[3]!Tabla8[#All],12,FALSE),\"\")","v":""},{"$f":"IFERROR(VLOOKUP(Tabla38[[#This Row],[CODIGO municipio]],[3]!Tabla8[#All],13,FALSE),\"\")","v":""},{"$f":"IFERROR(VLOOKUP(Tabla38[[#This Row],[CODIGO municipio]],[3]!Tabla8[#All],14,FALSE),\"\")","v":""},{"$f":"IFERROR(VLOOKUP(Tabla38[[#This Row],[CODIGO municipio]],[3]!Tabla8[#All],15,FALSE),\"\")","v":""},{"$f":"IFERROR(VLOOKUP(Tabla38[[#This Row],[CODIGO municipio]],[3]!Tabla8[#All],16,FALSE),\"\")","v":""},{"$f":"IFERROR(VLOOKUP(Tabla38[[#This Row],[CODIGO municipio]],[3]!Tabla8[#All],17,FALSE),\"\")","v":""},{"$f":"IFERROR(VLOOKUP(Tabla38[[#This Row],[CODIGO municipio]],[3]!Tabla8[#All],18,FALSE),\"\")","v":""},{"$f":"IFERROR(VLOOKUP(Tabla38[[#This Row],[CODIGO municipio]],[3]!Tabla8[#All],19,FALSE),\"\")","v":""},{"$f":"IFERROR(VLOOKUP(Tabla38[[#This Row],[CODIGO municipio]],[3]!Tabla8[#All],20,FALSE),\"\")","v":""},{"$f":"IFERROR(VLOOKUP(Tabla38[[#This Row],[CODIGO municipio]],[3]!Tabla8[#All],21,FALSE),\"\")","v":""},{"$f":"IFERROR(VLOOKUP(Tabla38[[#This Row],[CODIGO municipio]],[3]!Tabla8[#All],22,FALSE),\"\")","v":""},{"$f":"IFERROR(VLOOKUP(Tabla38[[#This Row],[CODIGO municipio]],[3]!Tabla8[#All],23,FALSE),\"\")","v":""},{"$f":"IFERROR(VLOOKUP(Tabla38[[#This Row],[CODIGO municipio]],[3]!Tabla9[#All],3,FALSE),\"\")","v":""}]
[{"$f":"IFERROR(VLOOKUP(Tabla38[[#This Row],[Municipio]],[3]!Tabla2[#All],3,FALSE),\"\")","v":""},510,"Iztapa",{"$f":"IFERROR(VLOOKUP(Tabla38[[#This Row],[CODIGO municipio]],[3]!Tabla6[[#All],[codigo_mun]],1,FALSE),\"\")","v":""},{"$f":"IFERROR(VLOOKUP(Tabla38[[#This Row],[CODIGO municipio]],[3]!Tabla12[#All],2,FALSE),\"\")","v":""},{"$f":"IFERROR(VLOOKUP(Tabla38[[#This Row],[CODIGO municipio]],[3]!Tabla7[#All],3,FALSE),\"\")","v":""},{"$f":"IFERROR(VLOOKUP(Tabla38[[#This Row],[CODIGO municipio]],[3]!Tabla7[#All],4,FALSE),\"\")","v":""},{"$f":"IFERROR(VLOOKUP(Tabla38[[#This Row],[CODIGO municipio]],[3]!Tabla7[#All],11,FALSE),\"\")","v":""},{"$f":"IFERROR(VLOOKUP(Tabla38[[#This Row],[CODIGO municipio]],[3]!Tabla7[#All],12,FALSE),\"\")","v":""},{"$f":"IFERROR(VLOOKUP(Tabla38[[#This Row],[CODIGO municipio]],[3]!Tabla7[#All],13,FALSE),\"\")","v":""},{"$f":"IFERROR(VLOOKUP(Tabla38[[#This Row],[CODIGO municipio]],[3]!Tabla7[#All],14,FALSE),\"\")","v":""},{"$f":"IFERROR(VLOOKUP(Tabla38[[#This Row],[CODIGO municipio]],[3]!Tabla7[#All],15,FALSE),\"\")","v":""},{"$f":"IFERROR(VLOOKUP(Tabla38[[#This Row],[CODIGO municipio]],[3]!Tabla7[#All],16,FALSE),\"\")","v":""},{"$f":"IFERROR(VLOOKUP(Tabla38[[#This Row],[CODIGO municipio]],[3]!Tabla7[#All],17,FALSE),\"\")","v":""},{"$f":"IFERROR(VLOOKUP(Tabla38[[#This Row],[CODIGO municipio]],[3]!Tabla7[#All],18,FALSE),\"\")","v":""},{"$f":"IFERROR(VLOOKUP(Tabla38[[#This Row],[CODIGO municipio]],[3]!Tabla7[#All],19,FALSE),\"\")","v":""},{"$f":"IFERROR(VLOOKUP(Tabla38[[#This Row],[CODIGO municipio]],[3]!Tabla8[#All],3,FALSE),\"\")","v":""},{"$f":"IFERROR(VLOOKUP(Tabla38[[#This Row],[CODIGO municipio]],[3]!Tabla8[#All],4,FALSE),\"\")","v":""},{"$f":"IFERROR(VLOOKUP(Tabla38[[#This Row],[CODIGO municipio]],[3]!Tabla8[#All],5,FALSE),\"\")","v":""},{"$f":"IFERROR(VLOOKUP(Tabla38[[#This Row],[CODIGO municipio]],[3]!Tabla8[#All],6,FALSE),\"\")","v":""},{"$f":"IFERROR(VLOOKUP(Tabla38[[#This Row],[CODIGO municipio]],[3]!Tabla8[#All],7,FALSE),\"\")","v":""},{"$f":"IFERROR(VLOOKUP(Tabla38[[#This Row],[CODIGO municipio]],[3]!Tabla8[#All],8,FALSE),\"\")","v":""},{"$f":"IFERROR(VLOOKUP(Tabla38[[#This Row],[CODIGO municipio]],[3]!Tabla8[#All],9,FALSE),\"\")","v":""},{"$f":"IFERROR(VLOOKUP(Tabla38[[#This Row],[CODIGO municipio]],[3]!Tabla8[#All],10,FALSE),\"\")","v":""},{"$f":"IFERROR(VLOOKUP(Tabla38[[#This Row],[CODIGO municipio]],[3]!Tabla8[#All],11,FALSE),\"\")","v":""},{"$f":"IFERROR(VLOOKUP(Tabla38[[#This Row],[CODIGO municipio]],[3]!Tabla8[#All],12,FALSE),\"\")","v":""},{"$f":"IFERROR(VLOOKUP(Tabla38[[#This Row],[CODIGO municipio]],[3]!Tabla8[#All],13,FALSE),\"\")","v":""},{"$f":"IFERROR(VLOOKUP(Tabla38[[#This Row],[CODIGO municipio]],[3]!Tabla8[#All],14,FALSE),\"\")","v":""},{"$f":"IFERROR(VLOOKUP(Tabla38[[#This Row],[CODIGO municipio]],[3]!Tabla8[#All],15,FALSE),\"\")","v":""},{"$f":"IFERROR(VLOOKUP(Tabla38[[#This Row],[CODIGO municipio]],[3]!Tabla8[#All],16,FALSE),\"\")","v":""},{"$f":"IFERROR(VLOOKUP(Tabla38[[#This Row],[CODIGO municipio]],[3]!Tabla8[#All],17,FALSE),\"\")","v":""},{"$f":"IFERROR(VLOOKUP(Tabla38[[#This Row],[CODIGO municipio]],[3]!Tabla8[#All],18,FALSE),\"\")","v":""},{"$f":"IFERROR(VLOOKUP(Tabla38[[#This Row],[CODIGO municipio]],[3]!Tabla8[#All],19,FALSE),\"\")","v":""},{"$f":"IFERROR(VLOOKUP(Tabla38[[#This Row],[CODIGO municipio]],[3]!Tabla8[#All],20,FALSE),\"\")","v":""},{"$f":"IFERROR(VLOOKUP(Tabla38[[#This Row],[CODIGO municipio]],[3]!Tabla8[#All],21,FALSE),\"\")","v":""},{"$f":"IFERROR(VLOOKUP(Tabla38[[#This Row],[CODIGO municipio]],[3]!Tabla8[#All],22,FALSE),\"\")","v":""},{"$f":"IFERROR(VLOOKUP(Tabla38[[#This Row],[CODIGO municipio]],[3]!Tabla8[#All],23,FALSE),\"\")","v":""},{"$f":"IFERROR(VLOOKUP(Tabla38[[#This Row],[CODIGO municipio]],[3]!Tabla9[#All],3,FALSE),\"\")","v":""}]
[{"$f":"IFERROR(VLOOKUP(Tabla38[[#This Row],[Municipio]],[3]!Tabla2[#All],3,FALSE),\"\")","v":""},511,"Palín",{"$f":"IFERROR(VLOOKUP(Tabla38[[#This Row],[CODIGO municipio]],[3]!Tabla6[[#All],[codigo_mun]],1,FALSE),\"\")","v":""},{"$f":"IFERROR(VLOOKUP(Tabla38[[#This Row],[CODIGO municipio]],[3]!Tabla12[#All],2,FALSE),\"\")","v":""},{"$f":"IFERROR(VLOOKUP(Tabla38[[#This Row],[CODIGO municipio]],[3]!Tabla7[#All],3,FALSE),\"\")","v":""},{"$f":"IFERROR(VLOOKUP(Tabla38[[#This Row],[CODIGO municipio]],[3]!Tabla7[#All],4,FALSE),\"\")","v":""},{"$f":"IFERROR(VLOOKUP(Tabla38[[#This Row],[CODIGO municipio]],[3]!Tabla7[#All],11,FALSE),\"\")","v":""},{"$f":"IFERROR(VLOOKUP(Tabla38[[#This Row],[CODIGO municipio]],[3]!Tabla7[#All],12,FALSE),\"\")","v":""},{"$f":"IFERROR(VLOOKUP(Tabla38[[#This Row],[CODIGO municipio]],[3]!Tabla7[#All],13,FALSE),\"\")","v":""},{"$f":"IFERROR(VLOOKUP(Tabla38[[#This Row],[CODIGO municipio]],[3]!Tabla7[#All],14,FALSE),\"\")","v":""},{"$f":"IFERROR(VLOOKUP(Tabla38[[#This Row],[CODIGO municipio]],[3]!Tabla7[#All],15,FALSE),\"\")","v":""},{"$f":"IFERROR(VLOOKUP(Tabla38[[#This Row],[CODIGO municipio]],[3]!Tabla7[#All],16,FALSE),\"\")","v":""},{"$f":"IFERROR(VLOOKUP(Tabla38[[#This Row],[CODIGO municipio]],[3]!Tabla7[#All],17,FALSE),\"\")","v":""},{"$f":"IFERROR(VLOOKUP(Tabla38[[#This Row],[CODIGO municipio]],[3]!Tabla7[#All],18,FALSE),\"\")","v":""},{"$f":"IFERROR(VLOOKUP(Tabla38[[#This Row],[CODIGO municipio]],[3]!Tabla7[#All],19,FALSE),\"\")","v":""},{"$f":"IFERROR(VLOOKUP(Tabla38[[#This Row],[CODIGO municipio]],[3]!Tabla8[#All],3,FALSE),\"\")","v":""},{"$f":"IFERROR(VLOOKUP(Tabla38[[#This Row],[CODIGO municipio]],[3]!Tabla8[#All],4,FALSE),\"\")","v":""},{"$f":"IFERROR(VLOOKUP(Tabla38[[#This Row],[CODIGO municipio]],[3]!Tabla8[#All],5,FALSE),\"\")","v":""},{"$f":"IFERROR(VLOOKUP(Tabla38[[#This Row],[CODIGO municipio]],[3]!Tabla8[#All],6,FALSE),\"\")","v":""},{"$f":"IFERROR(VLOOKUP(Tabla38[[#This Row],[CODIGO municipio]],[3]!Tabla8[#All],7,FALSE),\"\")","v":""},{"$f":"IFERROR(VLOOKUP(Tabla38[[#This Row],[CODIGO municipio]],[3]!Tabla8[#All],8,FALSE),\"\")","v":""},{"$f":"IFERROR(VLOOKUP(Tabla38[[#This Row],[CODIGO municipio]],[3]!Tabla8[#All],9,FALSE),\"\")","v":""},{"$f":"IFERROR(VLOOKUP(Tabla38[[#This Row],[CODIGO municipio]],[3]!Tabla8[#All],10,FALSE),\"\")","v":""},{"$f":"IFERROR(VLOOKUP(Tabla38[[#This Row],[CODIGO municipio]],[3]!Tabla8[#All],11,FALSE),\"\")","v":""},{"$f":"IFERROR(VLOOKUP(Tabla38[[#This Row],[CODIGO municipio]],[3]!Tabla8[#All],12,FALSE),\"\")","v":""},{"$f":"IFERROR(VLOOKUP(Tabla38[[#This Row],[CODIGO municipio]],[3]!Tabla8[#All],13,FALSE),\"\")","v":""},{"$f":"IFERROR(VLOOKUP(Tabla38[[#This Row],[CODIGO municipio]],[3]!Tabla8[#All],14,FALSE),\"\")","v":""},{"$f":"IFERROR(VLOOKUP(Tabla38[[#This Row],[CODIGO municipio]],[3]!Tabla8[#All],15,FALSE),\"\")","v":""},{"$f":"IFERROR(VLOOKUP(Tabla38[[#This Row],[CODIGO municipio]],[3]!Tabla8[#All],16,FALSE),\"\")","v":""},{"$f":"IFERROR(VLOOKUP(Tabla38[[#This Row],[CODIGO municipio]],[3]!Tabla8[#All],17,FALSE),\"\")","v":""},{"$f":"IFERROR(VLOOKUP(Tabla38[[#This Row],[CODIGO municipio]],[3]!Tabla8[#All],18,FALSE),\"\")","v":""},{"$f":"IFERROR(VLOOKUP(Tabla38[[#This Row],[CODIGO municipio]],[3]!Tabla8[#All],19,FALSE),\"\")","v":""},{"$f":"IFERROR(VLOOKUP(Tabla38[[#This Row],[CODIGO municipio]],[3]!Tabla8[#All],20,FALSE),\"\")","v":""},{"$f":"IFERROR(VLOOKUP(Tabla38[[#This Row],[CODIGO municipio]],[3]!Tabla8[#All],21,FALSE),\"\")","v":""},{"$f":"IFERROR(VLOOKUP(Tabla38[[#This Row],[CODIGO municipio]],[3]!Tabla8[#All],22,FALSE),\"\")","v":""},{"$f":"IFERROR(VLOOKUP(Tabla38[[#This Row],[CODIGO municipio]],[3]!Tabla8[#All],23,FALSE),\"\")","v":""},{"$f":"IFERROR(VLOOKUP(Tabla38[[#This Row],[CODIGO municipio]],[3]!Tabla9[#All],3,FALSE),\"\")","v":""}]
[{"$f":"IFERROR(VLOOKUP(Tabla38[[#This Row],[Municipio]],[3]!Tabla2[#All],3,FALSE),\"\")","v":""},512,"San Vicente Pacaya",{"$f":"IFERROR(VLOOKUP(Tabla38[[#This Row],[CODIGO municipio]],[3]!Tabla6[[#All],[codigo_mun]],1,FALSE),\"\")","v":""},{"$f":"IFERROR(VLOOKUP(Tabla38[[#This Row],[CODIGO municipio]],[3]!Tabla12[#All],2,FALSE),\"\")","v":""},{"$f":"IFERROR(VLOOKUP(Tabla38[[#This Row],[CODIGO municipio]],[3]!Tabla7[#All],3,FALSE),\"\")","v":""},{"$f":"IFERROR(VLOOKUP(Tabla38[[#This Row],[CODIGO municipio]],[3]!Tabla7[#All],4,FALSE),\"\")","v":""},{"$f":"IFERROR(VLOOKUP(Tabla38[[#This Row],[CODIGO municipio]],[3]!Tabla7[#All],11,FALSE),\"\")","v":""},{"$f":"IFERROR(VLOOKUP(Tabla38[[#This Row],[CODIGO municipio]],[3]!Tabla7[#All],12,FALSE),\"\")","v":""},{"$f":"IFERROR(VLOOKUP(Tabla38[[#This Row],[CODIGO municipio]],[3]!Tabla7[#All],13,FALSE),\"\")","v":""},{"$f":"IFERROR(VLOOKUP(Tabla38[[#This Row],[CODIGO municipio]],[3]!Tabla7[#All],14,FALSE),\"\")","v":""},{"$f":"IFERROR(VLOOKUP(Tabla38[[#This Row],[CODIGO municipio]],[3]!Tabla7[#All],15,FALSE),\"\")","v":""},{"$f":"IFERROR(VLOOKUP(Tabla38[[#This Row],[CODIGO municipio]],[3]!Tabla7[#All],16,FALSE),\"\")","v":""},{"$f":"IFERROR(VLOOKUP(Tabla38[[#This Row],[CODIGO municipio]],[3]!Tabla7[#All],17,FALSE),\"\")","v":""},{"$f":"IFERROR(VLOOKUP(Tabla38[[#This Row],[CODIGO municipio]],[3]!Tabla7[#All],18,FALSE),\"\")","v":""},{"$f":"IFERROR(VLOOKUP(Tabla38[[#This Row],[CODIGO municipio]],[3]!Tabla7[#All],19,FALSE),\"\")","v":""},{"$f":"IFERROR(VLOOKUP(Tabla38[[#This Row],[CODIGO municipio]],[3]!Tabla8[#All],3,FALSE),\"\")","v":""},{"$f":"IFERROR(VLOOKUP(Tabla38[[#This Row],[CODIGO municipio]],[3]!Tabla8[#All],4,FALSE),\"\")","v":""},{"$f":"IFERROR(VLOOKUP(Tabla38[[#This Row],[CODIGO municipio]],[3]!Tabla8[#All],5,FALSE),\"\")","v":""},{"$f":"IFERROR(VLOOKUP(Tabla38[[#This Row],[CODIGO municipio]],[3]!Tabla8[#All],6,FALSE),\"\")","v":""},{"$f":"IFERROR(VLOOKUP(Tabla38[[#This Row],[CODIGO municipio]],[3]!Tabla8[#All],7,FALSE),\"\")","v":""},{"$f":"IFERROR(VLOOKUP(Tabla38[[#This Row],[CODIGO municipio]],[3]!Tabla8[#All],8,FALSE),\"\")","v":""},{"$f":"IFERROR(VLOOKUP(Tabla38[[#This Row],[CODIGO municipio]],[3]!Tabla8[#All],9,FALSE),\"\")","v":""},{"$f":"IFERROR(VLOOKUP(Tabla38[[#This Row],[CODIGO municipio]],[3]!Tabla8[#All],10,FALSE),\"\")","v":""},{"$f":"IFERROR(VLOOKUP(Tabla38[[#This Row],[CODIGO municipio]],[3]!Tabla8[#All],11,FALSE),\"\")","v":""},{"$f":"IFERROR(VLOOKUP(Tabla38[[#This Row],[CODIGO municipio]],[3]!Tabla8[#All],12,FALSE),\"\")","v":""},{"$f":"IFERROR(VLOOKUP(Tabla38[[#This Row],[CODIGO municipio]],[3]!Tabla8[#All],13,FALSE),\"\")","v":""},{"$f":"IFERROR(VLOOKUP(Tabla38[[#This Row],[CODIGO municipio]],[3]!Tabla8[#All],14,FALSE),\"\")","v":""},{"$f":"IFERROR(VLOOKUP(Tabla38[[#This Row],[CODIGO municipio]],[3]!Tabla8[#All],15,FALSE),\"\")","v":""},{"$f":"IFERROR(VLOOKUP(Tabla38[[#This Row],[CODIGO municipio]],[3]!Tabla8[#All],16,FALSE),\"\")","v":""},{"$f":"IFERROR(VLOOKUP(Tabla38[[#This Row],[CODIGO municipio]],[3]!Tabla8[#All],17,FALSE),\"\")","v":""},{"$f":"IFERROR(VLOOKUP(Tabla38[[#This Row],[CODIGO municipio]],[3]!Tabla8[#All],18,FALSE),\"\")","v":""},{"$f":"IFERROR(VLOOKUP(Tabla38[[#This Row],[CODIGO municipio]],[3]!Tabla8[#All],19,FALSE),\"\")","v":""},{"$f":"IFERROR(VLOOKUP(Tabla38[[#This Row],[CODIGO municipio]],[3]!Tabla8[#All],20,FALSE),\"\")","v":""},{"$f":"IFERROR(VLOOKUP(Tabla38[[#This Row],[CODIGO municipio]],[3]!Tabla8[#All],21,FALSE),\"\")","v":""},{"$f":"IFERROR(VLOOKUP(Tabla38[[#This Row],[CODIGO municipio]],[3]!Tabla8[#All],22,FALSE),\"\")","v":""},{"$f":"IFERROR(VLOOKUP(Tabla38[[#This Row],[CODIGO municipio]],[3]!Tabla8[#All],23,FALSE),\"\")","v":""},{"$f":"IFERROR(VLOOKUP(Tabla38[[#This Row],[CODIGO municipio]],[3]!Tabla9[#All],3,FALSE),\"\")","v":""}]
[{"$f":"IFERROR(VLOOKUP(Tabla38[[#This Row],[Municipio]],[3]!Tabla2[#All],3,FALSE),\"\")","v":""},513,"Nueva Concepción",{"$f":"IFERROR(VLOOKUP(Tabla38[[#This Row],[CODIGO municipio]],[3]!Tabla6[[#All],[codigo_mun]],1,FALSE),\"\")","v":""},{"$f":"IFERROR(VLOOKUP(Tabla38[[#This Row],[CODIGO municipio]],[3]!Tabla12[#All],2,FALSE),\"\")","v":""},{"$f":"IFERROR(VLOOKUP(Tabla38[[#This Row],[CODIGO municipio]],[3]!Tabla7[#All],3,FALSE),\"\")","v":""},{"$f":"IFERROR(VLOOKUP(Tabla38[[#This Row],[CODIGO municipio]],[3]!Tabla7[#All],4,FALSE),\"\")","v":""},{"$f":"IFERROR(VLOOKUP(Tabla38[[#This Row],[CODIGO municipio]],[3]!Tabla7[#All],11,FALSE),\"\")","v":""},{"$f":"IFERROR(VLOOKUP(Tabla38[[#This Row],[CODIGO municipio]],[3]!Tabla7[#All],12,FALSE),\"\")","v":""},{"$f":"IFERROR(VLOOKUP(Tabla38[[#This Row],[CODIGO municipio]],[3]!Tabla7[#All],13,FALSE),\"\")","v":""},{"$f":"IFERROR(VLOOKUP(Tabla38[[#This Row],[CODIGO municipio]],[3]!Tabla7[#All],14,FALSE),\"\")","v":""},{"$f":"IFERROR(VLOOKUP(Tabla38[[#This Row],[CODIGO municipio]],[3]!Tabla7[#All],15,FALSE),\"\")","v":""},{"$f":"IFERROR(VLOOKUP(Tabla38[[#This Row],[CODIGO municipio]],[3]!Tabla7[#All],16,FALSE),\"\")","v":""},{"$f":"IFERROR(VLOOKUP(Tabla38[[#This Row],[CODIGO municipio]],[3]!Tabla7[#All],17,FALSE),\"\")","v":""},{"$f":"IFERROR(VLOOKUP(Tabla38[[#This Row],[CODIGO municipio]],[3]!Tabla7[#All],18,FALSE),\"\")","v":""},{"$f":"IFERROR(VLOOKUP(Tabla38[[#This Row],[CODIGO municipio]],[3]!Tabla7[#All],19,FALSE),\"\")","v":""},{"$f":"IFERROR(VLOOKUP(Tabla38[[#This Row],[CODIGO municipio]],[3]!Tabla8[#All],3,FALSE),\"\")","v":""},{"$f":"IFERROR(VLOOKUP(Tabla38[[#This Row],[CODIGO municipio]],[3]!Tabla8[#All],4,FALSE),\"\")","v":""},{"$f":"IFERROR(VLOOKUP(Tabla38[[#This Row],[CODIGO municipio]],[3]!Tabla8[#All],5,FALSE),\"\")","v":""},{"$f":"IFERROR(VLOOKUP(Tabla38[[#This Row],[CODIGO municipio]],[3]!Tabla8[#All],6,FALSE),\"\")","v":""},{"$f":"IFERROR(VLOOKUP(Tabla38[[#This Row],[CODIGO municipio]],[3]!Tabla8[#All],7,FALSE),\"\")","v":""},{"$f":"IFERROR(VLOOKUP(Tabla38[[#This Row],[CODIGO municipio]],[3]!Tabla8[#All],8,FALSE),\"\")","v":""},{"$f":"IFERROR(VLOOKUP(Tabla38[[#This Row],[CODIGO municipio]],[3]!Tabla8[#All],9,FALSE),\"\")","v":""},{"$f":"IFERROR(VLOOKUP(Tabla38[[#This Row],[CODIGO municipio]],[3]!Tabla8[#All],10,FALSE),\"\")","v":""},{"$f":"IFERROR(VLOOKUP(Tabla38[[#This Row],[CODIGO municipio]],[3]!Tabla8[#All],11,FALSE),\"\")","v":""},{"$f":"IFERROR(VLOOKUP(Tabla38[[#This Row],[CODIGO municipio]],[3]!Tabla8[#All],12,FALSE),\"\")","v":""},{"$f":"IFERROR(VLOOKUP(Tabla38[[#This Row],[CODIGO municipio]],[3]!Tabla8[#All],13,FALSE),\"\")","v":""},{"$f":"IFERROR(VLOOKUP(Tabla38[[#This Row],[CODIGO municipio]],[3]!Tabla8[#All],14,FALSE),\"\")","v":""},{"$f":"IFERROR(VLOOKUP(Tabla38[[#This Row],[CODIGO municipio]],[3]!Tabla8[#All],15,FALSE),\"\")","v":""},{"$f":"IFERROR(VLOOKUP(Tabla38[[#This Row],[CODIGO municipio]],[3]!Tabla8[#All],16,FALSE),\"\")","v":""},{"$f":"IFERROR(VLOOKUP(Tabla38[[#This Row],[CODIGO municipio]],[3]!Tabla8[#All],17,FALSE),\"\")","v":""},{"$f":"IFERROR(VLOOKUP(Tabla38[[#This Row],[CODIGO municipio]],[3]!Tabla8[#All],18,FALSE),\"\")","v":""},{"$f":"IFERROR(VLOOKUP(Tabla38[[#This Row],[CODIGO municipio]],[3]!Tabla8[#All],19,FALSE),\"\")","v":""},{"$f":"IFERROR(VLOOKUP(Tabla38[[#This Row],[CODIGO municipio]],[3]!Tabla8[#All],20,FALSE),\"\")","v":""},{"$f":"IFERROR(VLOOKUP(Tabla38[[#This Row],[CODIGO municipio]],[3]!Tabla8[#All],21,FALSE),\"\")","v":""},{"$f":"IFERROR(VLOOKUP(Tabla38[[#This Row],[CODIGO municipio]],[3]!Tabla8[#All],22,FALSE),\"\")","v":""},{"$f":"IFERROR(VLOOKUP(Tabla38[[#This Row],[CODIGO municipio]],[3]!Tabla8[#All],23,FALSE),\"\")","v":""},{"$f":"IFERROR(VLOOKUP(Tabla38[[#This Row],[CODIGO municipio]],[3]!Tabla9[#All],3,FALSE),\"\")","v":""}]
[{"$f":"IFERROR(VLOOKUP(Tabla38[[#This Row],[Municipio]],[3]!Tabla2[#All],3,FALSE),\"\")","v":""},514,"Sipacate",{"$f":"IFERROR(VLOOKUP(Tabla38[[#This Row],[CODIGO municipio]],[3]!Tabla6[[#All],[codigo_mun]],1,FALSE),\"\")","v":""},{"$f":"IFERROR(VLOOKUP(Tabla38[[#This Row],[CODIGO municipio]],[3]!Tabla12[#All],2,FALSE),\"\")","v":""},{"$f":"IFERROR(VLOOKUP(Tabla38[[#This Row],[CODIGO municipio]],[3]!Tabla7[#All],3,FALSE),\"\")","v":""},{"$f":"IFERROR(VLOOKUP(Tabla38[[#This Row],[CODIGO municipio]],[3]!Tabla7[#All],4,FALSE),\"\")","v":""},{"$f":"IFERROR(VLOOKUP(Tabla38[[#This Row],[CODIGO municipio]],[3]!Tabla7[#All],11,FALSE),\"\")","v":""},{"$f":"IFERROR(VLOOKUP(Tabla38[[#This Row],[CODIGO municipio]],[3]!Tabla7[#All],12,FALSE),\"\")","v":""},{"$f":"IFERROR(VLOOKUP(Tabla38[[#This Row],[CODIGO municipio]],[3]!Tabla7[#All],13,FALSE),\"\")","v":""},{"$f":"IFERROR(VLOOKUP(Tabla38[[#This Row],[CODIGO municipio]],[3]!Tabla7[#All],14,FALSE),\"\")","v":""},{"$f":"IFERROR(VLOOKUP(Tabla38[[#This Row],[CODIGO municipio]],[3]!Tabla7[#All],15,FALSE),\"\")","v":""},{"$f":"IFERROR(VLOOKUP(Tabla38[[#This Row],[CODIGO municipio]],[3]!Tabla7[#All],16,FALSE),\"\")","v":""},{"$f":"IFERROR(VLOOKUP(Tabla38[[#This Row],[CODIGO municipio]],[3]!Tabla7[#All],17,FALSE),\"\")","v":""},{"$f":"IFERROR(VLOOKUP(Tabla38[[#This Row],[CODIGO municipio]],[3]!Tabla7[#All],18,FALSE),\"\")","v":""},{"$f":"IFERROR(VLOOKUP(Tabla38[[#This Row],[CODIGO municipio]],[3]!Tabla7[#All],19,FALSE),\"\")","v":""},{"$f":"IFERROR(VLOOKUP(Tabla38[[#This Row],[CODIGO municipio]],[3]!Tabla8[#All],3,FALSE),\"\")","v":""},{"$f":"IFERROR(VLOOKUP(Tabla38[[#This Row],[CODIGO municipio]],[3]!Tabla8[#All],4,FALSE),\"\")","v":""},{"$f":"IFERROR(VLOOKUP(Tabla38[[#This Row],[CODIGO municipio]],[3]!Tabla8[#All],5,FALSE),\"\")","v":""},{"$f":"IFERROR(VLOOKUP(Tabla38[[#This Row],[CODIGO municipio]],[3]!Tabla8[#All],6,FALSE),\"\")","v":""},{"$f":"IFERROR(VLOOKUP(Tabla38[[#This Row],[CODIGO municipio]],[3]!Tabla8[#All],7,FALSE),\"\")","v":""},{"$f":"IFERROR(VLOOKUP(Tabla38[[#This Row],[CODIGO municipio]],[3]!Tabla8[#All],8,FALSE),\"\")","v":""},{"$f":"IFERROR(VLOOKUP(Tabla38[[#This Row],[CODIGO municipio]],[3]!Tabla8[#All],9,FALSE),\"\")","v":""},{"$f":"IFERROR(VLOOKUP(Tabla38[[#This Row],[CODIGO municipio]],[3]!Tabla8[#All],10,FALSE),\"\")","v":""},{"$f":"IFERROR(VLOOKUP(Tabla38[[#This Row],[CODIGO municipio]],[3]!Tabla8[#All],11,FALSE),\"\")","v":""},{"$f":"IFERROR(VLOOKUP(Tabla38[[#This Row],[CODIGO municipio]],[3]!Tabla8[#All],12,FALSE),\"\")","v":""},{"$f":"IFERROR(VLOOKUP(Tabla38[[#This Row],[CODIGO municipio]],[3]!Tabla8[#All],13,FALSE),\"\")","v":""},{"$f":"IFERROR(VLOOKUP(Tabla38[[#This Row],[CODIGO municipio]],[3]!Tabla8[#All],14,FALSE),\"\")","v":""},{"$f":"IFERROR(VLOOKUP(Tabla38[[#This Row],[CODIGO municipio]],[3]!Tabla8[#All],15,FALSE),\"\")","v":""},{"$f":"IFERROR(VLOOKUP(Tabla38[[#This Row],[CODIGO municipio]],[3]!Tabla8[#All],16,FALSE),\"\")","v":""},{"$f":"IFERROR(VLOOKUP(Tabla38[[#This Row],[CODIGO municipio]],[3]!Tabla8[#All],17,FALSE),\"\")","v":""},{"$f":"IFERROR(VLOOKUP(Tabla38[[#This Row],[CODIGO municipio]],[3]!Tabla8[#All],18,FALSE),\"\")","v":""},{"$f":"IFERROR(VLOOKUP(Tabla38[[#This Row],[CODIGO municipio]],[3]!Tabla8[#All],19,FALSE),\"\")","v":""},{"$f":"IFERROR(VLOOKUP(Tabla38[[#This Row],[CODIGO municipio]],[3]!Tabla8[#All],20,FALSE),\"\")","v":""},{"$f":"IFERROR(VLOOKUP(Tabla38[[#This Row],[CODIGO municipio]],[3]!Tabla8[#All],21,FALSE),\"\")","v":""},{"$f":"IFERROR(VLOOKUP(Tabla38[[#This Row],[CODIGO municipio]],[3]!Tabla8[#All],22,FALSE),\"\")","v":""},{"$f":"IFERROR(VLOOKUP(Tabla38[[#This Row],[CODIGO municipio]],[3]!Tabla8[#All],23,FALSE),\"\")","v":""},{"$f":"IFERROR(VLOOKUP(Tabla38[[#This Row],[CODIGO municipio]],[3]!Tabla9[#All],3,FALSE),\"\")","v":""}]
[{"$f":"IFERROR(VLOOKUP(Tabla38[[#This Row],[Municipio]],[3]!Tabla2[#All],3,FALSE),\"\")","v":""},601,"Cuilapa",{"$f":"IFERROR(VLOOKUP(Tabla38[[#This Row],[CODIGO municipio]],[3]!Tabla6[[#All],[codigo_mun]],1,FALSE),\"\")","v":""},{"$f":"IFERROR(VLOOKUP(Tabla38[[#This Row],[CODIGO municipio]],[3]!Tabla12[#All],2,FALSE),\"\")","v":""},{"$f":"IFERROR(VLOOKUP(Tabla38[[#This Row],[CODIGO municipio]],[3]!Tabla7[#All],3,FALSE),\"\")","v":""},{"$f":"IFERROR(VLOOKUP(Tabla38[[#This Row],[CODIGO municipio]],[3]!Tabla7[#All],4,FALSE),\"\")","v":""},{"$f":"IFERROR(VLOOKUP(Tabla38[[#This Row],[CODIGO municipio]],[3]!Tabla7[#All],11,FALSE),\"\")","v":""},{"$f":"IFERROR(VLOOKUP(Tabla38[[#This Row],[CODIGO municipio]],[3]!Tabla7[#All],12,FALSE),\"\")","v":""},{"$f":"IFERROR(VLOOKUP(Tabla38[[#This Row],[CODIGO municipio]],[3]!Tabla7[#All],13,FALSE),\"\")","v":""},{"$f":"IFERROR(VLOOKUP(Tabla38[[#This Row],[CODIGO municipio]],[3]!Tabla7[#All],14,FALSE),\"\")","v":""},{"$f":"IFERROR(VLOOKUP(Tabla38[[#This Row],[CODIGO municipio]],[3]!Tabla7[#All],15,FALSE),\"\")","v":""},{"$f":"IFERROR(VLOOKUP(Tabla38[[#This Row],[CODIGO municipio]],[3]!Tabla7[#All],16,FALSE),\"\")","v":""},{"$f":"IFERROR(VLOOKUP(Tabla38[[#This Row],[CODIGO municipio]],[3]!Tabla7[#All],17,FALSE),\"\")","v":""},{"$f":"IFERROR(VLOOKUP(Tabla38[[#This Row],[CODIGO municipio]],[3]!Tabla7[#All],18,FALSE),\"\")","v":""},{"$f":"IFERROR(VLOOKUP(Tabla38[[#This Row],[CODIGO municipio]],[3]!Tabla7[#All],19,FALSE),\"\")","v":""},{"$f":"IFERROR(VLOOKUP(Tabla38[[#This Row],[CODIGO municipio]],[3]!Tabla8[#All],3,FALSE),\"\")","v":""},{"$f":"IFERROR(VLOOKUP(Tabla38[[#This Row],[CODIGO municipio]],[3]!Tabla8[#All],4,FALSE),\"\")","v":""},{"$f":"IFERROR(VLOOKUP(Tabla38[[#This Row],[CODIGO municipio]],[3]!Tabla8[#All],5,FALSE),\"\")","v":""},{"$f":"IFERROR(VLOOKUP(Tabla38[[#This Row],[CODIGO municipio]],[3]!Tabla8[#All],6,FALSE),\"\")","v":""},{"$f":"IFERROR(VLOOKUP(Tabla38[[#This Row],[CODIGO municipio]],[3]!Tabla8[#All],7,FALSE),\"\")","v":""},{"$f":"IFERROR(VLOOKUP(Tabla38[[#This Row],[CODIGO municipio]],[3]!Tabla8[#All],8,FALSE),\"\")","v":""},{"$f":"IFERROR(VLOOKUP(Tabla38[[#This Row],[CODIGO municipio]],[3]!Tabla8[#All],9,FALSE),\"\")","v":""},{"$f":"IFERROR(VLOOKUP(Tabla38[[#This Row],[CODIGO municipio]],[3]!Tabla8[#All],10,FALSE),\"\")","v":""},{"$f":"IFERROR(VLOOKUP(Tabla38[[#This Row],[CODIGO municipio]],[3]!Tabla8[#All],11,FALSE),\"\")","v":""},{"$f":"IFERROR(VLOOKUP(Tabla38[[#This Row],[CODIGO municipio]],[3]!Tabla8[#All],12,FALSE),\"\")","v":""},{"$f":"IFERROR(VLOOKUP(Tabla38[[#This Row],[CODIGO municipio]],[3]!Tabla8[#All],13,FALSE),\"\")","v":""},{"$f":"IFERROR(VLOOKUP(Tabla38[[#This Row],[CODIGO municipio]],[3]!Tabla8[#All],14,FALSE),\"\")","v":""},{"$f":"IFERROR(VLOOKUP(Tabla38[[#This Row],[CODIGO municipio]],[3]!Tabla8[#All],15,FALSE),\"\")","v":""},{"$f":"IFERROR(VLOOKUP(Tabla38[[#This Row],[CODIGO municipio]],[3]!Tabla8[#All],16,FALSE),\"\")","v":""},{"$f":"IFERROR(VLOOKUP(Tabla38[[#This Row],[CODIGO municipio]],[3]!Tabla8[#All],17,FALSE),\"\")","v":""},{"$f":"IFERROR(VLOOKUP(Tabla38[[#This Row],[CODIGO municipio]],[3]!Tabla8[#All],18,FALSE),\"\")","v":""},{"$f":"IFERROR(VLOOKUP(Tabla38[[#This Row],[CODIGO municipio]],[3]!Tabla8[#All],19,FALSE),\"\")","v":""},{"$f":"IFERROR(VLOOKUP(Tabla38[[#This Row],[CODIGO municipio]],[3]!Tabla8[#All],20,FALSE),\"\")","v":""},{"$f":"IFERROR(VLOOKUP(Tabla38[[#This Row],[CODIGO municipio]],[3]!Tabla8[#All],21,FALSE),\"\")","v":""},{"$f":"IFERROR(VLOOKUP(Tabla38[[#This Row],[CODIGO municipio]],[3]!Tabla8[#All],22,FALSE),\"\")","v":""},{"$f":"IFERROR(VLOOKUP(Tabla38[[#This Row],[CODIGO municipio]],[3]!Tabla8[#All],23,FALSE),\"\")","v":""},{"$f":"IFERROR(VLOOKUP(Tabla38[[#This Row],[CODIGO municipio]],[3]!Tabla9[#All],3,FALSE),\"\")","v":""}]
[{"$f":"IFERROR(VLOOKUP(Tabla38[[#This Row],[Municipio]],[3]!Tabla2[#All],3,FALSE),\"\")","v":""},602,"Barberena",{"$f":"IFERROR(VLOOKUP(Tabla38[[#This Row],[CODIGO municipio]],[3]!Tabla6[[#All],[codigo_mun]],1,FALSE),\"\")","v":""},{"$f":"IFERROR(VLOOKUP(Tabla38[[#This Row],[CODIGO municipio]],[3]!Tabla12[#All],2,FALSE),\"\")","v":""},{"$f":"IFERROR(VLOOKUP(Tabla38[[#This Row],[CODIGO municipio]],[3]!Tabla7[#All],3,FALSE),\"\")","v":""},{"$f":"IFERROR(VLOOKUP(Tabla38[[#This Row],[CODIGO municipio]],[3]!Tabla7[#All],4,FALSE),\"\")","v":""},{"$f":"IFERROR(VLOOKUP(Tabla38[[#This Row],[CODIGO municipio]],[3]!Tabla7[#All],11,FALSE),\"\")","v":""},{"$f":"IFERROR(VLOOKUP(Tabla38[[#This Row],[CODIGO municipio]],[3]!Tabla7[#All],12,FALSE),\"\")","v":""},{"$f":"IFERROR(VLOOKUP(Tabla38[[#This Row],[CODIGO municipio]],[3]!Tabla7[#All],13,FALSE),\"\")","v":""},{"$f":"IFERROR(VLOOKUP(Tabla38[[#This Row],[CODIGO municipio]],[3]!Tabla7[#All],14,FALSE),\"\")","v":""},{"$f":"IFERROR(VLOOKUP(Tabla38[[#This Row],[CODIGO municipio]],[3]!Tabla7[#All],15,FALSE),\"\")","v":""},{"$f":"IFERROR(VLOOKUP(Tabla38[[#This Row],[CODIGO municipio]],[3]!Tabla7[#All],16,FALSE),\"\")","v":""},{"$f":"IFERROR(VLOOKUP(Tabla38[[#This Row],[CODIGO municipio]],[3]!Tabla7[#All],17,FALSE),\"\")","v":""},{"$f":"IFERROR(VLOOKUP(Tabla38[[#This Row],[CODIGO municipio]],[3]!Tabla7[#All],18,FALSE),\"\")","v":""},{"$f":"IFERROR(VLOOKUP(Tabla38[[#This Row],[CODIGO municipio]],[3]!Tabla7[#All],19,FALSE),\"\")","v":""},{"$f":"IFERROR(VLOOKUP(Tabla38[[#This Row],[CODIGO municipio]],[3]!Tabla8[#All],3,FALSE),\"\")","v":""},{"$f":"IFERROR(VLOOKUP(Tabla38[[#This Row],[CODIGO municipio]],[3]!Tabla8[#All],4,FALSE),\"\")","v":""},{"$f":"IFERROR(VLOOKUP(Tabla38[[#This Row],[CODIGO municipio]],[3]!Tabla8[#All],5,FALSE),\"\")","v":""},{"$f":"IFERROR(VLOOKUP(Tabla38[[#This Row],[CODIGO municipio]],[3]!Tabla8[#All],6,FALSE),\"\")","v":""},{"$f":"IFERROR(VLOOKUP(Tabla38[[#This Row],[CODIGO municipio]],[3]!Tabla8[#All],7,FALSE),\"\")","v":""},{"$f":"IFERROR(VLOOKUP(Tabla38[[#This Row],[CODIGO municipio]],[3]!Tabla8[#All],8,FALSE),\"\")","v":""},{"$f":"IFERROR(VLOOKUP(Tabla38[[#This Row],[CODIGO municipio]],[3]!Tabla8[#All],9,FALSE),\"\")","v":""},{"$f":"IFERROR(VLOOKUP(Tabla38[[#This Row],[CODIGO municipio]],[3]!Tabla8[#All],10,FALSE),\"\")","v":""},{"$f":"IFERROR(VLOOKUP(Tabla38[[#This Row],[CODIGO municipio]],[3]!Tabla8[#All],11,FALSE),\"\")","v":""},{"$f":"IFERROR(VLOOKUP(Tabla38[[#This Row],[CODIGO municipio]],[3]!Tabla8[#All],12,FALSE),\"\")","v":""},{"$f":"IFERROR(VLOOKUP(Tabla38[[#This Row],[CODIGO municipio]],[3]!Tabla8[#All],13,FALSE),\"\")","v":""},{"$f":"IFERROR(VLOOKUP(Tabla38[[#This Row],[CODIGO municipio]],[3]!Tabla8[#All],14,FALSE),\"\")","v":""},{"$f":"IFERROR(VLOOKUP(Tabla38[[#This Row],[CODIGO municipio]],[3]!Tabla8[#All],15,FALSE),\"\")","v":""},{"$f":"IFERROR(VLOOKUP(Tabla38[[#This Row],[CODIGO municipio]],[3]!Tabla8[#All],16,FALSE),\"\")","v":""},{"$f":"IFERROR(VLOOKUP(Tabla38[[#This Row],[CODIGO municipio]],[3]!Tabla8[#All],17,FALSE),\"\")","v":""},{"$f":"IFERROR(VLOOKUP(Tabla38[[#This Row],[CODIGO municipio]],[3]!Tabla8[#All],18,FALSE),\"\")","v":""},{"$f":"IFERROR(VLOOKUP(Tabla38[[#This Row],[CODIGO municipio]],[3]!Tabla8[#All],19,FALSE),\"\")","v":""},{"$f":"IFERROR(VLOOKUP(Tabla38[[#This Row],[CODIGO municipio]],[3]!Tabla8[#All],20,FALSE),\"\")","v":""},{"$f":"IFERROR(VLOOKUP(Tabla38[[#This Row],[CODIGO municipio]],[3]!Tabla8[#All],21,FALSE),\"\")","v":""},{"$f":"IFERROR(VLOOKUP(Tabla38[[#This Row],[CODIGO municipio]],[3]!Tabla8[#All],22,FALSE),\"\")","v":""},{"$f":"IFERROR(VLOOKUP(Tabla38[[#This Row],[CODIGO municipio]],[3]!Tabla8[#All],23,FALSE),\"\")","v":""},{"$f":"IFERROR(VLOOKUP(Tabla38[[#This Row],[CODIGO municipio]],[3]!Tabla9[#All],3,FALSE),\"\")","v":""}]
[{"$f":"IFERROR(VLOOKUP(Tabla38[[#This Row],[Municipio]],[3]!Tabla2[#All],3,FALSE),\"\")","v":""},603,"Santa Rosa de Lima",{"$f":"IFERROR(VLOOKUP(Tabla38[[#This Row],[CODIGO municipio]],[3]!Tabla6[[#All],[codigo_mun]],1,FALSE),\"\")","v":""},{"$f":"IFERROR(VLOOKUP(Tabla38[[#This Row],[CODIGO municipio]],[3]!Tabla12[#All],2,FALSE),\"\")","v":""},{"$f":"IFERROR(VLOOKUP(Tabla38[[#This Row],[CODIGO municipio]],[3]!Tabla7[#All],3,FALSE),\"\")","v":""},{"$f":"IFERROR(VLOOKUP(Tabla38[[#This Row],[CODIGO municipio]],[3]!Tabla7[#All],4,FALSE),\"\")","v":""},{"$f":"IFERROR(VLOOKUP(Tabla38[[#This Row],[CODIGO municipio]],[3]!Tabla7[#All],11,FALSE),\"\")","v":""},{"$f":"IFERROR(VLOOKUP(Tabla38[[#This Row],[CODIGO municipio]],[3]!Tabla7[#All],12,FALSE),\"\")","v":""},{"$f":"IFERROR(VLOOKUP(Tabla38[[#This Row],[CODIGO municipio]],[3]!Tabla7[#All],13,FALSE),\"\")","v":""},{"$f":"IFERROR(VLOOKUP(Tabla38[[#This Row],[CODIGO municipio]],[3]!Tabla7[#All],14,FALSE),\"\")","v":""},{"$f":"IFERROR(VLOOKUP(Tabla38[[#This Row],[CODIGO municipio]],[3]!Tabla7[#All],15,FALSE),\"\")","v":""},{"$f":"IFERROR(VLOOKUP(Tabla38[[#This Row],[CODIGO municipio]],[3]!Tabla7[#All],16,FALSE),\"\")","v":""},{"$f":"IFERROR(VLOOKUP(Tabla38[[#This Row],[CODIGO municipio]],[3]!Tabla7[#All],17,FALSE),\"\")","v":""},{"$f":"IFERROR(VLOOKUP(Tabla38[[#This Row],[CODIGO municipio]],[3]!Tabla7[#All],18,FALSE),\"\")","v":""},{"$f":"IFERROR(VLOOKUP(Tabla38[[#This Row],[CODIGO municipio]],[3]!Tabla7[#All],19,FALSE),\"\")","v":""},{"$f":"IFERROR(VLOOKUP(Tabla38[[#This Row],[CODIGO municipio]],[3]!Tabla8[#All],3,FALSE),\"\")","v":""},{"$f":"IFERROR(VLOOKUP(Tabla38[[#This Row],[CODIGO municipio]],[3]!Tabla8[#All],4,FALSE),\"\")","v":""},{"$f":"IFERROR(VLOOKUP(Tabla38[[#This Row],[CODIGO municipio]],[3]!Tabla8[#All],5,FALSE),\"\")","v":""},{"$f":"IFERROR(VLOOKUP(Tabla38[[#This Row],[CODIGO municipio]],[3]!Tabla8[#All],6,FALSE),\"\")","v":""},{"$f":"IFERROR(VLOOKUP(Tabla38[[#This Row],[CODIGO municipio]],[3]!Tabla8[#All],7,FALSE),\"\")","v":""},{"$f":"IFERROR(VLOOKUP(Tabla38[[#This Row],[CODIGO municipio]],[3]!Tabla8[#All],8,FALSE),\"\")","v":""},{"$f":"IFERROR(VLOOKUP(Tabla38[[#This Row],[CODIGO municipio]],[3]!Tabla8[#All],9,FALSE),\"\")","v":""},{"$f":"IFERROR(VLOOKUP(Tabla38[[#This Row],[CODIGO municipio]],[3]!Tabla8[#All],10,FALSE),\"\")","v":""},{"$f":"IFERROR(VLOOKUP(Tabla38[[#This Row],[CODIGO municipio]],[3]!Tabla8[#All],11,FALSE),\"\")","v":""},{"$f":"IFERROR(VLOOKUP(Tabla38[[#This Row],[CODIGO municipio]],[3]!Tabla8[#All],12,FALSE),\"\")","v":""},{"$f":"IFERROR(VLOOKUP(Tabla38[[#This Row],[CODIGO municipio]],[3]!Tabla8[#All],13,FALSE),\"\")","v":""},{"$f":"IFERROR(VLOOKUP(Tabla38[[#This Row],[CODIGO municipio]],[3]!Tabla8[#All],14,FALSE),\"\")","v":""},{"$f":"IFERROR(VLOOKUP(Tabla38[[#This Row],[CODIGO municipio]],[3]!Tabla8[#All],15,FALSE),\"\")","v":""},{"$f":"IFERROR(VLOOKUP(Tabla38[[#This Row],[CODIGO municipio]],[3]!Tabla8[#All],16,FALSE),\"\")","v":""},{"$f":"IFERROR(VLOOKUP(Tabla38[[#This Row],[CODIGO municipio]],[3]!Tabla8[#All],17,FALSE),\"\")","v":""},{"$f":"IFERROR(VLOOKUP(Tabla38[[#This Row],[CODIGO municipio]],[3]!Tabla8[#All],18,FALSE),\"\")","v":""},{"$f":"IFERROR(VLOOKUP(Tabla38[[#This Row],[CODIGO municipio]],[3]!Tabla8[#All],19,FALSE),\"\")","v":""},{"$f":"IFERROR(VLOOKUP(Tabla38[[#This Row],[CODIGO municipio]],[3]!Tabla8[#All],20,FALSE),\"\")","v":""},{"$f":"IFERROR(VLOOKUP(Tabla38[[#This Row],[CODIGO municipio]],[3]!Tabla8[#All],21,FALSE),\"\")","v":""},{"$f":"IFERROR(VLOOKUP(Tabla38[[#This Row],[CODIGO municipio]],[3]!Tabla8[#All],22,FALSE),\"\")","v":""},{"$f":"IFERROR(VLOOKUP(Tabla38[[#This Row],[CODIGO municipio]],[3]!Tabla8[#All],23,FALSE),\"\")","v":""},{"$f":"IFERROR(VLOOKUP(Tabla38[[#This Row],[CODIGO municipio]],[3]!Tabla9[#All],3,FALSE),\"\")","v":""}]
[{"$f":"IFERROR(VLOOKUP(Tabla38[[#This Row],[Municipio]],[3]!Tabla2[#All],3,FALSE),\"\")","v":""},604,"Casillas",{"$f":"IFERROR(VLOOKUP(Tabla38[[#This Row],[CODIGO municipio]],[3]!Tabla6[[#All],[codigo_mun]],1,FALSE),\"\")","v":""},{"$f":"IFERROR(VLOOKUP(Tabla38[[#This Row],[CODIGO municipio]],[3]!Tabla12[#All],2,FALSE),\"\")","v":""},{"$f":"IFERROR(VLOOKUP(Tabla38[[#This Row],[CODIGO municipio]],[3]!Tabla7[#All],3,FALSE),\"\")","v":""},{"$f":"IFERROR(VLOOKUP(Tabla38[[#This Row],[CODIGO municipio]],[3]!Tabla7[#All],4,FALSE),\"\")","v":""},{"$f":"IFERROR(VLOOKUP(Tabla38[[#This Row],[CODIGO municipio]],[3]!Tabla7[#All],11,FALSE),\"\")","v":""},{"$f":"IFERROR(VLOOKUP(Tabla38[[#This Row],[CODIGO municipio]],[3]!Tabla7[#All],12,FALSE),\"\")","v":""},{"$f":"IFERROR(VLOOKUP(Tabla38[[#This Row],[CODIGO municipio]],[3]!Tabla7[#All],13,FALSE),\"\")","v":""},{"$f":"IFERROR(VLOOKUP(Tabla38[[#This Row],[CODIGO municipio]],[3]!Tabla7[#All],14,FALSE),\"\")","v":""},{"$f":"IFERROR(VLOOKUP(Tabla38[[#This Row],[CODIGO municipio]],[3]!Tabla7[#All],15,FALSE),\"\")","v":""},{"$f":"IFERROR(VLOOKUP(Tabla38[[#This Row],[CODIGO municipio]],[3]!Tabla7[#All],16,FALSE),\"\")","v":""},{"$f":"IFERROR(VLOOKUP(Tabla38[[#This Row],[CODIGO municipio]],[3]!Tabla7[#All],17,FALSE),\"\")","v":""},{"$f":"IFERROR(VLOOKUP(Tabla38[[#This Row],[CODIGO municipio]],[3]!Tabla7[#All],18,FALSE),\"\")","v":""},{"$f":"IFERROR(VLOOKUP(Tabla38[[#This Row],[CODIGO municipio]],[3]!Tabla7[#All],19,FALSE),\"\")","v":""},{"$f":"IFERROR(VLOOKUP(Tabla38[[#This Row],[CODIGO municipio]],[3]!Tabla8[#All],3,FALSE),\"\")","v":""},{"$f":"IFERROR(VLOOKUP(Tabla38[[#This Row],[CODIGO municipio]],[3]!Tabla8[#All],4,FALSE),\"\")","v":""},{"$f":"IFERROR(VLOOKUP(Tabla38[[#This Row],[CODIGO municipio]],[3]!Tabla8[#All],5,FALSE),\"\")","v":""},{"$f":"IFERROR(VLOOKUP(Tabla38[[#This Row],[CODIGO municipio]],[3]!Tabla8[#All],6,FALSE),\"\")","v":""},{"$f":"IFERROR(VLOOKUP(Tabla38[[#This Row],[CODIGO municipio]],[3]!Tabla8[#All],7,FALSE),\"\")","v":""},{"$f":"IFERROR(VLOOKUP(Tabla38[[#This Row],[CODIGO municipio]],[3]!Tabla8[#All],8,FALSE),\"\")","v":""},{"$f":"IFERROR(VLOOKUP(Tabla38[[#This Row],[CODIGO municipio]],[3]!Tabla8[#All],9,FALSE),\"\")","v":""},{"$f":"IFERROR(VLOOKUP(Tabla38[[#This Row],[CODIGO municipio]],[3]!Tabla8[#All],10,FALSE),\"\")","v":""},{"$f":"IFERROR(VLOOKUP(Tabla38[[#This Row],[CODIGO municipio]],[3]!Tabla8[#All],11,FALSE),\"\")","v":""},{"$f":"IFERROR(VLOOKUP(Tabla38[[#This Row],[CODIGO municipio]],[3]!Tabla8[#All],12,FALSE),\"\")","v":""},{"$f":"IFERROR(VLOOKUP(Tabla38[[#This Row],[CODIGO municipio]],[3]!Tabla8[#All],13,FALSE),\"\")","v":""},{"$f":"IFERROR(VLOOKUP(Tabla38[[#This Row],[CODIGO municipio]],[3]!Tabla8[#All],14,FALSE),\"\")","v":""},{"$f":"IFERROR(VLOOKUP(Tabla38[[#This Row],[CODIGO municipio]],[3]!Tabla8[#All],15,FALSE),\"\")","v":""},{"$f":"IFERROR(VLOOKUP(Tabla38[[#This Row],[CODIGO municipio]],[3]!Tabla8[#All],16,FALSE),\"\")","v":""},{"$f":"IFERROR(VLOOKUP(Tabla38[[#This Row],[CODIGO municipio]],[3]!Tabla8[#All],17,FALSE),\"\")","v":""},{"$f":"IFERROR(VLOOKUP(Tabla38[[#This Row],[CODIGO municipio]],[3]!Tabla8[#All],18,FALSE),\"\")","v":""},{"$f":"IFERROR(VLOOKUP(Tabla38[[#This Row],[CODIGO municipio]],[3]!Tabla8[#All],19,FALSE),\"\")","v":""},{"$f":"IFERROR(VLOOKUP(Tabla38[[#This Row],[CODIGO municipio]],[3]!Tabla8[#All],20,FALSE),\"\")","v":""},{"$f":"IFERROR(VLOOKUP(Tabla38[[#This Row],[CODIGO municipio]],[3]!Tabla8[#All],21,FALSE),\"\")","v":""},{"$f":"IFERROR(VLOOKUP(Tabla38[[#This Row],[CODIGO municipio]],[3]!Tabla8[#All],22,FALSE),\"\")","v":""},{"$f":"IFERROR(VLOOKUP(Tabla38[[#This Row],[CODIGO municipio]],[3]!Tabla8[#All],23,FALSE),\"\")","v":""},{"$f":"IFERROR(VLOOKUP(Tabla38[[#This Row],[CODIGO municipio]],[3]!Tabla9[#All],3,FALSE),\"\")","v":""}]
[{"$f":"IFERROR(VLOOKUP(Tabla38[[#This Row],[Municipio]],[3]!Tabla2[#All],3,FALSE),\"\")","v":""},605,"San Rafael Las Flores",{"$f":"IFERROR(VLOOKUP(Tabla38[[#This Row],[CODIGO municipio]],[3]!Tabla6[[#All],[codigo_mun]],1,FALSE),\"\")","v":""},{"$f":"IFERROR(VLOOKUP(Tabla38[[#This Row],[CODIGO municipio]],[3]!Tabla12[#All],2,FALSE),\"\")","v":""},{"$f":"IFERROR(VLOOKUP(Tabla38[[#This Row],[CODIGO municipio]],[3]!Tabla7[#All],3,FALSE),\"\")","v":""},{"$f":"IFERROR(VLOOKUP(Tabla38[[#This Row],[CODIGO municipio]],[3]!Tabla7[#All],4,FALSE),\"\")","v":""},{"$f":"IFERROR(VLOOKUP(Tabla38[[#This Row],[CODIGO municipio]],[3]!Tabla7[#All],11,FALSE),\"\")","v":""},{"$f":"IFERROR(VLOOKUP(Tabla38[[#This Row],[CODIGO municipio]],[3]!Tabla7[#All],12,FALSE),\"\")","v":""},{"$f":"IFERROR(VLOOKUP(Tabla38[[#This Row],[CODIGO municipio]],[3]!Tabla7[#All],13,FALSE),\"\")","v":""},{"$f":"IFERROR(VLOOKUP(Tabla38[[#This Row],[CODIGO municipio]],[3]!Tabla7[#All],14,FALSE),\"\")","v":""},{"$f":"IFERROR(VLOOKUP(Tabla38[[#This Row],[CODIGO municipio]],[3]!Tabla7[#All],15,FALSE),\"\")","v":""},{"$f":"IFERROR(VLOOKUP(Tabla38[[#This Row],[CODIGO municipio]],[3]!Tabla7[#All],16,FALSE),\"\")","v":""},{"$f":"IFERROR(VLOOKUP(Tabla38[[#This Row],[CODIGO municipio]],[3]!Tabla7[#All],17,FALSE),\"\")","v":""},{"$f":"IFERROR(VLOOKUP(Tabla38[[#This Row],[CODIGO municipio]],[3]!Tabla7[#All],18,FALSE),\"\")","v":""},{"$f":"IFERROR(VLOOKUP(Tabla38[[#This Row],[CODIGO municipio]],[3]!Tabla7[#All],19,FALSE),\"\")","v":""},{"$f":"IFERROR(VLOOKUP(Tabla38[[#This Row],[CODIGO municipio]],[3]!Tabla8[#All],3,FALSE),\"\")","v":""},{"$f":"IFERROR(VLOOKUP(Tabla38[[#This Row],[CODIGO municipio]],[3]!Tabla8[#All],4,FALSE),\"\")","v":""},{"$f":"IFERROR(VLOOKUP(Tabla38[[#This Row],[CODIGO municipio]],[3]!Tabla8[#All],5,FALSE),\"\")","v":""},{"$f":"IFERROR(VLOOKUP(Tabla38[[#This Row],[CODIGO municipio]],[3]!Tabla8[#All],6,FALSE),\"\")","v":""},{"$f":"IFERROR(VLOOKUP(Tabla38[[#This Row],[CODIGO municipio]],[3]!Tabla8[#All],7,FALSE),\"\")","v":""},{"$f":"IFERROR(VLOOKUP(Tabla38[[#This Row],[CODIGO municipio]],[3]!Tabla8[#All],8,FALSE),\"\")","v":""},{"$f":"IFERROR(VLOOKUP(Tabla38[[#This Row],[CODIGO municipio]],[3]!Tabla8[#All],9,FALSE),\"\")","v":""},{"$f":"IFERROR(VLOOKUP(Tabla38[[#This Row],[CODIGO municipio]],[3]!Tabla8[#All],10,FALSE),\"\")","v":""},{"$f":"IFERROR(VLOOKUP(Tabla38[[#This Row],[CODIGO municipio]],[3]!Tabla8[#All],11,FALSE),\"\")","v":""},{"$f":"IFERROR(VLOOKUP(Tabla38[[#This Row],[CODIGO municipio]],[3]!Tabla8[#All],12,FALSE),\"\")","v":""},{"$f":"IFERROR(VLOOKUP(Tabla38[[#This Row],[CODIGO municipio]],[3]!Tabla8[#All],13,FALSE),\"\")","v":""},{"$f":"IFERROR(VLOOKUP(Tabla38[[#This Row],[CODIGO municipio]],[3]!Tabla8[#All],14,FALSE),\"\")","v":""},{"$f":"IFERROR(VLOOKUP(Tabla38[[#This Row],[CODIGO municipio]],[3]!Tabla8[#All],15,FALSE),\"\")","v":""},{"$f":"IFERROR(VLOOKUP(Tabla38[[#This Row],[CODIGO municipio]],[3]!Tabla8[#All],16,FALSE),\"\")","v":""},{"$f":"IFERROR(VLOOKUP(Tabla38[[#This Row],[CODIGO municipio]],[3]!Tabla8[#All],17,FALSE),\"\")","v":""},{"$f":"IFERROR(VLOOKUP(Tabla38[[#This Row],[CODIGO municipio]],[3]!Tabla8[#All],18,FALSE),\"\")","v":""},{"$f":"IFERROR(VLOOKUP(Tabla38[[#This Row],[CODIGO municipio]],[3]!Tabla8[#All],19,FALSE),\"\")","v":""},{"$f":"IFERROR(VLOOKUP(Tabla38[[#This Row],[CODIGO municipio]],[3]!Tabla8[#All],20,FALSE),\"\")","v":""},{"$f":"IFERROR(VLOOKUP(Tabla38[[#This Row],[CODIGO municipio]],[3]!Tabla8[#All],21,FALSE),\"\")","v":""},{"$f":"IFERROR(VLOOKUP(Tabla38[[#This Row],[CODIGO municipio]],[3]!Tabla8[#All],22,FALSE),\"\")","v":""},{"$f":"IFERROR(VLOOKUP(Tabla38[[#This Row],[CODIGO municipio]],[3]!Tabla8[#All],23,FALSE),\"\")","v":""},{"$f":"IFERROR(VLOOKUP(Tabla38[[#This Row],[CODIGO municipio]],[3]!Tabla9[#All],3,FALSE),\"\")","v":""}]
[{"$f":"IFERROR(VLOOKUP(Tabla38[[#This Row],[Municipio]],[3]!Tabla2[#All],3,FALSE),\"\")","v":""},606,"Oratorio",{"$f":"IFERROR(VLOOKUP(Tabla38[[#This Row],[CODIGO municipio]],[3]!Tabla6[[#All],[codigo_mun]],1,FALSE),\"\")","v":""},{"$f":"IFERROR(VLOOKUP(Tabla38[[#This Row],[CODIGO municipio]],[3]!Tabla12[#All],2,FALSE),\"\")","v":""},{"$f":"IFERROR(VLOOKUP(Tabla38[[#This Row],[CODIGO municipio]],[3]!Tabla7[#All],3,FALSE),\"\")","v":""},{"$f":"IFERROR(VLOOKUP(Tabla38[[#This Row],[CODIGO municipio]],[3]!Tabla7[#All],4,FALSE),\"\")","v":""},{"$f":"IFERROR(VLOOKUP(Tabla38[[#This Row],[CODIGO municipio]],[3]!Tabla7[#All],11,FALSE),\"\")","v":""},{"$f":"IFERROR(VLOOKUP(Tabla38[[#This Row],[CODIGO municipio]],[3]!Tabla7[#All],12,FALSE),\"\")","v":""},{"$f":"IFERROR(VLOOKUP(Tabla38[[#This Row],[CODIGO municipio]],[3]!Tabla7[#All],13,FALSE),\"\")","v":""},{"$f":"IFERROR(VLOOKUP(Tabla38[[#This Row],[CODIGO municipio]],[3]!Tabla7[#All],14,FALSE),\"\")","v":""},{"$f":"IFERROR(VLOOKUP(Tabla38[[#This Row],[CODIGO municipio]],[3]!Tabla7[#All],15,FALSE),\"\")","v":""},{"$f":"IFERROR(VLOOKUP(Tabla38[[#This Row],[CODIGO municipio]],[3]!Tabla7[#All],16,FALSE),\"\")","v":""},{"$f":"IFERROR(VLOOKUP(Tabla38[[#This Row],[CODIGO municipio]],[3]!Tabla7[#All],17,FALSE),\"\")","v":""},{"$f":"IFERROR(VLOOKUP(Tabla38[[#This Row],[CODIGO municipio]],[3]!Tabla7[#All],18,FALSE),\"\")","v":""},{"$f":"IFERROR(VLOOKUP(Tabla38[[#This Row],[CODIGO municipio]],[3]!Tabla7[#All],19,FALSE),\"\")","v":""},{"$f":"IFERROR(VLOOKUP(Tabla38[[#This Row],[CODIGO municipio]],[3]!Tabla8[#All],3,FALSE),\"\")","v":""},{"$f":"IFERROR(VLOOKUP(Tabla38[[#This Row],[CODIGO municipio]],[3]!Tabla8[#All],4,FALSE),\"\")","v":""},{"$f":"IFERROR(VLOOKUP(Tabla38[[#This Row],[CODIGO municipio]],[3]!Tabla8[#All],5,FALSE),\"\")","v":""},{"$f":"IFERROR(VLOOKUP(Tabla38[[#This Row],[CODIGO municipio]],[3]!Tabla8[#All],6,FALSE),\"\")","v":""},{"$f":"IFERROR(VLOOKUP(Tabla38[[#This Row],[CODIGO municipio]],[3]!Tabla8[#All],7,FALSE),\"\")","v":""},{"$f":"IFERROR(VLOOKUP(Tabla38[[#This Row],[CODIGO municipio]],[3]!Tabla8[#All],8,FALSE),\"\")","v":""},{"$f":"IFERROR(VLOOKUP(Tabla38[[#This Row],[CODIGO municipio]],[3]!Tabla8[#All],9,FALSE),\"\")","v":""},{"$f":"IFERROR(VLOOKUP(Tabla38[[#This Row],[CODIGO municipio]],[3]!Tabla8[#All],10,FALSE),\"\")","v":""},{"$f":"IFERROR(VLOOKUP(Tabla38[[#This Row],[CODIGO municipio]],[3]!Tabla8[#All],11,FALSE),\"\")","v":""},{"$f":"IFERROR(VLOOKUP(Tabla38[[#This Row],[CODIGO municipio]],[3]!Tabla8[#All],12,FALSE),\"\")","v":""},{"$f":"IFERROR(VLOOKUP(Tabla38[[#This Row],[CODIGO municipio]],[3]!Tabla8[#All],13,FALSE),\"\")","v":""},{"$f":"IFERROR(VLOOKUP(Tabla38[[#This Row],[CODIGO municipio]],[3]!Tabla8[#All],14,FALSE),\"\")","v":""},{"$f":"IFERROR(VLOOKUP(Tabla38[[#This Row],[CODIGO municipio]],[3]!Tabla8[#All],15,FALSE),\"\")","v":""},{"$f":"IFERROR(VLOOKUP(Tabla38[[#This Row],[CODIGO municipio]],[3]!Tabla8[#All],16,FALSE),\"\")","v":""},{"$f":"IFERROR(VLOOKUP(Tabla38[[#This Row],[CODIGO municipio]],[3]!Tabla8[#All],17,FALSE),\"\")","v":""},{"$f":"IFERROR(VLOOKUP(Tabla38[[#This Row],[CODIGO municipio]],[3]!Tabla8[#All],18,FALSE),\"\")","v":""},{"$f":"IFERROR(VLOOKUP(Tabla38[[#This Row],[CODIGO municipio]],[3]!Tabla8[#All],19,FALSE),\"\")","v":""},{"$f":"IFERROR(VLOOKUP(Tabla38[[#This Row],[CODIGO municipio]],[3]!Tabla8[#All],20,FALSE),\"\")","v":""},{"$f":"IFERROR(VLOOKUP(Tabla38[[#This Row],[CODIGO municipio]],[3]!Tabla8[#All],21,FALSE),\"\")","v":""},{"$f":"IFERROR(VLOOKUP(Tabla38[[#This Row],[CODIGO municipio]],[3]!Tabla8[#All],22,FALSE),\"\")","v":""},{"$f":"IFERROR(VLOOKUP(Tabla38[[#This Row],[CODIGO municipio]],[3]!Tabla8[#All],23,FALSE),\"\")","v":""},{"$f":"IFERROR(VLOOKUP(Tabla38[[#This Row],[CODIGO municipio]],[3]!Tabla9[#All],3,FALSE),\"\")","v":""}]
[{"$f":"IFERROR(VLOOKUP(Tabla38[[#This Row],[Municipio]],[3]!Tabla2[#All],3,FALSE),\"\")","v":""},607,"San Juan Tecuaco",{"$f":"IFERROR(VLOOKUP(Tabla38[[#This Row],[CODIGO municipio]],[3]!Tabla6[[#All],[codigo_mun]],1,FALSE),\"\")","v":""},{"$f":"IFERROR(VLOOKUP(Tabla38[[#This Row],[CODIGO municipio]],[3]!Tabla12[#All],2,FALSE),\"\")","v":""},{"$f":"IFERROR(VLOOKUP(Tabla38[[#This Row],[CODIGO municipio]],[3]!Tabla7[#All],3,FALSE),\"\")","v":""},{"$f":"IFERROR(VLOOKUP(Tabla38[[#This Row],[CODIGO municipio]],[3]!Tabla7[#All],4,FALSE),\"\")","v":""},{"$f":"IFERROR(VLOOKUP(Tabla38[[#This Row],[CODIGO municipio]],[3]!Tabla7[#All],11,FALSE),\"\")","v":""},{"$f":"IFERROR(VLOOKUP(Tabla38[[#This Row],[CODIGO municipio]],[3]!Tabla7[#All],12,FALSE),\"\")","v":""},{"$f":"IFERROR(VLOOKUP(Tabla38[[#This Row],[CODIGO municipio]],[3]!Tabla7[#All],13,FALSE),\"\")","v":""},{"$f":"IFERROR(VLOOKUP(Tabla38[[#This Row],[CODIGO municipio]],[3]!Tabla7[#All],14,FALSE),\"\")","v":""},{"$f":"IFERROR(VLOOKUP(Tabla38[[#This Row],[CODIGO municipio]],[3]!Tabla7[#All],15,FALSE),\"\")","v":""},{"$f":"IFERROR(VLOOKUP(Tabla38[[#This Row],[CODIGO municipio]],[3]!Tabla7[#All],16,FALSE),\"\")","v":""},{"$f":"IFERROR(VLOOKUP(Tabla38[[#This Row],[CODIGO municipio]],[3]!Tabla7[#All],17,FALSE),\"\")","v":""},{"$f":"IFERROR(VLOOKUP(Tabla38[[#This Row],[CODIGO municipio]],[3]!Tabla7[#All],18,FALSE),\"\")","v":""},{"$f":"IFERROR(VLOOKUP(Tabla38[[#This Row],[CODIGO municipio]],[3]!Tabla7[#All],19,FALSE),\"\")","v":""},{"$f":"IFERROR(VLOOKUP(Tabla38[[#This Row],[CODIGO municipio]],[3]!Tabla8[#All],3,FALSE),\"\")","v":""},{"$f":"IFERROR(VLOOKUP(Tabla38[[#This Row],[CODIGO municipio]],[3]!Tabla8[#All],4,FALSE),\"\")","v":""},{"$f":"IFERROR(VLOOKUP(Tabla38[[#This Row],[CODIGO municipio]],[3]!Tabla8[#All],5,FALSE),\"\")","v":""},{"$f":"IFERROR(VLOOKUP(Tabla38[[#This Row],[CODIGO municipio]],[3]!Tabla8[#All],6,FALSE),\"\")","v":""},{"$f":"IFERROR(VLOOKUP(Tabla38[[#This Row],[CODIGO municipio]],[3]!Tabla8[#All],7,FALSE),\"\")","v":""},{"$f":"IFERROR(VLOOKUP(Tabla38[[#This Row],[CODIGO municipio]],[3]!Tabla8[#All],8,FALSE),\"\")","v":""},{"$f":"IFERROR(VLOOKUP(Tabla38[[#This Row],[CODIGO municipio]],[3]!Tabla8[#All],9,FALSE),\"\")","v":""},{"$f":"IFERROR(VLOOKUP(Tabla38[[#This Row],[CODIGO municipio]],[3]!Tabla8[#All],10,FALSE),\"\")","v":""},{"$f":"IFERROR(VLOOKUP(Tabla38[[#This Row],[CODIGO municipio]],[3]!Tabla8[#All],11,FALSE),\"\")","v":""},{"$f":"IFERROR(VLOOKUP(Tabla38[[#This Row],[CODIGO municipio]],[3]!Tabla8[#All],12,FALSE),\"\")","v":""},{"$f":"IFERROR(VLOOKUP(Tabla38[[#This Row],[CODIGO municipio]],[3]!Tabla8[#All],13,FALSE),\"\")","v":""},{"$f":"IFERROR(VLOOKUP(Tabla38[[#This Row],[CODIGO municipio]],[3]!Tabla8[#All],14,FALSE),\"\")","v":""},{"$f":"IFERROR(VLOOKUP(Tabla38[[#This Row],[CODIGO municipio]],[3]!Tabla8[#All],15,FALSE),\"\")","v":""},{"$f":"IFERROR(VLOOKUP(Tabla38[[#This Row],[CODIGO municipio]],[3]!Tabla8[#All],16,FALSE),\"\")","v":""},{"$f":"IFERROR(VLOOKUP(Tabla38[[#This Row],[CODIGO municipio]],[3]!Tabla8[#All],17,FALSE),\"\")","v":""},{"$f":"IFERROR(VLOOKUP(Tabla38[[#This Row],[CODIGO municipio]],[3]!Tabla8[#All],18,FALSE),\"\")","v":""},{"$f":"IFERROR(VLOOKUP(Tabla38[[#This Row],[CODIGO municipio]],[3]!Tabla8[#All],19,FALSE),\"\")","v":""},{"$f":"IFERROR(VLOOKUP(Tabla38[[#This Row],[CODIGO municipio]],[3]!Tabla8[#All],20,FALSE),\"\")","v":""},{"$f":"IFERROR(VLOOKUP(Tabla38[[#This Row],[CODIGO municipio]],[3]!Tabla8[#All],21,FALSE),\"\")","v":""},{"$f":"IFERROR(VLOOKUP(Tabla38[[#This Row],[CODIGO municipio]],[3]!Tabla8[#All],22,FALSE),\"\")","v":""},{"$f":"IFERROR(VLOOKUP(Tabla38[[#This Row],[CODIGO municipio]],[3]!Tabla8[#All],23,FALSE),\"\")","v":""},{"$f":"IFERROR(VLOOKUP(Tabla38[[#This Row],[CODIGO municipio]],[3]!Tabla9[#All],3,FALSE),\"\")","v":""}]
[{"$f":"IFERROR(VLOOKUP(Tabla38[[#This Row],[Municipio]],[3]!Tabla2[#All],3,FALSE),\"\")","v":""},608,"Chiquimulilla",{"$f":"IFERROR(VLOOKUP(Tabla38[[#This Row],[CODIGO municipio]],[3]!Tabla6[[#All],[codigo_mun]],1,FALSE),\"\")","v":""},{"$f":"IFERROR(VLOOKUP(Tabla38[[#This Row],[CODIGO municipio]],[3]!Tabla12[#All],2,FALSE),\"\")","v":""},{"$f":"IFERROR(VLOOKUP(Tabla38[[#This Row],[CODIGO municipio]],[3]!Tabla7[#All],3,FALSE),\"\")","v":""},{"$f":"IFERROR(VLOOKUP(Tabla38[[#This Row],[CODIGO municipio]],[3]!Tabla7[#All],4,FALSE),\"\")","v":""},{"$f":"IFERROR(VLOOKUP(Tabla38[[#This Row],[CODIGO municipio]],[3]!Tabla7[#All],11,FALSE),\"\")","v":""},{"$f":"IFERROR(VLOOKUP(Tabla38[[#This Row],[CODIGO municipio]],[3]!Tabla7[#All],12,FALSE),\"\")","v":""},{"$f":"IFERROR(VLOOKUP(Tabla38[[#This Row],[CODIGO municipio]],[3]!Tabla7[#All],13,FALSE),\"\")","v":""},{"$f":"IFERROR(VLOOKUP(Tabla38[[#This Row],[CODIGO municipio]],[3]!Tabla7[#All],14,FALSE),\"\")","v":""},{"$f":"IFERROR(VLOOKUP(Tabla38[[#This Row],[CODIGO municipio]],[3]!Tabla7[#All],15,FALSE),\"\")","v":""},{"$f":"IFERROR(VLOOKUP(Tabla38[[#This Row],[CODIGO municipio]],[3]!Tabla7[#All],16,FALSE),\"\")","v":""},{"$f":"IFERROR(VLOOKUP(Tabla38[[#This Row],[CODIGO municipio]],[3]!Tabla7[#All],17,FALSE),\"\")","v":""},{"$f":"IFERROR(VLOOKUP(Tabla38[[#This Row],[CODIGO municipio]],[3]!Tabla7[#All],18,FALSE),\"\")","v":""},{"$f":"IFERROR(VLOOKUP(Tabla38[[#This Row],[CODIGO municipio]],[3]!Tabla7[#All],19,FALSE),\"\")","v":""},{"$f":"IFERROR(VLOOKUP(Tabla38[[#This Row],[CODIGO municipio]],[3]!Tabla8[#All],3,FALSE),\"\")","v":""},{"$f":"IFERROR(VLOOKUP(Tabla38[[#This Row],[CODIGO municipio]],[3]!Tabla8[#All],4,FALSE),\"\")","v":""},{"$f":"IFERROR(VLOOKUP(Tabla38[[#This Row],[CODIGO municipio]],[3]!Tabla8[#All],5,FALSE),\"\")","v":""},{"$f":"IFERROR(VLOOKUP(Tabla38[[#This Row],[CODIGO municipio]],[3]!Tabla8[#All],6,FALSE),\"\")","v":""},{"$f":"IFERROR(VLOOKUP(Tabla38[[#This Row],[CODIGO municipio]],[3]!Tabla8[#All],7,FALSE),\"\")","v":""},{"$f":"IFERROR(VLOOKUP(Tabla38[[#This Row],[CODIGO municipio]],[3]!Tabla8[#All],8,FALSE),\"\")","v":""},{"$f":"IFERROR(VLOOKUP(Tabla38[[#This Row],[CODIGO municipio]],[3]!Tabla8[#All],9,FALSE),\"\")","v":""},{"$f":"IFERROR(VLOOKUP(Tabla38[[#This Row],[CODIGO municipio]],[3]!Tabla8[#All],10,FALSE),\"\")","v":""},{"$f":"IFERROR(VLOOKUP(Tabla38[[#This Row],[CODIGO municipio]],[3]!Tabla8[#All],11,FALSE),\"\")","v":""},{"$f":"IFERROR(VLOOKUP(Tabla38[[#This Row],[CODIGO municipio]],[3]!Tabla8[#All],12,FALSE),\"\")","v":""},{"$f":"IFERROR(VLOOKUP(Tabla38[[#This Row],[CODIGO municipio]],[3]!Tabla8[#All],13,FALSE),\"\")","v":""},{"$f":"IFERROR(VLOOKUP(Tabla38[[#This Row],[CODIGO municipio]],[3]!Tabla8[#All],14,FALSE),\"\")","v":""},{"$f":"IFERROR(VLOOKUP(Tabla38[[#This Row],[CODIGO municipio]],[3]!Tabla8[#All],15,FALSE),\"\")","v":""},{"$f":"IFERROR(VLOOKUP(Tabla38[[#This Row],[CODIGO municipio]],[3]!Tabla8[#All],16,FALSE),\"\")","v":""},{"$f":"IFERROR(VLOOKUP(Tabla38[[#This Row],[CODIGO municipio]],[3]!Tabla8[#All],17,FALSE),\"\")","v":""},{"$f":"IFERROR(VLOOKUP(Tabla38[[#This Row],[CODIGO municipio]],[3]!Tabla8[#All],18,FALSE),\"\")","v":""},{"$f":"IFERROR(VLOOKUP(Tabla38[[#This Row],[CODIGO municipio]],[3]!Tabla8[#All],19,FALSE),\"\")","v":""},{"$f":"IFERROR(VLOOKUP(Tabla38[[#This Row],[CODIGO municipio]],[3]!Tabla8[#All],20,FALSE),\"\")","v":""},{"$f":"IFERROR(VLOOKUP(Tabla38[[#This Row],[CODIGO municipio]],[3]!Tabla8[#All],21,FALSE),\"\")","v":""},{"$f":"IFERROR(VLOOKUP(Tabla38[[#This Row],[CODIGO municipio]],[3]!Tabla8[#All],22,FALSE),\"\")","v":""},{"$f":"IFERROR(VLOOKUP(Tabla38[[#This Row],[CODIGO municipio]],[3]!Tabla8[#All],23,FALSE),\"\")","v":""},{"$f":"IFERROR(VLOOKUP(Tabla38[[#This Row],[CODIGO municipio]],[3]!Tabla9[#All],3,FALSE),\"\")","v":""}]
[{"$f":"IFERROR(VLOOKUP(Tabla38[[#This Row],[Municipio]],[3]!Tabla2[#All],3,FALSE),\"\")","v":""},609,"Taxisco",{"$f":"IFERROR(VLOOKUP(Tabla38[[#This Row],[CODIGO municipio]],[3]!Tabla6[[#All],[codigo_mun]],1,FALSE),\"\")","v":""},{"$f":"IFERROR(VLOOKUP(Tabla38[[#This Row],[CODIGO municipio]],[3]!Tabla12[#All],2,FALSE),\"\")","v":""},{"$f":"IFERROR(VLOOKUP(Tabla38[[#This Row],[CODIGO municipio]],[3]!Tabla7[#All],3,FALSE),\"\")","v":""},{"$f":"IFERROR(VLOOKUP(Tabla38[[#This Row],[CODIGO municipio]],[3]!Tabla7[#All],4,FALSE),\"\")","v":""},{"$f":"IFERROR(VLOOKUP(Tabla38[[#This Row],[CODIGO municipio]],[3]!Tabla7[#All],11,FALSE),\"\")","v":""},{"$f":"IFERROR(VLOOKUP(Tabla38[[#This Row],[CODIGO municipio]],[3]!Tabla7[#All],12,FALSE),\"\")","v":""},{"$f":"IFERROR(VLOOKUP(Tabla38[[#This Row],[CODIGO municipio]],[3]!Tabla7[#All],13,FALSE),\"\")","v":""},{"$f":"IFERROR(VLOOKUP(Tabla38[[#This Row],[CODIGO municipio]],[3]!Tabla7[#All],14,FALSE),\"\")","v":""},{"$f":"IFERROR(VLOOKUP(Tabla38[[#This Row],[CODIGO municipio]],[3]!Tabla7[#All],15,FALSE),\"\")","v":""},{"$f":"IFERROR(VLOOKUP(Tabla38[[#This Row],[CODIGO municipio]],[3]!Tabla7[#All],16,FALSE),\"\")","v":""},{"$f":"IFERROR(VLOOKUP(Tabla38[[#This Row],[CODIGO municipio]],[3]!Tabla7[#All],17,FALSE),\"\")","v":""},{"$f":"IFERROR(VLOOKUP(Tabla38[[#This Row],[CODIGO municipio]],[3]!Tabla7[#All],18,FALSE),\"\")","v":""},{"$f":"IFERROR(VLOOKUP(Tabla38[[#This Row],[CODIGO municipio]],[3]!Tabla7[#All],19,FALSE),\"\")","v":""},{"$f":"IFERROR(VLOOKUP(Tabla38[[#This Row],[CODIGO municipio]],[3]!Tabla8[#All],3,FALSE),\"\")","v":""},{"$f":"IFERROR(VLOOKUP(Tabla38[[#This Row],[CODIGO municipio]],[3]!Tabla8[#All],4,FALSE),\"\")","v":""},{"$f":"IFERROR(VLOOKUP(Tabla38[[#This Row],[CODIGO municipio]],[3]!Tabla8[#All],5,FALSE),\"\")","v":""},{"$f":"IFERROR(VLOOKUP(Tabla38[[#This Row],[CODIGO municipio]],[3]!Tabla8[#All],6,FALSE),\"\")","v":""},{"$f":"IFERROR(VLOOKUP(Tabla38[[#This Row],[CODIGO municipio]],[3]!Tabla8[#All],7,FALSE),\"\")","v":""},{"$f":"IFERROR(VLOOKUP(Tabla38[[#This Row],[CODIGO municipio]],[3]!Tabla8[#All],8,FALSE),\"\")","v":""},{"$f":"IFERROR(VLOOKUP(Tabla38[[#This Row],[CODIGO municipio]],[3]!Tabla8[#All],9,FALSE),\"\")","v":""},{"$f":"IFERROR(VLOOKUP(Tabla38[[#This Row],[CODIGO municipio]],[3]!Tabla8[#All],10,FALSE),\"\")","v":""},{"$f":"IFERROR(VLOOKUP(Tabla38[[#This Row],[CODIGO municipio]],[3]!Tabla8[#All],11,FALSE),\"\")","v":""},{"$f":"IFERROR(VLOOKUP(Tabla38[[#This Row],[CODIGO municipio]],[3]!Tabla8[#All],12,FALSE),\"\")","v":""},{"$f":"IFERROR(VLOOKUP(Tabla38[[#This Row],[CODIGO municipio]],[3]!Tabla8[#All],13,FALSE),\"\")","v":""},{"$f":"IFERROR(VLOOKUP(Tabla38[[#This Row],[CODIGO municipio]],[3]!Tabla8[#All],14,FALSE),\"\")","v":""},{"$f":"IFERROR(VLOOKUP(Tabla38[[#This Row],[CODIGO municipio]],[3]!Tabla8[#All],15,FALSE),\"\")","v":""},{"$f":"IFERROR(VLOOKUP(Tabla38[[#This Row],[CODIGO municipio]],[3]!Tabla8[#All],16,FALSE),\"\")","v":""},{"$f":"IFERROR(VLOOKUP(Tabla38[[#This Row],[CODIGO municipio]],[3]!Tabla8[#All],17,FALSE),\"\")","v":""},{"$f":"IFERROR(VLOOKUP(Tabla38[[#This Row],[CODIGO municipio]],[3]!Tabla8[#All],18,FALSE),\"\")","v":""},{"$f":"IFERROR(VLOOKUP(Tabla38[[#This Row],[CODIGO municipio]],[3]!Tabla8[#All],19,FALSE),\"\")","v":""},{"$f":"IFERROR(VLOOKUP(Tabla38[[#This Row],[CODIGO municipio]],[3]!Tabla8[#All],20,FALSE),\"\")","v":""},{"$f":"IFERROR(VLOOKUP(Tabla38[[#This Row],[CODIGO municipio]],[3]!Tabla8[#All],21,FALSE),\"\")","v":""},{"$f":"IFERROR(VLOOKUP(Tabla38[[#This Row],[CODIGO municipio]],[3]!Tabla8[#All],22,FALSE),\"\")","v":""},{"$f":"IFERROR(VLOOKUP(Tabla38[[#This Row],[CODIGO municipio]],[3]!Tabla8[#All],23,FALSE),\"\")","v":""},{"$f":"IFERROR(VLOOKUP(Tabla38[[#This Row],[CODIGO municipio]],[3]!Tabla9[#All],3,FALSE),\"\")","v":""}]
[{"$f":"IFERROR(VLOOKUP(Tabla38[[#This Row],[Municipio]],[3]!Tabla2[#All],3,FALSE),\"\")","v":""},610,"Santa María Ixhuatán",{"$f":"IFERROR(VLOOKUP(Tabla38[[#This Row],[CODIGO municipio]],[3]!Tabla6[[#All],[codigo_mun]],1,FALSE),\"\")","v":""},{"$f":"IFERROR(VLOOKUP(Tabla38[[#This Row],[CODIGO municipio]],[3]!Tabla12[#All],2,FALSE),\"\")","v":""},{"$f":"IFERROR(VLOOKUP(Tabla38[[#This Row],[CODIGO municipio]],[3]!Tabla7[#All],3,FALSE),\"\")","v":""},{"$f":"IFERROR(VLOOKUP(Tabla38[[#This Row],[CODIGO municipio]],[3]!Tabla7[#All],4,FALSE),\"\")","v":""},{"$f":"IFERROR(VLOOKUP(Tabla38[[#This Row],[CODIGO municipio]],[3]!Tabla7[#All],11,FALSE),\"\")","v":""},{"$f":"IFERROR(VLOOKUP(Tabla38[[#This Row],[CODIGO municipio]],[3]!Tabla7[#All],12,FALSE),\"\")","v":""},{"$f":"IFERROR(VLOOKUP(Tabla38[[#This Row],[CODIGO municipio]],[3]!Tabla7[#All],13,FALSE),\"\")","v":""},{"$f":"IFERROR(VLOOKUP(Tabla38[[#This Row],[CODIGO municipio]],[3]!Tabla7[#All],14,FALSE),\"\")","v":""},{"$f":"IFERROR(VLOOKUP(Tabla38[[#This Row],[CODIGO municipio]],[3]!Tabla7[#All],15,FALSE),\"\")","v":""},{"$f":"IFERROR(VLOOKUP(Tabla38[[#This Row],[CODIGO municipio]],[3]!Tabla7[#All],16,FALSE),\"\")","v":""},{"$f":"IFERROR(VLOOKUP(Tabla38[[#This Row],[CODIGO municipio]],[3]!Tabla7[#All],17,FALSE),\"\")","v":""},{"$f":"IFERROR(VLOOKUP(Tabla38[[#This Row],[CODIGO municipio]],[3]!Tabla7[#All],18,FALSE),\"\")","v":""},{"$f":"IFERROR(VLOOKUP(Tabla38[[#This Row],[CODIGO municipio]],[3]!Tabla7[#All],19,FALSE),\"\")","v":""},{"$f":"IFERROR(VLOOKUP(Tabla38[[#This Row],[CODIGO municipio]],[3]!Tabla8[#All],3,FALSE),\"\")","v":""},{"$f":"IFERROR(VLOOKUP(Tabla38[[#This Row],[CODIGO municipio]],[3]!Tabla8[#All],4,FALSE),\"\")","v":""},{"$f":"IFERROR(VLOOKUP(Tabla38[[#This Row],[CODIGO municipio]],[3]!Tabla8[#All],5,FALSE),\"\")","v":""},{"$f":"IFERROR(VLOOKUP(Tabla38[[#This Row],[CODIGO municipio]],[3]!Tabla8[#All],6,FALSE),\"\")","v":""},{"$f":"IFERROR(VLOOKUP(Tabla38[[#This Row],[CODIGO municipio]],[3]!Tabla8[#All],7,FALSE),\"\")","v":""},{"$f":"IFERROR(VLOOKUP(Tabla38[[#This Row],[CODIGO municipio]],[3]!Tabla8[#All],8,FALSE),\"\")","v":""},{"$f":"IFERROR(VLOOKUP(Tabla38[[#This Row],[CODIGO municipio]],[3]!Tabla8[#All],9,FALSE),\"\")","v":""},{"$f":"IFERROR(VLOOKUP(Tabla38[[#This Row],[CODIGO municipio]],[3]!Tabla8[#All],10,FALSE),\"\")","v":""},{"$f":"IFERROR(VLOOKUP(Tabla38[[#This Row],[CODIGO municipio]],[3]!Tabla8[#All],11,FALSE),\"\")","v":""},{"$f":"IFERROR(VLOOKUP(Tabla38[[#This Row],[CODIGO municipio]],[3]!Tabla8[#All],12,FALSE),\"\")","v":""},{"$f":"IFERROR(VLOOKUP(Tabla38[[#This Row],[CODIGO municipio]],[3]!Tabla8[#All],13,FALSE),\"\")","v":""},{"$f":"IFERROR(VLOOKUP(Tabla38[[#This Row],[CODIGO municipio]],[3]!Tabla8[#All],14,FALSE),\"\")","v":""},{"$f":"IFERROR(VLOOKUP(Tabla38[[#This Row],[CODIGO municipio]],[3]!Tabla8[#All],15,FALSE),\"\")","v":""},{"$f":"IFERROR(VLOOKUP(Tabla38[[#This Row],[CODIGO municipio]],[3]!Tabla8[#All],16,FALSE),\"\")","v":""},{"$f":"IFERROR(VLOOKUP(Tabla38[[#This Row],[CODIGO municipio]],[3]!Tabla8[#All],17,FALSE),\"\")","v":""},{"$f":"IFERROR(VLOOKUP(Tabla38[[#This Row],[CODIGO municipio]],[3]!Tabla8[#All],18,FALSE),\"\")","v":""},{"$f":"IFERROR(VLOOKUP(Tabla38[[#This Row],[CODIGO municipio]],[3]!Tabla8[#All],19,FALSE),\"\")","v":""},{"$f":"IFERROR(VLOOKUP(Tabla38[[#This Row],[CODIGO municipio]],[3]!Tabla8[#All],20,FALSE),\"\")","v":""},{"$f":"IFERROR(VLOOKUP(Tabla38[[#This Row],[CODIGO municipio]],[3]!Tabla8[#All],21,FALSE),\"\")","v":""},{"$f":"IFERROR(VLOOKUP(Tabla38[[#This Row],[CODIGO municipio]],[3]!Tabla8[#All],22,FALSE),\"\")","v":""},{"$f":"IFERROR(VLOOKUP(Tabla38[[#This Row],[CODIGO municipio]],[3]!Tabla8[#All],23,FALSE),\"\")","v":""},{"$f":"IFERROR(VLOOKUP(Tabla38[[#This Row],[CODIGO municipio]],[3]!Tabla9[#All],3,FALSE),\"\")","v":""}]
[{"$f":"IFERROR(VLOOKUP(Tabla38[[#This Row],[Municipio]],[3]!Tabla2[#All],3,FALSE),\"\")","v":""},611,"Guazacapán",{"$f":"IFERROR(VLOOKUP(Tabla38[[#This Row],[CODIGO municipio]],[3]!Tabla6[[#All],[codigo_mun]],1,FALSE),\"\")","v":""},{"$f":"IFERROR(VLOOKUP(Tabla38[[#This Row],[CODIGO municipio]],[3]!Tabla12[#All],2,FALSE),\"\")","v":""},{"$f":"IFERROR(VLOOKUP(Tabla38[[#This Row],[CODIGO municipio]],[3]!Tabla7[#All],3,FALSE),\"\")","v":""},{"$f":"IFERROR(VLOOKUP(Tabla38[[#This Row],[CODIGO municipio]],[3]!Tabla7[#All],4,FALSE),\"\")","v":""},{"$f":"IFERROR(VLOOKUP(Tabla38[[#This Row],[CODIGO municipio]],[3]!Tabla7[#All],11,FALSE),\"\")","v":""},{"$f":"IFERROR(VLOOKUP(Tabla38[[#This Row],[CODIGO municipio]],[3]!Tabla7[#All],12,FALSE),\"\")","v":""},{"$f":"IFERROR(VLOOKUP(Tabla38[[#This Row],[CODIGO municipio]],[3]!Tabla7[#All],13,FALSE),\"\")","v":""},{"$f":"IFERROR(VLOOKUP(Tabla38[[#This Row],[CODIGO municipio]],[3]!Tabla7[#All],14,FALSE),\"\")","v":""},{"$f":"IFERROR(VLOOKUP(Tabla38[[#This Row],[CODIGO municipio]],[3]!Tabla7[#All],15,FALSE),\"\")","v":""},{"$f":"IFERROR(VLOOKUP(Tabla38[[#This Row],[CODIGO municipio]],[3]!Tabla7[#All],16,FALSE),\"\")","v":""},{"$f":"IFERROR(VLOOKUP(Tabla38[[#This Row],[CODIGO municipio]],[3]!Tabla7[#All],17,FALSE),\"\")","v":""},{"$f":"IFERROR(VLOOKUP(Tabla38[[#This Row],[CODIGO municipio]],[3]!Tabla7[#All],18,FALSE),\"\")","v":""},{"$f":"IFERROR(VLOOKUP(Tabla38[[#This Row],[CODIGO municipio]],[3]!Tabla7[#All],19,FALSE),\"\")","v":""},{"$f":"IFERROR(VLOOKUP(Tabla38[[#This Row],[CODIGO municipio]],[3]!Tabla8[#All],3,FALSE),\"\")","v":""},{"$f":"IFERROR(VLOOKUP(Tabla38[[#This Row],[CODIGO municipio]],[3]!Tabla8[#All],4,FALSE),\"\")","v":""},{"$f":"IFERROR(VLOOKUP(Tabla38[[#This Row],[CODIGO municipio]],[3]!Tabla8[#All],5,FALSE),\"\")","v":""},{"$f":"IFERROR(VLOOKUP(Tabla38[[#This Row],[CODIGO municipio]],[3]!Tabla8[#All],6,FALSE),\"\")","v":""},{"$f":"IFERROR(VLOOKUP(Tabla38[[#This Row],[CODIGO municipio]],[3]!Tabla8[#All],7,FALSE),\"\")","v":""},{"$f":"IFERROR(VLOOKUP(Tabla38[[#This Row],[CODIGO municipio]],[3]!Tabla8[#All],8,FALSE),\"\")","v":""},{"$f":"IFERROR(VLOOKUP(Tabla38[[#This Row],[CODIGO municipio]],[3]!Tabla8[#All],9,FALSE),\"\")","v":""},{"$f":"IFERROR(VLOOKUP(Tabla38[[#This Row],[CODIGO municipio]],[3]!Tabla8[#All],10,FALSE),\"\")","v":""},{"$f":"IFERROR(VLOOKUP(Tabla38[[#This Row],[CODIGO municipio]],[3]!Tabla8[#All],11,FALSE),\"\")","v":""},{"$f":"IFERROR(VLOOKUP(Tabla38[[#This Row],[CODIGO municipio]],[3]!Tabla8[#All],12,FALSE),\"\")","v":""},{"$f":"IFERROR(VLOOKUP(Tabla38[[#This Row],[CODIGO municipio]],[3]!Tabla8[#All],13,FALSE),\"\")","v":""},{"$f":"IFERROR(VLOOKUP(Tabla38[[#This Row],[CODIGO municipio]],[3]!Tabla8[#All],14,FALSE),\"\")","v":""},{"$f":"IFERROR(VLOOKUP(Tabla38[[#This Row],[CODIGO municipio]],[3]!Tabla8[#All],15,FALSE),\"\")","v":""},{"$f":"IFERROR(VLOOKUP(Tabla38[[#This Row],[CODIGO municipio]],[3]!Tabla8[#All],16,FALSE),\"\")","v":""},{"$f":"IFERROR(VLOOKUP(Tabla38[[#This Row],[CODIGO municipio]],[3]!Tabla8[#All],17,FALSE),\"\")","v":""},{"$f":"IFERROR(VLOOKUP(Tabla38[[#This Row],[CODIGO municipio]],[3]!Tabla8[#All],18,FALSE),\"\")","v":""},{"$f":"IFERROR(VLOOKUP(Tabla38[[#This Row],[CODIGO municipio]],[3]!Tabla8[#All],19,FALSE),\"\")","v":""},{"$f":"IFERROR(VLOOKUP(Tabla38[[#This Row],[CODIGO municipio]],[3]!Tabla8[#All],20,FALSE),\"\")","v":""},{"$f":"IFERROR(VLOOKUP(Tabla38[[#This Row],[CODIGO municipio]],[3]!Tabla8[#All],21,FALSE),\"\")","v":""},{"$f":"IFERROR(VLOOKUP(Tabla38[[#This Row],[CODIGO municipio]],[3]!Tabla8[#All],22,FALSE),\"\")","v":""},{"$f":"IFERROR(VLOOKUP(Tabla38[[#This Row],[CODIGO municipio]],[3]!Tabla8[#All],23,FALSE),\"\")","v":""},{"$f":"IFERROR(VLOOKUP(Tabla38[[#This Row],[CODIGO municipio]],[3]!Tabla9[#All],3,FALSE),\"\")","v":""}]
[{"$f":"IFERROR(VLOOKUP(Tabla38[[#This Row],[Municipio]],[3]!Tabla2[#All],3,FALSE),\"\")","v":""},612,"Santa Cruz Naranjo",{"$f":"IFERROR(VLOOKUP(Tabla38[[#This Row],[CODIGO municipio]],[3]!Tabla6[[#All],[codigo_mun]],1,FALSE),\"\")","v":""},{"$f":"IFERROR(VLOOKUP(Tabla38[[#This Row],[CODIGO municipio]],[3]!Tabla12[#All],2,FALSE),\"\")","v":""},{"$f":"IFERROR(VLOOKUP(Tabla38[[#This Row],[CODIGO municipio]],[3]!Tabla7[#All],3,FALSE),\"\")","v":""},{"$f":"IFERROR(VLOOKUP(Tabla38[[#This Row],[CODIGO municipio]],[3]!Tabla7[#All],4,FALSE),\"\")","v":""},{"$f":"IFERROR(VLOOKUP(Tabla38[[#This Row],[CODIGO municipio]],[3]!Tabla7[#All],11,FALSE),\"\")","v":""},{"$f":"IFERROR(VLOOKUP(Tabla38[[#This Row],[CODIGO municipio]],[3]!Tabla7[#All],12,FALSE),\"\")","v":""},{"$f":"IFERROR(VLOOKUP(Tabla38[[#This Row],[CODIGO municipio]],[3]!Tabla7[#All],13,FALSE),\"\")","v":""},{"$f":"IFERROR(VLOOKUP(Tabla38[[#This Row],[CODIGO municipio]],[3]!Tabla7[#All],14,FALSE),\"\")","v":""},{"$f":"IFERROR(VLOOKUP(Tabla38[[#This Row],[CODIGO municipio]],[3]!Tabla7[#All],15,FALSE),\"\")","v":""},{"$f":"IFERROR(VLOOKUP(Tabla38[[#This Row],[CODIGO municipio]],[3]!Tabla7[#All],16,FALSE),\"\")","v":""},{"$f":"IFERROR(VLOOKUP(Tabla38[[#This Row],[CODIGO municipio]],[3]!Tabla7[#All],17,FALSE),\"\")","v":""},{"$f":"IFERROR(VLOOKUP(Tabla38[[#This Row],[CODIGO municipio]],[3]!Tabla7[#All],18,FALSE),\"\")","v":""},{"$f":"IFERROR(VLOOKUP(Tabla38[[#This Row],[CODIGO municipio]],[3]!Tabla7[#All],19,FALSE),\"\")","v":""},{"$f":"IFERROR(VLOOKUP(Tabla38[[#This Row],[CODIGO municipio]],[3]!Tabla8[#All],3,FALSE),\"\")","v":""},{"$f":"IFERROR(VLOOKUP(Tabla38[[#This Row],[CODIGO municipio]],[3]!Tabla8[#All],4,FALSE),\"\")","v":""},{"$f":"IFERROR(VLOOKUP(Tabla38[[#This Row],[CODIGO municipio]],[3]!Tabla8[#All],5,FALSE),\"\")","v":""},{"$f":"IFERROR(VLOOKUP(Tabla38[[#This Row],[CODIGO municipio]],[3]!Tabla8[#All],6,FALSE),\"\")","v":""},{"$f":"IFERROR(VLOOKUP(Tabla38[[#This Row],[CODIGO municipio]],[3]!Tabla8[#All],7,FALSE),\"\")","v":""},{"$f":"IFERROR(VLOOKUP(Tabla38[[#This Row],[CODIGO municipio]],[3]!Tabla8[#All],8,FALSE),\"\")","v":""},{"$f":"IFERROR(VLOOKUP(Tabla38[[#This Row],[CODIGO municipio]],[3]!Tabla8[#All],9,FALSE),\"\")","v":""},{"$f":"IFERROR(VLOOKUP(Tabla38[[#This Row],[CODIGO municipio]],[3]!Tabla8[#All],10,FALSE),\"\")","v":""},{"$f":"IFERROR(VLOOKUP(Tabla38[[#This Row],[CODIGO municipio]],[3]!Tabla8[#All],11,FALSE),\"\")","v":""},{"$f":"IFERROR(VLOOKUP(Tabla38[[#This Row],[CODIGO municipio]],[3]!Tabla8[#All],12,FALSE),\"\")","v":""},{"$f":"IFERROR(VLOOKUP(Tabla38[[#This Row],[CODIGO municipio]],[3]!Tabla8[#All],13,FALSE),\"\")","v":""},{"$f":"IFERROR(VLOOKUP(Tabla38[[#This Row],[CODIGO municipio]],[3]!Tabla8[#All],14,FALSE),\"\")","v":""},{"$f":"IFERROR(VLOOKUP(Tabla38[[#This Row],[CODIGO municipio]],[3]!Tabla8[#All],15,FALSE),\"\")","v":""},{"$f":"IFERROR(VLOOKUP(Tabla38[[#This Row],[CODIGO municipio]],[3]!Tabla8[#All],16,FALSE),\"\")","v":""},{"$f":"IFERROR(VLOOKUP(Tabla38[[#This Row],[CODIGO municipio]],[3]!Tabla8[#All],17,FALSE),\"\")","v":""},{"$f":"IFERROR(VLOOKUP(Tabla38[[#This Row],[CODIGO municipio]],[3]!Tabla8[#All],18,FALSE),\"\")","v":""},{"$f":"IFERROR(VLOOKUP(Tabla38[[#This Row],[CODIGO municipio]],[3]!Tabla8[#All],19,FALSE),\"\")","v":""},{"$f":"IFERROR(VLOOKUP(Tabla38[[#This Row],[CODIGO municipio]],[3]!Tabla8[#All],20,FALSE),\"\")","v":""},{"$f":"IFERROR(VLOOKUP(Tabla38[[#This Row],[CODIGO municipio]],[3]!Tabla8[#All],21,FALSE),\"\")","v":""},{"$f":"IFERROR(VLOOKUP(Tabla38[[#This Row],[CODIGO municipio]],[3]!Tabla8[#All],22,FALSE),\"\")","v":""},{"$f":"IFERROR(VLOOKUP(Tabla38[[#This Row],[CODIGO municipio]],[3]!Tabla8[#All],23,FALSE),\"\")","v":""},{"$f":"IFERROR(VLOOKUP(Tabla38[[#This Row],[CODIGO municipio]],[3]!Tabla9[#All],3,FALSE),\"\")","v":""}]
[{"$f":"IFERROR(VLOOKUP(Tabla38[[#This Row],[Municipio]],[3]!Tabla2[#All],3,FALSE),\"\")","v":""},613,"Pueblo Nuevo Viñas",{"$f":"IFERROR(VLOOKUP(Tabla38[[#This Row],[CODIGO municipio]],[3]!Tabla6[[#All],[codigo_mun]],1,FALSE),\"\")","v":""},{"$f":"IFERROR(VLOOKUP(Tabla38[[#This Row],[CODIGO municipio]],[3]!Tabla12[#All],2,FALSE),\"\")","v":""},{"$f":"IFERROR(VLOOKUP(Tabla38[[#This Row],[CODIGO municipio]],[3]!Tabla7[#All],3,FALSE),\"\")","v":""},{"$f":"IFERROR(VLOOKUP(Tabla38[[#This Row],[CODIGO municipio]],[3]!Tabla7[#All],4,FALSE),\"\")","v":""},{"$f":"IFERROR(VLOOKUP(Tabla38[[#This Row],[CODIGO municipio]],[3]!Tabla7[#All],11,FALSE),\"\")","v":""},{"$f":"IFERROR(VLOOKUP(Tabla38[[#This Row],[CODIGO municipio]],[3]!Tabla7[#All],12,FALSE),\"\")","v":""},{"$f":"IFERROR(VLOOKUP(Tabla38[[#This Row],[CODIGO municipio]],[3]!Tabla7[#All],13,FALSE),\"\")","v":""},{"$f":"IFERROR(VLOOKUP(Tabla38[[#This Row],[CODIGO municipio]],[3]!Tabla7[#All],14,FALSE),\"\")","v":""},{"$f":"IFERROR(VLOOKUP(Tabla38[[#This Row],[CODIGO municipio]],[3]!Tabla7[#All],15,FALSE),\"\")","v":""},{"$f":"IFERROR(VLOOKUP(Tabla38[[#This Row],[CODIGO municipio]],[3]!Tabla7[#All],16,FALSE),\"\")","v":""},{"$f":"IFERROR(VLOOKUP(Tabla38[[#This Row],[CODIGO municipio]],[3]!Tabla7[#All],17,FALSE),\"\")","v":""},{"$f":"IFERROR(VLOOKUP(Tabla38[[#This Row],[CODIGO municipio]],[3]!Tabla7[#All],18,FALSE),\"\")","v":""},{"$f":"IFERROR(VLOOKUP(Tabla38[[#This Row],[CODIGO municipio]],[3]!Tabla7[#All],19,FALSE),\"\")","v":""},{"$f":"IFERROR(VLOOKUP(Tabla38[[#This Row],[CODIGO municipio]],[3]!Tabla8[#All],3,FALSE),\"\")","v":""},{"$f":"IFERROR(VLOOKUP(Tabla38[[#This Row],[CODIGO municipio]],[3]!Tabla8[#All],4,FALSE),\"\")","v":""},{"$f":"IFERROR(VLOOKUP(Tabla38[[#This Row],[CODIGO municipio]],[3]!Tabla8[#All],5,FALSE),\"\")","v":""},{"$f":"IFERROR(VLOOKUP(Tabla38[[#This Row],[CODIGO municipio]],[3]!Tabla8[#All],6,FALSE),\"\")","v":""},{"$f":"IFERROR(VLOOKUP(Tabla38[[#This Row],[CODIGO municipio]],[3]!Tabla8[#All],7,FALSE),\"\")","v":""},{"$f":"IFERROR(VLOOKUP(Tabla38[[#This Row],[CODIGO municipio]],[3]!Tabla8[#All],8,FALSE),\"\")","v":""},{"$f":"IFERROR(VLOOKUP(Tabla38[[#This Row],[CODIGO municipio]],[3]!Tabla8[#All],9,FALSE),\"\")","v":""},{"$f":"IFERROR(VLOOKUP(Tabla38[[#This Row],[CODIGO municipio]],[3]!Tabla8[#All],10,FALSE),\"\")","v":""},{"$f":"IFERROR(VLOOKUP(Tabla38[[#This Row],[CODIGO municipio]],[3]!Tabla8[#All],11,FALSE),\"\")","v":""},{"$f":"IFERROR(VLOOKUP(Tabla38[[#This Row],[CODIGO municipio]],[3]!Tabla8[#All],12,FALSE),\"\")","v":""},{"$f":"IFERROR(VLOOKUP(Tabla38[[#This Row],[CODIGO municipio]],[3]!Tabla8[#All],13,FALSE),\"\")","v":""},{"$f":"IFERROR(VLOOKUP(Tabla38[[#This Row],[CODIGO municipio]],[3]!Tabla8[#All],14,FALSE),\"\")","v":""},{"$f":"IFERROR(VLOOKUP(Tabla38[[#This Row],[CODIGO municipio]],[3]!Tabla8[#All],15,FALSE),\"\")","v":""},{"$f":"IFERROR(VLOOKUP(Tabla38[[#This Row],[CODIGO municipio]],[3]!Tabla8[#All],16,FALSE),\"\")","v":""},{"$f":"IFERROR(VLOOKUP(Tabla38[[#This Row],[CODIGO municipio]],[3]!Tabla8[#All],17,FALSE),\"\")","v":""},{"$f":"IFERROR(VLOOKUP(Tabla38[[#This Row],[CODIGO municipio]],[3]!Tabla8[#All],18,FALSE),\"\")","v":""},{"$f":"IFERROR(VLOOKUP(Tabla38[[#This Row],[CODIGO municipio]],[3]!Tabla8[#All],19,FALSE),\"\")","v":""},{"$f":"IFERROR(VLOOKUP(Tabla38[[#This Row],[CODIGO municipio]],[3]!Tabla8[#All],20,FALSE),\"\")","v":""},{"$f":"IFERROR(VLOOKUP(Tabla38[[#This Row],[CODIGO municipio]],[3]!Tabla8[#All],21,FALSE),\"\")","v":""},{"$f":"IFERROR(VLOOKUP(Tabla38[[#This Row],[CODIGO municipio]],[3]!Tabla8[#All],22,FALSE),\"\")","v":""},{"$f":"IFERROR(VLOOKUP(Tabla38[[#This Row],[CODIGO municipio]],[3]!Tabla8[#All],23,FALSE),\"\")","v":""},{"$f":"IFERROR(VLOOKUP(Tabla38[[#This Row],[CODIGO municipio]],[3]!Tabla9[#All],3,FALSE),\"\")","v":""}]
[{"$f":"IFERROR(VLOOKUP(Tabla38[[#This Row],[Municipio]],[3]!Tabla2[#All],3,FALSE),\"\")","v":""},614,"Nueva Santa Rosa",{"$f":"IFERROR(VLOOKUP(Tabla38[[#This Row],[CODIGO municipio]],[3]!Tabla6[[#All],[codigo_mun]],1,FALSE),\"\")","v":""},{"$f":"IFERROR(VLOOKUP(Tabla38[[#This Row],[CODIGO municipio]],[3]!Tabla12[#All],2,FALSE),\"\")","v":""},{"$f":"IFERROR(VLOOKUP(Tabla38[[#This Row],[CODIGO municipio]],[3]!Tabla7[#All],3,FALSE),\"\")","v":""},{"$f":"IFERROR(VLOOKUP(Tabla38[[#This Row],[CODIGO municipio]],[3]!Tabla7[#All],4,FALSE),\"\")","v":""},{"$f":"IFERROR(VLOOKUP(Tabla38[[#This Row],[CODIGO municipio]],[3]!Tabla7[#All],11,FALSE),\"\")","v":""},{"$f":"IFERROR(VLOOKUP(Tabla38[[#This Row],[CODIGO municipio]],[3]!Tabla7[#All],12,FALSE),\"\")","v":""},{"$f":"IFERROR(VLOOKUP(Tabla38[[#This Row],[CODIGO municipio]],[3]!Tabla7[#All],13,FALSE),\"\")","v":""},{"$f":"IFERROR(VLOOKUP(Tabla38[[#This Row],[CODIGO municipio]],[3]!Tabla7[#All],14,FALSE),\"\")","v":""},{"$f":"IFERROR(VLOOKUP(Tabla38[[#This Row],[CODIGO municipio]],[3]!Tabla7[#All],15,FALSE),\"\")","v":""},{"$f":"IFERROR(VLOOKUP(Tabla38[[#This Row],[CODIGO municipio]],[3]!Tabla7[#All],16,FALSE),\"\")","v":""},{"$f":"IFERROR(VLOOKUP(Tabla38[[#This Row],[CODIGO municipio]],[3]!Tabla7[#All],17,FALSE),\"\")","v":""},{"$f":"IFERROR(VLOOKUP(Tabla38[[#This Row],[CODIGO municipio]],[3]!Tabla7[#All],18,FALSE),\"\")","v":""},{"$f":"IFERROR(VLOOKUP(Tabla38[[#This Row],[CODIGO municipio]],[3]!Tabla7[#All],19,FALSE),\"\")","v":""},{"$f":"IFERROR(VLOOKUP(Tabla38[[#This Row],[CODIGO municipio]],[3]!Tabla8[#All],3,FALSE),\"\")","v":""},{"$f":"IFERROR(VLOOKUP(Tabla38[[#This Row],[CODIGO municipio]],[3]!Tabla8[#All],4,FALSE),\"\")","v":""},{"$f":"IFERROR(VLOOKUP(Tabla38[[#This Row],[CODIGO municipio]],[3]!Tabla8[#All],5,FALSE),\"\")","v":""},{"$f":"IFERROR(VLOOKUP(Tabla38[[#This Row],[CODIGO municipio]],[3]!Tabla8[#All],6,FALSE),\"\")","v":""},{"$f":"IFERROR(VLOOKUP(Tabla38[[#This Row],[CODIGO municipio]],[3]!Tabla8[#All],7,FALSE),\"\")","v":""},{"$f":"IFERROR(VLOOKUP(Tabla38[[#This Row],[CODIGO municipio]],[3]!Tabla8[#All],8,FALSE),\"\")","v":""},{"$f":"IFERROR(VLOOKUP(Tabla38[[#This Row],[CODIGO municipio]],[3]!Tabla8[#All],9,FALSE),\"\")","v":""},{"$f":"IFERROR(VLOOKUP(Tabla38[[#This Row],[CODIGO municipio]],[3]!Tabla8[#All],10,FALSE),\"\")","v":""},{"$f":"IFERROR(VLOOKUP(Tabla38[[#This Row],[CODIGO municipio]],[3]!Tabla8[#All],11,FALSE),\"\")","v":""},{"$f":"IFERROR(VLOOKUP(Tabla38[[#This Row],[CODIGO municipio]],[3]!Tabla8[#All],12,FALSE),\"\")","v":""},{"$f":"IFERROR(VLOOKUP(Tabla38[[#This Row],[CODIGO municipio]],[3]!Tabla8[#All],13,FALSE),\"\")","v":""},{"$f":"IFERROR(VLOOKUP(Tabla38[[#This Row],[CODIGO municipio]],[3]!Tabla8[#All],14,FALSE),\"\")","v":""},{"$f":"IFERROR(VLOOKUP(Tabla38[[#This Row],[CODIGO municipio]],[3]!Tabla8[#All],15,FALSE),\"\")","v":""},{"$f":"IFERROR(VLOOKUP(Tabla38[[#This Row],[CODIGO municipio]],[3]!Tabla8[#All],16,FALSE),\"\")","v":""},{"$f":"IFERROR(VLOOKUP(Tabla38[[#This Row],[CODIGO municipio]],[3]!Tabla8[#All],17,FALSE),\"\")","v":""},{"$f":"IFERROR(VLOOKUP(Tabla38[[#This Row],[CODIGO municipio]],[3]!Tabla8[#All],18,FALSE),\"\")","v":""},{"$f":"IFERROR(VLOOKUP(Tabla38[[#This Row],[CODIGO municipio]],[3]!Tabla8[#All],19,FALSE),\"\")","v":""},{"$f":"IFERROR(VLOOKUP(Tabla38[[#This Row],[CODIGO municipio]],[3]!Tabla8[#All],20,FALSE),\"\")","v":""},{"$f":"IFERROR(VLOOKUP(Tabla38[[#This Row],[CODIGO municipio]],[3]!Tabla8[#All],21,FALSE),\"\")","v":""},{"$f":"IFERROR(VLOOKUP(Tabla38[[#This Row],[CODIGO municipio]],[3]!Tabla8[#All],22,FALSE),\"\")","v":""},{"$f":"IFERROR(VLOOKUP(Tabla38[[#This Row],[CODIGO municipio]],[3]!Tabla8[#All],23,FALSE),\"\")","v":""},{"$f":"IFERROR(VLOOKUP(Tabla38[[#This Row],[CODIGO municipio]],[3]!Tabla9[#All],3,FALSE),\"\")","v":""}]
[{"$f":"IFERROR(VLOOKUP(Tabla38[[#This Row],[Municipio]],[3]!Tabla2[#All],3,FALSE),\"\")","v":""},701,"Sololá",{"$f":"IFERROR(VLOOKUP(Tabla38[[#This Row],[CODIGO municipio]],[3]!Tabla6[[#All],[codigo_mun]],1,FALSE),\"\")","v":""},{"$f":"IFERROR(VLOOKUP(Tabla38[[#This Row],[CODIGO municipio]],[3]!Tabla12[#All],2,FALSE),\"\")","v":""},{"$f":"IFERROR(VLOOKUP(Tabla38[[#This Row],[CODIGO municipio]],[3]!Tabla7[#All],3,FALSE),\"\")","v":""},{"$f":"IFERROR(VLOOKUP(Tabla38[[#This Row],[CODIGO municipio]],[3]!Tabla7[#All],4,FALSE),\"\")","v":""},{"$f":"IFERROR(VLOOKUP(Tabla38[[#This Row],[CODIGO municipio]],[3]!Tabla7[#All],11,FALSE),\"\")","v":""},{"$f":"IFERROR(VLOOKUP(Tabla38[[#This Row],[CODIGO municipio]],[3]!Tabla7[#All],12,FALSE),\"\")","v":""},{"$f":"IFERROR(VLOOKUP(Tabla38[[#This Row],[CODIGO municipio]],[3]!Tabla7[#All],13,FALSE),\"\")","v":""},{"$f":"IFERROR(VLOOKUP(Tabla38[[#This Row],[CODIGO municipio]],[3]!Tabla7[#All],14,FALSE),\"\")","v":""},{"$f":"IFERROR(VLOOKUP(Tabla38[[#This Row],[CODIGO municipio]],[3]!Tabla7[#All],15,FALSE),\"\")","v":""},{"$f":"IFERROR(VLOOKUP(Tabla38[[#This Row],[CODIGO municipio]],[3]!Tabla7[#All],16,FALSE),\"\")","v":""},{"$f":"IFERROR(VLOOKUP(Tabla38[[#This Row],[CODIGO municipio]],[3]!Tabla7[#All],17,FALSE),\"\")","v":""},{"$f":"IFERROR(VLOOKUP(Tabla38[[#This Row],[CODIGO municipio]],[3]!Tabla7[#All],18,FALSE),\"\")","v":""},{"$f":"IFERROR(VLOOKUP(Tabla38[[#This Row],[CODIGO municipio]],[3]!Tabla7[#All],19,FALSE),\"\")","v":""},{"$f":"IFERROR(VLOOKUP(Tabla38[[#This Row],[CODIGO municipio]],[3]!Tabla8[#All],3,FALSE),\"\")","v":""},{"$f":"IFERROR(VLOOKUP(Tabla38[[#This Row],[CODIGO municipio]],[3]!Tabla8[#All],4,FALSE),\"\")","v":""},{"$f":"IFERROR(VLOOKUP(Tabla38[[#This Row],[CODIGO municipio]],[3]!Tabla8[#All],5,FALSE),\"\")","v":""},{"$f":"IFERROR(VLOOKUP(Tabla38[[#This Row],[CODIGO municipio]],[3]!Tabla8[#All],6,FALSE),\"\")","v":""},{"$f":"IFERROR(VLOOKUP(Tabla38[[#This Row],[CODIGO municipio]],[3]!Tabla8[#All],7,FALSE),\"\")","v":""},{"$f":"IFERROR(VLOOKUP(Tabla38[[#This Row],[CODIGO municipio]],[3]!Tabla8[#All],8,FALSE),\"\")","v":""},{"$f":"IFERROR(VLOOKUP(Tabla38[[#This Row],[CODIGO municipio]],[3]!Tabla8[#All],9,FALSE),\"\")","v":""},{"$f":"IFERROR(VLOOKUP(Tabla38[[#This Row],[CODIGO municipio]],[3]!Tabla8[#All],10,FALSE),\"\")","v":""},{"$f":"IFERROR(VLOOKUP(Tabla38[[#This Row],[CODIGO municipio]],[3]!Tabla8[#All],11,FALSE),\"\")","v":""},{"$f":"IFERROR(VLOOKUP(Tabla38[[#This Row],[CODIGO municipio]],[3]!Tabla8[#All],12,FALSE),\"\")","v":""},{"$f":"IFERROR(VLOOKUP(Tabla38[[#This Row],[CODIGO municipio]],[3]!Tabla8[#All],13,FALSE),\"\")","v":""},{"$f":"IFERROR(VLOOKUP(Tabla38[[#This Row],[CODIGO municipio]],[3]!Tabla8[#All],14,FALSE),\"\")","v":""},{"$f":"IFERROR(VLOOKUP(Tabla38[[#This Row],[CODIGO municipio]],[3]!Tabla8[#All],15,FALSE),\"\")","v":""},{"$f":"IFERROR(VLOOKUP(Tabla38[[#This Row],[CODIGO municipio]],[3]!Tabla8[#All],16,FALSE),\"\")","v":""},{"$f":"IFERROR(VLOOKUP(Tabla38[[#This Row],[CODIGO municipio]],[3]!Tabla8[#All],17,FALSE),\"\")","v":""},{"$f":"IFERROR(VLOOKUP(Tabla38[[#This Row],[CODIGO municipio]],[3]!Tabla8[#All],18,FALSE),\"\")","v":""},{"$f":"IFERROR(VLOOKUP(Tabla38[[#This Row],[CODIGO municipio]],[3]!Tabla8[#All],19,FALSE),\"\")","v":""},{"$f":"IFERROR(VLOOKUP(Tabla38[[#This Row],[CODIGO municipio]],[3]!Tabla8[#All],20,FALSE),\"\")","v":""},{"$f":"IFERROR(VLOOKUP(Tabla38[[#This Row],[CODIGO municipio]],[3]!Tabla8[#All],21,FALSE),\"\")","v":""},{"$f":"IFERROR(VLOOKUP(Tabla38[[#This Row],[CODIGO municipio]],[3]!Tabla8[#All],22,FALSE),\"\")","v":""},{"$f":"IFERROR(VLOOKUP(Tabla38[[#This Row],[CODIGO municipio]],[3]!Tabla8[#All],23,FALSE),\"\")","v":""},{"$f":"IFERROR(VLOOKUP(Tabla38[[#This Row],[CODIGO municipio]],[3]!Tabla9[#All],3,FALSE),\"\")","v":""}]
[{"$f":"IFERROR(VLOOKUP(Tabla38[[#This Row],[Municipio]],[3]!Tabla2[#All],3,FALSE),\"\")","v":""},702,"San José Chacayá",{"$f":"IFERROR(VLOOKUP(Tabla38[[#This Row],[CODIGO municipio]],[3]!Tabla6[[#All],[codigo_mun]],1,FALSE),\"\")","v":""},{"$f":"IFERROR(VLOOKUP(Tabla38[[#This Row],[CODIGO municipio]],[3]!Tabla12[#All],2,FALSE),\"\")","v":""},{"$f":"IFERROR(VLOOKUP(Tabla38[[#This Row],[CODIGO municipio]],[3]!Tabla7[#All],3,FALSE),\"\")","v":""},{"$f":"IFERROR(VLOOKUP(Tabla38[[#This Row],[CODIGO municipio]],[3]!Tabla7[#All],4,FALSE),\"\")","v":""},{"$f":"IFERROR(VLOOKUP(Tabla38[[#This Row],[CODIGO municipio]],[3]!Tabla7[#All],11,FALSE),\"\")","v":""},{"$f":"IFERROR(VLOOKUP(Tabla38[[#This Row],[CODIGO municipio]],[3]!Tabla7[#All],12,FALSE),\"\")","v":""},{"$f":"IFERROR(VLOOKUP(Tabla38[[#This Row],[CODIGO municipio]],[3]!Tabla7[#All],13,FALSE),\"\")","v":""},{"$f":"IFERROR(VLOOKUP(Tabla38[[#This Row],[CODIGO municipio]],[3]!Tabla7[#All],14,FALSE),\"\")","v":""},{"$f":"IFERROR(VLOOKUP(Tabla38[[#This Row],[CODIGO municipio]],[3]!Tabla7[#All],15,FALSE),\"\")","v":""},{"$f":"IFERROR(VLOOKUP(Tabla38[[#This Row],[CODIGO municipio]],[3]!Tabla7[#All],16,FALSE),\"\")","v":""},{"$f":"IFERROR(VLOOKUP(Tabla38[[#This Row],[CODIGO municipio]],[3]!Tabla7[#All],17,FALSE),\"\")","v":""},{"$f":"IFERROR(VLOOKUP(Tabla38[[#This Row],[CODIGO municipio]],[3]!Tabla7[#All],18,FALSE),\"\")","v":""},{"$f":"IFERROR(VLOOKUP(Tabla38[[#This Row],[CODIGO municipio]],[3]!Tabla7[#All],19,FALSE),\"\")","v":""},{"$f":"IFERROR(VLOOKUP(Tabla38[[#This Row],[CODIGO municipio]],[3]!Tabla8[#All],3,FALSE),\"\")","v":""},{"$f":"IFERROR(VLOOKUP(Tabla38[[#This Row],[CODIGO municipio]],[3]!Tabla8[#All],4,FALSE),\"\")","v":""},{"$f":"IFERROR(VLOOKUP(Tabla38[[#This Row],[CODIGO municipio]],[3]!Tabla8[#All],5,FALSE),\"\")","v":""},{"$f":"IFERROR(VLOOKUP(Tabla38[[#This Row],[CODIGO municipio]],[3]!Tabla8[#All],6,FALSE),\"\")","v":""},{"$f":"IFERROR(VLOOKUP(Tabla38[[#This Row],[CODIGO municipio]],[3]!Tabla8[#All],7,FALSE),\"\")","v":""},{"$f":"IFERROR(VLOOKUP(Tabla38[[#This Row],[CODIGO municipio]],[3]!Tabla8[#All],8,FALSE),\"\")","v":""},{"$f":"IFERROR(VLOOKUP(Tabla38[[#This Row],[CODIGO municipio]],[3]!Tabla8[#All],9,FALSE),\"\")","v":""},{"$f":"IFERROR(VLOOKUP(Tabla38[[#This Row],[CODIGO municipio]],[3]!Tabla8[#All],10,FALSE),\"\")","v":""},{"$f":"IFERROR(VLOOKUP(Tabla38[[#This Row],[CODIGO municipio]],[3]!Tabla8[#All],11,FALSE),\"\")","v":""},{"$f":"IFERROR(VLOOKUP(Tabla38[[#This Row],[CODIGO municipio]],[3]!Tabla8[#All],12,FALSE),\"\")","v":""},{"$f":"IFERROR(VLOOKUP(Tabla38[[#This Row],[CODIGO municipio]],[3]!Tabla8[#All],13,FALSE),\"\")","v":""},{"$f":"IFERROR(VLOOKUP(Tabla38[[#This Row],[CODIGO municipio]],[3]!Tabla8[#All],14,FALSE),\"\")","v":""},{"$f":"IFERROR(VLOOKUP(Tabla38[[#This Row],[CODIGO municipio]],[3]!Tabla8[#All],15,FALSE),\"\")","v":""},{"$f":"IFERROR(VLOOKUP(Tabla38[[#This Row],[CODIGO municipio]],[3]!Tabla8[#All],16,FALSE),\"\")","v":""},{"$f":"IFERROR(VLOOKUP(Tabla38[[#This Row],[CODIGO municipio]],[3]!Tabla8[#All],17,FALSE),\"\")","v":""},{"$f":"IFERROR(VLOOKUP(Tabla38[[#This Row],[CODIGO municipio]],[3]!Tabla8[#All],18,FALSE),\"\")","v":""},{"$f":"IFERROR(VLOOKUP(Tabla38[[#This Row],[CODIGO municipio]],[3]!Tabla8[#All],19,FALSE),\"\")","v":""},{"$f":"IFERROR(VLOOKUP(Tabla38[[#This Row],[CODIGO municipio]],[3]!Tabla8[#All],20,FALSE),\"\")","v":""},{"$f":"IFERROR(VLOOKUP(Tabla38[[#This Row],[CODIGO municipio]],[3]!Tabla8[#All],21,FALSE),\"\")","v":""},{"$f":"IFERROR(VLOOKUP(Tabla38[[#This Row],[CODIGO municipio]],[3]!Tabla8[#All],22,FALSE),\"\")","v":""},{"$f":"IFERROR(VLOOKUP(Tabla38[[#This Row],[CODIGO municipio]],[3]!Tabla8[#All],23,FALSE),\"\")","v":""},{"$f":"IFERROR(VLOOKUP(Tabla38[[#This Row],[CODIGO municipio]],[3]!Tabla9[#All],3,FALSE),\"\")","v":""}]
[{"$f":"IFERROR(VLOOKUP(Tabla38[[#This Row],[Municipio]],[3]!Tabla2[#All],3,FALSE),\"\")","v":""},703,"Santa María Visitación",{"$f":"IFERROR(VLOOKUP(Tabla38[[#This Row],[CODIGO municipio]],[3]!Tabla6[[#All],[codigo_mun]],1,FALSE),\"\")","v":""},{"$f":"IFERROR(VLOOKUP(Tabla38[[#This Row],[CODIGO municipio]],[3]!Tabla12[#All],2,FALSE),\"\")","v":""},{"$f":"IFERROR(VLOOKUP(Tabla38[[#This Row],[CODIGO municipio]],[3]!Tabla7[#All],3,FALSE),\"\")","v":""},{"$f":"IFERROR(VLOOKUP(Tabla38[[#This Row],[CODIGO municipio]],[3]!Tabla7[#All],4,FALSE),\"\")","v":""},{"$f":"IFERROR(VLOOKUP(Tabla38[[#This Row],[CODIGO municipio]],[3]!Tabla7[#All],11,FALSE),\"\")","v":""},{"$f":"IFERROR(VLOOKUP(Tabla38[[#This Row],[CODIGO municipio]],[3]!Tabla7[#All],12,FALSE),\"\")","v":""},{"$f":"IFERROR(VLOOKUP(Tabla38[[#This Row],[CODIGO municipio]],[3]!Tabla7[#All],13,FALSE),\"\")","v":""},{"$f":"IFERROR(VLOOKUP(Tabla38[[#This Row],[CODIGO municipio]],[3]!Tabla7[#All],14,FALSE),\"\")","v":""},{"$f":"IFERROR(VLOOKUP(Tabla38[[#This Row],[CODIGO municipio]],[3]!Tabla7[#All],15,FALSE),\"\")","v":""},{"$f":"IFERROR(VLOOKUP(Tabla38[[#This Row],[CODIGO municipio]],[3]!Tabla7[#All],16,FALSE),\"\")","v":""},{"$f":"IFERROR(VLOOKUP(Tabla38[[#This Row],[CODIGO municipio]],[3]!Tabla7[#All],17,FALSE),\"\")","v":""},{"$f":"IFERROR(VLOOKUP(Tabla38[[#This Row],[CODIGO municipio]],[3]!Tabla7[#All],18,FALSE),\"\")","v":""},{"$f":"IFERROR(VLOOKUP(Tabla38[[#This Row],[CODIGO municipio]],[3]!Tabla7[#All],19,FALSE),\"\")","v":""},{"$f":"IFERROR(VLOOKUP(Tabla38[[#This Row],[CODIGO municipio]],[3]!Tabla8[#All],3,FALSE),\"\")","v":""},{"$f":"IFERROR(VLOOKUP(Tabla38[[#This Row],[CODIGO municipio]],[3]!Tabla8[#All],4,FALSE),\"\")","v":""},{"$f":"IFERROR(VLOOKUP(Tabla38[[#This Row],[CODIGO municipio]],[3]!Tabla8[#All],5,FALSE),\"\")","v":""},{"$f":"IFERROR(VLOOKUP(Tabla38[[#This Row],[CODIGO municipio]],[3]!Tabla8[#All],6,FALSE),\"\")","v":""},{"$f":"IFERROR(VLOOKUP(Tabla38[[#This Row],[CODIGO municipio]],[3]!Tabla8[#All],7,FALSE),\"\")","v":""},{"$f":"IFERROR(VLOOKUP(Tabla38[[#This Row],[CODIGO municipio]],[3]!Tabla8[#All],8,FALSE),\"\")","v":""},{"$f":"IFERROR(VLOOKUP(Tabla38[[#This Row],[CODIGO municipio]],[3]!Tabla8[#All],9,FALSE),\"\")","v":""},{"$f":"IFERROR(VLOOKUP(Tabla38[[#This Row],[CODIGO municipio]],[3]!Tabla8[#All],10,FALSE),\"\")","v":""},{"$f":"IFERROR(VLOOKUP(Tabla38[[#This Row],[CODIGO municipio]],[3]!Tabla8[#All],11,FALSE),\"\")","v":""},{"$f":"IFERROR(VLOOKUP(Tabla38[[#This Row],[CODIGO municipio]],[3]!Tabla8[#All],12,FALSE),\"\")","v":""},{"$f":"IFERROR(VLOOKUP(Tabla38[[#This Row],[CODIGO municipio]],[3]!Tabla8[#All],13,FALSE),\"\")","v":""},{"$f":"IFERROR(VLOOKUP(Tabla38[[#This Row],[CODIGO municipio]],[3]!Tabla8[#All],14,FALSE),\"\")","v":""},{"$f":"IFERROR(VLOOKUP(Tabla38[[#This Row],[CODIGO municipio]],[3]!Tabla8[#All],15,FALSE),\"\")","v":""},{"$f":"IFERROR(VLOOKUP(Tabla38[[#This Row],[CODIGO municipio]],[3]!Tabla8[#All],16,FALSE),\"\")","v":""},{"$f":"IFERROR(VLOOKUP(Tabla38[[#This Row],[CODIGO municipio]],[3]!Tabla8[#All],17,FALSE),\"\")","v":""},{"$f":"IFERROR(VLOOKUP(Tabla38[[#This Row],[CODIGO municipio]],[3]!Tabla8[#All],18,FALSE),\"\")","v":""},{"$f":"IFERROR(VLOOKUP(Tabla38[[#This Row],[CODIGO municipio]],[3]!Tabla8[#All],19,FALSE),\"\")","v":""},{"$f":"IFERROR(VLOOKUP(Tabla38[[#This Row],[CODIGO municipio]],[3]!Tabla8[#All],20,FALSE),\"\")","v":""},{"$f":"IFERROR(VLOOKUP(Tabla38[[#This Row],[CODIGO municipio]],[3]!Tabla8[#All],21,FALSE),\"\")","v":""},{"$f":"IFERROR(VLOOKUP(Tabla38[[#This Row],[CODIGO municipio]],[3]!Tabla8[#All],22,FALSE),\"\")","v":""},{"$f":"IFERROR(VLOOKUP(Tabla38[[#This Row],[CODIGO municipio]],[3]!Tabla8[#All],23,FALSE),\"\")","v":""},{"$f":"IFERROR(VLOOKUP(Tabla38[[#This Row],[CODIGO municipio]],[3]!Tabla9[#All],3,FALSE),\"\")","v":""}]
[{"$f":"IFERROR(VLOOKUP(Tabla38[[#This Row],[Municipio]],[3]!Tabla2[#All],3,FALSE),\"\")","v":""},704,"Santa Lucía Utatlán",{"$f":"IFERROR(VLOOKUP(Tabla38[[#This Row],[CODIGO municipio]],[3]!Tabla6[[#All],[codigo_mun]],1,FALSE),\"\")","v":""},{"$f":"IFERROR(VLOOKUP(Tabla38[[#This Row],[CODIGO municipio]],[3]!Tabla12[#All],2,FALSE),\"\")","v":""},{"$f":"IFERROR(VLOOKUP(Tabla38[[#This Row],[CODIGO municipio]],[3]!Tabla7[#All],3,FALSE),\"\")","v":""},{"$f":"IFERROR(VLOOKUP(Tabla38[[#This Row],[CODIGO municipio]],[3]!Tabla7[#All],4,FALSE),\"\")","v":""},{"$f":"IFERROR(VLOOKUP(Tabla38[[#This Row],[CODIGO municipio]],[3]!Tabla7[#All],11,FALSE),\"\")","v":""},{"$f":"IFERROR(VLOOKUP(Tabla38[[#This Row],[CODIGO municipio]],[3]!Tabla7[#All],12,FALSE),\"\")","v":""},{"$f":"IFERROR(VLOOKUP(Tabla38[[#This Row],[CODIGO municipio]],[3]!Tabla7[#All],13,FALSE),\"\")","v":""},{"$f":"IFERROR(VLOOKUP(Tabla38[[#This Row],[CODIGO municipio]],[3]!Tabla7[#All],14,FALSE),\"\")","v":""},{"$f":"IFERROR(VLOOKUP(Tabla38[[#This Row],[CODIGO municipio]],[3]!Tabla7[#All],15,FALSE),\"\")","v":""},{"$f":"IFERROR(VLOOKUP(Tabla38[[#This Row],[CODIGO municipio]],[3]!Tabla7[#All],16,FALSE),\"\")","v":""},{"$f":"IFERROR(VLOOKUP(Tabla38[[#This Row],[CODIGO municipio]],[3]!Tabla7[#All],17,FALSE),\"\")","v":""},{"$f":"IFERROR(VLOOKUP(Tabla38[[#This Row],[CODIGO municipio]],[3]!Tabla7[#All],18,FALSE),\"\")","v":""},{"$f":"IFERROR(VLOOKUP(Tabla38[[#This Row],[CODIGO municipio]],[3]!Tabla7[#All],19,FALSE),\"\")","v":""},{"$f":"IFERROR(VLOOKUP(Tabla38[[#This Row],[CODIGO municipio]],[3]!Tabla8[#All],3,FALSE),\"\")","v":""},{"$f":"IFERROR(VLOOKUP(Tabla38[[#This Row],[CODIGO municipio]],[3]!Tabla8[#All],4,FALSE),\"\")","v":""},{"$f":"IFERROR(VLOOKUP(Tabla38[[#This Row],[CODIGO municipio]],[3]!Tabla8[#All],5,FALSE),\"\")","v":""},{"$f":"IFERROR(VLOOKUP(Tabla38[[#This Row],[CODIGO municipio]],[3]!Tabla8[#All],6,FALSE),\"\")","v":""},{"$f":"IFERROR(VLOOKUP(Tabla38[[#This Row],[CODIGO municipio]],[3]!Tabla8[#All],7,FALSE),\"\")","v":""},{"$f":"IFERROR(VLOOKUP(Tabla38[[#This Row],[CODIGO municipio]],[3]!Tabla8[#All],8,FALSE),\"\")","v":""},{"$f":"IFERROR(VLOOKUP(Tabla38[[#This Row],[CODIGO municipio]],[3]!Tabla8[#All],9,FALSE),\"\")","v":""},{"$f":"IFERROR(VLOOKUP(Tabla38[[#This Row],[CODIGO municipio]],[3]!Tabla8[#All],10,FALSE),\"\")","v":""},{"$f":"IFERROR(VLOOKUP(Tabla38[[#This Row],[CODIGO municipio]],[3]!Tabla8[#All],11,FALSE),\"\")","v":""},{"$f":"IFERROR(VLOOKUP(Tabla38[[#This Row],[CODIGO municipio]],[3]!Tabla8[#All],12,FALSE),\"\")","v":""},{"$f":"IFERROR(VLOOKUP(Tabla38[[#This Row],[CODIGO municipio]],[3]!Tabla8[#All],13,FALSE),\"\")","v":""},{"$f":"IFERROR(VLOOKUP(Tabla38[[#This Row],[CODIGO municipio]],[3]!Tabla8[#All],14,FALSE),\"\")","v":""},{"$f":"IFERROR(VLOOKUP(Tabla38[[#This Row],[CODIGO municipio]],[3]!Tabla8[#All],15,FALSE),\"\")","v":""},{"$f":"IFERROR(VLOOKUP(Tabla38[[#This Row],[CODIGO municipio]],[3]!Tabla8[#All],16,FALSE),\"\")","v":""},{"$f":"IFERROR(VLOOKUP(Tabla38[[#This Row],[CODIGO municipio]],[3]!Tabla8[#All],17,FALSE),\"\")","v":""},{"$f":"IFERROR(VLOOKUP(Tabla38[[#This Row],[CODIGO municipio]],[3]!Tabla8[#All],18,FALSE),\"\")","v":""},{"$f":"IFERROR(VLOOKUP(Tabla38[[#This Row],[CODIGO municipio]],[3]!Tabla8[#All],19,FALSE),\"\")","v":""},{"$f":"IFERROR(VLOOKUP(Tabla38[[#This Row],[CODIGO municipio]],[3]!Tabla8[#All],20,FALSE),\"\")","v":""},{"$f":"IFERROR(VLOOKUP(Tabla38[[#This Row],[CODIGO municipio]],[3]!Tabla8[#All],21,FALSE),\"\")","v":""},{"$f":"IFERROR(VLOOKUP(Tabla38[[#This Row],[CODIGO municipio]],[3]!Tabla8[#All],22,FALSE),\"\")","v":""},{"$f":"IFERROR(VLOOKUP(Tabla38[[#This Row],[CODIGO municipio]],[3]!Tabla8[#All],23,FALSE),\"\")","v":""},{"$f":"IFERROR(VLOOKUP(Tabla38[[#This Row],[CODIGO municipio]],[3]!Tabla9[#All],3,FALSE),\"\")","v":""}]
[{"$f":"IFERROR(VLOOKUP(Tabla38[[#This Row],[Municipio]],[3]!Tabla2[#All],3,FALSE),\"\")","v":""},705,"Nahualá",{"$f":"IFERROR(VLOOKUP(Tabla38[[#This Row],[CODIGO municipio]],[3]!Tabla6[[#All],[codigo_mun]],1,FALSE),\"\")","v":""},{"$f":"IFERROR(VLOOKUP(Tabla38[[#This Row],[CODIGO municipio]],[3]!Tabla12[#All],2,FALSE),\"\")","v":""},{"$f":"IFERROR(VLOOKUP(Tabla38[[#This Row],[CODIGO municipio]],[3]!Tabla7[#All],3,FALSE),\"\")","v":""},{"$f":"IFERROR(VLOOKUP(Tabla38[[#This Row],[CODIGO municipio]],[3]!Tabla7[#All],4,FALSE),\"\")","v":""},{"$f":"IFERROR(VLOOKUP(Tabla38[[#This Row],[CODIGO municipio]],[3]!Tabla7[#All],11,FALSE),\"\")","v":""},{"$f":"IFERROR(VLOOKUP(Tabla38[[#This Row],[CODIGO municipio]],[3]!Tabla7[#All],12,FALSE),\"\")","v":""},{"$f":"IFERROR(VLOOKUP(Tabla38[[#This Row],[CODIGO municipio]],[3]!Tabla7[#All],13,FALSE),\"\")","v":""},{"$f":"IFERROR(VLOOKUP(Tabla38[[#This Row],[CODIGO municipio]],[3]!Tabla7[#All],14,FALSE),\"\")","v":""},{"$f":"IFERROR(VLOOKUP(Tabla38[[#This Row],[CODIGO municipio]],[3]!Tabla7[#All],15,FALSE),\"\")","v":""},{"$f":"IFERROR(VLOOKUP(Tabla38[[#This Row],[CODIGO municipio]],[3]!Tabla7[#All],16,FALSE),\"\")","v":""},{"$f":"IFERROR(VLOOKUP(Tabla38[[#This Row],[CODIGO municipio]],[3]!Tabla7[#All],17,FALSE),\"\")","v":""},{"$f":"IFERROR(VLOOKUP(Tabla38[[#This Row],[CODIGO municipio]],[3]!Tabla7[#All],18,FALSE),\"\")","v":""},{"$f":"IFERROR(VLOOKUP(Tabla38[[#This Row],[CODIGO municipio]],[3]!Tabla7[#All],19,FALSE),\"\")","v":""},{"$f":"IFERROR(VLOOKUP(Tabla38[[#This Row],[CODIGO municipio]],[3]!Tabla8[#All],3,FALSE),\"\")","v":""},{"$f":"IFERROR(VLOOKUP(Tabla38[[#This Row],[CODIGO municipio]],[3]!Tabla8[#All],4,FALSE),\"\")","v":""},{"$f":"IFERROR(VLOOKUP(Tabla38[[#This Row],[CODIGO municipio]],[3]!Tabla8[#All],5,FALSE),\"\")","v":""},{"$f":"IFERROR(VLOOKUP(Tabla38[[#This Row],[CODIGO municipio]],[3]!Tabla8[#All],6,FALSE),\"\")","v":""},{"$f":"IFERROR(VLOOKUP(Tabla38[[#This Row],[CODIGO municipio]],[3]!Tabla8[#All],7,FALSE),\"\")","v":""},{"$f":"IFERROR(VLOOKUP(Tabla38[[#This Row],[CODIGO municipio]],[3]!Tabla8[#All],8,FALSE),\"\")","v":""},{"$f":"IFERROR(VLOOKUP(Tabla38[[#This Row],[CODIGO municipio]],[3]!Tabla8[#All],9,FALSE),\"\")","v":""},{"$f":"IFERROR(VLOOKUP(Tabla38[[#This Row],[CODIGO municipio]],[3]!Tabla8[#All],10,FALSE),\"\")","v":""},{"$f":"IFERROR(VLOOKUP(Tabla38[[#This Row],[CODIGO municipio]],[3]!Tabla8[#All],11,FALSE),\"\")","v":""},{"$f":"IFERROR(VLOOKUP(Tabla38[[#This Row],[CODIGO municipio]],[3]!Tabla8[#All],12,FALSE),\"\")","v":""},{"$f":"IFERROR(VLOOKUP(Tabla38[[#This Row],[CODIGO municipio]],[3]!Tabla8[#All],13,FALSE),\"\")","v":""},{"$f":"IFERROR(VLOOKUP(Tabla38[[#This Row],[CODIGO municipio]],[3]!Tabla8[#All],14,FALSE),\"\")","v":""},{"$f":"IFERROR(VLOOKUP(Tabla38[[#This Row],[CODIGO municipio]],[3]!Tabla8[#All],15,FALSE),\"\")","v":""},{"$f":"IFERROR(VLOOKUP(Tabla38[[#This Row],[CODIGO municipio]],[3]!Tabla8[#All],16,FALSE),\"\")","v":""},{"$f":"IFERROR(VLOOKUP(Tabla38[[#This Row],[CODIGO municipio]],[3]!Tabla8[#All],17,FALSE),\"\")","v":""},{"$f":"IFERROR(VLOOKUP(Tabla38[[#This Row],[CODIGO municipio]],[3]!Tabla8[#All],18,FALSE),\"\")","v":""},{"$f":"IFERROR(VLOOKUP(Tabla38[[#This Row],[CODIGO municipio]],[3]!Tabla8[#All],19,FALSE),\"\")","v":""},{"$f":"IFERROR(VLOOKUP(Tabla38[[#This Row],[CODIGO municipio]],[3]!Tabla8[#All],20,FALSE),\"\")","v":""},{"$f":"IFERROR(VLOOKUP(Tabla38[[#This Row],[CODIGO municipio]],[3]!Tabla8[#All],21,FALSE),\"\")","v":""},{"$f":"IFERROR(VLOOKUP(Tabla38[[#This Row],[CODIGO municipio]],[3]!Tabla8[#All],22,FALSE),\"\")","v":""},{"$f":"IFERROR(VLOOKUP(Tabla38[[#This Row],[CODIGO municipio]],[3]!Tabla8[#All],23,FALSE),\"\")","v":""},{"$f":"IFERROR(VLOOKUP(Tabla38[[#This Row],[CODIGO municipio]],[3]!Tabla9[#All],3,FALSE),\"\")","v":""}]
[{"$f":"IFERROR(VLOOKUP(Tabla38[[#This Row],[Municipio]],[3]!Tabla2[#All],3,FALSE),\"\")","v":""},706,"Santa Catarina Ixtahuacán",{"$f":"IFERROR(VLOOKUP(Tabla38[[#This Row],[CODIGO municipio]],[3]!Tabla6[[#All],[codigo_mun]],1,FALSE),\"\")","v":""},{"$f":"IFERROR(VLOOKUP(Tabla38[[#This Row],[CODIGO municipio]],[3]!Tabla12[#All],2,FALSE),\"\")","v":""},{"$f":"IFERROR(VLOOKUP(Tabla38[[#This Row],[CODIGO municipio]],[3]!Tabla7[#All],3,FALSE),\"\")","v":""},{"$f":"IFERROR(VLOOKUP(Tabla38[[#This Row],[CODIGO municipio]],[3]!Tabla7[#All],4,FALSE),\"\")","v":""},{"$f":"IFERROR(VLOOKUP(Tabla38[[#This Row],[CODIGO municipio]],[3]!Tabla7[#All],11,FALSE),\"\")","v":""},{"$f":"IFERROR(VLOOKUP(Tabla38[[#This Row],[CODIGO municipio]],[3]!Tabla7[#All],12,FALSE),\"\")","v":""},{"$f":"IFERROR(VLOOKUP(Tabla38[[#This Row],[CODIGO municipio]],[3]!Tabla7[#All],13,FALSE),\"\")","v":""},{"$f":"IFERROR(VLOOKUP(Tabla38[[#This Row],[CODIGO municipio]],[3]!Tabla7[#All],14,FALSE),\"\")","v":""},{"$f":"IFERROR(VLOOKUP(Tabla38[[#This Row],[CODIGO municipio]],[3]!Tabla7[#All],15,FALSE),\"\")","v":""},{"$f":"IFERROR(VLOOKUP(Tabla38[[#This Row],[CODIGO municipio]],[3]!Tabla7[#All],16,FALSE),\"\")","v":""},{"$f":"IFERROR(VLOOKUP(Tabla38[[#This Row],[CODIGO municipio]],[3]!Tabla7[#All],17,FALSE),\"\")","v":""},{"$f":"IFERROR(VLOOKUP(Tabla38[[#This Row],[CODIGO municipio]],[3]!Tabla7[#All],18,FALSE),\"\")","v":""},{"$f":"IFERROR(VLOOKUP(Tabla38[[#This Row],[CODIGO municipio]],[3]!Tabla7[#All],19,FALSE),\"\")","v":""},{"$f":"IFERROR(VLOOKUP(Tabla38[[#This Row],[CODIGO municipio]],[3]!Tabla8[#All],3,FALSE),\"\")","v":""},{"$f":"IFERROR(VLOOKUP(Tabla38[[#This Row],[CODIGO municipio]],[3]!Tabla8[#All],4,FALSE),\"\")","v":""},{"$f":"IFERROR(VLOOKUP(Tabla38[[#This Row],[CODIGO municipio]],[3]!Tabla8[#All],5,FALSE),\"\")","v":""},{"$f":"IFERROR(VLOOKUP(Tabla38[[#This Row],[CODIGO municipio]],[3]!Tabla8[#All],6,FALSE),\"\")","v":""},{"$f":"IFERROR(VLOOKUP(Tabla38[[#This Row],[CODIGO municipio]],[3]!Tabla8[#All],7,FALSE),\"\")","v":""},{"$f":"IFERROR(VLOOKUP(Tabla38[[#This Row],[CODIGO municipio]],[3]!Tabla8[#All],8,FALSE),\"\")","v":""},{"$f":"IFERROR(VLOOKUP(Tabla38[[#This Row],[CODIGO municipio]],[3]!Tabla8[#All],9,FALSE),\"\")","v":""},{"$f":"IFERROR(VLOOKUP(Tabla38[[#This Row],[CODIGO municipio]],[3]!Tabla8[#All],10,FALSE),\"\")","v":""},{"$f":"IFERROR(VLOOKUP(Tabla38[[#This Row],[CODIGO municipio]],[3]!Tabla8[#All],11,FALSE),\"\")","v":""},{"$f":"IFERROR(VLOOKUP(Tabla38[[#This Row],[CODIGO municipio]],[3]!Tabla8[#All],12,FALSE),\"\")","v":""},{"$f":"IFERROR(VLOOKUP(Tabla38[[#This Row],[CODIGO municipio]],[3]!Tabla8[#All],13,FALSE),\"\")","v":""},{"$f":"IFERROR(VLOOKUP(Tabla38[[#This Row],[CODIGO municipio]],[3]!Tabla8[#All],14,FALSE),\"\")","v":""},{"$f":"IFERROR(VLOOKUP(Tabla38[[#This Row],[CODIGO municipio]],[3]!Tabla8[#All],15,FALSE),\"\")","v":""},{"$f":"IFERROR(VLOOKUP(Tabla38[[#This Row],[CODIGO municipio]],[3]!Tabla8[#All],16,FALSE),\"\")","v":""},{"$f":"IFERROR(VLOOKUP(Tabla38[[#This Row],[CODIGO municipio]],[3]!Tabla8[#All],17,FALSE),\"\")","v":""},{"$f":"IFERROR(VLOOKUP(Tabla38[[#This Row],[CODIGO municipio]],[3]!Tabla8[#All],18,FALSE),\"\")","v":""},{"$f":"IFERROR(VLOOKUP(Tabla38[[#This Row],[CODIGO municipio]],[3]!Tabla8[#All],19,FALSE),\"\")","v":""},{"$f":"IFERROR(VLOOKUP(Tabla38[[#This Row],[CODIGO municipio]],[3]!Tabla8[#All],20,FALSE),\"\")","v":""},{"$f":"IFERROR(VLOOKUP(Tabla38[[#This Row],[CODIGO municipio]],[3]!Tabla8[#All],21,FALSE),\"\")","v":""},{"$f":"IFERROR(VLOOKUP(Tabla38[[#This Row],[CODIGO municipio]],[3]!Tabla8[#All],22,FALSE),\"\")","v":""},{"$f":"IFERROR(VLOOKUP(Tabla38[[#This Row],[CODIGO municipio]],[3]!Tabla8[#All],23,FALSE),\"\")","v":""},{"$f":"IFERROR(VLOOKUP(Tabla38[[#This Row],[CODIGO municipio]],[3]!Tabla9[#All],3,FALSE),\"\")","v":""}]
[{"$f":"IFERROR(VLOOKUP(Tabla38[[#This Row],[Municipio]],[3]!Tabla2[#All],3,FALSE),\"\")","v":""},707,"Santa Clara La Laguna",{"$f":"IFERROR(VLOOKUP(Tabla38[[#This Row],[CODIGO municipio]],[3]!Tabla6[[#All],[codigo_mun]],1,FALSE),\"\")","v":""},{"$f":"IFERROR(VLOOKUP(Tabla38[[#This Row],[CODIGO municipio]],[3]!Tabla12[#All],2,FALSE),\"\")","v":""},{"$f":"IFERROR(VLOOKUP(Tabla38[[#This Row],[CODIGO municipio]],[3]!Tabla7[#All],3,FALSE),\"\")","v":""},{"$f":"IFERROR(VLOOKUP(Tabla38[[#This Row],[CODIGO municipio]],[3]!Tabla7[#All],4,FALSE),\"\")","v":""},{"$f":"IFERROR(VLOOKUP(Tabla38[[#This Row],[CODIGO municipio]],[3]!Tabla7[#All],11,FALSE),\"\")","v":""},{"$f":"IFERROR(VLOOKUP(Tabla38[[#This Row],[CODIGO municipio]],[3]!Tabla7[#All],12,FALSE),\"\")","v":""},{"$f":"IFERROR(VLOOKUP(Tabla38[[#This Row],[CODIGO municipio]],[3]!Tabla7[#All],13,FALSE),\"\")","v":""},{"$f":"IFERROR(VLOOKUP(Tabla38[[#This Row],[CODIGO municipio]],[3]!Tabla7[#All],14,FALSE),\"\")","v":""},{"$f":"IFERROR(VLOOKUP(Tabla38[[#This Row],[CODIGO municipio]],[3]!Tabla7[#All],15,FALSE),\"\")","v":""},{"$f":"IFERROR(VLOOKUP(Tabla38[[#This Row],[CODIGO municipio]],[3]!Tabla7[#All],16,FALSE),\"\")","v":""},{"$f":"IFERROR(VLOOKUP(Tabla38[[#This Row],[CODIGO municipio]],[3]!Tabla7[#All],17,FALSE),\"\")","v":""},{"$f":"IFERROR(VLOOKUP(Tabla38[[#This Row],[CODIGO municipio]],[3]!Tabla7[#All],18,FALSE),\"\")","v":""},{"$f":"IFERROR(VLOOKUP(Tabla38[[#This Row],[CODIGO municipio]],[3]!Tabla7[#All],19,FALSE),\"\")","v":""},{"$f":"IFERROR(VLOOKUP(Tabla38[[#This Row],[CODIGO municipio]],[3]!Tabla8[#All],3,FALSE),\"\")","v":""},{"$f":"IFERROR(VLOOKUP(Tabla38[[#This Row],[CODIGO municipio]],[3]!Tabla8[#All],4,FALSE),\"\")","v":""},{"$f":"IFERROR(VLOOKUP(Tabla38[[#This Row],[CODIGO municipio]],[3]!Tabla8[#All],5,FALSE),\"\")","v":""},{"$f":"IFERROR(VLOOKUP(Tabla38[[#This Row],[CODIGO municipio]],[3]!Tabla8[#All],6,FALSE),\"\")","v":""},{"$f":"IFERROR(VLOOKUP(Tabla38[[#This Row],[CODIGO municipio]],[3]!Tabla8[#All],7,FALSE),\"\")","v":""},{"$f":"IFERROR(VLOOKUP(Tabla38[[#This Row],[CODIGO municipio]],[3]!Tabla8[#All],8,FALSE),\"\")","v":""},{"$f":"IFERROR(VLOOKUP(Tabla38[[#This Row],[CODIGO municipio]],[3]!Tabla8[#All],9,FALSE),\"\")","v":""},{"$f":"IFERROR(VLOOKUP(Tabla38[[#This Row],[CODIGO municipio]],[3]!Tabla8[#All],10,FALSE),\"\")","v":""},{"$f":"IFERROR(VLOOKUP(Tabla38[[#This Row],[CODIGO municipio]],[3]!Tabla8[#All],11,FALSE),\"\")","v":""},{"$f":"IFERROR(VLOOKUP(Tabla38[[#This Row],[CODIGO municipio]],[3]!Tabla8[#All],12,FALSE),\"\")","v":""},{"$f":"IFERROR(VLOOKUP(Tabla38[[#This Row],[CODIGO municipio]],[3]!Tabla8[#All],13,FALSE),\"\")","v":""},{"$f":"IFERROR(VLOOKUP(Tabla38[[#This Row],[CODIGO municipio]],[3]!Tabla8[#All],14,FALSE),\"\")","v":""},{"$f":"IFERROR(VLOOKUP(Tabla38[[#This Row],[CODIGO municipio]],[3]!Tabla8[#All],15,FALSE),\"\")","v":""},{"$f":"IFERROR(VLOOKUP(Tabla38[[#This Row],[CODIGO municipio]],[3]!Tabla8[#All],16,FALSE),\"\")","v":""},{"$f":"IFERROR(VLOOKUP(Tabla38[[#This Row],[CODIGO municipio]],[3]!Tabla8[#All],17,FALSE),\"\")","v":""},{"$f":"IFERROR(VLOOKUP(Tabla38[[#This Row],[CODIGO municipio]],[3]!Tabla8[#All],18,FALSE),\"\")","v":""},{"$f":"IFERROR(VLOOKUP(Tabla38[[#This Row],[CODIGO municipio]],[3]!Tabla8[#All],19,FALSE),\"\")","v":""},{"$f":"IFERROR(VLOOKUP(Tabla38[[#This Row],[CODIGO municipio]],[3]!Tabla8[#All],20,FALSE),\"\")","v":""},{"$f":"IFERROR(VLOOKUP(Tabla38[[#This Row],[CODIGO municipio]],[3]!Tabla8[#All],21,FALSE),\"\")","v":""},{"$f":"IFERROR(VLOOKUP(Tabla38[[#This Row],[CODIGO municipio]],[3]!Tabla8[#All],22,FALSE),\"\")","v":""},{"$f":"IFERROR(VLOOKUP(Tabla38[[#This Row],[CODIGO municipio]],[3]!Tabla8[#All],23,FALSE),\"\")","v":""},{"$f":"IFERROR(VLOOKUP(Tabla38[[#This Row],[CODIGO municipio]],[3]!Tabla9[#All],3,FALSE),\"\")","v":""}]
[{"$f":"IFERROR(VLOOKUP(Tabla38[[#This Row],[Municipio]],[3]!Tabla2[#All],3,FALSE),\"\")","v":""},708,"Concepción",{"$f":"IFERROR(VLOOKUP(Tabla38[[#This Row],[CODIGO municipio]],[3]!Tabla6[[#All],[codigo_mun]],1,FALSE),\"\")","v":""},{"$f":"IFERROR(VLOOKUP(Tabla38[[#This Row],[CODIGO municipio]],[3]!Tabla12[#All],2,FALSE),\"\")","v":""},{"$f":"IFERROR(VLOOKUP(Tabla38[[#This Row],[CODIGO municipio]],[3]!Tabla7[#All],3,FALSE),\"\")","v":""},{"$f":"IFERROR(VLOOKUP(Tabla38[[#This Row],[CODIGO municipio]],[3]!Tabla7[#All],4,FALSE),\"\")","v":""},{"$f":"IFERROR(VLOOKUP(Tabla38[[#This Row],[CODIGO municipio]],[3]!Tabla7[#All],11,FALSE),\"\")","v":""},{"$f":"IFERROR(VLOOKUP(Tabla38[[#This Row],[CODIGO municipio]],[3]!Tabla7[#All],12,FALSE),\"\")","v":""},{"$f":"IFERROR(VLOOKUP(Tabla38[[#This Row],[CODIGO municipio]],[3]!Tabla7[#All],13,FALSE),\"\")","v":""},{"$f":"IFERROR(VLOOKUP(Tabla38[[#This Row],[CODIGO municipio]],[3]!Tabla7[#All],14,FALSE),\"\")","v":""},{"$f":"IFERROR(VLOOKUP(Tabla38[[#This Row],[CODIGO municipio]],[3]!Tabla7[#All],15,FALSE),\"\")","v":""},{"$f":"IFERROR(VLOOKUP(Tabla38[[#This Row],[CODIGO municipio]],[3]!Tabla7[#All],16,FALSE),\"\")","v":""},{"$f":"IFERROR(VLOOKUP(Tabla38[[#This Row],[CODIGO municipio]],[3]!Tabla7[#All],17,FALSE),\"\")","v":""},{"$f":"IFERROR(VLOOKUP(Tabla38[[#This Row],[CODIGO municipio]],[3]!Tabla7[#All],18,FALSE),\"\")","v":""},{"$f":"IFERROR(VLOOKUP(Tabla38[[#This Row],[CODIGO municipio]],[3]!Tabla7[#All],19,FALSE),\"\")","v":""},{"$f":"IFERROR(VLOOKUP(Tabla38[[#This Row],[CODIGO municipio]],[3]!Tabla8[#All],3,FALSE),\"\")","v":""},{"$f":"IFERROR(VLOOKUP(Tabla38[[#This Row],[CODIGO municipio]],[3]!Tabla8[#All],4,FALSE),\"\")","v":""},{"$f":"IFERROR(VLOOKUP(Tabla38[[#This Row],[CODIGO municipio]],[3]!Tabla8[#All],5,FALSE),\"\")","v":""},{"$f":"IFERROR(VLOOKUP(Tabla38[[#This Row],[CODIGO municipio]],[3]!Tabla8[#All],6,FALSE),\"\")","v":""},{"$f":"IFERROR(VLOOKUP(Tabla38[[#This Row],[CODIGO municipio]],[3]!Tabla8[#All],7,FALSE),\"\")","v":""},{"$f":"IFERROR(VLOOKUP(Tabla38[[#This Row],[CODIGO municipio]],[3]!Tabla8[#All],8,FALSE),\"\")","v":""},{"$f":"IFERROR(VLOOKUP(Tabla38[[#This Row],[CODIGO municipio]],[3]!Tabla8[#All],9,FALSE),\"\")","v":""},{"$f":"IFERROR(VLOOKUP(Tabla38[[#This Row],[CODIGO municipio]],[3]!Tabla8[#All],10,FALSE),\"\")","v":""},{"$f":"IFERROR(VLOOKUP(Tabla38[[#This Row],[CODIGO municipio]],[3]!Tabla8[#All],11,FALSE),\"\")","v":""},{"$f":"IFERROR(VLOOKUP(Tabla38[[#This Row],[CODIGO municipio]],[3]!Tabla8[#All],12,FALSE),\"\")","v":""},{"$f":"IFERROR(VLOOKUP(Tabla38[[#This Row],[CODIGO municipio]],[3]!Tabla8[#All],13,FALSE),\"\")","v":""},{"$f":"IFERROR(VLOOKUP(Tabla38[[#This Row],[CODIGO municipio]],[3]!Tabla8[#All],14,FALSE),\"\")","v":""},{"$f":"IFERROR(VLOOKUP(Tabla38[[#This Row],[CODIGO municipio]],[3]!Tabla8[#All],15,FALSE),\"\")","v":""},{"$f":"IFERROR(VLOOKUP(Tabla38[[#This Row],[CODIGO municipio]],[3]!Tabla8[#All],16,FALSE),\"\")","v":""},{"$f":"IFERROR(VLOOKUP(Tabla38[[#This Row],[CODIGO municipio]],[3]!Tabla8[#All],17,FALSE),\"\")","v":""},{"$f":"IFERROR(VLOOKUP(Tabla38[[#This Row],[CODIGO municipio]],[3]!Tabla8[#All],18,FALSE),\"\")","v":""},{"$f":"IFERROR(VLOOKUP(Tabla38[[#This Row],[CODIGO municipio]],[3]!Tabla8[#All],19,FALSE),\"\")","v":""},{"$f":"IFERROR(VLOOKUP(Tabla38[[#This Row],[CODIGO municipio]],[3]!Tabla8[#All],20,FALSE),\"\")","v":""},{"$f":"IFERROR(VLOOKUP(Tabla38[[#This Row],[CODIGO municipio]],[3]!Tabla8[#All],21,FALSE),\"\")","v":""},{"$f":"IFERROR(VLOOKUP(Tabla38[[#This Row],[CODIGO municipio]],[3]!Tabla8[#All],22,FALSE),\"\")","v":""},{"$f":"IFERROR(VLOOKUP(Tabla38[[#This Row],[CODIGO municipio]],[3]!Tabla8[#All],23,FALSE),\"\")","v":""},{"$f":"IFERROR(VLOOKUP(Tabla38[[#This Row],[CODIGO municipio]],[3]!Tabla9[#All],3,FALSE),\"\")","v":""}]
[{"$f":"IFERROR(VLOOKUP(Tabla38[[#This Row],[Municipio]],[3]!Tabla2[#All],3,FALSE),\"\")","v":""},709,"San Andrés Semetabaj",{"$f":"IFERROR(VLOOKUP(Tabla38[[#This Row],[CODIGO municipio]],[3]!Tabla6[[#All],[codigo_mun]],1,FALSE),\"\")","v":""},{"$f":"IFERROR(VLOOKUP(Tabla38[[#This Row],[CODIGO municipio]],[3]!Tabla12[#All],2,FALSE),\"\")","v":""},{"$f":"IFERROR(VLOOKUP(Tabla38[[#This Row],[CODIGO municipio]],[3]!Tabla7[#All],3,FALSE),\"\")","v":""},{"$f":"IFERROR(VLOOKUP(Tabla38[[#This Row],[CODIGO municipio]],[3]!Tabla7[#All],4,FALSE),\"\")","v":""},{"$f":"IFERROR(VLOOKUP(Tabla38[[#This Row],[CODIGO municipio]],[3]!Tabla7[#All],11,FALSE),\"\")","v":""},{"$f":"IFERROR(VLOOKUP(Tabla38[[#This Row],[CODIGO municipio]],[3]!Tabla7[#All],12,FALSE),\"\")","v":""},{"$f":"IFERROR(VLOOKUP(Tabla38[[#This Row],[CODIGO municipio]],[3]!Tabla7[#All],13,FALSE),\"\")","v":""},{"$f":"IFERROR(VLOOKUP(Tabla38[[#This Row],[CODIGO municipio]],[3]!Tabla7[#All],14,FALSE),\"\")","v":""},{"$f":"IFERROR(VLOOKUP(Tabla38[[#This Row],[CODIGO municipio]],[3]!Tabla7[#All],15,FALSE),\"\")","v":""},{"$f":"IFERROR(VLOOKUP(Tabla38[[#This Row],[CODIGO municipio]],[3]!Tabla7[#All],16,FALSE),\"\")","v":""},{"$f":"IFERROR(VLOOKUP(Tabla38[[#This Row],[CODIGO municipio]],[3]!Tabla7[#All],17,FALSE),\"\")","v":""},{"$f":"IFERROR(VLOOKUP(Tabla38[[#This Row],[CODIGO municipio]],[3]!Tabla7[#All],18,FALSE),\"\")","v":""},{"$f":"IFERROR(VLOOKUP(Tabla38[[#This Row],[CODIGO municipio]],[3]!Tabla7[#All],19,FALSE),\"\")","v":""},{"$f":"IFERROR(VLOOKUP(Tabla38[[#This Row],[CODIGO municipio]],[3]!Tabla8[#All],3,FALSE),\"\")","v":""},{"$f":"IFERROR(VLOOKUP(Tabla38[[#This Row],[CODIGO municipio]],[3]!Tabla8[#All],4,FALSE),\"\")","v":""},{"$f":"IFERROR(VLOOKUP(Tabla38[[#This Row],[CODIGO municipio]],[3]!Tabla8[#All],5,FALSE),\"\")","v":""},{"$f":"IFERROR(VLOOKUP(Tabla38[[#This Row],[CODIGO municipio]],[3]!Tabla8[#All],6,FALSE),\"\")","v":""},{"$f":"IFERROR(VLOOKUP(Tabla38[[#This Row],[CODIGO municipio]],[3]!Tabla8[#All],7,FALSE),\"\")","v":""},{"$f":"IFERROR(VLOOKUP(Tabla38[[#This Row],[CODIGO municipio]],[3]!Tabla8[#All],8,FALSE),\"\")","v":""},{"$f":"IFERROR(VLOOKUP(Tabla38[[#This Row],[CODIGO municipio]],[3]!Tabla8[#All],9,FALSE),\"\")","v":""},{"$f":"IFERROR(VLOOKUP(Tabla38[[#This Row],[CODIGO municipio]],[3]!Tabla8[#All],10,FALSE),\"\")","v":""},{"$f":"IFERROR(VLOOKUP(Tabla38[[#This Row],[CODIGO municipio]],[3]!Tabla8[#All],11,FALSE),\"\")","v":""},{"$f":"IFERROR(VLOOKUP(Tabla38[[#This Row],[CODIGO municipio]],[3]!Tabla8[#All],12,FALSE),\"\")","v":""},{"$f":"IFERROR(VLOOKUP(Tabla38[[#This Row],[CODIGO municipio]],[3]!Tabla8[#All],13,FALSE),\"\")","v":""},{"$f":"IFERROR(VLOOKUP(Tabla38[[#This Row],[CODIGO municipio]],[3]!Tabla8[#All],14,FALSE),\"\")","v":""},{"$f":"IFERROR(VLOOKUP(Tabla38[[#This Row],[CODIGO municipio]],[3]!Tabla8[#All],15,FALSE),\"\")","v":""},{"$f":"IFERROR(VLOOKUP(Tabla38[[#This Row],[CODIGO municipio]],[3]!Tabla8[#All],16,FALSE),\"\")","v":""},{"$f":"IFERROR(VLOOKUP(Tabla38[[#This Row],[CODIGO municipio]],[3]!Tabla8[#All],17,FALSE),\"\")","v":""},{"$f":"IFERROR(VLOOKUP(Tabla38[[#This Row],[CODIGO municipio]],[3]!Tabla8[#All],18,FALSE),\"\")","v":""},{"$f":"IFERROR(VLOOKUP(Tabla38[[#This Row],[CODIGO municipio]],[3]!Tabla8[#All],19,FALSE),\"\")","v":""},{"$f":"IFERROR(VLOOKUP(Tabla38[[#This Row],[CODIGO municipio]],[3]!Tabla8[#All],20,FALSE),\"\")","v":""},{"$f":"IFERROR(VLOOKUP(Tabla38[[#This Row],[CODIGO municipio]],[3]!Tabla8[#All],21,FALSE),\"\")","v":""},{"$f":"IFERROR(VLOOKUP(Tabla38[[#This Row],[CODIGO municipio]],[3]!Tabla8[#All],22,FALSE),\"\")","v":""},{"$f":"IFERROR(VLOOKUP(Tabla38[[#This Row],[CODIGO municipio]],[3]!Tabla8[#All],23,FALSE),\"\")","v":""},{"$f":"IFERROR(VLOOKUP(Tabla38[[#This Row],[CODIGO municipio]],[3]!Tabla9[#All],3,FALSE),\"\")","v":""}]
[{"$f":"IFERROR(VLOOKUP(Tabla38[[#This Row],[Municipio]],[3]!Tabla2[#All],3,FALSE),\"\")","v":""},710,"Panajachel",{"$f":"IFERROR(VLOOKUP(Tabla38[[#This Row],[CODIGO municipio]],[3]!Tabla6[[#All],[codigo_mun]],1,FALSE),\"\")","v":""},{"$f":"IFERROR(VLOOKUP(Tabla38[[#This Row],[CODIGO municipio]],[3]!Tabla12[#All],2,FALSE),\"\")","v":""},{"$f":"IFERROR(VLOOKUP(Tabla38[[#This Row],[CODIGO municipio]],[3]!Tabla7[#All],3,FALSE),\"\")","v":""},{"$f":"IFERROR(VLOOKUP(Tabla38[[#This Row],[CODIGO municipio]],[3]!Tabla7[#All],4,FALSE),\"\")","v":""},{"$f":"IFERROR(VLOOKUP(Tabla38[[#This Row],[CODIGO municipio]],[3]!Tabla7[#All],11,FALSE),\"\")","v":""},{"$f":"IFERROR(VLOOKUP(Tabla38[[#This Row],[CODIGO municipio]],[3]!Tabla7[#All],12,FALSE),\"\")","v":""},{"$f":"IFERROR(VLOOKUP(Tabla38[[#This Row],[CODIGO municipio]],[3]!Tabla7[#All],13,FALSE),\"\")","v":""},{"$f":"IFERROR(VLOOKUP(Tabla38[[#This Row],[CODIGO municipio]],[3]!Tabla7[#All],14,FALSE),\"\")","v":""},{"$f":"IFERROR(VLOOKUP(Tabla38[[#This Row],[CODIGO municipio]],[3]!Tabla7[#All],15,FALSE),\"\")","v":""},{"$f":"IFERROR(VLOOKUP(Tabla38[[#This Row],[CODIGO municipio]],[3]!Tabla7[#All],16,FALSE),\"\")","v":""},{"$f":"IFERROR(VLOOKUP(Tabla38[[#This Row],[CODIGO municipio]],[3]!Tabla7[#All],17,FALSE),\"\")","v":""},{"$f":"IFERROR(VLOOKUP(Tabla38[[#This Row],[CODIGO municipio]],[3]!Tabla7[#All],18,FALSE),\"\")","v":""},{"$f":"IFERROR(VLOOKUP(Tabla38[[#This Row],[CODIGO municipio]],[3]!Tabla7[#All],19,FALSE),\"\")","v":""},{"$f":"IFERROR(VLOOKUP(Tabla38[[#This Row],[CODIGO municipio]],[3]!Tabla8[#All],3,FALSE),\"\")","v":""},{"$f":"IFERROR(VLOOKUP(Tabla38[[#This Row],[CODIGO municipio]],[3]!Tabla8[#All],4,FALSE),\"\")","v":""},{"$f":"IFERROR(VLOOKUP(Tabla38[[#This Row],[CODIGO municipio]],[3]!Tabla8[#All],5,FALSE),\"\")","v":""},{"$f":"IFERROR(VLOOKUP(Tabla38[[#This Row],[CODIGO municipio]],[3]!Tabla8[#All],6,FALSE),\"\")","v":""},{"$f":"IFERROR(VLOOKUP(Tabla38[[#This Row],[CODIGO municipio]],[3]!Tabla8[#All],7,FALSE),\"\")","v":""},{"$f":"IFERROR(VLOOKUP(Tabla38[[#This Row],[CODIGO municipio]],[3]!Tabla8[#All],8,FALSE),\"\")","v":""},{"$f":"IFERROR(VLOOKUP(Tabla38[[#This Row],[CODIGO municipio]],[3]!Tabla8[#All],9,FALSE),\"\")","v":""},{"$f":"IFERROR(VLOOKUP(Tabla38[[#This Row],[CODIGO municipio]],[3]!Tabla8[#All],10,FALSE),\"\")","v":""},{"$f":"IFERROR(VLOOKUP(Tabla38[[#This Row],[CODIGO municipio]],[3]!Tabla8[#All],11,FALSE),\"\")","v":""},{"$f":"IFERROR(VLOOKUP(Tabla38[[#This Row],[CODIGO municipio]],[3]!Tabla8[#All],12,FALSE),\"\")","v":""},{"$f":"IFERROR(VLOOKUP(Tabla38[[#This Row],[CODIGO municipio]],[3]!Tabla8[#All],13,FALSE),\"\")","v":""},{"$f":"IFERROR(VLOOKUP(Tabla38[[#This Row],[CODIGO municipio]],[3]!Tabla8[#All],14,FALSE),\"\")","v":""},{"$f":"IFERROR(VLOOKUP(Tabla38[[#This Row],[CODIGO municipio]],[3]!Tabla8[#All],15,FALSE),\"\")","v":""},{"$f":"IFERROR(VLOOKUP(Tabla38[[#This Row],[CODIGO municipio]],[3]!Tabla8[#All],16,FALSE),\"\")","v":""},{"$f":"IFERROR(VLOOKUP(Tabla38[[#This Row],[CODIGO municipio]],[3]!Tabla8[#All],17,FALSE),\"\")","v":""},{"$f":"IFERROR(VLOOKUP(Tabla38[[#This Row],[CODIGO municipio]],[3]!Tabla8[#All],18,FALSE),\"\")","v":""},{"$f":"IFERROR(VLOOKUP(Tabla38[[#This Row],[CODIGO municipio]],[3]!Tabla8[#All],19,FALSE),\"\")","v":""},{"$f":"IFERROR(VLOOKUP(Tabla38[[#This Row],[CODIGO municipio]],[3]!Tabla8[#All],20,FALSE),\"\")","v":""},{"$f":"IFERROR(VLOOKUP(Tabla38[[#This Row],[CODIGO municipio]],[3]!Tabla8[#All],21,FALSE),\"\")","v":""},{"$f":"IFERROR(VLOOKUP(Tabla38[[#This Row],[CODIGO municipio]],[3]!Tabla8[#All],22,FALSE),\"\")","v":""},{"$f":"IFERROR(VLOOKUP(Tabla38[[#This Row],[CODIGO municipio]],[3]!Tabla8[#All],23,FALSE),\"\")","v":""},{"$f":"IFERROR(VLOOKUP(Tabla38[[#This Row],[CODIGO municipio]],[3]!Tabla9[#All],3,FALSE),\"\")","v":""}]
[{"$f":"IFERROR(VLOOKUP(Tabla38[[#This Row],[Municipio]],[3]!Tabla2[#All],3,FALSE),\"\")","v":""},711,"Santa Catarina Palopó",{"$f":"IFERROR(VLOOKUP(Tabla38[[#This Row],[CODIGO municipio]],[3]!Tabla6[[#All],[codigo_mun]],1,FALSE),\"\")","v":""},{"$f":"IFERROR(VLOOKUP(Tabla38[[#This Row],[CODIGO municipio]],[3]!Tabla12[#All],2,FALSE),\"\")","v":""},{"$f":"IFERROR(VLOOKUP(Tabla38[[#This Row],[CODIGO municipio]],[3]!Tabla7[#All],3,FALSE),\"\")","v":""},{"$f":"IFERROR(VLOOKUP(Tabla38[[#This Row],[CODIGO municipio]],[3]!Tabla7[#All],4,FALSE),\"\")","v":""},{"$f":"IFERROR(VLOOKUP(Tabla38[[#This Row],[CODIGO municipio]],[3]!Tabla7[#All],11,FALSE),\"\")","v":""},{"$f":"IFERROR(VLOOKUP(Tabla38[[#This Row],[CODIGO municipio]],[3]!Tabla7[#All],12,FALSE),\"\")","v":""},{"$f":"IFERROR(VLOOKUP(Tabla38[[#This Row],[CODIGO municipio]],[3]!Tabla7[#All],13,FALSE),\"\")","v":""},{"$f":"IFERROR(VLOOKUP(Tabla38[[#This Row],[CODIGO municipio]],[3]!Tabla7[#All],14,FALSE),\"\")","v":""},{"$f":"IFERROR(VLOOKUP(Tabla38[[#This Row],[CODIGO municipio]],[3]!Tabla7[#All],15,FALSE),\"\")","v":""},{"$f":"IFERROR(VLOOKUP(Tabla38[[#This Row],[CODIGO municipio]],[3]!Tabla7[#All],16,FALSE),\"\")","v":""},{"$f":"IFERROR(VLOOKUP(Tabla38[[#This Row],[CODIGO municipio]],[3]!Tabla7[#All],17,FALSE),\"\")","v":""},{"$f":"IFERROR(VLOOKUP(Tabla38[[#This Row],[CODIGO municipio]],[3]!Tabla7[#All],18,FALSE),\"\")","v":""},{"$f":"IFERROR(VLOOKUP(Tabla38[[#This Row],[CODIGO municipio]],[3]!Tabla7[#All],19,FALSE),\"\")","v":""},{"$f":"IFERROR(VLOOKUP(Tabla38[[#This Row],[CODIGO municipio]],[3]!Tabla8[#All],3,FALSE),\"\")","v":""},{"$f":"IFERROR(VLOOKUP(Tabla38[[#This Row],[CODIGO municipio]],[3]!Tabla8[#All],4,FALSE),\"\")","v":""},{"$f":"IFERROR(VLOOKUP(Tabla38[[#This Row],[CODIGO municipio]],[3]!Tabla8[#All],5,FALSE),\"\")","v":""},{"$f":"IFERROR(VLOOKUP(Tabla38[[#This Row],[CODIGO municipio]],[3]!Tabla8[#All],6,FALSE),\"\")","v":""},{"$f":"IFERROR(VLOOKUP(Tabla38[[#This Row],[CODIGO municipio]],[3]!Tabla8[#All],7,FALSE),\"\")","v":""},{"$f":"IFERROR(VLOOKUP(Tabla38[[#This Row],[CODIGO municipio]],[3]!Tabla8[#All],8,FALSE),\"\")","v":""},{"$f":"IFERROR(VLOOKUP(Tabla38[[#This Row],[CODIGO municipio]],[3]!Tabla8[#All],9,FALSE),\"\")","v":""},{"$f":"IFERROR(VLOOKUP(Tabla38[[#This Row],[CODIGO municipio]],[3]!Tabla8[#All],10,FALSE),\"\")","v":""},{"$f":"IFERROR(VLOOKUP(Tabla38[[#This Row],[CODIGO municipio]],[3]!Tabla8[#All],11,FALSE),\"\")","v":""},{"$f":"IFERROR(VLOOKUP(Tabla38[[#This Row],[CODIGO municipio]],[3]!Tabla8[#All],12,FALSE),\"\")","v":""},{"$f":"IFERROR(VLOOKUP(Tabla38[[#This Row],[CODIGO municipio]],[3]!Tabla8[#All],13,FALSE),\"\")","v":""},{"$f":"IFERROR(VLOOKUP(Tabla38[[#This Row],[CODIGO municipio]],[3]!Tabla8[#All],14,FALSE),\"\")","v":""},{"$f":"IFERROR(VLOOKUP(Tabla38[[#This Row],[CODIGO municipio]],[3]!Tabla8[#All],15,FALSE),\"\")","v":""},{"$f":"IFERROR(VLOOKUP(Tabla38[[#This Row],[CODIGO municipio]],[3]!Tabla8[#All],16,FALSE),\"\")","v":""},{"$f":"IFERROR(VLOOKUP(Tabla38[[#This Row],[CODIGO municipio]],[3]!Tabla8[#All],17,FALSE),\"\")","v":""},{"$f":"IFERROR(VLOOKUP(Tabla38[[#This Row],[CODIGO municipio]],[3]!Tabla8[#All],18,FALSE),\"\")","v":""},{"$f":"IFERROR(VLOOKUP(Tabla38[[#This Row],[CODIGO municipio]],[3]!Tabla8[#All],19,FALSE),\"\")","v":""},{"$f":"IFERROR(VLOOKUP(Tabla38[[#This Row],[CODIGO municipio]],[3]!Tabla8[#All],20,FALSE),\"\")","v":""},{"$f":"IFERROR(VLOOKUP(Tabla38[[#This Row],[CODIGO municipio]],[3]!Tabla8[#All],21,FALSE),\"\")","v":""},{"$f":"IFERROR(VLOOKUP(Tabla38[[#This Row],[CODIGO municipio]],[3]!Tabla8[#All],22,FALSE),\"\")","v":""},{"$f":"IFERROR(VLOOKUP(Tabla38[[#This Row],[CODIGO municipio]],[3]!Tabla8[#All],23,FALSE),\"\")","v":""},{"$f":"IFERROR(VLOOKUP(Tabla38[[#This Row],[CODIGO municipio]],[3]!Tabla9[#All],3,FALSE),\"\")","v":""}]
[{"$f":"IFERROR(VLOOKUP(Tabla38[[#This Row],[Municipio]],[3]!Tabla2[#All],3,FALSE),\"\")","v":""},712,"San Antonio Palopó",{"$f":"IFERROR(VLOOKUP(Tabla38[[#This Row],[CODIGO municipio]],[3]!Tabla6[[#All],[codigo_mun]],1,FALSE),\"\")","v":""},{"$f":"IFERROR(VLOOKUP(Tabla38[[#This Row],[CODIGO municipio]],[3]!Tabla12[#All],2,FALSE),\"\")","v":""},{"$f":"IFERROR(VLOOKUP(Tabla38[[#This Row],[CODIGO municipio]],[3]!Tabla7[#All],3,FALSE),\"\")","v":""},{"$f":"IFERROR(VLOOKUP(Tabla38[[#This Row],[CODIGO municipio]],[3]!Tabla7[#All],4,FALSE),\"\")","v":""},{"$f":"IFERROR(VLOOKUP(Tabla38[[#This Row],[CODIGO municipio]],[3]!Tabla7[#All],11,FALSE),\"\")","v":""},{"$f":"IFERROR(VLOOKUP(Tabla38[[#This Row],[CODIGO municipio]],[3]!Tabla7[#All],12,FALSE),\"\")","v":""},{"$f":"IFERROR(VLOOKUP(Tabla38[[#This Row],[CODIGO municipio]],[3]!Tabla7[#All],13,FALSE),\"\")","v":""},{"$f":"IFERROR(VLOOKUP(Tabla38[[#This Row],[CODIGO municipio]],[3]!Tabla7[#All],14,FALSE),\"\")","v":""},{"$f":"IFERROR(VLOOKUP(Tabla38[[#This Row],[CODIGO municipio]],[3]!Tabla7[#All],15,FALSE),\"\")","v":""},{"$f":"IFERROR(VLOOKUP(Tabla38[[#This Row],[CODIGO municipio]],[3]!Tabla7[#All],16,FALSE),\"\")","v":""},{"$f":"IFERROR(VLOOKUP(Tabla38[[#This Row],[CODIGO municipio]],[3]!Tabla7[#All],17,FALSE),\"\")","v":""},{"$f":"IFERROR(VLOOKUP(Tabla38[[#This Row],[CODIGO municipio]],[3]!Tabla7[#All],18,FALSE),\"\")","v":""},{"$f":"IFERROR(VLOOKUP(Tabla38[[#This Row],[CODIGO municipio]],[3]!Tabla7[#All],19,FALSE),\"\")","v":""},{"$f":"IFERROR(VLOOKUP(Tabla38[[#This Row],[CODIGO municipio]],[3]!Tabla8[#All],3,FALSE),\"\")","v":""},{"$f":"IFERROR(VLOOKUP(Tabla38[[#This Row],[CODIGO municipio]],[3]!Tabla8[#All],4,FALSE),\"\")","v":""},{"$f":"IFERROR(VLOOKUP(Tabla38[[#This Row],[CODIGO municipio]],[3]!Tabla8[#All],5,FALSE),\"\")","v":""},{"$f":"IFERROR(VLOOKUP(Tabla38[[#This Row],[CODIGO municipio]],[3]!Tabla8[#All],6,FALSE),\"\")","v":""},{"$f":"IFERROR(VLOOKUP(Tabla38[[#This Row],[CODIGO municipio]],[3]!Tabla8[#All],7,FALSE),\"\")","v":""},{"$f":"IFERROR(VLOOKUP(Tabla38[[#This Row],[CODIGO municipio]],[3]!Tabla8[#All],8,FALSE),\"\")","v":""},{"$f":"IFERROR(VLOOKUP(Tabla38[[#This Row],[CODIGO municipio]],[3]!Tabla8[#All],9,FALSE),\"\")","v":""},{"$f":"IFERROR(VLOOKUP(Tabla38[[#This Row],[CODIGO municipio]],[3]!Tabla8[#All],10,FALSE),\"\")","v":""},{"$f":"IFERROR(VLOOKUP(Tabla38[[#This Row],[CODIGO municipio]],[3]!Tabla8[#All],11,FALSE),\"\")","v":""},{"$f":"IFERROR(VLOOKUP(Tabla38[[#This Row],[CODIGO municipio]],[3]!Tabla8[#All],12,FALSE),\"\")","v":""},{"$f":"IFERROR(VLOOKUP(Tabla38[[#This Row],[CODIGO municipio]],[3]!Tabla8[#All],13,FALSE),\"\")","v":""},{"$f":"IFERROR(VLOOKUP(Tabla38[[#This Row],[CODIGO municipio]],[3]!Tabla8[#All],14,FALSE),\"\")","v":""},{"$f":"IFERROR(VLOOKUP(Tabla38[[#This Row],[CODIGO municipio]],[3]!Tabla8[#All],15,FALSE),\"\")","v":""},{"$f":"IFERROR(VLOOKUP(Tabla38[[#This Row],[CODIGO municipio]],[3]!Tabla8[#All],16,FALSE),\"\")","v":""},{"$f":"IFERROR(VLOOKUP(Tabla38[[#This Row],[CODIGO municipio]],[3]!Tabla8[#All],17,FALSE),\"\")","v":""},{"$f":"IFERROR(VLOOKUP(Tabla38[[#This Row],[CODIGO municipio]],[3]!Tabla8[#All],18,FALSE),\"\")","v":""},{"$f":"IFERROR(VLOOKUP(Tabla38[[#This Row],[CODIGO municipio]],[3]!Tabla8[#All],19,FALSE),\"\")","v":""},{"$f":"IFERROR(VLOOKUP(Tabla38[[#This Row],[CODIGO municipio]],[3]!Tabla8[#All],20,FALSE),\"\")","v":""},{"$f":"IFERROR(VLOOKUP(Tabla38[[#This Row],[CODIGO municipio]],[3]!Tabla8[#All],21,FALSE),\"\")","v":""},{"$f":"IFERROR(VLOOKUP(Tabla38[[#This Row],[CODIGO municipio]],[3]!Tabla8[#All],22,FALSE),\"\")","v":""},{"$f":"IFERROR(VLOOKUP(Tabla38[[#This Row],[CODIGO municipio]],[3]!Tabla8[#All],23,FALSE),\"\")","v":""},{"$f":"IFERROR(VLOOKUP(Tabla38[[#This Row],[CODIGO municipio]],[3]!Tabla9[#All],3,FALSE),\"\")","v":""}]
[{"$f":"IFERROR(VLOOKUP(Tabla38[[#This Row],[Municipio]],[3]!Tabla2[#All],3,FALSE),\"\")","v":""},713,"San Lucas Tolimán",{"$f":"IFERROR(VLOOKUP(Tabla38[[#This Row],[CODIGO municipio]],[3]!Tabla6[[#All],[codigo_mun]],1,FALSE),\"\")","v":""},{"$f":"IFERROR(VLOOKUP(Tabla38[[#This Row],[CODIGO municipio]],[3]!Tabla12[#All],2,FALSE),\"\")","v":""},{"$f":"IFERROR(VLOOKUP(Tabla38[[#This Row],[CODIGO municipio]],[3]!Tabla7[#All],3,FALSE),\"\")","v":""},{"$f":"IFERROR(VLOOKUP(Tabla38[[#This Row],[CODIGO municipio]],[3]!Tabla7[#All],4,FALSE),\"\")","v":""},{"$f":"IFERROR(VLOOKUP(Tabla38[[#This Row],[CODIGO municipio]],[3]!Tabla7[#All],11,FALSE),\"\")","v":""},{"$f":"IFERROR(VLOOKUP(Tabla38[[#This Row],[CODIGO municipio]],[3]!Tabla7[#All],12,FALSE),\"\")","v":""},{"$f":"IFERROR(VLOOKUP(Tabla38[[#This Row],[CODIGO municipio]],[3]!Tabla7[#All],13,FALSE),\"\")","v":""},{"$f":"IFERROR(VLOOKUP(Tabla38[[#This Row],[CODIGO municipio]],[3]!Tabla7[#All],14,FALSE),\"\")","v":""},{"$f":"IFERROR(VLOOKUP(Tabla38[[#This Row],[CODIGO municipio]],[3]!Tabla7[#All],15,FALSE),\"\")","v":""},{"$f":"IFERROR(VLOOKUP(Tabla38[[#This Row],[CODIGO municipio]],[3]!Tabla7[#All],16,FALSE),\"\")","v":""},{"$f":"IFERROR(VLOOKUP(Tabla38[[#This Row],[CODIGO municipio]],[3]!Tabla7[#All],17,FALSE),\"\")","v":""},{"$f":"IFERROR(VLOOKUP(Tabla38[[#This Row],[CODIGO municipio]],[3]!Tabla7[#All],18,FALSE),\"\")","v":""},{"$f":"IFERROR(VLOOKUP(Tabla38[[#This Row],[CODIGO municipio]],[3]!Tabla7[#All],19,FALSE),\"\")","v":""},{"$f":"IFERROR(VLOOKUP(Tabla38[[#This Row],[CODIGO municipio]],[3]!Tabla8[#All],3,FALSE),\"\")","v":""},{"$f":"IFERROR(VLOOKUP(Tabla38[[#This Row],[CODIGO municipio]],[3]!Tabla8[#All],4,FALSE),\"\")","v":""},{"$f":"IFERROR(VLOOKUP(Tabla38[[#This Row],[CODIGO municipio]],[3]!Tabla8[#All],5,FALSE),\"\")","v":""},{"$f":"IFERROR(VLOOKUP(Tabla38[[#This Row],[CODIGO municipio]],[3]!Tabla8[#All],6,FALSE),\"\")","v":""},{"$f":"IFERROR(VLOOKUP(Tabla38[[#This Row],[CODIGO municipio]],[3]!Tabla8[#All],7,FALSE),\"\")","v":""},{"$f":"IFERROR(VLOOKUP(Tabla38[[#This Row],[CODIGO municipio]],[3]!Tabla8[#All],8,FALSE),\"\")","v":""},{"$f":"IFERROR(VLOOKUP(Tabla38[[#This Row],[CODIGO municipio]],[3]!Tabla8[#All],9,FALSE),\"\")","v":""},{"$f":"IFERROR(VLOOKUP(Tabla38[[#This Row],[CODIGO municipio]],[3]!Tabla8[#All],10,FALSE),\"\")","v":""},{"$f":"IFERROR(VLOOKUP(Tabla38[[#This Row],[CODIGO municipio]],[3]!Tabla8[#All],11,FALSE),\"\")","v":""},{"$f":"IFERROR(VLOOKUP(Tabla38[[#This Row],[CODIGO municipio]],[3]!Tabla8[#All],12,FALSE),\"\")","v":""},{"$f":"IFERROR(VLOOKUP(Tabla38[[#This Row],[CODIGO municipio]],[3]!Tabla8[#All],13,FALSE),\"\")","v":""},{"$f":"IFERROR(VLOOKUP(Tabla38[[#This Row],[CODIGO municipio]],[3]!Tabla8[#All],14,FALSE),\"\")","v":""},{"$f":"IFERROR(VLOOKUP(Tabla38[[#This Row],[CODIGO municipio]],[3]!Tabla8[#All],15,FALSE),\"\")","v":""},{"$f":"IFERROR(VLOOKUP(Tabla38[[#This Row],[CODIGO municipio]],[3]!Tabla8[#All],16,FALSE),\"\")","v":""},{"$f":"IFERROR(VLOOKUP(Tabla38[[#This Row],[CODIGO municipio]],[3]!Tabla8[#All],17,FALSE),\"\")","v":""},{"$f":"IFERROR(VLOOKUP(Tabla38[[#This Row],[CODIGO municipio]],[3]!Tabla8[#All],18,FALSE),\"\")","v":""},{"$f":"IFERROR(VLOOKUP(Tabla38[[#This Row],[CODIGO municipio]],[3]!Tabla8[#All],19,FALSE),\"\")","v":""},{"$f":"IFERROR(VLOOKUP(Tabla38[[#This Row],[CODIGO municipio]],[3]!Tabla8[#All],20,FALSE),\"\")","v":""},{"$f":"IFERROR(VLOOKUP(Tabla38[[#This Row],[CODIGO municipio]],[3]!Tabla8[#All],21,FALSE),\"\")","v":""},{"$f":"IFERROR(VLOOKUP(Tabla38[[#This Row],[CODIGO municipio]],[3]!Tabla8[#All],22,FALSE),\"\")","v":""},{"$f":"IFERROR(VLOOKUP(Tabla38[[#This Row],[CODIGO municipio]],[3]!Tabla8[#All],23,FALSE),\"\")","v":""},{"$f":"IFERROR(VLOOKUP(Tabla38[[#This Row],[CODIGO municipio]],[3]!Tabla9[#All],3,FALSE),\"\")","v":""}]
[{"$f":"IFERROR(VLOOKUP(Tabla38[[#This Row],[Municipio]],[3]!Tabla2[#All],3,FALSE),\"\")","v":""},714,"Santa Cruz La Laguna",{"$f":"IFERROR(VLOOKUP(Tabla38[[#This Row],[CODIGO municipio]],[3]!Tabla6[[#All],[codigo_mun]],1,FALSE),\"\")","v":""},{"$f":"IFERROR(VLOOKUP(Tabla38[[#This Row],[CODIGO municipio]],[3]!Tabla12[#All],2,FALSE),\"\")","v":""},{"$f":"IFERROR(VLOOKUP(Tabla38[[#This Row],[CODIGO municipio]],[3]!Tabla7[#All],3,FALSE),\"\")","v":""},{"$f":"IFERROR(VLOOKUP(Tabla38[[#This Row],[CODIGO municipio]],[3]!Tabla7[#All],4,FALSE),\"\")","v":""},{"$f":"IFERROR(VLOOKUP(Tabla38[[#This Row],[CODIGO municipio]],[3]!Tabla7[#All],11,FALSE),\"\")","v":""},{"$f":"IFERROR(VLOOKUP(Tabla38[[#This Row],[CODIGO municipio]],[3]!Tabla7[#All],12,FALSE),\"\")","v":""},{"$f":"IFERROR(VLOOKUP(Tabla38[[#This Row],[CODIGO municipio]],[3]!Tabla7[#All],13,FALSE),\"\")","v":""},{"$f":"IFERROR(VLOOKUP(Tabla38[[#This Row],[CODIGO municipio]],[3]!Tabla7[#All],14,FALSE),\"\")","v":""},{"$f":"IFERROR(VLOOKUP(Tabla38[[#This Row],[CODIGO municipio]],[3]!Tabla7[#All],15,FALSE),\"\")","v":""},{"$f":"IFERROR(VLOOKUP(Tabla38[[#This Row],[CODIGO municipio]],[3]!Tabla7[#All],16,FALSE),\"\")","v":""},{"$f":"IFERROR(VLOOKUP(Tabla38[[#This Row],[CODIGO municipio]],[3]!Tabla7[#All],17,FALSE),\"\")","v":""},{"$f":"IFERROR(VLOOKUP(Tabla38[[#This Row],[CODIGO municipio]],[3]!Tabla7[#All],18,FALSE),\"\")","v":""},{"$f":"IFERROR(VLOOKUP(Tabla38[[#This Row],[CODIGO municipio]],[3]!Tabla7[#All],19,FALSE),\"\")","v":""},{"$f":"IFERROR(VLOOKUP(Tabla38[[#This Row],[CODIGO municipio]],[3]!Tabla8[#All],3,FALSE),\"\")","v":""},{"$f":"IFERROR(VLOOKUP(Tabla38[[#This Row],[CODIGO municipio]],[3]!Tabla8[#All],4,FALSE),\"\")","v":""},{"$f":"IFERROR(VLOOKUP(Tabla38[[#This Row],[CODIGO municipio]],[3]!Tabla8[#All],5,FALSE),\"\")","v":""},{"$f":"IFERROR(VLOOKUP(Tabla38[[#This Row],[CODIGO municipio]],[3]!Tabla8[#All],6,FALSE),\"\")","v":""},{"$f":"IFERROR(VLOOKUP(Tabla38[[#This Row],[CODIGO municipio]],[3]!Tabla8[#All],7,FALSE),\"\")","v":""},{"$f":"IFERROR(VLOOKUP(Tabla38[[#This Row],[CODIGO municipio]],[3]!Tabla8[#All],8,FALSE),\"\")","v":""},{"$f":"IFERROR(VLOOKUP(Tabla38[[#This Row],[CODIGO municipio]],[3]!Tabla8[#All],9,FALSE),\"\")","v":""},{"$f":"IFERROR(VLOOKUP(Tabla38[[#This Row],[CODIGO municipio]],[3]!Tabla8[#All],10,FALSE),\"\")","v":""},{"$f":"IFERROR(VLOOKUP(Tabla38[[#This Row],[CODIGO municipio]],[3]!Tabla8[#All],11,FALSE),\"\")","v":""},{"$f":"IFERROR(VLOOKUP(Tabla38[[#This Row],[CODIGO municipio]],[3]!Tabla8[#All],12,FALSE),\"\")","v":""},{"$f":"IFERROR(VLOOKUP(Tabla38[[#This Row],[CODIGO municipio]],[3]!Tabla8[#All],13,FALSE),\"\")","v":""},{"$f":"IFERROR(VLOOKUP(Tabla38[[#This Row],[CODIGO municipio]],[3]!Tabla8[#All],14,FALSE),\"\")","v":""},{"$f":"IFERROR(VLOOKUP(Tabla38[[#This Row],[CODIGO municipio]],[3]!Tabla8[#All],15,FALSE),\"\")","v":""},{"$f":"IFERROR(VLOOKUP(Tabla38[[#This Row],[CODIGO municipio]],[3]!Tabla8[#All],16,FALSE),\"\")","v":""},{"$f":"IFERROR(VLOOKUP(Tabla38[[#This Row],[CODIGO municipio]],[3]!Tabla8[#All],17,FALSE),\"\")","v":""},{"$f":"IFERROR(VLOOKUP(Tabla38[[#This Row],[CODIGO municipio]],[3]!Tabla8[#All],18,FALSE),\"\")","v":""},{"$f":"IFERROR(VLOOKUP(Tabla38[[#This Row],[CODIGO municipio]],[3]!Tabla8[#All],19,FALSE),\"\")","v":""},{"$f":"IFERROR(VLOOKUP(Tabla38[[#This Row],[CODIGO municipio]],[3]!Tabla8[#All],20,FALSE),\"\")","v":""},{"$f":"IFERROR(VLOOKUP(Tabla38[[#This Row],[CODIGO municipio]],[3]!Tabla8[#All],21,FALSE),\"\")","v":""},{"$f":"IFERROR(VLOOKUP(Tabla38[[#This Row],[CODIGO municipio]],[3]!Tabla8[#All],22,FALSE),\"\")","v":""},{"$f":"IFERROR(VLOOKUP(Tabla38[[#This Row],[CODIGO municipio]],[3]!Tabla8[#All],23,FALSE),\"\")","v":""},{"$f":"IFERROR(VLOOKUP(Tabla38[[#This Row],[CODIGO municipio]],[3]!Tabla9[#All],3,FALSE),\"\")","v":""}]
[{"$f":"IFERROR(VLOOKUP(Tabla38[[#This Row],[Municipio]],[3]!Tabla2[#All],3,FALSE),\"\")","v":""},715,"San Pablo La Laguna",{"$f":"IFERROR(VLOOKUP(Tabla38[[#This Row],[CODIGO municipio]],[3]!Tabla6[[#All],[codigo_mun]],1,FALSE),\"\")","v":""},{"$f":"IFERROR(VLOOKUP(Tabla38[[#This Row],[CODIGO municipio]],[3]!Tabla12[#All],2,FALSE),\"\")","v":""},{"$f":"IFERROR(VLOOKUP(Tabla38[[#This Row],[CODIGO municipio]],[3]!Tabla7[#All],3,FALSE),\"\")","v":""},{"$f":"IFERROR(VLOOKUP(Tabla38[[#This Row],[CODIGO municipio]],[3]!Tabla7[#All],4,FALSE),\"\")","v":""},{"$f":"IFERROR(VLOOKUP(Tabla38[[#This Row],[CODIGO municipio]],[3]!Tabla7[#All],11,FALSE),\"\")","v":""},{"$f":"IFERROR(VLOOKUP(Tabla38[[#This Row],[CODIGO municipio]],[3]!Tabla7[#All],12,FALSE),\"\")","v":""},{"$f":"IFERROR(VLOOKUP(Tabla38[[#This Row],[CODIGO municipio]],[3]!Tabla7[#All],13,FALSE),\"\")","v":""},{"$f":"IFERROR(VLOOKUP(Tabla38[[#This Row],[CODIGO municipio]],[3]!Tabla7[#All],14,FALSE),\"\")","v":""},{"$f":"IFERROR(VLOOKUP(Tabla38[[#This Row],[CODIGO municipio]],[3]!Tabla7[#All],15,FALSE),\"\")","v":""},{"$f":"IFERROR(VLOOKUP(Tabla38[[#This Row],[CODIGO municipio]],[3]!Tabla7[#All],16,FALSE),\"\")","v":""},{"$f":"IFERROR(VLOOKUP(Tabla38[[#This Row],[CODIGO municipio]],[3]!Tabla7[#All],17,FALSE),\"\")","v":""},{"$f":"IFERROR(VLOOKUP(Tabla38[[#This Row],[CODIGO municipio]],[3]!Tabla7[#All],18,FALSE),\"\")","v":""},{"$f":"IFERROR(VLOOKUP(Tabla38[[#This Row],[CODIGO municipio]],[3]!Tabla7[#All],19,FALSE),\"\")","v":""},{"$f":"IFERROR(VLOOKUP(Tabla38[[#This Row],[CODIGO municipio]],[3]!Tabla8[#All],3,FALSE),\"\")","v":""},{"$f":"IFERROR(VLOOKUP(Tabla38[[#This Row],[CODIGO municipio]],[3]!Tabla8[#All],4,FALSE),\"\")","v":""},{"$f":"IFERROR(VLOOKUP(Tabla38[[#This Row],[CODIGO municipio]],[3]!Tabla8[#All],5,FALSE),\"\")","v":""},{"$f":"IFERROR(VLOOKUP(Tabla38[[#This Row],[CODIGO municipio]],[3]!Tabla8[#All],6,FALSE),\"\")","v":""},{"$f":"IFERROR(VLOOKUP(Tabla38[[#This Row],[CODIGO municipio]],[3]!Tabla8[#All],7,FALSE),\"\")","v":""},{"$f":"IFERROR(VLOOKUP(Tabla38[[#This Row],[CODIGO municipio]],[3]!Tabla8[#All],8,FALSE),\"\")","v":""},{"$f":"IFERROR(VLOOKUP(Tabla38[[#This Row],[CODIGO municipio]],[3]!Tabla8[#All],9,FALSE),\"\")","v":""},{"$f":"IFERROR(VLOOKUP(Tabla38[[#This Row],[CODIGO municipio]],[3]!Tabla8[#All],10,FALSE),\"\")","v":""},{"$f":"IFERROR(VLOOKUP(Tabla38[[#This Row],[CODIGO municipio]],[3]!Tabla8[#All],11,FALSE),\"\")","v":""},{"$f":"IFERROR(VLOOKUP(Tabla38[[#This Row],[CODIGO municipio]],[3]!Tabla8[#All],12,FALSE),\"\")","v":""},{"$f":"IFERROR(VLOOKUP(Tabla38[[#This Row],[CODIGO municipio]],[3]!Tabla8[#All],13,FALSE),\"\")","v":""},{"$f":"IFERROR(VLOOKUP(Tabla38[[#This Row],[CODIGO municipio]],[3]!Tabla8[#All],14,FALSE),\"\")","v":""},{"$f":"IFERROR(VLOOKUP(Tabla38[[#This Row],[CODIGO municipio]],[3]!Tabla8[#All],15,FALSE),\"\")","v":""},{"$f":"IFERROR(VLOOKUP(Tabla38[[#This Row],[CODIGO municipio]],[3]!Tabla8[#All],16,FALSE),\"\")","v":""},{"$f":"IFERROR(VLOOKUP(Tabla38[[#This Row],[CODIGO municipio]],[3]!Tabla8[#All],17,FALSE),\"\")","v":""},{"$f":"IFERROR(VLOOKUP(Tabla38[[#This Row],[CODIGO municipio]],[3]!Tabla8[#All],18,FALSE),\"\")","v":""},{"$f":"IFERROR(VLOOKUP(Tabla38[[#This Row],[CODIGO municipio]],[3]!Tabla8[#All],19,FALSE),\"\")","v":""},{"$f":"IFERROR(VLOOKUP(Tabla38[[#This Row],[CODIGO municipio]],[3]!Tabla8[#All],20,FALSE),\"\")","v":""},{"$f":"IFERROR(VLOOKUP(Tabla38[[#This Row],[CODIGO municipio]],[3]!Tabla8[#All],21,FALSE),\"\")","v":""},{"$f":"IFERROR(VLOOKUP(Tabla38[[#This Row],[CODIGO municipio]],[3]!Tabla8[#All],22,FALSE),\"\")","v":""},{"$f":"IFERROR(VLOOKUP(Tabla38[[#This Row],[CODIGO municipio]],[3]!Tabla8[#All],23,FALSE),\"\")","v":""},{"$f":"IFERROR(VLOOKUP(Tabla38[[#This Row],[CODIGO municipio]],[3]!Tabla9[#All],3,FALSE),\"\")","v":""}]
[{"$f":"IFERROR(VLOOKUP(Tabla38[[#This Row],[Municipio]],[3]!Tabla2[#All],3,FALSE),\"\")","v":""},716,"San Marcos La Laguna",{"$f":"IFERROR(VLOOKUP(Tabla38[[#This Row],[CODIGO municipio]],[3]!Tabla6[[#All],[codigo_mun]],1,FALSE),\"\")","v":""},{"$f":"IFERROR(VLOOKUP(Tabla38[[#This Row],[CODIGO municipio]],[3]!Tabla12[#All],2,FALSE),\"\")","v":""},{"$f":"IFERROR(VLOOKUP(Tabla38[[#This Row],[CODIGO municipio]],[3]!Tabla7[#All],3,FALSE),\"\")","v":""},{"$f":"IFERROR(VLOOKUP(Tabla38[[#This Row],[CODIGO municipio]],[3]!Tabla7[#All],4,FALSE),\"\")","v":""},{"$f":"IFERROR(VLOOKUP(Tabla38[[#This Row],[CODIGO municipio]],[3]!Tabla7[#All],11,FALSE),\"\")","v":""},{"$f":"IFERROR(VLOOKUP(Tabla38[[#This Row],[CODIGO municipio]],[3]!Tabla7[#All],12,FALSE),\"\")","v":""},{"$f":"IFERROR(VLOOKUP(Tabla38[[#This Row],[CODIGO municipio]],[3]!Tabla7[#All],13,FALSE),\"\")","v":""},{"$f":"IFERROR(VLOOKUP(Tabla38[[#This Row],[CODIGO municipio]],[3]!Tabla7[#All],14,FALSE),\"\")","v":""},{"$f":"IFERROR(VLOOKUP(Tabla38[[#This Row],[CODIGO municipio]],[3]!Tabla7[#All],15,FALSE),\"\")","v":""},{"$f":"IFERROR(VLOOKUP(Tabla38[[#This Row],[CODIGO municipio]],[3]!Tabla7[#All],16,FALSE),\"\")","v":""},{"$f":"IFERROR(VLOOKUP(Tabla38[[#This Row],[CODIGO municipio]],[3]!Tabla7[#All],17,FALSE),\"\")","v":""},{"$f":"IFERROR(VLOOKUP(Tabla38[[#This Row],[CODIGO municipio]],[3]!Tabla7[#All],18,FALSE),\"\")","v":""},{"$f":"IFERROR(VLOOKUP(Tabla38[[#This Row],[CODIGO municipio]],[3]!Tabla7[#All],19,FALSE),\"\")","v":""},{"$f":"IFERROR(VLOOKUP(Tabla38[[#This Row],[CODIGO municipio]],[3]!Tabla8[#All],3,FALSE),\"\")","v":""},{"$f":"IFERROR(VLOOKUP(Tabla38[[#This Row],[CODIGO municipio]],[3]!Tabla8[#All],4,FALSE),\"\")","v":""},{"$f":"IFERROR(VLOOKUP(Tabla38[[#This Row],[CODIGO municipio]],[3]!Tabla8[#All],5,FALSE),\"\")","v":""},{"$f":"IFERROR(VLOOKUP(Tabla38[[#This Row],[CODIGO municipio]],[3]!Tabla8[#All],6,FALSE),\"\")","v":""},{"$f":"IFERROR(VLOOKUP(Tabla38[[#This Row],[CODIGO municipio]],[3]!Tabla8[#All],7,FALSE),\"\")","v":""},{"$f":"IFERROR(VLOOKUP(Tabla38[[#This Row],[CODIGO municipio]],[3]!Tabla8[#All],8,FALSE),\"\")","v":""},{"$f":"IFERROR(VLOOKUP(Tabla38[[#This Row],[CODIGO municipio]],[3]!Tabla8[#All],9,FALSE),\"\")","v":""},{"$f":"IFERROR(VLOOKUP(Tabla38[[#This Row],[CODIGO municipio]],[3]!Tabla8[#All],10,FALSE),\"\")","v":""},{"$f":"IFERROR(VLOOKUP(Tabla38[[#This Row],[CODIGO municipio]],[3]!Tabla8[#All],11,FALSE),\"\")","v":""},{"$f":"IFERROR(VLOOKUP(Tabla38[[#This Row],[CODIGO municipio]],[3]!Tabla8[#All],12,FALSE),\"\")","v":""},{"$f":"IFERROR(VLOOKUP(Tabla38[[#This Row],[CODIGO municipio]],[3]!Tabla8[#All],13,FALSE),\"\")","v":""},{"$f":"IFERROR(VLOOKUP(Tabla38[[#This Row],[CODIGO municipio]],[3]!Tabla8[#All],14,FALSE),\"\")","v":""},{"$f":"IFERROR(VLOOKUP(Tabla38[[#This Row],[CODIGO municipio]],[3]!Tabla8[#All],15,FALSE),\"\")","v":""},{"$f":"IFERROR(VLOOKUP(Tabla38[[#This Row],[CODIGO municipio]],[3]!Tabla8[#All],16,FALSE),\"\")","v":""},{"$f":"IFERROR(VLOOKUP(Tabla38[[#This Row],[CODIGO municipio]],[3]!Tabla8[#All],17,FALSE),\"\")","v":""},{"$f":"IFERROR(VLOOKUP(Tabla38[[#This Row],[CODIGO municipio]],[3]!Tabla8[#All],18,FALSE),\"\")","v":""},{"$f":"IFERROR(VLOOKUP(Tabla38[[#This Row],[CODIGO municipio]],[3]!Tabla8[#All],19,FALSE),\"\")","v":""},{"$f":"IFERROR(VLOOKUP(Tabla38[[#This Row],[CODIGO municipio]],[3]!Tabla8[#All],20,FALSE),\"\")","v":""},{"$f":"IFERROR(VLOOKUP(Tabla38[[#This Row],[CODIGO municipio]],[3]!Tabla8[#All],21,FALSE),\"\")","v":""},{"$f":"IFERROR(VLOOKUP(Tabla38[[#This Row],[CODIGO municipio]],[3]!Tabla8[#All],22,FALSE),\"\")","v":""},{"$f":"IFERROR(VLOOKUP(Tabla38[[#This Row],[CODIGO municipio]],[3]!Tabla8[#All],23,FALSE),\"\")","v":""},{"$f":"IFERROR(VLOOKUP(Tabla38[[#This Row],[CODIGO municipio]],[3]!Tabla9[#All],3,FALSE),\"\")","v":""}]
[{"$f":"IFERROR(VLOOKUP(Tabla38[[#This Row],[Municipio]],[3]!Tabla2[#All],3,FALSE),\"\")","v":""},717,"San Juan La Laguna",{"$f":"IFERROR(VLOOKUP(Tabla38[[#This Row],[CODIGO municipio]],[3]!Tabla6[[#All],[codigo_mun]],1,FALSE),\"\")","v":""},{"$f":"IFERROR(VLOOKUP(Tabla38[[#This Row],[CODIGO municipio]],[3]!Tabla12[#All],2,FALSE),\"\")","v":""},{"$f":"IFERROR(VLOOKUP(Tabla38[[#This Row],[CODIGO municipio]],[3]!Tabla7[#All],3,FALSE),\"\")","v":""},{"$f":"IFERROR(VLOOKUP(Tabla38[[#This Row],[CODIGO municipio]],[3]!Tabla7[#All],4,FALSE),\"\")","v":""},{"$f":"IFERROR(VLOOKUP(Tabla38[[#This Row],[CODIGO municipio]],[3]!Tabla7[#All],11,FALSE),\"\")","v":""},{"$f":"IFERROR(VLOOKUP(Tabla38[[#This Row],[CODIGO municipio]],[3]!Tabla7[#All],12,FALSE),\"\")","v":""},{"$f":"IFERROR(VLOOKUP(Tabla38[[#This Row],[CODIGO municipio]],[3]!Tabla7[#All],13,FALSE),\"\")","v":""},{"$f":"IFERROR(VLOOKUP(Tabla38[[#This Row],[CODIGO municipio]],[3]!Tabla7[#All],14,FALSE),\"\")","v":""},{"$f":"IFERROR(VLOOKUP(Tabla38[[#This Row],[CODIGO municipio]],[3]!Tabla7[#All],15,FALSE),\"\")","v":""},{"$f":"IFERROR(VLOOKUP(Tabla38[[#This Row],[CODIGO municipio]],[3]!Tabla7[#All],16,FALSE),\"\")","v":""},{"$f":"IFERROR(VLOOKUP(Tabla38[[#This Row],[CODIGO municipio]],[3]!Tabla7[#All],17,FALSE),\"\")","v":""},{"$f":"IFERROR(VLOOKUP(Tabla38[[#This Row],[CODIGO municipio]],[3]!Tabla7[#All],18,FALSE),\"\")","v":""},{"$f":"IFERROR(VLOOKUP(Tabla38[[#This Row],[CODIGO municipio]],[3]!Tabla7[#All],19,FALSE),\"\")","v":""},{"$f":"IFERROR(VLOOKUP(Tabla38[[#This Row],[CODIGO municipio]],[3]!Tabla8[#All],3,FALSE),\"\")","v":""},{"$f":"IFERROR(VLOOKUP(Tabla38[[#This Row],[CODIGO municipio]],[3]!Tabla8[#All],4,FALSE),\"\")","v":""},{"$f":"IFERROR(VLOOKUP(Tabla38[[#This Row],[CODIGO municipio]],[3]!Tabla8[#All],5,FALSE),\"\")","v":""},{"$f":"IFERROR(VLOOKUP(Tabla38[[#This Row],[CODIGO municipio]],[3]!Tabla8[#All],6,FALSE),\"\")","v":""},{"$f":"IFERROR(VLOOKUP(Tabla38[[#This Row],[CODIGO municipio]],[3]!Tabla8[#All],7,FALSE),\"\")","v":""},{"$f":"IFERROR(VLOOKUP(Tabla38[[#This Row],[CODIGO municipio]],[3]!Tabla8[#All],8,FALSE),\"\")","v":""},{"$f":"IFERROR(VLOOKUP(Tabla38[[#This Row],[CODIGO municipio]],[3]!Tabla8[#All],9,FALSE),\"\")","v":""},{"$f":"IFERROR(VLOOKUP(Tabla38[[#This Row],[CODIGO municipio]],[3]!Tabla8[#All],10,FALSE),\"\")","v":""},{"$f":"IFERROR(VLOOKUP(Tabla38[[#This Row],[CODIGO municipio]],[3]!Tabla8[#All],11,FALSE),\"\")","v":""},{"$f":"IFERROR(VLOOKUP(Tabla38[[#This Row],[CODIGO municipio]],[3]!Tabla8[#All],12,FALSE),\"\")","v":""},{"$f":"IFERROR(VLOOKUP(Tabla38[[#This Row],[CODIGO municipio]],[3]!Tabla8[#All],13,FALSE),\"\")","v":""},{"$f":"IFERROR(VLOOKUP(Tabla38[[#This Row],[CODIGO municipio]],[3]!Tabla8[#All],14,FALSE),\"\")","v":""},{"$f":"IFERROR(VLOOKUP(Tabla38[[#This Row],[CODIGO municipio]],[3]!Tabla8[#All],15,FALSE),\"\")","v":""},{"$f":"IFERROR(VLOOKUP(Tabla38[[#This Row],[CODIGO municipio]],[3]!Tabla8[#All],16,FALSE),\"\")","v":""},{"$f":"IFERROR(VLOOKUP(Tabla38[[#This Row],[CODIGO municipio]],[3]!Tabla8[#All],17,FALSE),\"\")","v":""},{"$f":"IFERROR(VLOOKUP(Tabla38[[#This Row],[CODIGO municipio]],[3]!Tabla8[#All],18,FALSE),\"\")","v":""},{"$f":"IFERROR(VLOOKUP(Tabla38[[#This Row],[CODIGO municipio]],[3]!Tabla8[#All],19,FALSE),\"\")","v":""},{"$f":"IFERROR(VLOOKUP(Tabla38[[#This Row],[CODIGO municipio]],[3]!Tabla8[#All],20,FALSE),\"\")","v":""},{"$f":"IFERROR(VLOOKUP(Tabla38[[#This Row],[CODIGO municipio]],[3]!Tabla8[#All],21,FALSE),\"\")","v":""},{"$f":"IFERROR(VLOOKUP(Tabla38[[#This Row],[CODIGO municipio]],[3]!Tabla8[#All],22,FALSE),\"\")","v":""},{"$f":"IFERROR(VLOOKUP(Tabla38[[#This Row],[CODIGO municipio]],[3]!Tabla8[#All],23,FALSE),\"\")","v":""},{"$f":"IFERROR(VLOOKUP(Tabla38[[#This Row],[CODIGO municipio]],[3]!Tabla9[#All],3,FALSE),\"\")","v":""}]
[{"$f":"IFERROR(VLOOKUP(Tabla38[[#This Row],[Municipio]],[3]!Tabla2[#All],3,FALSE),\"\")","v":""},718,"San Pedro La Laguna",{"$f":"IFERROR(VLOOKUP(Tabla38[[#This Row],[CODIGO municipio]],[3]!Tabla6[[#All],[codigo_mun]],1,FALSE),\"\")","v":""},{"$f":"IFERROR(VLOOKUP(Tabla38[[#This Row],[CODIGO municipio]],[3]!Tabla12[#All],2,FALSE),\"\")","v":""},{"$f":"IFERROR(VLOOKUP(Tabla38[[#This Row],[CODIGO municipio]],[3]!Tabla7[#All],3,FALSE),\"\")","v":""},{"$f":"IFERROR(VLOOKUP(Tabla38[[#This Row],[CODIGO municipio]],[3]!Tabla7[#All],4,FALSE),\"\")","v":""},{"$f":"IFERROR(VLOOKUP(Tabla38[[#This Row],[CODIGO municipio]],[3]!Tabla7[#All],11,FALSE),\"\")","v":""},{"$f":"IFERROR(VLOOKUP(Tabla38[[#This Row],[CODIGO municipio]],[3]!Tabla7[#All],12,FALSE),\"\")","v":""},{"$f":"IFERROR(VLOOKUP(Tabla38[[#This Row],[CODIGO municipio]],[3]!Tabla7[#All],13,FALSE),\"\")","v":""},{"$f":"IFERROR(VLOOKUP(Tabla38[[#This Row],[CODIGO municipio]],[3]!Tabla7[#All],14,FALSE),\"\")","v":""},{"$f":"IFERROR(VLOOKUP(Tabla38[[#This Row],[CODIGO municipio]],[3]!Tabla7[#All],15,FALSE),\"\")","v":""},{"$f":"IFERROR(VLOOKUP(Tabla38[[#This Row],[CODIGO municipio]],[3]!Tabla7[#All],16,FALSE),\"\")","v":""},{"$f":"IFERROR(VLOOKUP(Tabla38[[#This Row],[CODIGO municipio]],[3]!Tabla7[#All],17,FALSE),\"\")","v":""},{"$f":"IFERROR(VLOOKUP(Tabla38[[#This Row],[CODIGO municipio]],[3]!Tabla7[#All],18,FALSE),\"\")","v":""},{"$f":"IFERROR(VLOOKUP(Tabla38[[#This Row],[CODIGO municipio]],[3]!Tabla7[#All],19,FALSE),\"\")","v":""},{"$f":"IFERROR(VLOOKUP(Tabla38[[#This Row],[CODIGO municipio]],[3]!Tabla8[#All],3,FALSE),\"\")","v":""},{"$f":"IFERROR(VLOOKUP(Tabla38[[#This Row],[CODIGO municipio]],[3]!Tabla8[#All],4,FALSE),\"\")","v":""},{"$f":"IFERROR(VLOOKUP(Tabla38[[#This Row],[CODIGO municipio]],[3]!Tabla8[#All],5,FALSE),\"\")","v":""},{"$f":"IFERROR(VLOOKUP(Tabla38[[#This Row],[CODIGO municipio]],[3]!Tabla8[#All],6,FALSE),\"\")","v":""},{"$f":"IFERROR(VLOOKUP(Tabla38[[#This Row],[CODIGO municipio]],[3]!Tabla8[#All],7,FALSE),\"\")","v":""},{"$f":"IFERROR(VLOOKUP(Tabla38[[#This Row],[CODIGO municipio]],[3]!Tabla8[#All],8,FALSE),\"\")","v":""},{"$f":"IFERROR(VLOOKUP(Tabla38[[#This Row],[CODIGO municipio]],[3]!Tabla8[#All],9,FALSE),\"\")","v":""},{"$f":"IFERROR(VLOOKUP(Tabla38[[#This Row],[CODIGO municipio]],[3]!Tabla8[#All],10,FALSE),\"\")","v":""},{"$f":"IFERROR(VLOOKUP(Tabla38[[#This Row],[CODIGO municipio]],[3]!Tabla8[#All],11,FALSE),\"\")","v":""},{"$f":"IFERROR(VLOOKUP(Tabla38[[#This Row],[CODIGO municipio]],[3]!Tabla8[#All],12,FALSE),\"\")","v":""},{"$f":"IFERROR(VLOOKUP(Tabla38[[#This Row],[CODIGO municipio]],[3]!Tabla8[#All],13,FALSE),\"\")","v":""},{"$f":"IFERROR(VLOOKUP(Tabla38[[#This Row],[CODIGO municipio]],[3]!Tabla8[#All],14,FALSE),\"\")","v":""},{"$f":"IFERROR(VLOOKUP(Tabla38[[#This Row],[CODIGO municipio]],[3]!Tabla8[#All],15,FALSE),\"\")","v":""},{"$f":"IFERROR(VLOOKUP(Tabla38[[#This Row],[CODIGO municipio]],[3]!Tabla8[#All],16,FALSE),\"\")","v":""},{"$f":"IFERROR(VLOOKUP(Tabla38[[#This Row],[CODIGO municipio]],[3]!Tabla8[#All],17,FALSE),\"\")","v":""},{"$f":"IFERROR(VLOOKUP(Tabla38[[#This Row],[CODIGO municipio]],[3]!Tabla8[#All],18,FALSE),\"\")","v":""},{"$f":"IFERROR(VLOOKUP(Tabla38[[#This Row],[CODIGO municipio]],[3]!Tabla8[#All],19,FALSE),\"\")","v":""},{"$f":"IFERROR(VLOOKUP(Tabla38[[#This Row],[CODIGO municipio]],[3]!Tabla8[#All],20,FALSE),\"\")","v":""},{"$f":"IFERROR(VLOOKUP(Tabla38[[#This Row],[CODIGO municipio]],[3]!Tabla8[#All],21,FALSE),\"\")","v":""},{"$f":"IFERROR(VLOOKUP(Tabla38[[#This Row],[CODIGO municipio]],[3]!Tabla8[#All],22,FALSE),\"\")","v":""},{"$f":"IFERROR(VLOOKUP(Tabla38[[#This Row],[CODIGO municipio]],[3]!Tabla8[#All],23,FALSE),\"\")","v":""},{"$f":"IFERROR(VLOOKUP(Tabla38[[#This Row],[CODIGO municipio]],[3]!Tabla9[#All],3,FALSE),\"\")","v":""}]
[{"$f":"IFERROR(VLOOKUP(Tabla38[[#This Row],[Municipio]],[3]!Tabla2[#All],3,FALSE),\"\")","v":""},719,"Santiago Atitlán",{"$f":"IFERROR(VLOOKUP(Tabla38[[#This Row],[CODIGO municipio]],[3]!Tabla6[[#All],[codigo_mun]],1,FALSE),\"\")","v":""},{"$f":"IFERROR(VLOOKUP(Tabla38[[#This Row],[CODIGO municipio]],[3]!Tabla12[#All],2,FALSE),\"\")","v":""},{"$f":"IFERROR(VLOOKUP(Tabla38[[#This Row],[CODIGO municipio]],[3]!Tabla7[#All],3,FALSE),\"\")","v":""},{"$f":"IFERROR(VLOOKUP(Tabla38[[#This Row],[CODIGO municipio]],[3]!Tabla7[#All],4,FALSE),\"\")","v":""},{"$f":"IFERROR(VLOOKUP(Tabla38[[#This Row],[CODIGO municipio]],[3]!Tabla7[#All],11,FALSE),\"\")","v":""},{"$f":"IFERROR(VLOOKUP(Tabla38[[#This Row],[CODIGO municipio]],[3]!Tabla7[#All],12,FALSE),\"\")","v":""},{"$f":"IFERROR(VLOOKUP(Tabla38[[#This Row],[CODIGO municipio]],[3]!Tabla7[#All],13,FALSE),\"\")","v":""},{"$f":"IFERROR(VLOOKUP(Tabla38[[#This Row],[CODIGO municipio]],[3]!Tabla7[#All],14,FALSE),\"\")","v":""},{"$f":"IFERROR(VLOOKUP(Tabla38[[#This Row],[CODIGO municipio]],[3]!Tabla7[#All],15,FALSE),\"\")","v":""},{"$f":"IFERROR(VLOOKUP(Tabla38[[#This Row],[CODIGO municipio]],[3]!Tabla7[#All],16,FALSE),\"\")","v":""},{"$f":"IFERROR(VLOOKUP(Tabla38[[#This Row],[CODIGO municipio]],[3]!Tabla7[#All],17,FALSE),\"\")","v":""},{"$f":"IFERROR(VLOOKUP(Tabla38[[#This Row],[CODIGO municipio]],[3]!Tabla7[#All],18,FALSE),\"\")","v":""},{"$f":"IFERROR(VLOOKUP(Tabla38[[#This Row],[CODIGO municipio]],[3]!Tabla7[#All],19,FALSE),\"\")","v":""},{"$f":"IFERROR(VLOOKUP(Tabla38[[#This Row],[CODIGO municipio]],[3]!Tabla8[#All],3,FALSE),\"\")","v":""},{"$f":"IFERROR(VLOOKUP(Tabla38[[#This Row],[CODIGO municipio]],[3]!Tabla8[#All],4,FALSE),\"\")","v":""},{"$f":"IFERROR(VLOOKUP(Tabla38[[#This Row],[CODIGO municipio]],[3]!Tabla8[#All],5,FALSE),\"\")","v":""},{"$f":"IFERROR(VLOOKUP(Tabla38[[#This Row],[CODIGO municipio]],[3]!Tabla8[#All],6,FALSE),\"\")","v":""},{"$f":"IFERROR(VLOOKUP(Tabla38[[#This Row],[CODIGO municipio]],[3]!Tabla8[#All],7,FALSE),\"\")","v":""},{"$f":"IFERROR(VLOOKUP(Tabla38[[#This Row],[CODIGO municipio]],[3]!Tabla8[#All],8,FALSE),\"\")","v":""},{"$f":"IFERROR(VLOOKUP(Tabla38[[#This Row],[CODIGO municipio]],[3]!Tabla8[#All],9,FALSE),\"\")","v":""},{"$f":"IFERROR(VLOOKUP(Tabla38[[#This Row],[CODIGO municipio]],[3]!Tabla8[#All],10,FALSE),\"\")","v":""},{"$f":"IFERROR(VLOOKUP(Tabla38[[#This Row],[CODIGO municipio]],[3]!Tabla8[#All],11,FALSE),\"\")","v":""},{"$f":"IFERROR(VLOOKUP(Tabla38[[#This Row],[CODIGO municipio]],[3]!Tabla8[#All],12,FALSE),\"\")","v":""},{"$f":"IFERROR(VLOOKUP(Tabla38[[#This Row],[CODIGO municipio]],[3]!Tabla8[#All],13,FALSE),\"\")","v":""},{"$f":"IFERROR(VLOOKUP(Tabla38[[#This Row],[CODIGO municipio]],[3]!Tabla8[#All],14,FALSE),\"\")","v":""},{"$f":"IFERROR(VLOOKUP(Tabla38[[#This Row],[CODIGO municipio]],[3]!Tabla8[#All],15,FALSE),\"\")","v":""},{"$f":"IFERROR(VLOOKUP(Tabla38[[#This Row],[CODIGO municipio]],[3]!Tabla8[#All],16,FALSE),\"\")","v":""},{"$f":"IFERROR(VLOOKUP(Tabla38[[#This Row],[CODIGO municipio]],[3]!Tabla8[#All],17,FALSE),\"\")","v":""},{"$f":"IFERROR(VLOOKUP(Tabla38[[#This Row],[CODIGO municipio]],[3]!Tabla8[#All],18,FALSE),\"\")","v":""},{"$f":"IFERROR(VLOOKUP(Tabla38[[#This Row],[CODIGO municipio]],[3]!Tabla8[#All],19,FALSE),\"\")","v":""},{"$f":"IFERROR(VLOOKUP(Tabla38[[#This Row],[CODIGO municipio]],[3]!Tabla8[#All],20,FALSE),\"\")","v":""},{"$f":"IFERROR(VLOOKUP(Tabla38[[#This Row],[CODIGO municipio]],[3]!Tabla8[#All],21,FALSE),\"\")","v":""},{"$f":"IFERROR(VLOOKUP(Tabla38[[#This Row],[CODIGO municipio]],[3]!Tabla8[#All],22,FALSE),\"\")","v":""},{"$f":"IFERROR(VLOOKUP(Tabla38[[#This Row],[CODIGO municipio]],[3]!Tabla8[#All],23,FALSE),\"\")","v":""},{"$f":"IFERROR(VLOOKUP(Tabla38[[#This Row],[CODIGO municipio]],[3]!Tabla9[#All],3,FALSE),\"\")","v":""}]
[{"$f":"IFERROR(VLOOKUP(Tabla38[[#This Row],[Municipio]],[3]!Tabla2[#All],3,FALSE),\"\")","v":""},801,"Totonicapán",{"$f":"IFERROR(VLOOKUP(Tabla38[[#This Row],[CODIGO municipio]],[3]!Tabla6[[#All],[codigo_mun]],1,FALSE),\"\")","v":""},{"$f":"IFERROR(VLOOKUP(Tabla38[[#This Row],[CODIGO municipio]],[3]!Tabla12[#All],2,FALSE),\"\")","v":""},{"$f":"IFERROR(VLOOKUP(Tabla38[[#This Row],[CODIGO municipio]],[3]!Tabla7[#All],3,FALSE),\"\")","v":""},{"$f":"IFERROR(VLOOKUP(Tabla38[[#This Row],[CODIGO municipio]],[3]!Tabla7[#All],4,FALSE),\"\")","v":""},{"$f":"IFERROR(VLOOKUP(Tabla38[[#This Row],[CODIGO municipio]],[3]!Tabla7[#All],11,FALSE),\"\")","v":""},{"$f":"IFERROR(VLOOKUP(Tabla38[[#This Row],[CODIGO municipio]],[3]!Tabla7[#All],12,FALSE),\"\")","v":""},{"$f":"IFERROR(VLOOKUP(Tabla38[[#This Row],[CODIGO municipio]],[3]!Tabla7[#All],13,FALSE),\"\")","v":""},{"$f":"IFERROR(VLOOKUP(Tabla38[[#This Row],[CODIGO municipio]],[3]!Tabla7[#All],14,FALSE),\"\")","v":""},{"$f":"IFERROR(VLOOKUP(Tabla38[[#This Row],[CODIGO municipio]],[3]!Tabla7[#All],15,FALSE),\"\")","v":""},{"$f":"IFERROR(VLOOKUP(Tabla38[[#This Row],[CODIGO municipio]],[3]!Tabla7[#All],16,FALSE),\"\")","v":""},{"$f":"IFERROR(VLOOKUP(Tabla38[[#This Row],[CODIGO municipio]],[3]!Tabla7[#All],17,FALSE),\"\")","v":""},{"$f":"IFERROR(VLOOKUP(Tabla38[[#This Row],[CODIGO municipio]],[3]!Tabla7[#All],18,FALSE),\"\")","v":""},{"$f":"IFERROR(VLOOKUP(Tabla38[[#This Row],[CODIGO municipio]],[3]!Tabla7[#All],19,FALSE),\"\")","v":""},{"$f":"IFERROR(VLOOKUP(Tabla38[[#This Row],[CODIGO municipio]],[3]!Tabla8[#All],3,FALSE),\"\")","v":""},{"$f":"IFERROR(VLOOKUP(Tabla38[[#This Row],[CODIGO municipio]],[3]!Tabla8[#All],4,FALSE),\"\")","v":""},{"$f":"IFERROR(VLOOKUP(Tabla38[[#This Row],[CODIGO municipio]],[3]!Tabla8[#All],5,FALSE),\"\")","v":""},{"$f":"IFERROR(VLOOKUP(Tabla38[[#This Row],[CODIGO municipio]],[3]!Tabla8[#All],6,FALSE),\"\")","v":""},{"$f":"IFERROR(VLOOKUP(Tabla38[[#This Row],[CODIGO municipio]],[3]!Tabla8[#All],7,FALSE),\"\")","v":""},{"$f":"IFERROR(VLOOKUP(Tabla38[[#This Row],[CODIGO municipio]],[3]!Tabla8[#All],8,FALSE),\"\")","v":""},{"$f":"IFERROR(VLOOKUP(Tabla38[[#This Row],[CODIGO municipio]],[3]!Tabla8[#All],9,FALSE),\"\")","v":""},{"$f":"IFERROR(VLOOKUP(Tabla38[[#This Row],[CODIGO municipio]],[3]!Tabla8[#All],10,FALSE),\"\")","v":""},{"$f":"IFERROR(VLOOKUP(Tabla38[[#This Row],[CODIGO municipio]],[3]!Tabla8[#All],11,FALSE),\"\")","v":""},{"$f":"IFERROR(VLOOKUP(Tabla38[[#This Row],[CODIGO municipio]],[3]!Tabla8[#All],12,FALSE),\"\")","v":""},{"$f":"IFERROR(VLOOKUP(Tabla38[[#This Row],[CODIGO municipio]],[3]!Tabla8[#All],13,FALSE),\"\")","v":""},{"$f":"IFERROR(VLOOKUP(Tabla38[[#This Row],[CODIGO municipio]],[3]!Tabla8[#All],14,FALSE),\"\")","v":""},{"$f":"IFERROR(VLOOKUP(Tabla38[[#This Row],[CODIGO municipio]],[3]!Tabla8[#All],15,FALSE),\"\")","v":""},{"$f":"IFERROR(VLOOKUP(Tabla38[[#This Row],[CODIGO municipio]],[3]!Tabla8[#All],16,FALSE),\"\")","v":""},{"$f":"IFERROR(VLOOKUP(Tabla38[[#This Row],[CODIGO municipio]],[3]!Tabla8[#All],17,FALSE),\"\")","v":""},{"$f":"IFERROR(VLOOKUP(Tabla38[[#This Row],[CODIGO municipio]],[3]!Tabla8[#All],18,FALSE),\"\")","v":""},{"$f":"IFERROR(VLOOKUP(Tabla38[[#This Row],[CODIGO municipio]],[3]!Tabla8[#All],19,FALSE),\"\")","v":""},{"$f":"IFERROR(VLOOKUP(Tabla38[[#This Row],[CODIGO municipio]],[3]!Tabla8[#All],20,FALSE),\"\")","v":""},{"$f":"IFERROR(VLOOKUP(Tabla38[[#This Row],[CODIGO municipio]],[3]!Tabla8[#All],21,FALSE),\"\")","v":""},{"$f":"IFERROR(VLOOKUP(Tabla38[[#This Row],[CODIGO municipio]],[3]!Tabla8[#All],22,FALSE),\"\")","v":""},{"$f":"IFERROR(VLOOKUP(Tabla38[[#This Row],[CODIGO municipio]],[3]!Tabla8[#All],23,FALSE),\"\")","v":""},{"$f":"IFERROR(VLOOKUP(Tabla38[[#This Row],[CODIGO municipio]],[3]!Tabla9[#All],3,FALSE),\"\")","v":""}]
[{"$f":"IFERROR(VLOOKUP(Tabla38[[#This Row],[Municipio]],[3]!Tabla2[#All],3,FALSE),\"\")","v":""},802,"San Cristóbal Totonicapán",{"$f":"IFERROR(VLOOKUP(Tabla38[[#This Row],[CODIGO municipio]],[3]!Tabla6[[#All],[codigo_mun]],1,FALSE),\"\")","v":""},{"$f":"IFERROR(VLOOKUP(Tabla38[[#This Row],[CODIGO municipio]],[3]!Tabla12[#All],2,FALSE),\"\")","v":""},{"$f":"IFERROR(VLOOKUP(Tabla38[[#This Row],[CODIGO municipio]],[3]!Tabla7[#All],3,FALSE),\"\")","v":""},{"$f":"IFERROR(VLOOKUP(Tabla38[[#This Row],[CODIGO municipio]],[3]!Tabla7[#All],4,FALSE),\"\")","v":""},{"$f":"IFERROR(VLOOKUP(Tabla38[[#This Row],[CODIGO municipio]],[3]!Tabla7[#All],11,FALSE),\"\")","v":""},{"$f":"IFERROR(VLOOKUP(Tabla38[[#This Row],[CODIGO municipio]],[3]!Tabla7[#All],12,FALSE),\"\")","v":""},{"$f":"IFERROR(VLOOKUP(Tabla38[[#This Row],[CODIGO municipio]],[3]!Tabla7[#All],13,FALSE),\"\")","v":""},{"$f":"IFERROR(VLOOKUP(Tabla38[[#This Row],[CODIGO municipio]],[3]!Tabla7[#All],14,FALSE),\"\")","v":""},{"$f":"IFERROR(VLOOKUP(Tabla38[[#This Row],[CODIGO municipio]],[3]!Tabla7[#All],15,FALSE),\"\")","v":""},{"$f":"IFERROR(VLOOKUP(Tabla38[[#This Row],[CODIGO municipio]],[3]!Tabla7[#All],16,FALSE),\"\")","v":""},{"$f":"IFERROR(VLOOKUP(Tabla38[[#This Row],[CODIGO municipio]],[3]!Tabla7[#All],17,FALSE),\"\")","v":""},{"$f":"IFERROR(VLOOKUP(Tabla38[[#This Row],[CODIGO municipio]],[3]!Tabla7[#All],18,FALSE),\"\")","v":""},{"$f":"IFERROR(VLOOKUP(Tabla38[[#This Row],[CODIGO municipio]],[3]!Tabla7[#All],19,FALSE),\"\")","v":""},{"$f":"IFERROR(VLOOKUP(Tabla38[[#This Row],[CODIGO municipio]],[3]!Tabla8[#All],3,FALSE),\"\")","v":""},{"$f":"IFERROR(VLOOKUP(Tabla38[[#This Row],[CODIGO municipio]],[3]!Tabla8[#All],4,FALSE),\"\")","v":""},{"$f":"IFERROR(VLOOKUP(Tabla38[[#This Row],[CODIGO municipio]],[3]!Tabla8[#All],5,FALSE),\"\")","v":""},{"$f":"IFERROR(VLOOKUP(Tabla38[[#This Row],[CODIGO municipio]],[3]!Tabla8[#All],6,FALSE),\"\")","v":""},{"$f":"IFERROR(VLOOKUP(Tabla38[[#This Row],[CODIGO municipio]],[3]!Tabla8[#All],7,FALSE),\"\")","v":""},{"$f":"IFERROR(VLOOKUP(Tabla38[[#This Row],[CODIGO municipio]],[3]!Tabla8[#All],8,FALSE),\"\")","v":""},{"$f":"IFERROR(VLOOKUP(Tabla38[[#This Row],[CODIGO municipio]],[3]!Tabla8[#All],9,FALSE),\"\")","v":""},{"$f":"IFERROR(VLOOKUP(Tabla38[[#This Row],[CODIGO municipio]],[3]!Tabla8[#All],10,FALSE),\"\")","v":""},{"$f":"IFERROR(VLOOKUP(Tabla38[[#This Row],[CODIGO municipio]],[3]!Tabla8[#All],11,FALSE),\"\")","v":""},{"$f":"IFERROR(VLOOKUP(Tabla38[[#This Row],[CODIGO municipio]],[3]!Tabla8[#All],12,FALSE),\"\")","v":""},{"$f":"IFERROR(VLOOKUP(Tabla38[[#This Row],[CODIGO municipio]],[3]!Tabla8[#All],13,FALSE),\"\")","v":""},{"$f":"IFERROR(VLOOKUP(Tabla38[[#This Row],[CODIGO municipio]],[3]!Tabla8[#All],14,FALSE),\"\")","v":""},{"$f":"IFERROR(VLOOKUP(Tabla38[[#This Row],[CODIGO municipio]],[3]!Tabla8[#All],15,FALSE),\"\")","v":""},{"$f":"IFERROR(VLOOKUP(Tabla38[[#This Row],[CODIGO municipio]],[3]!Tabla8[#All],16,FALSE),\"\")","v":""},{"$f":"IFERROR(VLOOKUP(Tabla38[[#This Row],[CODIGO municipio]],[3]!Tabla8[#All],17,FALSE),\"\")","v":""},{"$f":"IFERROR(VLOOKUP(Tabla38[[#This Row],[CODIGO municipio]],[3]!Tabla8[#All],18,FALSE),\"\")","v":""},{"$f":"IFERROR(VLOOKUP(Tabla38[[#This Row],[CODIGO municipio]],[3]!Tabla8[#All],19,FALSE),\"\")","v":""},{"$f":"IFERROR(VLOOKUP(Tabla38[[#This Row],[CODIGO municipio]],[3]!Tabla8[#All],20,FALSE),\"\")","v":""},{"$f":"IFERROR(VLOOKUP(Tabla38[[#This Row],[CODIGO municipio]],[3]!Tabla8[#All],21,FALSE),\"\")","v":""},{"$f":"IFERROR(VLOOKUP(Tabla38[[#This Row],[CODIGO municipio]],[3]!Tabla8[#All],22,FALSE),\"\")","v":""},{"$f":"IFERROR(VLOOKUP(Tabla38[[#This Row],[CODIGO municipio]],[3]!Tabla8[#All],23,FALSE),\"\")","v":""},{"$f":"IFERROR(VLOOKUP(Tabla38[[#This Row],[CODIGO municipio]],[3]!Tabla9[#All],3,FALSE),\"\")","v":""}]
[{"$f":"IFERROR(VLOOKUP(Tabla38[[#This Row],[Municipio]],[3]!Tabla2[#All],3,FALSE),\"\")","v":""},803,"San Francisco El Alto",{"$f":"IFERROR(VLOOKUP(Tabla38[[#This Row],[CODIGO municipio]],[3]!Tabla6[[#All],[codigo_mun]],1,FALSE),\"\")","v":""},{"$f":"IFERROR(VLOOKUP(Tabla38[[#This Row],[CODIGO municipio]],[3]!Tabla12[#All],2,FALSE),\"\")","v":""},{"$f":"IFERROR(VLOOKUP(Tabla38[[#This Row],[CODIGO municipio]],[3]!Tabla7[#All],3,FALSE),\"\")","v":""},{"$f":"IFERROR(VLOOKUP(Tabla38[[#This Row],[CODIGO municipio]],[3]!Tabla7[#All],4,FALSE),\"\")","v":""},{"$f":"IFERROR(VLOOKUP(Tabla38[[#This Row],[CODIGO municipio]],[3]!Tabla7[#All],11,FALSE),\"\")","v":""},{"$f":"IFERROR(VLOOKUP(Tabla38[[#This Row],[CODIGO municipio]],[3]!Tabla7[#All],12,FALSE),\"\")","v":""},{"$f":"IFERROR(VLOOKUP(Tabla38[[#This Row],[CODIGO municipio]],[3]!Tabla7[#All],13,FALSE),\"\")","v":""},{"$f":"IFERROR(VLOOKUP(Tabla38[[#This Row],[CODIGO municipio]],[3]!Tabla7[#All],14,FALSE),\"\")","v":""},{"$f":"IFERROR(VLOOKUP(Tabla38[[#This Row],[CODIGO municipio]],[3]!Tabla7[#All],15,FALSE),\"\")","v":""},{"$f":"IFERROR(VLOOKUP(Tabla38[[#This Row],[CODIGO municipio]],[3]!Tabla7[#All],16,FALSE),\"\")","v":""},{"$f":"IFERROR(VLOOKUP(Tabla38[[#This Row],[CODIGO municipio]],[3]!Tabla7[#All],17,FALSE),\"\")","v":""},{"$f":"IFERROR(VLOOKUP(Tabla38[[#This Row],[CODIGO municipio]],[3]!Tabla7[#All],18,FALSE),\"\")","v":""},{"$f":"IFERROR(VLOOKUP(Tabla38[[#This Row],[CODIGO municipio]],[3]!Tabla7[#All],19,FALSE),\"\")","v":""},{"$f":"IFERROR(VLOOKUP(Tabla38[[#This Row],[CODIGO municipio]],[3]!Tabla8[#All],3,FALSE),\"\")","v":""},{"$f":"IFERROR(VLOOKUP(Tabla38[[#This Row],[CODIGO municipio]],[3]!Tabla8[#All],4,FALSE),\"\")","v":""},{"$f":"IFERROR(VLOOKUP(Tabla38[[#This Row],[CODIGO municipio]],[3]!Tabla8[#All],5,FALSE),\"\")","v":""},{"$f":"IFERROR(VLOOKUP(Tabla38[[#This Row],[CODIGO municipio]],[3]!Tabla8[#All],6,FALSE),\"\")","v":""},{"$f":"IFERROR(VLOOKUP(Tabla38[[#This Row],[CODIGO municipio]],[3]!Tabla8[#All],7,FALSE),\"\")","v":""},{"$f":"IFERROR(VLOOKUP(Tabla38[[#This Row],[CODIGO municipio]],[3]!Tabla8[#All],8,FALSE),\"\")","v":""},{"$f":"IFERROR(VLOOKUP(Tabla38[[#This Row],[CODIGO municipio]],[3]!Tabla8[#All],9,FALSE),\"\")","v":""},{"$f":"IFERROR(VLOOKUP(Tabla38[[#This Row],[CODIGO municipio]],[3]!Tabla8[#All],10,FALSE),\"\")","v":""},{"$f":"IFERROR(VLOOKUP(Tabla38[[#This Row],[CODIGO municipio]],[3]!Tabla8[#All],11,FALSE),\"\")","v":""},{"$f":"IFERROR(VLOOKUP(Tabla38[[#This Row],[CODIGO municipio]],[3]!Tabla8[#All],12,FALSE),\"\")","v":""},{"$f":"IFERROR(VLOOKUP(Tabla38[[#This Row],[CODIGO municipio]],[3]!Tabla8[#All],13,FALSE),\"\")","v":""},{"$f":"IFERROR(VLOOKUP(Tabla38[[#This Row],[CODIGO municipio]],[3]!Tabla8[#All],14,FALSE),\"\")","v":""},{"$f":"IFERROR(VLOOKUP(Tabla38[[#This Row],[CODIGO municipio]],[3]!Tabla8[#All],15,FALSE),\"\")","v":""},{"$f":"IFERROR(VLOOKUP(Tabla38[[#This Row],[CODIGO municipio]],[3]!Tabla8[#All],16,FALSE),\"\")","v":""},{"$f":"IFERROR(VLOOKUP(Tabla38[[#This Row],[CODIGO municipio]],[3]!Tabla8[#All],17,FALSE),\"\")","v":""},{"$f":"IFERROR(VLOOKUP(Tabla38[[#This Row],[CODIGO municipio]],[3]!Tabla8[#All],18,FALSE),\"\")","v":""},{"$f":"IFERROR(VLOOKUP(Tabla38[[#This Row],[CODIGO municipio]],[3]!Tabla8[#All],19,FALSE),\"\")","v":""},{"$f":"IFERROR(VLOOKUP(Tabla38[[#This Row],[CODIGO municipio]],[3]!Tabla8[#All],20,FALSE),\"\")","v":""},{"$f":"IFERROR(VLOOKUP(Tabla38[[#This Row],[CODIGO municipio]],[3]!Tabla8[#All],21,FALSE),\"\")","v":""},{"$f":"IFERROR(VLOOKUP(Tabla38[[#This Row],[CODIGO municipio]],[3]!Tabla8[#All],22,FALSE),\"\")","v":""},{"$f":"IFERROR(VLOOKUP(Tabla38[[#This Row],[CODIGO municipio]],[3]!Tabla8[#All],23,FALSE),\"\")","v":""},{"$f":"IFERROR(VLOOKUP(Tabla38[[#This Row],[CODIGO municipio]],[3]!Tabla9[#All],3,FALSE),\"\")","v":""}]
[{"$f":"IFERROR(VLOOKUP(Tabla38[[#This Row],[Municipio]],[3]!Tabla2[#All],3,FALSE),\"\")","v":""},804,"San Andrés Xecul",{"$f":"IFERROR(VLOOKUP(Tabla38[[#This Row],[CODIGO municipio]],[3]!Tabla6[[#All],[codigo_mun]],1,FALSE),\"\")","v":""},{"$f":"IFERROR(VLOOKUP(Tabla38[[#This Row],[CODIGO municipio]],[3]!Tabla12[#All],2,FALSE),\"\")","v":""},{"$f":"IFERROR(VLOOKUP(Tabla38[[#This Row],[CODIGO municipio]],[3]!Tabla7[#All],3,FALSE),\"\")","v":""},{"$f":"IFERROR(VLOOKUP(Tabla38[[#This Row],[CODIGO municipio]],[3]!Tabla7[#All],4,FALSE),\"\")","v":""},{"$f":"IFERROR(VLOOKUP(Tabla38[[#This Row],[CODIGO municipio]],[3]!Tabla7[#All],11,FALSE),\"\")","v":""},{"$f":"IFERROR(VLOOKUP(Tabla38[[#This Row],[CODIGO municipio]],[3]!Tabla7[#All],12,FALSE),\"\")","v":""},{"$f":"IFERROR(VLOOKUP(Tabla38[[#This Row],[CODIGO municipio]],[3]!Tabla7[#All],13,FALSE),\"\")","v":""},{"$f":"IFERROR(VLOOKUP(Tabla38[[#This Row],[CODIGO municipio]],[3]!Tabla7[#All],14,FALSE),\"\")","v":""},{"$f":"IFERROR(VLOOKUP(Tabla38[[#This Row],[CODIGO municipio]],[3]!Tabla7[#All],15,FALSE),\"\")","v":""},{"$f":"IFERROR(VLOOKUP(Tabla38[[#This Row],[CODIGO municipio]],[3]!Tabla7[#All],16,FALSE),\"\")","v":""},{"$f":"IFERROR(VLOOKUP(Tabla38[[#This Row],[CODIGO municipio]],[3]!Tabla7[#All],17,FALSE),\"\")","v":""},{"$f":"IFERROR(VLOOKUP(Tabla38[[#This Row],[CODIGO municipio]],[3]!Tabla7[#All],18,FALSE),\"\")","v":""},{"$f":"IFERROR(VLOOKUP(Tabla38[[#This Row],[CODIGO municipio]],[3]!Tabla7[#All],19,FALSE),\"\")","v":""},{"$f":"IFERROR(VLOOKUP(Tabla38[[#This Row],[CODIGO municipio]],[3]!Tabla8[#All],3,FALSE),\"\")","v":""},{"$f":"IFERROR(VLOOKUP(Tabla38[[#This Row],[CODIGO municipio]],[3]!Tabla8[#All],4,FALSE),\"\")","v":""},{"$f":"IFERROR(VLOOKUP(Tabla38[[#This Row],[CODIGO municipio]],[3]!Tabla8[#All],5,FALSE),\"\")","v":""},{"$f":"IFERROR(VLOOKUP(Tabla38[[#This Row],[CODIGO municipio]],[3]!Tabla8[#All],6,FALSE),\"\")","v":""},{"$f":"IFERROR(VLOOKUP(Tabla38[[#This Row],[CODIGO municipio]],[3]!Tabla8[#All],7,FALSE),\"\")","v":""},{"$f":"IFERROR(VLOOKUP(Tabla38[[#This Row],[CODIGO municipio]],[3]!Tabla8[#All],8,FALSE),\"\")","v":""},{"$f":"IFERROR(VLOOKUP(Tabla38[[#This Row],[CODIGO municipio]],[3]!Tabla8[#All],9,FALSE),\"\")","v":""},{"$f":"IFERROR(VLOOKUP(Tabla38[[#This Row],[CODIGO municipio]],[3]!Tabla8[#All],10,FALSE),\"\")","v":""},{"$f":"IFERROR(VLOOKUP(Tabla38[[#This Row],[CODIGO municipio]],[3]!Tabla8[#All],11,FALSE),\"\")","v":""},{"$f":"IFERROR(VLOOKUP(Tabla38[[#This Row],[CODIGO municipio]],[3]!Tabla8[#All],12,FALSE),\"\")","v":""},{"$f":"IFERROR(VLOOKUP(Tabla38[[#This Row],[CODIGO municipio]],[3]!Tabla8[#All],13,FALSE),\"\")","v":""},{"$f":"IFERROR(VLOOKUP(Tabla38[[#This Row],[CODIGO municipio]],[3]!Tabla8[#All],14,FALSE),\"\")","v":""},{"$f":"IFERROR(VLOOKUP(Tabla38[[#This Row],[CODIGO municipio]],[3]!Tabla8[#All],15,FALSE),\"\")","v":""},{"$f":"IFERROR(VLOOKUP(Tabla38[[#This Row],[CODIGO municipio]],[3]!Tabla8[#All],16,FALSE),\"\")","v":""},{"$f":"IFERROR(VLOOKUP(Tabla38[[#This Row],[CODIGO municipio]],[3]!Tabla8[#All],17,FALSE),\"\")","v":""},{"$f":"IFERROR(VLOOKUP(Tabla38[[#This Row],[CODIGO municipio]],[3]!Tabla8[#All],18,FALSE),\"\")","v":""},{"$f":"IFERROR(VLOOKUP(Tabla38[[#This Row],[CODIGO municipio]],[3]!Tabla8[#All],19,FALSE),\"\")","v":""},{"$f":"IFERROR(VLOOKUP(Tabla38[[#This Row],[CODIGO municipio]],[3]!Tabla8[#All],20,FALSE),\"\")","v":""},{"$f":"IFERROR(VLOOKUP(Tabla38[[#This Row],[CODIGO municipio]],[3]!Tabla8[#All],21,FALSE),\"\")","v":""},{"$f":"IFERROR(VLOOKUP(Tabla38[[#This Row],[CODIGO municipio]],[3]!Tabla8[#All],22,FALSE),\"\")","v":""},{"$f":"IFERROR(VLOOKUP(Tabla38[[#This Row],[CODIGO municipio]],[3]!Tabla8[#All],23,FALSE),\"\")","v":""},{"$f":"IFERROR(VLOOKUP(Tabla38[[#This Row],[CODIGO municipio]],[3]!Tabla9[#All],3,FALSE),\"\")","v":""}]
[{"$f":"IFERROR(VLOOKUP(Tabla38[[#This Row],[Municipio]],[3]!Tabla2[#All],3,FALSE),\"\")","v":""},805,"Momostenango",{"$f":"IFERROR(VLOOKUP(Tabla38[[#This Row],[CODIGO municipio]],[3]!Tabla6[[#All],[codigo_mun]],1,FALSE),\"\")","v":""},{"$f":"IFERROR(VLOOKUP(Tabla38[[#This Row],[CODIGO municipio]],[3]!Tabla12[#All],2,FALSE),\"\")","v":""},{"$f":"IFERROR(VLOOKUP(Tabla38[[#This Row],[CODIGO municipio]],[3]!Tabla7[#All],3,FALSE),\"\")","v":""},{"$f":"IFERROR(VLOOKUP(Tabla38[[#This Row],[CODIGO municipio]],[3]!Tabla7[#All],4,FALSE),\"\")","v":""},{"$f":"IFERROR(VLOOKUP(Tabla38[[#This Row],[CODIGO municipio]],[3]!Tabla7[#All],11,FALSE),\"\")","v":""},{"$f":"IFERROR(VLOOKUP(Tabla38[[#This Row],[CODIGO municipio]],[3]!Tabla7[#All],12,FALSE),\"\")","v":""},{"$f":"IFERROR(VLOOKUP(Tabla38[[#This Row],[CODIGO municipio]],[3]!Tabla7[#All],13,FALSE),\"\")","v":""},{"$f":"IFERROR(VLOOKUP(Tabla38[[#This Row],[CODIGO municipio]],[3]!Tabla7[#All],14,FALSE),\"\")","v":""},{"$f":"IFERROR(VLOOKUP(Tabla38[[#This Row],[CODIGO municipio]],[3]!Tabla7[#All],15,FALSE),\"\")","v":""},{"$f":"IFERROR(VLOOKUP(Tabla38[[#This Row],[CODIGO municipio]],[3]!Tabla7[#All],16,FALSE),\"\")","v":""},{"$f":"IFERROR(VLOOKUP(Tabla38[[#This Row],[CODIGO municipio]],[3]!Tabla7[#All],17,FALSE),\"\")","v":""},{"$f":"IFERROR(VLOOKUP(Tabla38[[#This Row],[CODIGO municipio]],[3]!Tabla7[#All],18,FALSE),\"\")","v":""},{"$f":"IFERROR(VLOOKUP(Tabla38[[#This Row],[CODIGO municipio]],[3]!Tabla7[#All],19,FALSE),\"\")","v":""},{"$f":"IFERROR(VLOOKUP(Tabla38[[#This Row],[CODIGO municipio]],[3]!Tabla8[#All],3,FALSE),\"\")","v":""},{"$f":"IFERROR(VLOOKUP(Tabla38[[#This Row],[CODIGO municipio]],[3]!Tabla8[#All],4,FALSE),\"\")","v":""},{"$f":"IFERROR(VLOOKUP(Tabla38[[#This Row],[CODIGO municipio]],[3]!Tabla8[#All],5,FALSE),\"\")","v":""},{"$f":"IFERROR(VLOOKUP(Tabla38[[#This Row],[CODIGO municipio]],[3]!Tabla8[#All],6,FALSE),\"\")","v":""},{"$f":"IFERROR(VLOOKUP(Tabla38[[#This Row],[CODIGO municipio]],[3]!Tabla8[#All],7,FALSE),\"\")","v":""},{"$f":"IFERROR(VLOOKUP(Tabla38[[#This Row],[CODIGO municipio]],[3]!Tabla8[#All],8,FALSE),\"\")","v":""},{"$f":"IFERROR(VLOOKUP(Tabla38[[#This Row],[CODIGO municipio]],[3]!Tabla8[#All],9,FALSE),\"\")","v":""},{"$f":"IFERROR(VLOOKUP(Tabla38[[#This Row],[CODIGO municipio]],[3]!Tabla8[#All],10,FALSE),\"\")","v":""},{"$f":"IFERROR(VLOOKUP(Tabla38[[#This Row],[CODIGO municipio]],[3]!Tabla8[#All],11,FALSE),\"\")","v":""},{"$f":"IFERROR(VLOOKUP(Tabla38[[#This Row],[CODIGO municipio]],[3]!Tabla8[#All],12,FALSE),\"\")","v":""},{"$f":"IFERROR(VLOOKUP(Tabla38[[#This Row],[CODIGO municipio]],[3]!Tabla8[#All],13,FALSE),\"\")","v":""},{"$f":"IFERROR(VLOOKUP(Tabla38[[#This Row],[CODIGO municipio]],[3]!Tabla8[#All],14,FALSE),\"\")","v":""},{"$f":"IFERROR(VLOOKUP(Tabla38[[#This Row],[CODIGO municipio]],[3]!Tabla8[#All],15,FALSE),\"\")","v":""},{"$f":"IFERROR(VLOOKUP(Tabla38[[#This Row],[CODIGO municipio]],[3]!Tabla8[#All],16,FALSE),\"\")","v":""},{"$f":"IFERROR(VLOOKUP(Tabla38[[#This Row],[CODIGO municipio]],[3]!Tabla8[#All],17,FALSE),\"\")","v":""},{"$f":"IFERROR(VLOOKUP(Tabla38[[#This Row],[CODIGO municipio]],[3]!Tabla8[#All],18,FALSE),\"\")","v":""},{"$f":"IFERROR(VLOOKUP(Tabla38[[#This Row],[CODIGO municipio]],[3]!Tabla8[#All],19,FALSE),\"\")","v":""},{"$f":"IFERROR(VLOOKUP(Tabla38[[#This Row],[CODIGO municipio]],[3]!Tabla8[#All],20,FALSE),\"\")","v":""},{"$f":"IFERROR(VLOOKUP(Tabla38[[#This Row],[CODIGO municipio]],[3]!Tabla8[#All],21,FALSE),\"\")","v":""},{"$f":"IFERROR(VLOOKUP(Tabla38[[#This Row],[CODIGO municipio]],[3]!Tabla8[#All],22,FALSE),\"\")","v":""},{"$f":"IFERROR(VLOOKUP(Tabla38[[#This Row],[CODIGO municipio]],[3]!Tabla8[#All],23,FALSE),\"\")","v":""},{"$f":"IFERROR(VLOOKUP(Tabla38[[#This Row],[CODIGO municipio]],[3]!Tabla9[#All],3,FALSE),\"\")","v":""}]
[{"$f":"IFERROR(VLOOKUP(Tabla38[[#This Row],[Municipio]],[3]!Tabla2[#All],3,FALSE),\"\")","v":""},806,"Santa María Chiquimula",{"$f":"IFERROR(VLOOKUP(Tabla38[[#This Row],[CODIGO municipio]],[3]!Tabla6[[#All],[codigo_mun]],1,FALSE),\"\")","v":""},{"$f":"IFERROR(VLOOKUP(Tabla38[[#This Row],[CODIGO municipio]],[3]!Tabla12[#All],2,FALSE),\"\")","v":""},{"$f":"IFERROR(VLOOKUP(Tabla38[[#This Row],[CODIGO municipio]],[3]!Tabla7[#All],3,FALSE),\"\")","v":""},{"$f":"IFERROR(VLOOKUP(Tabla38[[#This Row],[CODIGO municipio]],[3]!Tabla7[#All],4,FALSE),\"\")","v":""},{"$f":"IFERROR(VLOOKUP(Tabla38[[#This Row],[CODIGO municipio]],[3]!Tabla7[#All],11,FALSE),\"\")","v":""},{"$f":"IFERROR(VLOOKUP(Tabla38[[#This Row],[CODIGO municipio]],[3]!Tabla7[#All],12,FALSE),\"\")","v":""},{"$f":"IFERROR(VLOOKUP(Tabla38[[#This Row],[CODIGO municipio]],[3]!Tabla7[#All],13,FALSE),\"\")","v":""},{"$f":"IFERROR(VLOOKUP(Tabla38[[#This Row],[CODIGO municipio]],[3]!Tabla7[#All],14,FALSE),\"\")","v":""},{"$f":"IFERROR(VLOOKUP(Tabla38[[#This Row],[CODIGO municipio]],[3]!Tabla7[#All],15,FALSE),\"\")","v":""},{"$f":"IFERROR(VLOOKUP(Tabla38[[#This Row],[CODIGO municipio]],[3]!Tabla7[#All],16,FALSE),\"\")","v":""},{"$f":"IFERROR(VLOOKUP(Tabla38[[#This Row],[CODIGO municipio]],[3]!Tabla7[#All],17,FALSE),\"\")","v":""},{"$f":"IFERROR(VLOOKUP(Tabla38[[#This Row],[CODIGO municipio]],[3]!Tabla7[#All],18,FALSE),\"\")","v":""},{"$f":"IFERROR(VLOOKUP(Tabla38[[#This Row],[CODIGO municipio]],[3]!Tabla7[#All],19,FALSE),\"\")","v":""},{"$f":"IFERROR(VLOOKUP(Tabla38[[#This Row],[CODIGO municipio]],[3]!Tabla8[#All],3,FALSE),\"\")","v":""},{"$f":"IFERROR(VLOOKUP(Tabla38[[#This Row],[CODIGO municipio]],[3]!Tabla8[#All],4,FALSE),\"\")","v":""},{"$f":"IFERROR(VLOOKUP(Tabla38[[#This Row],[CODIGO municipio]],[3]!Tabla8[#All],5,FALSE),\"\")","v":""},{"$f":"IFERROR(VLOOKUP(Tabla38[[#This Row],[CODIGO municipio]],[3]!Tabla8[#All],6,FALSE),\"\")","v":""},{"$f":"IFERROR(VLOOKUP(Tabla38[[#This Row],[CODIGO municipio]],[3]!Tabla8[#All],7,FALSE),\"\")","v":""},{"$f":"IFERROR(VLOOKUP(Tabla38[[#This Row],[CODIGO municipio]],[3]!Tabla8[#All],8,FALSE),\"\")","v":""},{"$f":"IFERROR(VLOOKUP(Tabla38[[#This Row],[CODIGO municipio]],[3]!Tabla8[#All],9,FALSE),\"\")","v":""},{"$f":"IFERROR(VLOOKUP(Tabla38[[#This Row],[CODIGO municipio]],[3]!Tabla8[#All],10,FALSE),\"\")","v":""},{"$f":"IFERROR(VLOOKUP(Tabla38[[#This Row],[CODIGO municipio]],[3]!Tabla8[#All],11,FALSE),\"\")","v":""},{"$f":"IFERROR(VLOOKUP(Tabla38[[#This Row],[CODIGO municipio]],[3]!Tabla8[#All],12,FALSE),\"\")","v":""},{"$f":"IFERROR(VLOOKUP(Tabla38[[#This Row],[CODIGO municipio]],[3]!Tabla8[#All],13,FALSE),\"\")","v":""},{"$f":"IFERROR(VLOOKUP(Tabla38[[#This Row],[CODIGO municipio]],[3]!Tabla8[#All],14,FALSE),\"\")","v":""},{"$f":"IFERROR(VLOOKUP(Tabla38[[#This Row],[CODIGO municipio]],[3]!Tabla8[#All],15,FALSE),\"\")","v":""},{"$f":"IFERROR(VLOOKUP(Tabla38[[#This Row],[CODIGO municipio]],[3]!Tabla8[#All],16,FALSE),\"\")","v":""},{"$f":"IFERROR(VLOOKUP(Tabla38[[#This Row],[CODIGO municipio]],[3]!Tabla8[#All],17,FALSE),\"\")","v":""},{"$f":"IFERROR(VLOOKUP(Tabla38[[#This Row],[CODIGO municipio]],[3]!Tabla8[#All],18,FALSE),\"\")","v":""},{"$f":"IFERROR(VLOOKUP(Tabla38[[#This Row],[CODIGO municipio]],[3]!Tabla8[#All],19,FALSE),\"\")","v":""},{"$f":"IFERROR(VLOOKUP(Tabla38[[#This Row],[CODIGO municipio]],[3]!Tabla8[#All],20,FALSE),\"\")","v":""},{"$f":"IFERROR(VLOOKUP(Tabla38[[#This Row],[CODIGO municipio]],[3]!Tabla8[#All],21,FALSE),\"\")","v":""},{"$f":"IFERROR(VLOOKUP(Tabla38[[#This Row],[CODIGO municipio]],[3]!Tabla8[#All],22,FALSE),\"\")","v":""},{"$f":"IFERROR(VLOOKUP(Tabla38[[#This Row],[CODIGO municipio]],[3]!Tabla8[#All],23,FALSE),\"\")","v":""},{"$f":"IFERROR(VLOOKUP(Tabla38[[#This Row],[CODIGO municipio]],[3]!Tabla9[#All],3,FALSE),\"\")","v":""}]
[{"$f":"IFERROR(VLOOKUP(Tabla38[[#This Row],[Municipio]],[3]!Tabla2[#All],3,FALSE),\"\")","v":""},807,"Santa Lucía La Reforma",{"$f":"IFERROR(VLOOKUP(Tabla38[[#This Row],[CODIGO municipio]],[3]!Tabla6[[#All],[codigo_mun]],1,FALSE),\"\")","v":""},{"$f":"IFERROR(VLOOKUP(Tabla38[[#This Row],[CODIGO municipio]],[3]!Tabla12[#All],2,FALSE),\"\")","v":""},{"$f":"IFERROR(VLOOKUP(Tabla38[[#This Row],[CODIGO municipio]],[3]!Tabla7[#All],3,FALSE),\"\")","v":""},{"$f":"IFERROR(VLOOKUP(Tabla38[[#This Row],[CODIGO municipio]],[3]!Tabla7[#All],4,FALSE),\"\")","v":""},{"$f":"IFERROR(VLOOKUP(Tabla38[[#This Row],[CODIGO municipio]],[3]!Tabla7[#All],11,FALSE),\"\")","v":""},{"$f":"IFERROR(VLOOKUP(Tabla38[[#This Row],[CODIGO municipio]],[3]!Tabla7[#All],12,FALSE),\"\")","v":""},{"$f":"IFERROR(VLOOKUP(Tabla38[[#This Row],[CODIGO municipio]],[3]!Tabla7[#All],13,FALSE),\"\")","v":""},{"$f":"IFERROR(VLOOKUP(Tabla38[[#This Row],[CODIGO municipio]],[3]!Tabla7[#All],14,FALSE),\"\")","v":""},{"$f":"IFERROR(VLOOKUP(Tabla38[[#This Row],[CODIGO municipio]],[3]!Tabla7[#All],15,FALSE),\"\")","v":""},{"$f":"IFERROR(VLOOKUP(Tabla38[[#This Row],[CODIGO municipio]],[3]!Tabla7[#All],16,FALSE),\"\")","v":""},{"$f":"IFERROR(VLOOKUP(Tabla38[[#This Row],[CODIGO municipio]],[3]!Tabla7[#All],17,FALSE),\"\")","v":""},{"$f":"IFERROR(VLOOKUP(Tabla38[[#This Row],[CODIGO municipio]],[3]!Tabla7[#All],18,FALSE),\"\")","v":""},{"$f":"IFERROR(VLOOKUP(Tabla38[[#This Row],[CODIGO municipio]],[3]!Tabla7[#All],19,FALSE),\"\")","v":""},{"$f":"IFERROR(VLOOKUP(Tabla38[[#This Row],[CODIGO municipio]],[3]!Tabla8[#All],3,FALSE),\"\")","v":""},{"$f":"IFERROR(VLOOKUP(Tabla38[[#This Row],[CODIGO municipio]],[3]!Tabla8[#All],4,FALSE),\"\")","v":""},{"$f":"IFERROR(VLOOKUP(Tabla38[[#This Row],[CODIGO municipio]],[3]!Tabla8[#All],5,FALSE),\"\")","v":""},{"$f":"IFERROR(VLOOKUP(Tabla38[[#This Row],[CODIGO municipio]],[3]!Tabla8[#All],6,FALSE),\"\")","v":""},{"$f":"IFERROR(VLOOKUP(Tabla38[[#This Row],[CODIGO municipio]],[3]!Tabla8[#All],7,FALSE),\"\")","v":""},{"$f":"IFERROR(VLOOKUP(Tabla38[[#This Row],[CODIGO municipio]],[3]!Tabla8[#All],8,FALSE),\"\")","v":""},{"$f":"IFERROR(VLOOKUP(Tabla38[[#This Row],[CODIGO municipio]],[3]!Tabla8[#All],9,FALSE),\"\")","v":""},{"$f":"IFERROR(VLOOKUP(Tabla38[[#This Row],[CODIGO municipio]],[3]!Tabla8[#All],10,FALSE),\"\")","v":""},{"$f":"IFERROR(VLOOKUP(Tabla38[[#This Row],[CODIGO municipio]],[3]!Tabla8[#All],11,FALSE),\"\")","v":""},{"$f":"IFERROR(VLOOKUP(Tabla38[[#This Row],[CODIGO municipio]],[3]!Tabla8[#All],12,FALSE),\"\")","v":""},{"$f":"IFERROR(VLOOKUP(Tabla38[[#This Row],[CODIGO municipio]],[3]!Tabla8[#All],13,FALSE),\"\")","v":""},{"$f":"IFERROR(VLOOKUP(Tabla38[[#This Row],[CODIGO municipio]],[3]!Tabla8[#All],14,FALSE),\"\")","v":""},{"$f":"IFERROR(VLOOKUP(Tabla38[[#This Row],[CODIGO municipio]],[3]!Tabla8[#All],15,FALSE),\"\")","v":""},{"$f":"IFERROR(VLOOKUP(Tabla38[[#This Row],[CODIGO municipio]],[3]!Tabla8[#All],16,FALSE),\"\")","v":""},{"$f":"IFERROR(VLOOKUP(Tabla38[[#This Row],[CODIGO municipio]],[3]!Tabla8[#All],17,FALSE),\"\")","v":""},{"$f":"IFERROR(VLOOKUP(Tabla38[[#This Row],[CODIGO municipio]],[3]!Tabla8[#All],18,FALSE),\"\")","v":""},{"$f":"IFERROR(VLOOKUP(Tabla38[[#This Row],[CODIGO municipio]],[3]!Tabla8[#All],19,FALSE),\"\")","v":""},{"$f":"IFERROR(VLOOKUP(Tabla38[[#This Row],[CODIGO municipio]],[3]!Tabla8[#All],20,FALSE),\"\")","v":""},{"$f":"IFERROR(VLOOKUP(Tabla38[[#This Row],[CODIGO municipio]],[3]!Tabla8[#All],21,FALSE),\"\")","v":""},{"$f":"IFERROR(VLOOKUP(Tabla38[[#This Row],[CODIGO municipio]],[3]!Tabla8[#All],22,FALSE),\"\")","v":""},{"$f":"IFERROR(VLOOKUP(Tabla38[[#This Row],[CODIGO municipio]],[3]!Tabla8[#All],23,FALSE),\"\")","v":""},{"$f":"IFERROR(VLOOKUP(Tabla38[[#This Row],[CODIGO municipio]],[3]!Tabla9[#All],3,FALSE),\"\")","v":""}]
[{"$f":"IFERROR(VLOOKUP(Tabla38[[#This Row],[Municipio]],[3]!Tabla2[#All],3,FALSE),\"\")","v":""},808,"San Bartolo",{"$f":"IFERROR(VLOOKUP(Tabla38[[#This Row],[CODIGO municipio]],[3]!Tabla6[[#All],[codigo_mun]],1,FALSE),\"\")","v":""},{"$f":"IFERROR(VLOOKUP(Tabla38[[#This Row],[CODIGO municipio]],[3]!Tabla12[#All],2,FALSE),\"\")","v":""},{"$f":"IFERROR(VLOOKUP(Tabla38[[#This Row],[CODIGO municipio]],[3]!Tabla7[#All],3,FALSE),\"\")","v":""},{"$f":"IFERROR(VLOOKUP(Tabla38[[#This Row],[CODIGO municipio]],[3]!Tabla7[#All],4,FALSE),\"\")","v":""},{"$f":"IFERROR(VLOOKUP(Tabla38[[#This Row],[CODIGO municipio]],[3]!Tabla7[#All],11,FALSE),\"\")","v":""},{"$f":"IFERROR(VLOOKUP(Tabla38[[#This Row],[CODIGO municipio]],[3]!Tabla7[#All],12,FALSE),\"\")","v":""},{"$f":"IFERROR(VLOOKUP(Tabla38[[#This Row],[CODIGO municipio]],[3]!Tabla7[#All],13,FALSE),\"\")","v":""},{"$f":"IFERROR(VLOOKUP(Tabla38[[#This Row],[CODIGO municipio]],[3]!Tabla7[#All],14,FALSE),\"\")","v":""},{"$f":"IFERROR(VLOOKUP(Tabla38[[#This Row],[CODIGO municipio]],[3]!Tabla7[#All],15,FALSE),\"\")","v":""},{"$f":"IFERROR(VLOOKUP(Tabla38[[#This Row],[CODIGO municipio]],[3]!Tabla7[#All],16,FALSE),\"\")","v":""},{"$f":"IFERROR(VLOOKUP(Tabla38[[#This Row],[CODIGO municipio]],[3]!Tabla7[#All],17,FALSE),\"\")","v":""},{"$f":"IFERROR(VLOOKUP(Tabla38[[#This Row],[CODIGO municipio]],[3]!Tabla7[#All],18,FALSE),\"\")","v":""},{"$f":"IFERROR(VLOOKUP(Tabla38[[#This Row],[CODIGO municipio]],[3]!Tabla7[#All],19,FALSE),\"\")","v":""},{"$f":"IFERROR(VLOOKUP(Tabla38[[#This Row],[CODIGO municipio]],[3]!Tabla8[#All],3,FALSE),\"\")","v":""},{"$f":"IFERROR(VLOOKUP(Tabla38[[#This Row],[CODIGO municipio]],[3]!Tabla8[#All],4,FALSE),\"\")","v":""},{"$f":"IFERROR(VLOOKUP(Tabla38[[#This Row],[CODIGO municipio]],[3]!Tabla8[#All],5,FALSE),\"\")","v":""},{"$f":"IFERROR(VLOOKUP(Tabla38[[#This Row],[CODIGO municipio]],[3]!Tabla8[#All],6,FALSE),\"\")","v":""},{"$f":"IFERROR(VLOOKUP(Tabla38[[#This Row],[CODIGO municipio]],[3]!Tabla8[#All],7,FALSE),\"\")","v":""},{"$f":"IFERROR(VLOOKUP(Tabla38[[#This Row],[CODIGO municipio]],[3]!Tabla8[#All],8,FALSE),\"\")","v":""},{"$f":"IFERROR(VLOOKUP(Tabla38[[#This Row],[CODIGO municipio]],[3]!Tabla8[#All],9,FALSE),\"\")","v":""},{"$f":"IFERROR(VLOOKUP(Tabla38[[#This Row],[CODIGO municipio]],[3]!Tabla8[#All],10,FALSE),\"\")","v":""},{"$f":"IFERROR(VLOOKUP(Tabla38[[#This Row],[CODIGO municipio]],[3]!Tabla8[#All],11,FALSE),\"\")","v":""},{"$f":"IFERROR(VLOOKUP(Tabla38[[#This Row],[CODIGO municipio]],[3]!Tabla8[#All],12,FALSE),\"\")","v":""},{"$f":"IFERROR(VLOOKUP(Tabla38[[#This Row],[CODIGO municipio]],[3]!Tabla8[#All],13,FALSE),\"\")","v":""},{"$f":"IFERROR(VLOOKUP(Tabla38[[#This Row],[CODIGO municipio]],[3]!Tabla8[#All],14,FALSE),\"\")","v":""},{"$f":"IFERROR(VLOOKUP(Tabla38[[#This Row],[CODIGO municipio]],[3]!Tabla8[#All],15,FALSE),\"\")","v":""},{"$f":"IFERROR(VLOOKUP(Tabla38[[#This Row],[CODIGO municipio]],[3]!Tabla8[#All],16,FALSE),\"\")","v":""},{"$f":"IFERROR(VLOOKUP(Tabla38[[#This Row],[CODIGO municipio]],[3]!Tabla8[#All],17,FALSE),\"\")","v":""},{"$f":"IFERROR(VLOOKUP(Tabla38[[#This Row],[CODIGO municipio]],[3]!Tabla8[#All],18,FALSE),\"\")","v":""},{"$f":"IFERROR(VLOOKUP(Tabla38[[#This Row],[CODIGO municipio]],[3]!Tabla8[#All],19,FALSE),\"\")","v":""},{"$f":"IFERROR(VLOOKUP(Tabla38[[#This Row],[CODIGO municipio]],[3]!Tabla8[#All],20,FALSE),\"\")","v":""},{"$f":"IFERROR(VLOOKUP(Tabla38[[#This Row],[CODIGO municipio]],[3]!Tabla8[#All],21,FALSE),\"\")","v":""},{"$f":"IFERROR(VLOOKUP(Tabla38[[#This Row],[CODIGO municipio]],[3]!Tabla8[#All],22,FALSE),\"\")","v":""},{"$f":"IFERROR(VLOOKUP(Tabla38[[#This Row],[CODIGO municipio]],[3]!Tabla8[#All],23,FALSE),\"\")","v":""},{"$f":"IFERROR(VLOOKUP(Tabla38[[#This Row],[CODIGO municipio]],[3]!Tabla9[#All],3,FALSE),\"\")","v":""}]
[{"$f":"IFERROR(VLOOKUP(Tabla38[[#This Row],[Municipio]],[3]!Tabla2[#All],3,FALSE),\"\")","v":""},901,"Quetzaltenango",{"$f":"IFERROR(VLOOKUP(Tabla38[[#This Row],[CODIGO municipio]],[3]!Tabla6[[#All],[codigo_mun]],1,FALSE),\"\")","v":""},{"$f":"IFERROR(VLOOKUP(Tabla38[[#This Row],[CODIGO municipio]],[3]!Tabla12[#All],2,FALSE),\"\")","v":""},{"$f":"IFERROR(VLOOKUP(Tabla38[[#This Row],[CODIGO municipio]],[3]!Tabla7[#All],3,FALSE),\"\")","v":""},{"$f":"IFERROR(VLOOKUP(Tabla38[[#This Row],[CODIGO municipio]],[3]!Tabla7[#All],4,FALSE),\"\")","v":""},{"$f":"IFERROR(VLOOKUP(Tabla38[[#This Row],[CODIGO municipio]],[3]!Tabla7[#All],11,FALSE),\"\")","v":""},{"$f":"IFERROR(VLOOKUP(Tabla38[[#This Row],[CODIGO municipio]],[3]!Tabla7[#All],12,FALSE),\"\")","v":""},{"$f":"IFERROR(VLOOKUP(Tabla38[[#This Row],[CODIGO municipio]],[3]!Tabla7[#All],13,FALSE),\"\")","v":""},{"$f":"IFERROR(VLOOKUP(Tabla38[[#This Row],[CODIGO municipio]],[3]!Tabla7[#All],14,FALSE),\"\")","v":""},{"$f":"IFERROR(VLOOKUP(Tabla38[[#This Row],[CODIGO municipio]],[3]!Tabla7[#All],15,FALSE),\"\")","v":""},{"$f":"IFERROR(VLOOKUP(Tabla38[[#This Row],[CODIGO municipio]],[3]!Tabla7[#All],16,FALSE),\"\")","v":""},{"$f":"IFERROR(VLOOKUP(Tabla38[[#This Row],[CODIGO municipio]],[3]!Tabla7[#All],17,FALSE),\"\")","v":""},{"$f":"IFERROR(VLOOKUP(Tabla38[[#This Row],[CODIGO municipio]],[3]!Tabla7[#All],18,FALSE),\"\")","v":""},{"$f":"IFERROR(VLOOKUP(Tabla38[[#This Row],[CODIGO municipio]],[3]!Tabla7[#All],19,FALSE),\"\")","v":""},{"$f":"IFERROR(VLOOKUP(Tabla38[[#This Row],[CODIGO municipio]],[3]!Tabla8[#All],3,FALSE),\"\")","v":""},{"$f":"IFERROR(VLOOKUP(Tabla38[[#This Row],[CODIGO municipio]],[3]!Tabla8[#All],4,FALSE),\"\")","v":""},{"$f":"IFERROR(VLOOKUP(Tabla38[[#This Row],[CODIGO municipio]],[3]!Tabla8[#All],5,FALSE),\"\")","v":""},{"$f":"IFERROR(VLOOKUP(Tabla38[[#This Row],[CODIGO municipio]],[3]!Tabla8[#All],6,FALSE),\"\")","v":""},{"$f":"IFERROR(VLOOKUP(Tabla38[[#This Row],[CODIGO municipio]],[3]!Tabla8[#All],7,FALSE),\"\")","v":""},{"$f":"IFERROR(VLOOKUP(Tabla38[[#This Row],[CODIGO municipio]],[3]!Tabla8[#All],8,FALSE),\"\")","v":""},{"$f":"IFERROR(VLOOKUP(Tabla38[[#This Row],[CODIGO municipio]],[3]!Tabla8[#All],9,FALSE),\"\")","v":""},{"$f":"IFERROR(VLOOKUP(Tabla38[[#This Row],[CODIGO municipio]],[3]!Tabla8[#All],10,FALSE),\"\")","v":""},{"$f":"IFERROR(VLOOKUP(Tabla38[[#This Row],[CODIGO municipio]],[3]!Tabla8[#All],11,FALSE),\"\")","v":""},{"$f":"IFERROR(VLOOKUP(Tabla38[[#This Row],[CODIGO municipio]],[3]!Tabla8[#All],12,FALSE),\"\")","v":""},{"$f":"IFERROR(VLOOKUP(Tabla38[[#This Row],[CODIGO municipio]],[3]!Tabla8[#All],13,FALSE),\"\")","v":""},{"$f":"IFERROR(VLOOKUP(Tabla38[[#This Row],[CODIGO municipio]],[3]!Tabla8[#All],14,FALSE),\"\")","v":""},{"$f":"IFERROR(VLOOKUP(Tabla38[[#This Row],[CODIGO municipio]],[3]!Tabla8[#All],15,FALSE),\"\")","v":""},{"$f":"IFERROR(VLOOKUP(Tabla38[[#This Row],[CODIGO municipio]],[3]!Tabla8[#All],16,FALSE),\"\")","v":""},{"$f":"IFERROR(VLOOKUP(Tabla38[[#This Row],[CODIGO municipio]],[3]!Tabla8[#All],17,FALSE),\"\")","v":""},{"$f":"IFERROR(VLOOKUP(Tabla38[[#This Row],[CODIGO municipio]],[3]!Tabla8[#All],18,FALSE),\"\")","v":""},{"$f":"IFERROR(VLOOKUP(Tabla38[[#This Row],[CODIGO municipio]],[3]!Tabla8[#All],19,FALSE),\"\")","v":""},{"$f":"IFERROR(VLOOKUP(Tabla38[[#This Row],[CODIGO municipio]],[3]!Tabla8[#All],20,FALSE),\"\")","v":""},{"$f":"IFERROR(VLOOKUP(Tabla38[[#This Row],[CODIGO municipio]],[3]!Tabla8[#All],21,FALSE),\"\")","v":""},{"$f":"IFERROR(VLOOKUP(Tabla38[[#This Row],[CODIGO municipio]],[3]!Tabla8[#All],22,FALSE),\"\")","v":""},{"$f":"IFERROR(VLOOKUP(Tabla38[[#This Row],[CODIGO municipio]],[3]!Tabla8[#All],23,FALSE),\"\")","v":""},{"$f":"IFERROR(VLOOKUP(Tabla38[[#This Row],[CODIGO municipio]],[3]!Tabla9[#All],3,FALSE),\"\")","v":""}]
[{"$f":"IFERROR(VLOOKUP(Tabla38[[#This Row],[Municipio]],[3]!Tabla2[#All],3,FALSE),\"\")","v":""},902,"Salcajá",{"$f":"IFERROR(VLOOKUP(Tabla38[[#This Row],[CODIGO municipio]],[3]!Tabla6[[#All],[codigo_mun]],1,FALSE),\"\")","v":""},{"$f":"IFERROR(VLOOKUP(Tabla38[[#This Row],[CODIGO municipio]],[3]!Tabla12[#All],2,FALSE),\"\")","v":""},{"$f":"IFERROR(VLOOKUP(Tabla38[[#This Row],[CODIGO municipio]],[3]!Tabla7[#All],3,FALSE),\"\")","v":""},{"$f":"IFERROR(VLOOKUP(Tabla38[[#This Row],[CODIGO municipio]],[3]!Tabla7[#All],4,FALSE),\"\")","v":""},{"$f":"IFERROR(VLOOKUP(Tabla38[[#This Row],[CODIGO municipio]],[3]!Tabla7[#All],11,FALSE),\"\")","v":""},{"$f":"IFERROR(VLOOKUP(Tabla38[[#This Row],[CODIGO municipio]],[3]!Tabla7[#All],12,FALSE),\"\")","v":""},{"$f":"IFERROR(VLOOKUP(Tabla38[[#This Row],[CODIGO municipio]],[3]!Tabla7[#All],13,FALSE),\"\")","v":""},{"$f":"IFERROR(VLOOKUP(Tabla38[[#This Row],[CODIGO municipio]],[3]!Tabla7[#All],14,FALSE),\"\")","v":""},{"$f":"IFERROR(VLOOKUP(Tabla38[[#This Row],[CODIGO municipio]],[3]!Tabla7[#All],15,FALSE),\"\")","v":""},{"$f":"IFERROR(VLOOKUP(Tabla38[[#This Row],[CODIGO municipio]],[3]!Tabla7[#All],16,FALSE),\"\")","v":""},{"$f":"IFERROR(VLOOKUP(Tabla38[[#This Row],[CODIGO municipio]],[3]!Tabla7[#All],17,FALSE),\"\")","v":""},{"$f":"IFERROR(VLOOKUP(Tabla38[[#This Row],[CODIGO municipio]],[3]!Tabla7[#All],18,FALSE),\"\")","v":""},{"$f":"IFERROR(VLOOKUP(Tabla38[[#This Row],[CODIGO municipio]],[3]!Tabla7[#All],19,FALSE),\"\")","v":""},{"$f":"IFERROR(VLOOKUP(Tabla38[[#This Row],[CODIGO municipio]],[3]!Tabla8[#All],3,FALSE),\"\")","v":""},{"$f":"IFERROR(VLOOKUP(Tabla38[[#This Row],[CODIGO municipio]],[3]!Tabla8[#All],4,FALSE),\"\")","v":""},{"$f":"IFERROR(VLOOKUP(Tabla38[[#This Row],[CODIGO municipio]],[3]!Tabla8[#All],5,FALSE),\"\")","v":""},{"$f":"IFERROR(VLOOKUP(Tabla38[[#This Row],[CODIGO municipio]],[3]!Tabla8[#All],6,FALSE),\"\")","v":""},{"$f":"IFERROR(VLOOKUP(Tabla38[[#This Row],[CODIGO municipio]],[3]!Tabla8[#All],7,FALSE),\"\")","v":""},{"$f":"IFERROR(VLOOKUP(Tabla38[[#This Row],[CODIGO municipio]],[3]!Tabla8[#All],8,FALSE),\"\")","v":""},{"$f":"IFERROR(VLOOKUP(Tabla38[[#This Row],[CODIGO municipio]],[3]!Tabla8[#All],9,FALSE),\"\")","v":""},{"$f":"IFERROR(VLOOKUP(Tabla38[[#This Row],[CODIGO municipio]],[3]!Tabla8[#All],10,FALSE),\"\")","v":""},{"$f":"IFERROR(VLOOKUP(Tabla38[[#This Row],[CODIGO municipio]],[3]!Tabla8[#All],11,FALSE),\"\")","v":""},{"$f":"IFERROR(VLOOKUP(Tabla38[[#This Row],[CODIGO municipio]],[3]!Tabla8[#All],12,FALSE),\"\")","v":""},{"$f":"IFERROR(VLOOKUP(Tabla38[[#This Row],[CODIGO municipio]],[3]!Tabla8[#All],13,FALSE),\"\")","v":""},{"$f":"IFERROR(VLOOKUP(Tabla38[[#This Row],[CODIGO municipio]],[3]!Tabla8[#All],14,FALSE),\"\")","v":""},{"$f":"IFERROR(VLOOKUP(Tabla38[[#This Row],[CODIGO municipio]],[3]!Tabla8[#All],15,FALSE),\"\")","v":""},{"$f":"IFERROR(VLOOKUP(Tabla38[[#This Row],[CODIGO municipio]],[3]!Tabla8[#All],16,FALSE),\"\")","v":""},{"$f":"IFERROR(VLOOKUP(Tabla38[[#This Row],[CODIGO municipio]],[3]!Tabla8[#All],17,FALSE),\"\")","v":""},{"$f":"IFERROR(VLOOKUP(Tabla38[[#This Row],[CODIGO municipio]],[3]!Tabla8[#All],18,FALSE),\"\")","v":""},{"$f":"IFERROR(VLOOKUP(Tabla38[[#This Row],[CODIGO municipio]],[3]!Tabla8[#All],19,FALSE),\"\")","v":""},{"$f":"IFERROR(VLOOKUP(Tabla38[[#This Row],[CODIGO municipio]],[3]!Tabla8[#All],20,FALSE),\"\")","v":""},{"$f":"IFERROR(VLOOKUP(Tabla38[[#This Row],[CODIGO municipio]],[3]!Tabla8[#All],21,FALSE),\"\")","v":""},{"$f":"IFERROR(VLOOKUP(Tabla38[[#This Row],[CODIGO municipio]],[3]!Tabla8[#All],22,FALSE),\"\")","v":""},{"$f":"IFERROR(VLOOKUP(Tabla38[[#This Row],[CODIGO municipio]],[3]!Tabla8[#All],23,FALSE),\"\")","v":""},{"$f":"IFERROR(VLOOKUP(Tabla38[[#This Row],[CODIGO municipio]],[3]!Tabla9[#All],3,FALSE),\"\")","v":""}]
[{"$f":"IFERROR(VLOOKUP(Tabla38[[#This Row],[Municipio]],[3]!Tabla2[#All],3,FALSE),\"\")","v":""},903,"San Juan Olintepeque",{"$f":"IFERROR(VLOOKUP(Tabla38[[#This Row],[CODIGO municipio]],[3]!Tabla6[[#All],[codigo_mun]],1,FALSE),\"\")","v":""},{"$f":"IFERROR(VLOOKUP(Tabla38[[#This Row],[CODIGO municipio]],[3]!Tabla12[#All],2,FALSE),\"\")","v":""},{"$f":"IFERROR(VLOOKUP(Tabla38[[#This Row],[CODIGO municipio]],[3]!Tabla7[#All],3,FALSE),\"\")","v":""},{"$f":"IFERROR(VLOOKUP(Tabla38[[#This Row],[CODIGO municipio]],[3]!Tabla7[#All],4,FALSE),\"\")","v":""},{"$f":"IFERROR(VLOOKUP(Tabla38[[#This Row],[CODIGO municipio]],[3]!Tabla7[#All],11,FALSE),\"\")","v":""},{"$f":"IFERROR(VLOOKUP(Tabla38[[#This Row],[CODIGO municipio]],[3]!Tabla7[#All],12,FALSE),\"\")","v":""},{"$f":"IFERROR(VLOOKUP(Tabla38[[#This Row],[CODIGO municipio]],[3]!Tabla7[#All],13,FALSE),\"\")","v":""},{"$f":"IFERROR(VLOOKUP(Tabla38[[#This Row],[CODIGO municipio]],[3]!Tabla7[#All],14,FALSE),\"\")","v":""},{"$f":"IFERROR(VLOOKUP(Tabla38[[#This Row],[CODIGO municipio]],[3]!Tabla7[#All],15,FALSE),\"\")","v":""},{"$f":"IFERROR(VLOOKUP(Tabla38[[#This Row],[CODIGO municipio]],[3]!Tabla7[#All],16,FALSE),\"\")","v":""},{"$f":"IFERROR(VLOOKUP(Tabla38[[#This Row],[CODIGO municipio]],[3]!Tabla7[#All],17,FALSE),\"\")","v":""},{"$f":"IFERROR(VLOOKUP(Tabla38[[#This Row],[CODIGO municipio]],[3]!Tabla7[#All],18,FALSE),\"\")","v":""},{"$f":"IFERROR(VLOOKUP(Tabla38[[#This Row],[CODIGO municipio]],[3]!Tabla7[#All],19,FALSE),\"\")","v":""},{"$f":"IFERROR(VLOOKUP(Tabla38[[#This Row],[CODIGO municipio]],[3]!Tabla8[#All],3,FALSE),\"\")","v":""},{"$f":"IFERROR(VLOOKUP(Tabla38[[#This Row],[CODIGO municipio]],[3]!Tabla8[#All],4,FALSE),\"\")","v":""},{"$f":"IFERROR(VLOOKUP(Tabla38[[#This Row],[CODIGO municipio]],[3]!Tabla8[#All],5,FALSE),\"\")","v":""},{"$f":"IFERROR(VLOOKUP(Tabla38[[#This Row],[CODIGO municipio]],[3]!Tabla8[#All],6,FALSE),\"\")","v":""},{"$f":"IFERROR(VLOOKUP(Tabla38[[#This Row],[CODIGO municipio]],[3]!Tabla8[#All],7,FALSE),\"\")","v":""},{"$f":"IFERROR(VLOOKUP(Tabla38[[#This Row],[CODIGO municipio]],[3]!Tabla8[#All],8,FALSE),\"\")","v":""},{"$f":"IFERROR(VLOOKUP(Tabla38[[#This Row],[CODIGO municipio]],[3]!Tabla8[#All],9,FALSE),\"\")","v":""},{"$f":"IFERROR(VLOOKUP(Tabla38[[#This Row],[CODIGO municipio]],[3]!Tabla8[#All],10,FALSE),\"\")","v":""},{"$f":"IFERROR(VLOOKUP(Tabla38[[#This Row],[CODIGO municipio]],[3]!Tabla8[#All],11,FALSE),\"\")","v":""},{"$f":"IFERROR(VLOOKUP(Tabla38[[#This Row],[CODIGO municipio]],[3]!Tabla8[#All],12,FALSE),\"\")","v":""},{"$f":"IFERROR(VLOOKUP(Tabla38[[#This Row],[CODIGO municipio]],[3]!Tabla8[#All],13,FALSE),\"\")","v":""},{"$f":"IFERROR(VLOOKUP(Tabla38[[#This Row],[CODIGO municipio]],[3]!Tabla8[#All],14,FALSE),\"\")","v":""},{"$f":"IFERROR(VLOOKUP(Tabla38[[#This Row],[CODIGO municipio]],[3]!Tabla8[#All],15,FALSE),\"\")","v":""},{"$f":"IFERROR(VLOOKUP(Tabla38[[#This Row],[CODIGO municipio]],[3]!Tabla8[#All],16,FALSE),\"\")","v":""},{"$f":"IFERROR(VLOOKUP(Tabla38[[#This Row],[CODIGO municipio]],[3]!Tabla8[#All],17,FALSE),\"\")","v":""},{"$f":"IFERROR(VLOOKUP(Tabla38[[#This Row],[CODIGO municipio]],[3]!Tabla8[#All],18,FALSE),\"\")","v":""},{"$f":"IFERROR(VLOOKUP(Tabla38[[#This Row],[CODIGO municipio]],[3]!Tabla8[#All],19,FALSE),\"\")","v":""},{"$f":"IFERROR(VLOOKUP(Tabla38[[#This Row],[CODIGO municipio]],[3]!Tabla8[#All],20,FALSE),\"\")","v":""},{"$f":"IFERROR(VLOOKUP(Tabla38[[#This Row],[CODIGO municipio]],[3]!Tabla8[#All],21,FALSE),\"\")","v":""},{"$f":"IFERROR(VLOOKUP(Tabla38[[#This Row],[CODIGO municipio]],[3]!Tabla8[#All],22,FALSE),\"\")","v":""},{"$f":"IFERROR(VLOOKUP(Tabla38[[#This Row],[CODIGO municipio]],[3]!Tabla8[#All],23,FALSE),\"\")","v":""},{"$f":"IFERROR(VLOOKUP(Tabla38[[#This Row],[CODIGO municipio]],[3]!Tabla9[#All],3,FALSE),\"\")","v":""}]
[{"$f":"IFERROR(VLOOKUP(Tabla38[[#This Row],[Municipio]],[3]!Tabla2[#All],3,FALSE),\"\")","v":""},904,"San Carlos Sija",{"$f":"IFERROR(VLOOKUP(Tabla38[[#This Row],[CODIGO municipio]],[3]!Tabla6[[#All],[codigo_mun]],1,FALSE),\"\")","v":""},{"$f":"IFERROR(VLOOKUP(Tabla38[[#This Row],[CODIGO municipio]],[3]!Tabla12[#All],2,FALSE),\"\")","v":""},{"$f":"IFERROR(VLOOKUP(Tabla38[[#This Row],[CODIGO municipio]],[3]!Tabla7[#All],3,FALSE),\"\")","v":""},{"$f":"IFERROR(VLOOKUP(Tabla38[[#This Row],[CODIGO municipio]],[3]!Tabla7[#All],4,FALSE),\"\")","v":""},{"$f":"IFERROR(VLOOKUP(Tabla38[[#This Row],[CODIGO municipio]],[3]!Tabla7[#All],11,FALSE),\"\")","v":""},{"$f":"IFERROR(VLOOKUP(Tabla38[[#This Row],[CODIGO municipio]],[3]!Tabla7[#All],12,FALSE),\"\")","v":""},{"$f":"IFERROR(VLOOKUP(Tabla38[[#This Row],[CODIGO municipio]],[3]!Tabla7[#All],13,FALSE),\"\")","v":""},{"$f":"IFERROR(VLOOKUP(Tabla38[[#This Row],[CODIGO municipio]],[3]!Tabla7[#All],14,FALSE),\"\")","v":""},{"$f":"IFERROR(VLOOKUP(Tabla38[[#This Row],[CODIGO municipio]],[3]!Tabla7[#All],15,FALSE),\"\")","v":""},{"$f":"IFERROR(VLOOKUP(Tabla38[[#This Row],[CODIGO municipio]],[3]!Tabla7[#All],16,FALSE),\"\")","v":""},{"$f":"IFERROR(VLOOKUP(Tabla38[[#This Row],[CODIGO municipio]],[3]!Tabla7[#All],17,FALSE),\"\")","v":""},{"$f":"IFERROR(VLOOKUP(Tabla38[[#This Row],[CODIGO municipio]],[3]!Tabla7[#All],18,FALSE),\"\")","v":""},{"$f":"IFERROR(VLOOKUP(Tabla38[[#This Row],[CODIGO municipio]],[3]!Tabla7[#All],19,FALSE),\"\")","v":""},{"$f":"IFERROR(VLOOKUP(Tabla38[[#This Row],[CODIGO municipio]],[3]!Tabla8[#All],3,FALSE),\"\")","v":""},{"$f":"IFERROR(VLOOKUP(Tabla38[[#This Row],[CODIGO municipio]],[3]!Tabla8[#All],4,FALSE),\"\")","v":""},{"$f":"IFERROR(VLOOKUP(Tabla38[[#This Row],[CODIGO municipio]],[3]!Tabla8[#All],5,FALSE),\"\")","v":""},{"$f":"IFERROR(VLOOKUP(Tabla38[[#This Row],[CODIGO municipio]],[3]!Tabla8[#All],6,FALSE),\"\")","v":""},{"$f":"IFERROR(VLOOKUP(Tabla38[[#This Row],[CODIGO municipio]],[3]!Tabla8[#All],7,FALSE),\"\")","v":""},{"$f":"IFERROR(VLOOKUP(Tabla38[[#This Row],[CODIGO municipio]],[3]!Tabla8[#All],8,FALSE),\"\")","v":""},{"$f":"IFERROR(VLOOKUP(Tabla38[[#This Row],[CODIGO municipio]],[3]!Tabla8[#All],9,FALSE),\"\")","v":""},{"$f":"IFERROR(VLOOKUP(Tabla38[[#This Row],[CODIGO municipio]],[3]!Tabla8[#All],10,FALSE),\"\")","v":""},{"$f":"IFERROR(VLOOKUP(Tabla38[[#This Row],[CODIGO municipio]],[3]!Tabla8[#All],11,FALSE),\"\")","v":""},{"$f":"IFERROR(VLOOKUP(Tabla38[[#This Row],[CODIGO municipio]],[3]!Tabla8[#All],12,FALSE),\"\")","v":""},{"$f":"IFERROR(VLOOKUP(Tabla38[[#This Row],[CODIGO municipio]],[3]!Tabla8[#All],13,FALSE),\"\")","v":""},{"$f":"IFERROR(VLOOKUP(Tabla38[[#This Row],[CODIGO municipio]],[3]!Tabla8[#All],14,FALSE),\"\")","v":""},{"$f":"IFERROR(VLOOKUP(Tabla38[[#This Row],[CODIGO municipio]],[3]!Tabla8[#All],15,FALSE),\"\")","v":""},{"$f":"IFERROR(VLOOKUP(Tabla38[[#This Row],[CODIGO municipio]],[3]!Tabla8[#All],16,FALSE),\"\")","v":""},{"$f":"IFERROR(VLOOKUP(Tabla38[[#This Row],[CODIGO municipio]],[3]!Tabla8[#All],17,FALSE),\"\")","v":""},{"$f":"IFERROR(VLOOKUP(Tabla38[[#This Row],[CODIGO municipio]],[3]!Tabla8[#All],18,FALSE),\"\")","v":""},{"$f":"IFERROR(VLOOKUP(Tabla38[[#This Row],[CODIGO municipio]],[3]!Tabla8[#All],19,FALSE),\"\")","v":""},{"$f":"IFERROR(VLOOKUP(Tabla38[[#This Row],[CODIGO municipio]],[3]!Tabla8[#All],20,FALSE),\"\")","v":""},{"$f":"IFERROR(VLOOKUP(Tabla38[[#This Row],[CODIGO municipio]],[3]!Tabla8[#All],21,FALSE),\"\")","v":""},{"$f":"IFERROR(VLOOKUP(Tabla38[[#This Row],[CODIGO municipio]],[3]!Tabla8[#All],22,FALSE),\"\")","v":""},{"$f":"IFERROR(VLOOKUP(Tabla38[[#This Row],[CODIGO municipio]],[3]!Tabla8[#All],23,FALSE),\"\")","v":""},{"$f":"IFERROR(VLOOKUP(Tabla38[[#This Row],[CODIGO municipio]],[3]!Tabla9[#All],3,FALSE),\"\")","v":""}]
[{"$f":"IFERROR(VLOOKUP(Tabla38[[#This Row],[Municipio]],[3]!Tabla2[#All],3,FALSE),\"\")","v":""},905,"Sibilia",{"$f":"IFERROR(VLOOKUP(Tabla38[[#This Row],[CODIGO municipio]],[3]!Tabla6[[#All],[codigo_mun]],1,FALSE),\"\")","v":""},{"$f":"IFERROR(VLOOKUP(Tabla38[[#This Row],[CODIGO municipio]],[3]!Tabla12[#All],2,FALSE),\"\")","v":""},{"$f":"IFERROR(VLOOKUP(Tabla38[[#This Row],[CODIGO municipio]],[3]!Tabla7[#All],3,FALSE),\"\")","v":""},{"$f":"IFERROR(VLOOKUP(Tabla38[[#This Row],[CODIGO municipio]],[3]!Tabla7[#All],4,FALSE),\"\")","v":""},{"$f":"IFERROR(VLOOKUP(Tabla38[[#This Row],[CODIGO municipio]],[3]!Tabla7[#All],11,FALSE),\"\")","v":""},{"$f":"IFERROR(VLOOKUP(Tabla38[[#This Row],[CODIGO municipio]],[3]!Tabla7[#All],12,FALSE),\"\")","v":""},{"$f":"IFERROR(VLOOKUP(Tabla38[[#This Row],[CODIGO municipio]],[3]!Tabla7[#All],13,FALSE),\"\")","v":""},{"$f":"IFERROR(VLOOKUP(Tabla38[[#This Row],[CODIGO municipio]],[3]!Tabla7[#All],14,FALSE),\"\")","v":""},{"$f":"IFERROR(VLOOKUP(Tabla38[[#This Row],[CODIGO municipio]],[3]!Tabla7[#All],15,FALSE),\"\")","v":""},{"$f":"IFERROR(VLOOKUP(Tabla38[[#This Row],[CODIGO municipio]],[3]!Tabla7[#All],16,FALSE),\"\")","v":""},{"$f":"IFERROR(VLOOKUP(Tabla38[[#This Row],[CODIGO municipio]],[3]!Tabla7[#All],17,FALSE),\"\")","v":""},{"$f":"IFERROR(VLOOKUP(Tabla38[[#This Row],[CODIGO municipio]],[3]!Tabla7[#All],18,FALSE),\"\")","v":""},{"$f":"IFERROR(VLOOKUP(Tabla38[[#This Row],[CODIGO municipio]],[3]!Tabla7[#All],19,FALSE),\"\")","v":""},{"$f":"IFERROR(VLOOKUP(Tabla38[[#This Row],[CODIGO municipio]],[3]!Tabla8[#All],3,FALSE),\"\")","v":""},{"$f":"IFERROR(VLOOKUP(Tabla38[[#This Row],[CODIGO municipio]],[3]!Tabla8[#All],4,FALSE),\"\")","v":""},{"$f":"IFERROR(VLOOKUP(Tabla38[[#This Row],[CODIGO municipio]],[3]!Tabla8[#All],5,FALSE),\"\")","v":""},{"$f":"IFERROR(VLOOKUP(Tabla38[[#This Row],[CODIGO municipio]],[3]!Tabla8[#All],6,FALSE),\"\")","v":""},{"$f":"IFERROR(VLOOKUP(Tabla38[[#This Row],[CODIGO municipio]],[3]!Tabla8[#All],7,FALSE),\"\")","v":""},{"$f":"IFERROR(VLOOKUP(Tabla38[[#This Row],[CODIGO municipio]],[3]!Tabla8[#All],8,FALSE),\"\")","v":""},{"$f":"IFERROR(VLOOKUP(Tabla38[[#This Row],[CODIGO municipio]],[3]!Tabla8[#All],9,FALSE),\"\")","v":""},{"$f":"IFERROR(VLOOKUP(Tabla38[[#This Row],[CODIGO municipio]],[3]!Tabla8[#All],10,FALSE),\"\")","v":""},{"$f":"IFERROR(VLOOKUP(Tabla38[[#This Row],[CODIGO municipio]],[3]!Tabla8[#All],11,FALSE),\"\")","v":""},{"$f":"IFERROR(VLOOKUP(Tabla38[[#This Row],[CODIGO municipio]],[3]!Tabla8[#All],12,FALSE),\"\")","v":""},{"$f":"IFERROR(VLOOKUP(Tabla38[[#This Row],[CODIGO municipio]],[3]!Tabla8[#All],13,FALSE),\"\")","v":""},{"$f":"IFERROR(VLOOKUP(Tabla38[[#This Row],[CODIGO municipio]],[3]!Tabla8[#All],14,FALSE),\"\")","v":""},{"$f":"IFERROR(VLOOKUP(Tabla38[[#This Row],[CODIGO municipio]],[3]!Tabla8[#All],15,FALSE),\"\")","v":""},{"$f":"IFERROR(VLOOKUP(Tabla38[[#This Row],[CODIGO municipio]],[3]!Tabla8[#All],16,FALSE),\"\")","v":""},{"$f":"IFERROR(VLOOKUP(Tabla38[[#This Row],[CODIGO municipio]],[3]!Tabla8[#All],17,FALSE),\"\")","v":""},{"$f":"IFERROR(VLOOKUP(Tabla38[[#This Row],[CODIGO municipio]],[3]!Tabla8[#All],18,FALSE),\"\")","v":""},{"$f":"IFERROR(VLOOKUP(Tabla38[[#This Row],[CODIGO municipio]],[3]!Tabla8[#All],19,FALSE),\"\")","v":""},{"$f":"IFERROR(VLOOKUP(Tabla38[[#This Row],[CODIGO municipio]],[3]!Tabla8[#All],20,FALSE),\"\")","v":""},{"$f":"IFERROR(VLOOKUP(Tabla38[[#This Row],[CODIGO municipio]],[3]!Tabla8[#All],21,FALSE),\"\")","v":""},{"$f":"IFERROR(VLOOKUP(Tabla38[[#This Row],[CODIGO municipio]],[3]!Tabla8[#All],22,FALSE),\"\")","v":""},{"$f":"IFERROR(VLOOKUP(Tabla38[[#This Row],[CODIGO municipio]],[3]!Tabla8[#All],23,FALSE),\"\")","v":""},{"$f":"IFERROR(VLOOKUP(Tabla38[[#This Row],[CODIGO municipio]],[3]!Tabla9[#All],3,FALSE),\"\")","v":""}]
[{"$f":"IFERROR(VLOOKUP(Tabla38[[#This Row],[Municipio]],[3]!Tabla2[#All],3,FALSE),\"\")","v":""},906,"Cabricán",{"$f":"IFERROR(VLOOKUP(Tabla38[[#This Row],[CODIGO municipio]],[3]!Tabla6[[#All],[codigo_mun]],1,FALSE),\"\")","v":""},{"$f":"IFERROR(VLOOKUP(Tabla38[[#This Row],[CODIGO municipio]],[3]!Tabla12[#All],2,FALSE),\"\")","v":""},{"$f":"IFERROR(VLOOKUP(Tabla38[[#This Row],[CODIGO municipio]],[3]!Tabla7[#All],3,FALSE),\"\")","v":""},{"$f":"IFERROR(VLOOKUP(Tabla38[[#This Row],[CODIGO municipio]],[3]!Tabla7[#All],4,FALSE),\"\")","v":""},{"$f":"IFERROR(VLOOKUP(Tabla38[[#This Row],[CODIGO municipio]],[3]!Tabla7[#All],11,FALSE),\"\")","v":""},{"$f":"IFERROR(VLOOKUP(Tabla38[[#This Row],[CODIGO municipio]],[3]!Tabla7[#All],12,FALSE),\"\")","v":""},{"$f":"IFERROR(VLOOKUP(Tabla38[[#This Row],[CODIGO municipio]],[3]!Tabla7[#All],13,FALSE),\"\")","v":""},{"$f":"IFERROR(VLOOKUP(Tabla38[[#This Row],[CODIGO municipio]],[3]!Tabla7[#All],14,FALSE),\"\")","v":""},{"$f":"IFERROR(VLOOKUP(Tabla38[[#This Row],[CODIGO municipio]],[3]!Tabla7[#All],15,FALSE),\"\")","v":""},{"$f":"IFERROR(VLOOKUP(Tabla38[[#This Row],[CODIGO municipio]],[3]!Tabla7[#All],16,FALSE),\"\")","v":""},{"$f":"IFERROR(VLOOKUP(Tabla38[[#This Row],[CODIGO municipio]],[3]!Tabla7[#All],17,FALSE),\"\")","v":""},{"$f":"IFERROR(VLOOKUP(Tabla38[[#This Row],[CODIGO municipio]],[3]!Tabla7[#All],18,FALSE),\"\")","v":""},{"$f":"IFERROR(VLOOKUP(Tabla38[[#This Row],[CODIGO municipio]],[3]!Tabla7[#All],19,FALSE),\"\")","v":""},{"$f":"IFERROR(VLOOKUP(Tabla38[[#This Row],[CODIGO municipio]],[3]!Tabla8[#All],3,FALSE),\"\")","v":""},{"$f":"IFERROR(VLOOKUP(Tabla38[[#This Row],[CODIGO municipio]],[3]!Tabla8[#All],4,FALSE),\"\")","v":""},{"$f":"IFERROR(VLOOKUP(Tabla38[[#This Row],[CODIGO municipio]],[3]!Tabla8[#All],5,FALSE),\"\")","v":""},{"$f":"IFERROR(VLOOKUP(Tabla38[[#This Row],[CODIGO municipio]],[3]!Tabla8[#All],6,FALSE),\"\")","v":""},{"$f":"IFERROR(VLOOKUP(Tabla38[[#This Row],[CODIGO municipio]],[3]!Tabla8[#All],7,FALSE),\"\")","v":""},{"$f":"IFERROR(VLOOKUP(Tabla38[[#This Row],[CODIGO municipio]],[3]!Tabla8[#All],8,FALSE),\"\")","v":""},{"$f":"IFERROR(VLOOKUP(Tabla38[[#This Row],[CODIGO municipio]],[3]!Tabla8[#All],9,FALSE),\"\")","v":""},{"$f":"IFERROR(VLOOKUP(Tabla38[[#This Row],[CODIGO municipio]],[3]!Tabla8[#All],10,FALSE),\"\")","v":""},{"$f":"IFERROR(VLOOKUP(Tabla38[[#This Row],[CODIGO municipio]],[3]!Tabla8[#All],11,FALSE),\"\")","v":""},{"$f":"IFERROR(VLOOKUP(Tabla38[[#This Row],[CODIGO municipio]],[3]!Tabla8[#All],12,FALSE),\"\")","v":""},{"$f":"IFERROR(VLOOKUP(Tabla38[[#This Row],[CODIGO municipio]],[3]!Tabla8[#All],13,FALSE),\"\")","v":""},{"$f":"IFERROR(VLOOKUP(Tabla38[[#This Row],[CODIGO municipio]],[3]!Tabla8[#All],14,FALSE),\"\")","v":""},{"$f":"IFERROR(VLOOKUP(Tabla38[[#This Row],[CODIGO municipio]],[3]!Tabla8[#All],15,FALSE),\"\")","v":""},{"$f":"IFERROR(VLOOKUP(Tabla38[[#This Row],[CODIGO municipio]],[3]!Tabla8[#All],16,FALSE),\"\")","v":""},{"$f":"IFERROR(VLOOKUP(Tabla38[[#This Row],[CODIGO municipio]],[3]!Tabla8[#All],17,FALSE),\"\")","v":""},{"$f":"IFERROR(VLOOKUP(Tabla38[[#This Row],[CODIGO municipio]],[3]!Tabla8[#All],18,FALSE),\"\")","v":""},{"$f":"IFERROR(VLOOKUP(Tabla38[[#This Row],[CODIGO municipio]],[3]!Tabla8[#All],19,FALSE),\"\")","v":""},{"$f":"IFERROR(VLOOKUP(Tabla38[[#This Row],[CODIGO municipio]],[3]!Tabla8[#All],20,FALSE),\"\")","v":""},{"$f":"IFERROR(VLOOKUP(Tabla38[[#This Row],[CODIGO municipio]],[3]!Tabla8[#All],21,FALSE),\"\")","v":""},{"$f":"IFERROR(VLOOKUP(Tabla38[[#This Row],[CODIGO municipio]],[3]!Tabla8[#All],22,FALSE),\"\")","v":""},{"$f":"IFERROR(VLOOKUP(Tabla38[[#This Row],[CODIGO municipio]],[3]!Tabla8[#All],23,FALSE),\"\")","v":""},{"$f":"IFERROR(VLOOKUP(Tabla38[[#This Row],[CODIGO municipio]],[3]!Tabla9[#All],3,FALSE),\"\")","v":""}]
[{"$f":"IFERROR(VLOOKUP(Tabla38[[#This Row],[Municipio]],[3]!Tabla2[#All],3,FALSE),\"\")","v":""},907,"Cajolá",{"$f":"IFERROR(VLOOKUP(Tabla38[[#This Row],[CODIGO municipio]],[3]!Tabla6[[#All],[codigo_mun]],1,FALSE),\"\")","v":""},{"$f":"IFERROR(VLOOKUP(Tabla38[[#This Row],[CODIGO municipio]],[3]!Tabla12[#All],2,FALSE),\"\")","v":""},{"$f":"IFERROR(VLOOKUP(Tabla38[[#This Row],[CODIGO municipio]],[3]!Tabla7[#All],3,FALSE),\"\")","v":""},{"$f":"IFERROR(VLOOKUP(Tabla38[[#This Row],[CODIGO municipio]],[3]!Tabla7[#All],4,FALSE),\"\")","v":""},{"$f":"IFERROR(VLOOKUP(Tabla38[[#This Row],[CODIGO municipio]],[3]!Tabla7[#All],11,FALSE),\"\")","v":""},{"$f":"IFERROR(VLOOKUP(Tabla38[[#This Row],[CODIGO municipio]],[3]!Tabla7[#All],12,FALSE),\"\")","v":""},{"$f":"IFERROR(VLOOKUP(Tabla38[[#This Row],[CODIGO municipio]],[3]!Tabla7[#All],13,FALSE),\"\")","v":""},{"$f":"IFERROR(VLOOKUP(Tabla38[[#This Row],[CODIGO municipio]],[3]!Tabla7[#All],14,FALSE),\"\")","v":""},{"$f":"IFERROR(VLOOKUP(Tabla38[[#This Row],[CODIGO municipio]],[3]!Tabla7[#All],15,FALSE),\"\")","v":""},{"$f":"IFERROR(VLOOKUP(Tabla38[[#This Row],[CODIGO municipio]],[3]!Tabla7[#All],16,FALSE),\"\")","v":""},{"$f":"IFERROR(VLOOKUP(Tabla38[[#This Row],[CODIGO municipio]],[3]!Tabla7[#All],17,FALSE),\"\")","v":""},{"$f":"IFERROR(VLOOKUP(Tabla38[[#This Row],[CODIGO municipio]],[3]!Tabla7[#All],18,FALSE),\"\")","v":""},{"$f":"IFERROR(VLOOKUP(Tabla38[[#This Row],[CODIGO municipio]],[3]!Tabla7[#All],19,FALSE),\"\")","v":""},{"$f":"IFERROR(VLOOKUP(Tabla38[[#This Row],[CODIGO municipio]],[3]!Tabla8[#All],3,FALSE),\"\")","v":""},{"$f":"IFERROR(VLOOKUP(Tabla38[[#This Row],[CODIGO municipio]],[3]!Tabla8[#All],4,FALSE),\"\")","v":""},{"$f":"IFERROR(VLOOKUP(Tabla38[[#This Row],[CODIGO municipio]],[3]!Tabla8[#All],5,FALSE),\"\")","v":""},{"$f":"IFERROR(VLOOKUP(Tabla38[[#This Row],[CODIGO municipio]],[3]!Tabla8[#All],6,FALSE),\"\")","v":""},{"$f":"IFERROR(VLOOKUP(Tabla38[[#This Row],[CODIGO municipio]],[3]!Tabla8[#All],7,FALSE),\"\")","v":""},{"$f":"IFERROR(VLOOKUP(Tabla38[[#This Row],[CODIGO municipio]],[3]!Tabla8[#All],8,FALSE),\"\")","v":""},{"$f":"IFERROR(VLOOKUP(Tabla38[[#This Row],[CODIGO municipio]],[3]!Tabla8[#All],9,FALSE),\"\")","v":""},{"$f":"IFERROR(VLOOKUP(Tabla38[[#This Row],[CODIGO municipio]],[3]!Tabla8[#All],10,FALSE),\"\")","v":""},{"$f":"IFERROR(VLOOKUP(Tabla38[[#This Row],[CODIGO municipio]],[3]!Tabla8[#All],11,FALSE),\"\")","v":""},{"$f":"IFERROR(VLOOKUP(Tabla38[[#This Row],[CODIGO municipio]],[3]!Tabla8[#All],12,FALSE),\"\")","v":""},{"$f":"IFERROR(VLOOKUP(Tabla38[[#This Row],[CODIGO municipio]],[3]!Tabla8[#All],13,FALSE),\"\")","v":""},{"$f":"IFERROR(VLOOKUP(Tabla38[[#This Row],[CODIGO municipio]],[3]!Tabla8[#All],14,FALSE),\"\")","v":""},{"$f":"IFERROR(VLOOKUP(Tabla38[[#This Row],[CODIGO municipio]],[3]!Tabla8[#All],15,FALSE),\"\")","v":""},{"$f":"IFERROR(VLOOKUP(Tabla38[[#This Row],[CODIGO municipio]],[3]!Tabla8[#All],16,FALSE),\"\")","v":""},{"$f":"IFERROR(VLOOKUP(Tabla38[[#This Row],[CODIGO municipio]],[3]!Tabla8[#All],17,FALSE),\"\")","v":""},{"$f":"IFERROR(VLOOKUP(Tabla38[[#This Row],[CODIGO municipio]],[3]!Tabla8[#All],18,FALSE),\"\")","v":""},{"$f":"IFERROR(VLOOKUP(Tabla38[[#This Row],[CODIGO municipio]],[3]!Tabla8[#All],19,FALSE),\"\")","v":""},{"$f":"IFERROR(VLOOKUP(Tabla38[[#This Row],[CODIGO municipio]],[3]!Tabla8[#All],20,FALSE),\"\")","v":""},{"$f":"IFERROR(VLOOKUP(Tabla38[[#This Row],[CODIGO municipio]],[3]!Tabla8[#All],21,FALSE),\"\")","v":""},{"$f":"IFERROR(VLOOKUP(Tabla38[[#This Row],[CODIGO municipio]],[3]!Tabla8[#All],22,FALSE),\"\")","v":""},{"$f":"IFERROR(VLOOKUP(Tabla38[[#This Row],[CODIGO municipio]],[3]!Tabla8[#All],23,FALSE),\"\")","v":""},{"$f":"IFERROR(VLOOKUP(Tabla38[[#This Row],[CODIGO municipio]],[3]!Tabla9[#All],3,FALSE),\"\")","v":""}]
[{"$f":"IFERROR(VLOOKUP(Tabla38[[#This Row],[Municipio]],[3]!Tabla2[#All],3,FALSE),\"\")","v":""},908,"San Miguel Siguilá",{"$f":"IFERROR(VLOOKUP(Tabla38[[#This Row],[CODIGO municipio]],[3]!Tabla6[[#All],[codigo_mun]],1,FALSE),\"\")","v":""},{"$f":"IFERROR(VLOOKUP(Tabla38[[#This Row],[CODIGO municipio]],[3]!Tabla12[#All],2,FALSE),\"\")","v":""},{"$f":"IFERROR(VLOOKUP(Tabla38[[#This Row],[CODIGO municipio]],[3]!Tabla7[#All],3,FALSE),\"\")","v":""},{"$f":"IFERROR(VLOOKUP(Tabla38[[#This Row],[CODIGO municipio]],[3]!Tabla7[#All],4,FALSE),\"\")","v":""},{"$f":"IFERROR(VLOOKUP(Tabla38[[#This Row],[CODIGO municipio]],[3]!Tabla7[#All],11,FALSE),\"\")","v":""},{"$f":"IFERROR(VLOOKUP(Tabla38[[#This Row],[CODIGO municipio]],[3]!Tabla7[#All],12,FALSE),\"\")","v":""},{"$f":"IFERROR(VLOOKUP(Tabla38[[#This Row],[CODIGO municipio]],[3]!Tabla7[#All],13,FALSE),\"\")","v":""},{"$f":"IFERROR(VLOOKUP(Tabla38[[#This Row],[CODIGO municipio]],[3]!Tabla7[#All],14,FALSE),\"\")","v":""},{"$f":"IFERROR(VLOOKUP(Tabla38[[#This Row],[CODIGO municipio]],[3]!Tabla7[#All],15,FALSE),\"\")","v":""},{"$f":"IFERROR(VLOOKUP(Tabla38[[#This Row],[CODIGO municipio]],[3]!Tabla7[#All],16,FALSE),\"\")","v":""},{"$f":"IFERROR(VLOOKUP(Tabla38[[#This Row],[CODIGO municipio]],[3]!Tabla7[#All],17,FALSE),\"\")","v":""},{"$f":"IFERROR(VLOOKUP(Tabla38[[#This Row],[CODIGO municipio]],[3]!Tabla7[#All],18,FALSE),\"\")","v":""},{"$f":"IFERROR(VLOOKUP(Tabla38[[#This Row],[CODIGO municipio]],[3]!Tabla7[#All],19,FALSE),\"\")","v":""},{"$f":"IFERROR(VLOOKUP(Tabla38[[#This Row],[CODIGO municipio]],[3]!Tabla8[#All],3,FALSE),\"\")","v":""},{"$f":"IFERROR(VLOOKUP(Tabla38[[#This Row],[CODIGO municipio]],[3]!Tabla8[#All],4,FALSE),\"\")","v":""},{"$f":"IFERROR(VLOOKUP(Tabla38[[#This Row],[CODIGO municipio]],[3]!Tabla8[#All],5,FALSE),\"\")","v":""},{"$f":"IFERROR(VLOOKUP(Tabla38[[#This Row],[CODIGO municipio]],[3]!Tabla8[#All],6,FALSE),\"\")","v":""},{"$f":"IFERROR(VLOOKUP(Tabla38[[#This Row],[CODIGO municipio]],[3]!Tabla8[#All],7,FALSE),\"\")","v":""},{"$f":"IFERROR(VLOOKUP(Tabla38[[#This Row],[CODIGO municipio]],[3]!Tabla8[#All],8,FALSE),\"\")","v":""},{"$f":"IFERROR(VLOOKUP(Tabla38[[#This Row],[CODIGO municipio]],[3]!Tabla8[#All],9,FALSE),\"\")","v":""},{"$f":"IFERROR(VLOOKUP(Tabla38[[#This Row],[CODIGO municipio]],[3]!Tabla8[#All],10,FALSE),\"\")","v":""},{"$f":"IFERROR(VLOOKUP(Tabla38[[#This Row],[CODIGO municipio]],[3]!Tabla8[#All],11,FALSE),\"\")","v":""},{"$f":"IFERROR(VLOOKUP(Tabla38[[#This Row],[CODIGO municipio]],[3]!Tabla8[#All],12,FALSE),\"\")","v":""},{"$f":"IFERROR(VLOOKUP(Tabla38[[#This Row],[CODIGO municipio]],[3]!Tabla8[#All],13,FALSE),\"\")","v":""},{"$f":"IFERROR(VLOOKUP(Tabla38[[#This Row],[CODIGO municipio]],[3]!Tabla8[#All],14,FALSE),\"\")","v":""},{"$f":"IFERROR(VLOOKUP(Tabla38[[#This Row],[CODIGO municipio]],[3]!Tabla8[#All],15,FALSE),\"\")","v":""},{"$f":"IFERROR(VLOOKUP(Tabla38[[#This Row],[CODIGO municipio]],[3]!Tabla8[#All],16,FALSE),\"\")","v":""},{"$f":"IFERROR(VLOOKUP(Tabla38[[#This Row],[CODIGO municipio]],[3]!Tabla8[#All],17,FALSE),\"\")","v":""},{"$f":"IFERROR(VLOOKUP(Tabla38[[#This Row],[CODIGO municipio]],[3]!Tabla8[#All],18,FALSE),\"\")","v":""},{"$f":"IFERROR(VLOOKUP(Tabla38[[#This Row],[CODIGO municipio]],[3]!Tabla8[#All],19,FALSE),\"\")","v":""},{"$f":"IFERROR(VLOOKUP(Tabla38[[#This Row],[CODIGO municipio]],[3]!Tabla8[#All],20,FALSE),\"\")","v":""},{"$f":"IFERROR(VLOOKUP(Tabla38[[#This Row],[CODIGO municipio]],[3]!Tabla8[#All],21,FALSE),\"\")","v":""},{"$f":"IFERROR(VLOOKUP(Tabla38[[#This Row],[CODIGO municipio]],[3]!Tabla8[#All],22,FALSE),\"\")","v":""},{"$f":"IFERROR(VLOOKUP(Tabla38[[#This Row],[CODIGO municipio]],[3]!Tabla8[#All],23,FALSE),\"\")","v":""},{"$f":"IFERROR(VLOOKUP(Tabla38[[#This Row],[CODIGO municipio]],[3]!Tabla9[#All],3,FALSE),\"\")","v":""}]
[{"$f":"IFERROR(VLOOKUP(Tabla38[[#This Row],[Municipio]],[3]!Tabla2[#All],3,FALSE),\"\")","v":""},909,"San Juan Ostuncalco",{"$f":"IFERROR(VLOOKUP(Tabla38[[#This Row],[CODIGO municipio]],[3]!Tabla6[[#All],[codigo_mun]],1,FALSE),\"\")","v":""},{"$f":"IFERROR(VLOOKUP(Tabla38[[#This Row],[CODIGO municipio]],[3]!Tabla12[#All],2,FALSE),\"\")","v":""},{"$f":"IFERROR(VLOOKUP(Tabla38[[#This Row],[CODIGO municipio]],[3]!Tabla7[#All],3,FALSE),\"\")","v":""},{"$f":"IFERROR(VLOOKUP(Tabla38[[#This Row],[CODIGO municipio]],[3]!Tabla7[#All],4,FALSE),\"\")","v":""},{"$f":"IFERROR(VLOOKUP(Tabla38[[#This Row],[CODIGO municipio]],[3]!Tabla7[#All],11,FALSE),\"\")","v":""},{"$f":"IFERROR(VLOOKUP(Tabla38[[#This Row],[CODIGO municipio]],[3]!Tabla7[#All],12,FALSE),\"\")","v":""},{"$f":"IFERROR(VLOOKUP(Tabla38[[#This Row],[CODIGO municipio]],[3]!Tabla7[#All],13,FALSE),\"\")","v":""},{"$f":"IFERROR(VLOOKUP(Tabla38[[#This Row],[CODIGO municipio]],[3]!Tabla7[#All],14,FALSE),\"\")","v":""},{"$f":"IFERROR(VLOOKUP(Tabla38[[#This Row],[CODIGO municipio]],[3]!Tabla7[#All],15,FALSE),\"\")","v":""},{"$f":"IFERROR(VLOOKUP(Tabla38[[#This Row],[CODIGO municipio]],[3]!Tabla7[#All],16,FALSE),\"\")","v":""},{"$f":"IFERROR(VLOOKUP(Tabla38[[#This Row],[CODIGO municipio]],[3]!Tabla7[#All],17,FALSE),\"\")","v":""},{"$f":"IFERROR(VLOOKUP(Tabla38[[#This Row],[CODIGO municipio]],[3]!Tabla7[#All],18,FALSE),\"\")","v":""},{"$f":"IFERROR(VLOOKUP(Tabla38[[#This Row],[CODIGO municipio]],[3]!Tabla7[#All],19,FALSE),\"\")","v":""},{"$f":"IFERROR(VLOOKUP(Tabla38[[#This Row],[CODIGO municipio]],[3]!Tabla8[#All],3,FALSE),\"\")","v":""},{"$f":"IFERROR(VLOOKUP(Tabla38[[#This Row],[CODIGO municipio]],[3]!Tabla8[#All],4,FALSE),\"\")","v":""},{"$f":"IFERROR(VLOOKUP(Tabla38[[#This Row],[CODIGO municipio]],[3]!Tabla8[#All],5,FALSE),\"\")","v":""},{"$f":"IFERROR(VLOOKUP(Tabla38[[#This Row],[CODIGO municipio]],[3]!Tabla8[#All],6,FALSE),\"\")","v":""},{"$f":"IFERROR(VLOOKUP(Tabla38[[#This Row],[CODIGO municipio]],[3]!Tabla8[#All],7,FALSE),\"\")","v":""},{"$f":"IFERROR(VLOOKUP(Tabla38[[#This Row],[CODIGO municipio]],[3]!Tabla8[#All],8,FALSE),\"\")","v":""},{"$f":"IFERROR(VLOOKUP(Tabla38[[#This Row],[CODIGO municipio]],[3]!Tabla8[#All],9,FALSE),\"\")","v":""},{"$f":"IFERROR(VLOOKUP(Tabla38[[#This Row],[CODIGO municipio]],[3]!Tabla8[#All],10,FALSE),\"\")","v":""},{"$f":"IFERROR(VLOOKUP(Tabla38[[#This Row],[CODIGO municipio]],[3]!Tabla8[#All],11,FALSE),\"\")","v":""},{"$f":"IFERROR(VLOOKUP(Tabla38[[#This Row],[CODIGO municipio]],[3]!Tabla8[#All],12,FALSE),\"\")","v":""},{"$f":"IFERROR(VLOOKUP(Tabla38[[#This Row],[CODIGO municipio]],[3]!Tabla8[#All],13,FALSE),\"\")","v":""},{"$f":"IFERROR(VLOOKUP(Tabla38[[#This Row],[CODIGO municipio]],[3]!Tabla8[#All],14,FALSE),\"\")","v":""},{"$f":"IFERROR(VLOOKUP(Tabla38[[#This Row],[CODIGO municipio]],[3]!Tabla8[#All],15,FALSE),\"\")","v":""},{"$f":"IFERROR(VLOOKUP(Tabla38[[#This Row],[CODIGO municipio]],[3]!Tabla8[#All],16,FALSE),\"\")","v":""},{"$f":"IFERROR(VLOOKUP(Tabla38[[#This Row],[CODIGO municipio]],[3]!Tabla8[#All],17,FALSE),\"\")","v":""},{"$f":"IFERROR(VLOOKUP(Tabla38[[#This Row],[CODIGO municipio]],[3]!Tabla8[#All],18,FALSE),\"\")","v":""},{"$f":"IFERROR(VLOOKUP(Tabla38[[#This Row],[CODIGO municipio]],[3]!Tabla8[#All],19,FALSE),\"\")","v":""},{"$f":"IFERROR(VLOOKUP(Tabla38[[#This Row],[CODIGO municipio]],[3]!Tabla8[#All],20,FALSE),\"\")","v":""},{"$f":"IFERROR(VLOOKUP(Tabla38[[#This Row],[CODIGO municipio]],[3]!Tabla8[#All],21,FALSE),\"\")","v":""},{"$f":"IFERROR(VLOOKUP(Tabla38[[#This Row],[CODIGO municipio]],[3]!Tabla8[#All],22,FALSE),\"\")","v":""},{"$f":"IFERROR(VLOOKUP(Tabla38[[#This Row],[CODIGO municipio]],[3]!Tabla8[#All],23,FALSE),\"\")","v":""},{"$f":"IFERROR(VLOOKUP(Tabla38[[#This Row],[CODIGO municipio]],[3]!Tabla9[#All],3,FALSE),\"\")","v":""}]
[{"$f":"IFERROR(VLOOKUP(Tabla38[[#This Row],[Municipio]],[3]!Tabla2[#All],3,FALSE),\"\")","v":""},910,"San Mateo",{"$f":"IFERROR(VLOOKUP(Tabla38[[#This Row],[CODIGO municipio]],[3]!Tabla6[[#All],[codigo_mun]],1,FALSE),\"\")","v":""},{"$f":"IFERROR(VLOOKUP(Tabla38[[#This Row],[CODIGO municipio]],[3]!Tabla12[#All],2,FALSE),\"\")","v":""},{"$f":"IFERROR(VLOOKUP(Tabla38[[#This Row],[CODIGO municipio]],[3]!Tabla7[#All],3,FALSE),\"\")","v":""},{"$f":"IFERROR(VLOOKUP(Tabla38[[#This Row],[CODIGO municipio]],[3]!Tabla7[#All],4,FALSE),\"\")","v":""},{"$f":"IFERROR(VLOOKUP(Tabla38[[#This Row],[CODIGO municipio]],[3]!Tabla7[#All],11,FALSE),\"\")","v":""},{"$f":"IFERROR(VLOOKUP(Tabla38[[#This Row],[CODIGO municipio]],[3]!Tabla7[#All],12,FALSE),\"\")","v":""},{"$f":"IFERROR(VLOOKUP(Tabla38[[#This Row],[CODIGO municipio]],[3]!Tabla7[#All],13,FALSE),\"\")","v":""},{"$f":"IFERROR(VLOOKUP(Tabla38[[#This Row],[CODIGO municipio]],[3]!Tabla7[#All],14,FALSE),\"\")","v":""},{"$f":"IFERROR(VLOOKUP(Tabla38[[#This Row],[CODIGO municipio]],[3]!Tabla7[#All],15,FALSE),\"\")","v":""},{"$f":"IFERROR(VLOOKUP(Tabla38[[#This Row],[CODIGO municipio]],[3]!Tabla7[#All],16,FALSE),\"\")","v":""},{"$f":"IFERROR(VLOOKUP(Tabla38[[#This Row],[CODIGO municipio]],[3]!Tabla7[#All],17,FALSE),\"\")","v":""},{"$f":"IFERROR(VLOOKUP(Tabla38[[#This Row],[CODIGO municipio]],[3]!Tabla7[#All],18,FALSE),\"\")","v":""},{"$f":"IFERROR(VLOOKUP(Tabla38[[#This Row],[CODIGO municipio]],[3]!Tabla7[#All],19,FALSE),\"\")","v":""},{"$f":"IFERROR(VLOOKUP(Tabla38[[#This Row],[CODIGO municipio]],[3]!Tabla8[#All],3,FALSE),\"\")","v":""},{"$f":"IFERROR(VLOOKUP(Tabla38[[#This Row],[CODIGO municipio]],[3]!Tabla8[#All],4,FALSE),\"\")","v":""},{"$f":"IFERROR(VLOOKUP(Tabla38[[#This Row],[CODIGO municipio]],[3]!Tabla8[#All],5,FALSE),\"\")","v":""},{"$f":"IFERROR(VLOOKUP(Tabla38[[#This Row],[CODIGO municipio]],[3]!Tabla8[#All],6,FALSE),\"\")","v":""},{"$f":"IFERROR(VLOOKUP(Tabla38[[#This Row],[CODIGO municipio]],[3]!Tabla8[#All],7,FALSE),\"\")","v":""},{"$f":"IFERROR(VLOOKUP(Tabla38[[#This Row],[CODIGO municipio]],[3]!Tabla8[#All],8,FALSE),\"\")","v":""},{"$f":"IFERROR(VLOOKUP(Tabla38[[#This Row],[CODIGO municipio]],[3]!Tabla8[#All],9,FALSE),\"\")","v":""},{"$f":"IFERROR(VLOOKUP(Tabla38[[#This Row],[CODIGO municipio]],[3]!Tabla8[#All],10,FALSE),\"\")","v":""},{"$f":"IFERROR(VLOOKUP(Tabla38[[#This Row],[CODIGO municipio]],[3]!Tabla8[#All],11,FALSE),\"\")","v":""},{"$f":"IFERROR(VLOOKUP(Tabla38[[#This Row],[CODIGO municipio]],[3]!Tabla8[#All],12,FALSE),\"\")","v":""},{"$f":"IFERROR(VLOOKUP(Tabla38[[#This Row],[CODIGO municipio]],[3]!Tabla8[#All],13,FALSE),\"\")","v":""},{"$f":"IFERROR(VLOOKUP(Tabla38[[#This Row],[CODIGO municipio]],[3]!Tabla8[#All],14,FALSE),\"\")","v":""},{"$f":"IFERROR(VLOOKUP(Tabla38[[#This Row],[CODIGO municipio]],[3]!Tabla8[#All],15,FALSE),\"\")","v":""},{"$f":"IFERROR(VLOOKUP(Tabla38[[#This Row],[CODIGO municipio]],[3]!Tabla8[#All],16,FALSE),\"\")","v":""},{"$f":"IFERROR(VLOOKUP(Tabla38[[#This Row],[CODIGO municipio]],[3]!Tabla8[#All],17,FALSE),\"\")","v":""},{"$f":"IFERROR(VLOOKUP(Tabla38[[#This Row],[CODIGO municipio]],[3]!Tabla8[#All],18,FALSE),\"\")","v":""},{"$f":"IFERROR(VLOOKUP(Tabla38[[#This Row],[CODIGO municipio]],[3]!Tabla8[#All],19,FALSE),\"\")","v":""},{"$f":"IFERROR(VLOOKUP(Tabla38[[#This Row],[CODIGO municipio]],[3]!Tabla8[#All],20,FALSE),\"\")","v":""},{"$f":"IFERROR(VLOOKUP(Tabla38[[#This Row],[CODIGO municipio]],[3]!Tabla8[#All],21,FALSE),\"\")","v":""},{"$f":"IFERROR(VLOOKUP(Tabla38[[#This Row],[CODIGO municipio]],[3]!Tabla8[#All],22,FALSE),\"\")","v":""},{"$f":"IFERROR(VLOOKUP(Tabla38[[#This Row],[CODIGO municipio]],[3]!Tabla8[#All],23,FALSE),\"\")","v":""},{"$f":"IFERROR(VLOOKUP(Tabla38[[#This Row],[CODIGO municipio]],[3]!Tabla9[#All],3,FALSE),\"\")","v":""}]
[{"$f":"IFERROR(VLOOKUP(Tabla38[[#This Row],[Municipio]],[3]!Tabla2[#All],3,FALSE),\"\")","v":""},911,"Concepción Chiquirichapa",{"$f":"IFERROR(VLOOKUP(Tabla38[[#This Row],[CODIGO municipio]],[3]!Tabla6[[#All],[codigo_mun]],1,FALSE),\"\")","v":""},{"$f":"IFERROR(VLOOKUP(Tabla38[[#This Row],[CODIGO municipio]],[3]!Tabla12[#All],2,FALSE),\"\")","v":""},{"$f":"IFERROR(VLOOKUP(Tabla38[[#This Row],[CODIGO municipio]],[3]!Tabla7[#All],3,FALSE),\"\")","v":""},{"$f":"IFERROR(VLOOKUP(Tabla38[[#This Row],[CODIGO municipio]],[3]!Tabla7[#All],4,FALSE),\"\")","v":""},{"$f":"IFERROR(VLOOKUP(Tabla38[[#This Row],[CODIGO municipio]],[3]!Tabla7[#All],11,FALSE),\"\")","v":""},{"$f":"IFERROR(VLOOKUP(Tabla38[[#This Row],[CODIGO municipio]],[3]!Tabla7[#All],12,FALSE),\"\")","v":""},{"$f":"IFERROR(VLOOKUP(Tabla38[[#This Row],[CODIGO municipio]],[3]!Tabla7[#All],13,FALSE),\"\")","v":""},{"$f":"IFERROR(VLOOKUP(Tabla38[[#This Row],[CODIGO municipio]],[3]!Tabla7[#All],14,FALSE),\"\")","v":""},{"$f":"IFERROR(VLOOKUP(Tabla38[[#This Row],[CODIGO municipio]],[3]!Tabla7[#All],15,FALSE),\"\")","v":""},{"$f":"IFERROR(VLOOKUP(Tabla38[[#This Row],[CODIGO municipio]],[3]!Tabla7[#All],16,FALSE),\"\")","v":""},{"$f":"IFERROR(VLOOKUP(Tabla38[[#This Row],[CODIGO municipio]],[3]!Tabla7[#All],17,FALSE),\"\")","v":""},{"$f":"IFERROR(VLOOKUP(Tabla38[[#This Row],[CODIGO municipio]],[3]!Tabla7[#All],18,FALSE),\"\")","v":""},{"$f":"IFERROR(VLOOKUP(Tabla38[[#This Row],[CODIGO municipio]],[3]!Tabla7[#All],19,FALSE),\"\")","v":""},{"$f":"IFERROR(VLOOKUP(Tabla38[[#This Row],[CODIGO municipio]],[3]!Tabla8[#All],3,FALSE),\"\")","v":""},{"$f":"IFERROR(VLOOKUP(Tabla38[[#This Row],[CODIGO municipio]],[3]!Tabla8[#All],4,FALSE),\"\")","v":""},{"$f":"IFERROR(VLOOKUP(Tabla38[[#This Row],[CODIGO municipio]],[3]!Tabla8[#All],5,FALSE),\"\")","v":""},{"$f":"IFERROR(VLOOKUP(Tabla38[[#This Row],[CODIGO municipio]],[3]!Tabla8[#All],6,FALSE),\"\")","v":""},{"$f":"IFERROR(VLOOKUP(Tabla38[[#This Row],[CODIGO municipio]],[3]!Tabla8[#All],7,FALSE),\"\")","v":""},{"$f":"IFERROR(VLOOKUP(Tabla38[[#This Row],[CODIGO municipio]],[3]!Tabla8[#All],8,FALSE),\"\")","v":""},{"$f":"IFERROR(VLOOKUP(Tabla38[[#This Row],[CODIGO municipio]],[3]!Tabla8[#All],9,FALSE),\"\")","v":""},{"$f":"IFERROR(VLOOKUP(Tabla38[[#This Row],[CODIGO municipio]],[3]!Tabla8[#All],10,FALSE),\"\")","v":""},{"$f":"IFERROR(VLOOKUP(Tabla38[[#This Row],[CODIGO municipio]],[3]!Tabla8[#All],11,FALSE),\"\")","v":""},{"$f":"IFERROR(VLOOKUP(Tabla38[[#This Row],[CODIGO municipio]],[3]!Tabla8[#All],12,FALSE),\"\")","v":""},{"$f":"IFERROR(VLOOKUP(Tabla38[[#This Row],[CODIGO municipio]],[3]!Tabla8[#All],13,FALSE),\"\")","v":""},{"$f":"IFERROR(VLOOKUP(Tabla38[[#This Row],[CODIGO municipio]],[3]!Tabla8[#All],14,FALSE),\"\")","v":""},{"$f":"IFERROR(VLOOKUP(Tabla38[[#This Row],[CODIGO municipio]],[3]!Tabla8[#All],15,FALSE),\"\")","v":""},{"$f":"IFERROR(VLOOKUP(Tabla38[[#This Row],[CODIGO municipio]],[3]!Tabla8[#All],16,FALSE),\"\")","v":""},{"$f":"IFERROR(VLOOKUP(Tabla38[[#This Row],[CODIGO municipio]],[3]!Tabla8[#All],17,FALSE),\"\")","v":""},{"$f":"IFERROR(VLOOKUP(Tabla38[[#This Row],[CODIGO municipio]],[3]!Tabla8[#All],18,FALSE),\"\")","v":""},{"$f":"IFERROR(VLOOKUP(Tabla38[[#This Row],[CODIGO municipio]],[3]!Tabla8[#All],19,FALSE),\"\")","v":""},{"$f":"IFERROR(VLOOKUP(Tabla38[[#This Row],[CODIGO municipio]],[3]!Tabla8[#All],20,FALSE),\"\")","v":""},{"$f":"IFERROR(VLOOKUP(Tabla38[[#This Row],[CODIGO municipio]],[3]!Tabla8[#All],21,FALSE),\"\")","v":""},{"$f":"IFERROR(VLOOKUP(Tabla38[[#This Row],[CODIGO municipio]],[3]!Tabla8[#All],22,FALSE),\"\")","v":""},{"$f":"IFERROR(VLOOKUP(Tabla38[[#This Row],[CODIGO municipio]],[3]!Tabla8[#All],23,FALSE),\"\")","v":""},{"$f":"IFERROR(VLOOKUP(Tabla38[[#This Row],[CODIGO municipio]],[3]!Tabla9[#All],3,FALSE),\"\")","v":""}]
[{"$f":"IFERROR(VLOOKUP(Tabla38[[#This Row],[Municipio]],[3]!Tabla2[#All],3,FALSE),\"\")","v":""},912,"San Martín Sacatepéquez",{"$f":"IFERROR(VLOOKUP(Tabla38[[#This Row],[CODIGO municipio]],[3]!Tabla6[[#All],[codigo_mun]],1,FALSE),\"\")","v":""},{"$f":"IFERROR(VLOOKUP(Tabla38[[#This Row],[CODIGO municipio]],[3]!Tabla12[#All],2,FALSE),\"\")","v":""},{"$f":"IFERROR(VLOOKUP(Tabla38[[#This Row],[CODIGO municipio]],[3]!Tabla7[#All],3,FALSE),\"\")","v":""},{"$f":"IFERROR(VLOOKUP(Tabla38[[#This Row],[CODIGO municipio]],[3]!Tabla7[#All],4,FALSE),\"\")","v":""},{"$f":"IFERROR(VLOOKUP(Tabla38[[#This Row],[CODIGO municipio]],[3]!Tabla7[#All],11,FALSE),\"\")","v":""},{"$f":"IFERROR(VLOOKUP(Tabla38[[#This Row],[CODIGO municipio]],[3]!Tabla7[#All],12,FALSE),\"\")","v":""},{"$f":"IFERROR(VLOOKUP(Tabla38[[#This Row],[CODIGO municipio]],[3]!Tabla7[#All],13,FALSE),\"\")","v":""},{"$f":"IFERROR(VLOOKUP(Tabla38[[#This Row],[CODIGO municipio]],[3]!Tabla7[#All],14,FALSE),\"\")","v":""},{"$f":"IFERROR(VLOOKUP(Tabla38[[#This Row],[CODIGO municipio]],[3]!Tabla7[#All],15,FALSE),\"\")","v":""},{"$f":"IFERROR(VLOOKUP(Tabla38[[#This Row],[CODIGO municipio]],[3]!Tabla7[#All],16,FALSE),\"\")","v":""},{"$f":"IFERROR(VLOOKUP(Tabla38[[#This Row],[CODIGO municipio]],[3]!Tabla7[#All],17,FALSE),\"\")","v":""},{"$f":"IFERROR(VLOOKUP(Tabla38[[#This Row],[CODIGO municipio]],[3]!Tabla7[#All],18,FALSE),\"\")","v":""},{"$f":"IFERROR(VLOOKUP(Tabla38[[#This Row],[CODIGO municipio]],[3]!Tabla7[#All],19,FALSE),\"\")","v":""},{"$f":"IFERROR(VLOOKUP(Tabla38[[#This Row],[CODIGO municipio]],[3]!Tabla8[#All],3,FALSE),\"\")","v":""},{"$f":"IFERROR(VLOOKUP(Tabla38[[#This Row],[CODIGO municipio]],[3]!Tabla8[#All],4,FALSE),\"\")","v":""},{"$f":"IFERROR(VLOOKUP(Tabla38[[#This Row],[CODIGO municipio]],[3]!Tabla8[#All],5,FALSE),\"\")","v":""},{"$f":"IFERROR(VLOOKUP(Tabla38[[#This Row],[CODIGO municipio]],[3]!Tabla8[#All],6,FALSE),\"\")","v":""},{"$f":"IFERROR(VLOOKUP(Tabla38[[#This Row],[CODIGO municipio]],[3]!Tabla8[#All],7,FALSE),\"\")","v":""},{"$f":"IFERROR(VLOOKUP(Tabla38[[#This Row],[CODIGO municipio]],[3]!Tabla8[#All],8,FALSE),\"\")","v":""},{"$f":"IFERROR(VLOOKUP(Tabla38[[#This Row],[CODIGO municipio]],[3]!Tabla8[#All],9,FALSE),\"\")","v":""},{"$f":"IFERROR(VLOOKUP(Tabla38[[#This Row],[CODIGO municipio]],[3]!Tabla8[#All],10,FALSE),\"\")","v":""},{"$f":"IFERROR(VLOOKUP(Tabla38[[#This Row],[CODIGO municipio]],[3]!Tabla8[#All],11,FALSE),\"\")","v":""},{"$f":"IFERROR(VLOOKUP(Tabla38[[#This Row],[CODIGO municipio]],[3]!Tabla8[#All],12,FALSE),\"\")","v":""},{"$f":"IFERROR(VLOOKUP(Tabla38[[#This Row],[CODIGO municipio]],[3]!Tabla8[#All],13,FALSE),\"\")","v":""},{"$f":"IFERROR(VLOOKUP(Tabla38[[#This Row],[CODIGO municipio]],[3]!Tabla8[#All],14,FALSE),\"\")","v":""},{"$f":"IFERROR(VLOOKUP(Tabla38[[#This Row],[CODIGO municipio]],[3]!Tabla8[#All],15,FALSE),\"\")","v":""},{"$f":"IFERROR(VLOOKUP(Tabla38[[#This Row],[CODIGO municipio]],[3]!Tabla8[#All],16,FALSE),\"\")","v":""},{"$f":"IFERROR(VLOOKUP(Tabla38[[#This Row],[CODIGO municipio]],[3]!Tabla8[#All],17,FALSE),\"\")","v":""},{"$f":"IFERROR(VLOOKUP(Tabla38[[#This Row],[CODIGO municipio]],[3]!Tabla8[#All],18,FALSE),\"\")","v":""},{"$f":"IFERROR(VLOOKUP(Tabla38[[#This Row],[CODIGO municipio]],[3]!Tabla8[#All],19,FALSE),\"\")","v":""},{"$f":"IFERROR(VLOOKUP(Tabla38[[#This Row],[CODIGO municipio]],[3]!Tabla8[#All],20,FALSE),\"\")","v":""},{"$f":"IFERROR(VLOOKUP(Tabla38[[#This Row],[CODIGO municipio]],[3]!Tabla8[#All],21,FALSE),\"\")","v":""},{"$f":"IFERROR(VLOOKUP(Tabla38[[#This Row],[CODIGO municipio]],[3]!Tabla8[#All],22,FALSE),\"\")","v":""},{"$f":"IFERROR(VLOOKUP(Tabla38[[#This Row],[CODIGO municipio]],[3]!Tabla8[#All],23,FALSE),\"\")","v":""},{"$f":"IFERROR(VLOOKUP(Tabla38[[#This Row],[CODIGO municipio]],[3]!Tabla9[#All],3,FALSE),\"\")","v":""}]
[{"$f":"IFERROR(VLOOKUP(Tabla38[[#This Row],[Municipio]],[3]!Tabla2[#All],3,FALSE),\"\")","v":""},913,"Almolonga",{"$f":"IFERROR(VLOOKUP(Tabla38[[#This Row],[CODIGO municipio]],[3]!Tabla6[[#All],[codigo_mun]],1,FALSE),\"\")","v":""},{"$f":"IFERROR(VLOOKUP(Tabla38[[#This Row],[CODIGO municipio]],[3]!Tabla12[#All],2,FALSE),\"\")","v":""},{"$f":"IFERROR(VLOOKUP(Tabla38[[#This Row],[CODIGO municipio]],[3]!Tabla7[#All],3,FALSE),\"\")","v":""},{"$f":"IFERROR(VLOOKUP(Tabla38[[#This Row],[CODIGO municipio]],[3]!Tabla7[#All],4,FALSE),\"\")","v":""},{"$f":"IFERROR(VLOOKUP(Tabla38[[#This Row],[CODIGO municipio]],[3]!Tabla7[#All],11,FALSE),\"\")","v":""},{"$f":"IFERROR(VLOOKUP(Tabla38[[#This Row],[CODIGO municipio]],[3]!Tabla7[#All],12,FALSE),\"\")","v":""},{"$f":"IFERROR(VLOOKUP(Tabla38[[#This Row],[CODIGO municipio]],[3]!Tabla7[#All],13,FALSE),\"\")","v":""},{"$f":"IFERROR(VLOOKUP(Tabla38[[#This Row],[CODIGO municipio]],[3]!Tabla7[#All],14,FALSE),\"\")","v":""},{"$f":"IFERROR(VLOOKUP(Tabla38[[#This Row],[CODIGO municipio]],[3]!Tabla7[#All],15,FALSE),\"\")","v":""},{"$f":"IFERROR(VLOOKUP(Tabla38[[#This Row],[CODIGO municipio]],[3]!Tabla7[#All],16,FALSE),\"\")","v":""},{"$f":"IFERROR(VLOOKUP(Tabla38[[#This Row],[CODIGO municipio]],[3]!Tabla7[#All],17,FALSE),\"\")","v":""},{"$f":"IFERROR(VLOOKUP(Tabla38[[#This Row],[CODIGO municipio]],[3]!Tabla7[#All],18,FALSE),\"\")","v":""},{"$f":"IFERROR(VLOOKUP(Tabla38[[#This Row],[CODIGO municipio]],[3]!Tabla7[#All],19,FALSE),\"\")","v":""},{"$f":"IFERROR(VLOOKUP(Tabla38[[#This Row],[CODIGO municipio]],[3]!Tabla8[#All],3,FALSE),\"\")","v":""},{"$f":"IFERROR(VLOOKUP(Tabla38[[#This Row],[CODIGO municipio]],[3]!Tabla8[#All],4,FALSE),\"\")","v":""},{"$f":"IFERROR(VLOOKUP(Tabla38[[#This Row],[CODIGO municipio]],[3]!Tabla8[#All],5,FALSE),\"\")","v":""},{"$f":"IFERROR(VLOOKUP(Tabla38[[#This Row],[CODIGO municipio]],[3]!Tabla8[#All],6,FALSE),\"\")","v":""},{"$f":"IFERROR(VLOOKUP(Tabla38[[#This Row],[CODIGO municipio]],[3]!Tabla8[#All],7,FALSE),\"\")","v":""},{"$f":"IFERROR(VLOOKUP(Tabla38[[#This Row],[CODIGO municipio]],[3]!Tabla8[#All],8,FALSE),\"\")","v":""},{"$f":"IFERROR(VLOOKUP(Tabla38[[#This Row],[CODIGO municipio]],[3]!Tabla8[#All],9,FALSE),\"\")","v":""},{"$f":"IFERROR(VLOOKUP(Tabla38[[#This Row],[CODIGO municipio]],[3]!Tabla8[#All],10,FALSE),\"\")","v":""},{"$f":"IFERROR(VLOOKUP(Tabla38[[#This Row],[CODIGO municipio]],[3]!Tabla8[#All],11,FALSE),\"\")","v":""},{"$f":"IFERROR(VLOOKUP(Tabla38[[#This Row],[CODIGO municipio]],[3]!Tabla8[#All],12,FALSE),\"\")","v":""},{"$f":"IFERROR(VLOOKUP(Tabla38[[#This Row],[CODIGO municipio]],[3]!Tabla8[#All],13,FALSE),\"\")","v":""},{"$f":"IFERROR(VLOOKUP(Tabla38[[#This Row],[CODIGO municipio]],[3]!Tabla8[#All],14,FALSE),\"\")","v":""},{"$f":"IFERROR(VLOOKUP(Tabla38[[#This Row],[CODIGO municipio]],[3]!Tabla8[#All],15,FALSE),\"\")","v":""},{"$f":"IFERROR(VLOOKUP(Tabla38[[#This Row],[CODIGO municipio]],[3]!Tabla8[#All],16,FALSE),\"\")","v":""},{"$f":"IFERROR(VLOOKUP(Tabla38[[#This Row],[CODIGO municipio]],[3]!Tabla8[#All],17,FALSE),\"\")","v":""},{"$f":"IFERROR(VLOOKUP(Tabla38[[#This Row],[CODIGO municipio]],[3]!Tabla8[#All],18,FALSE),\"\")","v":""},{"$f":"IFERROR(VLOOKUP(Tabla38[[#This Row],[CODIGO municipio]],[3]!Tabla8[#All],19,FALSE),\"\")","v":""},{"$f":"IFERROR(VLOOKUP(Tabla38[[#This Row],[CODIGO municipio]],[3]!Tabla8[#All],20,FALSE),\"\")","v":""},{"$f":"IFERROR(VLOOKUP(Tabla38[[#This Row],[CODIGO municipio]],[3]!Tabla8[#All],21,FALSE),\"\")","v":""},{"$f":"IFERROR(VLOOKUP(Tabla38[[#This Row],[CODIGO municipio]],[3]!Tabla8[#All],22,FALSE),\"\")","v":""},{"$f":"IFERROR(VLOOKUP(Tabla38[[#This Row],[CODIGO municipio]],[3]!Tabla8[#All],23,FALSE),\"\")","v":""},{"$f":"IFERROR(VLOOKUP(Tabla38[[#This Row],[CODIGO municipio]],[3]!Tabla9[#All],3,FALSE),\"\")","v":""}]
[{"$f":"IFERROR(VLOOKUP(Tabla38[[#This Row],[Municipio]],[3]!Tabla2[#All],3,FALSE),\"\")","v":""},914,"Cantel",{"$f":"IFERROR(VLOOKUP(Tabla38[[#This Row],[CODIGO municipio]],[3]!Tabla6[[#All],[codigo_mun]],1,FALSE),\"\")","v":""},{"$f":"IFERROR(VLOOKUP(Tabla38[[#This Row],[CODIGO municipio]],[3]!Tabla12[#All],2,FALSE),\"\")","v":""},{"$f":"IFERROR(VLOOKUP(Tabla38[[#This Row],[CODIGO municipio]],[3]!Tabla7[#All],3,FALSE),\"\")","v":""},{"$f":"IFERROR(VLOOKUP(Tabla38[[#This Row],[CODIGO municipio]],[3]!Tabla7[#All],4,FALSE),\"\")","v":""},{"$f":"IFERROR(VLOOKUP(Tabla38[[#This Row],[CODIGO municipio]],[3]!Tabla7[#All],11,FALSE),\"\")","v":""},{"$f":"IFERROR(VLOOKUP(Tabla38[[#This Row],[CODIGO municipio]],[3]!Tabla7[#All],12,FALSE),\"\")","v":""},{"$f":"IFERROR(VLOOKUP(Tabla38[[#This Row],[CODIGO municipio]],[3]!Tabla7[#All],13,FALSE),\"\")","v":""},{"$f":"IFERROR(VLOOKUP(Tabla38[[#This Row],[CODIGO municipio]],[3]!Tabla7[#All],14,FALSE),\"\")","v":""},{"$f":"IFERROR(VLOOKUP(Tabla38[[#This Row],[CODIGO municipio]],[3]!Tabla7[#All],15,FALSE),\"\")","v":""},{"$f":"IFERROR(VLOOKUP(Tabla38[[#This Row],[CODIGO municipio]],[3]!Tabla7[#All],16,FALSE),\"\")","v":""},{"$f":"IFERROR(VLOOKUP(Tabla38[[#This Row],[CODIGO municipio]],[3]!Tabla7[#All],17,FALSE),\"\")","v":""},{"$f":"IFERROR(VLOOKUP(Tabla38[[#This Row],[CODIGO municipio]],[3]!Tabla7[#All],18,FALSE),\"\")","v":""},{"$f":"IFERROR(VLOOKUP(Tabla38[[#This Row],[CODIGO municipio]],[3]!Tabla7[#All],19,FALSE),\"\")","v":""},{"$f":"IFERROR(VLOOKUP(Tabla38[[#This Row],[CODIGO municipio]],[3]!Tabla8[#All],3,FALSE),\"\")","v":""},{"$f":"IFERROR(VLOOKUP(Tabla38[[#This Row],[CODIGO municipio]],[3]!Tabla8[#All],4,FALSE),\"\")","v":""},{"$f":"IFERROR(VLOOKUP(Tabla38[[#This Row],[CODIGO municipio]],[3]!Tabla8[#All],5,FALSE),\"\")","v":""},{"$f":"IFERROR(VLOOKUP(Tabla38[[#This Row],[CODIGO municipio]],[3]!Tabla8[#All],6,FALSE),\"\")","v":""},{"$f":"IFERROR(VLOOKUP(Tabla38[[#This Row],[CODIGO municipio]],[3]!Tabla8[#All],7,FALSE),\"\")","v":""},{"$f":"IFERROR(VLOOKUP(Tabla38[[#This Row],[CODIGO municipio]],[3]!Tabla8[#All],8,FALSE),\"\")","v":""},{"$f":"IFERROR(VLOOKUP(Tabla38[[#This Row],[CODIGO municipio]],[3]!Tabla8[#All],9,FALSE),\"\")","v":""},{"$f":"IFERROR(VLOOKUP(Tabla38[[#This Row],[CODIGO municipio]],[3]!Tabla8[#All],10,FALSE),\"\")","v":""},{"$f":"IFERROR(VLOOKUP(Tabla38[[#This Row],[CODIGO municipio]],[3]!Tabla8[#All],11,FALSE),\"\")","v":""},{"$f":"IFERROR(VLOOKUP(Tabla38[[#This Row],[CODIGO municipio]],[3]!Tabla8[#All],12,FALSE),\"\")","v":""},{"$f":"IFERROR(VLOOKUP(Tabla38[[#This Row],[CODIGO municipio]],[3]!Tabla8[#All],13,FALSE),\"\")","v":""},{"$f":"IFERROR(VLOOKUP(Tabla38[[#This Row],[CODIGO municipio]],[3]!Tabla8[#All],14,FALSE),\"\")","v":""},{"$f":"IFERROR(VLOOKUP(Tabla38[[#This Row],[CODIGO municipio]],[3]!Tabla8[#All],15,FALSE),\"\")","v":""},{"$f":"IFERROR(VLOOKUP(Tabla38[[#This Row],[CODIGO municipio]],[3]!Tabla8[#All],16,FALSE),\"\")","v":""},{"$f":"IFERROR(VLOOKUP(Tabla38[[#This Row],[CODIGO municipio]],[3]!Tabla8[#All],17,FALSE),\"\")","v":""},{"$f":"IFERROR(VLOOKUP(Tabla38[[#This Row],[CODIGO municipio]],[3]!Tabla8[#All],18,FALSE),\"\")","v":""},{"$f":"IFERROR(VLOOKUP(Tabla38[[#This Row],[CODIGO municipio]],[3]!Tabla8[#All],19,FALSE),\"\")","v":""},{"$f":"IFERROR(VLOOKUP(Tabla38[[#This Row],[CODIGO municipio]],[3]!Tabla8[#All],20,FALSE),\"\")","v":""},{"$f":"IFERROR(VLOOKUP(Tabla38[[#This Row],[CODIGO municipio]],[3]!Tabla8[#All],21,FALSE),\"\")","v":""},{"$f":"IFERROR(VLOOKUP(Tabla38[[#This Row],[CODIGO municipio]],[3]!Tabla8[#All],22,FALSE),\"\")","v":""},{"$f":"IFERROR(VLOOKUP(Tabla38[[#This Row],[CODIGO municipio]],[3]!Tabla8[#All],23,FALSE),\"\")","v":""},{"$f":"IFERROR(VLOOKUP(Tabla38[[#This Row],[CODIGO municipio]],[3]!Tabla9[#All],3,FALSE),\"\")","v":""}]
[{"$f":"IFERROR(VLOOKUP(Tabla38[[#This Row],[Municipio]],[3]!Tabla2[#All],3,FALSE),\"\")","v":""},915,"Huitán",{"$f":"IFERROR(VLOOKUP(Tabla38[[#This Row],[CODIGO municipio]],[3]!Tabla6[[#All],[codigo_mun]],1,FALSE),\"\")","v":""},{"$f":"IFERROR(VLOOKUP(Tabla38[[#This Row],[CODIGO municipio]],[3]!Tabla12[#All],2,FALSE),\"\")","v":""},{"$f":"IFERROR(VLOOKUP(Tabla38[[#This Row],[CODIGO municipio]],[3]!Tabla7[#All],3,FALSE),\"\")","v":""},{"$f":"IFERROR(VLOOKUP(Tabla38[[#This Row],[CODIGO municipio]],[3]!Tabla7[#All],4,FALSE),\"\")","v":""},{"$f":"IFERROR(VLOOKUP(Tabla38[[#This Row],[CODIGO municipio]],[3]!Tabla7[#All],11,FALSE),\"\")","v":""},{"$f":"IFERROR(VLOOKUP(Tabla38[[#This Row],[CODIGO municipio]],[3]!Tabla7[#All],12,FALSE),\"\")","v":""},{"$f":"IFERROR(VLOOKUP(Tabla38[[#This Row],[CODIGO municipio]],[3]!Tabla7[#All],13,FALSE),\"\")","v":""},{"$f":"IFERROR(VLOOKUP(Tabla38[[#This Row],[CODIGO municipio]],[3]!Tabla7[#All],14,FALSE),\"\")","v":""},{"$f":"IFERROR(VLOOKUP(Tabla38[[#This Row],[CODIGO municipio]],[3]!Tabla7[#All],15,FALSE),\"\")","v":""},{"$f":"IFERROR(VLOOKUP(Tabla38[[#This Row],[CODIGO municipio]],[3]!Tabla7[#All],16,FALSE),\"\")","v":""},{"$f":"IFERROR(VLOOKUP(Tabla38[[#This Row],[CODIGO municipio]],[3]!Tabla7[#All],17,FALSE),\"\")","v":""},{"$f":"IFERROR(VLOOKUP(Tabla38[[#This Row],[CODIGO municipio]],[3]!Tabla7[#All],18,FALSE),\"\")","v":""},{"$f":"IFERROR(VLOOKUP(Tabla38[[#This Row],[CODIGO municipio]],[3]!Tabla7[#All],19,FALSE),\"\")","v":""},{"$f":"IFERROR(VLOOKUP(Tabla38[[#This Row],[CODIGO municipio]],[3]!Tabla8[#All],3,FALSE),\"\")","v":""},{"$f":"IFERROR(VLOOKUP(Tabla38[[#This Row],[CODIGO municipio]],[3]!Tabla8[#All],4,FALSE),\"\")","v":""},{"$f":"IFERROR(VLOOKUP(Tabla38[[#This Row],[CODIGO municipio]],[3]!Tabla8[#All],5,FALSE),\"\")","v":""},{"$f":"IFERROR(VLOOKUP(Tabla38[[#This Row],[CODIGO municipio]],[3]!Tabla8[#All],6,FALSE),\"\")","v":""},{"$f":"IFERROR(VLOOKUP(Tabla38[[#This Row],[CODIGO municipio]],[3]!Tabla8[#All],7,FALSE),\"\")","v":""},{"$f":"IFERROR(VLOOKUP(Tabla38[[#This Row],[CODIGO municipio]],[3]!Tabla8[#All],8,FALSE),\"\")","v":""},{"$f":"IFERROR(VLOOKUP(Tabla38[[#This Row],[CODIGO municipio]],[3]!Tabla8[#All],9,FALSE),\"\")","v":""},{"$f":"IFERROR(VLOOKUP(Tabla38[[#This Row],[CODIGO municipio]],[3]!Tabla8[#All],10,FALSE),\"\")","v":""},{"$f":"IFERROR(VLOOKUP(Tabla38[[#This Row],[CODIGO municipio]],[3]!Tabla8[#All],11,FALSE),\"\")","v":""},{"$f":"IFERROR(VLOOKUP(Tabla38[[#This Row],[CODIGO municipio]],[3]!Tabla8[#All],12,FALSE),\"\")","v":""},{"$f":"IFERROR(VLOOKUP(Tabla38[[#This Row],[CODIGO municipio]],[3]!Tabla8[#All],13,FALSE),\"\")","v":""},{"$f":"IFERROR(VLOOKUP(Tabla38[[#This Row],[CODIGO municipio]],[3]!Tabla8[#All],14,FALSE),\"\")","v":""},{"$f":"IFERROR(VLOOKUP(Tabla38[[#This Row],[CODIGO municipio]],[3]!Tabla8[#All],15,FALSE),\"\")","v":""},{"$f":"IFERROR(VLOOKUP(Tabla38[[#This Row],[CODIGO municipio]],[3]!Tabla8[#All],16,FALSE),\"\")","v":""},{"$f":"IFERROR(VLOOKUP(Tabla38[[#This Row],[CODIGO municipio]],[3]!Tabla8[#All],17,FALSE),\"\")","v":""},{"$f":"IFERROR(VLOOKUP(Tabla38[[#This Row],[CODIGO municipio]],[3]!Tabla8[#All],18,FALSE),\"\")","v":""},{"$f":"IFERROR(VLOOKUP(Tabla38[[#This Row],[CODIGO municipio]],[3]!Tabla8[#All],19,FALSE),\"\")","v":""},{"$f":"IFERROR(VLOOKUP(Tabla38[[#This Row],[CODIGO municipio]],[3]!Tabla8[#All],20,FALSE),\"\")","v":""},{"$f":"IFERROR(VLOOKUP(Tabla38[[#This Row],[CODIGO municipio]],[3]!Tabla8[#All],21,FALSE),\"\")","v":""},{"$f":"IFERROR(VLOOKUP(Tabla38[[#This Row],[CODIGO municipio]],[3]!Tabla8[#All],22,FALSE),\"\")","v":""},{"$f":"IFERROR(VLOOKUP(Tabla38[[#This Row],[CODIGO municipio]],[3]!Tabla8[#All],23,FALSE),\"\")","v":""},{"$f":"IFERROR(VLOOKUP(Tabla38[[#This Row],[CODIGO municipio]],[3]!Tabla9[#All],3,FALSE),\"\")","v":""}]
[{"$f":"IFERROR(VLOOKUP(Tabla38[[#This Row],[Municipio]],[3]!Tabla2[#All],3,FALSE),\"\")","v":""},916,"Zunil",{"$f":"IFERROR(VLOOKUP(Tabla38[[#This Row],[CODIGO municipio]],[3]!Tabla6[[#All],[codigo_mun]],1,FALSE),\"\")","v":""},{"$f":"IFERROR(VLOOKUP(Tabla38[[#This Row],[CODIGO municipio]],[3]!Tabla12[#All],2,FALSE),\"\")","v":""},{"$f":"IFERROR(VLOOKUP(Tabla38[[#This Row],[CODIGO municipio]],[3]!Tabla7[#All],3,FALSE),\"\")","v":""},{"$f":"IFERROR(VLOOKUP(Tabla38[[#This Row],[CODIGO municipio]],[3]!Tabla7[#All],4,FALSE),\"\")","v":""},{"$f":"IFERROR(VLOOKUP(Tabla38[[#This Row],[CODIGO municipio]],[3]!Tabla7[#All],11,FALSE),\"\")","v":""},{"$f":"IFERROR(VLOOKUP(Tabla38[[#This Row],[CODIGO municipio]],[3]!Tabla7[#All],12,FALSE),\"\")","v":""},{"$f":"IFERROR(VLOOKUP(Tabla38[[#This Row],[CODIGO municipio]],[3]!Tabla7[#All],13,FALSE),\"\")","v":""},{"$f":"IFERROR(VLOOKUP(Tabla38[[#This Row],[CODIGO municipio]],[3]!Tabla7[#All],14,FALSE),\"\")","v":""},{"$f":"IFERROR(VLOOKUP(Tabla38[[#This Row],[CODIGO municipio]],[3]!Tabla7[#All],15,FALSE),\"\")","v":""},{"$f":"IFERROR(VLOOKUP(Tabla38[[#This Row],[CODIGO municipio]],[3]!Tabla7[#All],16,FALSE),\"\")","v":""},{"$f":"IFERROR(VLOOKUP(Tabla38[[#This Row],[CODIGO municipio]],[3]!Tabla7[#All],17,FALSE),\"\")","v":""},{"$f":"IFERROR(VLOOKUP(Tabla38[[#This Row],[CODIGO municipio]],[3]!Tabla7[#All],18,FALSE),\"\")","v":""},{"$f":"IFERROR(VLOOKUP(Tabla38[[#This Row],[CODIGO municipio]],[3]!Tabla7[#All],19,FALSE),\"\")","v":""},{"$f":"IFERROR(VLOOKUP(Tabla38[[#This Row],[CODIGO municipio]],[3]!Tabla8[#All],3,FALSE),\"\")","v":""},{"$f":"IFERROR(VLOOKUP(Tabla38[[#This Row],[CODIGO municipio]],[3]!Tabla8[#All],4,FALSE),\"\")","v":""},{"$f":"IFERROR(VLOOKUP(Tabla38[[#This Row],[CODIGO municipio]],[3]!Tabla8[#All],5,FALSE),\"\")","v":""},{"$f":"IFERROR(VLOOKUP(Tabla38[[#This Row],[CODIGO municipio]],[3]!Tabla8[#All],6,FALSE),\"\")","v":""},{"$f":"IFERROR(VLOOKUP(Tabla38[[#This Row],[CODIGO municipio]],[3]!Tabla8[#All],7,FALSE),\"\")","v":""},{"$f":"IFERROR(VLOOKUP(Tabla38[[#This Row],[CODIGO municipio]],[3]!Tabla8[#All],8,FALSE),\"\")","v":""},{"$f":"IFERROR(VLOOKUP(Tabla38[[#This Row],[CODIGO municipio]],[3]!Tabla8[#All],9,FALSE),\"\")","v":""},{"$f":"IFERROR(VLOOKUP(Tabla38[[#This Row],[CODIGO municipio]],[3]!Tabla8[#All],10,FALSE),\"\")","v":""},{"$f":"IFERROR(VLOOKUP(Tabla38[[#This Row],[CODIGO municipio]],[3]!Tabla8[#All],11,FALSE),\"\")","v":""},{"$f":"IFERROR(VLOOKUP(Tabla38[[#This Row],[CODIGO municipio]],[3]!Tabla8[#All],12,FALSE),\"\")","v":""},{"$f":"IFERROR(VLOOKUP(Tabla38[[#This Row],[CODIGO municipio]],[3]!Tabla8[#All],13,FALSE),\"\")","v":""},{"$f":"IFERROR(VLOOKUP(Tabla38[[#This Row],[CODIGO municipio]],[3]!Tabla8[#All],14,FALSE),\"\")","v":""},{"$f":"IFERROR(VLOOKUP(Tabla38[[#This Row],[CODIGO municipio]],[3]!Tabla8[#All],15,FALSE),\"\")","v":""},{"$f":"IFERROR(VLOOKUP(Tabla38[[#This Row],[CODIGO municipio]],[3]!Tabla8[#All],16,FALSE),\"\")","v":""},{"$f":"IFERROR(VLOOKUP(Tabla38[[#This Row],[CODIGO municipio]],[3]!Tabla8[#All],17,FALSE),\"\")","v":""},{"$f":"IFERROR(VLOOKUP(Tabla38[[#This Row],[CODIGO municipio]],[3]!Tabla8[#All],18,FALSE),\"\")","v":""},{"$f":"IFERROR(VLOOKUP(Tabla38[[#This Row],[CODIGO municipio]],[3]!Tabla8[#All],19,FALSE),\"\")","v":""},{"$f":"IFERROR(VLOOKUP(Tabla38[[#This Row],[CODIGO municipio]],[3]!Tabla8[#All],20,FALSE),\"\")","v":""},{"$f":"IFERROR(VLOOKUP(Tabla38[[#This Row],[CODIGO municipio]],[3]!Tabla8[#All],21,FALSE),\"\")","v":""},{"$f":"IFERROR(VLOOKUP(Tabla38[[#This Row],[CODIGO municipio]],[3]!Tabla8[#All],22,FALSE),\"\")","v":""},{"$f":"IFERROR(VLOOKUP(Tabla38[[#This Row],[CODIGO municipio]],[3]!Tabla8[#All],23,FALSE),\"\")","v":""},{"$f":"IFERROR(VLOOKUP(Tabla38[[#This Row],[CODIGO municipio]],[3]!Tabla9[#All],3,FALSE),\"\")","v":""}]
[{"$f":"IFERROR(VLOOKUP(Tabla38[[#This Row],[Municipio]],[3]!Tabla2[#All],3,FALSE),\"\")","v":""},917,"Colomba",{"$f":"IFERROR(VLOOKUP(Tabla38[[#This Row],[CODIGO municipio]],[3]!Tabla6[[#All],[codigo_mun]],1,FALSE),\"\")","v":""},{"$f":"IFERROR(VLOOKUP(Tabla38[[#This Row],[CODIGO municipio]],[3]!Tabla12[#All],2,FALSE),\"\")","v":""},{"$f":"IFERROR(VLOOKUP(Tabla38[[#This Row],[CODIGO municipio]],[3]!Tabla7[#All],3,FALSE),\"\")","v":""},{"$f":"IFERROR(VLOOKUP(Tabla38[[#This Row],[CODIGO municipio]],[3]!Tabla7[#All],4,FALSE),\"\")","v":""},{"$f":"IFERROR(VLOOKUP(Tabla38[[#This Row],[CODIGO municipio]],[3]!Tabla7[#All],11,FALSE),\"\")","v":""},{"$f":"IFERROR(VLOOKUP(Tabla38[[#This Row],[CODIGO municipio]],[3]!Tabla7[#All],12,FALSE),\"\")","v":""},{"$f":"IFERROR(VLOOKUP(Tabla38[[#This Row],[CODIGO municipio]],[3]!Tabla7[#All],13,FALSE),\"\")","v":""},{"$f":"IFERROR(VLOOKUP(Tabla38[[#This Row],[CODIGO municipio]],[3]!Tabla7[#All],14,FALSE),\"\")","v":""},{"$f":"IFERROR(VLOOKUP(Tabla38[[#This Row],[CODIGO municipio]],[3]!Tabla7[#All],15,FALSE),\"\")","v":""},{"$f":"IFERROR(VLOOKUP(Tabla38[[#This Row],[CODIGO municipio]],[3]!Tabla7[#All],16,FALSE),\"\")","v":""},{"$f":"IFERROR(VLOOKUP(Tabla38[[#This Row],[CODIGO municipio]],[3]!Tabla7[#All],17,FALSE),\"\")","v":""},{"$f":"IFERROR(VLOOKUP(Tabla38[[#This Row],[CODIGO municipio]],[3]!Tabla7[#All],18,FALSE),\"\")","v":""},{"$f":"IFERROR(VLOOKUP(Tabla38[[#This Row],[CODIGO municipio]],[3]!Tabla7[#All],19,FALSE),\"\")","v":""},{"$f":"IFERROR(VLOOKUP(Tabla38[[#This Row],[CODIGO municipio]],[3]!Tabla8[#All],3,FALSE),\"\")","v":""},{"$f":"IFERROR(VLOOKUP(Tabla38[[#This Row],[CODIGO municipio]],[3]!Tabla8[#All],4,FALSE),\"\")","v":""},{"$f":"IFERROR(VLOOKUP(Tabla38[[#This Row],[CODIGO municipio]],[3]!Tabla8[#All],5,FALSE),\"\")","v":""},{"$f":"IFERROR(VLOOKUP(Tabla38[[#This Row],[CODIGO municipio]],[3]!Tabla8[#All],6,FALSE),\"\")","v":""},{"$f":"IFERROR(VLOOKUP(Tabla38[[#This Row],[CODIGO municipio]],[3]!Tabla8[#All],7,FALSE),\"\")","v":""},{"$f":"IFERROR(VLOOKUP(Tabla38[[#This Row],[CODIGO municipio]],[3]!Tabla8[#All],8,FALSE),\"\")","v":""},{"$f":"IFERROR(VLOOKUP(Tabla38[[#This Row],[CODIGO municipio]],[3]!Tabla8[#All],9,FALSE),\"\")","v":""},{"$f":"IFERROR(VLOOKUP(Tabla38[[#This Row],[CODIGO municipio]],[3]!Tabla8[#All],10,FALSE),\"\")","v":""},{"$f":"IFERROR(VLOOKUP(Tabla38[[#This Row],[CODIGO municipio]],[3]!Tabla8[#All],11,FALSE),\"\")","v":""},{"$f":"IFERROR(VLOOKUP(Tabla38[[#This Row],[CODIGO municipio]],[3]!Tabla8[#All],12,FALSE),\"\")","v":""},{"$f":"IFERROR(VLOOKUP(Tabla38[[#This Row],[CODIGO municipio]],[3]!Tabla8[#All],13,FALSE),\"\")","v":""},{"$f":"IFERROR(VLOOKUP(Tabla38[[#This Row],[CODIGO municipio]],[3]!Tabla8[#All],14,FALSE),\"\")","v":""},{"$f":"IFERROR(VLOOKUP(Tabla38[[#This Row],[CODIGO municipio]],[3]!Tabla8[#All],15,FALSE),\"\")","v":""},{"$f":"IFERROR(VLOOKUP(Tabla38[[#This Row],[CODIGO municipio]],[3]!Tabla8[#All],16,FALSE),\"\")","v":""},{"$f":"IFERROR(VLOOKUP(Tabla38[[#This Row],[CODIGO municipio]],[3]!Tabla8[#All],17,FALSE),\"\")","v":""},{"$f":"IFERROR(VLOOKUP(Tabla38[[#This Row],[CODIGO municipio]],[3]!Tabla8[#All],18,FALSE),\"\")","v":""},{"$f":"IFERROR(VLOOKUP(Tabla38[[#This Row],[CODIGO municipio]],[3]!Tabla8[#All],19,FALSE),\"\")","v":""},{"$f":"IFERROR(VLOOKUP(Tabla38[[#This Row],[CODIGO municipio]],[3]!Tabla8[#All],20,FALSE),\"\")","v":""},{"$f":"IFERROR(VLOOKUP(Tabla38[[#This Row],[CODIGO municipio]],[3]!Tabla8[#All],21,FALSE),\"\")","v":""},{"$f":"IFERROR(VLOOKUP(Tabla38[[#This Row],[CODIGO municipio]],[3]!Tabla8[#All],22,FALSE),\"\")","v":""},{"$f":"IFERROR(VLOOKUP(Tabla38[[#This Row],[CODIGO municipio]],[3]!Tabla8[#All],23,FALSE),\"\")","v":""},{"$f":"IFERROR(VLOOKUP(Tabla38[[#This Row],[CODIGO municipio]],[3]!Tabla9[#All],3,FALSE),\"\")","v":""}]
[{"$f":"IFERROR(VLOOKUP(Tabla38[[#This Row],[Municipio]],[3]!Tabla2[#All],3,FALSE),\"\")","v":""},918,"San Francisco La Unión",{"$f":"IFERROR(VLOOKUP(Tabla38[[#This Row],[CODIGO municipio]],[3]!Tabla6[[#All],[codigo_mun]],1,FALSE),\"\")","v":""},{"$f":"IFERROR(VLOOKUP(Tabla38[[#This Row],[CODIGO municipio]],[3]!Tabla12[#All],2,FALSE),\"\")","v":""},{"$f":"IFERROR(VLOOKUP(Tabla38[[#This Row],[CODIGO municipio]],[3]!Tabla7[#All],3,FALSE),\"\")","v":""},{"$f":"IFERROR(VLOOKUP(Tabla38[[#This Row],[CODIGO municipio]],[3]!Tabla7[#All],4,FALSE),\"\")","v":""},{"$f":"IFERROR(VLOOKUP(Tabla38[[#This Row],[CODIGO municipio]],[3]!Tabla7[#All],11,FALSE),\"\")","v":""},{"$f":"IFERROR(VLOOKUP(Tabla38[[#This Row],[CODIGO municipio]],[3]!Tabla7[#All],12,FALSE),\"\")","v":""},{"$f":"IFERROR(VLOOKUP(Tabla38[[#This Row],[CODIGO municipio]],[3]!Tabla7[#All],13,FALSE),\"\")","v":""},{"$f":"IFERROR(VLOOKUP(Tabla38[[#This Row],[CODIGO municipio]],[3]!Tabla7[#All],14,FALSE),\"\")","v":""},{"$f":"IFERROR(VLOOKUP(Tabla38[[#This Row],[CODIGO municipio]],[3]!Tabla7[#All],15,FALSE),\"\")","v":""},{"$f":"IFERROR(VLOOKUP(Tabla38[[#This Row],[CODIGO municipio]],[3]!Tabla7[#All],16,FALSE),\"\")","v":""},{"$f":"IFERROR(VLOOKUP(Tabla38[[#This Row],[CODIGO municipio]],[3]!Tabla7[#All],17,FALSE),\"\")","v":""},{"$f":"IFERROR(VLOOKUP(Tabla38[[#This Row],[CODIGO municipio]],[3]!Tabla7[#All],18,FALSE),\"\")","v":""},{"$f":"IFERROR(VLOOKUP(Tabla38[[#This Row],[CODIGO municipio]],[3]!Tabla7[#All],19,FALSE),\"\")","v":""},{"$f":"IFERROR(VLOOKUP(Tabla38[[#This Row],[CODIGO municipio]],[3]!Tabla8[#All],3,FALSE),\"\")","v":""},{"$f":"IFERROR(VLOOKUP(Tabla38[[#This Row],[CODIGO municipio]],[3]!Tabla8[#All],4,FALSE),\"\")","v":""},{"$f":"IFERROR(VLOOKUP(Tabla38[[#This Row],[CODIGO municipio]],[3]!Tabla8[#All],5,FALSE),\"\")","v":""},{"$f":"IFERROR(VLOOKUP(Tabla38[[#This Row],[CODIGO municipio]],[3]!Tabla8[#All],6,FALSE),\"\")","v":""},{"$f":"IFERROR(VLOOKUP(Tabla38[[#This Row],[CODIGO municipio]],[3]!Tabla8[#All],7,FALSE),\"\")","v":""},{"$f":"IFERROR(VLOOKUP(Tabla38[[#This Row],[CODIGO municipio]],[3]!Tabla8[#All],8,FALSE),\"\")","v":""},{"$f":"IFERROR(VLOOKUP(Tabla38[[#This Row],[CODIGO municipio]],[3]!Tabla8[#All],9,FALSE),\"\")","v":""},{"$f":"IFERROR(VLOOKUP(Tabla38[[#This Row],[CODIGO municipio]],[3]!Tabla8[#All],10,FALSE),\"\")","v":""},{"$f":"IFERROR(VLOOKUP(Tabla38[[#This Row],[CODIGO municipio]],[3]!Tabla8[#All],11,FALSE),\"\")","v":""},{"$f":"IFERROR(VLOOKUP(Tabla38[[#This Row],[CODIGO municipio]],[3]!Tabla8[#All],12,FALSE),\"\")","v":""},{"$f":"IFERROR(VLOOKUP(Tabla38[[#This Row],[CODIGO municipio]],[3]!Tabla8[#All],13,FALSE),\"\")","v":""},{"$f":"IFERROR(VLOOKUP(Tabla38[[#This Row],[CODIGO municipio]],[3]!Tabla8[#All],14,FALSE),\"\")","v":""},{"$f":"IFERROR(VLOOKUP(Tabla38[[#This Row],[CODIGO municipio]],[3]!Tabla8[#All],15,FALSE),\"\")","v":""},{"$f":"IFERROR(VLOOKUP(Tabla38[[#This Row],[CODIGO municipio]],[3]!Tabla8[#All],16,FALSE),\"\")","v":""},{"$f":"IFERROR(VLOOKUP(Tabla38[[#This Row],[CODIGO municipio]],[3]!Tabla8[#All],17,FALSE),\"\")","v":""},{"$f":"IFERROR(VLOOKUP(Tabla38[[#This Row],[CODIGO municipio]],[3]!Tabla8[#All],18,FALSE),\"\")","v":""},{"$f":"IFERROR(VLOOKUP(Tabla38[[#This Row],[CODIGO municipio]],[3]!Tabla8[#All],19,FALSE),\"\")","v":""},{"$f":"IFERROR(VLOOKUP(Tabla38[[#This Row],[CODIGO municipio]],[3]!Tabla8[#All],20,FALSE),\"\")","v":""},{"$f":"IFERROR(VLOOKUP(Tabla38[[#This Row],[CODIGO municipio]],[3]!Tabla8[#All],21,FALSE),\"\")","v":""},{"$f":"IFERROR(VLOOKUP(Tabla38[[#This Row],[CODIGO municipio]],[3]!Tabla8[#All],22,FALSE),\"\")","v":""},{"$f":"IFERROR(VLOOKUP(Tabla38[[#This Row],[CODIGO municipio]],[3]!Tabla8[#All],23,FALSE),\"\")","v":""},{"$f":"IFERROR(VLOOKUP(Tabla38[[#This Row],[CODIGO municipio]],[3]!Tabla9[#All],3,FALSE),\"\")","v":""}]
[{"$f":"IFERROR(VLOOKUP(Tabla38[[#This Row],[Municipio]],[3]!Tabla2[#All],3,FALSE),\"\")","v":""},919,"El Palmar",{"$f":"IFERROR(VLOOKUP(Tabla38[[#This Row],[CODIGO municipio]],[3]!Tabla6[[#All],[codigo_mun]],1,FALSE),\"\")","v":""},{"$f":"IFERROR(VLOOKUP(Tabla38[[#This Row],[CODIGO municipio]],[3]!Tabla12[#All],2,FALSE),\"\")","v":""},{"$f":"IFERROR(VLOOKUP(Tabla38[[#This Row],[CODIGO municipio]],[3]!Tabla7[#All],3,FALSE),\"\")","v":""},{"$f":"IFERROR(VLOOKUP(Tabla38[[#This Row],[CODIGO municipio]],[3]!Tabla7[#All],4,FALSE),\"\")","v":""},{"$f":"IFERROR(VLOOKUP(Tabla38[[#This Row],[CODIGO municipio]],[3]!Tabla7[#All],11,FALSE),\"\")","v":""},{"$f":"IFERROR(VLOOKUP(Tabla38[[#This Row],[CODIGO municipio]],[3]!Tabla7[#All],12,FALSE),\"\")","v":""},{"$f":"IFERROR(VLOOKUP(Tabla38[[#This Row],[CODIGO municipio]],[3]!Tabla7[#All],13,FALSE),\"\")","v":""},{"$f":"IFERROR(VLOOKUP(Tabla38[[#This Row],[CODIGO municipio]],[3]!Tabla7[#All],14,FALSE),\"\")","v":""},{"$f":"IFERROR(VLOOKUP(Tabla38[[#This Row],[CODIGO municipio]],[3]!Tabla7[#All],15,FALSE),\"\")","v":""},{"$f":"IFERROR(VLOOKUP(Tabla38[[#This Row],[CODIGO municipio]],[3]!Tabla7[#All],16,FALSE),\"\")","v":""},{"$f":"IFERROR(VLOOKUP(Tabla38[[#This Row],[CODIGO municipio]],[3]!Tabla7[#All],17,FALSE),\"\")","v":""},{"$f":"IFERROR(VLOOKUP(Tabla38[[#This Row],[CODIGO municipio]],[3]!Tabla7[#All],18,FALSE),\"\")","v":""},{"$f":"IFERROR(VLOOKUP(Tabla38[[#This Row],[CODIGO municipio]],[3]!Tabla7[#All],19,FALSE),\"\")","v":""},{"$f":"IFERROR(VLOOKUP(Tabla38[[#This Row],[CODIGO municipio]],[3]!Tabla8[#All],3,FALSE),\"\")","v":""},{"$f":"IFERROR(VLOOKUP(Tabla38[[#This Row],[CODIGO municipio]],[3]!Tabla8[#All],4,FALSE),\"\")","v":""},{"$f":"IFERROR(VLOOKUP(Tabla38[[#This Row],[CODIGO municipio]],[3]!Tabla8[#All],5,FALSE),\"\")","v":""},{"$f":"IFERROR(VLOOKUP(Tabla38[[#This Row],[CODIGO municipio]],[3]!Tabla8[#All],6,FALSE),\"\")","v":""},{"$f":"IFERROR(VLOOKUP(Tabla38[[#This Row],[CODIGO municipio]],[3]!Tabla8[#All],7,FALSE),\"\")","v":""},{"$f":"IFERROR(VLOOKUP(Tabla38[[#This Row],[CODIGO municipio]],[3]!Tabla8[#All],8,FALSE),\"\")","v":""},{"$f":"IFERROR(VLOOKUP(Tabla38[[#This Row],[CODIGO municipio]],[3]!Tabla8[#All],9,FALSE),\"\")","v":""},{"$f":"IFERROR(VLOOKUP(Tabla38[[#This Row],[CODIGO municipio]],[3]!Tabla8[#All],10,FALSE),\"\")","v":""},{"$f":"IFERROR(VLOOKUP(Tabla38[[#This Row],[CODIGO municipio]],[3]!Tabla8[#All],11,FALSE),\"\")","v":""},{"$f":"IFERROR(VLOOKUP(Tabla38[[#This Row],[CODIGO municipio]],[3]!Tabla8[#All],12,FALSE),\"\")","v":""},{"$f":"IFERROR(VLOOKUP(Tabla38[[#This Row],[CODIGO municipio]],[3]!Tabla8[#All],13,FALSE),\"\")","v":""},{"$f":"IFERROR(VLOOKUP(Tabla38[[#This Row],[CODIGO municipio]],[3]!Tabla8[#All],14,FALSE),\"\")","v":""},{"$f":"IFERROR(VLOOKUP(Tabla38[[#This Row],[CODIGO municipio]],[3]!Tabla8[#All],15,FALSE),\"\")","v":""},{"$f":"IFERROR(VLOOKUP(Tabla38[[#This Row],[CODIGO municipio]],[3]!Tabla8[#All],16,FALSE),\"\")","v":""},{"$f":"IFERROR(VLOOKUP(Tabla38[[#This Row],[CODIGO municipio]],[3]!Tabla8[#All],17,FALSE),\"\")","v":""},{"$f":"IFERROR(VLOOKUP(Tabla38[[#This Row],[CODIGO municipio]],[3]!Tabla8[#All],18,FALSE),\"\")","v":""},{"$f":"IFERROR(VLOOKUP(Tabla38[[#This Row],[CODIGO municipio]],[3]!Tabla8[#All],19,FALSE),\"\")","v":""},{"$f":"IFERROR(VLOOKUP(Tabla38[[#This Row],[CODIGO municipio]],[3]!Tabla8[#All],20,FALSE),\"\")","v":""},{"$f":"IFERROR(VLOOKUP(Tabla38[[#This Row],[CODIGO municipio]],[3]!Tabla8[#All],21,FALSE),\"\")","v":""},{"$f":"IFERROR(VLOOKUP(Tabla38[[#This Row],[CODIGO municipio]],[3]!Tabla8[#All],22,FALSE),\"\")","v":""},{"$f":"IFERROR(VLOOKUP(Tabla38[[#This Row],[CODIGO municipio]],[3]!Tabla8[#All],23,FALSE),\"\")","v":""},{"$f":"IFERROR(VLOOKUP(Tabla38[[#This Row],[CODIGO municipio]],[3]!Tabla9[#All],3,FALSE),\"\")","v":""}]
[{"$f":"IFERROR(VLOOKUP(Tabla38[[#This Row],[Municipio]],[3]!Tabla2[#All],3,FALSE),\"\")","v":""},920,"Coatepeque",{"$f":"IFERROR(VLOOKUP(Tabla38[[#This Row],[CODIGO municipio]],[3]!Tabla6[[#All],[codigo_mun]],1,FALSE),\"\")","v":""},{"$f":"IFERROR(VLOOKUP(Tabla38[[#This Row],[CODIGO municipio]],[3]!Tabla12[#All],2,FALSE),\"\")","v":""},{"$f":"IFERROR(VLOOKUP(Tabla38[[#This Row],[CODIGO municipio]],[3]!Tabla7[#All],3,FALSE),\"\")","v":""},{"$f":"IFERROR(VLOOKUP(Tabla38[[#This Row],[CODIGO municipio]],[3]!Tabla7[#All],4,FALSE),\"\")","v":""},{"$f":"IFERROR(VLOOKUP(Tabla38[[#This Row],[CODIGO municipio]],[3]!Tabla7[#All],11,FALSE),\"\")","v":""},{"$f":"IFERROR(VLOOKUP(Tabla38[[#This Row],[CODIGO municipio]],[3]!Tabla7[#All],12,FALSE),\"\")","v":""},{"$f":"IFERROR(VLOOKUP(Tabla38[[#This Row],[CODIGO municipio]],[3]!Tabla7[#All],13,FALSE),\"\")","v":""},{"$f":"IFERROR(VLOOKUP(Tabla38[[#This Row],[CODIGO municipio]],[3]!Tabla7[#All],14,FALSE),\"\")","v":""},{"$f":"IFERROR(VLOOKUP(Tabla38[[#This Row],[CODIGO municipio]],[3]!Tabla7[#All],15,FALSE),\"\")","v":""},{"$f":"IFERROR(VLOOKUP(Tabla38[[#This Row],[CODIGO municipio]],[3]!Tabla7[#All],16,FALSE),\"\")","v":""},{"$f":"IFERROR(VLOOKUP(Tabla38[[#This Row],[CODIGO municipio]],[3]!Tabla7[#All],17,FALSE),\"\")","v":""},{"$f":"IFERROR(VLOOKUP(Tabla38[[#This Row],[CODIGO municipio]],[3]!Tabla7[#All],18,FALSE),\"\")","v":""},{"$f":"IFERROR(VLOOKUP(Tabla38[[#This Row],[CODIGO municipio]],[3]!Tabla7[#All],19,FALSE),\"\")","v":""},{"$f":"IFERROR(VLOOKUP(Tabla38[[#This Row],[CODIGO municipio]],[3]!Tabla8[#All],3,FALSE),\"\")","v":""},{"$f":"IFERROR(VLOOKUP(Tabla38[[#This Row],[CODIGO municipio]],[3]!Tabla8[#All],4,FALSE),\"\")","v":""},{"$f":"IFERROR(VLOOKUP(Tabla38[[#This Row],[CODIGO municipio]],[3]!Tabla8[#All],5,FALSE),\"\")","v":""},{"$f":"IFERROR(VLOOKUP(Tabla38[[#This Row],[CODIGO municipio]],[3]!Tabla8[#All],6,FALSE),\"\")","v":""},{"$f":"IFERROR(VLOOKUP(Tabla38[[#This Row],[CODIGO municipio]],[3]!Tabla8[#All],7,FALSE),\"\")","v":""},{"$f":"IFERROR(VLOOKUP(Tabla38[[#This Row],[CODIGO municipio]],[3]!Tabla8[#All],8,FALSE),\"\")","v":""},{"$f":"IFERROR(VLOOKUP(Tabla38[[#This Row],[CODIGO municipio]],[3]!Tabla8[#All],9,FALSE),\"\")","v":""},{"$f":"IFERROR(VLOOKUP(Tabla38[[#This Row],[CODIGO municipio]],[3]!Tabla8[#All],10,FALSE),\"\")","v":""},{"$f":"IFERROR(VLOOKUP(Tabla38[[#This Row],[CODIGO municipio]],[3]!Tabla8[#All],11,FALSE),\"\")","v":""},{"$f":"IFERROR(VLOOKUP(Tabla38[[#This Row],[CODIGO municipio]],[3]!Tabla8[#All],12,FALSE),\"\")","v":""},{"$f":"IFERROR(VLOOKUP(Tabla38[[#This Row],[CODIGO municipio]],[3]!Tabla8[#All],13,FALSE),\"\")","v":""},{"$f":"IFERROR(VLOOKUP(Tabla38[[#This Row],[CODIGO municipio]],[3]!Tabla8[#All],14,FALSE),\"\")","v":""},{"$f":"IFERROR(VLOOKUP(Tabla38[[#This Row],[CODIGO municipio]],[3]!Tabla8[#All],15,FALSE),\"\")","v":""},{"$f":"IFERROR(VLOOKUP(Tabla38[[#This Row],[CODIGO municipio]],[3]!Tabla8[#All],16,FALSE),\"\")","v":""},{"$f":"IFERROR(VLOOKUP(Tabla38[[#This Row],[CODIGO municipio]],[3]!Tabla8[#All],17,FALSE),\"\")","v":""},{"$f":"IFERROR(VLOOKUP(Tabla38[[#This Row],[CODIGO municipio]],[3]!Tabla8[#All],18,FALSE),\"\")","v":""},{"$f":"IFERROR(VLOOKUP(Tabla38[[#This Row],[CODIGO municipio]],[3]!Tabla8[#All],19,FALSE),\"\")","v":""},{"$f":"IFERROR(VLOOKUP(Tabla38[[#This Row],[CODIGO municipio]],[3]!Tabla8[#All],20,FALSE),\"\")","v":""},{"$f":"IFERROR(VLOOKUP(Tabla38[[#This Row],[CODIGO municipio]],[3]!Tabla8[#All],21,FALSE),\"\")","v":""},{"$f":"IFERROR(VLOOKUP(Tabla38[[#This Row],[CODIGO municipio]],[3]!Tabla8[#All],22,FALSE),\"\")","v":""},{"$f":"IFERROR(VLOOKUP(Tabla38[[#This Row],[CODIGO municipio]],[3]!Tabla8[#All],23,FALSE),\"\")","v":""},{"$f":"IFERROR(VLOOKUP(Tabla38[[#This Row],[CODIGO municipio]],[3]!Tabla9[#All],3,FALSE),\"\")","v":""}]
[{"$f":"IFERROR(VLOOKUP(Tabla38[[#This Row],[Municipio]],[3]!Tabla2[#All],3,FALSE),\"\")","v":""},921,"Génova",{"$f":"IFERROR(VLOOKUP(Tabla38[[#This Row],[CODIGO municipio]],[3]!Tabla6[[#All],[codigo_mun]],1,FALSE),\"\")","v":""},{"$f":"IFERROR(VLOOKUP(Tabla38[[#This Row],[CODIGO municipio]],[3]!Tabla12[#All],2,FALSE),\"\")","v":""},{"$f":"IFERROR(VLOOKUP(Tabla38[[#This Row],[CODIGO municipio]],[3]!Tabla7[#All],3,FALSE),\"\")","v":""},{"$f":"IFERROR(VLOOKUP(Tabla38[[#This Row],[CODIGO municipio]],[3]!Tabla7[#All],4,FALSE),\"\")","v":""},{"$f":"IFERROR(VLOOKUP(Tabla38[[#This Row],[CODIGO municipio]],[3]!Tabla7[#All],11,FALSE),\"\")","v":""},{"$f":"IFERROR(VLOOKUP(Tabla38[[#This Row],[CODIGO municipio]],[3]!Tabla7[#All],12,FALSE),\"\")","v":""},{"$f":"IFERROR(VLOOKUP(Tabla38[[#This Row],[CODIGO municipio]],[3]!Tabla7[#All],13,FALSE),\"\")","v":""},{"$f":"IFERROR(VLOOKUP(Tabla38[[#This Row],[CODIGO municipio]],[3]!Tabla7[#All],14,FALSE),\"\")","v":""},{"$f":"IFERROR(VLOOKUP(Tabla38[[#This Row],[CODIGO municipio]],[3]!Tabla7[#All],15,FALSE),\"\")","v":""},{"$f":"IFERROR(VLOOKUP(Tabla38[[#This Row],[CODIGO municipio]],[3]!Tabla7[#All],16,FALSE),\"\")","v":""},{"$f":"IFERROR(VLOOKUP(Tabla38[[#This Row],[CODIGO municipio]],[3]!Tabla7[#All],17,FALSE),\"\")","v":""},{"$f":"IFERROR(VLOOKUP(Tabla38[[#This Row],[CODIGO municipio]],[3]!Tabla7[#All],18,FALSE),\"\")","v":""},{"$f":"IFERROR(VLOOKUP(Tabla38[[#This Row],[CODIGO municipio]],[3]!Tabla7[#All],19,FALSE),\"\")","v":""},{"$f":"IFERROR(VLOOKUP(Tabla38[[#This Row],[CODIGO municipio]],[3]!Tabla8[#All],3,FALSE),\"\")","v":""},{"$f":"IFERROR(VLOOKUP(Tabla38[[#This Row],[CODIGO municipio]],[3]!Tabla8[#All],4,FALSE),\"\")","v":""},{"$f":"IFERROR(VLOOKUP(Tabla38[[#This Row],[CODIGO municipio]],[3]!Tabla8[#All],5,FALSE),\"\")","v":""},{"$f":"IFERROR(VLOOKUP(Tabla38[[#This Row],[CODIGO municipio]],[3]!Tabla8[#All],6,FALSE),\"\")","v":""},{"$f":"IFERROR(VLOOKUP(Tabla38[[#This Row],[CODIGO municipio]],[3]!Tabla8[#All],7,FALSE),\"\")","v":""},{"$f":"IFERROR(VLOOKUP(Tabla38[[#This Row],[CODIGO municipio]],[3]!Tabla8[#All],8,FALSE),\"\")","v":""},{"$f":"IFERROR(VLOOKUP(Tabla38[[#This Row],[CODIGO municipio]],[3]!Tabla8[#All],9,FALSE),\"\")","v":""},{"$f":"IFERROR(VLOOKUP(Tabla38[[#This Row],[CODIGO municipio]],[3]!Tabla8[#All],10,FALSE),\"\")","v":""},{"$f":"IFERROR(VLOOKUP(Tabla38[[#This Row],[CODIGO municipio]],[3]!Tabla8[#All],11,FALSE),\"\")","v":""},{"$f":"IFERROR(VLOOKUP(Tabla38[[#This Row],[CODIGO municipio]],[3]!Tabla8[#All],12,FALSE),\"\")","v":""},{"$f":"IFERROR(VLOOKUP(Tabla38[[#This Row],[CODIGO municipio]],[3]!Tabla8[#All],13,FALSE),\"\")","v":""},{"$f":"IFERROR(VLOOKUP(Tabla38[[#This Row],[CODIGO municipio]],[3]!Tabla8[#All],14,FALSE),\"\")","v":""},{"$f":"IFERROR(VLOOKUP(Tabla38[[#This Row],[CODIGO municipio]],[3]!Tabla8[#All],15,FALSE),\"\")","v":""},{"$f":"IFERROR(VLOOKUP(Tabla38[[#This Row],[CODIGO municipio]],[3]!Tabla8[#All],16,FALSE),\"\")","v":""},{"$f":"IFERROR(VLOOKUP(Tabla38[[#This Row],[CODIGO municipio]],[3]!Tabla8[#All],17,FALSE),\"\")","v":""},{"$f":"IFERROR(VLOOKUP(Tabla38[[#This Row],[CODIGO municipio]],[3]!Tabla8[#All],18,FALSE),\"\")","v":""},{"$f":"IFERROR(VLOOKUP(Tabla38[[#This Row],[CODIGO municipio]],[3]!Tabla8[#All],19,FALSE),\"\")","v":""},{"$f":"IFERROR(VLOOKUP(Tabla38[[#This Row],[CODIGO municipio]],[3]!Tabla8[#All],20,FALSE),\"\")","v":""},{"$f":"IFERROR(VLOOKUP(Tabla38[[#This Row],[CODIGO municipio]],[3]!Tabla8[#All],21,FALSE),\"\")","v":""},{"$f":"IFERROR(VLOOKUP(Tabla38[[#This Row],[CODIGO municipio]],[3]!Tabla8[#All],22,FALSE),\"\")","v":""},{"$f":"IFERROR(VLOOKUP(Tabla38[[#This Row],[CODIGO municipio]],[3]!Tabla8[#All],23,FALSE),\"\")","v":""},{"$f":"IFERROR(VLOOKUP(Tabla38[[#This Row],[CODIGO municipio]],[3]!Tabla9[#All],3,FALSE),\"\")","v":""}]
[{"$f":"IFERROR(VLOOKUP(Tabla38[[#This Row],[Municipio]],[3]!Tabla2[#All],3,FALSE),\"\")","v":""},922,"Flores Costa Cuca",{"$f":"IFERROR(VLOOKUP(Tabla38[[#This Row],[CODIGO municipio]],[3]!Tabla6[[#All],[codigo_mun]],1,FALSE),\"\")","v":""},{"$f":"IFERROR(VLOOKUP(Tabla38[[#This Row],[CODIGO municipio]],[3]!Tabla12[#All],2,FALSE),\"\")","v":""},{"$f":"IFERROR(VLOOKUP(Tabla38[[#This Row],[CODIGO municipio]],[3]!Tabla7[#All],3,FALSE),\"\")","v":""},{"$f":"IFERROR(VLOOKUP(Tabla38[[#This Row],[CODIGO municipio]],[3]!Tabla7[#All],4,FALSE),\"\")","v":""},{"$f":"IFERROR(VLOOKUP(Tabla38[[#This Row],[CODIGO municipio]],[3]!Tabla7[#All],11,FALSE),\"\")","v":""},{"$f":"IFERROR(VLOOKUP(Tabla38[[#This Row],[CODIGO municipio]],[3]!Tabla7[#All],12,FALSE),\"\")","v":""},{"$f":"IFERROR(VLOOKUP(Tabla38[[#This Row],[CODIGO municipio]],[3]!Tabla7[#All],13,FALSE),\"\")","v":""},{"$f":"IFERROR(VLOOKUP(Tabla38[[#This Row],[CODIGO municipio]],[3]!Tabla7[#All],14,FALSE),\"\")","v":""},{"$f":"IFERROR(VLOOKUP(Tabla38[[#This Row],[CODIGO municipio]],[3]!Tabla7[#All],15,FALSE),\"\")","v":""},{"$f":"IFERROR(VLOOKUP(Tabla38[[#This Row],[CODIGO municipio]],[3]!Tabla7[#All],16,FALSE),\"\")","v":""},{"$f":"IFERROR(VLOOKUP(Tabla38[[#This Row],[CODIGO municipio]],[3]!Tabla7[#All],17,FALSE),\"\")","v":""},{"$f":"IFERROR(VLOOKUP(Tabla38[[#This Row],[CODIGO municipio]],[3]!Tabla7[#All],18,FALSE),\"\")","v":""},{"$f":"IFERROR(VLOOKUP(Tabla38[[#This Row],[CODIGO municipio]],[3]!Tabla7[#All],19,FALSE),\"\")","v":""},{"$f":"IFERROR(VLOOKUP(Tabla38[[#This Row],[CODIGO municipio]],[3]!Tabla8[#All],3,FALSE),\"\")","v":""},{"$f":"IFERROR(VLOOKUP(Tabla38[[#This Row],[CODIGO municipio]],[3]!Tabla8[#All],4,FALSE),\"\")","v":""},{"$f":"IFERROR(VLOOKUP(Tabla38[[#This Row],[CODIGO municipio]],[3]!Tabla8[#All],5,FALSE),\"\")","v":""},{"$f":"IFERROR(VLOOKUP(Tabla38[[#This Row],[CODIGO municipio]],[3]!Tabla8[#All],6,FALSE),\"\")","v":""},{"$f":"IFERROR(VLOOKUP(Tabla38[[#This Row],[CODIGO municipio]],[3]!Tabla8[#All],7,FALSE),\"\")","v":""},{"$f":"IFERROR(VLOOKUP(Tabla38[[#This Row],[CODIGO municipio]],[3]!Tabla8[#All],8,FALSE),\"\")","v":""},{"$f":"IFERROR(VLOOKUP(Tabla38[[#This Row],[CODIGO municipio]],[3]!Tabla8[#All],9,FALSE),\"\")","v":""},{"$f":"IFERROR(VLOOKUP(Tabla38[[#This Row],[CODIGO municipio]],[3]!Tabla8[#All],10,FALSE),\"\")","v":""},{"$f":"IFERROR(VLOOKUP(Tabla38[[#This Row],[CODIGO municipio]],[3]!Tabla8[#All],11,FALSE),\"\")","v":""},{"$f":"IFERROR(VLOOKUP(Tabla38[[#This Row],[CODIGO municipio]],[3]!Tabla8[#All],12,FALSE),\"\")","v":""},{"$f":"IFERROR(VLOOKUP(Tabla38[[#This Row],[CODIGO municipio]],[3]!Tabla8[#All],13,FALSE),\"\")","v":""},{"$f":"IFERROR(VLOOKUP(Tabla38[[#This Row],[CODIGO municipio]],[3]!Tabla8[#All],14,FALSE),\"\")","v":""},{"$f":"IFERROR(VLOOKUP(Tabla38[[#This Row],[CODIGO municipio]],[3]!Tabla8[#All],15,FALSE),\"\")","v":""},{"$f":"IFERROR(VLOOKUP(Tabla38[[#This Row],[CODIGO municipio]],[3]!Tabla8[#All],16,FALSE),\"\")","v":""},{"$f":"IFERROR(VLOOKUP(Tabla38[[#This Row],[CODIGO municipio]],[3]!Tabla8[#All],17,FALSE),\"\")","v":""},{"$f":"IFERROR(VLOOKUP(Tabla38[[#This Row],[CODIGO municipio]],[3]!Tabla8[#All],18,FALSE),\"\")","v":""},{"$f":"IFERROR(VLOOKUP(Tabla38[[#This Row],[CODIGO municipio]],[3]!Tabla8[#All],19,FALSE),\"\")","v":""},{"$f":"IFERROR(VLOOKUP(Tabla38[[#This Row],[CODIGO municipio]],[3]!Tabla8[#All],20,FALSE),\"\")","v":""},{"$f":"IFERROR(VLOOKUP(Tabla38[[#This Row],[CODIGO municipio]],[3]!Tabla8[#All],21,FALSE),\"\")","v":""},{"$f":"IFERROR(VLOOKUP(Tabla38[[#This Row],[CODIGO municipio]],[3]!Tabla8[#All],22,FALSE),\"\")","v":""},{"$f":"IFERROR(VLOOKUP(Tabla38[[#This Row],[CODIGO municipio]],[3]!Tabla8[#All],23,FALSE),\"\")","v":""},{"$f":"IFERROR(VLOOKUP(Tabla38[[#This Row],[CODIGO municipio]],[3]!Tabla9[#All],3,FALSE),\"\")","v":""}]
[{"$f":"IFERROR(VLOOKUP(Tabla38[[#This Row],[Municipio]],[3]!Tabla2[#All],3,FALSE),\"\")","v":""},923,"La Esperanza",{"$f":"IFERROR(VLOOKUP(Tabla38[[#This Row],[CODIGO municipio]],[3]!Tabla6[[#All],[codigo_mun]],1,FALSE),\"\")","v":""},{"$f":"IFERROR(VLOOKUP(Tabla38[[#This Row],[CODIGO municipio]],[3]!Tabla12[#All],2,FALSE),\"\")","v":""},{"$f":"IFERROR(VLOOKUP(Tabla38[[#This Row],[CODIGO municipio]],[3]!Tabla7[#All],3,FALSE),\"\")","v":""},{"$f":"IFERROR(VLOOKUP(Tabla38[[#This Row],[CODIGO municipio]],[3]!Tabla7[#All],4,FALSE),\"\")","v":""},{"$f":"IFERROR(VLOOKUP(Tabla38[[#This Row],[CODIGO municipio]],[3]!Tabla7[#All],11,FALSE),\"\")","v":""},{"$f":"IFERROR(VLOOKUP(Tabla38[[#This Row],[CODIGO municipio]],[3]!Tabla7[#All],12,FALSE),\"\")","v":""},{"$f":"IFERROR(VLOOKUP(Tabla38[[#This Row],[CODIGO municipio]],[3]!Tabla7[#All],13,FALSE),\"\")","v":""},{"$f":"IFERROR(VLOOKUP(Tabla38[[#This Row],[CODIGO municipio]],[3]!Tabla7[#All],14,FALSE),\"\")","v":""},{"$f":"IFERROR(VLOOKUP(Tabla38[[#This Row],[CODIGO municipio]],[3]!Tabla7[#All],15,FALSE),\"\")","v":""},{"$f":"IFERROR(VLOOKUP(Tabla38[[#This Row],[CODIGO municipio]],[3]!Tabla7[#All],16,FALSE),\"\")","v":""},{"$f":"IFERROR(VLOOKUP(Tabla38[[#This Row],[CODIGO municipio]],[3]!Tabla7[#All],17,FALSE),\"\")","v":""},{"$f":"IFERROR(VLOOKUP(Tabla38[[#This Row],[CODIGO municipio]],[3]!Tabla7[#All],18,FALSE),\"\")","v":""},{"$f":"IFERROR(VLOOKUP(Tabla38[[#This Row],[CODIGO municipio]],[3]!Tabla7[#All],19,FALSE),\"\")","v":""},{"$f":"IFERROR(VLOOKUP(Tabla38[[#This Row],[CODIGO municipio]],[3]!Tabla8[#All],3,FALSE),\"\")","v":""},{"$f":"IFERROR(VLOOKUP(Tabla38[[#This Row],[CODIGO municipio]],[3]!Tabla8[#All],4,FALSE),\"\")","v":""},{"$f":"IFERROR(VLOOKUP(Tabla38[[#This Row],[CODIGO municipio]],[3]!Tabla8[#All],5,FALSE),\"\")","v":""},{"$f":"IFERROR(VLOOKUP(Tabla38[[#This Row],[CODIGO municipio]],[3]!Tabla8[#All],6,FALSE),\"\")","v":""},{"$f":"IFERROR(VLOOKUP(Tabla38[[#This Row],[CODIGO municipio]],[3]!Tabla8[#All],7,FALSE),\"\")","v":""},{"$f":"IFERROR(VLOOKUP(Tabla38[[#This Row],[CODIGO municipio]],[3]!Tabla8[#All],8,FALSE),\"\")","v":""},{"$f":"IFERROR(VLOOKUP(Tabla38[[#This Row],[CODIGO municipio]],[3]!Tabla8[#All],9,FALSE),\"\")","v":""},{"$f":"IFERROR(VLOOKUP(Tabla38[[#This Row],[CODIGO municipio]],[3]!Tabla8[#All],10,FALSE),\"\")","v":""},{"$f":"IFERROR(VLOOKUP(Tabla38[[#This Row],[CODIGO municipio]],[3]!Tabla8[#All],11,FALSE),\"\")","v":""},{"$f":"IFERROR(VLOOKUP(Tabla38[[#This Row],[CODIGO municipio]],[3]!Tabla8[#All],12,FALSE),\"\")","v":""},{"$f":"IFERROR(VLOOKUP(Tabla38[[#This Row],[CODIGO municipio]],[3]!Tabla8[#All],13,FALSE),\"\")","v":""},{"$f":"IFERROR(VLOOKUP(Tabla38[[#This Row],[CODIGO municipio]],[3]!Tabla8[#All],14,FALSE),\"\")","v":""},{"$f":"IFERROR(VLOOKUP(Tabla38[[#This Row],[CODIGO municipio]],[3]!Tabla8[#All],15,FALSE),\"\")","v":""},{"$f":"IFERROR(VLOOKUP(Tabla38[[#This Row],[CODIGO municipio]],[3]!Tabla8[#All],16,FALSE),\"\")","v":""},{"$f":"IFERROR(VLOOKUP(Tabla38[[#This Row],[CODIGO municipio]],[3]!Tabla8[#All],17,FALSE),\"\")","v":""},{"$f":"IFERROR(VLOOKUP(Tabla38[[#This Row],[CODIGO municipio]],[3]!Tabla8[#All],18,FALSE),\"\")","v":""},{"$f":"IFERROR(VLOOKUP(Tabla38[[#This Row],[CODIGO municipio]],[3]!Tabla8[#All],19,FALSE),\"\")","v":""},{"$f":"IFERROR(VLOOKUP(Tabla38[[#This Row],[CODIGO municipio]],[3]!Tabla8[#All],20,FALSE),\"\")","v":""},{"$f":"IFERROR(VLOOKUP(Tabla38[[#This Row],[CODIGO municipio]],[3]!Tabla8[#All],21,FALSE),\"\")","v":""},{"$f":"IFERROR(VLOOKUP(Tabla38[[#This Row],[CODIGO municipio]],[3]!Tabla8[#All],22,FALSE),\"\")","v":""},{"$f":"IFERROR(VLOOKUP(Tabla38[[#This Row],[CODIGO municipio]],[3]!Tabla8[#All],23,FALSE),\"\")","v":""},{"$f":"IFERROR(VLOOKUP(Tabla38[[#This Row],[CODIGO municipio]],[3]!Tabla9[#All],3,FALSE),\"\")","v":""}]
[{"$f":"IFERROR(VLOOKUP(Tabla38[[#This Row],[Municipio]],[3]!Tabla2[#All],3,FALSE),\"\")","v":""},924,"Palestina de Los Altos",{"$f":"IFERROR(VLOOKUP(Tabla38[[#This Row],[CODIGO municipio]],[3]!Tabla6[[#All],[codigo_mun]],1,FALSE),\"\")","v":""},{"$f":"IFERROR(VLOOKUP(Tabla38[[#This Row],[CODIGO municipio]],[3]!Tabla12[#All],2,FALSE),\"\")","v":""},{"$f":"IFERROR(VLOOKUP(Tabla38[[#This Row],[CODIGO municipio]],[3]!Tabla7[#All],3,FALSE),\"\")","v":""},{"$f":"IFERROR(VLOOKUP(Tabla38[[#This Row],[CODIGO municipio]],[3]!Tabla7[#All],4,FALSE),\"\")","v":""},{"$f":"IFERROR(VLOOKUP(Tabla38[[#This Row],[CODIGO municipio]],[3]!Tabla7[#All],11,FALSE),\"\")","v":""},{"$f":"IFERROR(VLOOKUP(Tabla38[[#This Row],[CODIGO municipio]],[3]!Tabla7[#All],12,FALSE),\"\")","v":""},{"$f":"IFERROR(VLOOKUP(Tabla38[[#This Row],[CODIGO municipio]],[3]!Tabla7[#All],13,FALSE),\"\")","v":""},{"$f":"IFERROR(VLOOKUP(Tabla38[[#This Row],[CODIGO municipio]],[3]!Tabla7[#All],14,FALSE),\"\")","v":""},{"$f":"IFERROR(VLOOKUP(Tabla38[[#This Row],[CODIGO municipio]],[3]!Tabla7[#All],15,FALSE),\"\")","v":""},{"$f":"IFERROR(VLOOKUP(Tabla38[[#This Row],[CODIGO municipio]],[3]!Tabla7[#All],16,FALSE),\"\")","v":""},{"$f":"IFERROR(VLOOKUP(Tabla38[[#This Row],[CODIGO municipio]],[3]!Tabla7[#All],17,FALSE),\"\")","v":""},{"$f":"IFERROR(VLOOKUP(Tabla38[[#This Row],[CODIGO municipio]],[3]!Tabla7[#All],18,FALSE),\"\")","v":""},{"$f":"IFERROR(VLOOKUP(Tabla38[[#This Row],[CODIGO municipio]],[3]!Tabla7[#All],19,FALSE),\"\")","v":""},{"$f":"IFERROR(VLOOKUP(Tabla38[[#This Row],[CODIGO municipio]],[3]!Tabla8[#All],3,FALSE),\"\")","v":""},{"$f":"IFERROR(VLOOKUP(Tabla38[[#This Row],[CODIGO municipio]],[3]!Tabla8[#All],4,FALSE),\"\")","v":""},{"$f":"IFERROR(VLOOKUP(Tabla38[[#This Row],[CODIGO municipio]],[3]!Tabla8[#All],5,FALSE),\"\")","v":""},{"$f":"IFERROR(VLOOKUP(Tabla38[[#This Row],[CODIGO municipio]],[3]!Tabla8[#All],6,FALSE),\"\")","v":""},{"$f":"IFERROR(VLOOKUP(Tabla38[[#This Row],[CODIGO municipio]],[3]!Tabla8[#All],7,FALSE),\"\")","v":""},{"$f":"IFERROR(VLOOKUP(Tabla38[[#This Row],[CODIGO municipio]],[3]!Tabla8[#All],8,FALSE),\"\")","v":""},{"$f":"IFERROR(VLOOKUP(Tabla38[[#This Row],[CODIGO municipio]],[3]!Tabla8[#All],9,FALSE),\"\")","v":""},{"$f":"IFERROR(VLOOKUP(Tabla38[[#This Row],[CODIGO municipio]],[3]!Tabla8[#All],10,FALSE),\"\")","v":""},{"$f":"IFERROR(VLOOKUP(Tabla38[[#This Row],[CODIGO municipio]],[3]!Tabla8[#All],11,FALSE),\"\")","v":""},{"$f":"IFERROR(VLOOKUP(Tabla38[[#This Row],[CODIGO municipio]],[3]!Tabla8[#All],12,FALSE),\"\")","v":""},{"$f":"IFERROR(VLOOKUP(Tabla38[[#This Row],[CODIGO municipio]],[3]!Tabla8[#All],13,FALSE),\"\")","v":""},{"$f":"IFERROR(VLOOKUP(Tabla38[[#This Row],[CODIGO municipio]],[3]!Tabla8[#All],14,FALSE),\"\")","v":""},{"$f":"IFERROR(VLOOKUP(Tabla38[[#This Row],[CODIGO municipio]],[3]!Tabla8[#All],15,FALSE),\"\")","v":""},{"$f":"IFERROR(VLOOKUP(Tabla38[[#This Row],[CODIGO municipio]],[3]!Tabla8[#All],16,FALSE),\"\")","v":""},{"$f":"IFERROR(VLOOKUP(Tabla38[[#This Row],[CODIGO municipio]],[3]!Tabla8[#All],17,FALSE),\"\")","v":""},{"$f":"IFERROR(VLOOKUP(Tabla38[[#This Row],[CODIGO municipio]],[3]!Tabla8[#All],18,FALSE),\"\")","v":""},{"$f":"IFERROR(VLOOKUP(Tabla38[[#This Row],[CODIGO municipio]],[3]!Tabla8[#All],19,FALSE),\"\")","v":""},{"$f":"IFERROR(VLOOKUP(Tabla38[[#This Row],[CODIGO municipio]],[3]!Tabla8[#All],20,FALSE),\"\")","v":""},{"$f":"IFERROR(VLOOKUP(Tabla38[[#This Row],[CODIGO municipio]],[3]!Tabla8[#All],21,FALSE),\"\")","v":""},{"$f":"IFERROR(VLOOKUP(Tabla38[[#This Row],[CODIGO municipio]],[3]!Tabla8[#All],22,FALSE),\"\")","v":""},{"$f":"IFERROR(VLOOKUP(Tabla38[[#This Row],[CODIGO municipio]],[3]!Tabla8[#All],23,FALSE),\"\")","v":""},{"$f":"IFERROR(VLOOKUP(Tabla38[[#This Row],[CODIGO municipio]],[3]!Tabla9[#All],3,FALSE),\"\")","v":""}]
[{"$f":"IFERROR(VLOOKUP(Tabla38[[#This Row],[Municipio]],[3]!Tabla2[#All],3,FALSE),\"\")","v":""},1001,"Mazatenango",{"$f":"IFERROR(VLOOKUP(Tabla38[[#This Row],[CODIGO municipio]],[3]!Tabla6[[#All],[codigo_mun]],1,FALSE),\"\")","v":""},{"$f":"IFERROR(VLOOKUP(Tabla38[[#This Row],[CODIGO municipio]],[3]!Tabla12[#All],2,FALSE),\"\")","v":""},{"$f":"IFERROR(VLOOKUP(Tabla38[[#This Row],[CODIGO municipio]],[3]!Tabla7[#All],3,FALSE),\"\")","v":""},{"$f":"IFERROR(VLOOKUP(Tabla38[[#This Row],[CODIGO municipio]],[3]!Tabla7[#All],4,FALSE),\"\")","v":""},{"$f":"IFERROR(VLOOKUP(Tabla38[[#This Row],[CODIGO municipio]],[3]!Tabla7[#All],11,FALSE),\"\")","v":""},{"$f":"IFERROR(VLOOKUP(Tabla38[[#This Row],[CODIGO municipio]],[3]!Tabla7[#All],12,FALSE),\"\")","v":""},{"$f":"IFERROR(VLOOKUP(Tabla38[[#This Row],[CODIGO municipio]],[3]!Tabla7[#All],13,FALSE),\"\")","v":""},{"$f":"IFERROR(VLOOKUP(Tabla38[[#This Row],[CODIGO municipio]],[3]!Tabla7[#All],14,FALSE),\"\")","v":""},{"$f":"IFERROR(VLOOKUP(Tabla38[[#This Row],[CODIGO municipio]],[3]!Tabla7[#All],15,FALSE),\"\")","v":""},{"$f":"IFERROR(VLOOKUP(Tabla38[[#This Row],[CODIGO municipio]],[3]!Tabla7[#All],16,FALSE),\"\")","v":""},{"$f":"IFERROR(VLOOKUP(Tabla38[[#This Row],[CODIGO municipio]],[3]!Tabla7[#All],17,FALSE),\"\")","v":""},{"$f":"IFERROR(VLOOKUP(Tabla38[[#This Row],[CODIGO municipio]],[3]!Tabla7[#All],18,FALSE),\"\")","v":""},{"$f":"IFERROR(VLOOKUP(Tabla38[[#This Row],[CODIGO municipio]],[3]!Tabla7[#All],19,FALSE),\"\")","v":""},{"$f":"IFERROR(VLOOKUP(Tabla38[[#This Row],[CODIGO municipio]],[3]!Tabla8[#All],3,FALSE),\"\")","v":""},{"$f":"IFERROR(VLOOKUP(Tabla38[[#This Row],[CODIGO municipio]],[3]!Tabla8[#All],4,FALSE),\"\")","v":""},{"$f":"IFERROR(VLOOKUP(Tabla38[[#This Row],[CODIGO municipio]],[3]!Tabla8[#All],5,FALSE),\"\")","v":""},{"$f":"IFERROR(VLOOKUP(Tabla38[[#This Row],[CODIGO municipio]],[3]!Tabla8[#All],6,FALSE),\"\")","v":""},{"$f":"IFERROR(VLOOKUP(Tabla38[[#This Row],[CODIGO municipio]],[3]!Tabla8[#All],7,FALSE),\"\")","v":""},{"$f":"IFERROR(VLOOKUP(Tabla38[[#This Row],[CODIGO municipio]],[3]!Tabla8[#All],8,FALSE),\"\")","v":""},{"$f":"IFERROR(VLOOKUP(Tabla38[[#This Row],[CODIGO municipio]],[3]!Tabla8[#All],9,FALSE),\"\")","v":""},{"$f":"IFERROR(VLOOKUP(Tabla38[[#This Row],[CODIGO municipio]],[3]!Tabla8[#All],10,FALSE),\"\")","v":""},{"$f":"IFERROR(VLOOKUP(Tabla38[[#This Row],[CODIGO municipio]],[3]!Tabla8[#All],11,FALSE),\"\")","v":""},{"$f":"IFERROR(VLOOKUP(Tabla38[[#This Row],[CODIGO municipio]],[3]!Tabla8[#All],12,FALSE),\"\")","v":""},{"$f":"IFERROR(VLOOKUP(Tabla38[[#This Row],[CODIGO municipio]],[3]!Tabla8[#All],13,FALSE),\"\")","v":""},{"$f":"IFERROR(VLOOKUP(Tabla38[[#This Row],[CODIGO municipio]],[3]!Tabla8[#All],14,FALSE),\"\")","v":""},{"$f":"IFERROR(VLOOKUP(Tabla38[[#This Row],[CODIGO municipio]],[3]!Tabla8[#All],15,FALSE),\"\")","v":""},{"$f":"IFERROR(VLOOKUP(Tabla38[[#This Row],[CODIGO municipio]],[3]!Tabla8[#All],16,FALSE),\"\")","v":""},{"$f":"IFERROR(VLOOKUP(Tabla38[[#This Row],[CODIGO municipio]],[3]!Tabla8[#All],17,FALSE),\"\")","v":""},{"$f":"IFERROR(VLOOKUP(Tabla38[[#This Row],[CODIGO municipio]],[3]!Tabla8[#All],18,FALSE),\"\")","v":""},{"$f":"IFERROR(VLOOKUP(Tabla38[[#This Row],[CODIGO municipio]],[3]!Tabla8[#All],19,FALSE),\"\")","v":""},{"$f":"IFERROR(VLOOKUP(Tabla38[[#This Row],[CODIGO municipio]],[3]!Tabla8[#All],20,FALSE),\"\")","v":""},{"$f":"IFERROR(VLOOKUP(Tabla38[[#This Row],[CODIGO municipio]],[3]!Tabla8[#All],21,FALSE),\"\")","v":""},{"$f":"IFERROR(VLOOKUP(Tabla38[[#This Row],[CODIGO municipio]],[3]!Tabla8[#All],22,FALSE),\"\")","v":""},{"$f":"IFERROR(VLOOKUP(Tabla38[[#This Row],[CODIGO municipio]],[3]!Tabla8[#All],23,FALSE),\"\")","v":""},{"$f":"IFERROR(VLOOKUP(Tabla38[[#This Row],[CODIGO municipio]],[3]!Tabla9[#All],3,FALSE),\"\")","v":""}]
[{"$f":"IFERROR(VLOOKUP(Tabla38[[#This Row],[Municipio]],[3]!Tabla2[#All],3,FALSE),\"\")","v":""},1002,"Cuyotenango",{"$f":"IFERROR(VLOOKUP(Tabla38[[#This Row],[CODIGO municipio]],[3]!Tabla6[[#All],[codigo_mun]],1,FALSE),\"\")","v":""},{"$f":"IFERROR(VLOOKUP(Tabla38[[#This Row],[CODIGO municipio]],[3]!Tabla12[#All],2,FALSE),\"\")","v":""},{"$f":"IFERROR(VLOOKUP(Tabla38[[#This Row],[CODIGO municipio]],[3]!Tabla7[#All],3,FALSE),\"\")","v":""},{"$f":"IFERROR(VLOOKUP(Tabla38[[#This Row],[CODIGO municipio]],[3]!Tabla7[#All],4,FALSE),\"\")","v":""},{"$f":"IFERROR(VLOOKUP(Tabla38[[#This Row],[CODIGO municipio]],[3]!Tabla7[#All],11,FALSE),\"\")","v":""},{"$f":"IFERROR(VLOOKUP(Tabla38[[#This Row],[CODIGO municipio]],[3]!Tabla7[#All],12,FALSE),\"\")","v":""},{"$f":"IFERROR(VLOOKUP(Tabla38[[#This Row],[CODIGO municipio]],[3]!Tabla7[#All],13,FALSE),\"\")","v":""},{"$f":"IFERROR(VLOOKUP(Tabla38[[#This Row],[CODIGO municipio]],[3]!Tabla7[#All],14,FALSE),\"\")","v":""},{"$f":"IFERROR(VLOOKUP(Tabla38[[#This Row],[CODIGO municipio]],[3]!Tabla7[#All],15,FALSE),\"\")","v":""},{"$f":"IFERROR(VLOOKUP(Tabla38[[#This Row],[CODIGO municipio]],[3]!Tabla7[#All],16,FALSE),\"\")","v":""},{"$f":"IFERROR(VLOOKUP(Tabla38[[#This Row],[CODIGO municipio]],[3]!Tabla7[#All],17,FALSE),\"\")","v":""},{"$f":"IFERROR(VLOOKUP(Tabla38[[#This Row],[CODIGO municipio]],[3]!Tabla7[#All],18,FALSE),\"\")","v":""},{"$f":"IFERROR(VLOOKUP(Tabla38[[#This Row],[CODIGO municipio]],[3]!Tabla7[#All],19,FALSE),\"\")","v":""},{"$f":"IFERROR(VLOOKUP(Tabla38[[#This Row],[CODIGO municipio]],[3]!Tabla8[#All],3,FALSE),\"\")","v":""},{"$f":"IFERROR(VLOOKUP(Tabla38[[#This Row],[CODIGO municipio]],[3]!Tabla8[#All],4,FALSE),\"\")","v":""},{"$f":"IFERROR(VLOOKUP(Tabla38[[#This Row],[CODIGO municipio]],[3]!Tabla8[#All],5,FALSE),\"\")","v":""},{"$f":"IFERROR(VLOOKUP(Tabla38[[#This Row],[CODIGO municipio]],[3]!Tabla8[#All],6,FALSE),\"\")","v":""},{"$f":"IFERROR(VLOOKUP(Tabla38[[#This Row],[CODIGO municipio]],[3]!Tabla8[#All],7,FALSE),\"\")","v":""},{"$f":"IFERROR(VLOOKUP(Tabla38[[#This Row],[CODIGO municipio]],[3]!Tabla8[#All],8,FALSE),\"\")","v":""},{"$f":"IFERROR(VLOOKUP(Tabla38[[#This Row],[CODIGO municipio]],[3]!Tabla8[#All],9,FALSE),\"\")","v":""},{"$f":"IFERROR(VLOOKUP(Tabla38[[#This Row],[CODIGO municipio]],[3]!Tabla8[#All],10,FALSE),\"\")","v":""},{"$f":"IFERROR(VLOOKUP(Tabla38[[#This Row],[CODIGO municipio]],[3]!Tabla8[#All],11,FALSE),\"\")","v":""},{"$f":"IFERROR(VLOOKUP(Tabla38[[#This Row],[CODIGO municipio]],[3]!Tabla8[#All],12,FALSE),\"\")","v":""},{"$f":"IFERROR(VLOOKUP(Tabla38[[#This Row],[CODIGO municipio]],[3]!Tabla8[#All],13,FALSE),\"\")","v":""},{"$f":"IFERROR(VLOOKUP(Tabla38[[#This Row],[CODIGO municipio]],[3]!Tabla8[#All],14,FALSE),\"\")","v":""},{"$f":"IFERROR(VLOOKUP(Tabla38[[#This Row],[CODIGO municipio]],[3]!Tabla8[#All],15,FALSE),\"\")","v":""},{"$f":"IFERROR(VLOOKUP(Tabla38[[#This Row],[CODIGO municipio]],[3]!Tabla8[#All],16,FALSE),\"\")","v":""},{"$f":"IFERROR(VLOOKUP(Tabla38[[#This Row],[CODIGO municipio]],[3]!Tabla8[#All],17,FALSE),\"\")","v":""},{"$f":"IFERROR(VLOOKUP(Tabla38[[#This Row],[CODIGO municipio]],[3]!Tabla8[#All],18,FALSE),\"\")","v":""},{"$f":"IFERROR(VLOOKUP(Tabla38[[#This Row],[CODIGO municipio]],[3]!Tabla8[#All],19,FALSE),\"\")","v":""},{"$f":"IFERROR(VLOOKUP(Tabla38[[#This Row],[CODIGO municipio]],[3]!Tabla8[#All],20,FALSE),\"\")","v":""},{"$f":"IFERROR(VLOOKUP(Tabla38[[#This Row],[CODIGO municipio]],[3]!Tabla8[#All],21,FALSE),\"\")","v":""},{"$f":"IFERROR(VLOOKUP(Tabla38[[#This Row],[CODIGO municipio]],[3]!Tabla8[#All],22,FALSE),\"\")","v":""},{"$f":"IFERROR(VLOOKUP(Tabla38[[#This Row],[CODIGO municipio]],[3]!Tabla8[#All],23,FALSE),\"\")","v":""},{"$f":"IFERROR(VLOOKUP(Tabla38[[#This Row],[CODIGO municipio]],[3]!Tabla9[#All],3,FALSE),\"\")","v":""}]
[{"$f":"IFERROR(VLOOKUP(Tabla38[[#This Row],[Municipio]],[3]!Tabla2[#All],3,FALSE),\"\")","v":""},1003,"San Francisco Zapotitlán",{"$f":"IFERROR(VLOOKUP(Tabla38[[#This Row],[CODIGO municipio]],[3]!Tabla6[[#All],[codigo_mun]],1,FALSE),\"\")","v":""},{"$f":"IFERROR(VLOOKUP(Tabla38[[#This Row],[CODIGO municipio]],[3]!Tabla12[#All],2,FALSE),\"\")","v":""},{"$f":"IFERROR(VLOOKUP(Tabla38[[#This Row],[CODIGO municipio]],[3]!Tabla7[#All],3,FALSE),\"\")","v":""},{"$f":"IFERROR(VLOOKUP(Tabla38[[#This Row],[CODIGO municipio]],[3]!Tabla7[#All],4,FALSE),\"\")","v":""},{"$f":"IFERROR(VLOOKUP(Tabla38[[#This Row],[CODIGO municipio]],[3]!Tabla7[#All],11,FALSE),\"\")","v":""},{"$f":"IFERROR(VLOOKUP(Tabla38[[#This Row],[CODIGO municipio]],[3]!Tabla7[#All],12,FALSE),\"\")","v":""},{"$f":"IFERROR(VLOOKUP(Tabla38[[#This Row],[CODIGO municipio]],[3]!Tabla7[#All],13,FALSE),\"\")","v":""},{"$f":"IFERROR(VLOOKUP(Tabla38[[#This Row],[CODIGO municipio]],[3]!Tabla7[#All],14,FALSE),\"\")","v":""},{"$f":"IFERROR(VLOOKUP(Tabla38[[#This Row],[CODIGO municipio]],[3]!Tabla7[#All],15,FALSE),\"\")","v":""},{"$f":"IFERROR(VLOOKUP(Tabla38[[#This Row],[CODIGO municipio]],[3]!Tabla7[#All],16,FALSE),\"\")","v":""},{"$f":"IFERROR(VLOOKUP(Tabla38[[#This Row],[CODIGO municipio]],[3]!Tabla7[#All],17,FALSE),\"\")","v":""},{"$f":"IFERROR(VLOOKUP(Tabla38[[#This Row],[CODIGO municipio]],[3]!Tabla7[#All],18,FALSE),\"\")","v":""},{"$f":"IFERROR(VLOOKUP(Tabla38[[#This Row],[CODIGO municipio]],[3]!Tabla7[#All],19,FALSE),\"\")","v":""},{"$f":"IFERROR(VLOOKUP(Tabla38[[#This Row],[CODIGO municipio]],[3]!Tabla8[#All],3,FALSE),\"\")","v":""},{"$f":"IFERROR(VLOOKUP(Tabla38[[#This Row],[CODIGO municipio]],[3]!Tabla8[#All],4,FALSE),\"\")","v":""},{"$f":"IFERROR(VLOOKUP(Tabla38[[#This Row],[CODIGO municipio]],[3]!Tabla8[#All],5,FALSE),\"\")","v":""},{"$f":"IFERROR(VLOOKUP(Tabla38[[#This Row],[CODIGO municipio]],[3]!Tabla8[#All],6,FALSE),\"\")","v":""},{"$f":"IFERROR(VLOOKUP(Tabla38[[#This Row],[CODIGO municipio]],[3]!Tabla8[#All],7,FALSE),\"\")","v":""},{"$f":"IFERROR(VLOOKUP(Tabla38[[#This Row],[CODIGO municipio]],[3]!Tabla8[#All],8,FALSE),\"\")","v":""},{"$f":"IFERROR(VLOOKUP(Tabla38[[#This Row],[CODIGO municipio]],[3]!Tabla8[#All],9,FALSE),\"\")","v":""},{"$f":"IFERROR(VLOOKUP(Tabla38[[#This Row],[CODIGO municipio]],[3]!Tabla8[#All],10,FALSE),\"\")","v":""},{"$f":"IFERROR(VLOOKUP(Tabla38[[#This Row],[CODIGO municipio]],[3]!Tabla8[#All],11,FALSE),\"\")","v":""},{"$f":"IFERROR(VLOOKUP(Tabla38[[#This Row],[CODIGO municipio]],[3]!Tabla8[#All],12,FALSE),\"\")","v":""},{"$f":"IFERROR(VLOOKUP(Tabla38[[#This Row],[CODIGO municipio]],[3]!Tabla8[#All],13,FALSE),\"\")","v":""},{"$f":"IFERROR(VLOOKUP(Tabla38[[#This Row],[CODIGO municipio]],[3]!Tabla8[#All],14,FALSE),\"\")","v":""},{"$f":"IFERROR(VLOOKUP(Tabla38[[#This Row],[CODIGO municipio]],[3]!Tabla8[#All],15,FALSE),\"\")","v":""},{"$f":"IFERROR(VLOOKUP(Tabla38[[#This Row],[CODIGO municipio]],[3]!Tabla8[#All],16,FALSE),\"\")","v":""},{"$f":"IFERROR(VLOOKUP(Tabla38[[#This Row],[CODIGO municipio]],[3]!Tabla8[#All],17,FALSE),\"\")","v":""},{"$f":"IFERROR(VLOOKUP(Tabla38[[#This Row],[CODIGO municipio]],[3]!Tabla8[#All],18,FALSE),\"\")","v":""},{"$f":"IFERROR(VLOOKUP(Tabla38[[#This Row],[CODIGO municipio]],[3]!Tabla8[#All],19,FALSE),\"\")","v":""},{"$f":"IFERROR(VLOOKUP(Tabla38[[#This Row],[CODIGO municipio]],[3]!Tabla8[#All],20,FALSE),\"\")","v":""},{"$f":"IFERROR(VLOOKUP(Tabla38[[#This Row],[CODIGO municipio]],[3]!Tabla8[#All],21,FALSE),\"\")","v":""},{"$f":"IFERROR(VLOOKUP(Tabla38[[#This Row],[CODIGO municipio]],[3]!Tabla8[#All],22,FALSE),\"\")","v":""},{"$f":"IFERROR(VLOOKUP(Tabla38[[#This Row],[CODIGO municipio]],[3]!Tabla8[#All],23,FALSE),\"\")","v":""},{"$f":"IFERROR(VLOOKUP(Tabla38[[#This Row],[CODIGO municipio]],[3]!Tabla9[#All],3,FALSE),\"\")","v":""}]
[{"$f":"IFERROR(VLOOKUP(Tabla38[[#This Row],[Municipio]],[3]!Tabla2[#All],3,FALSE),\"\")","v":""},1004,"San Bernardino",{"$f":"IFERROR(VLOOKUP(Tabla38[[#This Row],[CODIGO municipio]],[3]!Tabla6[[#All],[codigo_mun]],1,FALSE),\"\")","v":""},{"$f":"IFERROR(VLOOKUP(Tabla38[[#This Row],[CODIGO municipio]],[3]!Tabla12[#All],2,FALSE),\"\")","v":""},{"$f":"IFERROR(VLOOKUP(Tabla38[[#This Row],[CODIGO municipio]],[3]!Tabla7[#All],3,FALSE),\"\")","v":""},{"$f":"IFERROR(VLOOKUP(Tabla38[[#This Row],[CODIGO municipio]],[3]!Tabla7[#All],4,FALSE),\"\")","v":""},{"$f":"IFERROR(VLOOKUP(Tabla38[[#This Row],[CODIGO municipio]],[3]!Tabla7[#All],11,FALSE),\"\")","v":""},{"$f":"IFERROR(VLOOKUP(Tabla38[[#This Row],[CODIGO municipio]],[3]!Tabla7[#All],12,FALSE),\"\")","v":""},{"$f":"IFERROR(VLOOKUP(Tabla38[[#This Row],[CODIGO municipio]],[3]!Tabla7[#All],13,FALSE),\"\")","v":""},{"$f":"IFERROR(VLOOKUP(Tabla38[[#This Row],[CODIGO municipio]],[3]!Tabla7[#All],14,FALSE),\"\")","v":""},{"$f":"IFERROR(VLOOKUP(Tabla38[[#This Row],[CODIGO municipio]],[3]!Tabla7[#All],15,FALSE),\"\")","v":""},{"$f":"IFERROR(VLOOKUP(Tabla38[[#This Row],[CODIGO municipio]],[3]!Tabla7[#All],16,FALSE),\"\")","v":""},{"$f":"IFERROR(VLOOKUP(Tabla38[[#This Row],[CODIGO municipio]],[3]!Tabla7[#All],17,FALSE),\"\")","v":""},{"$f":"IFERROR(VLOOKUP(Tabla38[[#This Row],[CODIGO municipio]],[3]!Tabla7[#All],18,FALSE),\"\")","v":""},{"$f":"IFERROR(VLOOKUP(Tabla38[[#This Row],[CODIGO municipio]],[3]!Tabla7[#All],19,FALSE),\"\")","v":""},{"$f":"IFERROR(VLOOKUP(Tabla38[[#This Row],[CODIGO municipio]],[3]!Tabla8[#All],3,FALSE),\"\")","v":""},{"$f":"IFERROR(VLOOKUP(Tabla38[[#This Row],[CODIGO municipio]],[3]!Tabla8[#All],4,FALSE),\"\")","v":""},{"$f":"IFERROR(VLOOKUP(Tabla38[[#This Row],[CODIGO municipio]],[3]!Tabla8[#All],5,FALSE),\"\")","v":""},{"$f":"IFERROR(VLOOKUP(Tabla38[[#This Row],[CODIGO municipio]],[3]!Tabla8[#All],6,FALSE),\"\")","v":""},{"$f":"IFERROR(VLOOKUP(Tabla38[[#This Row],[CODIGO municipio]],[3]!Tabla8[#All],7,FALSE),\"\")","v":""},{"$f":"IFERROR(VLOOKUP(Tabla38[[#This Row],[CODIGO municipio]],[3]!Tabla8[#All],8,FALSE),\"\")","v":""},{"$f":"IFERROR(VLOOKUP(Tabla38[[#This Row],[CODIGO municipio]],[3]!Tabla8[#All],9,FALSE),\"\")","v":""},{"$f":"IFERROR(VLOOKUP(Tabla38[[#This Row],[CODIGO municipio]],[3]!Tabla8[#All],10,FALSE),\"\")","v":""},{"$f":"IFERROR(VLOOKUP(Tabla38[[#This Row],[CODIGO municipio]],[3]!Tabla8[#All],11,FALSE),\"\")","v":""},{"$f":"IFERROR(VLOOKUP(Tabla38[[#This Row],[CODIGO municipio]],[3]!Tabla8[#All],12,FALSE),\"\")","v":""},{"$f":"IFERROR(VLOOKUP(Tabla38[[#This Row],[CODIGO municipio]],[3]!Tabla8[#All],13,FALSE),\"\")","v":""},{"$f":"IFERROR(VLOOKUP(Tabla38[[#This Row],[CODIGO municipio]],[3]!Tabla8[#All],14,FALSE),\"\")","v":""},{"$f":"IFERROR(VLOOKUP(Tabla38[[#This Row],[CODIGO municipio]],[3]!Tabla8[#All],15,FALSE),\"\")","v":""},{"$f":"IFERROR(VLOOKUP(Tabla38[[#This Row],[CODIGO municipio]],[3]!Tabla8[#All],16,FALSE),\"\")","v":""},{"$f":"IFERROR(VLOOKUP(Tabla38[[#This Row],[CODIGO municipio]],[3]!Tabla8[#All],17,FALSE),\"\")","v":""},{"$f":"IFERROR(VLOOKUP(Tabla38[[#This Row],[CODIGO municipio]],[3]!Tabla8[#All],18,FALSE),\"\")","v":""},{"$f":"IFERROR(VLOOKUP(Tabla38[[#This Row],[CODIGO municipio]],[3]!Tabla8[#All],19,FALSE),\"\")","v":""},{"$f":"IFERROR(VLOOKUP(Tabla38[[#This Row],[CODIGO municipio]],[3]!Tabla8[#All],20,FALSE),\"\")","v":""},{"$f":"IFERROR(VLOOKUP(Tabla38[[#This Row],[CODIGO municipio]],[3]!Tabla8[#All],21,FALSE),\"\")","v":""},{"$f":"IFERROR(VLOOKUP(Tabla38[[#This Row],[CODIGO municipio]],[3]!Tabla8[#All],22,FALSE),\"\")","v":""},{"$f":"IFERROR(VLOOKUP(Tabla38[[#This Row],[CODIGO municipio]],[3]!Tabla8[#All],23,FALSE),\"\")","v":""},{"$f":"IFERROR(VLOOKUP(Tabla38[[#This Row],[CODIGO municipio]],[3]!Tabla9[#All],3,FALSE),\"\")","v":""}]
[{"$f":"IFERROR(VLOOKUP(Tabla38[[#This Row],[Municipio]],[3]!Tabla2[#All],3,FALSE),\"\")","v":""},1005,"San José el Ídolo",{"$f":"IFERROR(VLOOKUP(Tabla38[[#This Row],[CODIGO municipio]],[3]!Tabla6[[#All],[codigo_mun]],1,FALSE),\"\")","v":""},{"$f":"IFERROR(VLOOKUP(Tabla38[[#This Row],[CODIGO municipio]],[3]!Tabla12[#All],2,FALSE),\"\")","v":""},{"$f":"IFERROR(VLOOKUP(Tabla38[[#This Row],[CODIGO municipio]],[3]!Tabla7[#All],3,FALSE),\"\")","v":""},{"$f":"IFERROR(VLOOKUP(Tabla38[[#This Row],[CODIGO municipio]],[3]!Tabla7[#All],4,FALSE),\"\")","v":""},{"$f":"IFERROR(VLOOKUP(Tabla38[[#This Row],[CODIGO municipio]],[3]!Tabla7[#All],11,FALSE),\"\")","v":""},{"$f":"IFERROR(VLOOKUP(Tabla38[[#This Row],[CODIGO municipio]],[3]!Tabla7[#All],12,FALSE),\"\")","v":""},{"$f":"IFERROR(VLOOKUP(Tabla38[[#This Row],[CODIGO municipio]],[3]!Tabla7[#All],13,FALSE),\"\")","v":""},{"$f":"IFERROR(VLOOKUP(Tabla38[[#This Row],[CODIGO municipio]],[3]!Tabla7[#All],14,FALSE),\"\")","v":""},{"$f":"IFERROR(VLOOKUP(Tabla38[[#This Row],[CODIGO municipio]],[3]!Tabla7[#All],15,FALSE),\"\")","v":""},{"$f":"IFERROR(VLOOKUP(Tabla38[[#This Row],[CODIGO municipio]],[3]!Tabla7[#All],16,FALSE),\"\")","v":""},{"$f":"IFERROR(VLOOKUP(Tabla38[[#This Row],[CODIGO municipio]],[3]!Tabla7[#All],17,FALSE),\"\")","v":""},{"$f":"IFERROR(VLOOKUP(Tabla38[[#This Row],[CODIGO municipio]],[3]!Tabla7[#All],18,FALSE),\"\")","v":""},{"$f":"IFERROR(VLOOKUP(Tabla38[[#This Row],[CODIGO municipio]],[3]!Tabla7[#All],19,FALSE),\"\")","v":""},{"$f":"IFERROR(VLOOKUP(Tabla38[[#This Row],[CODIGO municipio]],[3]!Tabla8[#All],3,FALSE),\"\")","v":""},{"$f":"IFERROR(VLOOKUP(Tabla38[[#This Row],[CODIGO municipio]],[3]!Tabla8[#All],4,FALSE),\"\")","v":""},{"$f":"IFERROR(VLOOKUP(Tabla38[[#This Row],[CODIGO municipio]],[3]!Tabla8[#All],5,FALSE),\"\")","v":""},{"$f":"IFERROR(VLOOKUP(Tabla38[[#This Row],[CODIGO municipio]],[3]!Tabla8[#All],6,FALSE),\"\")","v":""},{"$f":"IFERROR(VLOOKUP(Tabla38[[#This Row],[CODIGO municipio]],[3]!Tabla8[#All],7,FALSE),\"\")","v":""},{"$f":"IFERROR(VLOOKUP(Tabla38[[#This Row],[CODIGO municipio]],[3]!Tabla8[#All],8,FALSE),\"\")","v":""},{"$f":"IFERROR(VLOOKUP(Tabla38[[#This Row],[CODIGO municipio]],[3]!Tabla8[#All],9,FALSE),\"\")","v":""},{"$f":"IFERROR(VLOOKUP(Tabla38[[#This Row],[CODIGO municipio]],[3]!Tabla8[#All],10,FALSE),\"\")","v":""},{"$f":"IFERROR(VLOOKUP(Tabla38[[#This Row],[CODIGO municipio]],[3]!Tabla8[#All],11,FALSE),\"\")","v":""},{"$f":"IFERROR(VLOOKUP(Tabla38[[#This Row],[CODIGO municipio]],[3]!Tabla8[#All],12,FALSE),\"\")","v":""},{"$f":"IFERROR(VLOOKUP(Tabla38[[#This Row],[CODIGO municipio]],[3]!Tabla8[#All],13,FALSE),\"\")","v":""},{"$f":"IFERROR(VLOOKUP(Tabla38[[#This Row],[CODIGO municipio]],[3]!Tabla8[#All],14,FALSE),\"\")","v":""},{"$f":"IFERROR(VLOOKUP(Tabla38[[#This Row],[CODIGO municipio]],[3]!Tabla8[#All],15,FALSE),\"\")","v":""},{"$f":"IFERROR(VLOOKUP(Tabla38[[#This Row],[CODIGO municipio]],[3]!Tabla8[#All],16,FALSE),\"\")","v":""},{"$f":"IFERROR(VLOOKUP(Tabla38[[#This Row],[CODIGO municipio]],[3]!Tabla8[#All],17,FALSE),\"\")","v":""},{"$f":"IFERROR(VLOOKUP(Tabla38[[#This Row],[CODIGO municipio]],[3]!Tabla8[#All],18,FALSE),\"\")","v":""},{"$f":"IFERROR(VLOOKUP(Tabla38[[#This Row],[CODIGO municipio]],[3]!Tabla8[#All],19,FALSE),\"\")","v":""},{"$f":"IFERROR(VLOOKUP(Tabla38[[#This Row],[CODIGO municipio]],[3]!Tabla8[#All],20,FALSE),\"\")","v":""},{"$f":"IFERROR(VLOOKUP(Tabla38[[#This Row],[CODIGO municipio]],[3]!Tabla8[#All],21,FALSE),\"\")","v":""},{"$f":"IFERROR(VLOOKUP(Tabla38[[#This Row],[CODIGO municipio]],[3]!Tabla8[#All],22,FALSE),\"\")","v":""},{"$f":"IFERROR(VLOOKUP(Tabla38[[#This Row],[CODIGO municipio]],[3]!Tabla8[#All],23,FALSE),\"\")","v":""},{"$f":"IFERROR(VLOOKUP(Tabla38[[#This Row],[CODIGO municipio]],[3]!Tabla9[#All],3,FALSE),\"\")","v":""}]
[{"$f":"IFERROR(VLOOKUP(Tabla38[[#This Row],[Municipio]],[3]!Tabla2[#All],3,FALSE),\"\")","v":""},1006,"Santo Domingo Suchitepéquez",{"$f":"IFERROR(VLOOKUP(Tabla38[[#This Row],[CODIGO municipio]],[3]!Tabla6[[#All],[codigo_mun]],1,FALSE),\"\")","v":""},{"$f":"IFERROR(VLOOKUP(Tabla38[[#This Row],[CODIGO municipio]],[3]!Tabla12[#All],2,FALSE),\"\")","v":""},{"$f":"IFERROR(VLOOKUP(Tabla38[[#This Row],[CODIGO municipio]],[3]!Tabla7[#All],3,FALSE),\"\")","v":""},{"$f":"IFERROR(VLOOKUP(Tabla38[[#This Row],[CODIGO municipio]],[3]!Tabla7[#All],4,FALSE),\"\")","v":""},{"$f":"IFERROR(VLOOKUP(Tabla38[[#This Row],[CODIGO municipio]],[3]!Tabla7[#All],11,FALSE),\"\")","v":""},{"$f":"IFERROR(VLOOKUP(Tabla38[[#This Row],[CODIGO municipio]],[3]!Tabla7[#All],12,FALSE),\"\")","v":""},{"$f":"IFERROR(VLOOKUP(Tabla38[[#This Row],[CODIGO municipio]],[3]!Tabla7[#All],13,FALSE),\"\")","v":""},{"$f":"IFERROR(VLOOKUP(Tabla38[[#This Row],[CODIGO municipio]],[3]!Tabla7[#All],14,FALSE),\"\")","v":""},{"$f":"IFERROR(VLOOKUP(Tabla38[[#This Row],[CODIGO municipio]],[3]!Tabla7[#All],15,FALSE),\"\")","v":""},{"$f":"IFERROR(VLOOKUP(Tabla38[[#This Row],[CODIGO municipio]],[3]!Tabla7[#All],16,FALSE),\"\")","v":""},{"$f":"IFERROR(VLOOKUP(Tabla38[[#This Row],[CODIGO municipio]],[3]!Tabla7[#All],17,FALSE),\"\")","v":""},{"$f":"IFERROR(VLOOKUP(Tabla38[[#This Row],[CODIGO municipio]],[3]!Tabla7[#All],18,FALSE),\"\")","v":""},{"$f":"IFERROR(VLOOKUP(Tabla38[[#This Row],[CODIGO municipio]],[3]!Tabla7[#All],19,FALSE),\"\")","v":""},{"$f":"IFERROR(VLOOKUP(Tabla38[[#This Row],[CODIGO municipio]],[3]!Tabla8[#All],3,FALSE),\"\")","v":""},{"$f":"IFERROR(VLOOKUP(Tabla38[[#This Row],[CODIGO municipio]],[3]!Tabla8[#All],4,FALSE),\"\")","v":""},{"$f":"IFERROR(VLOOKUP(Tabla38[[#This Row],[CODIGO municipio]],[3]!Tabla8[#All],5,FALSE),\"\")","v":""},{"$f":"IFERROR(VLOOKUP(Tabla38[[#This Row],[CODIGO municipio]],[3]!Tabla8[#All],6,FALSE),\"\")","v":""},{"$f":"IFERROR(VLOOKUP(Tabla38[[#This Row],[CODIGO municipio]],[3]!Tabla8[#All],7,FALSE),\"\")","v":""},{"$f":"IFERROR(VLOOKUP(Tabla38[[#This Row],[CODIGO municipio]],[3]!Tabla8[#All],8,FALSE),\"\")","v":""},{"$f":"IFERROR(VLOOKUP(Tabla38[[#This Row],[CODIGO municipio]],[3]!Tabla8[#All],9,FALSE),\"\")","v":""},{"$f":"IFERROR(VLOOKUP(Tabla38[[#This Row],[CODIGO municipio]],[3]!Tabla8[#All],10,FALSE),\"\")","v":""},{"$f":"IFERROR(VLOOKUP(Tabla38[[#This Row],[CODIGO municipio]],[3]!Tabla8[#All],11,FALSE),\"\")","v":""},{"$f":"IFERROR(VLOOKUP(Tabla38[[#This Row],[CODIGO municipio]],[3]!Tabla8[#All],12,FALSE),\"\")","v":""},{"$f":"IFERROR(VLOOKUP(Tabla38[[#This Row],[CODIGO municipio]],[3]!Tabla8[#All],13,FALSE),\"\")","v":""},{"$f":"IFERROR(VLOOKUP(Tabla38[[#This Row],[CODIGO municipio]],[3]!Tabla8[#All],14,FALSE),\"\")","v":""},{"$f":"IFERROR(VLOOKUP(Tabla38[[#This Row],[CODIGO municipio]],[3]!Tabla8[#All],15,FALSE),\"\")","v":""},{"$f":"IFERROR(VLOOKUP(Tabla38[[#This Row],[CODIGO municipio]],[3]!Tabla8[#All],16,FALSE),\"\")","v":""},{"$f":"IFERROR(VLOOKUP(Tabla38[[#This Row],[CODIGO municipio]],[3]!Tabla8[#All],17,FALSE),\"\")","v":""},{"$f":"IFERROR(VLOOKUP(Tabla38[[#This Row],[CODIGO municipio]],[3]!Tabla8[#All],18,FALSE),\"\")","v":""},{"$f":"IFERROR(VLOOKUP(Tabla38[[#This Row],[CODIGO municipio]],[3]!Tabla8[#All],19,FALSE),\"\")","v":""},{"$f":"IFERROR(VLOOKUP(Tabla38[[#This Row],[CODIGO municipio]],[3]!Tabla8[#All],20,FALSE),\"\")","v":""},{"$f":"IFERROR(VLOOKUP(Tabla38[[#This Row],[CODIGO municipio]],[3]!Tabla8[#All],21,FALSE),\"\")","v":""},{"$f":"IFERROR(VLOOKUP(Tabla38[[#This Row],[CODIGO municipio]],[3]!Tabla8[#All],22,FALSE),\"\")","v":""},{"$f":"IFERROR(VLOOKUP(Tabla38[[#This Row],[CODIGO municipio]],[3]!Tabla8[#All],23,FALSE),\"\")","v":""},{"$f":"IFERROR(VLOOKUP(Tabla38[[#This Row],[CODIGO municipio]],[3]!Tabla9[#All],3,FALSE),\"\")","v":""}]
[{"$f":"IFERROR(VLOOKUP(Tabla38[[#This Row],[Municipio]],[3]!Tabla2[#All],3,FALSE),\"\")","v":""},1007,"San Lorenzo",{"$f":"IFERROR(VLOOKUP(Tabla38[[#This Row],[CODIGO municipio]],[3]!Tabla6[[#All],[codigo_mun]],1,FALSE),\"\")","v":""},{"$f":"IFERROR(VLOOKUP(Tabla38[[#This Row],[CODIGO municipio]],[3]!Tabla12[#All],2,FALSE),\"\")","v":""},{"$f":"IFERROR(VLOOKUP(Tabla38[[#This Row],[CODIGO municipio]],[3]!Tabla7[#All],3,FALSE),\"\")","v":""},{"$f":"IFERROR(VLOOKUP(Tabla38[[#This Row],[CODIGO municipio]],[3]!Tabla7[#All],4,FALSE),\"\")","v":""},{"$f":"IFERROR(VLOOKUP(Tabla38[[#This Row],[CODIGO municipio]],[3]!Tabla7[#All],11,FALSE),\"\")","v":""},{"$f":"IFERROR(VLOOKUP(Tabla38[[#This Row],[CODIGO municipio]],[3]!Tabla7[#All],12,FALSE),\"\")","v":""},{"$f":"IFERROR(VLOOKUP(Tabla38[[#This Row],[CODIGO municipio]],[3]!Tabla7[#All],13,FALSE),\"\")","v":""},{"$f":"IFERROR(VLOOKUP(Tabla38[[#This Row],[CODIGO municipio]],[3]!Tabla7[#All],14,FALSE),\"\")","v":""},{"$f":"IFERROR(VLOOKUP(Tabla38[[#This Row],[CODIGO municipio]],[3]!Tabla7[#All],15,FALSE),\"\")","v":""},{"$f":"IFERROR(VLOOKUP(Tabla38[[#This Row],[CODIGO municipio]],[3]!Tabla7[#All],16,FALSE),\"\")","v":""},{"$f":"IFERROR(VLOOKUP(Tabla38[[#This Row],[CODIGO municipio]],[3]!Tabla7[#All],17,FALSE),\"\")","v":""},{"$f":"IFERROR(VLOOKUP(Tabla38[[#This Row],[CODIGO municipio]],[3]!Tabla7[#All],18,FALSE),\"\")","v":""},{"$f":"IFERROR(VLOOKUP(Tabla38[[#This Row],[CODIGO municipio]],[3]!Tabla7[#All],19,FALSE),\"\")","v":""},{"$f":"IFERROR(VLOOKUP(Tabla38[[#This Row],[CODIGO municipio]],[3]!Tabla8[#All],3,FALSE),\"\")","v":""},{"$f":"IFERROR(VLOOKUP(Tabla38[[#This Row],[CODIGO municipio]],[3]!Tabla8[#All],4,FALSE),\"\")","v":""},{"$f":"IFERROR(VLOOKUP(Tabla38[[#This Row],[CODIGO municipio]],[3]!Tabla8[#All],5,FALSE),\"\")","v":""},{"$f":"IFERROR(VLOOKUP(Tabla38[[#This Row],[CODIGO municipio]],[3]!Tabla8[#All],6,FALSE),\"\")","v":""},{"$f":"IFERROR(VLOOKUP(Tabla38[[#This Row],[CODIGO municipio]],[3]!Tabla8[#All],7,FALSE),\"\")","v":""},{"$f":"IFERROR(VLOOKUP(Tabla38[[#This Row],[CODIGO municipio]],[3]!Tabla8[#All],8,FALSE),\"\")","v":""},{"$f":"IFERROR(VLOOKUP(Tabla38[[#This Row],[CODIGO municipio]],[3]!Tabla8[#All],9,FALSE),\"\")","v":""},{"$f":"IFERROR(VLOOKUP(Tabla38[[#This Row],[CODIGO municipio]],[3]!Tabla8[#All],10,FALSE),\"\")","v":""},{"$f":"IFERROR(VLOOKUP(Tabla38[[#This Row],[CODIGO municipio]],[3]!Tabla8[#All],11,FALSE),\"\")","v":""},{"$f":"IFERROR(VLOOKUP(Tabla38[[#This Row],[CODIGO municipio]],[3]!Tabla8[#All],12,FALSE),\"\")","v":""},{"$f":"IFERROR(VLOOKUP(Tabla38[[#This Row],[CODIGO municipio]],[3]!Tabla8[#All],13,FALSE),\"\")","v":""},{"$f":"IFERROR(VLOOKUP(Tabla38[[#This Row],[CODIGO municipio]],[3]!Tabla8[#All],14,FALSE),\"\")","v":""},{"$f":"IFERROR(VLOOKUP(Tabla38[[#This Row],[CODIGO municipio]],[3]!Tabla8[#All],15,FALSE),\"\")","v":""},{"$f":"IFERROR(VLOOKUP(Tabla38[[#This Row],[CODIGO municipio]],[3]!Tabla8[#All],16,FALSE),\"\")","v":""},{"$f":"IFERROR(VLOOKUP(Tabla38[[#This Row],[CODIGO municipio]],[3]!Tabla8[#All],17,FALSE),\"\")","v":""},{"$f":"IFERROR(VLOOKUP(Tabla38[[#This Row],[CODIGO municipio]],[3]!Tabla8[#All],18,FALSE),\"\")","v":""},{"$f":"IFERROR(VLOOKUP(Tabla38[[#This Row],[CODIGO municipio]],[3]!Tabla8[#All],19,FALSE),\"\")","v":""},{"$f":"IFERROR(VLOOKUP(Tabla38[[#This Row],[CODIGO municipio]],[3]!Tabla8[#All],20,FALSE),\"\")","v":""},{"$f":"IFERROR(VLOOKUP(Tabla38[[#This Row],[CODIGO municipio]],[3]!Tabla8[#All],21,FALSE),\"\")","v":""},{"$f":"IFERROR(VLOOKUP(Tabla38[[#This Row],[CODIGO municipio]],[3]!Tabla8[#All],22,FALSE),\"\")","v":""},{"$f":"IFERROR(VLOOKUP(Tabla38[[#This Row],[CODIGO municipio]],[3]!Tabla8[#All],23,FALSE),\"\")","v":""},{"$f":"IFERROR(VLOOKUP(Tabla38[[#This Row],[CODIGO municipio]],[3]!Tabla9[#All],3,FALSE),\"\")","v":""}]
[{"$f":"IFERROR(VLOOKUP(Tabla38[[#This Row],[Municipio]],[3]!Tabla2[#All],3,FALSE),\"\")","v":""},1008,"Samayac",{"$f":"IFERROR(VLOOKUP(Tabla38[[#This Row],[CODIGO municipio]],[3]!Tabla6[[#All],[codigo_mun]],1,FALSE),\"\")","v":""},{"$f":"IFERROR(VLOOKUP(Tabla38[[#This Row],[CODIGO municipio]],[3]!Tabla12[#All],2,FALSE),\"\")","v":""},{"$f":"IFERROR(VLOOKUP(Tabla38[[#This Row],[CODIGO municipio]],[3]!Tabla7[#All],3,FALSE),\"\")","v":""},{"$f":"IFERROR(VLOOKUP(Tabla38[[#This Row],[CODIGO municipio]],[3]!Tabla7[#All],4,FALSE),\"\")","v":""},{"$f":"IFERROR(VLOOKUP(Tabla38[[#This Row],[CODIGO municipio]],[3]!Tabla7[#All],11,FALSE),\"\")","v":""},{"$f":"IFERROR(VLOOKUP(Tabla38[[#This Row],[CODIGO municipio]],[3]!Tabla7[#All],12,FALSE),\"\")","v":""},{"$f":"IFERROR(VLOOKUP(Tabla38[[#This Row],[CODIGO municipio]],[3]!Tabla7[#All],13,FALSE),\"\")","v":""},{"$f":"IFERROR(VLOOKUP(Tabla38[[#This Row],[CODIGO municipio]],[3]!Tabla7[#All],14,FALSE),\"\")","v":""},{"$f":"IFERROR(VLOOKUP(Tabla38[[#This Row],[CODIGO municipio]],[3]!Tabla7[#All],15,FALSE),\"\")","v":""},{"$f":"IFERROR(VLOOKUP(Tabla38[[#This Row],[CODIGO municipio]],[3]!Tabla7[#All],16,FALSE),\"\")","v":""},{"$f":"IFERROR(VLOOKUP(Tabla38[[#This Row],[CODIGO municipio]],[3]!Tabla7[#All],17,FALSE),\"\")","v":""},{"$f":"IFERROR(VLOOKUP(Tabla38[[#This Row],[CODIGO municipio]],[3]!Tabla7[#All],18,FALSE),\"\")","v":""},{"$f":"IFERROR(VLOOKUP(Tabla38[[#This Row],[CODIGO municipio]],[3]!Tabla7[#All],19,FALSE),\"\")","v":""},{"$f":"IFERROR(VLOOKUP(Tabla38[[#This Row],[CODIGO municipio]],[3]!Tabla8[#All],3,FALSE),\"\")","v":""},{"$f":"IFERROR(VLOOKUP(Tabla38[[#This Row],[CODIGO municipio]],[3]!Tabla8[#All],4,FALSE),\"\")","v":""},{"$f":"IFERROR(VLOOKUP(Tabla38[[#This Row],[CODIGO municipio]],[3]!Tabla8[#All],5,FALSE),\"\")","v":""},{"$f":"IFERROR(VLOOKUP(Tabla38[[#This Row],[CODIGO municipio]],[3]!Tabla8[#All],6,FALSE),\"\")","v":""},{"$f":"IFERROR(VLOOKUP(Tabla38[[#This Row],[CODIGO municipio]],[3]!Tabla8[#All],7,FALSE),\"\")","v":""},{"$f":"IFERROR(VLOOKUP(Tabla38[[#This Row],[CODIGO municipio]],[3]!Tabla8[#All],8,FALSE),\"\")","v":""},{"$f":"IFERROR(VLOOKUP(Tabla38[[#This Row],[CODIGO municipio]],[3]!Tabla8[#All],9,FALSE),\"\")","v":""},{"$f":"IFERROR(VLOOKUP(Tabla38[[#This Row],[CODIGO municipio]],[3]!Tabla8[#All],10,FALSE),\"\")","v":""},{"$f":"IFERROR(VLOOKUP(Tabla38[[#This Row],[CODIGO municipio]],[3]!Tabla8[#All],11,FALSE),\"\")","v":""},{"$f":"IFERROR(VLOOKUP(Tabla38[[#This Row],[CODIGO municipio]],[3]!Tabla8[#All],12,FALSE),\"\")","v":""},{"$f":"IFERROR(VLOOKUP(Tabla38[[#This Row],[CODIGO municipio]],[3]!Tabla8[#All],13,FALSE),\"\")","v":""},{"$f":"IFERROR(VLOOKUP(Tabla38[[#This Row],[CODIGO municipio]],[3]!Tabla8[#All],14,FALSE),\"\")","v":""},{"$f":"IFERROR(VLOOKUP(Tabla38[[#This Row],[CODIGO municipio]],[3]!Tabla8[#All],15,FALSE),\"\")","v":""},{"$f":"IFERROR(VLOOKUP(Tabla38[[#This Row],[CODIGO municipio]],[3]!Tabla8[#All],16,FALSE),\"\")","v":""},{"$f":"IFERROR(VLOOKUP(Tabla38[[#This Row],[CODIGO municipio]],[3]!Tabla8[#All],17,FALSE),\"\")","v":""},{"$f":"IFERROR(VLOOKUP(Tabla38[[#This Row],[CODIGO municipio]],[3]!Tabla8[#All],18,FALSE),\"\")","v":""},{"$f":"IFERROR(VLOOKUP(Tabla38[[#This Row],[CODIGO municipio]],[3]!Tabla8[#All],19,FALSE),\"\")","v":""},{"$f":"IFERROR(VLOOKUP(Tabla38[[#This Row],[CODIGO municipio]],[3]!Tabla8[#All],20,FALSE),\"\")","v":""},{"$f":"IFERROR(VLOOKUP(Tabla38[[#This Row],[CODIGO municipio]],[3]!Tabla8[#All],21,FALSE),\"\")","v":""},{"$f":"IFERROR(VLOOKUP(Tabla38[[#This Row],[CODIGO municipio]],[3]!Tabla8[#All],22,FALSE),\"\")","v":""},{"$f":"IFERROR(VLOOKUP(Tabla38[[#This Row],[CODIGO municipio]],[3]!Tabla8[#All],23,FALSE),\"\")","v":""},{"$f":"IFERROR(VLOOKUP(Tabla38[[#This Row],[CODIGO municipio]],[3]!Tabla9[#All],3,FALSE),\"\")","v":""}]
[{"$f":"IFERROR(VLOOKUP(Tabla38[[#This Row],[Municipio]],[3]!Tabla2[#All],3,FALSE),\"\")","v":""},1009,"San Pablo Jocopilas",{"$f":"IFERROR(VLOOKUP(Tabla38[[#This Row],[CODIGO municipio]],[3]!Tabla6[[#All],[codigo_mun]],1,FALSE),\"\")","v":""},{"$f":"IFERROR(VLOOKUP(Tabla38[[#This Row],[CODIGO municipio]],[3]!Tabla12[#All],2,FALSE),\"\")","v":""},{"$f":"IFERROR(VLOOKUP(Tabla38[[#This Row],[CODIGO municipio]],[3]!Tabla7[#All],3,FALSE),\"\")","v":""},{"$f":"IFERROR(VLOOKUP(Tabla38[[#This Row],[CODIGO municipio]],[3]!Tabla7[#All],4,FALSE),\"\")","v":""},{"$f":"IFERROR(VLOOKUP(Tabla38[[#This Row],[CODIGO municipio]],[3]!Tabla7[#All],11,FALSE),\"\")","v":""},{"$f":"IFERROR(VLOOKUP(Tabla38[[#This Row],[CODIGO municipio]],[3]!Tabla7[#All],12,FALSE),\"\")","v":""},{"$f":"IFERROR(VLOOKUP(Tabla38[[#This Row],[CODIGO municipio]],[3]!Tabla7[#All],13,FALSE),\"\")","v":""},{"$f":"IFERROR(VLOOKUP(Tabla38[[#This Row],[CODIGO municipio]],[3]!Tabla7[#All],14,FALSE),\"\")","v":""},{"$f":"IFERROR(VLOOKUP(Tabla38[[#This Row],[CODIGO municipio]],[3]!Tabla7[#All],15,FALSE),\"\")","v":""},{"$f":"IFERROR(VLOOKUP(Tabla38[[#This Row],[CODIGO municipio]],[3]!Tabla7[#All],16,FALSE),\"\")","v":""},{"$f":"IFERROR(VLOOKUP(Tabla38[[#This Row],[CODIGO municipio]],[3]!Tabla7[#All],17,FALSE),\"\")","v":""},{"$f":"IFERROR(VLOOKUP(Tabla38[[#This Row],[CODIGO municipio]],[3]!Tabla7[#All],18,FALSE),\"\")","v":""},{"$f":"IFERROR(VLOOKUP(Tabla38[[#This Row],[CODIGO municipio]],[3]!Tabla7[#All],19,FALSE),\"\")","v":""},{"$f":"IFERROR(VLOOKUP(Tabla38[[#This Row],[CODIGO municipio]],[3]!Tabla8[#All],3,FALSE),\"\")","v":""},{"$f":"IFERROR(VLOOKUP(Tabla38[[#This Row],[CODIGO municipio]],[3]!Tabla8[#All],4,FALSE),\"\")","v":""},{"$f":"IFERROR(VLOOKUP(Tabla38[[#This Row],[CODIGO municipio]],[3]!Tabla8[#All],5,FALSE),\"\")","v":""},{"$f":"IFERROR(VLOOKUP(Tabla38[[#This Row],[CODIGO municipio]],[3]!Tabla8[#All],6,FALSE),\"\")","v":""},{"$f":"IFERROR(VLOOKUP(Tabla38[[#This Row],[CODIGO municipio]],[3]!Tabla8[#All],7,FALSE),\"\")","v":""},{"$f":"IFERROR(VLOOKUP(Tabla38[[#This Row],[CODIGO municipio]],[3]!Tabla8[#All],8,FALSE),\"\")","v":""},{"$f":"IFERROR(VLOOKUP(Tabla38[[#This Row],[CODIGO municipio]],[3]!Tabla8[#All],9,FALSE),\"\")","v":""},{"$f":"IFERROR(VLOOKUP(Tabla38[[#This Row],[CODIGO municipio]],[3]!Tabla8[#All],10,FALSE),\"\")","v":""},{"$f":"IFERROR(VLOOKUP(Tabla38[[#This Row],[CODIGO municipio]],[3]!Tabla8[#All],11,FALSE),\"\")","v":""},{"$f":"IFERROR(VLOOKUP(Tabla38[[#This Row],[CODIGO municipio]],[3]!Tabla8[#All],12,FALSE),\"\")","v":""},{"$f":"IFERROR(VLOOKUP(Tabla38[[#This Row],[CODIGO municipio]],[3]!Tabla8[#All],13,FALSE),\"\")","v":""},{"$f":"IFERROR(VLOOKUP(Tabla38[[#This Row],[CODIGO municipio]],[3]!Tabla8[#All],14,FALSE),\"\")","v":""},{"$f":"IFERROR(VLOOKUP(Tabla38[[#This Row],[CODIGO municipio]],[3]!Tabla8[#All],15,FALSE),\"\")","v":""},{"$f":"IFERROR(VLOOKUP(Tabla38[[#This Row],[CODIGO municipio]],[3]!Tabla8[#All],16,FALSE),\"\")","v":""},{"$f":"IFERROR(VLOOKUP(Tabla38[[#This Row],[CODIGO municipio]],[3]!Tabla8[#All],17,FALSE),\"\")","v":""},{"$f":"IFERROR(VLOOKUP(Tabla38[[#This Row],[CODIGO municipio]],[3]!Tabla8[#All],18,FALSE),\"\")","v":""},{"$f":"IFERROR(VLOOKUP(Tabla38[[#This Row],[CODIGO municipio]],[3]!Tabla8[#All],19,FALSE),\"\")","v":""},{"$f":"IFERROR(VLOOKUP(Tabla38[[#This Row],[CODIGO municipio]],[3]!Tabla8[#All],20,FALSE),\"\")","v":""},{"$f":"IFERROR(VLOOKUP(Tabla38[[#This Row],[CODIGO municipio]],[3]!Tabla8[#All],21,FALSE),\"\")","v":""},{"$f":"IFERROR(VLOOKUP(Tabla38[[#This Row],[CODIGO municipio]],[3]!Tabla8[#All],22,FALSE),\"\")","v":""},{"$f":"IFERROR(VLOOKUP(Tabla38[[#This Row],[CODIGO municipio]],[3]!Tabla8[#All],23,FALSE),\"\")","v":""},{"$f":"IFERROR(VLOOKUP(Tabla38[[#This Row],[CODIGO municipio]],[3]!Tabla9[#All],3,FALSE),\"\")","v":""}]
[{"$f":"IFERROR(VLOOKUP(Tabla38[[#This Row],[Municipio]],[3]!Tabla2[#All],3,FALSE),\"\")","v":""},1010,"San Antonio Suchitepéquez",{"$f":"IFERROR(VLOOKUP(Tabla38[[#This Row],[CODIGO municipio]],[3]!Tabla6[[#All],[codigo_mun]],1,FALSE),\"\")","v":""},{"$f":"IFERROR(VLOOKUP(Tabla38[[#This Row],[CODIGO municipio]],[3]!Tabla12[#All],2,FALSE),\"\")","v":""},{"$f":"IFERROR(VLOOKUP(Tabla38[[#This Row],[CODIGO municipio]],[3]!Tabla7[#All],3,FALSE),\"\")","v":""},{"$f":"IFERROR(VLOOKUP(Tabla38[[#This Row],[CODIGO municipio]],[3]!Tabla7[#All],4,FALSE),\"\")","v":""},{"$f":"IFERROR(VLOOKUP(Tabla38[[#This Row],[CODIGO municipio]],[3]!Tabla7[#All],11,FALSE),\"\")","v":""},{"$f":"IFERROR(VLOOKUP(Tabla38[[#This Row],[CODIGO municipio]],[3]!Tabla7[#All],12,FALSE),\"\")","v":""},{"$f":"IFERROR(VLOOKUP(Tabla38[[#This Row],[CODIGO municipio]],[3]!Tabla7[#All],13,FALSE),\"\")","v":""},{"$f":"IFERROR(VLOOKUP(Tabla38[[#This Row],[CODIGO municipio]],[3]!Tabla7[#All],14,FALSE),\"\")","v":""},{"$f":"IFERROR(VLOOKUP(Tabla38[[#This Row],[CODIGO municipio]],[3]!Tabla7[#All],15,FALSE),\"\")","v":""},{"$f":"IFERROR(VLOOKUP(Tabla38[[#This Row],[CODIGO municipio]],[3]!Tabla7[#All],16,FALSE),\"\")","v":""},{"$f":"IFERROR(VLOOKUP(Tabla38[[#This Row],[CODIGO municipio]],[3]!Tabla7[#All],17,FALSE),\"\")","v":""},{"$f":"IFERROR(VLOOKUP(Tabla38[[#This Row],[CODIGO municipio]],[3]!Tabla7[#All],18,FALSE),\"\")","v":""},{"$f":"IFERROR(VLOOKUP(Tabla38[[#This Row],[CODIGO municipio]],[3]!Tabla7[#All],19,FALSE),\"\")","v":""},{"$f":"IFERROR(VLOOKUP(Tabla38[[#This Row],[CODIGO municipio]],[3]!Tabla8[#All],3,FALSE),\"\")","v":""},{"$f":"IFERROR(VLOOKUP(Tabla38[[#This Row],[CODIGO municipio]],[3]!Tabla8[#All],4,FALSE),\"\")","v":""},{"$f":"IFERROR(VLOOKUP(Tabla38[[#This Row],[CODIGO municipio]],[3]!Tabla8[#All],5,FALSE),\"\")","v":""},{"$f":"IFERROR(VLOOKUP(Tabla38[[#This Row],[CODIGO municipio]],[3]!Tabla8[#All],6,FALSE),\"\")","v":""},{"$f":"IFERROR(VLOOKUP(Tabla38[[#This Row],[CODIGO municipio]],[3]!Tabla8[#All],7,FALSE),\"\")","v":""},{"$f":"IFERROR(VLOOKUP(Tabla38[[#This Row],[CODIGO municipio]],[3]!Tabla8[#All],8,FALSE),\"\")","v":""},{"$f":"IFERROR(VLOOKUP(Tabla38[[#This Row],[CODIGO municipio]],[3]!Tabla8[#All],9,FALSE),\"\")","v":""},{"$f":"IFERROR(VLOOKUP(Tabla38[[#This Row],[CODIGO municipio]],[3]!Tabla8[#All],10,FALSE),\"\")","v":""},{"$f":"IFERROR(VLOOKUP(Tabla38[[#This Row],[CODIGO municipio]],[3]!Tabla8[#All],11,FALSE),\"\")","v":""},{"$f":"IFERROR(VLOOKUP(Tabla38[[#This Row],[CODIGO municipio]],[3]!Tabla8[#All],12,FALSE),\"\")","v":""},{"$f":"IFERROR(VLOOKUP(Tabla38[[#This Row],[CODIGO municipio]],[3]!Tabla8[#All],13,FALSE),\"\")","v":""},{"$f":"IFERROR(VLOOKUP(Tabla38[[#This Row],[CODIGO municipio]],[3]!Tabla8[#All],14,FALSE),\"\")","v":""},{"$f":"IFERROR(VLOOKUP(Tabla38[[#This Row],[CODIGO municipio]],[3]!Tabla8[#All],15,FALSE),\"\")","v":""},{"$f":"IFERROR(VLOOKUP(Tabla38[[#This Row],[CODIGO municipio]],[3]!Tabla8[#All],16,FALSE),\"\")","v":""},{"$f":"IFERROR(VLOOKUP(Tabla38[[#This Row],[CODIGO municipio]],[3]!Tabla8[#All],17,FALSE),\"\")","v":""},{"$f":"IFERROR(VLOOKUP(Tabla38[[#This Row],[CODIGO municipio]],[3]!Tabla8[#All],18,FALSE),\"\")","v":""},{"$f":"IFERROR(VLOOKUP(Tabla38[[#This Row],[CODIGO municipio]],[3]!Tabla8[#All],19,FALSE),\"\")","v":""},{"$f":"IFERROR(VLOOKUP(Tabla38[[#This Row],[CODIGO municipio]],[3]!Tabla8[#All],20,FALSE),\"\")","v":""},{"$f":"IFERROR(VLOOKUP(Tabla38[[#This Row],[CODIGO municipio]],[3]!Tabla8[#All],21,FALSE),\"\")","v":""},{"$f":"IFERROR(VLOOKUP(Tabla38[[#This Row],[CODIGO municipio]],[3]!Tabla8[#All],22,FALSE),\"\")","v":""},{"$f":"IFERROR(VLOOKUP(Tabla38[[#This Row],[CODIGO municipio]],[3]!Tabla8[#All],23,FALSE),\"\")","v":""},{"$f":"IFERROR(VLOOKUP(Tabla38[[#This Row],[CODIGO municipio]],[3]!Tabla9[#All],3,FALSE),\"\")","v":""}]
[{"$f":"IFERROR(VLOOKUP(Tabla38[[#This Row],[Municipio]],[3]!Tabla2[#All],3,FALSE),\"\")","v":""},1011,"San Miguel Panán",{"$f":"IFERROR(VLOOKUP(Tabla38[[#This Row],[CODIGO municipio]],[3]!Tabla6[[#All],[codigo_mun]],1,FALSE),\"\")","v":""},{"$f":"IFERROR(VLOOKUP(Tabla38[[#This Row],[CODIGO municipio]],[3]!Tabla12[#All],2,FALSE),\"\")","v":""},{"$f":"IFERROR(VLOOKUP(Tabla38[[#This Row],[CODIGO municipio]],[3]!Tabla7[#All],3,FALSE),\"\")","v":""},{"$f":"IFERROR(VLOOKUP(Tabla38[[#This Row],[CODIGO municipio]],[3]!Tabla7[#All],4,FALSE),\"\")","v":""},{"$f":"IFERROR(VLOOKUP(Tabla38[[#This Row],[CODIGO municipio]],[3]!Tabla7[#All],11,FALSE),\"\")","v":""},{"$f":"IFERROR(VLOOKUP(Tabla38[[#This Row],[CODIGO municipio]],[3]!Tabla7[#All],12,FALSE),\"\")","v":""},{"$f":"IFERROR(VLOOKUP(Tabla38[[#This Row],[CODIGO municipio]],[3]!Tabla7[#All],13,FALSE),\"\")","v":""},{"$f":"IFERROR(VLOOKUP(Tabla38[[#This Row],[CODIGO municipio]],[3]!Tabla7[#All],14,FALSE),\"\")","v":""},{"$f":"IFERROR(VLOOKUP(Tabla38[[#This Row],[CODIGO municipio]],[3]!Tabla7[#All],15,FALSE),\"\")","v":""},{"$f":"IFERROR(VLOOKUP(Tabla38[[#This Row],[CODIGO municipio]],[3]!Tabla7[#All],16,FALSE),\"\")","v":""},{"$f":"IFERROR(VLOOKUP(Tabla38[[#This Row],[CODIGO municipio]],[3]!Tabla7[#All],17,FALSE),\"\")","v":""},{"$f":"IFERROR(VLOOKUP(Tabla38[[#This Row],[CODIGO municipio]],[3]!Tabla7[#All],18,FALSE),\"\")","v":""},{"$f":"IFERROR(VLOOKUP(Tabla38[[#This Row],[CODIGO municipio]],[3]!Tabla7[#All],19,FALSE),\"\")","v":""},{"$f":"IFERROR(VLOOKUP(Tabla38[[#This Row],[CODIGO municipio]],[3]!Tabla8[#All],3,FALSE),\"\")","v":""},{"$f":"IFERROR(VLOOKUP(Tabla38[[#This Row],[CODIGO municipio]],[3]!Tabla8[#All],4,FALSE),\"\")","v":""},{"$f":"IFERROR(VLOOKUP(Tabla38[[#This Row],[CODIGO municipio]],[3]!Tabla8[#All],5,FALSE),\"\")","v":""},{"$f":"IFERROR(VLOOKUP(Tabla38[[#This Row],[CODIGO municipio]],[3]!Tabla8[#All],6,FALSE),\"\")","v":""},{"$f":"IFERROR(VLOOKUP(Tabla38[[#This Row],[CODIGO municipio]],[3]!Tabla8[#All],7,FALSE),\"\")","v":""},{"$f":"IFERROR(VLOOKUP(Tabla38[[#This Row],[CODIGO municipio]],[3]!Tabla8[#All],8,FALSE),\"\")","v":""},{"$f":"IFERROR(VLOOKUP(Tabla38[[#This Row],[CODIGO municipio]],[3]!Tabla8[#All],9,FALSE),\"\")","v":""},{"$f":"IFERROR(VLOOKUP(Tabla38[[#This Row],[CODIGO municipio]],[3]!Tabla8[#All],10,FALSE),\"\")","v":""},{"$f":"IFERROR(VLOOKUP(Tabla38[[#This Row],[CODIGO municipio]],[3]!Tabla8[#All],11,FALSE),\"\")","v":""},{"$f":"IFERROR(VLOOKUP(Tabla38[[#This Row],[CODIGO municipio]],[3]!Tabla8[#All],12,FALSE),\"\")","v":""},{"$f":"IFERROR(VLOOKUP(Tabla38[[#This Row],[CODIGO municipio]],[3]!Tabla8[#All],13,FALSE),\"\")","v":""},{"$f":"IFERROR(VLOOKUP(Tabla38[[#This Row],[CODIGO municipio]],[3]!Tabla8[#All],14,FALSE),\"\")","v":""},{"$f":"IFERROR(VLOOKUP(Tabla38[[#This Row],[CODIGO municipio]],[3]!Tabla8[#All],15,FALSE),\"\")","v":""},{"$f":"IFERROR(VLOOKUP(Tabla38[[#This Row],[CODIGO municipio]],[3]!Tabla8[#All],16,FALSE),\"\")","v":""},{"$f":"IFERROR(VLOOKUP(Tabla38[[#This Row],[CODIGO municipio]],[3]!Tabla8[#All],17,FALSE),\"\")","v":""},{"$f":"IFERROR(VLOOKUP(Tabla38[[#This Row],[CODIGO municipio]],[3]!Tabla8[#All],18,FALSE),\"\")","v":""},{"$f":"IFERROR(VLOOKUP(Tabla38[[#This Row],[CODIGO municipio]],[3]!Tabla8[#All],19,FALSE),\"\")","v":""},{"$f":"IFERROR(VLOOKUP(Tabla38[[#This Row],[CODIGO municipio]],[3]!Tabla8[#All],20,FALSE),\"\")","v":""},{"$f":"IFERROR(VLOOKUP(Tabla38[[#This Row],[CODIGO municipio]],[3]!Tabla8[#All],21,FALSE),\"\")","v":""},{"$f":"IFERROR(VLOOKUP(Tabla38[[#This Row],[CODIGO municipio]],[3]!Tabla8[#All],22,FALSE),\"\")","v":""},{"$f":"IFERROR(VLOOKUP(Tabla38[[#This Row],[CODIGO municipio]],[3]!Tabla8[#All],23,FALSE),\"\")","v":""},{"$f":"IFERROR(VLOOKUP(Tabla38[[#This Row],[CODIGO municipio]],[3]!Tabla9[#All],3,FALSE),\"\")","v":""}]
[{"$f":"IFERROR(VLOOKUP(Tabla38[[#This Row],[Municipio]],[3]!Tabla2[#All],3,FALSE),\"\")","v":""},1012,"San Gabriel",{"$f":"IFERROR(VLOOKUP(Tabla38[[#This Row],[CODIGO municipio]],[3]!Tabla6[[#All],[codigo_mun]],1,FALSE),\"\")","v":""},{"$f":"IFERROR(VLOOKUP(Tabla38[[#This Row],[CODIGO municipio]],[3]!Tabla12[#All],2,FALSE),\"\")","v":""},{"$f":"IFERROR(VLOOKUP(Tabla38[[#This Row],[CODIGO municipio]],[3]!Tabla7[#All],3,FALSE),\"\")","v":""},{"$f":"IFERROR(VLOOKUP(Tabla38[[#This Row],[CODIGO municipio]],[3]!Tabla7[#All],4,FALSE),\"\")","v":""},{"$f":"IFERROR(VLOOKUP(Tabla38[[#This Row],[CODIGO municipio]],[3]!Tabla7[#All],11,FALSE),\"\")","v":""},{"$f":"IFERROR(VLOOKUP(Tabla38[[#This Row],[CODIGO municipio]],[3]!Tabla7[#All],12,FALSE),\"\")","v":""},{"$f":"IFERROR(VLOOKUP(Tabla38[[#This Row],[CODIGO municipio]],[3]!Tabla7[#All],13,FALSE),\"\")","v":""},{"$f":"IFERROR(VLOOKUP(Tabla38[[#This Row],[CODIGO municipio]],[3]!Tabla7[#All],14,FALSE),\"\")","v":""},{"$f":"IFERROR(VLOOKUP(Tabla38[[#This Row],[CODIGO municipio]],[3]!Tabla7[#All],15,FALSE),\"\")","v":""},{"$f":"IFERROR(VLOOKUP(Tabla38[[#This Row],[CODIGO municipio]],[3]!Tabla7[#All],16,FALSE),\"\")","v":""},{"$f":"IFERROR(VLOOKUP(Tabla38[[#This Row],[CODIGO municipio]],[3]!Tabla7[#All],17,FALSE),\"\")","v":""},{"$f":"IFERROR(VLOOKUP(Tabla38[[#This Row],[CODIGO municipio]],[3]!Tabla7[#All],18,FALSE),\"\")","v":""},{"$f":"IFERROR(VLOOKUP(Tabla38[[#This Row],[CODIGO municipio]],[3]!Tabla7[#All],19,FALSE),\"\")","v":""},{"$f":"IFERROR(VLOOKUP(Tabla38[[#This Row],[CODIGO municipio]],[3]!Tabla8[#All],3,FALSE),\"\")","v":""},{"$f":"IFERROR(VLOOKUP(Tabla38[[#This Row],[CODIGO municipio]],[3]!Tabla8[#All],4,FALSE),\"\")","v":""},{"$f":"IFERROR(VLOOKUP(Tabla38[[#This Row],[CODIGO municipio]],[3]!Tabla8[#All],5,FALSE),\"\")","v":""},{"$f":"IFERROR(VLOOKUP(Tabla38[[#This Row],[CODIGO municipio]],[3]!Tabla8[#All],6,FALSE),\"\")","v":""},{"$f":"IFERROR(VLOOKUP(Tabla38[[#This Row],[CODIGO municipio]],[3]!Tabla8[#All],7,FALSE),\"\")","v":""},{"$f":"IFERROR(VLOOKUP(Tabla38[[#This Row],[CODIGO municipio]],[3]!Tabla8[#All],8,FALSE),\"\")","v":""},{"$f":"IFERROR(VLOOKUP(Tabla38[[#This Row],[CODIGO municipio]],[3]!Tabla8[#All],9,FALSE),\"\")","v":""},{"$f":"IFERROR(VLOOKUP(Tabla38[[#This Row],[CODIGO municipio]],[3]!Tabla8[#All],10,FALSE),\"\")","v":""},{"$f":"IFERROR(VLOOKUP(Tabla38[[#This Row],[CODIGO municipio]],[3]!Tabla8[#All],11,FALSE),\"\")","v":""},{"$f":"IFERROR(VLOOKUP(Tabla38[[#This Row],[CODIGO municipio]],[3]!Tabla8[#All],12,FALSE),\"\")","v":""},{"$f":"IFERROR(VLOOKUP(Tabla38[[#This Row],[CODIGO municipio]],[3]!Tabla8[#All],13,FALSE),\"\")","v":""},{"$f":"IFERROR(VLOOKUP(Tabla38[[#This Row],[CODIGO municipio]],[3]!Tabla8[#All],14,FALSE),\"\")","v":""},{"$f":"IFERROR(VLOOKUP(Tabla38[[#This Row],[CODIGO municipio]],[3]!Tabla8[#All],15,FALSE),\"\")","v":""},{"$f":"IFERROR(VLOOKUP(Tabla38[[#This Row],[CODIGO municipio]],[3]!Tabla8[#All],16,FALSE),\"\")","v":""},{"$f":"IFERROR(VLOOKUP(Tabla38[[#This Row],[CODIGO municipio]],[3]!Tabla8[#All],17,FALSE),\"\")","v":""},{"$f":"IFERROR(VLOOKUP(Tabla38[[#This Row],[CODIGO municipio]],[3]!Tabla8[#All],18,FALSE),\"\")","v":""},{"$f":"IFERROR(VLOOKUP(Tabla38[[#This Row],[CODIGO municipio]],[3]!Tabla8[#All],19,FALSE),\"\")","v":""},{"$f":"IFERROR(VLOOKUP(Tabla38[[#This Row],[CODIGO municipio]],[3]!Tabla8[#All],20,FALSE),\"\")","v":""},{"$f":"IFERROR(VLOOKUP(Tabla38[[#This Row],[CODIGO municipio]],[3]!Tabla8[#All],21,FALSE),\"\")","v":""},{"$f":"IFERROR(VLOOKUP(Tabla38[[#This Row],[CODIGO municipio]],[3]!Tabla8[#All],22,FALSE),\"\")","v":""},{"$f":"IFERROR(VLOOKUP(Tabla38[[#This Row],[CODIGO municipio]],[3]!Tabla8[#All],23,FALSE),\"\")","v":""},{"$f":"IFERROR(VLOOKUP(Tabla38[[#This Row],[CODIGO municipio]],[3]!Tabla9[#All],3,FALSE),\"\")","v":""}]
[{"$f":"IFERROR(VLOOKUP(Tabla38[[#This Row],[Municipio]],[3]!Tabla2[#All],3,FALSE),\"\")","v":""},1013,"Chicacao",{"$f":"IFERROR(VLOOKUP(Tabla38[[#This Row],[CODIGO municipio]],[3]!Tabla6[[#All],[codigo_mun]],1,FALSE),\"\")","v":""},{"$f":"IFERROR(VLOOKUP(Tabla38[[#This Row],[CODIGO municipio]],[3]!Tabla12[#All],2,FALSE),\"\")","v":""},{"$f":"IFERROR(VLOOKUP(Tabla38[[#This Row],[CODIGO municipio]],[3]!Tabla7[#All],3,FALSE),\"\")","v":""},{"$f":"IFERROR(VLOOKUP(Tabla38[[#This Row],[CODIGO municipio]],[3]!Tabla7[#All],4,FALSE),\"\")","v":""},{"$f":"IFERROR(VLOOKUP(Tabla38[[#This Row],[CODIGO municipio]],[3]!Tabla7[#All],11,FALSE),\"\")","v":""},{"$f":"IFERROR(VLOOKUP(Tabla38[[#This Row],[CODIGO municipio]],[3]!Tabla7[#All],12,FALSE),\"\")","v":""},{"$f":"IFERROR(VLOOKUP(Tabla38[[#This Row],[CODIGO municipio]],[3]!Tabla7[#All],13,FALSE),\"\")","v":""},{"$f":"IFERROR(VLOOKUP(Tabla38[[#This Row],[CODIGO municipio]],[3]!Tabla7[#All],14,FALSE),\"\")","v":""},{"$f":"IFERROR(VLOOKUP(Tabla38[[#This Row],[CODIGO municipio]],[3]!Tabla7[#All],15,FALSE),\"\")","v":""},{"$f":"IFERROR(VLOOKUP(Tabla38[[#This Row],[CODIGO municipio]],[3]!Tabla7[#All],16,FALSE),\"\")","v":""},{"$f":"IFERROR(VLOOKUP(Tabla38[[#This Row],[CODIGO municipio]],[3]!Tabla7[#All],17,FALSE),\"\")","v":""},{"$f":"IFERROR(VLOOKUP(Tabla38[[#This Row],[CODIGO municipio]],[3]!Tabla7[#All],18,FALSE),\"\")","v":""},{"$f":"IFERROR(VLOOKUP(Tabla38[[#This Row],[CODIGO municipio]],[3]!Tabla7[#All],19,FALSE),\"\")","v":""},{"$f":"IFERROR(VLOOKUP(Tabla38[[#This Row],[CODIGO municipio]],[3]!Tabla8[#All],3,FALSE),\"\")","v":""},{"$f":"IFERROR(VLOOKUP(Tabla38[[#This Row],[CODIGO municipio]],[3]!Tabla8[#All],4,FALSE),\"\")","v":""},{"$f":"IFERROR(VLOOKUP(Tabla38[[#This Row],[CODIGO municipio]],[3]!Tabla8[#All],5,FALSE),\"\")","v":""},{"$f":"IFERROR(VLOOKUP(Tabla38[[#This Row],[CODIGO municipio]],[3]!Tabla8[#All],6,FALSE),\"\")","v":""},{"$f":"IFERROR(VLOOKUP(Tabla38[[#This Row],[CODIGO municipio]],[3]!Tabla8[#All],7,FALSE),\"\")","v":""},{"$f":"IFERROR(VLOOKUP(Tabla38[[#This Row],[CODIGO municipio]],[3]!Tabla8[#All],8,FALSE),\"\")","v":""},{"$f":"IFERROR(VLOOKUP(Tabla38[[#This Row],[CODIGO municipio]],[3]!Tabla8[#All],9,FALSE),\"\")","v":""},{"$f":"IFERROR(VLOOKUP(Tabla38[[#This Row],[CODIGO municipio]],[3]!Tabla8[#All],10,FALSE),\"\")","v":""},{"$f":"IFERROR(VLOOKUP(Tabla38[[#This Row],[CODIGO municipio]],[3]!Tabla8[#All],11,FALSE),\"\")","v":""},{"$f":"IFERROR(VLOOKUP(Tabla38[[#This Row],[CODIGO municipio]],[3]!Tabla8[#All],12,FALSE),\"\")","v":""},{"$f":"IFERROR(VLOOKUP(Tabla38[[#This Row],[CODIGO municipio]],[3]!Tabla8[#All],13,FALSE),\"\")","v":""},{"$f":"IFERROR(VLOOKUP(Tabla38[[#This Row],[CODIGO municipio]],[3]!Tabla8[#All],14,FALSE),\"\")","v":""},{"$f":"IFERROR(VLOOKUP(Tabla38[[#This Row],[CODIGO municipio]],[3]!Tabla8[#All],15,FALSE),\"\")","v":""},{"$f":"IFERROR(VLOOKUP(Tabla38[[#This Row],[CODIGO municipio]],[3]!Tabla8[#All],16,FALSE),\"\")","v":""},{"$f":"IFERROR(VLOOKUP(Tabla38[[#This Row],[CODIGO municipio]],[3]!Tabla8[#All],17,FALSE),\"\")","v":""},{"$f":"IFERROR(VLOOKUP(Tabla38[[#This Row],[CODIGO municipio]],[3]!Tabla8[#All],18,FALSE),\"\")","v":""},{"$f":"IFERROR(VLOOKUP(Tabla38[[#This Row],[CODIGO municipio]],[3]!Tabla8[#All],19,FALSE),\"\")","v":""},{"$f":"IFERROR(VLOOKUP(Tabla38[[#This Row],[CODIGO municipio]],[3]!Tabla8[#All],20,FALSE),\"\")","v":""},{"$f":"IFERROR(VLOOKUP(Tabla38[[#This Row],[CODIGO municipio]],[3]!Tabla8[#All],21,FALSE),\"\")","v":""},{"$f":"IFERROR(VLOOKUP(Tabla38[[#This Row],[CODIGO municipio]],[3]!Tabla8[#All],22,FALSE),\"\")","v":""},{"$f":"IFERROR(VLOOKUP(Tabla38[[#This Row],[CODIGO municipio]],[3]!Tabla8[#All],23,FALSE),\"\")","v":""},{"$f":"IFERROR(VLOOKUP(Tabla38[[#This Row],[CODIGO municipio]],[3]!Tabla9[#All],3,FALSE),\"\")","v":""}]
[{"$f":"IFERROR(VLOOKUP(Tabla38[[#This Row],[Municipio]],[3]!Tabla2[#All],3,FALSE),\"\")","v":""},1014,"Patulul",{"$f":"IFERROR(VLOOKUP(Tabla38[[#This Row],[CODIGO municipio]],[3]!Tabla6[[#All],[codigo_mun]],1,FALSE),\"\")","v":""},{"$f":"IFERROR(VLOOKUP(Tabla38[[#This Row],[CODIGO municipio]],[3]!Tabla12[#All],2,FALSE),\"\")","v":""},{"$f":"IFERROR(VLOOKUP(Tabla38[[#This Row],[CODIGO municipio]],[3]!Tabla7[#All],3,FALSE),\"\")","v":""},{"$f":"IFERROR(VLOOKUP(Tabla38[[#This Row],[CODIGO municipio]],[3]!Tabla7[#All],4,FALSE),\"\")","v":""},{"$f":"IFERROR(VLOOKUP(Tabla38[[#This Row],[CODIGO municipio]],[3]!Tabla7[#All],11,FALSE),\"\")","v":""},{"$f":"IFERROR(VLOOKUP(Tabla38[[#This Row],[CODIGO municipio]],[3]!Tabla7[#All],12,FALSE),\"\")","v":""},{"$f":"IFERROR(VLOOKUP(Tabla38[[#This Row],[CODIGO municipio]],[3]!Tabla7[#All],13,FALSE),\"\")","v":""},{"$f":"IFERROR(VLOOKUP(Tabla38[[#This Row],[CODIGO municipio]],[3]!Tabla7[#All],14,FALSE),\"\")","v":""},{"$f":"IFERROR(VLOOKUP(Tabla38[[#This Row],[CODIGO municipio]],[3]!Tabla7[#All],15,FALSE),\"\")","v":""},{"$f":"IFERROR(VLOOKUP(Tabla38[[#This Row],[CODIGO municipio]],[3]!Tabla7[#All],16,FALSE),\"\")","v":""},{"$f":"IFERROR(VLOOKUP(Tabla38[[#This Row],[CODIGO municipio]],[3]!Tabla7[#All],17,FALSE),\"\")","v":""},{"$f":"IFERROR(VLOOKUP(Tabla38[[#This Row],[CODIGO municipio]],[3]!Tabla7[#All],18,FALSE),\"\")","v":""},{"$f":"IFERROR(VLOOKUP(Tabla38[[#This Row],[CODIGO municipio]],[3]!Tabla7[#All],19,FALSE),\"\")","v":""},{"$f":"IFERROR(VLOOKUP(Tabla38[[#This Row],[CODIGO municipio]],[3]!Tabla8[#All],3,FALSE),\"\")","v":""},{"$f":"IFERROR(VLOOKUP(Tabla38[[#This Row],[CODIGO municipio]],[3]!Tabla8[#All],4,FALSE),\"\")","v":""},{"$f":"IFERROR(VLOOKUP(Tabla38[[#This Row],[CODIGO municipio]],[3]!Tabla8[#All],5,FALSE),\"\")","v":""},{"$f":"IFERROR(VLOOKUP(Tabla38[[#This Row],[CODIGO municipio]],[3]!Tabla8[#All],6,FALSE),\"\")","v":""},{"$f":"IFERROR(VLOOKUP(Tabla38[[#This Row],[CODIGO municipio]],[3]!Tabla8[#All],7,FALSE),\"\")","v":""},{"$f":"IFERROR(VLOOKUP(Tabla38[[#This Row],[CODIGO municipio]],[3]!Tabla8[#All],8,FALSE),\"\")","v":""},{"$f":"IFERROR(VLOOKUP(Tabla38[[#This Row],[CODIGO municipio]],[3]!Tabla8[#All],9,FALSE),\"\")","v":""},{"$f":"IFERROR(VLOOKUP(Tabla38[[#This Row],[CODIGO municipio]],[3]!Tabla8[#All],10,FALSE),\"\")","v":""},{"$f":"IFERROR(VLOOKUP(Tabla38[[#This Row],[CODIGO municipio]],[3]!Tabla8[#All],11,FALSE),\"\")","v":""},{"$f":"IFERROR(VLOOKUP(Tabla38[[#This Row],[CODIGO municipio]],[3]!Tabla8[#All],12,FALSE),\"\")","v":""},{"$f":"IFERROR(VLOOKUP(Tabla38[[#This Row],[CODIGO municipio]],[3]!Tabla8[#All],13,FALSE),\"\")","v":""},{"$f":"IFERROR(VLOOKUP(Tabla38[[#This Row],[CODIGO municipio]],[3]!Tabla8[#All],14,FALSE),\"\")","v":""},{"$f":"IFERROR(VLOOKUP(Tabla38[[#This Row],[CODIGO municipio]],[3]!Tabla8[#All],15,FALSE),\"\")","v":""},{"$f":"IFERROR(VLOOKUP(Tabla38[[#This Row],[CODIGO municipio]],[3]!Tabla8[#All],16,FALSE),\"\")","v":""},{"$f":"IFERROR(VLOOKUP(Tabla38[[#This Row],[CODIGO municipio]],[3]!Tabla8[#All],17,FALSE),\"\")","v":""},{"$f":"IFERROR(VLOOKUP(Tabla38[[#This Row],[CODIGO municipio]],[3]!Tabla8[#All],18,FALSE),\"\")","v":""},{"$f":"IFERROR(VLOOKUP(Tabla38[[#This Row],[CODIGO municipio]],[3]!Tabla8[#All],19,FALSE),\"\")","v":""},{"$f":"IFERROR(VLOOKUP(Tabla38[[#This Row],[CODIGO municipio]],[3]!Tabla8[#All],20,FALSE),\"\")","v":""},{"$f":"IFERROR(VLOOKUP(Tabla38[[#This Row],[CODIGO municipio]],[3]!Tabla8[#All],21,FALSE),\"\")","v":""},{"$f":"IFERROR(VLOOKUP(Tabla38[[#This Row],[CODIGO municipio]],[3]!Tabla8[#All],22,FALSE),\"\")","v":""},{"$f":"IFERROR(VLOOKUP(Tabla38[[#This Row],[CODIGO municipio]],[3]!Tabla8[#All],23,FALSE),\"\")","v":""},{"$f":"IFERROR(VLOOKUP(Tabla38[[#This Row],[CODIGO municipio]],[3]!Tabla9[#All],3,FALSE),\"\")","v":""}]
[{"$f":"IFERROR(VLOOKUP(Tabla38[[#This Row],[Municipio]],[3]!Tabla2[#All],3,FALSE),\"\")","v":""},1015,"Santa Bárbara",{"$f":"IFERROR(VLOOKUP(Tabla38[[#This Row],[CODIGO municipio]],[3]!Tabla6[[#All],[codigo_mun]],1,FALSE),\"\")","v":""},{"$f":"IFERROR(VLOOKUP(Tabla38[[#This Row],[CODIGO municipio]],[3]!Tabla12[#All],2,FALSE),\"\")","v":""},{"$f":"IFERROR(VLOOKUP(Tabla38[[#This Row],[CODIGO municipio]],[3]!Tabla7[#All],3,FALSE),\"\")","v":""},{"$f":"IFERROR(VLOOKUP(Tabla38[[#This Row],[CODIGO municipio]],[3]!Tabla7[#All],4,FALSE),\"\")","v":""},{"$f":"IFERROR(VLOOKUP(Tabla38[[#This Row],[CODIGO municipio]],[3]!Tabla7[#All],11,FALSE),\"\")","v":""},{"$f":"IFERROR(VLOOKUP(Tabla38[[#This Row],[CODIGO municipio]],[3]!Tabla7[#All],12,FALSE),\"\")","v":""},{"$f":"IFERROR(VLOOKUP(Tabla38[[#This Row],[CODIGO municipio]],[3]!Tabla7[#All],13,FALSE),\"\")","v":""},{"$f":"IFERROR(VLOOKUP(Tabla38[[#This Row],[CODIGO municipio]],[3]!Tabla7[#All],14,FALSE),\"\")","v":""},{"$f":"IFERROR(VLOOKUP(Tabla38[[#This Row],[CODIGO municipio]],[3]!Tabla7[#All],15,FALSE),\"\")","v":""},{"$f":"IFERROR(VLOOKUP(Tabla38[[#This Row],[CODIGO municipio]],[3]!Tabla7[#All],16,FALSE),\"\")","v":""},{"$f":"IFERROR(VLOOKUP(Tabla38[[#This Row],[CODIGO municipio]],[3]!Tabla7[#All],17,FALSE),\"\")","v":""},{"$f":"IFERROR(VLOOKUP(Tabla38[[#This Row],[CODIGO municipio]],[3]!Tabla7[#All],18,FALSE),\"\")","v":""},{"$f":"IFERROR(VLOOKUP(Tabla38[[#This Row],[CODIGO municipio]],[3]!Tabla7[#All],19,FALSE),\"\")","v":""},{"$f":"IFERROR(VLOOKUP(Tabla38[[#This Row],[CODIGO municipio]],[3]!Tabla8[#All],3,FALSE),\"\")","v":""},{"$f":"IFERROR(VLOOKUP(Tabla38[[#This Row],[CODIGO municipio]],[3]!Tabla8[#All],4,FALSE),\"\")","v":""},{"$f":"IFERROR(VLOOKUP(Tabla38[[#This Row],[CODIGO municipio]],[3]!Tabla8[#All],5,FALSE),\"\")","v":""},{"$f":"IFERROR(VLOOKUP(Tabla38[[#This Row],[CODIGO municipio]],[3]!Tabla8[#All],6,FALSE),\"\")","v":""},{"$f":"IFERROR(VLOOKUP(Tabla38[[#This Row],[CODIGO municipio]],[3]!Tabla8[#All],7,FALSE),\"\")","v":""},{"$f":"IFERROR(VLOOKUP(Tabla38[[#This Row],[CODIGO municipio]],[3]!Tabla8[#All],8,FALSE),\"\")","v":""},{"$f":"IFERROR(VLOOKUP(Tabla38[[#This Row],[CODIGO municipio]],[3]!Tabla8[#All],9,FALSE),\"\")","v":""},{"$f":"IFERROR(VLOOKUP(Tabla38[[#This Row],[CODIGO municipio]],[3]!Tabla8[#All],10,FALSE),\"\")","v":""},{"$f":"IFERROR(VLOOKUP(Tabla38[[#This Row],[CODIGO municipio]],[3]!Tabla8[#All],11,FALSE),\"\")","v":""},{"$f":"IFERROR(VLOOKUP(Tabla38[[#This Row],[CODIGO municipio]],[3]!Tabla8[#All],12,FALSE),\"\")","v":""},{"$f":"IFERROR(VLOOKUP(Tabla38[[#This Row],[CODIGO municipio]],[3]!Tabla8[#All],13,FALSE),\"\")","v":""},{"$f":"IFERROR(VLOOKUP(Tabla38[[#This Row],[CODIGO municipio]],[3]!Tabla8[#All],14,FALSE),\"\")","v":""},{"$f":"IFERROR(VLOOKUP(Tabla38[[#This Row],[CODIGO municipio]],[3]!Tabla8[#All],15,FALSE),\"\")","v":""},{"$f":"IFERROR(VLOOKUP(Tabla38[[#This Row],[CODIGO municipio]],[3]!Tabla8[#All],16,FALSE),\"\")","v":""},{"$f":"IFERROR(VLOOKUP(Tabla38[[#This Row],[CODIGO municipio]],[3]!Tabla8[#All],17,FALSE),\"\")","v":""},{"$f":"IFERROR(VLOOKUP(Tabla38[[#This Row],[CODIGO municipio]],[3]!Tabla8[#All],18,FALSE),\"\")","v":""},{"$f":"IFERROR(VLOOKUP(Tabla38[[#This Row],[CODIGO municipio]],[3]!Tabla8[#All],19,FALSE),\"\")","v":""},{"$f":"IFERROR(VLOOKUP(Tabla38[[#This Row],[CODIGO municipio]],[3]!Tabla8[#All],20,FALSE),\"\")","v":""},{"$f":"IFERROR(VLOOKUP(Tabla38[[#This Row],[CODIGO municipio]],[3]!Tabla8[#All],21,FALSE),\"\")","v":""},{"$f":"IFERROR(VLOOKUP(Tabla38[[#This Row],[CODIGO municipio]],[3]!Tabla8[#All],22,FALSE),\"\")","v":""},{"$f":"IFERROR(VLOOKUP(Tabla38[[#This Row],[CODIGO municipio]],[3]!Tabla8[#All],23,FALSE),\"\")","v":""},{"$f":"IFERROR(VLOOKUP(Tabla38[[#This Row],[CODIGO municipio]],[3]!Tabla9[#All],3,FALSE),\"\")","v":""}]
[{"$f":"IFERROR(VLOOKUP(Tabla38[[#This Row],[Municipio]],[3]!Tabla2[#All],3,FALSE),\"\")","v":""},1016,"San Juan Bautista",{"$f":"IFERROR(VLOOKUP(Tabla38[[#This Row],[CODIGO municipio]],[3]!Tabla6[[#All],[codigo_mun]],1,FALSE),\"\")","v":""},{"$f":"IFERROR(VLOOKUP(Tabla38[[#This Row],[CODIGO municipio]],[3]!Tabla12[#All],2,FALSE),\"\")","v":""},{"$f":"IFERROR(VLOOKUP(Tabla38[[#This Row],[CODIGO municipio]],[3]!Tabla7[#All],3,FALSE),\"\")","v":""},{"$f":"IFERROR(VLOOKUP(Tabla38[[#This Row],[CODIGO municipio]],[3]!Tabla7[#All],4,FALSE),\"\")","v":""},{"$f":"IFERROR(VLOOKUP(Tabla38[[#This Row],[CODIGO municipio]],[3]!Tabla7[#All],11,FALSE),\"\")","v":""},{"$f":"IFERROR(VLOOKUP(Tabla38[[#This Row],[CODIGO municipio]],[3]!Tabla7[#All],12,FALSE),\"\")","v":""},{"$f":"IFERROR(VLOOKUP(Tabla38[[#This Row],[CODIGO municipio]],[3]!Tabla7[#All],13,FALSE),\"\")","v":""},{"$f":"IFERROR(VLOOKUP(Tabla38[[#This Row],[CODIGO municipio]],[3]!Tabla7[#All],14,FALSE),\"\")","v":""},{"$f":"IFERROR(VLOOKUP(Tabla38[[#This Row],[CODIGO municipio]],[3]!Tabla7[#All],15,FALSE),\"\")","v":""},{"$f":"IFERROR(VLOOKUP(Tabla38[[#This Row],[CODIGO municipio]],[3]!Tabla7[#All],16,FALSE),\"\")","v":""},{"$f":"IFERROR(VLOOKUP(Tabla38[[#This Row],[CODIGO municipio]],[3]!Tabla7[#All],17,FALSE),\"\")","v":""},{"$f":"IFERROR(VLOOKUP(Tabla38[[#This Row],[CODIGO municipio]],[3]!Tabla7[#All],18,FALSE),\"\")","v":""},{"$f":"IFERROR(VLOOKUP(Tabla38[[#This Row],[CODIGO municipio]],[3]!Tabla7[#All],19,FALSE),\"\")","v":""},{"$f":"IFERROR(VLOOKUP(Tabla38[[#This Row],[CODIGO municipio]],[3]!Tabla8[#All],3,FALSE),\"\")","v":""},{"$f":"IFERROR(VLOOKUP(Tabla38[[#This Row],[CODIGO municipio]],[3]!Tabla8[#All],4,FALSE),\"\")","v":""},{"$f":"IFERROR(VLOOKUP(Tabla38[[#This Row],[CODIGO municipio]],[3]!Tabla8[#All],5,FALSE),\"\")","v":""},{"$f":"IFERROR(VLOOKUP(Tabla38[[#This Row],[CODIGO municipio]],[3]!Tabla8[#All],6,FALSE),\"\")","v":""},{"$f":"IFERROR(VLOOKUP(Tabla38[[#This Row],[CODIGO municipio]],[3]!Tabla8[#All],7,FALSE),\"\")","v":""},{"$f":"IFERROR(VLOOKUP(Tabla38[[#This Row],[CODIGO municipio]],[3]!Tabla8[#All],8,FALSE),\"\")","v":""},{"$f":"IFERROR(VLOOKUP(Tabla38[[#This Row],[CODIGO municipio]],[3]!Tabla8[#All],9,FALSE),\"\")","v":""},{"$f":"IFERROR(VLOOKUP(Tabla38[[#This Row],[CODIGO municipio]],[3]!Tabla8[#All],10,FALSE),\"\")","v":""},{"$f":"IFERROR(VLOOKUP(Tabla38[[#This Row],[CODIGO municipio]],[3]!Tabla8[#All],11,FALSE),\"\")","v":""},{"$f":"IFERROR(VLOOKUP(Tabla38[[#This Row],[CODIGO municipio]],[3]!Tabla8[#All],12,FALSE),\"\")","v":""},{"$f":"IFERROR(VLOOKUP(Tabla38[[#This Row],[CODIGO municipio]],[3]!Tabla8[#All],13,FALSE),\"\")","v":""},{"$f":"IFERROR(VLOOKUP(Tabla38[[#This Row],[CODIGO municipio]],[3]!Tabla8[#All],14,FALSE),\"\")","v":""},{"$f":"IFERROR(VLOOKUP(Tabla38[[#This Row],[CODIGO municipio]],[3]!Tabla8[#All],15,FALSE),\"\")","v":""},{"$f":"IFERROR(VLOOKUP(Tabla38[[#This Row],[CODIGO municipio]],[3]!Tabla8[#All],16,FALSE),\"\")","v":""},{"$f":"IFERROR(VLOOKUP(Tabla38[[#This Row],[CODIGO municipio]],[3]!Tabla8[#All],17,FALSE),\"\")","v":""},{"$f":"IFERROR(VLOOKUP(Tabla38[[#This Row],[CODIGO municipio]],[3]!Tabla8[#All],18,FALSE),\"\")","v":""},{"$f":"IFERROR(VLOOKUP(Tabla38[[#This Row],[CODIGO municipio]],[3]!Tabla8[#All],19,FALSE),\"\")","v":""},{"$f":"IFERROR(VLOOKUP(Tabla38[[#This Row],[CODIGO municipio]],[3]!Tabla8[#All],20,FALSE),\"\")","v":""},{"$f":"IFERROR(VLOOKUP(Tabla38[[#This Row],[CODIGO municipio]],[3]!Tabla8[#All],21,FALSE),\"\")","v":""},{"$f":"IFERROR(VLOOKUP(Tabla38[[#This Row],[CODIGO municipio]],[3]!Tabla8[#All],22,FALSE),\"\")","v":""},{"$f":"IFERROR(VLOOKUP(Tabla38[[#This Row],[CODIGO municipio]],[3]!Tabla8[#All],23,FALSE),\"\")","v":""},{"$f":"IFERROR(VLOOKUP(Tabla38[[#This Row],[CODIGO municipio]],[3]!Tabla9[#All],3,FALSE),\"\")","v":""}]
[{"$f":"IFERROR(VLOOKUP(Tabla38[[#This Row],[Municipio]],[3]!Tabla2[#All],3,FALSE),\"\")","v":""},1017,"Santo Tomas la Unión",{"$f":"IFERROR(VLOOKUP(Tabla38[[#This Row],[CODIGO municipio]],[3]!Tabla6[[#All],[codigo_mun]],1,FALSE),\"\")","v":""},{"$f":"IFERROR(VLOOKUP(Tabla38[[#This Row],[CODIGO municipio]],[3]!Tabla12[#All],2,FALSE),\"\")","v":""},{"$f":"IFERROR(VLOOKUP(Tabla38[[#This Row],[CODIGO municipio]],[3]!Tabla7[#All],3,FALSE),\"\")","v":""},{"$f":"IFERROR(VLOOKUP(Tabla38[[#This Row],[CODIGO municipio]],[3]!Tabla7[#All],4,FALSE),\"\")","v":""},{"$f":"IFERROR(VLOOKUP(Tabla38[[#This Row],[CODIGO municipio]],[3]!Tabla7[#All],11,FALSE),\"\")","v":""},{"$f":"IFERROR(VLOOKUP(Tabla38[[#This Row],[CODIGO municipio]],[3]!Tabla7[#All],12,FALSE),\"\")","v":""},{"$f":"IFERROR(VLOOKUP(Tabla38[[#This Row],[CODIGO municipio]],[3]!Tabla7[#All],13,FALSE),\"\")","v":""},{"$f":"IFERROR(VLOOKUP(Tabla38[[#This Row],[CODIGO municipio]],[3]!Tabla7[#All],14,FALSE),\"\")","v":""},{"$f":"IFERROR(VLOOKUP(Tabla38[[#This Row],[CODIGO municipio]],[3]!Tabla7[#All],15,FALSE),\"\")","v":""},{"$f":"IFERROR(VLOOKUP(Tabla38[[#This Row],[CODIGO municipio]],[3]!Tabla7[#All],16,FALSE),\"\")","v":""},{"$f":"IFERROR(VLOOKUP(Tabla38[[#This Row],[CODIGO municipio]],[3]!Tabla7[#All],17,FALSE),\"\")","v":""},{"$f":"IFERROR(VLOOKUP(Tabla38[[#This Row],[CODIGO municipio]],[3]!Tabla7[#All],18,FALSE),\"\")","v":""},{"$f":"IFERROR(VLOOKUP(Tabla38[[#This Row],[CODIGO municipio]],[3]!Tabla7[#All],19,FALSE),\"\")","v":""},{"$f":"IFERROR(VLOOKUP(Tabla38[[#This Row],[CODIGO municipio]],[3]!Tabla8[#All],3,FALSE),\"\")","v":""},{"$f":"IFERROR(VLOOKUP(Tabla38[[#This Row],[CODIGO municipio]],[3]!Tabla8[#All],4,FALSE),\"\")","v":""},{"$f":"IFERROR(VLOOKUP(Tabla38[[#This Row],[CODIGO municipio]],[3]!Tabla8[#All],5,FALSE),\"\")","v":""},{"$f":"IFERROR(VLOOKUP(Tabla38[[#This Row],[CODIGO municipio]],[3]!Tabla8[#All],6,FALSE),\"\")","v":""},{"$f":"IFERROR(VLOOKUP(Tabla38[[#This Row],[CODIGO municipio]],[3]!Tabla8[#All],7,FALSE),\"\")","v":""},{"$f":"IFERROR(VLOOKUP(Tabla38[[#This Row],[CODIGO municipio]],[3]!Tabla8[#All],8,FALSE),\"\")","v":""},{"$f":"IFERROR(VLOOKUP(Tabla38[[#This Row],[CODIGO municipio]],[3]!Tabla8[#All],9,FALSE),\"\")","v":""},{"$f":"IFERROR(VLOOKUP(Tabla38[[#This Row],[CODIGO municipio]],[3]!Tabla8[#All],10,FALSE),\"\")","v":""},{"$f":"IFERROR(VLOOKUP(Tabla38[[#This Row],[CODIGO municipio]],[3]!Tabla8[#All],11,FALSE),\"\")","v":""},{"$f":"IFERROR(VLOOKUP(Tabla38[[#This Row],[CODIGO municipio]],[3]!Tabla8[#All],12,FALSE),\"\")","v":""},{"$f":"IFERROR(VLOOKUP(Tabla38[[#This Row],[CODIGO municipio]],[3]!Tabla8[#All],13,FALSE),\"\")","v":""},{"$f":"IFERROR(VLOOKUP(Tabla38[[#This Row],[CODIGO municipio]],[3]!Tabla8[#All],14,FALSE),\"\")","v":""},{"$f":"IFERROR(VLOOKUP(Tabla38[[#This Row],[CODIGO municipio]],[3]!Tabla8[#All],15,FALSE),\"\")","v":""},{"$f":"IFERROR(VLOOKUP(Tabla38[[#This Row],[CODIGO municipio]],[3]!Tabla8[#All],16,FALSE),\"\")","v":""},{"$f":"IFERROR(VLOOKUP(Tabla38[[#This Row],[CODIGO municipio]],[3]!Tabla8[#All],17,FALSE),\"\")","v":""},{"$f":"IFERROR(VLOOKUP(Tabla38[[#This Row],[CODIGO municipio]],[3]!Tabla8[#All],18,FALSE),\"\")","v":""},{"$f":"IFERROR(VLOOKUP(Tabla38[[#This Row],[CODIGO municipio]],[3]!Tabla8[#All],19,FALSE),\"\")","v":""},{"$f":"IFERROR(VLOOKUP(Tabla38[[#This Row],[CODIGO municipio]],[3]!Tabla8[#All],20,FALSE),\"\")","v":""},{"$f":"IFERROR(VLOOKUP(Tabla38[[#This Row],[CODIGO municipio]],[3]!Tabla8[#All],21,FALSE),\"\")","v":""},{"$f":"IFERROR(VLOOKUP(Tabla38[[#This Row],[CODIGO municipio]],[3]!Tabla8[#All],22,FALSE),\"\")","v":""},{"$f":"IFERROR(VLOOKUP(Tabla38[[#This Row],[CODIGO municipio]],[3]!Tabla8[#All],23,FALSE),\"\")","v":""},{"$f":"IFERROR(VLOOKUP(Tabla38[[#This Row],[CODIGO municipio]],[3]!Tabla9[#All],3,FALSE),\"\")","v":""}]
[{"$f":"IFERROR(VLOOKUP(Tabla38[[#This Row],[Municipio]],[3]!Tabla2[#All],3,FALSE),\"\")","v":""},1018,"Zunilito",{"$f":"IFERROR(VLOOKUP(Tabla38[[#This Row],[CODIGO municipio]],[3]!Tabla6[[#All],[codigo_mun]],1,FALSE),\"\")","v":""},{"$f":"IFERROR(VLOOKUP(Tabla38[[#This Row],[CODIGO municipio]],[3]!Tabla12[#All],2,FALSE),\"\")","v":""},{"$f":"IFERROR(VLOOKUP(Tabla38[[#This Row],[CODIGO municipio]],[3]!Tabla7[#All],3,FALSE),\"\")","v":""},{"$f":"IFERROR(VLOOKUP(Tabla38[[#This Row],[CODIGO municipio]],[3]!Tabla7[#All],4,FALSE),\"\")","v":""},{"$f":"IFERROR(VLOOKUP(Tabla38[[#This Row],[CODIGO municipio]],[3]!Tabla7[#All],11,FALSE),\"\")","v":""},{"$f":"IFERROR(VLOOKUP(Tabla38[[#This Row],[CODIGO municipio]],[3]!Tabla7[#All],12,FALSE),\"\")","v":""},{"$f":"IFERROR(VLOOKUP(Tabla38[[#This Row],[CODIGO municipio]],[3]!Tabla7[#All],13,FALSE),\"\")","v":""},{"$f":"IFERROR(VLOOKUP(Tabla38[[#This Row],[CODIGO municipio]],[3]!Tabla7[#All],14,FALSE),\"\")","v":""},{"$f":"IFERROR(VLOOKUP(Tabla38[[#This Row],[CODIGO municipio]],[3]!Tabla7[#All],15,FALSE),\"\")","v":""},{"$f":"IFERROR(VLOOKUP(Tabla38[[#This Row],[CODIGO municipio]],[3]!Tabla7[#All],16,FALSE),\"\")","v":""},{"$f":"IFERROR(VLOOKUP(Tabla38[[#This Row],[CODIGO municipio]],[3]!Tabla7[#All],17,FALSE),\"\")","v":""},{"$f":"IFERROR(VLOOKUP(Tabla38[[#This Row],[CODIGO municipio]],[3]!Tabla7[#All],18,FALSE),\"\")","v":""},{"$f":"IFERROR(VLOOKUP(Tabla38[[#This Row],[CODIGO municipio]],[3]!Tabla7[#All],19,FALSE),\"\")","v":""},{"$f":"IFERROR(VLOOKUP(Tabla38[[#This Row],[CODIGO municipio]],[3]!Tabla8[#All],3,FALSE),\"\")","v":""},{"$f":"IFERROR(VLOOKUP(Tabla38[[#This Row],[CODIGO municipio]],[3]!Tabla8[#All],4,FALSE),\"\")","v":""},{"$f":"IFERROR(VLOOKUP(Tabla38[[#This Row],[CODIGO municipio]],[3]!Tabla8[#All],5,FALSE),\"\")","v":""},{"$f":"IFERROR(VLOOKUP(Tabla38[[#This Row],[CODIGO municipio]],[3]!Tabla8[#All],6,FALSE),\"\")","v":""},{"$f":"IFERROR(VLOOKUP(Tabla38[[#This Row],[CODIGO municipio]],[3]!Tabla8[#All],7,FALSE),\"\")","v":""},{"$f":"IFERROR(VLOOKUP(Tabla38[[#This Row],[CODIGO municipio]],[3]!Tabla8[#All],8,FALSE),\"\")","v":""},{"$f":"IFERROR(VLOOKUP(Tabla38[[#This Row],[CODIGO municipio]],[3]!Tabla8[#All],9,FALSE),\"\")","v":""},{"$f":"IFERROR(VLOOKUP(Tabla38[[#This Row],[CODIGO municipio]],[3]!Tabla8[#All],10,FALSE),\"\")","v":""},{"$f":"IFERROR(VLOOKUP(Tabla38[[#This Row],[CODIGO municipio]],[3]!Tabla8[#All],11,FALSE),\"\")","v":""},{"$f":"IFERROR(VLOOKUP(Tabla38[[#This Row],[CODIGO municipio]],[3]!Tabla8[#All],12,FALSE),\"\")","v":""},{"$f":"IFERROR(VLOOKUP(Tabla38[[#This Row],[CODIGO municipio]],[3]!Tabla8[#All],13,FALSE),\"\")","v":""},{"$f":"IFERROR(VLOOKUP(Tabla38[[#This Row],[CODIGO municipio]],[3]!Tabla8[#All],14,FALSE),\"\")","v":""},{"$f":"IFERROR(VLOOKUP(Tabla38[[#This Row],[CODIGO municipio]],[3]!Tabla8[#All],15,FALSE),\"\")","v":""},{"$f":"IFERROR(VLOOKUP(Tabla38[[#This Row],[CODIGO municipio]],[3]!Tabla8[#All],16,FALSE),\"\")","v":""},{"$f":"IFERROR(VLOOKUP(Tabla38[[#This Row],[CODIGO municipio]],[3]!Tabla8[#All],17,FALSE),\"\")","v":""},{"$f":"IFERROR(VLOOKUP(Tabla38[[#This Row],[CODIGO municipio]],[3]!Tabla8[#All],18,FALSE),\"\")","v":""},{"$f":"IFERROR(VLOOKUP(Tabla38[[#This Row],[CODIGO municipio]],[3]!Tabla8[#All],19,FALSE),\"\")","v":""},{"$f":"IFERROR(VLOOKUP(Tabla38[[#This Row],[CODIGO municipio]],[3]!Tabla8[#All],20,FALSE),\"\")","v":""},{"$f":"IFERROR(VLOOKUP(Tabla38[[#This Row],[CODIGO municipio]],[3]!Tabla8[#All],21,FALSE),\"\")","v":""},{"$f":"IFERROR(VLOOKUP(Tabla38[[#This Row],[CODIGO municipio]],[3]!Tabla8[#All],22,FALSE),\"\")","v":""},{"$f":"IFERROR(VLOOKUP(Tabla38[[#This Row],[CODIGO municipio]],[3]!Tabla8[#All],23,FALSE),\"\")","v":""},{"$f":"IFERROR(VLOOKUP(Tabla38[[#This Row],[CODIGO municipio]],[3]!Tabla9[#All],3,FALSE),\"\")","v":""}]
[{"$f":"IFERROR(VLOOKUP(Tabla38[[#This Row],[Municipio]],[3]!Tabla2[#All],3,FALSE),\"\")","v":""},1019,"Pueblo Nuevo",{"$f":"IFERROR(VLOOKUP(Tabla38[[#This Row],[CODIGO municipio]],[3]!Tabla6[[#All],[codigo_mun]],1,FALSE),\"\")","v":""},{"$f":"IFERROR(VLOOKUP(Tabla38[[#This Row],[CODIGO municipio]],[3]!Tabla12[#All],2,FALSE),\"\")","v":""},{"$f":"IFERROR(VLOOKUP(Tabla38[[#This Row],[CODIGO municipio]],[3]!Tabla7[#All],3,FALSE),\"\")","v":""},{"$f":"IFERROR(VLOOKUP(Tabla38[[#This Row],[CODIGO municipio]],[3]!Tabla7[#All],4,FALSE),\"\")","v":""},{"$f":"IFERROR(VLOOKUP(Tabla38[[#This Row],[CODIGO municipio]],[3]!Tabla7[#All],11,FALSE),\"\")","v":""},{"$f":"IFERROR(VLOOKUP(Tabla38[[#This Row],[CODIGO municipio]],[3]!Tabla7[#All],12,FALSE),\"\")","v":""},{"$f":"IFERROR(VLOOKUP(Tabla38[[#This Row],[CODIGO municipio]],[3]!Tabla7[#All],13,FALSE),\"\")","v":""},{"$f":"IFERROR(VLOOKUP(Tabla38[[#This Row],[CODIGO municipio]],[3]!Tabla7[#All],14,FALSE),\"\")","v":""},{"$f":"IFERROR(VLOOKUP(Tabla38[[#This Row],[CODIGO municipio]],[3]!Tabla7[#All],15,FALSE),\"\")","v":""},{"$f":"IFERROR(VLOOKUP(Tabla38[[#This Row],[CODIGO municipio]],[3]!Tabla7[#All],16,FALSE),\"\")","v":""},{"$f":"IFERROR(VLOOKUP(Tabla38[[#This Row],[CODIGO municipio]],[3]!Tabla7[#All],17,FALSE),\"\")","v":""},{"$f":"IFERROR(VLOOKUP(Tabla38[[#This Row],[CODIGO municipio]],[3]!Tabla7[#All],18,FALSE),\"\")","v":""},{"$f":"IFERROR(VLOOKUP(Tabla38[[#This Row],[CODIGO municipio]],[3]!Tabla7[#All],19,FALSE),\"\")","v":""},{"$f":"IFERROR(VLOOKUP(Tabla38[[#This Row],[CODIGO municipio]],[3]!Tabla8[#All],3,FALSE),\"\")","v":""},{"$f":"IFERROR(VLOOKUP(Tabla38[[#This Row],[CODIGO municipio]],[3]!Tabla8[#All],4,FALSE),\"\")","v":""},{"$f":"IFERROR(VLOOKUP(Tabla38[[#This Row],[CODIGO municipio]],[3]!Tabla8[#All],5,FALSE),\"\")","v":""},{"$f":"IFERROR(VLOOKUP(Tabla38[[#This Row],[CODIGO municipio]],[3]!Tabla8[#All],6,FALSE),\"\")","v":""},{"$f":"IFERROR(VLOOKUP(Tabla38[[#This Row],[CODIGO municipio]],[3]!Tabla8[#All],7,FALSE),\"\")","v":""},{"$f":"IFERROR(VLOOKUP(Tabla38[[#This Row],[CODIGO municipio]],[3]!Tabla8[#All],8,FALSE),\"\")","v":""},{"$f":"IFERROR(VLOOKUP(Tabla38[[#This Row],[CODIGO municipio]],[3]!Tabla8[#All],9,FALSE),\"\")","v":""},{"$f":"IFERROR(VLOOKUP(Tabla38[[#This Row],[CODIGO municipio]],[3]!Tabla8[#All],10,FALSE),\"\")","v":""},{"$f":"IFERROR(VLOOKUP(Tabla38[[#This Row],[CODIGO municipio]],[3]!Tabla8[#All],11,FALSE),\"\")","v":""},{"$f":"IFERROR(VLOOKUP(Tabla38[[#This Row],[CODIGO municipio]],[3]!Tabla8[#All],12,FALSE),\"\")","v":""},{"$f":"IFERROR(VLOOKUP(Tabla38[[#This Row],[CODIGO municipio]],[3]!Tabla8[#All],13,FALSE),\"\")","v":""},{"$f":"IFERROR(VLOOKUP(Tabla38[[#This Row],[CODIGO municipio]],[3]!Tabla8[#All],14,FALSE),\"\")","v":""},{"$f":"IFERROR(VLOOKUP(Tabla38[[#This Row],[CODIGO municipio]],[3]!Tabla8[#All],15,FALSE),\"\")","v":""},{"$f":"IFERROR(VLOOKUP(Tabla38[[#This Row],[CODIGO municipio]],[3]!Tabla8[#All],16,FALSE),\"\")","v":""},{"$f":"IFERROR(VLOOKUP(Tabla38[[#This Row],[CODIGO municipio]],[3]!Tabla8[#All],17,FALSE),\"\")","v":""},{"$f":"IFERROR(VLOOKUP(Tabla38[[#This Row],[CODIGO municipio]],[3]!Tabla8[#All],18,FALSE),\"\")","v":""},{"$f":"IFERROR(VLOOKUP(Tabla38[[#This Row],[CODIGO municipio]],[3]!Tabla8[#All],19,FALSE),\"\")","v":""},{"$f":"IFERROR(VLOOKUP(Tabla38[[#This Row],[CODIGO municipio]],[3]!Tabla8[#All],20,FALSE),\"\")","v":""},{"$f":"IFERROR(VLOOKUP(Tabla38[[#This Row],[CODIGO municipio]],[3]!Tabla8[#All],21,FALSE),\"\")","v":""},{"$f":"IFERROR(VLOOKUP(Tabla38[[#This Row],[CODIGO municipio]],[3]!Tabla8[#All],22,FALSE),\"\")","v":""},{"$f":"IFERROR(VLOOKUP(Tabla38[[#This Row],[CODIGO municipio]],[3]!Tabla8[#All],23,FALSE),\"\")","v":""},{"$f":"IFERROR(VLOOKUP(Tabla38[[#This Row],[CODIGO municipio]],[3]!Tabla9[#All],3,FALSE),\"\")","v":""}]
[{"$f":"IFERROR(VLOOKUP(Tabla38[[#This Row],[Municipio]],[3]!Tabla2[#All],3,FALSE),\"\")","v":""},1020,"Río Bravo",{"$f":"IFERROR(VLOOKUP(Tabla38[[#This Row],[CODIGO municipio]],[3]!Tabla6[[#All],[codigo_mun]],1,FALSE),\"\")","v":""},{"$f":"IFERROR(VLOOKUP(Tabla38[[#This Row],[CODIGO municipio]],[3]!Tabla12[#All],2,FALSE),\"\")","v":""},{"$f":"IFERROR(VLOOKUP(Tabla38[[#This Row],[CODIGO municipio]],[3]!Tabla7[#All],3,FALSE),\"\")","v":""},{"$f":"IFERROR(VLOOKUP(Tabla38[[#This Row],[CODIGO municipio]],[3]!Tabla7[#All],4,FALSE),\"\")","v":""},{"$f":"IFERROR(VLOOKUP(Tabla38[[#This Row],[CODIGO municipio]],[3]!Tabla7[#All],11,FALSE),\"\")","v":""},{"$f":"IFERROR(VLOOKUP(Tabla38[[#This Row],[CODIGO municipio]],[3]!Tabla7[#All],12,FALSE),\"\")","v":""},{"$f":"IFERROR(VLOOKUP(Tabla38[[#This Row],[CODIGO municipio]],[3]!Tabla7[#All],13,FALSE),\"\")","v":""},{"$f":"IFERROR(VLOOKUP(Tabla38[[#This Row],[CODIGO municipio]],[3]!Tabla7[#All],14,FALSE),\"\")","v":""},{"$f":"IFERROR(VLOOKUP(Tabla38[[#This Row],[CODIGO municipio]],[3]!Tabla7[#All],15,FALSE),\"\")","v":""},{"$f":"IFERROR(VLOOKUP(Tabla38[[#This Row],[CODIGO municipio]],[3]!Tabla7[#All],16,FALSE),\"\")","v":""},{"$f":"IFERROR(VLOOKUP(Tabla38[[#This Row],[CODIGO municipio]],[3]!Tabla7[#All],17,FALSE),\"\")","v":""},{"$f":"IFERROR(VLOOKUP(Tabla38[[#This Row],[CODIGO municipio]],[3]!Tabla7[#All],18,FALSE),\"\")","v":""},{"$f":"IFERROR(VLOOKUP(Tabla38[[#This Row],[CODIGO municipio]],[3]!Tabla7[#All],19,FALSE),\"\")","v":""},{"$f":"IFERROR(VLOOKUP(Tabla38[[#This Row],[CODIGO municipio]],[3]!Tabla8[#All],3,FALSE),\"\")","v":""},{"$f":"IFERROR(VLOOKUP(Tabla38[[#This Row],[CODIGO municipio]],[3]!Tabla8[#All],4,FALSE),\"\")","v":""},{"$f":"IFERROR(VLOOKUP(Tabla38[[#This Row],[CODIGO municipio]],[3]!Tabla8[#All],5,FALSE),\"\")","v":""},{"$f":"IFERROR(VLOOKUP(Tabla38[[#This Row],[CODIGO municipio]],[3]!Tabla8[#All],6,FALSE),\"\")","v":""},{"$f":"IFERROR(VLOOKUP(Tabla38[[#This Row],[CODIGO municipio]],[3]!Tabla8[#All],7,FALSE),\"\")","v":""},{"$f":"IFERROR(VLOOKUP(Tabla38[[#This Row],[CODIGO municipio]],[3]!Tabla8[#All],8,FALSE),\"\")","v":""},{"$f":"IFERROR(VLOOKUP(Tabla38[[#This Row],[CODIGO municipio]],[3]!Tabla8[#All],9,FALSE),\"\")","v":""},{"$f":"IFERROR(VLOOKUP(Tabla38[[#This Row],[CODIGO municipio]],[3]!Tabla8[#All],10,FALSE),\"\")","v":""},{"$f":"IFERROR(VLOOKUP(Tabla38[[#This Row],[CODIGO municipio]],[3]!Tabla8[#All],11,FALSE),\"\")","v":""},{"$f":"IFERROR(VLOOKUP(Tabla38[[#This Row],[CODIGO municipio]],[3]!Tabla8[#All],12,FALSE),\"\")","v":""},{"$f":"IFERROR(VLOOKUP(Tabla38[[#This Row],[CODIGO municipio]],[3]!Tabla8[#All],13,FALSE),\"\")","v":""},{"$f":"IFERROR(VLOOKUP(Tabla38[[#This Row],[CODIGO municipio]],[3]!Tabla8[#All],14,FALSE),\"\")","v":""},{"$f":"IFERROR(VLOOKUP(Tabla38[[#This Row],[CODIGO municipio]],[3]!Tabla8[#All],15,FALSE),\"\")","v":""},{"$f":"IFERROR(VLOOKUP(Tabla38[[#This Row],[CODIGO municipio]],[3]!Tabla8[#All],16,FALSE),\"\")","v":""},{"$f":"IFERROR(VLOOKUP(Tabla38[[#This Row],[CODIGO municipio]],[3]!Tabla8[#All],17,FALSE),\"\")","v":""},{"$f":"IFERROR(VLOOKUP(Tabla38[[#This Row],[CODIGO municipio]],[3]!Tabla8[#All],18,FALSE),\"\")","v":""},{"$f":"IFERROR(VLOOKUP(Tabla38[[#This Row],[CODIGO municipio]],[3]!Tabla8[#All],19,FALSE),\"\")","v":""},{"$f":"IFERROR(VLOOKUP(Tabla38[[#This Row],[CODIGO municipio]],[3]!Tabla8[#All],20,FALSE),\"\")","v":""},{"$f":"IFERROR(VLOOKUP(Tabla38[[#This Row],[CODIGO municipio]],[3]!Tabla8[#All],21,FALSE),\"\")","v":""},{"$f":"IFERROR(VLOOKUP(Tabla38[[#This Row],[CODIGO municipio]],[3]!Tabla8[#All],22,FALSE),\"\")","v":""},{"$f":"IFERROR(VLOOKUP(Tabla38[[#This Row],[CODIGO municipio]],[3]!Tabla8[#All],23,FALSE),\"\")","v":""},{"$f":"IFERROR(VLOOKUP(Tabla38[[#This Row],[CODIGO municipio]],[3]!Tabla9[#All],3,FALSE),\"\")","v":""}]
[{"$f":"IFERROR(VLOOKUP(Tabla38[[#This Row],[Municipio]],[3]!Tabla2[#All],3,FALSE),\"\")","v":""},1021,"San José La Máquina",{"$f":"IFERROR(VLOOKUP(Tabla38[[#This Row],[CODIGO municipio]],[3]!Tabla6[[#All],[codigo_mun]],1,FALSE),\"\")","v":""},{"$f":"IFERROR(VLOOKUP(Tabla38[[#This Row],[CODIGO municipio]],[3]!Tabla12[#All],2,FALSE),\"\")","v":""},{"$f":"IFERROR(VLOOKUP(Tabla38[[#This Row],[CODIGO municipio]],[3]!Tabla7[#All],3,FALSE),\"\")","v":""},{"$f":"IFERROR(VLOOKUP(Tabla38[[#This Row],[CODIGO municipio]],[3]!Tabla7[#All],4,FALSE),\"\")","v":""},{"$f":"IFERROR(VLOOKUP(Tabla38[[#This Row],[CODIGO municipio]],[3]!Tabla7[#All],11,FALSE),\"\")","v":""},{"$f":"IFERROR(VLOOKUP(Tabla38[[#This Row],[CODIGO municipio]],[3]!Tabla7[#All],12,FALSE),\"\")","v":""},{"$f":"IFERROR(VLOOKUP(Tabla38[[#This Row],[CODIGO municipio]],[3]!Tabla7[#All],13,FALSE),\"\")","v":""},{"$f":"IFERROR(VLOOKUP(Tabla38[[#This Row],[CODIGO municipio]],[3]!Tabla7[#All],14,FALSE),\"\")","v":""},{"$f":"IFERROR(VLOOKUP(Tabla38[[#This Row],[CODIGO municipio]],[3]!Tabla7[#All],15,FALSE),\"\")","v":""},{"$f":"IFERROR(VLOOKUP(Tabla38[[#This Row],[CODIGO municipio]],[3]!Tabla7[#All],16,FALSE),\"\")","v":""},{"$f":"IFERROR(VLOOKUP(Tabla38[[#This Row],[CODIGO municipio]],[3]!Tabla7[#All],17,FALSE),\"\")","v":""},{"$f":"IFERROR(VLOOKUP(Tabla38[[#This Row],[CODIGO municipio]],[3]!Tabla7[#All],18,FALSE),\"\")","v":""},{"$f":"IFERROR(VLOOKUP(Tabla38[[#This Row],[CODIGO municipio]],[3]!Tabla7[#All],19,FALSE),\"\")","v":""},{"$f":"IFERROR(VLOOKUP(Tabla38[[#This Row],[CODIGO municipio]],[3]!Tabla8[#All],3,FALSE),\"\")","v":""},{"$f":"IFERROR(VLOOKUP(Tabla38[[#This Row],[CODIGO municipio]],[3]!Tabla8[#All],4,FALSE),\"\")","v":""},{"$f":"IFERROR(VLOOKUP(Tabla38[[#This Row],[CODIGO municipio]],[3]!Tabla8[#All],5,FALSE),\"\")","v":""},{"$f":"IFERROR(VLOOKUP(Tabla38[[#This Row],[CODIGO municipio]],[3]!Tabla8[#All],6,FALSE),\"\")","v":""},{"$f":"IFERROR(VLOOKUP(Tabla38[[#This Row],[CODIGO municipio]],[3]!Tabla8[#All],7,FALSE),\"\")","v":""},{"$f":"IFERROR(VLOOKUP(Tabla38[[#This Row],[CODIGO municipio]],[3]!Tabla8[#All],8,FALSE),\"\")","v":""},{"$f":"IFERROR(VLOOKUP(Tabla38[[#This Row],[CODIGO municipio]],[3]!Tabla8[#All],9,FALSE),\"\")","v":""},{"$f":"IFERROR(VLOOKUP(Tabla38[[#This Row],[CODIGO municipio]],[3]!Tabla8[#All],10,FALSE),\"\")","v":""},{"$f":"IFERROR(VLOOKUP(Tabla38[[#This Row],[CODIGO municipio]],[3]!Tabla8[#All],11,FALSE),\"\")","v":""},{"$f":"IFERROR(VLOOKUP(Tabla38[[#This Row],[CODIGO municipio]],[3]!Tabla8[#All],12,FALSE),\"\")","v":""},{"$f":"IFERROR(VLOOKUP(Tabla38[[#This Row],[CODIGO municipio]],[3]!Tabla8[#All],13,FALSE),\"\")","v":""},{"$f":"IFERROR(VLOOKUP(Tabla38[[#This Row],[CODIGO municipio]],[3]!Tabla8[#All],14,FALSE),\"\")","v":""},{"$f":"IFERROR(VLOOKUP(Tabla38[[#This Row],[CODIGO municipio]],[3]!Tabla8[#All],15,FALSE),\"\")","v":""},{"$f":"IFERROR(VLOOKUP(Tabla38[[#This Row],[CODIGO municipio]],[3]!Tabla8[#All],16,FALSE),\"\")","v":""},{"$f":"IFERROR(VLOOKUP(Tabla38[[#This Row],[CODIGO municipio]],[3]!Tabla8[#All],17,FALSE),\"\")","v":""},{"$f":"IFERROR(VLOOKUP(Tabla38[[#This Row],[CODIGO municipio]],[3]!Tabla8[#All],18,FALSE),\"\")","v":""},{"$f":"IFERROR(VLOOKUP(Tabla38[[#This Row],[CODIGO municipio]],[3]!Tabla8[#All],19,FALSE),\"\")","v":""},{"$f":"IFERROR(VLOOKUP(Tabla38[[#This Row],[CODIGO municipio]],[3]!Tabla8[#All],20,FALSE),\"\")","v":""},{"$f":"IFERROR(VLOOKUP(Tabla38[[#This Row],[CODIGO municipio]],[3]!Tabla8[#All],21,FALSE),\"\")","v":""},{"$f":"IFERROR(VLOOKUP(Tabla38[[#This Row],[CODIGO municipio]],[3]!Tabla8[#All],22,FALSE),\"\")","v":""},{"$f":"IFERROR(VLOOKUP(Tabla38[[#This Row],[CODIGO municipio]],[3]!Tabla8[#All],23,FALSE),\"\")","v":""},{"$f":"IFERROR(VLOOKUP(Tabla38[[#This Row],[CODIGO municipio]],[3]!Tabla9[#All],3,FALSE),\"\")","v":""}]
[{"$f":"IFERROR(VLOOKUP(Tabla38[[#This Row],[Municipio]],[3]!Tabla2[#All],3,FALSE),\"\")","v":""},1101,"Retalhuleu",{"$f":"IFERROR(VLOOKUP(Tabla38[[#This Row],[CODIGO municipio]],[3]!Tabla6[[#All],[codigo_mun]],1,FALSE),\"\")","v":""},{"$f":"IFERROR(VLOOKUP(Tabla38[[#This Row],[CODIGO municipio]],[3]!Tabla12[#All],2,FALSE),\"\")","v":""},{"$f":"IFERROR(VLOOKUP(Tabla38[[#This Row],[CODIGO municipio]],[3]!Tabla7[#All],3,FALSE),\"\")","v":""},{"$f":"IFERROR(VLOOKUP(Tabla38[[#This Row],[CODIGO municipio]],[3]!Tabla7[#All],4,FALSE),\"\")","v":""},{"$f":"IFERROR(VLOOKUP(Tabla38[[#This Row],[CODIGO municipio]],[3]!Tabla7[#All],11,FALSE),\"\")","v":""},{"$f":"IFERROR(VLOOKUP(Tabla38[[#This Row],[CODIGO municipio]],[3]!Tabla7[#All],12,FALSE),\"\")","v":""},{"$f":"IFERROR(VLOOKUP(Tabla38[[#This Row],[CODIGO municipio]],[3]!Tabla7[#All],13,FALSE),\"\")","v":""},{"$f":"IFERROR(VLOOKUP(Tabla38[[#This Row],[CODIGO municipio]],[3]!Tabla7[#All],14,FALSE),\"\")","v":""},{"$f":"IFERROR(VLOOKUP(Tabla38[[#This Row],[CODIGO municipio]],[3]!Tabla7[#All],15,FALSE),\"\")","v":""},{"$f":"IFERROR(VLOOKUP(Tabla38[[#This Row],[CODIGO municipio]],[3]!Tabla7[#All],16,FALSE),\"\")","v":""},{"$f":"IFERROR(VLOOKUP(Tabla38[[#This Row],[CODIGO municipio]],[3]!Tabla7[#All],17,FALSE),\"\")","v":""},{"$f":"IFERROR(VLOOKUP(Tabla38[[#This Row],[CODIGO municipio]],[3]!Tabla7[#All],18,FALSE),\"\")","v":""},{"$f":"IFERROR(VLOOKUP(Tabla38[[#This Row],[CODIGO municipio]],[3]!Tabla7[#All],19,FALSE),\"\")","v":""},{"$f":"IFERROR(VLOOKUP(Tabla38[[#This Row],[CODIGO municipio]],[3]!Tabla8[#All],3,FALSE),\"\")","v":""},{"$f":"IFERROR(VLOOKUP(Tabla38[[#This Row],[CODIGO municipio]],[3]!Tabla8[#All],4,FALSE),\"\")","v":""},{"$f":"IFERROR(VLOOKUP(Tabla38[[#This Row],[CODIGO municipio]],[3]!Tabla8[#All],5,FALSE),\"\")","v":""},{"$f":"IFERROR(VLOOKUP(Tabla38[[#This Row],[CODIGO municipio]],[3]!Tabla8[#All],6,FALSE),\"\")","v":""},{"$f":"IFERROR(VLOOKUP(Tabla38[[#This Row],[CODIGO municipio]],[3]!Tabla8[#All],7,FALSE),\"\")","v":""},{"$f":"IFERROR(VLOOKUP(Tabla38[[#This Row],[CODIGO municipio]],[3]!Tabla8[#All],8,FALSE),\"\")","v":""},{"$f":"IFERROR(VLOOKUP(Tabla38[[#This Row],[CODIGO municipio]],[3]!Tabla8[#All],9,FALSE),\"\")","v":""},{"$f":"IFERROR(VLOOKUP(Tabla38[[#This Row],[CODIGO municipio]],[3]!Tabla8[#All],10,FALSE),\"\")","v":""},{"$f":"IFERROR(VLOOKUP(Tabla38[[#This Row],[CODIGO municipio]],[3]!Tabla8[#All],11,FALSE),\"\")","v":""},{"$f":"IFERROR(VLOOKUP(Tabla38[[#This Row],[CODIGO municipio]],[3]!Tabla8[#All],12,FALSE),\"\")","v":""},{"$f":"IFERROR(VLOOKUP(Tabla38[[#This Row],[CODIGO municipio]],[3]!Tabla8[#All],13,FALSE),\"\")","v":""},{"$f":"IFERROR(VLOOKUP(Tabla38[[#This Row],[CODIGO municipio]],[3]!Tabla8[#All],14,FALSE),\"\")","v":""},{"$f":"IFERROR(VLOOKUP(Tabla38[[#This Row],[CODIGO municipio]],[3]!Tabla8[#All],15,FALSE),\"\")","v":""},{"$f":"IFERROR(VLOOKUP(Tabla38[[#This Row],[CODIGO municipio]],[3]!Tabla8[#All],16,FALSE),\"\")","v":""},{"$f":"IFERROR(VLOOKUP(Tabla38[[#This Row],[CODIGO municipio]],[3]!Tabla8[#All],17,FALSE),\"\")","v":""},{"$f":"IFERROR(VLOOKUP(Tabla38[[#This Row],[CODIGO municipio]],[3]!Tabla8[#All],18,FALSE),\"\")","v":""},{"$f":"IFERROR(VLOOKUP(Tabla38[[#This Row],[CODIGO municipio]],[3]!Tabla8[#All],19,FALSE),\"\")","v":""},{"$f":"IFERROR(VLOOKUP(Tabla38[[#This Row],[CODIGO municipio]],[3]!Tabla8[#All],20,FALSE),\"\")","v":""},{"$f":"IFERROR(VLOOKUP(Tabla38[[#This Row],[CODIGO municipio]],[3]!Tabla8[#All],21,FALSE),\"\")","v":""},{"$f":"IFERROR(VLOOKUP(Tabla38[[#This Row],[CODIGO municipio]],[3]!Tabla8[#All],22,FALSE),\"\")","v":""},{"$f":"IFERROR(VLOOKUP(Tabla38[[#This Row],[CODIGO municipio]],[3]!Tabla8[#All],23,FALSE),\"\")","v":""},{"$f":"IFERROR(VLOOKUP(Tabla38[[#This Row],[CODIGO municipio]],[3]!Tabla9[#All],3,FALSE),\"\")","v":""}]
[{"$f":"IFERROR(VLOOKUP(Tabla38[[#This Row],[Municipio]],[3]!Tabla2[#All],3,FALSE),\"\")","v":""},1102,"San Sebastián",{"$f":"IFERROR(VLOOKUP(Tabla38[[#This Row],[CODIGO municipio]],[3]!Tabla6[[#All],[codigo_mun]],1,FALSE),\"\")","v":""},{"$f":"IFERROR(VLOOKUP(Tabla38[[#This Row],[CODIGO municipio]],[3]!Tabla12[#All],2,FALSE),\"\")","v":""},{"$f":"IFERROR(VLOOKUP(Tabla38[[#This Row],[CODIGO municipio]],[3]!Tabla7[#All],3,FALSE),\"\")","v":""},{"$f":"IFERROR(VLOOKUP(Tabla38[[#This Row],[CODIGO municipio]],[3]!Tabla7[#All],4,FALSE),\"\")","v":""},{"$f":"IFERROR(VLOOKUP(Tabla38[[#This Row],[CODIGO municipio]],[3]!Tabla7[#All],11,FALSE),\"\")","v":""},{"$f":"IFERROR(VLOOKUP(Tabla38[[#This Row],[CODIGO municipio]],[3]!Tabla7[#All],12,FALSE),\"\")","v":""},{"$f":"IFERROR(VLOOKUP(Tabla38[[#This Row],[CODIGO municipio]],[3]!Tabla7[#All],13,FALSE),\"\")","v":""},{"$f":"IFERROR(VLOOKUP(Tabla38[[#This Row],[CODIGO municipio]],[3]!Tabla7[#All],14,FALSE),\"\")","v":""},{"$f":"IFERROR(VLOOKUP(Tabla38[[#This Row],[CODIGO municipio]],[3]!Tabla7[#All],15,FALSE),\"\")","v":""},{"$f":"IFERROR(VLOOKUP(Tabla38[[#This Row],[CODIGO municipio]],[3]!Tabla7[#All],16,FALSE),\"\")","v":""},{"$f":"IFERROR(VLOOKUP(Tabla38[[#This Row],[CODIGO municipio]],[3]!Tabla7[#All],17,FALSE),\"\")","v":""},{"$f":"IFERROR(VLOOKUP(Tabla38[[#This Row],[CODIGO municipio]],[3]!Tabla7[#All],18,FALSE),\"\")","v":""},{"$f":"IFERROR(VLOOKUP(Tabla38[[#This Row],[CODIGO municipio]],[3]!Tabla7[#All],19,FALSE),\"\")","v":""},{"$f":"IFERROR(VLOOKUP(Tabla38[[#This Row],[CODIGO municipio]],[3]!Tabla8[#All],3,FALSE),\"\")","v":""},{"$f":"IFERROR(VLOOKUP(Tabla38[[#This Row],[CODIGO municipio]],[3]!Tabla8[#All],4,FALSE),\"\")","v":""},{"$f":"IFERROR(VLOOKUP(Tabla38[[#This Row],[CODIGO municipio]],[3]!Tabla8[#All],5,FALSE),\"\")","v":""},{"$f":"IFERROR(VLOOKUP(Tabla38[[#This Row],[CODIGO municipio]],[3]!Tabla8[#All],6,FALSE),\"\")","v":""},{"$f":"IFERROR(VLOOKUP(Tabla38[[#This Row],[CODIGO municipio]],[3]!Tabla8[#All],7,FALSE),\"\")","v":""},{"$f":"IFERROR(VLOOKUP(Tabla38[[#This Row],[CODIGO municipio]],[3]!Tabla8[#All],8,FALSE),\"\")","v":""},{"$f":"IFERROR(VLOOKUP(Tabla38[[#This Row],[CODIGO municipio]],[3]!Tabla8[#All],9,FALSE),\"\")","v":""},{"$f":"IFERROR(VLOOKUP(Tabla38[[#This Row],[CODIGO municipio]],[3]!Tabla8[#All],10,FALSE),\"\")","v":""},{"$f":"IFERROR(VLOOKUP(Tabla38[[#This Row],[CODIGO municipio]],[3]!Tabla8[#All],11,FALSE),\"\")","v":""},{"$f":"IFERROR(VLOOKUP(Tabla38[[#This Row],[CODIGO municipio]],[3]!Tabla8[#All],12,FALSE),\"\")","v":""},{"$f":"IFERROR(VLOOKUP(Tabla38[[#This Row],[CODIGO municipio]],[3]!Tabla8[#All],13,FALSE),\"\")","v":""},{"$f":"IFERROR(VLOOKUP(Tabla38[[#This Row],[CODIGO municipio]],[3]!Tabla8[#All],14,FALSE),\"\")","v":""},{"$f":"IFERROR(VLOOKUP(Tabla38[[#This Row],[CODIGO municipio]],[3]!Tabla8[#All],15,FALSE),\"\")","v":""},{"$f":"IFERROR(VLOOKUP(Tabla38[[#This Row],[CODIGO municipio]],[3]!Tabla8[#All],16,FALSE),\"\")","v":""},{"$f":"IFERROR(VLOOKUP(Tabla38[[#This Row],[CODIGO municipio]],[3]!Tabla8[#All],17,FALSE),\"\")","v":""},{"$f":"IFERROR(VLOOKUP(Tabla38[[#This Row],[CODIGO municipio]],[3]!Tabla8[#All],18,FALSE),\"\")","v":""},{"$f":"IFERROR(VLOOKUP(Tabla38[[#This Row],[CODIGO municipio]],[3]!Tabla8[#All],19,FALSE),\"\")","v":""},{"$f":"IFERROR(VLOOKUP(Tabla38[[#This Row],[CODIGO municipio]],[3]!Tabla8[#All],20,FALSE),\"\")","v":""},{"$f":"IFERROR(VLOOKUP(Tabla38[[#This Row],[CODIGO municipio]],[3]!Tabla8[#All],21,FALSE),\"\")","v":""},{"$f":"IFERROR(VLOOKUP(Tabla38[[#This Row],[CODIGO municipio]],[3]!Tabla8[#All],22,FALSE),\"\")","v":""},{"$f":"IFERROR(VLOOKUP(Tabla38[[#This Row],[CODIGO municipio]],[3]!Tabla8[#All],23,FALSE),\"\")","v":""},{"$f":"IFERROR(VLOOKUP(Tabla38[[#This Row],[CODIGO municipio]],[3]!Tabla9[#All],3,FALSE),\"\")","v":""}]
[{"$f":"IFERROR(VLOOKUP(Tabla38[[#This Row],[Municipio]],[3]!Tabla2[#All],3,FALSE),\"\")","v":""},1103,"Santa Cruz Muluá",{"$f":"IFERROR(VLOOKUP(Tabla38[[#This Row],[CODIGO municipio]],[3]!Tabla6[[#All],[codigo_mun]],1,FALSE),\"\")","v":""},{"$f":"IFERROR(VLOOKUP(Tabla38[[#This Row],[CODIGO municipio]],[3]!Tabla12[#All],2,FALSE),\"\")","v":""},{"$f":"IFERROR(VLOOKUP(Tabla38[[#This Row],[CODIGO municipio]],[3]!Tabla7[#All],3,FALSE),\"\")","v":""},{"$f":"IFERROR(VLOOKUP(Tabla38[[#This Row],[CODIGO municipio]],[3]!Tabla7[#All],4,FALSE),\"\")","v":""},{"$f":"IFERROR(VLOOKUP(Tabla38[[#This Row],[CODIGO municipio]],[3]!Tabla7[#All],11,FALSE),\"\")","v":""},{"$f":"IFERROR(VLOOKUP(Tabla38[[#This Row],[CODIGO municipio]],[3]!Tabla7[#All],12,FALSE),\"\")","v":""},{"$f":"IFERROR(VLOOKUP(Tabla38[[#This Row],[CODIGO municipio]],[3]!Tabla7[#All],13,FALSE),\"\")","v":""},{"$f":"IFERROR(VLOOKUP(Tabla38[[#This Row],[CODIGO municipio]],[3]!Tabla7[#All],14,FALSE),\"\")","v":""},{"$f":"IFERROR(VLOOKUP(Tabla38[[#This Row],[CODIGO municipio]],[3]!Tabla7[#All],15,FALSE),\"\")","v":""},{"$f":"IFERROR(VLOOKUP(Tabla38[[#This Row],[CODIGO municipio]],[3]!Tabla7[#All],16,FALSE),\"\")","v":""},{"$f":"IFERROR(VLOOKUP(Tabla38[[#This Row],[CODIGO municipio]],[3]!Tabla7[#All],17,FALSE),\"\")","v":""},{"$f":"IFERROR(VLOOKUP(Tabla38[[#This Row],[CODIGO municipio]],[3]!Tabla7[#All],18,FALSE),\"\")","v":""},{"$f":"IFERROR(VLOOKUP(Tabla38[[#This Row],[CODIGO municipio]],[3]!Tabla7[#All],19,FALSE),\"\")","v":""},{"$f":"IFERROR(VLOOKUP(Tabla38[[#This Row],[CODIGO municipio]],[3]!Tabla8[#All],3,FALSE),\"\")","v":""},{"$f":"IFERROR(VLOOKUP(Tabla38[[#This Row],[CODIGO municipio]],[3]!Tabla8[#All],4,FALSE),\"\")","v":""},{"$f":"IFERROR(VLOOKUP(Tabla38[[#This Row],[CODIGO municipio]],[3]!Tabla8[#All],5,FALSE),\"\")","v":""},{"$f":"IFERROR(VLOOKUP(Tabla38[[#This Row],[CODIGO municipio]],[3]!Tabla8[#All],6,FALSE),\"\")","v":""},{"$f":"IFERROR(VLOOKUP(Tabla38[[#This Row],[CODIGO municipio]],[3]!Tabla8[#All],7,FALSE),\"\")","v":""},{"$f":"IFERROR(VLOOKUP(Tabla38[[#This Row],[CODIGO municipio]],[3]!Tabla8[#All],8,FALSE),\"\")","v":""},{"$f":"IFERROR(VLOOKUP(Tabla38[[#This Row],[CODIGO municipio]],[3]!Tabla8[#All],9,FALSE),\"\")","v":""},{"$f":"IFERROR(VLOOKUP(Tabla38[[#This Row],[CODIGO municipio]],[3]!Tabla8[#All],10,FALSE),\"\")","v":""},{"$f":"IFERROR(VLOOKUP(Tabla38[[#This Row],[CODIGO municipio]],[3]!Tabla8[#All],11,FALSE),\"\")","v":""},{"$f":"IFERROR(VLOOKUP(Tabla38[[#This Row],[CODIGO municipio]],[3]!Tabla8[#All],12,FALSE),\"\")","v":""},{"$f":"IFERROR(VLOOKUP(Tabla38[[#This Row],[CODIGO municipio]],[3]!Tabla8[#All],13,FALSE),\"\")","v":""},{"$f":"IFERROR(VLOOKUP(Tabla38[[#This Row],[CODIGO municipio]],[3]!Tabla8[#All],14,FALSE),\"\")","v":""},{"$f":"IFERROR(VLOOKUP(Tabla38[[#This Row],[CODIGO municipio]],[3]!Tabla8[#All],15,FALSE),\"\")","v":""},{"$f":"IFERROR(VLOOKUP(Tabla38[[#This Row],[CODIGO municipio]],[3]!Tabla8[#All],16,FALSE),\"\")","v":""},{"$f":"IFERROR(VLOOKUP(Tabla38[[#This Row],[CODIGO municipio]],[3]!Tabla8[#All],17,FALSE),\"\")","v":""},{"$f":"IFERROR(VLOOKUP(Tabla38[[#This Row],[CODIGO municipio]],[3]!Tabla8[#All],18,FALSE),\"\")","v":""},{"$f":"IFERROR(VLOOKUP(Tabla38[[#This Row],[CODIGO municipio]],[3]!Tabla8[#All],19,FALSE),\"\")","v":""},{"$f":"IFERROR(VLOOKUP(Tabla38[[#This Row],[CODIGO municipio]],[3]!Tabla8[#All],20,FALSE),\"\")","v":""},{"$f":"IFERROR(VLOOKUP(Tabla38[[#This Row],[CODIGO municipio]],[3]!Tabla8[#All],21,FALSE),\"\")","v":""},{"$f":"IFERROR(VLOOKUP(Tabla38[[#This Row],[CODIGO municipio]],[3]!Tabla8[#All],22,FALSE),\"\")","v":""},{"$f":"IFERROR(VLOOKUP(Tabla38[[#This Row],[CODIGO municipio]],[3]!Tabla8[#All],23,FALSE),\"\")","v":""},{"$f":"IFERROR(VLOOKUP(Tabla38[[#This Row],[CODIGO municipio]],[3]!Tabla9[#All],3,FALSE),\"\")","v":""}]
[{"$f":"IFERROR(VLOOKUP(Tabla38[[#This Row],[Municipio]],[3]!Tabla2[#All],3,FALSE),\"\")","v":""},1104,"San Martín Zapotitlán",{"$f":"IFERROR(VLOOKUP(Tabla38[[#This Row],[CODIGO municipio]],[3]!Tabla6[[#All],[codigo_mun]],1,FALSE),\"\")","v":""},{"$f":"IFERROR(VLOOKUP(Tabla38[[#This Row],[CODIGO municipio]],[3]!Tabla12[#All],2,FALSE),\"\")","v":""},{"$f":"IFERROR(VLOOKUP(Tabla38[[#This Row],[CODIGO municipio]],[3]!Tabla7[#All],3,FALSE),\"\")","v":""},{"$f":"IFERROR(VLOOKUP(Tabla38[[#This Row],[CODIGO municipio]],[3]!Tabla7[#All],4,FALSE),\"\")","v":""},{"$f":"IFERROR(VLOOKUP(Tabla38[[#This Row],[CODIGO municipio]],[3]!Tabla7[#All],11,FALSE),\"\")","v":""},{"$f":"IFERROR(VLOOKUP(Tabla38[[#This Row],[CODIGO municipio]],[3]!Tabla7[#All],12,FALSE),\"\")","v":""},{"$f":"IFERROR(VLOOKUP(Tabla38[[#This Row],[CODIGO municipio]],[3]!Tabla7[#All],13,FALSE),\"\")","v":""},{"$f":"IFERROR(VLOOKUP(Tabla38[[#This Row],[CODIGO municipio]],[3]!Tabla7[#All],14,FALSE),\"\")","v":""},{"$f":"IFERROR(VLOOKUP(Tabla38[[#This Row],[CODIGO municipio]],[3]!Tabla7[#All],15,FALSE),\"\")","v":""},{"$f":"IFERROR(VLOOKUP(Tabla38[[#This Row],[CODIGO municipio]],[3]!Tabla7[#All],16,FALSE),\"\")","v":""},{"$f":"IFERROR(VLOOKUP(Tabla38[[#This Row],[CODIGO municipio]],[3]!Tabla7[#All],17,FALSE),\"\")","v":""},{"$f":"IFERROR(VLOOKUP(Tabla38[[#This Row],[CODIGO municipio]],[3]!Tabla7[#All],18,FALSE),\"\")","v":""},{"$f":"IFERROR(VLOOKUP(Tabla38[[#This Row],[CODIGO municipio]],[3]!Tabla7[#All],19,FALSE),\"\")","v":""},{"$f":"IFERROR(VLOOKUP(Tabla38[[#This Row],[CODIGO municipio]],[3]!Tabla8[#All],3,FALSE),\"\")","v":""},{"$f":"IFERROR(VLOOKUP(Tabla38[[#This Row],[CODIGO municipio]],[3]!Tabla8[#All],4,FALSE),\"\")","v":""},{"$f":"IFERROR(VLOOKUP(Tabla38[[#This Row],[CODIGO municipio]],[3]!Tabla8[#All],5,FALSE),\"\")","v":""},{"$f":"IFERROR(VLOOKUP(Tabla38[[#This Row],[CODIGO municipio]],[3]!Tabla8[#All],6,FALSE),\"\")","v":""},{"$f":"IFERROR(VLOOKUP(Tabla38[[#This Row],[CODIGO municipio]],[3]!Tabla8[#All],7,FALSE),\"\")","v":""},{"$f":"IFERROR(VLOOKUP(Tabla38[[#This Row],[CODIGO municipio]],[3]!Tabla8[#All],8,FALSE),\"\")","v":""},{"$f":"IFERROR(VLOOKUP(Tabla38[[#This Row],[CODIGO municipio]],[3]!Tabla8[#All],9,FALSE),\"\")","v":""},{"$f":"IFERROR(VLOOKUP(Tabla38[[#This Row],[CODIGO municipio]],[3]!Tabla8[#All],10,FALSE),\"\")","v":""},{"$f":"IFERROR(VLOOKUP(Tabla38[[#This Row],[CODIGO municipio]],[3]!Tabla8[#All],11,FALSE),\"\")","v":""},{"$f":"IFERROR(VLOOKUP(Tabla38[[#This Row],[CODIGO municipio]],[3]!Tabla8[#All],12,FALSE),\"\")","v":""},{"$f":"IFERROR(VLOOKUP(Tabla38[[#This Row],[CODIGO municipio]],[3]!Tabla8[#All],13,FALSE),\"\")","v":""},{"$f":"IFERROR(VLOOKUP(Tabla38[[#This Row],[CODIGO municipio]],[3]!Tabla8[#All],14,FALSE),\"\")","v":""},{"$f":"IFERROR(VLOOKUP(Tabla38[[#This Row],[CODIGO municipio]],[3]!Tabla8[#All],15,FALSE),\"\")","v":""},{"$f":"IFERROR(VLOOKUP(Tabla38[[#This Row],[CODIGO municipio]],[3]!Tabla8[#All],16,FALSE),\"\")","v":""},{"$f":"IFERROR(VLOOKUP(Tabla38[[#This Row],[CODIGO municipio]],[3]!Tabla8[#All],17,FALSE),\"\")","v":""},{"$f":"IFERROR(VLOOKUP(Tabla38[[#This Row],[CODIGO municipio]],[3]!Tabla8[#All],18,FALSE),\"\")","v":""},{"$f":"IFERROR(VLOOKUP(Tabla38[[#This Row],[CODIGO municipio]],[3]!Tabla8[#All],19,FALSE),\"\")","v":""},{"$f":"IFERROR(VLOOKUP(Tabla38[[#This Row],[CODIGO municipio]],[3]!Tabla8[#All],20,FALSE),\"\")","v":""},{"$f":"IFERROR(VLOOKUP(Tabla38[[#This Row],[CODIGO municipio]],[3]!Tabla8[#All],21,FALSE),\"\")","v":""},{"$f":"IFERROR(VLOOKUP(Tabla38[[#This Row],[CODIGO municipio]],[3]!Tabla8[#All],22,FALSE),\"\")","v":""},{"$f":"IFERROR(VLOOKUP(Tabla38[[#This Row],[CODIGO municipio]],[3]!Tabla8[#All],23,FALSE),\"\")","v":""},{"$f":"IFERROR(VLOOKUP(Tabla38[[#This Row],[CODIGO municipio]],[3]!Tabla9[#All],3,FALSE),\"\")","v":""}]
[{"$f":"IFERROR(VLOOKUP(Tabla38[[#This Row],[Municipio]],[3]!Tabla2[#All],3,FALSE),\"\")","v":""},1105,"San Felipe",{"$f":"IFERROR(VLOOKUP(Tabla38[[#This Row],[CODIGO municipio]],[3]!Tabla6[[#All],[codigo_mun]],1,FALSE),\"\")","v":""},{"$f":"IFERROR(VLOOKUP(Tabla38[[#This Row],[CODIGO municipio]],[3]!Tabla12[#All],2,FALSE),\"\")","v":""},{"$f":"IFERROR(VLOOKUP(Tabla38[[#This Row],[CODIGO municipio]],[3]!Tabla7[#All],3,FALSE),\"\")","v":""},{"$f":"IFERROR(VLOOKUP(Tabla38[[#This Row],[CODIGO municipio]],[3]!Tabla7[#All],4,FALSE),\"\")","v":""},{"$f":"IFERROR(VLOOKUP(Tabla38[[#This Row],[CODIGO municipio]],[3]!Tabla7[#All],11,FALSE),\"\")","v":""},{"$f":"IFERROR(VLOOKUP(Tabla38[[#This Row],[CODIGO municipio]],[3]!Tabla7[#All],12,FALSE),\"\")","v":""},{"$f":"IFERROR(VLOOKUP(Tabla38[[#This Row],[CODIGO municipio]],[3]!Tabla7[#All],13,FALSE),\"\")","v":""},{"$f":"IFERROR(VLOOKUP(Tabla38[[#This Row],[CODIGO municipio]],[3]!Tabla7[#All],14,FALSE),\"\")","v":""},{"$f":"IFERROR(VLOOKUP(Tabla38[[#This Row],[CODIGO municipio]],[3]!Tabla7[#All],15,FALSE),\"\")","v":""},{"$f":"IFERROR(VLOOKUP(Tabla38[[#This Row],[CODIGO municipio]],[3]!Tabla7[#All],16,FALSE),\"\")","v":""},{"$f":"IFERROR(VLOOKUP(Tabla38[[#This Row],[CODIGO municipio]],[3]!Tabla7[#All],17,FALSE),\"\")","v":""},{"$f":"IFERROR(VLOOKUP(Tabla38[[#This Row],[CODIGO municipio]],[3]!Tabla7[#All],18,FALSE),\"\")","v":""},{"$f":"IFERROR(VLOOKUP(Tabla38[[#This Row],[CODIGO municipio]],[3]!Tabla7[#All],19,FALSE),\"\")","v":""},{"$f":"IFERROR(VLOOKUP(Tabla38[[#This Row],[CODIGO municipio]],[3]!Tabla8[#All],3,FALSE),\"\")","v":""},{"$f":"IFERROR(VLOOKUP(Tabla38[[#This Row],[CODIGO municipio]],[3]!Tabla8[#All],4,FALSE),\"\")","v":""},{"$f":"IFERROR(VLOOKUP(Tabla38[[#This Row],[CODIGO municipio]],[3]!Tabla8[#All],5,FALSE),\"\")","v":""},{"$f":"IFERROR(VLOOKUP(Tabla38[[#This Row],[CODIGO municipio]],[3]!Tabla8[#All],6,FALSE),\"\")","v":""},{"$f":"IFERROR(VLOOKUP(Tabla38[[#This Row],[CODIGO municipio]],[3]!Tabla8[#All],7,FALSE),\"\")","v":""},{"$f":"IFERROR(VLOOKUP(Tabla38[[#This Row],[CODIGO municipio]],[3]!Tabla8[#All],8,FALSE),\"\")","v":""},{"$f":"IFERROR(VLOOKUP(Tabla38[[#This Row],[CODIGO municipio]],[3]!Tabla8[#All],9,FALSE),\"\")","v":""},{"$f":"IFERROR(VLOOKUP(Tabla38[[#This Row],[CODIGO municipio]],[3]!Tabla8[#All],10,FALSE),\"\")","v":""},{"$f":"IFERROR(VLOOKUP(Tabla38[[#This Row],[CODIGO municipio]],[3]!Tabla8[#All],11,FALSE),\"\")","v":""},{"$f":"IFERROR(VLOOKUP(Tabla38[[#This Row],[CODIGO municipio]],[3]!Tabla8[#All],12,FALSE),\"\")","v":""},{"$f":"IFERROR(VLOOKUP(Tabla38[[#This Row],[CODIGO municipio]],[3]!Tabla8[#All],13,FALSE),\"\")","v":""},{"$f":"IFERROR(VLOOKUP(Tabla38[[#This Row],[CODIGO municipio]],[3]!Tabla8[#All],14,FALSE),\"\")","v":""},{"$f":"IFERROR(VLOOKUP(Tabla38[[#This Row],[CODIGO municipio]],[3]!Tabla8[#All],15,FALSE),\"\")","v":""},{"$f":"IFERROR(VLOOKUP(Tabla38[[#This Row],[CODIGO municipio]],[3]!Tabla8[#All],16,FALSE),\"\")","v":""},{"$f":"IFERROR(VLOOKUP(Tabla38[[#This Row],[CODIGO municipio]],[3]!Tabla8[#All],17,FALSE),\"\")","v":""},{"$f":"IFERROR(VLOOKUP(Tabla38[[#This Row],[CODIGO municipio]],[3]!Tabla8[#All],18,FALSE),\"\")","v":""},{"$f":"IFERROR(VLOOKUP(Tabla38[[#This Row],[CODIGO municipio]],[3]!Tabla8[#All],19,FALSE),\"\")","v":""},{"$f":"IFERROR(VLOOKUP(Tabla38[[#This Row],[CODIGO municipio]],[3]!Tabla8[#All],20,FALSE),\"\")","v":""},{"$f":"IFERROR(VLOOKUP(Tabla38[[#This Row],[CODIGO municipio]],[3]!Tabla8[#All],21,FALSE),\"\")","v":""},{"$f":"IFERROR(VLOOKUP(Tabla38[[#This Row],[CODIGO municipio]],[3]!Tabla8[#All],22,FALSE),\"\")","v":""},{"$f":"IFERROR(VLOOKUP(Tabla38[[#This Row],[CODIGO municipio]],[3]!Tabla8[#All],23,FALSE),\"\")","v":""},{"$f":"IFERROR(VLOOKUP(Tabla38[[#This Row],[CODIGO municipio]],[3]!Tabla9[#All],3,FALSE),\"\")","v":""}]
[{"$f":"IFERROR(VLOOKUP(Tabla38[[#This Row],[Municipio]],[3]!Tabla2[#All],3,FALSE),\"\")","v":""},1106,"San Andrés Villa Seca",{"$f":"IFERROR(VLOOKUP(Tabla38[[#This Row],[CODIGO municipio]],[3]!Tabla6[[#All],[codigo_mun]],1,FALSE),\"\")","v":""},{"$f":"IFERROR(VLOOKUP(Tabla38[[#This Row],[CODIGO municipio]],[3]!Tabla12[#All],2,FALSE),\"\")","v":""},{"$f":"IFERROR(VLOOKUP(Tabla38[[#This Row],[CODIGO municipio]],[3]!Tabla7[#All],3,FALSE),\"\")","v":""},{"$f":"IFERROR(VLOOKUP(Tabla38[[#This Row],[CODIGO municipio]],[3]!Tabla7[#All],4,FALSE),\"\")","v":""},{"$f":"IFERROR(VLOOKUP(Tabla38[[#This Row],[CODIGO municipio]],[3]!Tabla7[#All],11,FALSE),\"\")","v":""},{"$f":"IFERROR(VLOOKUP(Tabla38[[#This Row],[CODIGO municipio]],[3]!Tabla7[#All],12,FALSE),\"\")","v":""},{"$f":"IFERROR(VLOOKUP(Tabla38[[#This Row],[CODIGO municipio]],[3]!Tabla7[#All],13,FALSE),\"\")","v":""},{"$f":"IFERROR(VLOOKUP(Tabla38[[#This Row],[CODIGO municipio]],[3]!Tabla7[#All],14,FALSE),\"\")","v":""},{"$f":"IFERROR(VLOOKUP(Tabla38[[#This Row],[CODIGO municipio]],[3]!Tabla7[#All],15,FALSE),\"\")","v":""},{"$f":"IFERROR(VLOOKUP(Tabla38[[#This Row],[CODIGO municipio]],[3]!Tabla7[#All],16,FALSE),\"\")","v":""},{"$f":"IFERROR(VLOOKUP(Tabla38[[#This Row],[CODIGO municipio]],[3]!Tabla7[#All],17,FALSE),\"\")","v":""},{"$f":"IFERROR(VLOOKUP(Tabla38[[#This Row],[CODIGO municipio]],[3]!Tabla7[#All],18,FALSE),\"\")","v":""},{"$f":"IFERROR(VLOOKUP(Tabla38[[#This Row],[CODIGO municipio]],[3]!Tabla7[#All],19,FALSE),\"\")","v":""},{"$f":"IFERROR(VLOOKUP(Tabla38[[#This Row],[CODIGO municipio]],[3]!Tabla8[#All],3,FALSE),\"\")","v":""},{"$f":"IFERROR(VLOOKUP(Tabla38[[#This Row],[CODIGO municipio]],[3]!Tabla8[#All],4,FALSE),\"\")","v":""},{"$f":"IFERROR(VLOOKUP(Tabla38[[#This Row],[CODIGO municipio]],[3]!Tabla8[#All],5,FALSE),\"\")","v":""},{"$f":"IFERROR(VLOOKUP(Tabla38[[#This Row],[CODIGO municipio]],[3]!Tabla8[#All],6,FALSE),\"\")","v":""},{"$f":"IFERROR(VLOOKUP(Tabla38[[#This Row],[CODIGO municipio]],[3]!Tabla8[#All],7,FALSE),\"\")","v":""},{"$f":"IFERROR(VLOOKUP(Tabla38[[#This Row],[CODIGO municipio]],[3]!Tabla8[#All],8,FALSE),\"\")","v":""},{"$f":"IFERROR(VLOOKUP(Tabla38[[#This Row],[CODIGO municipio]],[3]!Tabla8[#All],9,FALSE),\"\")","v":""},{"$f":"IFERROR(VLOOKUP(Tabla38[[#This Row],[CODIGO municipio]],[3]!Tabla8[#All],10,FALSE),\"\")","v":""},{"$f":"IFERROR(VLOOKUP(Tabla38[[#This Row],[CODIGO municipio]],[3]!Tabla8[#All],11,FALSE),\"\")","v":""},{"$f":"IFERROR(VLOOKUP(Tabla38[[#This Row],[CODIGO municipio]],[3]!Tabla8[#All],12,FALSE),\"\")","v":""},{"$f":"IFERROR(VLOOKUP(Tabla38[[#This Row],[CODIGO municipio]],[3]!Tabla8[#All],13,FALSE),\"\")","v":""},{"$f":"IFERROR(VLOOKUP(Tabla38[[#This Row],[CODIGO municipio]],[3]!Tabla8[#All],14,FALSE),\"\")","v":""},{"$f":"IFERROR(VLOOKUP(Tabla38[[#This Row],[CODIGO municipio]],[3]!Tabla8[#All],15,FALSE),\"\")","v":""},{"$f":"IFERROR(VLOOKUP(Tabla38[[#This Row],[CODIGO municipio]],[3]!Tabla8[#All],16,FALSE),\"\")","v":""},{"$f":"IFERROR(VLOOKUP(Tabla38[[#This Row],[CODIGO municipio]],[3]!Tabla8[#All],17,FALSE),\"\")","v":""},{"$f":"IFERROR(VLOOKUP(Tabla38[[#This Row],[CODIGO municipio]],[3]!Tabla8[#All],18,FALSE),\"\")","v":""},{"$f":"IFERROR(VLOOKUP(Tabla38[[#This Row],[CODIGO municipio]],[3]!Tabla8[#All],19,FALSE),\"\")","v":""},{"$f":"IFERROR(VLOOKUP(Tabla38[[#This Row],[CODIGO municipio]],[3]!Tabla8[#All],20,FALSE),\"\")","v":""},{"$f":"IFERROR(VLOOKUP(Tabla38[[#This Row],[CODIGO municipio]],[3]!Tabla8[#All],21,FALSE),\"\")","v":""},{"$f":"IFERROR(VLOOKUP(Tabla38[[#This Row],[CODIGO municipio]],[3]!Tabla8[#All],22,FALSE),\"\")","v":""},{"$f":"IFERROR(VLOOKUP(Tabla38[[#This Row],[CODIGO municipio]],[3]!Tabla8[#All],23,FALSE),\"\")","v":""},{"$f":"IFERROR(VLOOKUP(Tabla38[[#This Row],[CODIGO municipio]],[3]!Tabla9[#All],3,FALSE),\"\")","v":""}]
[{"$f":"IFERROR(VLOOKUP(Tabla38[[#This Row],[Municipio]],[3]!Tabla2[#All],3,FALSE),\"\")","v":""},1107,"Champerico",{"$f":"IFERROR(VLOOKUP(Tabla38[[#This Row],[CODIGO municipio]],[3]!Tabla6[[#All],[codigo_mun]],1,FALSE),\"\")","v":""},{"$f":"IFERROR(VLOOKUP(Tabla38[[#This Row],[CODIGO municipio]],[3]!Tabla12[#All],2,FALSE),\"\")","v":""},{"$f":"IFERROR(VLOOKUP(Tabla38[[#This Row],[CODIGO municipio]],[3]!Tabla7[#All],3,FALSE),\"\")","v":""},{"$f":"IFERROR(VLOOKUP(Tabla38[[#This Row],[CODIGO municipio]],[3]!Tabla7[#All],4,FALSE),\"\")","v":""},{"$f":"IFERROR(VLOOKUP(Tabla38[[#This Row],[CODIGO municipio]],[3]!Tabla7[#All],11,FALSE),\"\")","v":""},{"$f":"IFERROR(VLOOKUP(Tabla38[[#This Row],[CODIGO municipio]],[3]!Tabla7[#All],12,FALSE),\"\")","v":""},{"$f":"IFERROR(VLOOKUP(Tabla38[[#This Row],[CODIGO municipio]],[3]!Tabla7[#All],13,FALSE),\"\")","v":""},{"$f":"IFERROR(VLOOKUP(Tabla38[[#This Row],[CODIGO municipio]],[3]!Tabla7[#All],14,FALSE),\"\")","v":""},{"$f":"IFERROR(VLOOKUP(Tabla38[[#This Row],[CODIGO municipio]],[3]!Tabla7[#All],15,FALSE),\"\")","v":""},{"$f":"IFERROR(VLOOKUP(Tabla38[[#This Row],[CODIGO municipio]],[3]!Tabla7[#All],16,FALSE),\"\")","v":""},{"$f":"IFERROR(VLOOKUP(Tabla38[[#This Row],[CODIGO municipio]],[3]!Tabla7[#All],17,FALSE),\"\")","v":""},{"$f":"IFERROR(VLOOKUP(Tabla38[[#This Row],[CODIGO municipio]],[3]!Tabla7[#All],18,FALSE),\"\")","v":""},{"$f":"IFERROR(VLOOKUP(Tabla38[[#This Row],[CODIGO municipio]],[3]!Tabla7[#All],19,FALSE),\"\")","v":""},{"$f":"IFERROR(VLOOKUP(Tabla38[[#This Row],[CODIGO municipio]],[3]!Tabla8[#All],3,FALSE),\"\")","v":""},{"$f":"IFERROR(VLOOKUP(Tabla38[[#This Row],[CODIGO municipio]],[3]!Tabla8[#All],4,FALSE),\"\")","v":""},{"$f":"IFERROR(VLOOKUP(Tabla38[[#This Row],[CODIGO municipio]],[3]!Tabla8[#All],5,FALSE),\"\")","v":""},{"$f":"IFERROR(VLOOKUP(Tabla38[[#This Row],[CODIGO municipio]],[3]!Tabla8[#All],6,FALSE),\"\")","v":""},{"$f":"IFERROR(VLOOKUP(Tabla38[[#This Row],[CODIGO municipio]],[3]!Tabla8[#All],7,FALSE),\"\")","v":""},{"$f":"IFERROR(VLOOKUP(Tabla38[[#This Row],[CODIGO municipio]],[3]!Tabla8[#All],8,FALSE),\"\")","v":""},{"$f":"IFERROR(VLOOKUP(Tabla38[[#This Row],[CODIGO municipio]],[3]!Tabla8[#All],9,FALSE),\"\")","v":""},{"$f":"IFERROR(VLOOKUP(Tabla38[[#This Row],[CODIGO municipio]],[3]!Tabla8[#All],10,FALSE),\"\")","v":""},{"$f":"IFERROR(VLOOKUP(Tabla38[[#This Row],[CODIGO municipio]],[3]!Tabla8[#All],11,FALSE),\"\")","v":""},{"$f":"IFERROR(VLOOKUP(Tabla38[[#This Row],[CODIGO municipio]],[3]!Tabla8[#All],12,FALSE),\"\")","v":""},{"$f":"IFERROR(VLOOKUP(Tabla38[[#This Row],[CODIGO municipio]],[3]!Tabla8[#All],13,FALSE),\"\")","v":""},{"$f":"IFERROR(VLOOKUP(Tabla38[[#This Row],[CODIGO municipio]],[3]!Tabla8[#All],14,FALSE),\"\")","v":""},{"$f":"IFERROR(VLOOKUP(Tabla38[[#This Row],[CODIGO municipio]],[3]!Tabla8[#All],15,FALSE),\"\")","v":""},{"$f":"IFERROR(VLOOKUP(Tabla38[[#This Row],[CODIGO municipio]],[3]!Tabla8[#All],16,FALSE),\"\")","v":""},{"$f":"IFERROR(VLOOKUP(Tabla38[[#This Row],[CODIGO municipio]],[3]!Tabla8[#All],17,FALSE),\"\")","v":""},{"$f":"IFERROR(VLOOKUP(Tabla38[[#This Row],[CODIGO municipio]],[3]!Tabla8[#All],18,FALSE),\"\")","v":""},{"$f":"IFERROR(VLOOKUP(Tabla38[[#This Row],[CODIGO municipio]],[3]!Tabla8[#All],19,FALSE),\"\")","v":""},{"$f":"IFERROR(VLOOKUP(Tabla38[[#This Row],[CODIGO municipio]],[3]!Tabla8[#All],20,FALSE),\"\")","v":""},{"$f":"IFERROR(VLOOKUP(Tabla38[[#This Row],[CODIGO municipio]],[3]!Tabla8[#All],21,FALSE),\"\")","v":""},{"$f":"IFERROR(VLOOKUP(Tabla38[[#This Row],[CODIGO municipio]],[3]!Tabla8[#All],22,FALSE),\"\")","v":""},{"$f":"IFERROR(VLOOKUP(Tabla38[[#This Row],[CODIGO municipio]],[3]!Tabla8[#All],23,FALSE),\"\")","v":""},{"$f":"IFERROR(VLOOKUP(Tabla38[[#This Row],[CODIGO municipio]],[3]!Tabla9[#All],3,FALSE),\"\")","v":""}]
[{"$f":"IFERROR(VLOOKUP(Tabla38[[#This Row],[Municipio]],[3]!Tabla2[#All],3,FALSE),\"\")","v":""},1108,"Nuevo San Carlos",{"$f":"IFERROR(VLOOKUP(Tabla38[[#This Row],[CODIGO municipio]],[3]!Tabla6[[#All],[codigo_mun]],1,FALSE),\"\")","v":""},{"$f":"IFERROR(VLOOKUP(Tabla38[[#This Row],[CODIGO municipio]],[3]!Tabla12[#All],2,FALSE),\"\")","v":""},{"$f":"IFERROR(VLOOKUP(Tabla38[[#This Row],[CODIGO municipio]],[3]!Tabla7[#All],3,FALSE),\"\")","v":""},{"$f":"IFERROR(VLOOKUP(Tabla38[[#This Row],[CODIGO municipio]],[3]!Tabla7[#All],4,FALSE),\"\")","v":""},{"$f":"IFERROR(VLOOKUP(Tabla38[[#This Row],[CODIGO municipio]],[3]!Tabla7[#All],11,FALSE),\"\")","v":""},{"$f":"IFERROR(VLOOKUP(Tabla38[[#This Row],[CODIGO municipio]],[3]!Tabla7[#All],12,FALSE),\"\")","v":""},{"$f":"IFERROR(VLOOKUP(Tabla38[[#This Row],[CODIGO municipio]],[3]!Tabla7[#All],13,FALSE),\"\")","v":""},{"$f":"IFERROR(VLOOKUP(Tabla38[[#This Row],[CODIGO municipio]],[3]!Tabla7[#All],14,FALSE),\"\")","v":""},{"$f":"IFERROR(VLOOKUP(Tabla38[[#This Row],[CODIGO municipio]],[3]!Tabla7[#All],15,FALSE),\"\")","v":""},{"$f":"IFERROR(VLOOKUP(Tabla38[[#This Row],[CODIGO municipio]],[3]!Tabla7[#All],16,FALSE),\"\")","v":""},{"$f":"IFERROR(VLOOKUP(Tabla38[[#This Row],[CODIGO municipio]],[3]!Tabla7[#All],17,FALSE),\"\")","v":""},{"$f":"IFERROR(VLOOKUP(Tabla38[[#This Row],[CODIGO municipio]],[3]!Tabla7[#All],18,FALSE),\"\")","v":""},{"$f":"IFERROR(VLOOKUP(Tabla38[[#This Row],[CODIGO municipio]],[3]!Tabla7[#All],19,FALSE),\"\")","v":""},{"$f":"IFERROR(VLOOKUP(Tabla38[[#This Row],[CODIGO municipio]],[3]!Tabla8[#All],3,FALSE),\"\")","v":""},{"$f":"IFERROR(VLOOKUP(Tabla38[[#This Row],[CODIGO municipio]],[3]!Tabla8[#All],4,FALSE),\"\")","v":""},{"$f":"IFERROR(VLOOKUP(Tabla38[[#This Row],[CODIGO municipio]],[3]!Tabla8[#All],5,FALSE),\"\")","v":""},{"$f":"IFERROR(VLOOKUP(Tabla38[[#This Row],[CODIGO municipio]],[3]!Tabla8[#All],6,FALSE),\"\")","v":""},{"$f":"IFERROR(VLOOKUP(Tabla38[[#This Row],[CODIGO municipio]],[3]!Tabla8[#All],7,FALSE),\"\")","v":""},{"$f":"IFERROR(VLOOKUP(Tabla38[[#This Row],[CODIGO municipio]],[3]!Tabla8[#All],8,FALSE),\"\")","v":""},{"$f":"IFERROR(VLOOKUP(Tabla38[[#This Row],[CODIGO municipio]],[3]!Tabla8[#All],9,FALSE),\"\")","v":""},{"$f":"IFERROR(VLOOKUP(Tabla38[[#This Row],[CODIGO municipio]],[3]!Tabla8[#All],10,FALSE),\"\")","v":""},{"$f":"IFERROR(VLOOKUP(Tabla38[[#This Row],[CODIGO municipio]],[3]!Tabla8[#All],11,FALSE),\"\")","v":""},{"$f":"IFERROR(VLOOKUP(Tabla38[[#This Row],[CODIGO municipio]],[3]!Tabla8[#All],12,FALSE),\"\")","v":""},{"$f":"IFERROR(VLOOKUP(Tabla38[[#This Row],[CODIGO municipio]],[3]!Tabla8[#All],13,FALSE),\"\")","v":""},{"$f":"IFERROR(VLOOKUP(Tabla38[[#This Row],[CODIGO municipio]],[3]!Tabla8[#All],14,FALSE),\"\")","v":""},{"$f":"IFERROR(VLOOKUP(Tabla38[[#This Row],[CODIGO municipio]],[3]!Tabla8[#All],15,FALSE),\"\")","v":""},{"$f":"IFERROR(VLOOKUP(Tabla38[[#This Row],[CODIGO municipio]],[3]!Tabla8[#All],16,FALSE),\"\")","v":""},{"$f":"IFERROR(VLOOKUP(Tabla38[[#This Row],[CODIGO municipio]],[3]!Tabla8[#All],17,FALSE),\"\")","v":""},{"$f":"IFERROR(VLOOKUP(Tabla38[[#This Row],[CODIGO municipio]],[3]!Tabla8[#All],18,FALSE),\"\")","v":""},{"$f":"IFERROR(VLOOKUP(Tabla38[[#This Row],[CODIGO municipio]],[3]!Tabla8[#All],19,FALSE),\"\")","v":""},{"$f":"IFERROR(VLOOKUP(Tabla38[[#This Row],[CODIGO municipio]],[3]!Tabla8[#All],20,FALSE),\"\")","v":""},{"$f":"IFERROR(VLOOKUP(Tabla38[[#This Row],[CODIGO municipio]],[3]!Tabla8[#All],21,FALSE),\"\")","v":""},{"$f":"IFERROR(VLOOKUP(Tabla38[[#This Row],[CODIGO municipio]],[3]!Tabla8[#All],22,FALSE),\"\")","v":""},{"$f":"IFERROR(VLOOKUP(Tabla38[[#This Row],[CODIGO municipio]],[3]!Tabla8[#All],23,FALSE),\"\")","v":""},{"$f":"IFERROR(VLOOKUP(Tabla38[[#This Row],[CODIGO municipio]],[3]!Tabla9[#All],3,FALSE),\"\")","v":""}]
[{"$f":"IFERROR(VLOOKUP(Tabla38[[#This Row],[Municipio]],[3]!Tabla2[#All],3,FALSE),\"\")","v":""},1109,"El Asintal",{"$f":"IFERROR(VLOOKUP(Tabla38[[#This Row],[CODIGO municipio]],[3]!Tabla6[[#All],[codigo_mun]],1,FALSE),\"\")","v":""},{"$f":"IFERROR(VLOOKUP(Tabla38[[#This Row],[CODIGO municipio]],[3]!Tabla12[#All],2,FALSE),\"\")","v":""},{"$f":"IFERROR(VLOOKUP(Tabla38[[#This Row],[CODIGO municipio]],[3]!Tabla7[#All],3,FALSE),\"\")","v":""},{"$f":"IFERROR(VLOOKUP(Tabla38[[#This Row],[CODIGO municipio]],[3]!Tabla7[#All],4,FALSE),\"\")","v":""},{"$f":"IFERROR(VLOOKUP(Tabla38[[#This Row],[CODIGO municipio]],[3]!Tabla7[#All],11,FALSE),\"\")","v":""},{"$f":"IFERROR(VLOOKUP(Tabla38[[#This Row],[CODIGO municipio]],[3]!Tabla7[#All],12,FALSE),\"\")","v":""},{"$f":"IFERROR(VLOOKUP(Tabla38[[#This Row],[CODIGO municipio]],[3]!Tabla7[#All],13,FALSE),\"\")","v":""},{"$f":"IFERROR(VLOOKUP(Tabla38[[#This Row],[CODIGO municipio]],[3]!Tabla7[#All],14,FALSE),\"\")","v":""},{"$f":"IFERROR(VLOOKUP(Tabla38[[#This Row],[CODIGO municipio]],[3]!Tabla7[#All],15,FALSE),\"\")","v":""},{"$f":"IFERROR(VLOOKUP(Tabla38[[#This Row],[CODIGO municipio]],[3]!Tabla7[#All],16,FALSE),\"\")","v":""},{"$f":"IFERROR(VLOOKUP(Tabla38[[#This Row],[CODIGO municipio]],[3]!Tabla7[#All],17,FALSE),\"\")","v":""},{"$f":"IFERROR(VLOOKUP(Tabla38[[#This Row],[CODIGO municipio]],[3]!Tabla7[#All],18,FALSE),\"\")","v":""},{"$f":"IFERROR(VLOOKUP(Tabla38[[#This Row],[CODIGO municipio]],[3]!Tabla7[#All],19,FALSE),\"\")","v":""},{"$f":"IFERROR(VLOOKUP(Tabla38[[#This Row],[CODIGO municipio]],[3]!Tabla8[#All],3,FALSE),\"\")","v":""},{"$f":"IFERROR(VLOOKUP(Tabla38[[#This Row],[CODIGO municipio]],[3]!Tabla8[#All],4,FALSE),\"\")","v":""},{"$f":"IFERROR(VLOOKUP(Tabla38[[#This Row],[CODIGO municipio]],[3]!Tabla8[#All],5,FALSE),\"\")","v":""},{"$f":"IFERROR(VLOOKUP(Tabla38[[#This Row],[CODIGO municipio]],[3]!Tabla8[#All],6,FALSE),\"\")","v":""},{"$f":"IFERROR(VLOOKUP(Tabla38[[#This Row],[CODIGO municipio]],[3]!Tabla8[#All],7,FALSE),\"\")","v":""},{"$f":"IFERROR(VLOOKUP(Tabla38[[#This Row],[CODIGO municipio]],[3]!Tabla8[#All],8,FALSE),\"\")","v":""},{"$f":"IFERROR(VLOOKUP(Tabla38[[#This Row],[CODIGO municipio]],[3]!Tabla8[#All],9,FALSE),\"\")","v":""},{"$f":"IFERROR(VLOOKUP(Tabla38[[#This Row],[CODIGO municipio]],[3]!Tabla8[#All],10,FALSE),\"\")","v":""},{"$f":"IFERROR(VLOOKUP(Tabla38[[#This Row],[CODIGO municipio]],[3]!Tabla8[#All],11,FALSE),\"\")","v":""},{"$f":"IFERROR(VLOOKUP(Tabla38[[#This Row],[CODIGO municipio]],[3]!Tabla8[#All],12,FALSE),\"\")","v":""},{"$f":"IFERROR(VLOOKUP(Tabla38[[#This Row],[CODIGO municipio]],[3]!Tabla8[#All],13,FALSE),\"\")","v":""},{"$f":"IFERROR(VLOOKUP(Tabla38[[#This Row],[CODIGO municipio]],[3]!Tabla8[#All],14,FALSE),\"\")","v":""},{"$f":"IFERROR(VLOOKUP(Tabla38[[#This Row],[CODIGO municipio]],[3]!Tabla8[#All],15,FALSE),\"\")","v":""},{"$f":"IFERROR(VLOOKUP(Tabla38[[#This Row],[CODIGO municipio]],[3]!Tabla8[#All],16,FALSE),\"\")","v":""},{"$f":"IFERROR(VLOOKUP(Tabla38[[#This Row],[CODIGO municipio]],[3]!Tabla8[#All],17,FALSE),\"\")","v":""},{"$f":"IFERROR(VLOOKUP(Tabla38[[#This Row],[CODIGO municipio]],[3]!Tabla8[#All],18,FALSE),\"\")","v":""},{"$f":"IFERROR(VLOOKUP(Tabla38[[#This Row],[CODIGO municipio]],[3]!Tabla8[#All],19,FALSE),\"\")","v":""},{"$f":"IFERROR(VLOOKUP(Tabla38[[#This Row],[CODIGO municipio]],[3]!Tabla8[#All],20,FALSE),\"\")","v":""},{"$f":"IFERROR(VLOOKUP(Tabla38[[#This Row],[CODIGO municipio]],[3]!Tabla8[#All],21,FALSE),\"\")","v":""},{"$f":"IFERROR(VLOOKUP(Tabla38[[#This Row],[CODIGO municipio]],[3]!Tabla8[#All],22,FALSE),\"\")","v":""},{"$f":"IFERROR(VLOOKUP(Tabla38[[#This Row],[CODIGO municipio]],[3]!Tabla8[#All],23,FALSE),\"\")","v":""},{"$f":"IFERROR(VLOOKUP(Tabla38[[#This Row],[CODIGO municipio]],[3]!Tabla9[#All],3,FALSE),\"\")","v":""}]
[{"$f":"IFERROR(VLOOKUP(Tabla38[[#This Row],[Municipio]],[3]!Tabla2[#All],3,FALSE),\"\")","v":""},1201,"San Marcos",{"$f":"IFERROR(VLOOKUP(Tabla38[[#This Row],[CODIGO municipio]],[3]!Tabla6[[#All],[codigo_mun]],1,FALSE),\"\")","v":""},{"$f":"IFERROR(VLOOKUP(Tabla38[[#This Row],[CODIGO municipio]],[3]!Tabla12[#All],2,FALSE),\"\")","v":""},{"$f":"IFERROR(VLOOKUP(Tabla38[[#This Row],[CODIGO municipio]],[3]!Tabla7[#All],3,FALSE),\"\")","v":""},{"$f":"IFERROR(VLOOKUP(Tabla38[[#This Row],[CODIGO municipio]],[3]!Tabla7[#All],4,FALSE),\"\")","v":""},{"$f":"IFERROR(VLOOKUP(Tabla38[[#This Row],[CODIGO municipio]],[3]!Tabla7[#All],11,FALSE),\"\")","v":""},{"$f":"IFERROR(VLOOKUP(Tabla38[[#This Row],[CODIGO municipio]],[3]!Tabla7[#All],12,FALSE),\"\")","v":""},{"$f":"IFERROR(VLOOKUP(Tabla38[[#This Row],[CODIGO municipio]],[3]!Tabla7[#All],13,FALSE),\"\")","v":""},{"$f":"IFERROR(VLOOKUP(Tabla38[[#This Row],[CODIGO municipio]],[3]!Tabla7[#All],14,FALSE),\"\")","v":""},{"$f":"IFERROR(VLOOKUP(Tabla38[[#This Row],[CODIGO municipio]],[3]!Tabla7[#All],15,FALSE),\"\")","v":""},{"$f":"IFERROR(VLOOKUP(Tabla38[[#This Row],[CODIGO municipio]],[3]!Tabla7[#All],16,FALSE),\"\")","v":""},{"$f":"IFERROR(VLOOKUP(Tabla38[[#This Row],[CODIGO municipio]],[3]!Tabla7[#All],17,FALSE),\"\")","v":""},{"$f":"IFERROR(VLOOKUP(Tabla38[[#This Row],[CODIGO municipio]],[3]!Tabla7[#All],18,FALSE),\"\")","v":""},{"$f":"IFERROR(VLOOKUP(Tabla38[[#This Row],[CODIGO municipio]],[3]!Tabla7[#All],19,FALSE),\"\")","v":""},{"$f":"IFERROR(VLOOKUP(Tabla38[[#This Row],[CODIGO municipio]],[3]!Tabla8[#All],3,FALSE),\"\")","v":""},{"$f":"IFERROR(VLOOKUP(Tabla38[[#This Row],[CODIGO municipio]],[3]!Tabla8[#All],4,FALSE),\"\")","v":""},{"$f":"IFERROR(VLOOKUP(Tabla38[[#This Row],[CODIGO municipio]],[3]!Tabla8[#All],5,FALSE),\"\")","v":""},{"$f":"IFERROR(VLOOKUP(Tabla38[[#This Row],[CODIGO municipio]],[3]!Tabla8[#All],6,FALSE),\"\")","v":""},{"$f":"IFERROR(VLOOKUP(Tabla38[[#This Row],[CODIGO municipio]],[3]!Tabla8[#All],7,FALSE),\"\")","v":""},{"$f":"IFERROR(VLOOKUP(Tabla38[[#This Row],[CODIGO municipio]],[3]!Tabla8[#All],8,FALSE),\"\")","v":""},{"$f":"IFERROR(VLOOKUP(Tabla38[[#This Row],[CODIGO municipio]],[3]!Tabla8[#All],9,FALSE),\"\")","v":""},{"$f":"IFERROR(VLOOKUP(Tabla38[[#This Row],[CODIGO municipio]],[3]!Tabla8[#All],10,FALSE),\"\")","v":""},{"$f":"IFERROR(VLOOKUP(Tabla38[[#This Row],[CODIGO municipio]],[3]!Tabla8[#All],11,FALSE),\"\")","v":""},{"$f":"IFERROR(VLOOKUP(Tabla38[[#This Row],[CODIGO municipio]],[3]!Tabla8[#All],12,FALSE),\"\")","v":""},{"$f":"IFERROR(VLOOKUP(Tabla38[[#This Row],[CODIGO municipio]],[3]!Tabla8[#All],13,FALSE),\"\")","v":""},{"$f":"IFERROR(VLOOKUP(Tabla38[[#This Row],[CODIGO municipio]],[3]!Tabla8[#All],14,FALSE),\"\")","v":""},{"$f":"IFERROR(VLOOKUP(Tabla38[[#This Row],[CODIGO municipio]],[3]!Tabla8[#All],15,FALSE),\"\")","v":""},{"$f":"IFERROR(VLOOKUP(Tabla38[[#This Row],[CODIGO municipio]],[3]!Tabla8[#All],16,FALSE),\"\")","v":""},{"$f":"IFERROR(VLOOKUP(Tabla38[[#This Row],[CODIGO municipio]],[3]!Tabla8[#All],17,FALSE),\"\")","v":""},{"$f":"IFERROR(VLOOKUP(Tabla38[[#This Row],[CODIGO municipio]],[3]!Tabla8[#All],18,FALSE),\"\")","v":""},{"$f":"IFERROR(VLOOKUP(Tabla38[[#This Row],[CODIGO municipio]],[3]!Tabla8[#All],19,FALSE),\"\")","v":""},{"$f":"IFERROR(VLOOKUP(Tabla38[[#This Row],[CODIGO municipio]],[3]!Tabla8[#All],20,FALSE),\"\")","v":""},{"$f":"IFERROR(VLOOKUP(Tabla38[[#This Row],[CODIGO municipio]],[3]!Tabla8[#All],21,FALSE),\"\")","v":""},{"$f":"IFERROR(VLOOKUP(Tabla38[[#This Row],[CODIGO municipio]],[3]!Tabla8[#All],22,FALSE),\"\")","v":""},{"$f":"IFERROR(VLOOKUP(Tabla38[[#This Row],[CODIGO municipio]],[3]!Tabla8[#All],23,FALSE),\"\")","v":""},{"$f":"IFERROR(VLOOKUP(Tabla38[[#This Row],[CODIGO municipio]],[3]!Tabla9[#All],3,FALSE),\"\")","v":""}]
[{"$f":"IFERROR(VLOOKUP(Tabla38[[#This Row],[Municipio]],[3]!Tabla2[#All],3,FALSE),\"\")","v":""},1202,"San Pedro Sacatepéquez",{"$f":"IFERROR(VLOOKUP(Tabla38[[#This Row],[CODIGO municipio]],[3]!Tabla6[[#All],[codigo_mun]],1,FALSE),\"\")","v":""},{"$f":"IFERROR(VLOOKUP(Tabla38[[#This Row],[CODIGO municipio]],[3]!Tabla12[#All],2,FALSE),\"\")","v":""},{"$f":"IFERROR(VLOOKUP(Tabla38[[#This Row],[CODIGO municipio]],[3]!Tabla7[#All],3,FALSE),\"\")","v":""},{"$f":"IFERROR(VLOOKUP(Tabla38[[#This Row],[CODIGO municipio]],[3]!Tabla7[#All],4,FALSE),\"\")","v":""},{"$f":"IFERROR(VLOOKUP(Tabla38[[#This Row],[CODIGO municipio]],[3]!Tabla7[#All],11,FALSE),\"\")","v":""},{"$f":"IFERROR(VLOOKUP(Tabla38[[#This Row],[CODIGO municipio]],[3]!Tabla7[#All],12,FALSE),\"\")","v":""},{"$f":"IFERROR(VLOOKUP(Tabla38[[#This Row],[CODIGO municipio]],[3]!Tabla7[#All],13,FALSE),\"\")","v":""},{"$f":"IFERROR(VLOOKUP(Tabla38[[#This Row],[CODIGO municipio]],[3]!Tabla7[#All],14,FALSE),\"\")","v":""},{"$f":"IFERROR(VLOOKUP(Tabla38[[#This Row],[CODIGO municipio]],[3]!Tabla7[#All],15,FALSE),\"\")","v":""},{"$f":"IFERROR(VLOOKUP(Tabla38[[#This Row],[CODIGO municipio]],[3]!Tabla7[#All],16,FALSE),\"\")","v":""},{"$f":"IFERROR(VLOOKUP(Tabla38[[#This Row],[CODIGO municipio]],[3]!Tabla7[#All],17,FALSE),\"\")","v":""},{"$f":"IFERROR(VLOOKUP(Tabla38[[#This Row],[CODIGO municipio]],[3]!Tabla7[#All],18,FALSE),\"\")","v":""},{"$f":"IFERROR(VLOOKUP(Tabla38[[#This Row],[CODIGO municipio]],[3]!Tabla7[#All],19,FALSE),\"\")","v":""},{"$f":"IFERROR(VLOOKUP(Tabla38[[#This Row],[CODIGO municipio]],[3]!Tabla8[#All],3,FALSE),\"\")","v":""},{"$f":"IFERROR(VLOOKUP(Tabla38[[#This Row],[CODIGO municipio]],[3]!Tabla8[#All],4,FALSE),\"\")","v":""},{"$f":"IFERROR(VLOOKUP(Tabla38[[#This Row],[CODIGO municipio]],[3]!Tabla8[#All],5,FALSE),\"\")","v":""},{"$f":"IFERROR(VLOOKUP(Tabla38[[#This Row],[CODIGO municipio]],[3]!Tabla8[#All],6,FALSE),\"\")","v":""},{"$f":"IFERROR(VLOOKUP(Tabla38[[#This Row],[CODIGO municipio]],[3]!Tabla8[#All],7,FALSE),\"\")","v":""},{"$f":"IFERROR(VLOOKUP(Tabla38[[#This Row],[CODIGO municipio]],[3]!Tabla8[#All],8,FALSE),\"\")","v":""},{"$f":"IFERROR(VLOOKUP(Tabla38[[#This Row],[CODIGO municipio]],[3]!Tabla8[#All],9,FALSE),\"\")","v":""},{"$f":"IFERROR(VLOOKUP(Tabla38[[#This Row],[CODIGO municipio]],[3]!Tabla8[#All],10,FALSE),\"\")","v":""},{"$f":"IFERROR(VLOOKUP(Tabla38[[#This Row],[CODIGO municipio]],[3]!Tabla8[#All],11,FALSE),\"\")","v":""},{"$f":"IFERROR(VLOOKUP(Tabla38[[#This Row],[CODIGO municipio]],[3]!Tabla8[#All],12,FALSE),\"\")","v":""},{"$f":"IFERROR(VLOOKUP(Tabla38[[#This Row],[CODIGO municipio]],[3]!Tabla8[#All],13,FALSE),\"\")","v":""},{"$f":"IFERROR(VLOOKUP(Tabla38[[#This Row],[CODIGO municipio]],[3]!Tabla8[#All],14,FALSE),\"\")","v":""},{"$f":"IFERROR(VLOOKUP(Tabla38[[#This Row],[CODIGO municipio]],[3]!Tabla8[#All],15,FALSE),\"\")","v":""},{"$f":"IFERROR(VLOOKUP(Tabla38[[#This Row],[CODIGO municipio]],[3]!Tabla8[#All],16,FALSE),\"\")","v":""},{"$f":"IFERROR(VLOOKUP(Tabla38[[#This Row],[CODIGO municipio]],[3]!Tabla8[#All],17,FALSE),\"\")","v":""},{"$f":"IFERROR(VLOOKUP(Tabla38[[#This Row],[CODIGO municipio]],[3]!Tabla8[#All],18,FALSE),\"\")","v":""},{"$f":"IFERROR(VLOOKUP(Tabla38[[#This Row],[CODIGO municipio]],[3]!Tabla8[#All],19,FALSE),\"\")","v":""},{"$f":"IFERROR(VLOOKUP(Tabla38[[#This Row],[CODIGO municipio]],[3]!Tabla8[#All],20,FALSE),\"\")","v":""},{"$f":"IFERROR(VLOOKUP(Tabla38[[#This Row],[CODIGO municipio]],[3]!Tabla8[#All],21,FALSE),\"\")","v":""},{"$f":"IFERROR(VLOOKUP(Tabla38[[#This Row],[CODIGO municipio]],[3]!Tabla8[#All],22,FALSE),\"\")","v":""},{"$f":"IFERROR(VLOOKUP(Tabla38[[#This Row],[CODIGO municipio]],[3]!Tabla8[#All],23,FALSE),\"\")","v":""},{"$f":"IFERROR(VLOOKUP(Tabla38[[#This Row],[CODIGO municipio]],[3]!Tabla9[#All],3,FALSE),\"\")","v":""}]
[{"$f":"IFERROR(VLOOKUP(Tabla38[[#This Row],[Municipio]],[3]!Tabla2[#All],3,FALSE),\"\")","v":""},1203,"San Antonio Sacatepéquez",{"$f":"IFERROR(VLOOKUP(Tabla38[[#This Row],[CODIGO municipio]],[3]!Tabla6[[#All],[codigo_mun]],1,FALSE),\"\")","v":""},{"$f":"IFERROR(VLOOKUP(Tabla38[[#This Row],[CODIGO municipio]],[3]!Tabla12[#All],2,FALSE),\"\")","v":""},{"$f":"IFERROR(VLOOKUP(Tabla38[[#This Row],[CODIGO municipio]],[3]!Tabla7[#All],3,FALSE),\"\")","v":""},{"$f":"IFERROR(VLOOKUP(Tabla38[[#This Row],[CODIGO municipio]],[3]!Tabla7[#All],4,FALSE),\"\")","v":""},{"$f":"IFERROR(VLOOKUP(Tabla38[[#This Row],[CODIGO municipio]],[3]!Tabla7[#All],11,FALSE),\"\")","v":""},{"$f":"IFERROR(VLOOKUP(Tabla38[[#This Row],[CODIGO municipio]],[3]!Tabla7[#All],12,FALSE),\"\")","v":""},{"$f":"IFERROR(VLOOKUP(Tabla38[[#This Row],[CODIGO municipio]],[3]!Tabla7[#All],13,FALSE),\"\")","v":""},{"$f":"IFERROR(VLOOKUP(Tabla38[[#This Row],[CODIGO municipio]],[3]!Tabla7[#All],14,FALSE),\"\")","v":""},{"$f":"IFERROR(VLOOKUP(Tabla38[[#This Row],[CODIGO municipio]],[3]!Tabla7[#All],15,FALSE),\"\")","v":""},{"$f":"IFERROR(VLOOKUP(Tabla38[[#This Row],[CODIGO municipio]],[3]!Tabla7[#All],16,FALSE),\"\")","v":""},{"$f":"IFERROR(VLOOKUP(Tabla38[[#This Row],[CODIGO municipio]],[3]!Tabla7[#All],17,FALSE),\"\")","v":""},{"$f":"IFERROR(VLOOKUP(Tabla38[[#This Row],[CODIGO municipio]],[3]!Tabla7[#All],18,FALSE),\"\")","v":""},{"$f":"IFERROR(VLOOKUP(Tabla38[[#This Row],[CODIGO municipio]],[3]!Tabla7[#All],19,FALSE),\"\")","v":""},{"$f":"IFERROR(VLOOKUP(Tabla38[[#This Row],[CODIGO municipio]],[3]!Tabla8[#All],3,FALSE),\"\")","v":""},{"$f":"IFERROR(VLOOKUP(Tabla38[[#This Row],[CODIGO municipio]],[3]!Tabla8[#All],4,FALSE),\"\")","v":""},{"$f":"IFERROR(VLOOKUP(Tabla38[[#This Row],[CODIGO municipio]],[3]!Tabla8[#All],5,FALSE),\"\")","v":""},{"$f":"IFERROR(VLOOKUP(Tabla38[[#This Row],[CODIGO municipio]],[3]!Tabla8[#All],6,FALSE),\"\")","v":""},{"$f":"IFERROR(VLOOKUP(Tabla38[[#This Row],[CODIGO municipio]],[3]!Tabla8[#All],7,FALSE),\"\")","v":""},{"$f":"IFERROR(VLOOKUP(Tabla38[[#This Row],[CODIGO municipio]],[3]!Tabla8[#All],8,FALSE),\"\")","v":""},{"$f":"IFERROR(VLOOKUP(Tabla38[[#This Row],[CODIGO municipio]],[3]!Tabla8[#All],9,FALSE),\"\")","v":""},{"$f":"IFERROR(VLOOKUP(Tabla38[[#This Row],[CODIGO municipio]],[3]!Tabla8[#All],10,FALSE),\"\")","v":""},{"$f":"IFERROR(VLOOKUP(Tabla38[[#This Row],[CODIGO municipio]],[3]!Tabla8[#All],11,FALSE),\"\")","v":""},{"$f":"IFERROR(VLOOKUP(Tabla38[[#This Row],[CODIGO municipio]],[3]!Tabla8[#All],12,FALSE),\"\")","v":""},{"$f":"IFERROR(VLOOKUP(Tabla38[[#This Row],[CODIGO municipio]],[3]!Tabla8[#All],13,FALSE),\"\")","v":""},{"$f":"IFERROR(VLOOKUP(Tabla38[[#This Row],[CODIGO municipio]],[3]!Tabla8[#All],14,FALSE),\"\")","v":""},{"$f":"IFERROR(VLOOKUP(Tabla38[[#This Row],[CODIGO municipio]],[3]!Tabla8[#All],15,FALSE),\"\")","v":""},{"$f":"IFERROR(VLOOKUP(Tabla38[[#This Row],[CODIGO municipio]],[3]!Tabla8[#All],16,FALSE),\"\")","v":""},{"$f":"IFERROR(VLOOKUP(Tabla38[[#This Row],[CODIGO municipio]],[3]!Tabla8[#All],17,FALSE),\"\")","v":""},{"$f":"IFERROR(VLOOKUP(Tabla38[[#This Row],[CODIGO municipio]],[3]!Tabla8[#All],18,FALSE),\"\")","v":""},{"$f":"IFERROR(VLOOKUP(Tabla38[[#This Row],[CODIGO municipio]],[3]!Tabla8[#All],19,FALSE),\"\")","v":""},{"$f":"IFERROR(VLOOKUP(Tabla38[[#This Row],[CODIGO municipio]],[3]!Tabla8[#All],20,FALSE),\"\")","v":""},{"$f":"IFERROR(VLOOKUP(Tabla38[[#This Row],[CODIGO municipio]],[3]!Tabla8[#All],21,FALSE),\"\")","v":""},{"$f":"IFERROR(VLOOKUP(Tabla38[[#This Row],[CODIGO municipio]],[3]!Tabla8[#All],22,FALSE),\"\")","v":""},{"$f":"IFERROR(VLOOKUP(Tabla38[[#This Row],[CODIGO municipio]],[3]!Tabla8[#All],23,FALSE),\"\")","v":""},{"$f":"IFERROR(VLOOKUP(Tabla38[[#This Row],[CODIGO municipio]],[3]!Tabla9[#All],3,FALSE),\"\")","v":""}]
[{"$f":"IFERROR(VLOOKUP(Tabla38[[#This Row],[Municipio]],[3]!Tabla2[#All],3,FALSE),\"\")","v":""},1204,"Comitancillo",{"$f":"IFERROR(VLOOKUP(Tabla38[[#This Row],[CODIGO municipio]],[3]!Tabla6[[#All],[codigo_mun]],1,FALSE),\"\")","v":""},{"$f":"IFERROR(VLOOKUP(Tabla38[[#This Row],[CODIGO municipio]],[3]!Tabla12[#All],2,FALSE),\"\")","v":""},{"$f":"IFERROR(VLOOKUP(Tabla38[[#This Row],[CODIGO municipio]],[3]!Tabla7[#All],3,FALSE),\"\")","v":""},{"$f":"IFERROR(VLOOKUP(Tabla38[[#This Row],[CODIGO municipio]],[3]!Tabla7[#All],4,FALSE),\"\")","v":""},{"$f":"IFERROR(VLOOKUP(Tabla38[[#This Row],[CODIGO municipio]],[3]!Tabla7[#All],11,FALSE),\"\")","v":""},{"$f":"IFERROR(VLOOKUP(Tabla38[[#This Row],[CODIGO municipio]],[3]!Tabla7[#All],12,FALSE),\"\")","v":""},{"$f":"IFERROR(VLOOKUP(Tabla38[[#This Row],[CODIGO municipio]],[3]!Tabla7[#All],13,FALSE),\"\")","v":""},{"$f":"IFERROR(VLOOKUP(Tabla38[[#This Row],[CODIGO municipio]],[3]!Tabla7[#All],14,FALSE),\"\")","v":""},{"$f":"IFERROR(VLOOKUP(Tabla38[[#This Row],[CODIGO municipio]],[3]!Tabla7[#All],15,FALSE),\"\")","v":""},{"$f":"IFERROR(VLOOKUP(Tabla38[[#This Row],[CODIGO municipio]],[3]!Tabla7[#All],16,FALSE),\"\")","v":""},{"$f":"IFERROR(VLOOKUP(Tabla38[[#This Row],[CODIGO municipio]],[3]!Tabla7[#All],17,FALSE),\"\")","v":""},{"$f":"IFERROR(VLOOKUP(Tabla38[[#This Row],[CODIGO municipio]],[3]!Tabla7[#All],18,FALSE),\"\")","v":""},{"$f":"IFERROR(VLOOKUP(Tabla38[[#This Row],[CODIGO municipio]],[3]!Tabla7[#All],19,FALSE),\"\")","v":""},{"$f":"IFERROR(VLOOKUP(Tabla38[[#This Row],[CODIGO municipio]],[3]!Tabla8[#All],3,FALSE),\"\")","v":""},{"$f":"IFERROR(VLOOKUP(Tabla38[[#This Row],[CODIGO municipio]],[3]!Tabla8[#All],4,FALSE),\"\")","v":""},{"$f":"IFERROR(VLOOKUP(Tabla38[[#This Row],[CODIGO municipio]],[3]!Tabla8[#All],5,FALSE),\"\")","v":""},{"$f":"IFERROR(VLOOKUP(Tabla38[[#This Row],[CODIGO municipio]],[3]!Tabla8[#All],6,FALSE),\"\")","v":""},{"$f":"IFERROR(VLOOKUP(Tabla38[[#This Row],[CODIGO municipio]],[3]!Tabla8[#All],7,FALSE),\"\")","v":""},{"$f":"IFERROR(VLOOKUP(Tabla38[[#This Row],[CODIGO municipio]],[3]!Tabla8[#All],8,FALSE),\"\")","v":""},{"$f":"IFERROR(VLOOKUP(Tabla38[[#This Row],[CODIGO municipio]],[3]!Tabla8[#All],9,FALSE),\"\")","v":""},{"$f":"IFERROR(VLOOKUP(Tabla38[[#This Row],[CODIGO municipio]],[3]!Tabla8[#All],10,FALSE),\"\")","v":""},{"$f":"IFERROR(VLOOKUP(Tabla38[[#This Row],[CODIGO municipio]],[3]!Tabla8[#All],11,FALSE),\"\")","v":""},{"$f":"IFERROR(VLOOKUP(Tabla38[[#This Row],[CODIGO municipio]],[3]!Tabla8[#All],12,FALSE),\"\")","v":""},{"$f":"IFERROR(VLOOKUP(Tabla38[[#This Row],[CODIGO municipio]],[3]!Tabla8[#All],13,FALSE),\"\")","v":""},{"$f":"IFERROR(VLOOKUP(Tabla38[[#This Row],[CODIGO municipio]],[3]!Tabla8[#All],14,FALSE),\"\")","v":""},{"$f":"IFERROR(VLOOKUP(Tabla38[[#This Row],[CODIGO municipio]],[3]!Tabla8[#All],15,FALSE),\"\")","v":""},{"$f":"IFERROR(VLOOKUP(Tabla38[[#This Row],[CODIGO municipio]],[3]!Tabla8[#All],16,FALSE),\"\")","v":""},{"$f":"IFERROR(VLOOKUP(Tabla38[[#This Row],[CODIGO municipio]],[3]!Tabla8[#All],17,FALSE),\"\")","v":""},{"$f":"IFERROR(VLOOKUP(Tabla38[[#This Row],[CODIGO municipio]],[3]!Tabla8[#All],18,FALSE),\"\")","v":""},{"$f":"IFERROR(VLOOKUP(Tabla38[[#This Row],[CODIGO municipio]],[3]!Tabla8[#All],19,FALSE),\"\")","v":""},{"$f":"IFERROR(VLOOKUP(Tabla38[[#This Row],[CODIGO municipio]],[3]!Tabla8[#All],20,FALSE),\"\")","v":""},{"$f":"IFERROR(VLOOKUP(Tabla38[[#This Row],[CODIGO municipio]],[3]!Tabla8[#All],21,FALSE),\"\")","v":""},{"$f":"IFERROR(VLOOKUP(Tabla38[[#This Row],[CODIGO municipio]],[3]!Tabla8[#All],22,FALSE),\"\")","v":""},{"$f":"IFERROR(VLOOKUP(Tabla38[[#This Row],[CODIGO municipio]],[3]!Tabla8[#All],23,FALSE),\"\")","v":""},{"$f":"IFERROR(VLOOKUP(Tabla38[[#This Row],[CODIGO municipio]],[3]!Tabla9[#All],3,FALSE),\"\")","v":""}]
[{"$f":"IFERROR(VLOOKUP(Tabla38[[#This Row],[Municipio]],[3]!Tabla2[#All],3,FALSE),\"\")","v":""},1205,"San Miguel Ixtahuacán",{"$f":"IFERROR(VLOOKUP(Tabla38[[#This Row],[CODIGO municipio]],[3]!Tabla6[[#All],[codigo_mun]],1,FALSE),\"\")","v":""},{"$f":"IFERROR(VLOOKUP(Tabla38[[#This Row],[CODIGO municipio]],[3]!Tabla12[#All],2,FALSE),\"\")","v":""},{"$f":"IFERROR(VLOOKUP(Tabla38[[#This Row],[CODIGO municipio]],[3]!Tabla7[#All],3,FALSE),\"\")","v":""},{"$f":"IFERROR(VLOOKUP(Tabla38[[#This Row],[CODIGO municipio]],[3]!Tabla7[#All],4,FALSE),\"\")","v":""},{"$f":"IFERROR(VLOOKUP(Tabla38[[#This Row],[CODIGO municipio]],[3]!Tabla7[#All],11,FALSE),\"\")","v":""},{"$f":"IFERROR(VLOOKUP(Tabla38[[#This Row],[CODIGO municipio]],[3]!Tabla7[#All],12,FALSE),\"\")","v":""},{"$f":"IFERROR(VLOOKUP(Tabla38[[#This Row],[CODIGO municipio]],[3]!Tabla7[#All],13,FALSE),\"\")","v":""},{"$f":"IFERROR(VLOOKUP(Tabla38[[#This Row],[CODIGO municipio]],[3]!Tabla7[#All],14,FALSE),\"\")","v":""},{"$f":"IFERROR(VLOOKUP(Tabla38[[#This Row],[CODIGO municipio]],[3]!Tabla7[#All],15,FALSE),\"\")","v":""},{"$f":"IFERROR(VLOOKUP(Tabla38[[#This Row],[CODIGO municipio]],[3]!Tabla7[#All],16,FALSE),\"\")","v":""},{"$f":"IFERROR(VLOOKUP(Tabla38[[#This Row],[CODIGO municipio]],[3]!Tabla7[#All],17,FALSE),\"\")","v":""},{"$f":"IFERROR(VLOOKUP(Tabla38[[#This Row],[CODIGO municipio]],[3]!Tabla7[#All],18,FALSE),\"\")","v":""},{"$f":"IFERROR(VLOOKUP(Tabla38[[#This Row],[CODIGO municipio]],[3]!Tabla7[#All],19,FALSE),\"\")","v":""},{"$f":"IFERROR(VLOOKUP(Tabla38[[#This Row],[CODIGO municipio]],[3]!Tabla8[#All],3,FALSE),\"\")","v":""},{"$f":"IFERROR(VLOOKUP(Tabla38[[#This Row],[CODIGO municipio]],[3]!Tabla8[#All],4,FALSE),\"\")","v":""},{"$f":"IFERROR(VLOOKUP(Tabla38[[#This Row],[CODIGO municipio]],[3]!Tabla8[#All],5,FALSE),\"\")","v":""},{"$f":"IFERROR(VLOOKUP(Tabla38[[#This Row],[CODIGO municipio]],[3]!Tabla8[#All],6,FALSE),\"\")","v":""},{"$f":"IFERROR(VLOOKUP(Tabla38[[#This Row],[CODIGO municipio]],[3]!Tabla8[#All],7,FALSE),\"\")","v":""},{"$f":"IFERROR(VLOOKUP(Tabla38[[#This Row],[CODIGO municipio]],[3]!Tabla8[#All],8,FALSE),\"\")","v":""},{"$f":"IFERROR(VLOOKUP(Tabla38[[#This Row],[CODIGO municipio]],[3]!Tabla8[#All],9,FALSE),\"\")","v":""},{"$f":"IFERROR(VLOOKUP(Tabla38[[#This Row],[CODIGO municipio]],[3]!Tabla8[#All],10,FALSE),\"\")","v":""},{"$f":"IFERROR(VLOOKUP(Tabla38[[#This Row],[CODIGO municipio]],[3]!Tabla8[#All],11,FALSE),\"\")","v":""},{"$f":"IFERROR(VLOOKUP(Tabla38[[#This Row],[CODIGO municipio]],[3]!Tabla8[#All],12,FALSE),\"\")","v":""},{"$f":"IFERROR(VLOOKUP(Tabla38[[#This Row],[CODIGO municipio]],[3]!Tabla8[#All],13,FALSE),\"\")","v":""},{"$f":"IFERROR(VLOOKUP(Tabla38[[#This Row],[CODIGO municipio]],[3]!Tabla8[#All],14,FALSE),\"\")","v":""},{"$f":"IFERROR(VLOOKUP(Tabla38[[#This Row],[CODIGO municipio]],[3]!Tabla8[#All],15,FALSE),\"\")","v":""},{"$f":"IFERROR(VLOOKUP(Tabla38[[#This Row],[CODIGO municipio]],[3]!Tabla8[#All],16,FALSE),\"\")","v":""},{"$f":"IFERROR(VLOOKUP(Tabla38[[#This Row],[CODIGO municipio]],[3]!Tabla8[#All],17,FALSE),\"\")","v":""},{"$f":"IFERROR(VLOOKUP(Tabla38[[#This Row],[CODIGO municipio]],[3]!Tabla8[#All],18,FALSE),\"\")","v":""},{"$f":"IFERROR(VLOOKUP(Tabla38[[#This Row],[CODIGO municipio]],[3]!Tabla8[#All],19,FALSE),\"\")","v":""},{"$f":"IFERROR(VLOOKUP(Tabla38[[#This Row],[CODIGO municipio]],[3]!Tabla8[#All],20,FALSE),\"\")","v":""},{"$f":"IFERROR(VLOOKUP(Tabla38[[#This Row],[CODIGO municipio]],[3]!Tabla8[#All],21,FALSE),\"\")","v":""},{"$f":"IFERROR(VLOOKUP(Tabla38[[#This Row],[CODIGO municipio]],[3]!Tabla8[#All],22,FALSE),\"\")","v":""},{"$f":"IFERROR(VLOOKUP(Tabla38[[#This Row],[CODIGO municipio]],[3]!Tabla8[#All],23,FALSE),\"\")","v":""},{"$f":"IFERROR(VLOOKUP(Tabla38[[#This Row],[CODIGO municipio]],[3]!Tabla9[#All],3,FALSE),\"\")","v":""}]
[{"$f":"IFERROR(VLOOKUP(Tabla38[[#This Row],[Municipio]],[3]!Tabla2[#All],3,FALSE),\"\")","v":""},1206,"Concepción Tutuapa",{"$f":"IFERROR(VLOOKUP(Tabla38[[#This Row],[CODIGO municipio]],[3]!Tabla6[[#All],[codigo_mun]],1,FALSE),\"\")","v":""},{"$f":"IFERROR(VLOOKUP(Tabla38[[#This Row],[CODIGO municipio]],[3]!Tabla12[#All],2,FALSE),\"\")","v":""},{"$f":"IFERROR(VLOOKUP(Tabla38[[#This Row],[CODIGO municipio]],[3]!Tabla7[#All],3,FALSE),\"\")","v":""},{"$f":"IFERROR(VLOOKUP(Tabla38[[#This Row],[CODIGO municipio]],[3]!Tabla7[#All],4,FALSE),\"\")","v":""},{"$f":"IFERROR(VLOOKUP(Tabla38[[#This Row],[CODIGO municipio]],[3]!Tabla7[#All],11,FALSE),\"\")","v":""},{"$f":"IFERROR(VLOOKUP(Tabla38[[#This Row],[CODIGO municipio]],[3]!Tabla7[#All],12,FALSE),\"\")","v":""},{"$f":"IFERROR(VLOOKUP(Tabla38[[#This Row],[CODIGO municipio]],[3]!Tabla7[#All],13,FALSE),\"\")","v":""},{"$f":"IFERROR(VLOOKUP(Tabla38[[#This Row],[CODIGO municipio]],[3]!Tabla7[#All],14,FALSE),\"\")","v":""},{"$f":"IFERROR(VLOOKUP(Tabla38[[#This Row],[CODIGO municipio]],[3]!Tabla7[#All],15,FALSE),\"\")","v":""},{"$f":"IFERROR(VLOOKUP(Tabla38[[#This Row],[CODIGO municipio]],[3]!Tabla7[#All],16,FALSE),\"\")","v":""},{"$f":"IFERROR(VLOOKUP(Tabla38[[#This Row],[CODIGO municipio]],[3]!Tabla7[#All],17,FALSE),\"\")","v":""},{"$f":"IFERROR(VLOOKUP(Tabla38[[#This Row],[CODIGO municipio]],[3]!Tabla7[#All],18,FALSE),\"\")","v":""},{"$f":"IFERROR(VLOOKUP(Tabla38[[#This Row],[CODIGO municipio]],[3]!Tabla7[#All],19,FALSE),\"\")","v":""},{"$f":"IFERROR(VLOOKUP(Tabla38[[#This Row],[CODIGO municipio]],[3]!Tabla8[#All],3,FALSE),\"\")","v":""},{"$f":"IFERROR(VLOOKUP(Tabla38[[#This Row],[CODIGO municipio]],[3]!Tabla8[#All],4,FALSE),\"\")","v":""},{"$f":"IFERROR(VLOOKUP(Tabla38[[#This Row],[CODIGO municipio]],[3]!Tabla8[#All],5,FALSE),\"\")","v":""},{"$f":"IFERROR(VLOOKUP(Tabla38[[#This Row],[CODIGO municipio]],[3]!Tabla8[#All],6,FALSE),\"\")","v":""},{"$f":"IFERROR(VLOOKUP(Tabla38[[#This Row],[CODIGO municipio]],[3]!Tabla8[#All],7,FALSE),\"\")","v":""},{"$f":"IFERROR(VLOOKUP(Tabla38[[#This Row],[CODIGO municipio]],[3]!Tabla8[#All],8,FALSE),\"\")","v":""},{"$f":"IFERROR(VLOOKUP(Tabla38[[#This Row],[CODIGO municipio]],[3]!Tabla8[#All],9,FALSE),\"\")","v":""},{"$f":"IFERROR(VLOOKUP(Tabla38[[#This Row],[CODIGO municipio]],[3]!Tabla8[#All],10,FALSE),\"\")","v":""},{"$f":"IFERROR(VLOOKUP(Tabla38[[#This Row],[CODIGO municipio]],[3]!Tabla8[#All],11,FALSE),\"\")","v":""},{"$f":"IFERROR(VLOOKUP(Tabla38[[#This Row],[CODIGO municipio]],[3]!Tabla8[#All],12,FALSE),\"\")","v":""},{"$f":"IFERROR(VLOOKUP(Tabla38[[#This Row],[CODIGO municipio]],[3]!Tabla8[#All],13,FALSE),\"\")","v":""},{"$f":"IFERROR(VLOOKUP(Tabla38[[#This Row],[CODIGO municipio]],[3]!Tabla8[#All],14,FALSE),\"\")","v":""},{"$f":"IFERROR(VLOOKUP(Tabla38[[#This Row],[CODIGO municipio]],[3]!Tabla8[#All],15,FALSE),\"\")","v":""},{"$f":"IFERROR(VLOOKUP(Tabla38[[#This Row],[CODIGO municipio]],[3]!Tabla8[#All],16,FALSE),\"\")","v":""},{"$f":"IFERROR(VLOOKUP(Tabla38[[#This Row],[CODIGO municipio]],[3]!Tabla8[#All],17,FALSE),\"\")","v":""},{"$f":"IFERROR(VLOOKUP(Tabla38[[#This Row],[CODIGO municipio]],[3]!Tabla8[#All],18,FALSE),\"\")","v":""},{"$f":"IFERROR(VLOOKUP(Tabla38[[#This Row],[CODIGO municipio]],[3]!Tabla8[#All],19,FALSE),\"\")","v":""},{"$f":"IFERROR(VLOOKUP(Tabla38[[#This Row],[CODIGO municipio]],[3]!Tabla8[#All],20,FALSE),\"\")","v":""},{"$f":"IFERROR(VLOOKUP(Tabla38[[#This Row],[CODIGO municipio]],[3]!Tabla8[#All],21,FALSE),\"\")","v":""},{"$f":"IFERROR(VLOOKUP(Tabla38[[#This Row],[CODIGO municipio]],[3]!Tabla8[#All],22,FALSE),\"\")","v":""},{"$f":"IFERROR(VLOOKUP(Tabla38[[#This Row],[CODIGO municipio]],[3]!Tabla8[#All],23,FALSE),\"\")","v":""},{"$f":"IFERROR(VLOOKUP(Tabla38[[#This Row],[CODIGO municipio]],[3]!Tabla9[#All],3,FALSE),\"\")","v":""}]
[{"$f":"IFERROR(VLOOKUP(Tabla38[[#This Row],[Municipio]],[3]!Tabla2[#All],3,FALSE),\"\")","v":""},1207,"Tacaná",{"$f":"IFERROR(VLOOKUP(Tabla38[[#This Row],[CODIGO municipio]],[3]!Tabla6[[#All],[codigo_mun]],1,FALSE),\"\")","v":""},{"$f":"IFERROR(VLOOKUP(Tabla38[[#This Row],[CODIGO municipio]],[3]!Tabla12[#All],2,FALSE),\"\")","v":""},{"$f":"IFERROR(VLOOKUP(Tabla38[[#This Row],[CODIGO municipio]],[3]!Tabla7[#All],3,FALSE),\"\")","v":""},{"$f":"IFERROR(VLOOKUP(Tabla38[[#This Row],[CODIGO municipio]],[3]!Tabla7[#All],4,FALSE),\"\")","v":""},{"$f":"IFERROR(VLOOKUP(Tabla38[[#This Row],[CODIGO municipio]],[3]!Tabla7[#All],11,FALSE),\"\")","v":""},{"$f":"IFERROR(VLOOKUP(Tabla38[[#This Row],[CODIGO municipio]],[3]!Tabla7[#All],12,FALSE),\"\")","v":""},{"$f":"IFERROR(VLOOKUP(Tabla38[[#This Row],[CODIGO municipio]],[3]!Tabla7[#All],13,FALSE),\"\")","v":""},{"$f":"IFERROR(VLOOKUP(Tabla38[[#This Row],[CODIGO municipio]],[3]!Tabla7[#All],14,FALSE),\"\")","v":""},{"$f":"IFERROR(VLOOKUP(Tabla38[[#This Row],[CODIGO municipio]],[3]!Tabla7[#All],15,FALSE),\"\")","v":""},{"$f":"IFERROR(VLOOKUP(Tabla38[[#This Row],[CODIGO municipio]],[3]!Tabla7[#All],16,FALSE),\"\")","v":""},{"$f":"IFERROR(VLOOKUP(Tabla38[[#This Row],[CODIGO municipio]],[3]!Tabla7[#All],17,FALSE),\"\")","v":""},{"$f":"IFERROR(VLOOKUP(Tabla38[[#This Row],[CODIGO municipio]],[3]!Tabla7[#All],18,FALSE),\"\")","v":""},{"$f":"IFERROR(VLOOKUP(Tabla38[[#This Row],[CODIGO municipio]],[3]!Tabla7[#All],19,FALSE),\"\")","v":""},{"$f":"IFERROR(VLOOKUP(Tabla38[[#This Row],[CODIGO municipio]],[3]!Tabla8[#All],3,FALSE),\"\")","v":""},{"$f":"IFERROR(VLOOKUP(Tabla38[[#This Row],[CODIGO municipio]],[3]!Tabla8[#All],4,FALSE),\"\")","v":""},{"$f":"IFERROR(VLOOKUP(Tabla38[[#This Row],[CODIGO municipio]],[3]!Tabla8[#All],5,FALSE),\"\")","v":""},{"$f":"IFERROR(VLOOKUP(Tabla38[[#This Row],[CODIGO municipio]],[3]!Tabla8[#All],6,FALSE),\"\")","v":""},{"$f":"IFERROR(VLOOKUP(Tabla38[[#This Row],[CODIGO municipio]],[3]!Tabla8[#All],7,FALSE),\"\")","v":""},{"$f":"IFERROR(VLOOKUP(Tabla38[[#This Row],[CODIGO municipio]],[3]!Tabla8[#All],8,FALSE),\"\")","v":""},{"$f":"IFERROR(VLOOKUP(Tabla38[[#This Row],[CODIGO municipio]],[3]!Tabla8[#All],9,FALSE),\"\")","v":""},{"$f":"IFERROR(VLOOKUP(Tabla38[[#This Row],[CODIGO municipio]],[3]!Tabla8[#All],10,FALSE),\"\")","v":""},{"$f":"IFERROR(VLOOKUP(Tabla38[[#This Row],[CODIGO municipio]],[3]!Tabla8[#All],11,FALSE),\"\")","v":""},{"$f":"IFERROR(VLOOKUP(Tabla38[[#This Row],[CODIGO municipio]],[3]!Tabla8[#All],12,FALSE),\"\")","v":""},{"$f":"IFERROR(VLOOKUP(Tabla38[[#This Row],[CODIGO municipio]],[3]!Tabla8[#All],13,FALSE),\"\")","v":""},{"$f":"IFERROR(VLOOKUP(Tabla38[[#This Row],[CODIGO municipio]],[3]!Tabla8[#All],14,FALSE),\"\")","v":""},{"$f":"IFERROR(VLOOKUP(Tabla38[[#This Row],[CODIGO municipio]],[3]!Tabla8[#All],15,FALSE),\"\")","v":""},{"$f":"IFERROR(VLOOKUP(Tabla38[[#This Row],[CODIGO municipio]],[3]!Tabla8[#All],16,FALSE),\"\")","v":""},{"$f":"IFERROR(VLOOKUP(Tabla38[[#This Row],[CODIGO municipio]],[3]!Tabla8[#All],17,FALSE),\"\")","v":""},{"$f":"IFERROR(VLOOKUP(Tabla38[[#This Row],[CODIGO municipio]],[3]!Tabla8[#All],18,FALSE),\"\")","v":""},{"$f":"IFERROR(VLOOKUP(Tabla38[[#This Row],[CODIGO municipio]],[3]!Tabla8[#All],19,FALSE),\"\")","v":""},{"$f":"IFERROR(VLOOKUP(Tabla38[[#This Row],[CODIGO municipio]],[3]!Tabla8[#All],20,FALSE),\"\")","v":""},{"$f":"IFERROR(VLOOKUP(Tabla38[[#This Row],[CODIGO municipio]],[3]!Tabla8[#All],21,FALSE),\"\")","v":""},{"$f":"IFERROR(VLOOKUP(Tabla38[[#This Row],[CODIGO municipio]],[3]!Tabla8[#All],22,FALSE),\"\")","v":""},{"$f":"IFERROR(VLOOKUP(Tabla38[[#This Row],[CODIGO municipio]],[3]!Tabla8[#All],23,FALSE),\"\")","v":""},{"$f":"IFERROR(VLOOKUP(Tabla38[[#This Row],[CODIGO municipio]],[3]!Tabla9[#All],3,FALSE),\"\")","v":""}]
[{"$f":"IFERROR(VLOOKUP(Tabla38[[#This Row],[Municipio]],[3]!Tabla2[#All],3,FALSE),\"\")","v":""},1208,"Sibinal",{"$f":"IFERROR(VLOOKUP(Tabla38[[#This Row],[CODIGO municipio]],[3]!Tabla6[[#All],[codigo_mun]],1,FALSE),\"\")","v":""},{"$f":"IFERROR(VLOOKUP(Tabla38[[#This Row],[CODIGO municipio]],[3]!Tabla12[#All],2,FALSE),\"\")","v":""},{"$f":"IFERROR(VLOOKUP(Tabla38[[#This Row],[CODIGO municipio]],[3]!Tabla7[#All],3,FALSE),\"\")","v":""},{"$f":"IFERROR(VLOOKUP(Tabla38[[#This Row],[CODIGO municipio]],[3]!Tabla7[#All],4,FALSE),\"\")","v":""},{"$f":"IFERROR(VLOOKUP(Tabla38[[#This Row],[CODIGO municipio]],[3]!Tabla7[#All],11,FALSE),\"\")","v":""},{"$f":"IFERROR(VLOOKUP(Tabla38[[#This Row],[CODIGO municipio]],[3]!Tabla7[#All],12,FALSE),\"\")","v":""},{"$f":"IFERROR(VLOOKUP(Tabla38[[#This Row],[CODIGO municipio]],[3]!Tabla7[#All],13,FALSE),\"\")","v":""},{"$f":"IFERROR(VLOOKUP(Tabla38[[#This Row],[CODIGO municipio]],[3]!Tabla7[#All],14,FALSE),\"\")","v":""},{"$f":"IFERROR(VLOOKUP(Tabla38[[#This Row],[CODIGO municipio]],[3]!Tabla7[#All],15,FALSE),\"\")","v":""},{"$f":"IFERROR(VLOOKUP(Tabla38[[#This Row],[CODIGO municipio]],[3]!Tabla7[#All],16,FALSE),\"\")","v":""},{"$f":"IFERROR(VLOOKUP(Tabla38[[#This Row],[CODIGO municipio]],[3]!Tabla7[#All],17,FALSE),\"\")","v":""},{"$f":"IFERROR(VLOOKUP(Tabla38[[#This Row],[CODIGO municipio]],[3]!Tabla7[#All],18,FALSE),\"\")","v":""},{"$f":"IFERROR(VLOOKUP(Tabla38[[#This Row],[CODIGO municipio]],[3]!Tabla7[#All],19,FALSE),\"\")","v":""},{"$f":"IFERROR(VLOOKUP(Tabla38[[#This Row],[CODIGO municipio]],[3]!Tabla8[#All],3,FALSE),\"\")","v":""},{"$f":"IFERROR(VLOOKUP(Tabla38[[#This Row],[CODIGO municipio]],[3]!Tabla8[#All],4,FALSE),\"\")","v":""},{"$f":"IFERROR(VLOOKUP(Tabla38[[#This Row],[CODIGO municipio]],[3]!Tabla8[#All],5,FALSE),\"\")","v":""},{"$f":"IFERROR(VLOOKUP(Tabla38[[#This Row],[CODIGO municipio]],[3]!Tabla8[#All],6,FALSE),\"\")","v":""},{"$f":"IFERROR(VLOOKUP(Tabla38[[#This Row],[CODIGO municipio]],[3]!Tabla8[#All],7,FALSE),\"\")","v":""},{"$f":"IFERROR(VLOOKUP(Tabla38[[#This Row],[CODIGO municipio]],[3]!Tabla8[#All],8,FALSE),\"\")","v":""},{"$f":"IFERROR(VLOOKUP(Tabla38[[#This Row],[CODIGO municipio]],[3]!Tabla8[#All],9,FALSE),\"\")","v":""},{"$f":"IFERROR(VLOOKUP(Tabla38[[#This Row],[CODIGO municipio]],[3]!Tabla8[#All],10,FALSE),\"\")","v":""},{"$f":"IFERROR(VLOOKUP(Tabla38[[#This Row],[CODIGO municipio]],[3]!Tabla8[#All],11,FALSE),\"\")","v":""},{"$f":"IFERROR(VLOOKUP(Tabla38[[#This Row],[CODIGO municipio]],[3]!Tabla8[#All],12,FALSE),\"\")","v":""},{"$f":"IFERROR(VLOOKUP(Tabla38[[#This Row],[CODIGO municipio]],[3]!Tabla8[#All],13,FALSE),\"\")","v":""},{"$f":"IFERROR(VLOOKUP(Tabla38[[#This Row],[CODIGO municipio]],[3]!Tabla8[#All],14,FALSE),\"\")","v":""},{"$f":"IFERROR(VLOOKUP(Tabla38[[#This Row],[CODIGO municipio]],[3]!Tabla8[#All],15,FALSE),\"\")","v":""},{"$f":"IFERROR(VLOOKUP(Tabla38[[#This Row],[CODIGO municipio]],[3]!Tabla8[#All],16,FALSE),\"\")","v":""},{"$f":"IFERROR(VLOOKUP(Tabla38[[#This Row],[CODIGO municipio]],[3]!Tabla8[#All],17,FALSE),\"\")","v":""},{"$f":"IFERROR(VLOOKUP(Tabla38[[#This Row],[CODIGO municipio]],[3]!Tabla8[#All],18,FALSE),\"\")","v":""},{"$f":"IFERROR(VLOOKUP(Tabla38[[#This Row],[CODIGO municipio]],[3]!Tabla8[#All],19,FALSE),\"\")","v":""},{"$f":"IFERROR(VLOOKUP(Tabla38[[#This Row],[CODIGO municipio]],[3]!Tabla8[#All],20,FALSE),\"\")","v":""},{"$f":"IFERROR(VLOOKUP(Tabla38[[#This Row],[CODIGO municipio]],[3]!Tabla8[#All],21,FALSE),\"\")","v":""},{"$f":"IFERROR(VLOOKUP(Tabla38[[#This Row],[CODIGO municipio]],[3]!Tabla8[#All],22,FALSE),\"\")","v":""},{"$f":"IFERROR(VLOOKUP(Tabla38[[#This Row],[CODIGO municipio]],[3]!Tabla8[#All],23,FALSE),\"\")","v":""},{"$f":"IFERROR(VLOOKUP(Tabla38[[#This Row],[CODIGO municipio]],[3]!Tabla9[#All],3,FALSE),\"\")","v":""}]
[{"$f":"IFERROR(VLOOKUP(Tabla38[[#This Row],[Municipio]],[3]!Tabla2[#All],3,FALSE),\"\")","v":""},1209,"Tajumulco",{"$f":"IFERROR(VLOOKUP(Tabla38[[#This Row],[CODIGO municipio]],[3]!Tabla6[[#All],[codigo_mun]],1,FALSE),\"\")","v":""},{"$f":"IFERROR(VLOOKUP(Tabla38[[#This Row],[CODIGO municipio]],[3]!Tabla12[#All],2,FALSE),\"\")","v":""},{"$f":"IFERROR(VLOOKUP(Tabla38[[#This Row],[CODIGO municipio]],[3]!Tabla7[#All],3,FALSE),\"\")","v":""},{"$f":"IFERROR(VLOOKUP(Tabla38[[#This Row],[CODIGO municipio]],[3]!Tabla7[#All],4,FALSE),\"\")","v":""},{"$f":"IFERROR(VLOOKUP(Tabla38[[#This Row],[CODIGO municipio]],[3]!Tabla7[#All],11,FALSE),\"\")","v":""},{"$f":"IFERROR(VLOOKUP(Tabla38[[#This Row],[CODIGO municipio]],[3]!Tabla7[#All],12,FALSE),\"\")","v":""},{"$f":"IFERROR(VLOOKUP(Tabla38[[#This Row],[CODIGO municipio]],[3]!Tabla7[#All],13,FALSE),\"\")","v":""},{"$f":"IFERROR(VLOOKUP(Tabla38[[#This Row],[CODIGO municipio]],[3]!Tabla7[#All],14,FALSE),\"\")","v":""},{"$f":"IFERROR(VLOOKUP(Tabla38[[#This Row],[CODIGO municipio]],[3]!Tabla7[#All],15,FALSE),\"\")","v":""},{"$f":"IFERROR(VLOOKUP(Tabla38[[#This Row],[CODIGO municipio]],[3]!Tabla7[#All],16,FALSE),\"\")","v":""},{"$f":"IFERROR(VLOOKUP(Tabla38[[#This Row],[CODIGO municipio]],[3]!Tabla7[#All],17,FALSE),\"\")","v":""},{"$f":"IFERROR(VLOOKUP(Tabla38[[#This Row],[CODIGO municipio]],[3]!Tabla7[#All],18,FALSE),\"\")","v":""},{"$f":"IFERROR(VLOOKUP(Tabla38[[#This Row],[CODIGO municipio]],[3]!Tabla7[#All],19,FALSE),\"\")","v":""},{"$f":"IFERROR(VLOOKUP(Tabla38[[#This Row],[CODIGO municipio]],[3]!Tabla8[#All],3,FALSE),\"\")","v":""},{"$f":"IFERROR(VLOOKUP(Tabla38[[#This Row],[CODIGO municipio]],[3]!Tabla8[#All],4,FALSE),\"\")","v":""},{"$f":"IFERROR(VLOOKUP(Tabla38[[#This Row],[CODIGO municipio]],[3]!Tabla8[#All],5,FALSE),\"\")","v":""},{"$f":"IFERROR(VLOOKUP(Tabla38[[#This Row],[CODIGO municipio]],[3]!Tabla8[#All],6,FALSE),\"\")","v":""},{"$f":"IFERROR(VLOOKUP(Tabla38[[#This Row],[CODIGO municipio]],[3]!Tabla8[#All],7,FALSE),\"\")","v":""},{"$f":"IFERROR(VLOOKUP(Tabla38[[#This Row],[CODIGO municipio]],[3]!Tabla8[#All],8,FALSE),\"\")","v":""},{"$f":"IFERROR(VLOOKUP(Tabla38[[#This Row],[CODIGO municipio]],[3]!Tabla8[#All],9,FALSE),\"\")","v":""},{"$f":"IFERROR(VLOOKUP(Tabla38[[#This Row],[CODIGO municipio]],[3]!Tabla8[#All],10,FALSE),\"\")","v":""},{"$f":"IFERROR(VLOOKUP(Tabla38[[#This Row],[CODIGO municipio]],[3]!Tabla8[#All],11,FALSE),\"\")","v":""},{"$f":"IFERROR(VLOOKUP(Tabla38[[#This Row],[CODIGO municipio]],[3]!Tabla8[#All],12,FALSE),\"\")","v":""},{"$f":"IFERROR(VLOOKUP(Tabla38[[#This Row],[CODIGO municipio]],[3]!Tabla8[#All],13,FALSE),\"\")","v":""},{"$f":"IFERROR(VLOOKUP(Tabla38[[#This Row],[CODIGO municipio]],[3]!Tabla8[#All],14,FALSE),\"\")","v":""},{"$f":"IFERROR(VLOOKUP(Tabla38[[#This Row],[CODIGO municipio]],[3]!Tabla8[#All],15,FALSE),\"\")","v":""},{"$f":"IFERROR(VLOOKUP(Tabla38[[#This Row],[CODIGO municipio]],[3]!Tabla8[#All],16,FALSE),\"\")","v":""},{"$f":"IFERROR(VLOOKUP(Tabla38[[#This Row],[CODIGO municipio]],[3]!Tabla8[#All],17,FALSE),\"\")","v":""},{"$f":"IFERROR(VLOOKUP(Tabla38[[#This Row],[CODIGO municipio]],[3]!Tabla8[#All],18,FALSE),\"\")","v":""},{"$f":"IFERROR(VLOOKUP(Tabla38[[#This Row],[CODIGO municipio]],[3]!Tabla8[#All],19,FALSE),\"\")","v":""},{"$f":"IFERROR(VLOOKUP(Tabla38[[#This Row],[CODIGO municipio]],[3]!Tabla8[#All],20,FALSE),\"\")","v":""},{"$f":"IFERROR(VLOOKUP(Tabla38[[#This Row],[CODIGO municipio]],[3]!Tabla8[#All],21,FALSE),\"\")","v":""},{"$f":"IFERROR(VLOOKUP(Tabla38[[#This Row],[CODIGO municipio]],[3]!Tabla8[#All],22,FALSE),\"\")","v":""},{"$f":"IFERROR(VLOOKUP(Tabla38[[#This Row],[CODIGO municipio]],[3]!Tabla8[#All],23,FALSE),\"\")","v":""},{"$f":"IFERROR(VLOOKUP(Tabla38[[#This Row],[CODIGO municipio]],[3]!Tabla9[#All],3,FALSE),\"\")","v":""}]
[{"$f":"IFERROR(VLOOKUP(Tabla38[[#This Row],[Municipio]],[3]!Tabla2[#All],3,FALSE),\"\")","v":""},1210,"Tejutla",{"$f":"IFERROR(VLOOKUP(Tabla38[[#This Row],[CODIGO municipio]],[3]!Tabla6[[#All],[codigo_mun]],1,FALSE),\"\")","v":""},{"$f":"IFERROR(VLOOKUP(Tabla38[[#This Row],[CODIGO municipio]],[3]!Tabla12[#All],2,FALSE),\"\")","v":""},{"$f":"IFERROR(VLOOKUP(Tabla38[[#This Row],[CODIGO municipio]],[3]!Tabla7[#All],3,FALSE),\"\")","v":""},{"$f":"IFERROR(VLOOKUP(Tabla38[[#This Row],[CODIGO municipio]],[3]!Tabla7[#All],4,FALSE),\"\")","v":""},{"$f":"IFERROR(VLOOKUP(Tabla38[[#This Row],[CODIGO municipio]],[3]!Tabla7[#All],11,FALSE),\"\")","v":""},{"$f":"IFERROR(VLOOKUP(Tabla38[[#This Row],[CODIGO municipio]],[3]!Tabla7[#All],12,FALSE),\"\")","v":""},{"$f":"IFERROR(VLOOKUP(Tabla38[[#This Row],[CODIGO municipio]],[3]!Tabla7[#All],13,FALSE),\"\")","v":""},{"$f":"IFERROR(VLOOKUP(Tabla38[[#This Row],[CODIGO municipio]],[3]!Tabla7[#All],14,FALSE),\"\")","v":""},{"$f":"IFERROR(VLOOKUP(Tabla38[[#This Row],[CODIGO municipio]],[3]!Tabla7[#All],15,FALSE),\"\")","v":""},{"$f":"IFERROR(VLOOKUP(Tabla38[[#This Row],[CODIGO municipio]],[3]!Tabla7[#All],16,FALSE),\"\")","v":""},{"$f":"IFERROR(VLOOKUP(Tabla38[[#This Row],[CODIGO municipio]],[3]!Tabla7[#All],17,FALSE),\"\")","v":""},{"$f":"IFERROR(VLOOKUP(Tabla38[[#This Row],[CODIGO municipio]],[3]!Tabla7[#All],18,FALSE),\"\")","v":""},{"$f":"IFERROR(VLOOKUP(Tabla38[[#This Row],[CODIGO municipio]],[3]!Tabla7[#All],19,FALSE),\"\")","v":""},{"$f":"IFERROR(VLOOKUP(Tabla38[[#This Row],[CODIGO municipio]],[3]!Tabla8[#All],3,FALSE),\"\")","v":""},{"$f":"IFERROR(VLOOKUP(Tabla38[[#This Row],[CODIGO municipio]],[3]!Tabla8[#All],4,FALSE),\"\")","v":""},{"$f":"IFERROR(VLOOKUP(Tabla38[[#This Row],[CODIGO municipio]],[3]!Tabla8[#All],5,FALSE),\"\")","v":""},{"$f":"IFERROR(VLOOKUP(Tabla38[[#This Row],[CODIGO municipio]],[3]!Tabla8[#All],6,FALSE),\"\")","v":""},{"$f":"IFERROR(VLOOKUP(Tabla38[[#This Row],[CODIGO municipio]],[3]!Tabla8[#All],7,FALSE),\"\")","v":""},{"$f":"IFERROR(VLOOKUP(Tabla38[[#This Row],[CODIGO municipio]],[3]!Tabla8[#All],8,FALSE),\"\")","v":""},{"$f":"IFERROR(VLOOKUP(Tabla38[[#This Row],[CODIGO municipio]],[3]!Tabla8[#All],9,FALSE),\"\")","v":""},{"$f":"IFERROR(VLOOKUP(Tabla38[[#This Row],[CODIGO municipio]],[3]!Tabla8[#All],10,FALSE),\"\")","v":""},{"$f":"IFERROR(VLOOKUP(Tabla38[[#This Row],[CODIGO municipio]],[3]!Tabla8[#All],11,FALSE),\"\")","v":""},{"$f":"IFERROR(VLOOKUP(Tabla38[[#This Row],[CODIGO municipio]],[3]!Tabla8[#All],12,FALSE),\"\")","v":""},{"$f":"IFERROR(VLOOKUP(Tabla38[[#This Row],[CODIGO municipio]],[3]!Tabla8[#All],13,FALSE),\"\")","v":""},{"$f":"IFERROR(VLOOKUP(Tabla38[[#This Row],[CODIGO municipio]],[3]!Tabla8[#All],14,FALSE),\"\")","v":""},{"$f":"IFERROR(VLOOKUP(Tabla38[[#This Row],[CODIGO municipio]],[3]!Tabla8[#All],15,FALSE),\"\")","v":""},{"$f":"IFERROR(VLOOKUP(Tabla38[[#This Row],[CODIGO municipio]],[3]!Tabla8[#All],16,FALSE),\"\")","v":""},{"$f":"IFERROR(VLOOKUP(Tabla38[[#This Row],[CODIGO municipio]],[3]!Tabla8[#All],17,FALSE),\"\")","v":""},{"$f":"IFERROR(VLOOKUP(Tabla38[[#This Row],[CODIGO municipio]],[3]!Tabla8[#All],18,FALSE),\"\")","v":""},{"$f":"IFERROR(VLOOKUP(Tabla38[[#This Row],[CODIGO municipio]],[3]!Tabla8[#All],19,FALSE),\"\")","v":""},{"$f":"IFERROR(VLOOKUP(Tabla38[[#This Row],[CODIGO municipio]],[3]!Tabla8[#All],20,FALSE),\"\")","v":""},{"$f":"IFERROR(VLOOKUP(Tabla38[[#This Row],[CODIGO municipio]],[3]!Tabla8[#All],21,FALSE),\"\")","v":""},{"$f":"IFERROR(VLOOKUP(Tabla38[[#This Row],[CODIGO municipio]],[3]!Tabla8[#All],22,FALSE),\"\")","v":""},{"$f":"IFERROR(VLOOKUP(Tabla38[[#This Row],[CODIGO municipio]],[3]!Tabla8[#All],23,FALSE),\"\")","v":""},{"$f":"IFERROR(VLOOKUP(Tabla38[[#This Row],[CODIGO municipio]],[3]!Tabla9[#All],3,FALSE),\"\")","v":""}]
[{"$f":"IFERROR(VLOOKUP(Tabla38[[#This Row],[Municipio]],[3]!Tabla2[#All],3,FALSE),\"\")","v":""},1211,"San Rafael Pie de la Cuesta",{"$f":"IFERROR(VLOOKUP(Tabla38[[#This Row],[CODIGO municipio]],[3]!Tabla6[[#All],[codigo_mun]],1,FALSE),\"\")","v":""},{"$f":"IFERROR(VLOOKUP(Tabla38[[#This Row],[CODIGO municipio]],[3]!Tabla12[#All],2,FALSE),\"\")","v":""},{"$f":"IFERROR(VLOOKUP(Tabla38[[#This Row],[CODIGO municipio]],[3]!Tabla7[#All],3,FALSE),\"\")","v":""},{"$f":"IFERROR(VLOOKUP(Tabla38[[#This Row],[CODIGO municipio]],[3]!Tabla7[#All],4,FALSE),\"\")","v":""},{"$f":"IFERROR(VLOOKUP(Tabla38[[#This Row],[CODIGO municipio]],[3]!Tabla7[#All],11,FALSE),\"\")","v":""},{"$f":"IFERROR(VLOOKUP(Tabla38[[#This Row],[CODIGO municipio]],[3]!Tabla7[#All],12,FALSE),\"\")","v":""},{"$f":"IFERROR(VLOOKUP(Tabla38[[#This Row],[CODIGO municipio]],[3]!Tabla7[#All],13,FALSE),\"\")","v":""},{"$f":"IFERROR(VLOOKUP(Tabla38[[#This Row],[CODIGO municipio]],[3]!Tabla7[#All],14,FALSE),\"\")","v":""},{"$f":"IFERROR(VLOOKUP(Tabla38[[#This Row],[CODIGO municipio]],[3]!Tabla7[#All],15,FALSE),\"\")","v":""},{"$f":"IFERROR(VLOOKUP(Tabla38[[#This Row],[CODIGO municipio]],[3]!Tabla7[#All],16,FALSE),\"\")","v":""},{"$f":"IFERROR(VLOOKUP(Tabla38[[#This Row],[CODIGO municipio]],[3]!Tabla7[#All],17,FALSE),\"\")","v":""},{"$f":"IFERROR(VLOOKUP(Tabla38[[#This Row],[CODIGO municipio]],[3]!Tabla7[#All],18,FALSE),\"\")","v":""},{"$f":"IFERROR(VLOOKUP(Tabla38[[#This Row],[CODIGO municipio]],[3]!Tabla7[#All],19,FALSE),\"\")","v":""},{"$f":"IFERROR(VLOOKUP(Tabla38[[#This Row],[CODIGO municipio]],[3]!Tabla8[#All],3,FALSE),\"\")","v":""},{"$f":"IFERROR(VLOOKUP(Tabla38[[#This Row],[CODIGO municipio]],[3]!Tabla8[#All],4,FALSE),\"\")","v":""},{"$f":"IFERROR(VLOOKUP(Tabla38[[#This Row],[CODIGO municipio]],[3]!Tabla8[#All],5,FALSE),\"\")","v":""},{"$f":"IFERROR(VLOOKUP(Tabla38[[#This Row],[CODIGO municipio]],[3]!Tabla8[#All],6,FALSE),\"\")","v":""},{"$f":"IFERROR(VLOOKUP(Tabla38[[#This Row],[CODIGO municipio]],[3]!Tabla8[#All],7,FALSE),\"\")","v":""},{"$f":"IFERROR(VLOOKUP(Tabla38[[#This Row],[CODIGO municipio]],[3]!Tabla8[#All],8,FALSE),\"\")","v":""},{"$f":"IFERROR(VLOOKUP(Tabla38[[#This Row],[CODIGO municipio]],[3]!Tabla8[#All],9,FALSE),\"\")","v":""},{"$f":"IFERROR(VLOOKUP(Tabla38[[#This Row],[CODIGO municipio]],[3]!Tabla8[#All],10,FALSE),\"\")","v":""},{"$f":"IFERROR(VLOOKUP(Tabla38[[#This Row],[CODIGO municipio]],[3]!Tabla8[#All],11,FALSE),\"\")","v":""},{"$f":"IFERROR(VLOOKUP(Tabla38[[#This Row],[CODIGO municipio]],[3]!Tabla8[#All],12,FALSE),\"\")","v":""},{"$f":"IFERROR(VLOOKUP(Tabla38[[#This Row],[CODIGO municipio]],[3]!Tabla8[#All],13,FALSE),\"\")","v":""},{"$f":"IFERROR(VLOOKUP(Tabla38[[#This Row],[CODIGO municipio]],[3]!Tabla8[#All],14,FALSE),\"\")","v":""},{"$f":"IFERROR(VLOOKUP(Tabla38[[#This Row],[CODIGO municipio]],[3]!Tabla8[#All],15,FALSE),\"\")","v":""},{"$f":"IFERROR(VLOOKUP(Tabla38[[#This Row],[CODIGO municipio]],[3]!Tabla8[#All],16,FALSE),\"\")","v":""},{"$f":"IFERROR(VLOOKUP(Tabla38[[#This Row],[CODIGO municipio]],[3]!Tabla8[#All],17,FALSE),\"\")","v":""},{"$f":"IFERROR(VLOOKUP(Tabla38[[#This Row],[CODIGO municipio]],[3]!Tabla8[#All],18,FALSE),\"\")","v":""},{"$f":"IFERROR(VLOOKUP(Tabla38[[#This Row],[CODIGO municipio]],[3]!Tabla8[#All],19,FALSE),\"\")","v":""},{"$f":"IFERROR(VLOOKUP(Tabla38[[#This Row],[CODIGO municipio]],[3]!Tabla8[#All],20,FALSE),\"\")","v":""},{"$f":"IFERROR(VLOOKUP(Tabla38[[#This Row],[CODIGO municipio]],[3]!Tabla8[#All],21,FALSE),\"\")","v":""},{"$f":"IFERROR(VLOOKUP(Tabla38[[#This Row],[CODIGO municipio]],[3]!Tabla8[#All],22,FALSE),\"\")","v":""},{"$f":"IFERROR(VLOOKUP(Tabla38[[#This Row],[CODIGO municipio]],[3]!Tabla8[#All],23,FALSE),\"\")","v":""},{"$f":"IFERROR(VLOOKUP(Tabla38[[#This Row],[CODIGO municipio]],[3]!Tabla9[#All],3,FALSE),\"\")","v":""}]
[{"$f":"IFERROR(VLOOKUP(Tabla38[[#This Row],[Municipio]],[3]!Tabla2[#All],3,FALSE),\"\")","v":""},1212,"Nuevo Progreso",{"$f":"IFERROR(VLOOKUP(Tabla38[[#This Row],[CODIGO municipio]],[3]!Tabla6[[#All],[codigo_mun]],1,FALSE),\"\")","v":""},{"$f":"IFERROR(VLOOKUP(Tabla38[[#This Row],[CODIGO municipio]],[3]!Tabla12[#All],2,FALSE),\"\")","v":""},{"$f":"IFERROR(VLOOKUP(Tabla38[[#This Row],[CODIGO municipio]],[3]!Tabla7[#All],3,FALSE),\"\")","v":""},{"$f":"IFERROR(VLOOKUP(Tabla38[[#This Row],[CODIGO municipio]],[3]!Tabla7[#All],4,FALSE),\"\")","v":""},{"$f":"IFERROR(VLOOKUP(Tabla38[[#This Row],[CODIGO municipio]],[3]!Tabla7[#All],11,FALSE),\"\")","v":""},{"$f":"IFERROR(VLOOKUP(Tabla38[[#This Row],[CODIGO municipio]],[3]!Tabla7[#All],12,FALSE),\"\")","v":""},{"$f":"IFERROR(VLOOKUP(Tabla38[[#This Row],[CODIGO municipio]],[3]!Tabla7[#All],13,FALSE),\"\")","v":""},{"$f":"IFERROR(VLOOKUP(Tabla38[[#This Row],[CODIGO municipio]],[3]!Tabla7[#All],14,FALSE),\"\")","v":""},{"$f":"IFERROR(VLOOKUP(Tabla38[[#This Row],[CODIGO municipio]],[3]!Tabla7[#All],15,FALSE),\"\")","v":""},{"$f":"IFERROR(VLOOKUP(Tabla38[[#This Row],[CODIGO municipio]],[3]!Tabla7[#All],16,FALSE),\"\")","v":""},{"$f":"IFERROR(VLOOKUP(Tabla38[[#This Row],[CODIGO municipio]],[3]!Tabla7[#All],17,FALSE),\"\")","v":""},{"$f":"IFERROR(VLOOKUP(Tabla38[[#This Row],[CODIGO municipio]],[3]!Tabla7[#All],18,FALSE),\"\")","v":""},{"$f":"IFERROR(VLOOKUP(Tabla38[[#This Row],[CODIGO municipio]],[3]!Tabla7[#All],19,FALSE),\"\")","v":""},{"$f":"IFERROR(VLOOKUP(Tabla38[[#This Row],[CODIGO municipio]],[3]!Tabla8[#All],3,FALSE),\"\")","v":""},{"$f":"IFERROR(VLOOKUP(Tabla38[[#This Row],[CODIGO municipio]],[3]!Tabla8[#All],4,FALSE),\"\")","v":""},{"$f":"IFERROR(VLOOKUP(Tabla38[[#This Row],[CODIGO municipio]],[3]!Tabla8[#All],5,FALSE),\"\")","v":""},{"$f":"IFERROR(VLOOKUP(Tabla38[[#This Row],[CODIGO municipio]],[3]!Tabla8[#All],6,FALSE),\"\")","v":""},{"$f":"IFERROR(VLOOKUP(Tabla38[[#This Row],[CODIGO municipio]],[3]!Tabla8[#All],7,FALSE),\"\")","v":""},{"$f":"IFERROR(VLOOKUP(Tabla38[[#This Row],[CODIGO municipio]],[3]!Tabla8[#All],8,FALSE),\"\")","v":""},{"$f":"IFERROR(VLOOKUP(Tabla38[[#This Row],[CODIGO municipio]],[3]!Tabla8[#All],9,FALSE),\"\")","v":""},{"$f":"IFERROR(VLOOKUP(Tabla38[[#This Row],[CODIGO municipio]],[3]!Tabla8[#All],10,FALSE),\"\")","v":""},{"$f":"IFERROR(VLOOKUP(Tabla38[[#This Row],[CODIGO municipio]],[3]!Tabla8[#All],11,FALSE),\"\")","v":""},{"$f":"IFERROR(VLOOKUP(Tabla38[[#This Row],[CODIGO municipio]],[3]!Tabla8[#All],12,FALSE),\"\")","v":""},{"$f":"IFERROR(VLOOKUP(Tabla38[[#This Row],[CODIGO municipio]],[3]!Tabla8[#All],13,FALSE),\"\")","v":""},{"$f":"IFERROR(VLOOKUP(Tabla38[[#This Row],[CODIGO municipio]],[3]!Tabla8[#All],14,FALSE),\"\")","v":""},{"$f":"IFERROR(VLOOKUP(Tabla38[[#This Row],[CODIGO municipio]],[3]!Tabla8[#All],15,FALSE),\"\")","v":""},{"$f":"IFERROR(VLOOKUP(Tabla38[[#This Row],[CODIGO municipio]],[3]!Tabla8[#All],16,FALSE),\"\")","v":""},{"$f":"IFERROR(VLOOKUP(Tabla38[[#This Row],[CODIGO municipio]],[3]!Tabla8[#All],17,FALSE),\"\")","v":""},{"$f":"IFERROR(VLOOKUP(Tabla38[[#This Row],[CODIGO municipio]],[3]!Tabla8[#All],18,FALSE),\"\")","v":""},{"$f":"IFERROR(VLOOKUP(Tabla38[[#This Row],[CODIGO municipio]],[3]!Tabla8[#All],19,FALSE),\"\")","v":""},{"$f":"IFERROR(VLOOKUP(Tabla38[[#This Row],[CODIGO municipio]],[3]!Tabla8[#All],20,FALSE),\"\")","v":""},{"$f":"IFERROR(VLOOKUP(Tabla38[[#This Row],[CODIGO municipio]],[3]!Tabla8[#All],21,FALSE),\"\")","v":""},{"$f":"IFERROR(VLOOKUP(Tabla38[[#This Row],[CODIGO municipio]],[3]!Tabla8[#All],22,FALSE),\"\")","v":""},{"$f":"IFERROR(VLOOKUP(Tabla38[[#This Row],[CODIGO municipio]],[3]!Tabla8[#All],23,FALSE),\"\")","v":""},{"$f":"IFERROR(VLOOKUP(Tabla38[[#This Row],[CODIGO municipio]],[3]!Tabla9[#All],3,FALSE),\"\")","v":""}]
[{"$f":"IFERROR(VLOOKUP(Tabla38[[#This Row],[Municipio]],[3]!Tabla2[#All],3,FALSE),\"\")","v":""},1213,"El Tumbador",{"$f":"IFERROR(VLOOKUP(Tabla38[[#This Row],[CODIGO municipio]],[3]!Tabla6[[#All],[codigo_mun]],1,FALSE),\"\")","v":""},{"$f":"IFERROR(VLOOKUP(Tabla38[[#This Row],[CODIGO municipio]],[3]!Tabla12[#All],2,FALSE),\"\")","v":""},{"$f":"IFERROR(VLOOKUP(Tabla38[[#This Row],[CODIGO municipio]],[3]!Tabla7[#All],3,FALSE),\"\")","v":""},{"$f":"IFERROR(VLOOKUP(Tabla38[[#This Row],[CODIGO municipio]],[3]!Tabla7[#All],4,FALSE),\"\")","v":""},{"$f":"IFERROR(VLOOKUP(Tabla38[[#This Row],[CODIGO municipio]],[3]!Tabla7[#All],11,FALSE),\"\")","v":""},{"$f":"IFERROR(VLOOKUP(Tabla38[[#This Row],[CODIGO municipio]],[3]!Tabla7[#All],12,FALSE),\"\")","v":""},{"$f":"IFERROR(VLOOKUP(Tabla38[[#This Row],[CODIGO municipio]],[3]!Tabla7[#All],13,FALSE),\"\")","v":""},{"$f":"IFERROR(VLOOKUP(Tabla38[[#This Row],[CODIGO municipio]],[3]!Tabla7[#All],14,FALSE),\"\")","v":""},{"$f":"IFERROR(VLOOKUP(Tabla38[[#This Row],[CODIGO municipio]],[3]!Tabla7[#All],15,FALSE),\"\")","v":""},{"$f":"IFERROR(VLOOKUP(Tabla38[[#This Row],[CODIGO municipio]],[3]!Tabla7[#All],16,FALSE),\"\")","v":""},{"$f":"IFERROR(VLOOKUP(Tabla38[[#This Row],[CODIGO municipio]],[3]!Tabla7[#All],17,FALSE),\"\")","v":""},{"$f":"IFERROR(VLOOKUP(Tabla38[[#This Row],[CODIGO municipio]],[3]!Tabla7[#All],18,FALSE),\"\")","v":""},{"$f":"IFERROR(VLOOKUP(Tabla38[[#This Row],[CODIGO municipio]],[3]!Tabla7[#All],19,FALSE),\"\")","v":""},{"$f":"IFERROR(VLOOKUP(Tabla38[[#This Row],[CODIGO municipio]],[3]!Tabla8[#All],3,FALSE),\"\")","v":""},{"$f":"IFERROR(VLOOKUP(Tabla38[[#This Row],[CODIGO municipio]],[3]!Tabla8[#All],4,FALSE),\"\")","v":""},{"$f":"IFERROR(VLOOKUP(Tabla38[[#This Row],[CODIGO municipio]],[3]!Tabla8[#All],5,FALSE),\"\")","v":""},{"$f":"IFERROR(VLOOKUP(Tabla38[[#This Row],[CODIGO municipio]],[3]!Tabla8[#All],6,FALSE),\"\")","v":""},{"$f":"IFERROR(VLOOKUP(Tabla38[[#This Row],[CODIGO municipio]],[3]!Tabla8[#All],7,FALSE),\"\")","v":""},{"$f":"IFERROR(VLOOKUP(Tabla38[[#This Row],[CODIGO municipio]],[3]!Tabla8[#All],8,FALSE),\"\")","v":""},{"$f":"IFERROR(VLOOKUP(Tabla38[[#This Row],[CODIGO municipio]],[3]!Tabla8[#All],9,FALSE),\"\")","v":""},{"$f":"IFERROR(VLOOKUP(Tabla38[[#This Row],[CODIGO municipio]],[3]!Tabla8[#All],10,FALSE),\"\")","v":""},{"$f":"IFERROR(VLOOKUP(Tabla38[[#This Row],[CODIGO municipio]],[3]!Tabla8[#All],11,FALSE),\"\")","v":""},{"$f":"IFERROR(VLOOKUP(Tabla38[[#This Row],[CODIGO municipio]],[3]!Tabla8[#All],12,FALSE),\"\")","v":""},{"$f":"IFERROR(VLOOKUP(Tabla38[[#This Row],[CODIGO municipio]],[3]!Tabla8[#All],13,FALSE),\"\")","v":""},{"$f":"IFERROR(VLOOKUP(Tabla38[[#This Row],[CODIGO municipio]],[3]!Tabla8[#All],14,FALSE),\"\")","v":""},{"$f":"IFERROR(VLOOKUP(Tabla38[[#This Row],[CODIGO municipio]],[3]!Tabla8[#All],15,FALSE),\"\")","v":""},{"$f":"IFERROR(VLOOKUP(Tabla38[[#This Row],[CODIGO municipio]],[3]!Tabla8[#All],16,FALSE),\"\")","v":""},{"$f":"IFERROR(VLOOKUP(Tabla38[[#This Row],[CODIGO municipio]],[3]!Tabla8[#All],17,FALSE),\"\")","v":""},{"$f":"IFERROR(VLOOKUP(Tabla38[[#This Row],[CODIGO municipio]],[3]!Tabla8[#All],18,FALSE),\"\")","v":""},{"$f":"IFERROR(VLOOKUP(Tabla38[[#This Row],[CODIGO municipio]],[3]!Tabla8[#All],19,FALSE),\"\")","v":""},{"$f":"IFERROR(VLOOKUP(Tabla38[[#This Row],[CODIGO municipio]],[3]!Tabla8[#All],20,FALSE),\"\")","v":""},{"$f":"IFERROR(VLOOKUP(Tabla38[[#This Row],[CODIGO municipio]],[3]!Tabla8[#All],21,FALSE),\"\")","v":""},{"$f":"IFERROR(VLOOKUP(Tabla38[[#This Row],[CODIGO municipio]],[3]!Tabla8[#All],22,FALSE),\"\")","v":""},{"$f":"IFERROR(VLOOKUP(Tabla38[[#This Row],[CODIGO municipio]],[3]!Tabla8[#All],23,FALSE),\"\")","v":""},{"$f":"IFERROR(VLOOKUP(Tabla38[[#This Row],[CODIGO municipio]],[3]!Tabla9[#All],3,FALSE),\"\")","v":""}]
[{"$f":"IFERROR(VLOOKUP(Tabla38[[#This Row],[Municipio]],[3]!Tabla2[#All],3,FALSE),\"\")","v":""},1214,"El Rodeo",{"$f":"IFERROR(VLOOKUP(Tabla38[[#This Row],[CODIGO municipio]],[3]!Tabla6[[#All],[codigo_mun]],1,FALSE),\"\")","v":""},{"$f":"IFERROR(VLOOKUP(Tabla38[[#This Row],[CODIGO municipio]],[3]!Tabla12[#All],2,FALSE),\"\")","v":""},{"$f":"IFERROR(VLOOKUP(Tabla38[[#This Row],[CODIGO municipio]],[3]!Tabla7[#All],3,FALSE),\"\")","v":""},{"$f":"IFERROR(VLOOKUP(Tabla38[[#This Row],[CODIGO municipio]],[3]!Tabla7[#All],4,FALSE),\"\")","v":""},{"$f":"IFERROR(VLOOKUP(Tabla38[[#This Row],[CODIGO municipio]],[3]!Tabla7[#All],11,FALSE),\"\")","v":""},{"$f":"IFERROR(VLOOKUP(Tabla38[[#This Row],[CODIGO municipio]],[3]!Tabla7[#All],12,FALSE),\"\")","v":""},{"$f":"IFERROR(VLOOKUP(Tabla38[[#This Row],[CODIGO municipio]],[3]!Tabla7[#All],13,FALSE),\"\")","v":""},{"$f":"IFERROR(VLOOKUP(Tabla38[[#This Row],[CODIGO municipio]],[3]!Tabla7[#All],14,FALSE),\"\")","v":""},{"$f":"IFERROR(VLOOKUP(Tabla38[[#This Row],[CODIGO municipio]],[3]!Tabla7[#All],15,FALSE),\"\")","v":""},{"$f":"IFERROR(VLOOKUP(Tabla38[[#This Row],[CODIGO municipio]],[3]!Tabla7[#All],16,FALSE),\"\")","v":""},{"$f":"IFERROR(VLOOKUP(Tabla38[[#This Row],[CODIGO municipio]],[3]!Tabla7[#All],17,FALSE),\"\")","v":""},{"$f":"IFERROR(VLOOKUP(Tabla38[[#This Row],[CODIGO municipio]],[3]!Tabla7[#All],18,FALSE),\"\")","v":""},{"$f":"IFERROR(VLOOKUP(Tabla38[[#This Row],[CODIGO municipio]],[3]!Tabla7[#All],19,FALSE),\"\")","v":""},{"$f":"IFERROR(VLOOKUP(Tabla38[[#This Row],[CODIGO municipio]],[3]!Tabla8[#All],3,FALSE),\"\")","v":""},{"$f":"IFERROR(VLOOKUP(Tabla38[[#This Row],[CODIGO municipio]],[3]!Tabla8[#All],4,FALSE),\"\")","v":""},{"$f":"IFERROR(VLOOKUP(Tabla38[[#This Row],[CODIGO municipio]],[3]!Tabla8[#All],5,FALSE),\"\")","v":""},{"$f":"IFERROR(VLOOKUP(Tabla38[[#This Row],[CODIGO municipio]],[3]!Tabla8[#All],6,FALSE),\"\")","v":""},{"$f":"IFERROR(VLOOKUP(Tabla38[[#This Row],[CODIGO municipio]],[3]!Tabla8[#All],7,FALSE),\"\")","v":""},{"$f":"IFERROR(VLOOKUP(Tabla38[[#This Row],[CODIGO municipio]],[3]!Tabla8[#All],8,FALSE),\"\")","v":""},{"$f":"IFERROR(VLOOKUP(Tabla38[[#This Row],[CODIGO municipio]],[3]!Tabla8[#All],9,FALSE),\"\")","v":""},{"$f":"IFERROR(VLOOKUP(Tabla38[[#This Row],[CODIGO municipio]],[3]!Tabla8[#All],10,FALSE),\"\")","v":""},{"$f":"IFERROR(VLOOKUP(Tabla38[[#This Row],[CODIGO municipio]],[3]!Tabla8[#All],11,FALSE),\"\")","v":""},{"$f":"IFERROR(VLOOKUP(Tabla38[[#This Row],[CODIGO municipio]],[3]!Tabla8[#All],12,FALSE),\"\")","v":""},{"$f":"IFERROR(VLOOKUP(Tabla38[[#This Row],[CODIGO municipio]],[3]!Tabla8[#All],13,FALSE),\"\")","v":""},{"$f":"IFERROR(VLOOKUP(Tabla38[[#This Row],[CODIGO municipio]],[3]!Tabla8[#All],14,FALSE),\"\")","v":""},{"$f":"IFERROR(VLOOKUP(Tabla38[[#This Row],[CODIGO municipio]],[3]!Tabla8[#All],15,FALSE),\"\")","v":""},{"$f":"IFERROR(VLOOKUP(Tabla38[[#This Row],[CODIGO municipio]],[3]!Tabla8[#All],16,FALSE),\"\")","v":""},{"$f":"IFERROR(VLOOKUP(Tabla38[[#This Row],[CODIGO municipio]],[3]!Tabla8[#All],17,FALSE),\"\")","v":""},{"$f":"IFERROR(VLOOKUP(Tabla38[[#This Row],[CODIGO municipio]],[3]!Tabla8[#All],18,FALSE),\"\")","v":""},{"$f":"IFERROR(VLOOKUP(Tabla38[[#This Row],[CODIGO municipio]],[3]!Tabla8[#All],19,FALSE),\"\")","v":""},{"$f":"IFERROR(VLOOKUP(Tabla38[[#This Row],[CODIGO municipio]],[3]!Tabla8[#All],20,FALSE),\"\")","v":""},{"$f":"IFERROR(VLOOKUP(Tabla38[[#This Row],[CODIGO municipio]],[3]!Tabla8[#All],21,FALSE),\"\")","v":""},{"$f":"IFERROR(VLOOKUP(Tabla38[[#This Row],[CODIGO municipio]],[3]!Tabla8[#All],22,FALSE),\"\")","v":""},{"$f":"IFERROR(VLOOKUP(Tabla38[[#This Row],[CODIGO municipio]],[3]!Tabla8[#All],23,FALSE),\"\")","v":""},{"$f":"IFERROR(VLOOKUP(Tabla38[[#This Row],[CODIGO municipio]],[3]!Tabla9[#All],3,FALSE),\"\")","v":""}]
[{"$f":"IFERROR(VLOOKUP(Tabla38[[#This Row],[Municipio]],[3]!Tabla2[#All],3,FALSE),\"\")","v":""},1215,"Malacatán",{"$f":"IFERROR(VLOOKUP(Tabla38[[#This Row],[CODIGO municipio]],[3]!Tabla6[[#All],[codigo_mun]],1,FALSE),\"\")","v":""},{"$f":"IFERROR(VLOOKUP(Tabla38[[#This Row],[CODIGO municipio]],[3]!Tabla12[#All],2,FALSE),\"\")","v":""},{"$f":"IFERROR(VLOOKUP(Tabla38[[#This Row],[CODIGO municipio]],[3]!Tabla7[#All],3,FALSE),\"\")","v":""},{"$f":"IFERROR(VLOOKUP(Tabla38[[#This Row],[CODIGO municipio]],[3]!Tabla7[#All],4,FALSE),\"\")","v":""},{"$f":"IFERROR(VLOOKUP(Tabla38[[#This Row],[CODIGO municipio]],[3]!Tabla7[#All],11,FALSE),\"\")","v":""},{"$f":"IFERROR(VLOOKUP(Tabla38[[#This Row],[CODIGO municipio]],[3]!Tabla7[#All],12,FALSE),\"\")","v":""},{"$f":"IFERROR(VLOOKUP(Tabla38[[#This Row],[CODIGO municipio]],[3]!Tabla7[#All],13,FALSE),\"\")","v":""},{"$f":"IFERROR(VLOOKUP(Tabla38[[#This Row],[CODIGO municipio]],[3]!Tabla7[#All],14,FALSE),\"\")","v":""},{"$f":"IFERROR(VLOOKUP(Tabla38[[#This Row],[CODIGO municipio]],[3]!Tabla7[#All],15,FALSE),\"\")","v":""},{"$f":"IFERROR(VLOOKUP(Tabla38[[#This Row],[CODIGO municipio]],[3]!Tabla7[#All],16,FALSE),\"\")","v":""},{"$f":"IFERROR(VLOOKUP(Tabla38[[#This Row],[CODIGO municipio]],[3]!Tabla7[#All],17,FALSE),\"\")","v":""},{"$f":"IFERROR(VLOOKUP(Tabla38[[#This Row],[CODIGO municipio]],[3]!Tabla7[#All],18,FALSE),\"\")","v":""},{"$f":"IFERROR(VLOOKUP(Tabla38[[#This Row],[CODIGO municipio]],[3]!Tabla7[#All],19,FALSE),\"\")","v":""},{"$f":"IFERROR(VLOOKUP(Tabla38[[#This Row],[CODIGO municipio]],[3]!Tabla8[#All],3,FALSE),\"\")","v":""},{"$f":"IFERROR(VLOOKUP(Tabla38[[#This Row],[CODIGO municipio]],[3]!Tabla8[#All],4,FALSE),\"\")","v":""},{"$f":"IFERROR(VLOOKUP(Tabla38[[#This Row],[CODIGO municipio]],[3]!Tabla8[#All],5,FALSE),\"\")","v":""},{"$f":"IFERROR(VLOOKUP(Tabla38[[#This Row],[CODIGO municipio]],[3]!Tabla8[#All],6,FALSE),\"\")","v":""},{"$f":"IFERROR(VLOOKUP(Tabla38[[#This Row],[CODIGO municipio]],[3]!Tabla8[#All],7,FALSE),\"\")","v":""},{"$f":"IFERROR(VLOOKUP(Tabla38[[#This Row],[CODIGO municipio]],[3]!Tabla8[#All],8,FALSE),\"\")","v":""},{"$f":"IFERROR(VLOOKUP(Tabla38[[#This Row],[CODIGO municipio]],[3]!Tabla8[#All],9,FALSE),\"\")","v":""},{"$f":"IFERROR(VLOOKUP(Tabla38[[#This Row],[CODIGO municipio]],[3]!Tabla8[#All],10,FALSE),\"\")","v":""},{"$f":"IFERROR(VLOOKUP(Tabla38[[#This Row],[CODIGO municipio]],[3]!Tabla8[#All],11,FALSE),\"\")","v":""},{"$f":"IFERROR(VLOOKUP(Tabla38[[#This Row],[CODIGO municipio]],[3]!Tabla8[#All],12,FALSE),\"\")","v":""},{"$f":"IFERROR(VLOOKUP(Tabla38[[#This Row],[CODIGO municipio]],[3]!Tabla8[#All],13,FALSE),\"\")","v":""},{"$f":"IFERROR(VLOOKUP(Tabla38[[#This Row],[CODIGO municipio]],[3]!Tabla8[#All],14,FALSE),\"\")","v":""},{"$f":"IFERROR(VLOOKUP(Tabla38[[#This Row],[CODIGO municipio]],[3]!Tabla8[#All],15,FALSE),\"\")","v":""},{"$f":"IFERROR(VLOOKUP(Tabla38[[#This Row],[CODIGO municipio]],[3]!Tabla8[#All],16,FALSE),\"\")","v":""},{"$f":"IFERROR(VLOOKUP(Tabla38[[#This Row],[CODIGO municipio]],[3]!Tabla8[#All],17,FALSE),\"\")","v":""},{"$f":"IFERROR(VLOOKUP(Tabla38[[#This Row],[CODIGO municipio]],[3]!Tabla8[#All],18,FALSE),\"\")","v":""},{"$f":"IFERROR(VLOOKUP(Tabla38[[#This Row],[CODIGO municipio]],[3]!Tabla8[#All],19,FALSE),\"\")","v":""},{"$f":"IFERROR(VLOOKUP(Tabla38[[#This Row],[CODIGO municipio]],[3]!Tabla8[#All],20,FALSE),\"\")","v":""},{"$f":"IFERROR(VLOOKUP(Tabla38[[#This Row],[CODIGO municipio]],[3]!Tabla8[#All],21,FALSE),\"\")","v":""},{"$f":"IFERROR(VLOOKUP(Tabla38[[#This Row],[CODIGO municipio]],[3]!Tabla8[#All],22,FALSE),\"\")","v":""},{"$f":"IFERROR(VLOOKUP(Tabla38[[#This Row],[CODIGO municipio]],[3]!Tabla8[#All],23,FALSE),\"\")","v":""},{"$f":"IFERROR(VLOOKUP(Tabla38[[#This Row],[CODIGO municipio]],[3]!Tabla9[#All],3,FALSE),\"\")","v":""}]
[{"$f":"IFERROR(VLOOKUP(Tabla38[[#This Row],[Municipio]],[3]!Tabla2[#All],3,FALSE),\"\")","v":""},1216,"Catarina",{"$f":"IFERROR(VLOOKUP(Tabla38[[#This Row],[CODIGO municipio]],[3]!Tabla6[[#All],[codigo_mun]],1,FALSE),\"\")","v":""},{"$f":"IFERROR(VLOOKUP(Tabla38[[#This Row],[CODIGO municipio]],[3]!Tabla12[#All],2,FALSE),\"\")","v":""},{"$f":"IFERROR(VLOOKUP(Tabla38[[#This Row],[CODIGO municipio]],[3]!Tabla7[#All],3,FALSE),\"\")","v":""},{"$f":"IFERROR(VLOOKUP(Tabla38[[#This Row],[CODIGO municipio]],[3]!Tabla7[#All],4,FALSE),\"\")","v":""},{"$f":"IFERROR(VLOOKUP(Tabla38[[#This Row],[CODIGO municipio]],[3]!Tabla7[#All],11,FALSE),\"\")","v":""},{"$f":"IFERROR(VLOOKUP(Tabla38[[#This Row],[CODIGO municipio]],[3]!Tabla7[#All],12,FALSE),\"\")","v":""},{"$f":"IFERROR(VLOOKUP(Tabla38[[#This Row],[CODIGO municipio]],[3]!Tabla7[#All],13,FALSE),\"\")","v":""},{"$f":"IFERROR(VLOOKUP(Tabla38[[#This Row],[CODIGO municipio]],[3]!Tabla7[#All],14,FALSE),\"\")","v":""},{"$f":"IFERROR(VLOOKUP(Tabla38[[#This Row],[CODIGO municipio]],[3]!Tabla7[#All],15,FALSE),\"\")","v":""},{"$f":"IFERROR(VLOOKUP(Tabla38[[#This Row],[CODIGO municipio]],[3]!Tabla7[#All],16,FALSE),\"\")","v":""},{"$f":"IFERROR(VLOOKUP(Tabla38[[#This Row],[CODIGO municipio]],[3]!Tabla7[#All],17,FALSE),\"\")","v":""},{"$f":"IFERROR(VLOOKUP(Tabla38[[#This Row],[CODIGO municipio]],[3]!Tabla7[#All],18,FALSE),\"\")","v":""},{"$f":"IFERROR(VLOOKUP(Tabla38[[#This Row],[CODIGO municipio]],[3]!Tabla7[#All],19,FALSE),\"\")","v":""},{"$f":"IFERROR(VLOOKUP(Tabla38[[#This Row],[CODIGO municipio]],[3]!Tabla8[#All],3,FALSE),\"\")","v":""},{"$f":"IFERROR(VLOOKUP(Tabla38[[#This Row],[CODIGO municipio]],[3]!Tabla8[#All],4,FALSE),\"\")","v":""},{"$f":"IFERROR(VLOOKUP(Tabla38[[#This Row],[CODIGO municipio]],[3]!Tabla8[#All],5,FALSE),\"\")","v":""},{"$f":"IFERROR(VLOOKUP(Tabla38[[#This Row],[CODIGO municipio]],[3]!Tabla8[#All],6,FALSE),\"\")","v":""},{"$f":"IFERROR(VLOOKUP(Tabla38[[#This Row],[CODIGO municipio]],[3]!Tabla8[#All],7,FALSE),\"\")","v":""},{"$f":"IFERROR(VLOOKUP(Tabla38[[#This Row],[CODIGO municipio]],[3]!Tabla8[#All],8,FALSE),\"\")","v":""},{"$f":"IFERROR(VLOOKUP(Tabla38[[#This Row],[CODIGO municipio]],[3]!Tabla8[#All],9,FALSE),\"\")","v":""},{"$f":"IFERROR(VLOOKUP(Tabla38[[#This Row],[CODIGO municipio]],[3]!Tabla8[#All],10,FALSE),\"\")","v":""},{"$f":"IFERROR(VLOOKUP(Tabla38[[#This Row],[CODIGO municipio]],[3]!Tabla8[#All],11,FALSE),\"\")","v":""},{"$f":"IFERROR(VLOOKUP(Tabla38[[#This Row],[CODIGO municipio]],[3]!Tabla8[#All],12,FALSE),\"\")","v":""},{"$f":"IFERROR(VLOOKUP(Tabla38[[#This Row],[CODIGO municipio]],[3]!Tabla8[#All],13,FALSE),\"\")","v":""},{"$f":"IFERROR(VLOOKUP(Tabla38[[#This Row],[CODIGO municipio]],[3]!Tabla8[#All],14,FALSE),\"\")","v":""},{"$f":"IFERROR(VLOOKUP(Tabla38[[#This Row],[CODIGO municipio]],[3]!Tabla8[#All],15,FALSE),\"\")","v":""},{"$f":"IFERROR(VLOOKUP(Tabla38[[#This Row],[CODIGO municipio]],[3]!Tabla8[#All],16,FALSE),\"\")","v":""},{"$f":"IFERROR(VLOOKUP(Tabla38[[#This Row],[CODIGO municipio]],[3]!Tabla8[#All],17,FALSE),\"\")","v":""},{"$f":"IFERROR(VLOOKUP(Tabla38[[#This Row],[CODIGO municipio]],[3]!Tabla8[#All],18,FALSE),\"\")","v":""},{"$f":"IFERROR(VLOOKUP(Tabla38[[#This Row],[CODIGO municipio]],[3]!Tabla8[#All],19,FALSE),\"\")","v":""},{"$f":"IFERROR(VLOOKUP(Tabla38[[#This Row],[CODIGO municipio]],[3]!Tabla8[#All],20,FALSE),\"\")","v":""},{"$f":"IFERROR(VLOOKUP(Tabla38[[#This Row],[CODIGO municipio]],[3]!Tabla8[#All],21,FALSE),\"\")","v":""},{"$f":"IFERROR(VLOOKUP(Tabla38[[#This Row],[CODIGO municipio]],[3]!Tabla8[#All],22,FALSE),\"\")","v":""},{"$f":"IFERROR(VLOOKUP(Tabla38[[#This Row],[CODIGO municipio]],[3]!Tabla8[#All],23,FALSE),\"\")","v":""},{"$f":"IFERROR(VLOOKUP(Tabla38[[#This Row],[CODIGO municipio]],[3]!Tabla9[#All],3,FALSE),\"\")","v":""}]
[{"$f":"IFERROR(VLOOKUP(Tabla38[[#This Row],[Municipio]],[3]!Tabla2[#All],3,FALSE),\"\")","v":""},1217,"Ayutla",{"$f":"IFERROR(VLOOKUP(Tabla38[[#This Row],[CODIGO municipio]],[3]!Tabla6[[#All],[codigo_mun]],1,FALSE),\"\")","v":""},{"$f":"IFERROR(VLOOKUP(Tabla38[[#This Row],[CODIGO municipio]],[3]!Tabla12[#All],2,FALSE),\"\")","v":""},{"$f":"IFERROR(VLOOKUP(Tabla38[[#This Row],[CODIGO municipio]],[3]!Tabla7[#All],3,FALSE),\"\")","v":""},{"$f":"IFERROR(VLOOKUP(Tabla38[[#This Row],[CODIGO municipio]],[3]!Tabla7[#All],4,FALSE),\"\")","v":""},{"$f":"IFERROR(VLOOKUP(Tabla38[[#This Row],[CODIGO municipio]],[3]!Tabla7[#All],11,FALSE),\"\")","v":""},{"$f":"IFERROR(VLOOKUP(Tabla38[[#This Row],[CODIGO municipio]],[3]!Tabla7[#All],12,FALSE),\"\")","v":""},{"$f":"IFERROR(VLOOKUP(Tabla38[[#This Row],[CODIGO municipio]],[3]!Tabla7[#All],13,FALSE),\"\")","v":""},{"$f":"IFERROR(VLOOKUP(Tabla38[[#This Row],[CODIGO municipio]],[3]!Tabla7[#All],14,FALSE),\"\")","v":""},{"$f":"IFERROR(VLOOKUP(Tabla38[[#This Row],[CODIGO municipio]],[3]!Tabla7[#All],15,FALSE),\"\")","v":""},{"$f":"IFERROR(VLOOKUP(Tabla38[[#This Row],[CODIGO municipio]],[3]!Tabla7[#All],16,FALSE),\"\")","v":""},{"$f":"IFERROR(VLOOKUP(Tabla38[[#This Row],[CODIGO municipio]],[3]!Tabla7[#All],17,FALSE),\"\")","v":""},{"$f":"IFERROR(VLOOKUP(Tabla38[[#This Row],[CODIGO municipio]],[3]!Tabla7[#All],18,FALSE),\"\")","v":""},{"$f":"IFERROR(VLOOKUP(Tabla38[[#This Row],[CODIGO municipio]],[3]!Tabla7[#All],19,FALSE),\"\")","v":""},{"$f":"IFERROR(VLOOKUP(Tabla38[[#This Row],[CODIGO municipio]],[3]!Tabla8[#All],3,FALSE),\"\")","v":""},{"$f":"IFERROR(VLOOKUP(Tabla38[[#This Row],[CODIGO municipio]],[3]!Tabla8[#All],4,FALSE),\"\")","v":""},{"$f":"IFERROR(VLOOKUP(Tabla38[[#This Row],[CODIGO municipio]],[3]!Tabla8[#All],5,FALSE),\"\")","v":""},{"$f":"IFERROR(VLOOKUP(Tabla38[[#This Row],[CODIGO municipio]],[3]!Tabla8[#All],6,FALSE),\"\")","v":""},{"$f":"IFERROR(VLOOKUP(Tabla38[[#This Row],[CODIGO municipio]],[3]!Tabla8[#All],7,FALSE),\"\")","v":""},{"$f":"IFERROR(VLOOKUP(Tabla38[[#This Row],[CODIGO municipio]],[3]!Tabla8[#All],8,FALSE),\"\")","v":""},{"$f":"IFERROR(VLOOKUP(Tabla38[[#This Row],[CODIGO municipio]],[3]!Tabla8[#All],9,FALSE),\"\")","v":""},{"$f":"IFERROR(VLOOKUP(Tabla38[[#This Row],[CODIGO municipio]],[3]!Tabla8[#All],10,FALSE),\"\")","v":""},{"$f":"IFERROR(VLOOKUP(Tabla38[[#This Row],[CODIGO municipio]],[3]!Tabla8[#All],11,FALSE),\"\")","v":""},{"$f":"IFERROR(VLOOKUP(Tabla38[[#This Row],[CODIGO municipio]],[3]!Tabla8[#All],12,FALSE),\"\")","v":""},{"$f":"IFERROR(VLOOKUP(Tabla38[[#This Row],[CODIGO municipio]],[3]!Tabla8[#All],13,FALSE),\"\")","v":""},{"$f":"IFERROR(VLOOKUP(Tabla38[[#This Row],[CODIGO municipio]],[3]!Tabla8[#All],14,FALSE),\"\")","v":""},{"$f":"IFERROR(VLOOKUP(Tabla38[[#This Row],[CODIGO municipio]],[3]!Tabla8[#All],15,FALSE),\"\")","v":""},{"$f":"IFERROR(VLOOKUP(Tabla38[[#This Row],[CODIGO municipio]],[3]!Tabla8[#All],16,FALSE),\"\")","v":""},{"$f":"IFERROR(VLOOKUP(Tabla38[[#This Row],[CODIGO municipio]],[3]!Tabla8[#All],17,FALSE),\"\")","v":""},{"$f":"IFERROR(VLOOKUP(Tabla38[[#This Row],[CODIGO municipio]],[3]!Tabla8[#All],18,FALSE),\"\")","v":""},{"$f":"IFERROR(VLOOKUP(Tabla38[[#This Row],[CODIGO municipio]],[3]!Tabla8[#All],19,FALSE),\"\")","v":""},{"$f":"IFERROR(VLOOKUP(Tabla38[[#This Row],[CODIGO municipio]],[3]!Tabla8[#All],20,FALSE),\"\")","v":""},{"$f":"IFERROR(VLOOKUP(Tabla38[[#This Row],[CODIGO municipio]],[3]!Tabla8[#All],21,FALSE),\"\")","v":""},{"$f":"IFERROR(VLOOKUP(Tabla38[[#This Row],[CODIGO municipio]],[3]!Tabla8[#All],22,FALSE),\"\")","v":""},{"$f":"IFERROR(VLOOKUP(Tabla38[[#This Row],[CODIGO municipio]],[3]!Tabla8[#All],23,FALSE),\"\")","v":""},{"$f":"IFERROR(VLOOKUP(Tabla38[[#This Row],[CODIGO municipio]],[3]!Tabla9[#All],3,FALSE),\"\")","v":""}]
[{"$f":"IFERROR(VLOOKUP(Tabla38[[#This Row],[Municipio]],[3]!Tabla2[#All],3,FALSE),\"\")","v":""},1218,"Ocós",{"$f":"IFERROR(VLOOKUP(Tabla38[[#This Row],[CODIGO municipio]],[3]!Tabla6[[#All],[codigo_mun]],1,FALSE),\"\")","v":""},{"$f":"IFERROR(VLOOKUP(Tabla38[[#This Row],[CODIGO municipio]],[3]!Tabla12[#All],2,FALSE),\"\")","v":""},{"$f":"IFERROR(VLOOKUP(Tabla38[[#This Row],[CODIGO municipio]],[3]!Tabla7[#All],3,FALSE),\"\")","v":""},{"$f":"IFERROR(VLOOKUP(Tabla38[[#This Row],[CODIGO municipio]],[3]!Tabla7[#All],4,FALSE),\"\")","v":""},{"$f":"IFERROR(VLOOKUP(Tabla38[[#This Row],[CODIGO municipio]],[3]!Tabla7[#All],11,FALSE),\"\")","v":""},{"$f":"IFERROR(VLOOKUP(Tabla38[[#This Row],[CODIGO municipio]],[3]!Tabla7[#All],12,FALSE),\"\")","v":""},{"$f":"IFERROR(VLOOKUP(Tabla38[[#This Row],[CODIGO municipio]],[3]!Tabla7[#All],13,FALSE),\"\")","v":""},{"$f":"IFERROR(VLOOKUP(Tabla38[[#This Row],[CODIGO municipio]],[3]!Tabla7[#All],14,FALSE),\"\")","v":""},{"$f":"IFERROR(VLOOKUP(Tabla38[[#This Row],[CODIGO municipio]],[3]!Tabla7[#All],15,FALSE),\"\")","v":""},{"$f":"IFERROR(VLOOKUP(Tabla38[[#This Row],[CODIGO municipio]],[3]!Tabla7[#All],16,FALSE),\"\")","v":""},{"$f":"IFERROR(VLOOKUP(Tabla38[[#This Row],[CODIGO municipio]],[3]!Tabla7[#All],17,FALSE),\"\")","v":""},{"$f":"IFERROR(VLOOKUP(Tabla38[[#This Row],[CODIGO municipio]],[3]!Tabla7[#All],18,FALSE),\"\")","v":""},{"$f":"IFERROR(VLOOKUP(Tabla38[[#This Row],[CODIGO municipio]],[3]!Tabla7[#All],19,FALSE),\"\")","v":""},{"$f":"IFERROR(VLOOKUP(Tabla38[[#This Row],[CODIGO municipio]],[3]!Tabla8[#All],3,FALSE),\"\")","v":""},{"$f":"IFERROR(VLOOKUP(Tabla38[[#This Row],[CODIGO municipio]],[3]!Tabla8[#All],4,FALSE),\"\")","v":""},{"$f":"IFERROR(VLOOKUP(Tabla38[[#This Row],[CODIGO municipio]],[3]!Tabla8[#All],5,FALSE),\"\")","v":""},{"$f":"IFERROR(VLOOKUP(Tabla38[[#This Row],[CODIGO municipio]],[3]!Tabla8[#All],6,FALSE),\"\")","v":""},{"$f":"IFERROR(VLOOKUP(Tabla38[[#This Row],[CODIGO municipio]],[3]!Tabla8[#All],7,FALSE),\"\")","v":""},{"$f":"IFERROR(VLOOKUP(Tabla38[[#This Row],[CODIGO municipio]],[3]!Tabla8[#All],8,FALSE),\"\")","v":""},{"$f":"IFERROR(VLOOKUP(Tabla38[[#This Row],[CODIGO municipio]],[3]!Tabla8[#All],9,FALSE),\"\")","v":""},{"$f":"IFERROR(VLOOKUP(Tabla38[[#This Row],[CODIGO municipio]],[3]!Tabla8[#All],10,FALSE),\"\")","v":""},{"$f":"IFERROR(VLOOKUP(Tabla38[[#This Row],[CODIGO municipio]],[3]!Tabla8[#All],11,FALSE),\"\")","v":""},{"$f":"IFERROR(VLOOKUP(Tabla38[[#This Row],[CODIGO municipio]],[3]!Tabla8[#All],12,FALSE),\"\")","v":""},{"$f":"IFERROR(VLOOKUP(Tabla38[[#This Row],[CODIGO municipio]],[3]!Tabla8[#All],13,FALSE),\"\")","v":""},{"$f":"IFERROR(VLOOKUP(Tabla38[[#This Row],[CODIGO municipio]],[3]!Tabla8[#All],14,FALSE),\"\")","v":""},{"$f":"IFERROR(VLOOKUP(Tabla38[[#This Row],[CODIGO municipio]],[3]!Tabla8[#All],15,FALSE),\"\")","v":""},{"$f":"IFERROR(VLOOKUP(Tabla38[[#This Row],[CODIGO municipio]],[3]!Tabla8[#All],16,FALSE),\"\")","v":""},{"$f":"IFERROR(VLOOKUP(Tabla38[[#This Row],[CODIGO municipio]],[3]!Tabla8[#All],17,FALSE),\"\")","v":""},{"$f":"IFERROR(VLOOKUP(Tabla38[[#This Row],[CODIGO municipio]],[3]!Tabla8[#All],18,FALSE),\"\")","v":""},{"$f":"IFERROR(VLOOKUP(Tabla38[[#This Row],[CODIGO municipio]],[3]!Tabla8[#All],19,FALSE),\"\")","v":""},{"$f":"IFERROR(VLOOKUP(Tabla38[[#This Row],[CODIGO municipio]],[3]!Tabla8[#All],20,FALSE),\"\")","v":""},{"$f":"IFERROR(VLOOKUP(Tabla38[[#This Row],[CODIGO municipio]],[3]!Tabla8[#All],21,FALSE),\"\")","v":""},{"$f":"IFERROR(VLOOKUP(Tabla38[[#This Row],[CODIGO municipio]],[3]!Tabla8[#All],22,FALSE),\"\")","v":""},{"$f":"IFERROR(VLOOKUP(Tabla38[[#This Row],[CODIGO municipio]],[3]!Tabla8[#All],23,FALSE),\"\")","v":""},{"$f":"IFERROR(VLOOKUP(Tabla38[[#This Row],[CODIGO municipio]],[3]!Tabla9[#All],3,FALSE),\"\")","v":""}]
[{"$f":"IFERROR(VLOOKUP(Tabla38[[#This Row],[Municipio]],[3]!Tabla2[#All],3,FALSE),\"\")","v":""},1219,"San Pablo",{"$f":"IFERROR(VLOOKUP(Tabla38[[#This Row],[CODIGO municipio]],[3]!Tabla6[[#All],[codigo_mun]],1,FALSE),\"\")","v":""},{"$f":"IFERROR(VLOOKUP(Tabla38[[#This Row],[CODIGO municipio]],[3]!Tabla12[#All],2,FALSE),\"\")","v":""},{"$f":"IFERROR(VLOOKUP(Tabla38[[#This Row],[CODIGO municipio]],[3]!Tabla7[#All],3,FALSE),\"\")","v":""},{"$f":"IFERROR(VLOOKUP(Tabla38[[#This Row],[CODIGO municipio]],[3]!Tabla7[#All],4,FALSE),\"\")","v":""},{"$f":"IFERROR(VLOOKUP(Tabla38[[#This Row],[CODIGO municipio]],[3]!Tabla7[#All],11,FALSE),\"\")","v":""},{"$f":"IFERROR(VLOOKUP(Tabla38[[#This Row],[CODIGO municipio]],[3]!Tabla7[#All],12,FALSE),\"\")","v":""},{"$f":"IFERROR(VLOOKUP(Tabla38[[#This Row],[CODIGO municipio]],[3]!Tabla7[#All],13,FALSE),\"\")","v":""},{"$f":"IFERROR(VLOOKUP(Tabla38[[#This Row],[CODIGO municipio]],[3]!Tabla7[#All],14,FALSE),\"\")","v":""},{"$f":"IFERROR(VLOOKUP(Tabla38[[#This Row],[CODIGO municipio]],[3]!Tabla7[#All],15,FALSE),\"\")","v":""},{"$f":"IFERROR(VLOOKUP(Tabla38[[#This Row],[CODIGO municipio]],[3]!Tabla7[#All],16,FALSE),\"\")","v":""},{"$f":"IFERROR(VLOOKUP(Tabla38[[#This Row],[CODIGO municipio]],[3]!Tabla7[#All],17,FALSE),\"\")","v":""},{"$f":"IFERROR(VLOOKUP(Tabla38[[#This Row],[CODIGO municipio]],[3]!Tabla7[#All],18,FALSE),\"\")","v":""},{"$f":"IFERROR(VLOOKUP(Tabla38[[#This Row],[CODIGO municipio]],[3]!Tabla7[#All],19,FALSE),\"\")","v":""},{"$f":"IFERROR(VLOOKUP(Tabla38[[#This Row],[CODIGO municipio]],[3]!Tabla8[#All],3,FALSE),\"\")","v":""},{"$f":"IFERROR(VLOOKUP(Tabla38[[#This Row],[CODIGO municipio]],[3]!Tabla8[#All],4,FALSE),\"\")","v":""},{"$f":"IFERROR(VLOOKUP(Tabla38[[#This Row],[CODIGO municipio]],[3]!Tabla8[#All],5,FALSE),\"\")","v":""},{"$f":"IFERROR(VLOOKUP(Tabla38[[#This Row],[CODIGO municipio]],[3]!Tabla8[#All],6,FALSE),\"\")","v":""},{"$f":"IFERROR(VLOOKUP(Tabla38[[#This Row],[CODIGO municipio]],[3]!Tabla8[#All],7,FALSE),\"\")","v":""},{"$f":"IFERROR(VLOOKUP(Tabla38[[#This Row],[CODIGO municipio]],[3]!Tabla8[#All],8,FALSE),\"\")","v":""},{"$f":"IFERROR(VLOOKUP(Tabla38[[#This Row],[CODIGO municipio]],[3]!Tabla8[#All],9,FALSE),\"\")","v":""},{"$f":"IFERROR(VLOOKUP(Tabla38[[#This Row],[CODIGO municipio]],[3]!Tabla8[#All],10,FALSE),\"\")","v":""},{"$f":"IFERROR(VLOOKUP(Tabla38[[#This Row],[CODIGO municipio]],[3]!Tabla8[#All],11,FALSE),\"\")","v":""},{"$f":"IFERROR(VLOOKUP(Tabla38[[#This Row],[CODIGO municipio]],[3]!Tabla8[#All],12,FALSE),\"\")","v":""},{"$f":"IFERROR(VLOOKUP(Tabla38[[#This Row],[CODIGO municipio]],[3]!Tabla8[#All],13,FALSE),\"\")","v":""},{"$f":"IFERROR(VLOOKUP(Tabla38[[#This Row],[CODIGO municipio]],[3]!Tabla8[#All],14,FALSE),\"\")","v":""},{"$f":"IFERROR(VLOOKUP(Tabla38[[#This Row],[CODIGO municipio]],[3]!Tabla8[#All],15,FALSE),\"\")","v":""},{"$f":"IFERROR(VLOOKUP(Tabla38[[#This Row],[CODIGO municipio]],[3]!Tabla8[#All],16,FALSE),\"\")","v":""},{"$f":"IFERROR(VLOOKUP(Tabla38[[#This Row],[CODIGO municipio]],[3]!Tabla8[#All],17,FALSE),\"\")","v":""},{"$f":"IFERROR(VLOOKUP(Tabla38[[#This Row],[CODIGO municipio]],[3]!Tabla8[#All],18,FALSE),\"\")","v":""},{"$f":"IFERROR(VLOOKUP(Tabla38[[#This Row],[CODIGO municipio]],[3]!Tabla8[#All],19,FALSE),\"\")","v":""},{"$f":"IFERROR(VLOOKUP(Tabla38[[#This Row],[CODIGO municipio]],[3]!Tabla8[#All],20,FALSE),\"\")","v":""},{"$f":"IFERROR(VLOOKUP(Tabla38[[#This Row],[CODIGO municipio]],[3]!Tabla8[#All],21,FALSE),\"\")","v":""},{"$f":"IFERROR(VLOOKUP(Tabla38[[#This Row],[CODIGO municipio]],[3]!Tabla8[#All],22,FALSE),\"\")","v":""},{"$f":"IFERROR(VLOOKUP(Tabla38[[#This Row],[CODIGO municipio]],[3]!Tabla8[#All],23,FALSE),\"\")","v":""},{"$f":"IFERROR(VLOOKUP(Tabla38[[#This Row],[CODIGO municipio]],[3]!Tabla9[#All],3,FALSE),\"\")","v":""}]
[{"$f":"IFERROR(VLOOKUP(Tabla38[[#This Row],[Municipio]],[3]!Tabla2[#All],3,FALSE),\"\")","v":""},1220,"El Quetzal",{"$f":"IFERROR(VLOOKUP(Tabla38[[#This Row],[CODIGO municipio]],[3]!Tabla6[[#All],[codigo_mun]],1,FALSE),\"\")","v":""},{"$f":"IFERROR(VLOOKUP(Tabla38[[#This Row],[CODIGO municipio]],[3]!Tabla12[#All],2,FALSE),\"\")","v":""},{"$f":"IFERROR(VLOOKUP(Tabla38[[#This Row],[CODIGO municipio]],[3]!Tabla7[#All],3,FALSE),\"\")","v":""},{"$f":"IFERROR(VLOOKUP(Tabla38[[#This Row],[CODIGO municipio]],[3]!Tabla7[#All],4,FALSE),\"\")","v":""},{"$f":"IFERROR(VLOOKUP(Tabla38[[#This Row],[CODIGO municipio]],[3]!Tabla7[#All],11,FALSE),\"\")","v":""},{"$f":"IFERROR(VLOOKUP(Tabla38[[#This Row],[CODIGO municipio]],[3]!Tabla7[#All],12,FALSE),\"\")","v":""},{"$f":"IFERROR(VLOOKUP(Tabla38[[#This Row],[CODIGO municipio]],[3]!Tabla7[#All],13,FALSE),\"\")","v":""},{"$f":"IFERROR(VLOOKUP(Tabla38[[#This Row],[CODIGO municipio]],[3]!Tabla7[#All],14,FALSE),\"\")","v":""},{"$f":"IFERROR(VLOOKUP(Tabla38[[#This Row],[CODIGO municipio]],[3]!Tabla7[#All],15,FALSE),\"\")","v":""},{"$f":"IFERROR(VLOOKUP(Tabla38[[#This Row],[CODIGO municipio]],[3]!Tabla7[#All],16,FALSE),\"\")","v":""},{"$f":"IFERROR(VLOOKUP(Tabla38[[#This Row],[CODIGO municipio]],[3]!Tabla7[#All],17,FALSE),\"\")","v":""},{"$f":"IFERROR(VLOOKUP(Tabla38[[#This Row],[CODIGO municipio]],[3]!Tabla7[#All],18,FALSE),\"\")","v":""},{"$f":"IFERROR(VLOOKUP(Tabla38[[#This Row],[CODIGO municipio]],[3]!Tabla7[#All],19,FALSE),\"\")","v":""},{"$f":"IFERROR(VLOOKUP(Tabla38[[#This Row],[CODIGO municipio]],[3]!Tabla8[#All],3,FALSE),\"\")","v":""},{"$f":"IFERROR(VLOOKUP(Tabla38[[#This Row],[CODIGO municipio]],[3]!Tabla8[#All],4,FALSE),\"\")","v":""},{"$f":"IFERROR(VLOOKUP(Tabla38[[#This Row],[CODIGO municipio]],[3]!Tabla8[#All],5,FALSE),\"\")","v":""},{"$f":"IFERROR(VLOOKUP(Tabla38[[#This Row],[CODIGO municipio]],[3]!Tabla8[#All],6,FALSE),\"\")","v":""},{"$f":"IFERROR(VLOOKUP(Tabla38[[#This Row],[CODIGO municipio]],[3]!Tabla8[#All],7,FALSE),\"\")","v":""},{"$f":"IFERROR(VLOOKUP(Tabla38[[#This Row],[CODIGO municipio]],[3]!Tabla8[#All],8,FALSE),\"\")","v":""},{"$f":"IFERROR(VLOOKUP(Tabla38[[#This Row],[CODIGO municipio]],[3]!Tabla8[#All],9,FALSE),\"\")","v":""},{"$f":"IFERROR(VLOOKUP(Tabla38[[#This Row],[CODIGO municipio]],[3]!Tabla8[#All],10,FALSE),\"\")","v":""},{"$f":"IFERROR(VLOOKUP(Tabla38[[#This Row],[CODIGO municipio]],[3]!Tabla8[#All],11,FALSE),\"\")","v":""},{"$f":"IFERROR(VLOOKUP(Tabla38[[#This Row],[CODIGO municipio]],[3]!Tabla8[#All],12,FALSE),\"\")","v":""},{"$f":"IFERROR(VLOOKUP(Tabla38[[#This Row],[CODIGO municipio]],[3]!Tabla8[#All],13,FALSE),\"\")","v":""},{"$f":"IFERROR(VLOOKUP(Tabla38[[#This Row],[CODIGO municipio]],[3]!Tabla8[#All],14,FALSE),\"\")","v":""},{"$f":"IFERROR(VLOOKUP(Tabla38[[#This Row],[CODIGO municipio]],[3]!Tabla8[#All],15,FALSE),\"\")","v":""},{"$f":"IFERROR(VLOOKUP(Tabla38[[#This Row],[CODIGO municipio]],[3]!Tabla8[#All],16,FALSE),\"\")","v":""},{"$f":"IFERROR(VLOOKUP(Tabla38[[#This Row],[CODIGO municipio]],[3]!Tabla8[#All],17,FALSE),\"\")","v":""},{"$f":"IFERROR(VLOOKUP(Tabla38[[#This Row],[CODIGO municipio]],[3]!Tabla8[#All],18,FALSE),\"\")","v":""},{"$f":"IFERROR(VLOOKUP(Tabla38[[#This Row],[CODIGO municipio]],[3]!Tabla8[#All],19,FALSE),\"\")","v":""},{"$f":"IFERROR(VLOOKUP(Tabla38[[#This Row],[CODIGO municipio]],[3]!Tabla8[#All],20,FALSE),\"\")","v":""},{"$f":"IFERROR(VLOOKUP(Tabla38[[#This Row],[CODIGO municipio]],[3]!Tabla8[#All],21,FALSE),\"\")","v":""},{"$f":"IFERROR(VLOOKUP(Tabla38[[#This Row],[CODIGO municipio]],[3]!Tabla8[#All],22,FALSE),\"\")","v":""},{"$f":"IFERROR(VLOOKUP(Tabla38[[#This Row],[CODIGO municipio]],[3]!Tabla8[#All],23,FALSE),\"\")","v":""},{"$f":"IFERROR(VLOOKUP(Tabla38[[#This Row],[CODIGO municipio]],[3]!Tabla9[#All],3,FALSE),\"\")","v":""}]
[{"$f":"IFERROR(VLOOKUP(Tabla38[[#This Row],[Municipio]],[3]!Tabla2[#All],3,FALSE),\"\")","v":""},1221,"La Reforma",{"$f":"IFERROR(VLOOKUP(Tabla38[[#This Row],[CODIGO municipio]],[3]!Tabla6[[#All],[codigo_mun]],1,FALSE),\"\")","v":""},{"$f":"IFERROR(VLOOKUP(Tabla38[[#This Row],[CODIGO municipio]],[3]!Tabla12[#All],2,FALSE),\"\")","v":""},{"$f":"IFERROR(VLOOKUP(Tabla38[[#This Row],[CODIGO municipio]],[3]!Tabla7[#All],3,FALSE),\"\")","v":""},{"$f":"IFERROR(VLOOKUP(Tabla38[[#This Row],[CODIGO municipio]],[3]!Tabla7[#All],4,FALSE),\"\")","v":""},{"$f":"IFERROR(VLOOKUP(Tabla38[[#This Row],[CODIGO municipio]],[3]!Tabla7[#All],11,FALSE),\"\")","v":""},{"$f":"IFERROR(VLOOKUP(Tabla38[[#This Row],[CODIGO municipio]],[3]!Tabla7[#All],12,FALSE),\"\")","v":""},{"$f":"IFERROR(VLOOKUP(Tabla38[[#This Row],[CODIGO municipio]],[3]!Tabla7[#All],13,FALSE),\"\")","v":""},{"$f":"IFERROR(VLOOKUP(Tabla38[[#This Row],[CODIGO municipio]],[3]!Tabla7[#All],14,FALSE),\"\")","v":""},{"$f":"IFERROR(VLOOKUP(Tabla38[[#This Row],[CODIGO municipio]],[3]!Tabla7[#All],15,FALSE),\"\")","v":""},{"$f":"IFERROR(VLOOKUP(Tabla38[[#This Row],[CODIGO municipio]],[3]!Tabla7[#All],16,FALSE),\"\")","v":""},{"$f":"IFERROR(VLOOKUP(Tabla38[[#This Row],[CODIGO municipio]],[3]!Tabla7[#All],17,FALSE),\"\")","v":""},{"$f":"IFERROR(VLOOKUP(Tabla38[[#This Row],[CODIGO municipio]],[3]!Tabla7[#All],18,FALSE),\"\")","v":""},{"$f":"IFERROR(VLOOKUP(Tabla38[[#This Row],[CODIGO municipio]],[3]!Tabla7[#All],19,FALSE),\"\")","v":""},{"$f":"IFERROR(VLOOKUP(Tabla38[[#This Row],[CODIGO municipio]],[3]!Tabla8[#All],3,FALSE),\"\")","v":""},{"$f":"IFERROR(VLOOKUP(Tabla38[[#This Row],[CODIGO municipio]],[3]!Tabla8[#All],4,FALSE),\"\")","v":""},{"$f":"IFERROR(VLOOKUP(Tabla38[[#This Row],[CODIGO municipio]],[3]!Tabla8[#All],5,FALSE),\"\")","v":""},{"$f":"IFERROR(VLOOKUP(Tabla38[[#This Row],[CODIGO municipio]],[3]!Tabla8[#All],6,FALSE),\"\")","v":""},{"$f":"IFERROR(VLOOKUP(Tabla38[[#This Row],[CODIGO municipio]],[3]!Tabla8[#All],7,FALSE),\"\")","v":""},{"$f":"IFERROR(VLOOKUP(Tabla38[[#This Row],[CODIGO municipio]],[3]!Tabla8[#All],8,FALSE),\"\")","v":""},{"$f":"IFERROR(VLOOKUP(Tabla38[[#This Row],[CODIGO municipio]],[3]!Tabla8[#All],9,FALSE),\"\")","v":""},{"$f":"IFERROR(VLOOKUP(Tabla38[[#This Row],[CODIGO municipio]],[3]!Tabla8[#All],10,FALSE),\"\")","v":""},{"$f":"IFERROR(VLOOKUP(Tabla38[[#This Row],[CODIGO municipio]],[3]!Tabla8[#All],11,FALSE),\"\")","v":""},{"$f":"IFERROR(VLOOKUP(Tabla38[[#This Row],[CODIGO municipio]],[3]!Tabla8[#All],12,FALSE),\"\")","v":""},{"$f":"IFERROR(VLOOKUP(Tabla38[[#This Row],[CODIGO municipio]],[3]!Tabla8[#All],13,FALSE),\"\")","v":""},{"$f":"IFERROR(VLOOKUP(Tabla38[[#This Row],[CODIGO municipio]],[3]!Tabla8[#All],14,FALSE),\"\")","v":""},{"$f":"IFERROR(VLOOKUP(Tabla38[[#This Row],[CODIGO municipio]],[3]!Tabla8[#All],15,FALSE),\"\")","v":""},{"$f":"IFERROR(VLOOKUP(Tabla38[[#This Row],[CODIGO municipio]],[3]!Tabla8[#All],16,FALSE),\"\")","v":""},{"$f":"IFERROR(VLOOKUP(Tabla38[[#This Row],[CODIGO municipio]],[3]!Tabla8[#All],17,FALSE),\"\")","v":""},{"$f":"IFERROR(VLOOKUP(Tabla38[[#This Row],[CODIGO municipio]],[3]!Tabla8[#All],18,FALSE),\"\")","v":""},{"$f":"IFERROR(VLOOKUP(Tabla38[[#This Row],[CODIGO municipio]],[3]!Tabla8[#All],19,FALSE),\"\")","v":""},{"$f":"IFERROR(VLOOKUP(Tabla38[[#This Row],[CODIGO municipio]],[3]!Tabla8[#All],20,FALSE),\"\")","v":""},{"$f":"IFERROR(VLOOKUP(Tabla38[[#This Row],[CODIGO municipio]],[3]!Tabla8[#All],21,FALSE),\"\")","v":""},{"$f":"IFERROR(VLOOKUP(Tabla38[[#This Row],[CODIGO municipio]],[3]!Tabla8[#All],22,FALSE),\"\")","v":""},{"$f":"IFERROR(VLOOKUP(Tabla38[[#This Row],[CODIGO municipio]],[3]!Tabla8[#All],23,FALSE),\"\")","v":""},{"$f":"IFERROR(VLOOKUP(Tabla38[[#This Row],[CODIGO municipio]],[3]!Tabla9[#All],3,FALSE),\"\")","v":""}]
[{"$f":"IFERROR(VLOOKUP(Tabla38[[#This Row],[Municipio]],[3]!Tabla2[#All],3,FALSE),\"\")","v":""},1222,"Pajapita",{"$f":"IFERROR(VLOOKUP(Tabla38[[#This Row],[CODIGO municipio]],[3]!Tabla6[[#All],[codigo_mun]],1,FALSE),\"\")","v":""},{"$f":"IFERROR(VLOOKUP(Tabla38[[#This Row],[CODIGO municipio]],[3]!Tabla12[#All],2,FALSE),\"\")","v":""},{"$f":"IFERROR(VLOOKUP(Tabla38[[#This Row],[CODIGO municipio]],[3]!Tabla7[#All],3,FALSE),\"\")","v":""},{"$f":"IFERROR(VLOOKUP(Tabla38[[#This Row],[CODIGO municipio]],[3]!Tabla7[#All],4,FALSE),\"\")","v":""},{"$f":"IFERROR(VLOOKUP(Tabla38[[#This Row],[CODIGO municipio]],[3]!Tabla7[#All],11,FALSE),\"\")","v":""},{"$f":"IFERROR(VLOOKUP(Tabla38[[#This Row],[CODIGO municipio]],[3]!Tabla7[#All],12,FALSE),\"\")","v":""},{"$f":"IFERROR(VLOOKUP(Tabla38[[#This Row],[CODIGO municipio]],[3]!Tabla7[#All],13,FALSE),\"\")","v":""},{"$f":"IFERROR(VLOOKUP(Tabla38[[#This Row],[CODIGO municipio]],[3]!Tabla7[#All],14,FALSE),\"\")","v":""},{"$f":"IFERROR(VLOOKUP(Tabla38[[#This Row],[CODIGO municipio]],[3]!Tabla7[#All],15,FALSE),\"\")","v":""},{"$f":"IFERROR(VLOOKUP(Tabla38[[#This Row],[CODIGO municipio]],[3]!Tabla7[#All],16,FALSE),\"\")","v":""},{"$f":"IFERROR(VLOOKUP(Tabla38[[#This Row],[CODIGO municipio]],[3]!Tabla7[#All],17,FALSE),\"\")","v":""},{"$f":"IFERROR(VLOOKUP(Tabla38[[#This Row],[CODIGO municipio]],[3]!Tabla7[#All],18,FALSE),\"\")","v":""},{"$f":"IFERROR(VLOOKUP(Tabla38[[#This Row],[CODIGO municipio]],[3]!Tabla7[#All],19,FALSE),\"\")","v":""},{"$f":"IFERROR(VLOOKUP(Tabla38[[#This Row],[CODIGO municipio]],[3]!Tabla8[#All],3,FALSE),\"\")","v":""},{"$f":"IFERROR(VLOOKUP(Tabla38[[#This Row],[CODIGO municipio]],[3]!Tabla8[#All],4,FALSE),\"\")","v":""},{"$f":"IFERROR(VLOOKUP(Tabla38[[#This Row],[CODIGO municipio]],[3]!Tabla8[#All],5,FALSE),\"\")","v":""},{"$f":"IFERROR(VLOOKUP(Tabla38[[#This Row],[CODIGO municipio]],[3]!Tabla8[#All],6,FALSE),\"\")","v":""},{"$f":"IFERROR(VLOOKUP(Tabla38[[#This Row],[CODIGO municipio]],[3]!Tabla8[#All],7,FALSE),\"\")","v":""},{"$f":"IFERROR(VLOOKUP(Tabla38[[#This Row],[CODIGO municipio]],[3]!Tabla8[#All],8,FALSE),\"\")","v":""},{"$f":"IFERROR(VLOOKUP(Tabla38[[#This Row],[CODIGO municipio]],[3]!Tabla8[#All],9,FALSE),\"\")","v":""},{"$f":"IFERROR(VLOOKUP(Tabla38[[#This Row],[CODIGO municipio]],[3]!Tabla8[#All],10,FALSE),\"\")","v":""},{"$f":"IFERROR(VLOOKUP(Tabla38[[#This Row],[CODIGO municipio]],[3]!Tabla8[#All],11,FALSE),\"\")","v":""},{"$f":"IFERROR(VLOOKUP(Tabla38[[#This Row],[CODIGO municipio]],[3]!Tabla8[#All],12,FALSE),\"\")","v":""},{"$f":"IFERROR(VLOOKUP(Tabla38[[#This Row],[CODIGO municipio]],[3]!Tabla8[#All],13,FALSE),\"\")","v":""},{"$f":"IFERROR(VLOOKUP(Tabla38[[#This Row],[CODIGO municipio]],[3]!Tabla8[#All],14,FALSE),\"\")","v":""},{"$f":"IFERROR(VLOOKUP(Tabla38[[#This Row],[CODIGO municipio]],[3]!Tabla8[#All],15,FALSE),\"\")","v":""},{"$f":"IFERROR(VLOOKUP(Tabla38[[#This Row],[CODIGO municipio]],[3]!Tabla8[#All],16,FALSE),\"\")","v":""},{"$f":"IFERROR(VLOOKUP(Tabla38[[#This Row],[CODIGO municipio]],[3]!Tabla8[#All],17,FALSE),\"\")","v":""},{"$f":"IFERROR(VLOOKUP(Tabla38[[#This Row],[CODIGO municipio]],[3]!Tabla8[#All],18,FALSE),\"\")","v":""},{"$f":"IFERROR(VLOOKUP(Tabla38[[#This Row],[CODIGO municipio]],[3]!Tabla8[#All],19,FALSE),\"\")","v":""},{"$f":"IFERROR(VLOOKUP(Tabla38[[#This Row],[CODIGO municipio]],[3]!Tabla8[#All],20,FALSE),\"\")","v":""},{"$f":"IFERROR(VLOOKUP(Tabla38[[#This Row],[CODIGO municipio]],[3]!Tabla8[#All],21,FALSE),\"\")","v":""},{"$f":"IFERROR(VLOOKUP(Tabla38[[#This Row],[CODIGO municipio]],[3]!Tabla8[#All],22,FALSE),\"\")","v":""},{"$f":"IFERROR(VLOOKUP(Tabla38[[#This Row],[CODIGO municipio]],[3]!Tabla8[#All],23,FALSE),\"\")","v":""},{"$f":"IFERROR(VLOOKUP(Tabla38[[#This Row],[CODIGO municipio]],[3]!Tabla9[#All],3,FALSE),\"\")","v":""}]
[{"$f":"IFERROR(VLOOKUP(Tabla38[[#This Row],[Municipio]],[3]!Tabla2[#All],3,FALSE),\"\")","v":""},1223,"Ixchiguán",{"$f":"IFERROR(VLOOKUP(Tabla38[[#This Row],[CODIGO municipio]],[3]!Tabla6[[#All],[codigo_mun]],1,FALSE),\"\")","v":""},{"$f":"IFERROR(VLOOKUP(Tabla38[[#This Row],[CODIGO municipio]],[3]!Tabla12[#All],2,FALSE),\"\")","v":""},{"$f":"IFERROR(VLOOKUP(Tabla38[[#This Row],[CODIGO municipio]],[3]!Tabla7[#All],3,FALSE),\"\")","v":""},{"$f":"IFERROR(VLOOKUP(Tabla38[[#This Row],[CODIGO municipio]],[3]!Tabla7[#All],4,FALSE),\"\")","v":""},{"$f":"IFERROR(VLOOKUP(Tabla38[[#This Row],[CODIGO municipio]],[3]!Tabla7[#All],11,FALSE),\"\")","v":""},{"$f":"IFERROR(VLOOKUP(Tabla38[[#This Row],[CODIGO municipio]],[3]!Tabla7[#All],12,FALSE),\"\")","v":""},{"$f":"IFERROR(VLOOKUP(Tabla38[[#This Row],[CODIGO municipio]],[3]!Tabla7[#All],13,FALSE),\"\")","v":""},{"$f":"IFERROR(VLOOKUP(Tabla38[[#This Row],[CODIGO municipio]],[3]!Tabla7[#All],14,FALSE),\"\")","v":""},{"$f":"IFERROR(VLOOKUP(Tabla38[[#This Row],[CODIGO municipio]],[3]!Tabla7[#All],15,FALSE),\"\")","v":""},{"$f":"IFERROR(VLOOKUP(Tabla38[[#This Row],[CODIGO municipio]],[3]!Tabla7[#All],16,FALSE),\"\")","v":""},{"$f":"IFERROR(VLOOKUP(Tabla38[[#This Row],[CODIGO municipio]],[3]!Tabla7[#All],17,FALSE),\"\")","v":""},{"$f":"IFERROR(VLOOKUP(Tabla38[[#This Row],[CODIGO municipio]],[3]!Tabla7[#All],18,FALSE),\"\")","v":""},{"$f":"IFERROR(VLOOKUP(Tabla38[[#This Row],[CODIGO municipio]],[3]!Tabla7[#All],19,FALSE),\"\")","v":""},{"$f":"IFERROR(VLOOKUP(Tabla38[[#This Row],[CODIGO municipio]],[3]!Tabla8[#All],3,FALSE),\"\")","v":""},{"$f":"IFERROR(VLOOKUP(Tabla38[[#This Row],[CODIGO municipio]],[3]!Tabla8[#All],4,FALSE),\"\")","v":""},{"$f":"IFERROR(VLOOKUP(Tabla38[[#This Row],[CODIGO municipio]],[3]!Tabla8[#All],5,FALSE),\"\")","v":""},{"$f":"IFERROR(VLOOKUP(Tabla38[[#This Row],[CODIGO municipio]],[3]!Tabla8[#All],6,FALSE),\"\")","v":""},{"$f":"IFERROR(VLOOKUP(Tabla38[[#This Row],[CODIGO municipio]],[3]!Tabla8[#All],7,FALSE),\"\")","v":""},{"$f":"IFERROR(VLOOKUP(Tabla38[[#This Row],[CODIGO municipio]],[3]!Tabla8[#All],8,FALSE),\"\")","v":""},{"$f":"IFERROR(VLOOKUP(Tabla38[[#This Row],[CODIGO municipio]],[3]!Tabla8[#All],9,FALSE),\"\")","v":""},{"$f":"IFERROR(VLOOKUP(Tabla38[[#This Row],[CODIGO municipio]],[3]!Tabla8[#All],10,FALSE),\"\")","v":""},{"$f":"IFERROR(VLOOKUP(Tabla38[[#This Row],[CODIGO municipio]],[3]!Tabla8[#All],11,FALSE),\"\")","v":""},{"$f":"IFERROR(VLOOKUP(Tabla38[[#This Row],[CODIGO municipio]],[3]!Tabla8[#All],12,FALSE),\"\")","v":""},{"$f":"IFERROR(VLOOKUP(Tabla38[[#This Row],[CODIGO municipio]],[3]!Tabla8[#All],13,FALSE),\"\")","v":""},{"$f":"IFERROR(VLOOKUP(Tabla38[[#This Row],[CODIGO municipio]],[3]!Tabla8[#All],14,FALSE),\"\")","v":""},{"$f":"IFERROR(VLOOKUP(Tabla38[[#This Row],[CODIGO municipio]],[3]!Tabla8[#All],15,FALSE),\"\")","v":""},{"$f":"IFERROR(VLOOKUP(Tabla38[[#This Row],[CODIGO municipio]],[3]!Tabla8[#All],16,FALSE),\"\")","v":""},{"$f":"IFERROR(VLOOKUP(Tabla38[[#This Row],[CODIGO municipio]],[3]!Tabla8[#All],17,FALSE),\"\")","v":""},{"$f":"IFERROR(VLOOKUP(Tabla38[[#This Row],[CODIGO municipio]],[3]!Tabla8[#All],18,FALSE),\"\")","v":""},{"$f":"IFERROR(VLOOKUP(Tabla38[[#This Row],[CODIGO municipio]],[3]!Tabla8[#All],19,FALSE),\"\")","v":""},{"$f":"IFERROR(VLOOKUP(Tabla38[[#This Row],[CODIGO municipio]],[3]!Tabla8[#All],20,FALSE),\"\")","v":""},{"$f":"IFERROR(VLOOKUP(Tabla38[[#This Row],[CODIGO municipio]],[3]!Tabla8[#All],21,FALSE),\"\")","v":""},{"$f":"IFERROR(VLOOKUP(Tabla38[[#This Row],[CODIGO municipio]],[3]!Tabla8[#All],22,FALSE),\"\")","v":""},{"$f":"IFERROR(VLOOKUP(Tabla38[[#This Row],[CODIGO municipio]],[3]!Tabla8[#All],23,FALSE),\"\")","v":""},{"$f":"IFERROR(VLOOKUP(Tabla38[[#This Row],[CODIGO municipio]],[3]!Tabla9[#All],3,FALSE),\"\")","v":""}]
[{"$f":"IFERROR(VLOOKUP(Tabla38[[#This Row],[Municipio]],[3]!Tabla2[#All],3,FALSE),\"\")","v":""},1224,"San José Ojetenam",{"$f":"IFERROR(VLOOKUP(Tabla38[[#This Row],[CODIGO municipio]],[3]!Tabla6[[#All],[codigo_mun]],1,FALSE),\"\")","v":""},{"$f":"IFERROR(VLOOKUP(Tabla38[[#This Row],[CODIGO municipio]],[3]!Tabla12[#All],2,FALSE),\"\")","v":""},{"$f":"IFERROR(VLOOKUP(Tabla38[[#This Row],[CODIGO municipio]],[3]!Tabla7[#All],3,FALSE),\"\")","v":""},{"$f":"IFERROR(VLOOKUP(Tabla38[[#This Row],[CODIGO municipio]],[3]!Tabla7[#All],4,FALSE),\"\")","v":""},{"$f":"IFERROR(VLOOKUP(Tabla38[[#This Row],[CODIGO municipio]],[3]!Tabla7[#All],11,FALSE),\"\")","v":""},{"$f":"IFERROR(VLOOKUP(Tabla38[[#This Row],[CODIGO municipio]],[3]!Tabla7[#All],12,FALSE),\"\")","v":""},{"$f":"IFERROR(VLOOKUP(Tabla38[[#This Row],[CODIGO municipio]],[3]!Tabla7[#All],13,FALSE),\"\")","v":""},{"$f":"IFERROR(VLOOKUP(Tabla38[[#This Row],[CODIGO municipio]],[3]!Tabla7[#All],14,FALSE),\"\")","v":""},{"$f":"IFERROR(VLOOKUP(Tabla38[[#This Row],[CODIGO municipio]],[3]!Tabla7[#All],15,FALSE),\"\")","v":""},{"$f":"IFERROR(VLOOKUP(Tabla38[[#This Row],[CODIGO municipio]],[3]!Tabla7[#All],16,FALSE),\"\")","v":""},{"$f":"IFERROR(VLOOKUP(Tabla38[[#This Row],[CODIGO municipio]],[3]!Tabla7[#All],17,FALSE),\"\")","v":""},{"$f":"IFERROR(VLOOKUP(Tabla38[[#This Row],[CODIGO municipio]],[3]!Tabla7[#All],18,FALSE),\"\")","v":""},{"$f":"IFERROR(VLOOKUP(Tabla38[[#This Row],[CODIGO municipio]],[3]!Tabla7[#All],19,FALSE),\"\")","v":""},{"$f":"IFERROR(VLOOKUP(Tabla38[[#This Row],[CODIGO municipio]],[3]!Tabla8[#All],3,FALSE),\"\")","v":""},{"$f":"IFERROR(VLOOKUP(Tabla38[[#This Row],[CODIGO municipio]],[3]!Tabla8[#All],4,FALSE),\"\")","v":""},{"$f":"IFERROR(VLOOKUP(Tabla38[[#This Row],[CODIGO municipio]],[3]!Tabla8[#All],5,FALSE),\"\")","v":""},{"$f":"IFERROR(VLOOKUP(Tabla38[[#This Row],[CODIGO municipio]],[3]!Tabla8[#All],6,FALSE),\"\")","v":""},{"$f":"IFERROR(VLOOKUP(Tabla38[[#This Row],[CODIGO municipio]],[3]!Tabla8[#All],7,FALSE),\"\")","v":""},{"$f":"IFERROR(VLOOKUP(Tabla38[[#This Row],[CODIGO municipio]],[3]!Tabla8[#All],8,FALSE),\"\")","v":""},{"$f":"IFERROR(VLOOKUP(Tabla38[[#This Row],[CODIGO municipio]],[3]!Tabla8[#All],9,FALSE),\"\")","v":""},{"$f":"IFERROR(VLOOKUP(Tabla38[[#This Row],[CODIGO municipio]],[3]!Tabla8[#All],10,FALSE),\"\")","v":""},{"$f":"IFERROR(VLOOKUP(Tabla38[[#This Row],[CODIGO municipio]],[3]!Tabla8[#All],11,FALSE),\"\")","v":""},{"$f":"IFERROR(VLOOKUP(Tabla38[[#This Row],[CODIGO municipio]],[3]!Tabla8[#All],12,FALSE),\"\")","v":""},{"$f":"IFERROR(VLOOKUP(Tabla38[[#This Row],[CODIGO municipio]],[3]!Tabla8[#All],13,FALSE),\"\")","v":""},{"$f":"IFERROR(VLOOKUP(Tabla38[[#This Row],[CODIGO municipio]],[3]!Tabla8[#All],14,FALSE),\"\")","v":""},{"$f":"IFERROR(VLOOKUP(Tabla38[[#This Row],[CODIGO municipio]],[3]!Tabla8[#All],15,FALSE),\"\")","v":""},{"$f":"IFERROR(VLOOKUP(Tabla38[[#This Row],[CODIGO municipio]],[3]!Tabla8[#All],16,FALSE),\"\")","v":""},{"$f":"IFERROR(VLOOKUP(Tabla38[[#This Row],[CODIGO municipio]],[3]!Tabla8[#All],17,FALSE),\"\")","v":""},{"$f":"IFERROR(VLOOKUP(Tabla38[[#This Row],[CODIGO municipio]],[3]!Tabla8[#All],18,FALSE),\"\")","v":""},{"$f":"IFERROR(VLOOKUP(Tabla38[[#This Row],[CODIGO municipio]],[3]!Tabla8[#All],19,FALSE),\"\")","v":""},{"$f":"IFERROR(VLOOKUP(Tabla38[[#This Row],[CODIGO municipio]],[3]!Tabla8[#All],20,FALSE),\"\")","v":""},{"$f":"IFERROR(VLOOKUP(Tabla38[[#This Row],[CODIGO municipio]],[3]!Tabla8[#All],21,FALSE),\"\")","v":""},{"$f":"IFERROR(VLOOKUP(Tabla38[[#This Row],[CODIGO municipio]],[3]!Tabla8[#All],22,FALSE),\"\")","v":""},{"$f":"IFERROR(VLOOKUP(Tabla38[[#This Row],[CODIGO municipio]],[3]!Tabla8[#All],23,FALSE),\"\")","v":""},{"$f":"IFERROR(VLOOKUP(Tabla38[[#This Row],[CODIGO municipio]],[3]!Tabla9[#All],3,FALSE),\"\")","v":""}]
[{"$f":"IFERROR(VLOOKUP(Tabla38[[#This Row],[Municipio]],[3]!Tabla2[#All],3,FALSE),\"\")","v":""},1225,"San Cristóbal Cucho",{"$f":"IFERROR(VLOOKUP(Tabla38[[#This Row],[CODIGO municipio]],[3]!Tabla6[[#All],[codigo_mun]],1,FALSE),\"\")","v":""},{"$f":"IFERROR(VLOOKUP(Tabla38[[#This Row],[CODIGO municipio]],[3]!Tabla12[#All],2,FALSE),\"\")","v":""},{"$f":"IFERROR(VLOOKUP(Tabla38[[#This Row],[CODIGO municipio]],[3]!Tabla7[#All],3,FALSE),\"\")","v":""},{"$f":"IFERROR(VLOOKUP(Tabla38[[#This Row],[CODIGO municipio]],[3]!Tabla7[#All],4,FALSE),\"\")","v":""},{"$f":"IFERROR(VLOOKUP(Tabla38[[#This Row],[CODIGO municipio]],[3]!Tabla7[#All],11,FALSE),\"\")","v":""},{"$f":"IFERROR(VLOOKUP(Tabla38[[#This Row],[CODIGO municipio]],[3]!Tabla7[#All],12,FALSE),\"\")","v":""},{"$f":"IFERROR(VLOOKUP(Tabla38[[#This Row],[CODIGO municipio]],[3]!Tabla7[#All],13,FALSE),\"\")","v":""},{"$f":"IFERROR(VLOOKUP(Tabla38[[#This Row],[CODIGO municipio]],[3]!Tabla7[#All],14,FALSE),\"\")","v":""},{"$f":"IFERROR(VLOOKUP(Tabla38[[#This Row],[CODIGO municipio]],[3]!Tabla7[#All],15,FALSE),\"\")","v":""},{"$f":"IFERROR(VLOOKUP(Tabla38[[#This Row],[CODIGO municipio]],[3]!Tabla7[#All],16,FALSE),\"\")","v":""},{"$f":"IFERROR(VLOOKUP(Tabla38[[#This Row],[CODIGO municipio]],[3]!Tabla7[#All],17,FALSE),\"\")","v":""},{"$f":"IFERROR(VLOOKUP(Tabla38[[#This Row],[CODIGO municipio]],[3]!Tabla7[#All],18,FALSE),\"\")","v":""},{"$f":"IFERROR(VLOOKUP(Tabla38[[#This Row],[CODIGO municipio]],[3]!Tabla7[#All],19,FALSE),\"\")","v":""},{"$f":"IFERROR(VLOOKUP(Tabla38[[#This Row],[CODIGO municipio]],[3]!Tabla8[#All],3,FALSE),\"\")","v":""},{"$f":"IFERROR(VLOOKUP(Tabla38[[#This Row],[CODIGO municipio]],[3]!Tabla8[#All],4,FALSE),\"\")","v":""},{"$f":"IFERROR(VLOOKUP(Tabla38[[#This Row],[CODIGO municipio]],[3]!Tabla8[#All],5,FALSE),\"\")","v":""},{"$f":"IFERROR(VLOOKUP(Tabla38[[#This Row],[CODIGO municipio]],[3]!Tabla8[#All],6,FALSE),\"\")","v":""},{"$f":"IFERROR(VLOOKUP(Tabla38[[#This Row],[CODIGO municipio]],[3]!Tabla8[#All],7,FALSE),\"\")","v":""},{"$f":"IFERROR(VLOOKUP(Tabla38[[#This Row],[CODIGO municipio]],[3]!Tabla8[#All],8,FALSE),\"\")","v":""},{"$f":"IFERROR(VLOOKUP(Tabla38[[#This Row],[CODIGO municipio]],[3]!Tabla8[#All],9,FALSE),\"\")","v":""},{"$f":"IFERROR(VLOOKUP(Tabla38[[#This Row],[CODIGO municipio]],[3]!Tabla8[#All],10,FALSE),\"\")","v":""},{"$f":"IFERROR(VLOOKUP(Tabla38[[#This Row],[CODIGO municipio]],[3]!Tabla8[#All],11,FALSE),\"\")","v":""},{"$f":"IFERROR(VLOOKUP(Tabla38[[#This Row],[CODIGO municipio]],[3]!Tabla8[#All],12,FALSE),\"\")","v":""},{"$f":"IFERROR(VLOOKUP(Tabla38[[#This Row],[CODIGO municipio]],[3]!Tabla8[#All],13,FALSE),\"\")","v":""},{"$f":"IFERROR(VLOOKUP(Tabla38[[#This Row],[CODIGO municipio]],[3]!Tabla8[#All],14,FALSE),\"\")","v":""},{"$f":"IFERROR(VLOOKUP(Tabla38[[#This Row],[CODIGO municipio]],[3]!Tabla8[#All],15,FALSE),\"\")","v":""},{"$f":"IFERROR(VLOOKUP(Tabla38[[#This Row],[CODIGO municipio]],[3]!Tabla8[#All],16,FALSE),\"\")","v":""},{"$f":"IFERROR(VLOOKUP(Tabla38[[#This Row],[CODIGO municipio]],[3]!Tabla8[#All],17,FALSE),\"\")","v":""},{"$f":"IFERROR(VLOOKUP(Tabla38[[#This Row],[CODIGO municipio]],[3]!Tabla8[#All],18,FALSE),\"\")","v":""},{"$f":"IFERROR(VLOOKUP(Tabla38[[#This Row],[CODIGO municipio]],[3]!Tabla8[#All],19,FALSE),\"\")","v":""},{"$f":"IFERROR(VLOOKUP(Tabla38[[#This Row],[CODIGO municipio]],[3]!Tabla8[#All],20,FALSE),\"\")","v":""},{"$f":"IFERROR(VLOOKUP(Tabla38[[#This Row],[CODIGO municipio]],[3]!Tabla8[#All],21,FALSE),\"\")","v":""},{"$f":"IFERROR(VLOOKUP(Tabla38[[#This Row],[CODIGO municipio]],[3]!Tabla8[#All],22,FALSE),\"\")","v":""},{"$f":"IFERROR(VLOOKUP(Tabla38[[#This Row],[CODIGO municipio]],[3]!Tabla8[#All],23,FALSE),\"\")","v":""},{"$f":"IFERROR(VLOOKUP(Tabla38[[#This Row],[CODIGO municipio]],[3]!Tabla9[#All],3,FALSE),\"\")","v":""}]
[{"$f":"IFERROR(VLOOKUP(Tabla38[[#This Row],[Municipio]],[3]!Tabla2[#All],3,FALSE),\"\")","v":""},1226,"Sipacapa",{"$f":"IFERROR(VLOOKUP(Tabla38[[#This Row],[CODIGO municipio]],[3]!Tabla6[[#All],[codigo_mun]],1,FALSE),\"\")","v":""},{"$f":"IFERROR(VLOOKUP(Tabla38[[#This Row],[CODIGO municipio]],[3]!Tabla12[#All],2,FALSE),\"\")","v":""},{"$f":"IFERROR(VLOOKUP(Tabla38[[#This Row],[CODIGO municipio]],[3]!Tabla7[#All],3,FALSE),\"\")","v":""},{"$f":"IFERROR(VLOOKUP(Tabla38[[#This Row],[CODIGO municipio]],[3]!Tabla7[#All],4,FALSE),\"\")","v":""},{"$f":"IFERROR(VLOOKUP(Tabla38[[#This Row],[CODIGO municipio]],[3]!Tabla7[#All],11,FALSE),\"\")","v":""},{"$f":"IFERROR(VLOOKUP(Tabla38[[#This Row],[CODIGO municipio]],[3]!Tabla7[#All],12,FALSE),\"\")","v":""},{"$f":"IFERROR(VLOOKUP(Tabla38[[#This Row],[CODIGO municipio]],[3]!Tabla7[#All],13,FALSE),\"\")","v":""},{"$f":"IFERROR(VLOOKUP(Tabla38[[#This Row],[CODIGO municipio]],[3]!Tabla7[#All],14,FALSE),\"\")","v":""},{"$f":"IFERROR(VLOOKUP(Tabla38[[#This Row],[CODIGO municipio]],[3]!Tabla7[#All],15,FALSE),\"\")","v":""},{"$f":"IFERROR(VLOOKUP(Tabla38[[#This Row],[CODIGO municipio]],[3]!Tabla7[#All],16,FALSE),\"\")","v":""},{"$f":"IFERROR(VLOOKUP(Tabla38[[#This Row],[CODIGO municipio]],[3]!Tabla7[#All],17,FALSE),\"\")","v":""},{"$f":"IFERROR(VLOOKUP(Tabla38[[#This Row],[CODIGO municipio]],[3]!Tabla7[#All],18,FALSE),\"\")","v":""},{"$f":"IFERROR(VLOOKUP(Tabla38[[#This Row],[CODIGO municipio]],[3]!Tabla7[#All],19,FALSE),\"\")","v":""},{"$f":"IFERROR(VLOOKUP(Tabla38[[#This Row],[CODIGO municipio]],[3]!Tabla8[#All],3,FALSE),\"\")","v":""},{"$f":"IFERROR(VLOOKUP(Tabla38[[#This Row],[CODIGO municipio]],[3]!Tabla8[#All],4,FALSE),\"\")","v":""},{"$f":"IFERROR(VLOOKUP(Tabla38[[#This Row],[CODIGO municipio]],[3]!Tabla8[#All],5,FALSE),\"\")","v":""},{"$f":"IFERROR(VLOOKUP(Tabla38[[#This Row],[CODIGO municipio]],[3]!Tabla8[#All],6,FALSE),\"\")","v":""},{"$f":"IFERROR(VLOOKUP(Tabla38[[#This Row],[CODIGO municipio]],[3]!Tabla8[#All],7,FALSE),\"\")","v":""},{"$f":"IFERROR(VLOOKUP(Tabla38[[#This Row],[CODIGO municipio]],[3]!Tabla8[#All],8,FALSE),\"\")","v":""},{"$f":"IFERROR(VLOOKUP(Tabla38[[#This Row],[CODIGO municipio]],[3]!Tabla8[#All],9,FALSE),\"\")","v":""},{"$f":"IFERROR(VLOOKUP(Tabla38[[#This Row],[CODIGO municipio]],[3]!Tabla8[#All],10,FALSE),\"\")","v":""},{"$f":"IFERROR(VLOOKUP(Tabla38[[#This Row],[CODIGO municipio]],[3]!Tabla8[#All],11,FALSE),\"\")","v":""},{"$f":"IFERROR(VLOOKUP(Tabla38[[#This Row],[CODIGO municipio]],[3]!Tabla8[#All],12,FALSE),\"\")","v":""},{"$f":"IFERROR(VLOOKUP(Tabla38[[#This Row],[CODIGO municipio]],[3]!Tabla8[#All],13,FALSE),\"\")","v":""},{"$f":"IFERROR(VLOOKUP(Tabla38[[#This Row],[CODIGO municipio]],[3]!Tabla8[#All],14,FALSE),\"\")","v":""},{"$f":"IFERROR(VLOOKUP(Tabla38[[#This Row],[CODIGO municipio]],[3]!Tabla8[#All],15,FALSE),\"\")","v":""},{"$f":"IFERROR(VLOOKUP(Tabla38[[#This Row],[CODIGO municipio]],[3]!Tabla8[#All],16,FALSE),\"\")","v":""},{"$f":"IFERROR(VLOOKUP(Tabla38[[#This Row],[CODIGO municipio]],[3]!Tabla8[#All],17,FALSE),\"\")","v":""},{"$f":"IFERROR(VLOOKUP(Tabla38[[#This Row],[CODIGO municipio]],[3]!Tabla8[#All],18,FALSE),\"\")","v":""},{"$f":"IFERROR(VLOOKUP(Tabla38[[#This Row],[CODIGO municipio]],[3]!Tabla8[#All],19,FALSE),\"\")","v":""},{"$f":"IFERROR(VLOOKUP(Tabla38[[#This Row],[CODIGO municipio]],[3]!Tabla8[#All],20,FALSE),\"\")","v":""},{"$f":"IFERROR(VLOOKUP(Tabla38[[#This Row],[CODIGO municipio]],[3]!Tabla8[#All],21,FALSE),\"\")","v":""},{"$f":"IFERROR(VLOOKUP(Tabla38[[#This Row],[CODIGO municipio]],[3]!Tabla8[#All],22,FALSE),\"\")","v":""},{"$f":"IFERROR(VLOOKUP(Tabla38[[#This Row],[CODIGO municipio]],[3]!Tabla8[#All],23,FALSE),\"\")","v":""},{"$f":"IFERROR(VLOOKUP(Tabla38[[#This Row],[CODIGO municipio]],[3]!Tabla9[#All],3,FALSE),\"\")","v":""}]
[{"$f":"IFERROR(VLOOKUP(Tabla38[[#This Row],[Municipio]],[3]!Tabla2[#All],3,FALSE),\"\")","v":""},1227,"Esquipulas Palo Gordo",{"$f":"IFERROR(VLOOKUP(Tabla38[[#This Row],[CODIGO municipio]],[3]!Tabla6[[#All],[codigo_mun]],1,FALSE),\"\")","v":""},{"$f":"IFERROR(VLOOKUP(Tabla38[[#This Row],[CODIGO municipio]],[3]!Tabla12[#All],2,FALSE),\"\")","v":""},{"$f":"IFERROR(VLOOKUP(Tabla38[[#This Row],[CODIGO municipio]],[3]!Tabla7[#All],3,FALSE),\"\")","v":""},{"$f":"IFERROR(VLOOKUP(Tabla38[[#This Row],[CODIGO municipio]],[3]!Tabla7[#All],4,FALSE),\"\")","v":""},{"$f":"IFERROR(VLOOKUP(Tabla38[[#This Row],[CODIGO municipio]],[3]!Tabla7[#All],11,FALSE),\"\")","v":""},{"$f":"IFERROR(VLOOKUP(Tabla38[[#This Row],[CODIGO municipio]],[3]!Tabla7[#All],12,FALSE),\"\")","v":""},{"$f":"IFERROR(VLOOKUP(Tabla38[[#This Row],[CODIGO municipio]],[3]!Tabla7[#All],13,FALSE),\"\")","v":""},{"$f":"IFERROR(VLOOKUP(Tabla38[[#This Row],[CODIGO municipio]],[3]!Tabla7[#All],14,FALSE),\"\")","v":""},{"$f":"IFERROR(VLOOKUP(Tabla38[[#This Row],[CODIGO municipio]],[3]!Tabla7[#All],15,FALSE),\"\")","v":""},{"$f":"IFERROR(VLOOKUP(Tabla38[[#This Row],[CODIGO municipio]],[3]!Tabla7[#All],16,FALSE),\"\")","v":""},{"$f":"IFERROR(VLOOKUP(Tabla38[[#This Row],[CODIGO municipio]],[3]!Tabla7[#All],17,FALSE),\"\")","v":""},{"$f":"IFERROR(VLOOKUP(Tabla38[[#This Row],[CODIGO municipio]],[3]!Tabla7[#All],18,FALSE),\"\")","v":""},{"$f":"IFERROR(VLOOKUP(Tabla38[[#This Row],[CODIGO municipio]],[3]!Tabla7[#All],19,FALSE),\"\")","v":""},{"$f":"IFERROR(VLOOKUP(Tabla38[[#This Row],[CODIGO municipio]],[3]!Tabla8[#All],3,FALSE),\"\")","v":""},{"$f":"IFERROR(VLOOKUP(Tabla38[[#This Row],[CODIGO municipio]],[3]!Tabla8[#All],4,FALSE),\"\")","v":""},{"$f":"IFERROR(VLOOKUP(Tabla38[[#This Row],[CODIGO municipio]],[3]!Tabla8[#All],5,FALSE),\"\")","v":""},{"$f":"IFERROR(VLOOKUP(Tabla38[[#This Row],[CODIGO municipio]],[3]!Tabla8[#All],6,FALSE),\"\")","v":""},{"$f":"IFERROR(VLOOKUP(Tabla38[[#This Row],[CODIGO municipio]],[3]!Tabla8[#All],7,FALSE),\"\")","v":""},{"$f":"IFERROR(VLOOKUP(Tabla38[[#This Row],[CODIGO municipio]],[3]!Tabla8[#All],8,FALSE),\"\")","v":""},{"$f":"IFERROR(VLOOKUP(Tabla38[[#This Row],[CODIGO municipio]],[3]!Tabla8[#All],9,FALSE),\"\")","v":""},{"$f":"IFERROR(VLOOKUP(Tabla38[[#This Row],[CODIGO municipio]],[3]!Tabla8[#All],10,FALSE),\"\")","v":""},{"$f":"IFERROR(VLOOKUP(Tabla38[[#This Row],[CODIGO municipio]],[3]!Tabla8[#All],11,FALSE),\"\")","v":""},{"$f":"IFERROR(VLOOKUP(Tabla38[[#This Row],[CODIGO municipio]],[3]!Tabla8[#All],12,FALSE),\"\")","v":""},{"$f":"IFERROR(VLOOKUP(Tabla38[[#This Row],[CODIGO municipio]],[3]!Tabla8[#All],13,FALSE),\"\")","v":""},{"$f":"IFERROR(VLOOKUP(Tabla38[[#This Row],[CODIGO municipio]],[3]!Tabla8[#All],14,FALSE),\"\")","v":""},{"$f":"IFERROR(VLOOKUP(Tabla38[[#This Row],[CODIGO municipio]],[3]!Tabla8[#All],15,FALSE),\"\")","v":""},{"$f":"IFERROR(VLOOKUP(Tabla38[[#This Row],[CODIGO municipio]],[3]!Tabla8[#All],16,FALSE),\"\")","v":""},{"$f":"IFERROR(VLOOKUP(Tabla38[[#This Row],[CODIGO municipio]],[3]!Tabla8[#All],17,FALSE),\"\")","v":""},{"$f":"IFERROR(VLOOKUP(Tabla38[[#This Row],[CODIGO municipio]],[3]!Tabla8[#All],18,FALSE),\"\")","v":""},{"$f":"IFERROR(VLOOKUP(Tabla38[[#This Row],[CODIGO municipio]],[3]!Tabla8[#All],19,FALSE),\"\")","v":""},{"$f":"IFERROR(VLOOKUP(Tabla38[[#This Row],[CODIGO municipio]],[3]!Tabla8[#All],20,FALSE),\"\")","v":""},{"$f":"IFERROR(VLOOKUP(Tabla38[[#This Row],[CODIGO municipio]],[3]!Tabla8[#All],21,FALSE),\"\")","v":""},{"$f":"IFERROR(VLOOKUP(Tabla38[[#This Row],[CODIGO municipio]],[3]!Tabla8[#All],22,FALSE),\"\")","v":""},{"$f":"IFERROR(VLOOKUP(Tabla38[[#This Row],[CODIGO municipio]],[3]!Tabla8[#All],23,FALSE),\"\")","v":""},{"$f":"IFERROR(VLOOKUP(Tabla38[[#This Row],[CODIGO municipio]],[3]!Tabla9[#All],3,FALSE),\"\")","v":""}]
[{"$f":"IFERROR(VLOOKUP(Tabla38[[#This Row],[Municipio]],[3]!Tabla2[#All],3,FALSE),\"\")","v":""},1228,"Río Blanco",{"$f":"IFERROR(VLOOKUP(Tabla38[[#This Row],[CODIGO municipio]],[3]!Tabla6[[#All],[codigo_mun]],1,FALSE),\"\")","v":""},{"$f":"IFERROR(VLOOKUP(Tabla38[[#This Row],[CODIGO municipio]],[3]!Tabla12[#All],2,FALSE),\"\")","v":""},{"$f":"IFERROR(VLOOKUP(Tabla38[[#This Row],[CODIGO municipio]],[3]!Tabla7[#All],3,FALSE),\"\")","v":""},{"$f":"IFERROR(VLOOKUP(Tabla38[[#This Row],[CODIGO municipio]],[3]!Tabla7[#All],4,FALSE),\"\")","v":""},{"$f":"IFERROR(VLOOKUP(Tabla38[[#This Row],[CODIGO municipio]],[3]!Tabla7[#All],11,FALSE),\"\")","v":""},{"$f":"IFERROR(VLOOKUP(Tabla38[[#This Row],[CODIGO municipio]],[3]!Tabla7[#All],12,FALSE),\"\")","v":""},{"$f":"IFERROR(VLOOKUP(Tabla38[[#This Row],[CODIGO municipio]],[3]!Tabla7[#All],13,FALSE),\"\")","v":""},{"$f":"IFERROR(VLOOKUP(Tabla38[[#This Row],[CODIGO municipio]],[3]!Tabla7[#All],14,FALSE),\"\")","v":""},{"$f":"IFERROR(VLOOKUP(Tabla38[[#This Row],[CODIGO municipio]],[3]!Tabla7[#All],15,FALSE),\"\")","v":""},{"$f":"IFERROR(VLOOKUP(Tabla38[[#This Row],[CODIGO municipio]],[3]!Tabla7[#All],16,FALSE),\"\")","v":""},{"$f":"IFERROR(VLOOKUP(Tabla38[[#This Row],[CODIGO municipio]],[3]!Tabla7[#All],17,FALSE),\"\")","v":""},{"$f":"IFERROR(VLOOKUP(Tabla38[[#This Row],[CODIGO municipio]],[3]!Tabla7[#All],18,FALSE),\"\")","v":""},{"$f":"IFERROR(VLOOKUP(Tabla38[[#This Row],[CODIGO municipio]],[3]!Tabla7[#All],19,FALSE),\"\")","v":""},{"$f":"IFERROR(VLOOKUP(Tabla38[[#This Row],[CODIGO municipio]],[3]!Tabla8[#All],3,FALSE),\"\")","v":""},{"$f":"IFERROR(VLOOKUP(Tabla38[[#This Row],[CODIGO municipio]],[3]!Tabla8[#All],4,FALSE),\"\")","v":""},{"$f":"IFERROR(VLOOKUP(Tabla38[[#This Row],[CODIGO municipio]],[3]!Tabla8[#All],5,FALSE),\"\")","v":""},{"$f":"IFERROR(VLOOKUP(Tabla38[[#This Row],[CODIGO municipio]],[3]!Tabla8[#All],6,FALSE),\"\")","v":""},{"$f":"IFERROR(VLOOKUP(Tabla38[[#This Row],[CODIGO municipio]],[3]!Tabla8[#All],7,FALSE),\"\")","v":""},{"$f":"IFERROR(VLOOKUP(Tabla38[[#This Row],[CODIGO municipio]],[3]!Tabla8[#All],8,FALSE),\"\")","v":""},{"$f":"IFERROR(VLOOKUP(Tabla38[[#This Row],[CODIGO municipio]],[3]!Tabla8[#All],9,FALSE),\"\")","v":""},{"$f":"IFERROR(VLOOKUP(Tabla38[[#This Row],[CODIGO municipio]],[3]!Tabla8[#All],10,FALSE),\"\")","v":""},{"$f":"IFERROR(VLOOKUP(Tabla38[[#This Row],[CODIGO municipio]],[3]!Tabla8[#All],11,FALSE),\"\")","v":""},{"$f":"IFERROR(VLOOKUP(Tabla38[[#This Row],[CODIGO municipio]],[3]!Tabla8[#All],12,FALSE),\"\")","v":""},{"$f":"IFERROR(VLOOKUP(Tabla38[[#This Row],[CODIGO municipio]],[3]!Tabla8[#All],13,FALSE),\"\")","v":""},{"$f":"IFERROR(VLOOKUP(Tabla38[[#This Row],[CODIGO municipio]],[3]!Tabla8[#All],14,FALSE),\"\")","v":""},{"$f":"IFERROR(VLOOKUP(Tabla38[[#This Row],[CODIGO municipio]],[3]!Tabla8[#All],15,FALSE),\"\")","v":""},{"$f":"IFERROR(VLOOKUP(Tabla38[[#This Row],[CODIGO municipio]],[3]!Tabla8[#All],16,FALSE),\"\")","v":""},{"$f":"IFERROR(VLOOKUP(Tabla38[[#This Row],[CODIGO municipio]],[3]!Tabla8[#All],17,FALSE),\"\")","v":""},{"$f":"IFERROR(VLOOKUP(Tabla38[[#This Row],[CODIGO municipio]],[3]!Tabla8[#All],18,FALSE),\"\")","v":""},{"$f":"IFERROR(VLOOKUP(Tabla38[[#This Row],[CODIGO municipio]],[3]!Tabla8[#All],19,FALSE),\"\")","v":""},{"$f":"IFERROR(VLOOKUP(Tabla38[[#This Row],[CODIGO municipio]],[3]!Tabla8[#All],20,FALSE),\"\")","v":""},{"$f":"IFERROR(VLOOKUP(Tabla38[[#This Row],[CODIGO municipio]],[3]!Tabla8[#All],21,FALSE),\"\")","v":""},{"$f":"IFERROR(VLOOKUP(Tabla38[[#This Row],[CODIGO municipio]],[3]!Tabla8[#All],22,FALSE),\"\")","v":""},{"$f":"IFERROR(VLOOKUP(Tabla38[[#This Row],[CODIGO municipio]],[3]!Tabla8[#All],23,FALSE),\"\")","v":""},{"$f":"IFERROR(VLOOKUP(Tabla38[[#This Row],[CODIGO municipio]],[3]!Tabla9[#All],3,FALSE),\"\")","v":""}]
[{"$f":"IFERROR(VLOOKUP(Tabla38[[#This Row],[Municipio]],[3]!Tabla2[#All],3,FALSE),\"\")","v":""},1229,"San Lorenzo",{"$f":"IFERROR(VLOOKUP(Tabla38[[#This Row],[CODIGO municipio]],[3]!Tabla6[[#All],[codigo_mun]],1,FALSE),\"\")","v":""},{"$f":"IFERROR(VLOOKUP(Tabla38[[#This Row],[CODIGO municipio]],[3]!Tabla12[#All],2,FALSE),\"\")","v":""},{"$f":"IFERROR(VLOOKUP(Tabla38[[#This Row],[CODIGO municipio]],[3]!Tabla7[#All],3,FALSE),\"\")","v":""},{"$f":"IFERROR(VLOOKUP(Tabla38[[#This Row],[CODIGO municipio]],[3]!Tabla7[#All],4,FALSE),\"\")","v":""},{"$f":"IFERROR(VLOOKUP(Tabla38[[#This Row],[CODIGO municipio]],[3]!Tabla7[#All],11,FALSE),\"\")","v":""},{"$f":"IFERROR(VLOOKUP(Tabla38[[#This Row],[CODIGO municipio]],[3]!Tabla7[#All],12,FALSE),\"\")","v":""},{"$f":"IFERROR(VLOOKUP(Tabla38[[#This Row],[CODIGO municipio]],[3]!Tabla7[#All],13,FALSE),\"\")","v":""},{"$f":"IFERROR(VLOOKUP(Tabla38[[#This Row],[CODIGO municipio]],[3]!Tabla7[#All],14,FALSE),\"\")","v":""},{"$f":"IFERROR(VLOOKUP(Tabla38[[#This Row],[CODIGO municipio]],[3]!Tabla7[#All],15,FALSE),\"\")","v":""},{"$f":"IFERROR(VLOOKUP(Tabla38[[#This Row],[CODIGO municipio]],[3]!Tabla7[#All],16,FALSE),\"\")","v":""},{"$f":"IFERROR(VLOOKUP(Tabla38[[#This Row],[CODIGO municipio]],[3]!Tabla7[#All],17,FALSE),\"\")","v":""},{"$f":"IFERROR(VLOOKUP(Tabla38[[#This Row],[CODIGO municipio]],[3]!Tabla7[#All],18,FALSE),\"\")","v":""},{"$f":"IFERROR(VLOOKUP(Tabla38[[#This Row],[CODIGO municipio]],[3]!Tabla7[#All],19,FALSE),\"\")","v":""},{"$f":"IFERROR(VLOOKUP(Tabla38[[#This Row],[CODIGO municipio]],[3]!Tabla8[#All],3,FALSE),\"\")","v":""},{"$f":"IFERROR(VLOOKUP(Tabla38[[#This Row],[CODIGO municipio]],[3]!Tabla8[#All],4,FALSE),\"\")","v":""},{"$f":"IFERROR(VLOOKUP(Tabla38[[#This Row],[CODIGO municipio]],[3]!Tabla8[#All],5,FALSE),\"\")","v":""},{"$f":"IFERROR(VLOOKUP(Tabla38[[#This Row],[CODIGO municipio]],[3]!Tabla8[#All],6,FALSE),\"\")","v":""},{"$f":"IFERROR(VLOOKUP(Tabla38[[#This Row],[CODIGO municipio]],[3]!Tabla8[#All],7,FALSE),\"\")","v":""},{"$f":"IFERROR(VLOOKUP(Tabla38[[#This Row],[CODIGO municipio]],[3]!Tabla8[#All],8,FALSE),\"\")","v":""},{"$f":"IFERROR(VLOOKUP(Tabla38[[#This Row],[CODIGO municipio]],[3]!Tabla8[#All],9,FALSE),\"\")","v":""},{"$f":"IFERROR(VLOOKUP(Tabla38[[#This Row],[CODIGO municipio]],[3]!Tabla8[#All],10,FALSE),\"\")","v":""},{"$f":"IFERROR(VLOOKUP(Tabla38[[#This Row],[CODIGO municipio]],[3]!Tabla8[#All],11,FALSE),\"\")","v":""},{"$f":"IFERROR(VLOOKUP(Tabla38[[#This Row],[CODIGO municipio]],[3]!Tabla8[#All],12,FALSE),\"\")","v":""},{"$f":"IFERROR(VLOOKUP(Tabla38[[#This Row],[CODIGO municipio]],[3]!Tabla8[#All],13,FALSE),\"\")","v":""},{"$f":"IFERROR(VLOOKUP(Tabla38[[#This Row],[CODIGO municipio]],[3]!Tabla8[#All],14,FALSE),\"\")","v":""},{"$f":"IFERROR(VLOOKUP(Tabla38[[#This Row],[CODIGO municipio]],[3]!Tabla8[#All],15,FALSE),\"\")","v":""},{"$f":"IFERROR(VLOOKUP(Tabla38[[#This Row],[CODIGO municipio]],[3]!Tabla8[#All],16,FALSE),\"\")","v":""},{"$f":"IFERROR(VLOOKUP(Tabla38[[#This Row],[CODIGO municipio]],[3]!Tabla8[#All],17,FALSE),\"\")","v":""},{"$f":"IFERROR(VLOOKUP(Tabla38[[#This Row],[CODIGO municipio]],[3]!Tabla8[#All],18,FALSE),\"\")","v":""},{"$f":"IFERROR(VLOOKUP(Tabla38[[#This Row],[CODIGO municipio]],[3]!Tabla8[#All],19,FALSE),\"\")","v":""},{"$f":"IFERROR(VLOOKUP(Tabla38[[#This Row],[CODIGO municipio]],[3]!Tabla8[#All],20,FALSE),\"\")","v":""},{"$f":"IFERROR(VLOOKUP(Tabla38[[#This Row],[CODIGO municipio]],[3]!Tabla8[#All],21,FALSE),\"\")","v":""},{"$f":"IFERROR(VLOOKUP(Tabla38[[#This Row],[CODIGO municipio]],[3]!Tabla8[#All],22,FALSE),\"\")","v":""},{"$f":"IFERROR(VLOOKUP(Tabla38[[#This Row],[CODIGO municipio]],[3]!Tabla8[#All],23,FALSE),\"\")","v":""},{"$f":"IFERROR(VLOOKUP(Tabla38[[#This Row],[CODIGO municipio]],[3]!Tabla9[#All],3,FALSE),\"\")","v":""}]
[{"$f":"IFERROR(VLOOKUP(Tabla38[[#This Row],[Municipio]],[3]!Tabla2[#All],3,FALSE),\"\")","v":""},1230,"La Blanca",{"$f":"IFERROR(VLOOKUP(Tabla38[[#This Row],[CODIGO municipio]],[3]!Tabla6[[#All],[codigo_mun]],1,FALSE),\"\")","v":""},{"$f":"IFERROR(VLOOKUP(Tabla38[[#This Row],[CODIGO municipio]],[3]!Tabla12[#All],2,FALSE),\"\")","v":""},{"$f":"IFERROR(VLOOKUP(Tabla38[[#This Row],[CODIGO municipio]],[3]!Tabla7[#All],3,FALSE),\"\")","v":""},{"$f":"IFERROR(VLOOKUP(Tabla38[[#This Row],[CODIGO municipio]],[3]!Tabla7[#All],4,FALSE),\"\")","v":""},{"$f":"IFERROR(VLOOKUP(Tabla38[[#This Row],[CODIGO municipio]],[3]!Tabla7[#All],11,FALSE),\"\")","v":""},{"$f":"IFERROR(VLOOKUP(Tabla38[[#This Row],[CODIGO municipio]],[3]!Tabla7[#All],12,FALSE),\"\")","v":""},{"$f":"IFERROR(VLOOKUP(Tabla38[[#This Row],[CODIGO municipio]],[3]!Tabla7[#All],13,FALSE),\"\")","v":""},{"$f":"IFERROR(VLOOKUP(Tabla38[[#This Row],[CODIGO municipio]],[3]!Tabla7[#All],14,FALSE),\"\")","v":""},{"$f":"IFERROR(VLOOKUP(Tabla38[[#This Row],[CODIGO municipio]],[3]!Tabla7[#All],15,FALSE),\"\")","v":""},{"$f":"IFERROR(VLOOKUP(Tabla38[[#This Row],[CODIGO municipio]],[3]!Tabla7[#All],16,FALSE),\"\")","v":""},{"$f":"IFERROR(VLOOKUP(Tabla38[[#This Row],[CODIGO municipio]],[3]!Tabla7[#All],17,FALSE),\"\")","v":""},{"$f":"IFERROR(VLOOKUP(Tabla38[[#This Row],[CODIGO municipio]],[3]!Tabla7[#All],18,FALSE),\"\")","v":""},{"$f":"IFERROR(VLOOKUP(Tabla38[[#This Row],[CODIGO municipio]],[3]!Tabla7[#All],19,FALSE),\"\")","v":""},{"$f":"IFERROR(VLOOKUP(Tabla38[[#This Row],[CODIGO municipio]],[3]!Tabla8[#All],3,FALSE),\"\")","v":""},{"$f":"IFERROR(VLOOKUP(Tabla38[[#This Row],[CODIGO municipio]],[3]!Tabla8[#All],4,FALSE),\"\")","v":""},{"$f":"IFERROR(VLOOKUP(Tabla38[[#This Row],[CODIGO municipio]],[3]!Tabla8[#All],5,FALSE),\"\")","v":""},{"$f":"IFERROR(VLOOKUP(Tabla38[[#This Row],[CODIGO municipio]],[3]!Tabla8[#All],6,FALSE),\"\")","v":""},{"$f":"IFERROR(VLOOKUP(Tabla38[[#This Row],[CODIGO municipio]],[3]!Tabla8[#All],7,FALSE),\"\")","v":""},{"$f":"IFERROR(VLOOKUP(Tabla38[[#This Row],[CODIGO municipio]],[3]!Tabla8[#All],8,FALSE),\"\")","v":""},{"$f":"IFERROR(VLOOKUP(Tabla38[[#This Row],[CODIGO municipio]],[3]!Tabla8[#All],9,FALSE),\"\")","v":""},{"$f":"IFERROR(VLOOKUP(Tabla38[[#This Row],[CODIGO municipio]],[3]!Tabla8[#All],10,FALSE),\"\")","v":""},{"$f":"IFERROR(VLOOKUP(Tabla38[[#This Row],[CODIGO municipio]],[3]!Tabla8[#All],11,FALSE),\"\")","v":""},{"$f":"IFERROR(VLOOKUP(Tabla38[[#This Row],[CODIGO municipio]],[3]!Tabla8[#All],12,FALSE),\"\")","v":""},{"$f":"IFERROR(VLOOKUP(Tabla38[[#This Row],[CODIGO municipio]],[3]!Tabla8[#All],13,FALSE),\"\")","v":""},{"$f":"IFERROR(VLOOKUP(Tabla38[[#This Row],[CODIGO municipio]],[3]!Tabla8[#All],14,FALSE),\"\")","v":""},{"$f":"IFERROR(VLOOKUP(Tabla38[[#This Row],[CODIGO municipio]],[3]!Tabla8[#All],15,FALSE),\"\")","v":""},{"$f":"IFERROR(VLOOKUP(Tabla38[[#This Row],[CODIGO municipio]],[3]!Tabla8[#All],16,FALSE),\"\")","v":""},{"$f":"IFERROR(VLOOKUP(Tabla38[[#This Row],[CODIGO municipio]],[3]!Tabla8[#All],17,FALSE),\"\")","v":""},{"$f":"IFERROR(VLOOKUP(Tabla38[[#This Row],[CODIGO municipio]],[3]!Tabla8[#All],18,FALSE),\"\")","v":""},{"$f":"IFERROR(VLOOKUP(Tabla38[[#This Row],[CODIGO municipio]],[3]!Tabla8[#All],19,FALSE),\"\")","v":""},{"$f":"IFERROR(VLOOKUP(Tabla38[[#This Row],[CODIGO municipio]],[3]!Tabla8[#All],20,FALSE),\"\")","v":""},{"$f":"IFERROR(VLOOKUP(Tabla38[[#This Row],[CODIGO municipio]],[3]!Tabla8[#All],21,FALSE),\"\")","v":""},{"$f":"IFERROR(VLOOKUP(Tabla38[[#This Row],[CODIGO municipio]],[3]!Tabla8[#All],22,FALSE),\"\")","v":""},{"$f":"IFERROR(VLOOKUP(Tabla38[[#This Row],[CODIGO municipio]],[3]!Tabla8[#All],23,FALSE),\"\")","v":""},{"$f":"IFERROR(VLOOKUP(Tabla38[[#This Row],[CODIGO municipio]],[3]!Tabla9[#All],3,FALSE),\"\")","v":""}]
[{"$f":"IFERROR(VLOOKUP(Tabla38[[#This Row],[Municipio]],[3]!Tabla2[#All],3,FALSE),\"\")","v":""},1301,"Huehuetenango",{"$f":"IFERROR(VLOOKUP(Tabla38[[#This Row],[CODIGO municipio]],[3]!Tabla6[[#All],[codigo_mun]],1,FALSE),\"\")","v":""},{"$f":"IFERROR(VLOOKUP(Tabla38[[#This Row],[CODIGO municipio]],[3]!Tabla12[#All],2,FALSE),\"\")","v":""},{"$f":"IFERROR(VLOOKUP(Tabla38[[#This Row],[CODIGO municipio]],[3]!Tabla7[#All],3,FALSE),\"\")","v":""},{"$f":"IFERROR(VLOOKUP(Tabla38[[#This Row],[CODIGO municipio]],[3]!Tabla7[#All],4,FALSE),\"\")","v":""},{"$f":"IFERROR(VLOOKUP(Tabla38[[#This Row],[CODIGO municipio]],[3]!Tabla7[#All],11,FALSE),\"\")","v":""},{"$f":"IFERROR(VLOOKUP(Tabla38[[#This Row],[CODIGO municipio]],[3]!Tabla7[#All],12,FALSE),\"\")","v":""},{"$f":"IFERROR(VLOOKUP(Tabla38[[#This Row],[CODIGO municipio]],[3]!Tabla7[#All],13,FALSE),\"\")","v":""},{"$f":"IFERROR(VLOOKUP(Tabla38[[#This Row],[CODIGO municipio]],[3]!Tabla7[#All],14,FALSE),\"\")","v":""},{"$f":"IFERROR(VLOOKUP(Tabla38[[#This Row],[CODIGO municipio]],[3]!Tabla7[#All],15,FALSE),\"\")","v":""},{"$f":"IFERROR(VLOOKUP(Tabla38[[#This Row],[CODIGO municipio]],[3]!Tabla7[#All],16,FALSE),\"\")","v":""},{"$f":"IFERROR(VLOOKUP(Tabla38[[#This Row],[CODIGO municipio]],[3]!Tabla7[#All],17,FALSE),\"\")","v":""},{"$f":"IFERROR(VLOOKUP(Tabla38[[#This Row],[CODIGO municipio]],[3]!Tabla7[#All],18,FALSE),\"\")","v":""},{"$f":"IFERROR(VLOOKUP(Tabla38[[#This Row],[CODIGO municipio]],[3]!Tabla7[#All],19,FALSE),\"\")","v":""},{"$f":"IFERROR(VLOOKUP(Tabla38[[#This Row],[CODIGO municipio]],[3]!Tabla8[#All],3,FALSE),\"\")","v":""},{"$f":"IFERROR(VLOOKUP(Tabla38[[#This Row],[CODIGO municipio]],[3]!Tabla8[#All],4,FALSE),\"\")","v":""},{"$f":"IFERROR(VLOOKUP(Tabla38[[#This Row],[CODIGO municipio]],[3]!Tabla8[#All],5,FALSE),\"\")","v":""},{"$f":"IFERROR(VLOOKUP(Tabla38[[#This Row],[CODIGO municipio]],[3]!Tabla8[#All],6,FALSE),\"\")","v":""},{"$f":"IFERROR(VLOOKUP(Tabla38[[#This Row],[CODIGO municipio]],[3]!Tabla8[#All],7,FALSE),\"\")","v":""},{"$f":"IFERROR(VLOOKUP(Tabla38[[#This Row],[CODIGO municipio]],[3]!Tabla8[#All],8,FALSE),\"\")","v":""},{"$f":"IFERROR(VLOOKUP(Tabla38[[#This Row],[CODIGO municipio]],[3]!Tabla8[#All],9,FALSE),\"\")","v":""},{"$f":"IFERROR(VLOOKUP(Tabla38[[#This Row],[CODIGO municipio]],[3]!Tabla8[#All],10,FALSE),\"\")","v":""},{"$f":"IFERROR(VLOOKUP(Tabla38[[#This Row],[CODIGO municipio]],[3]!Tabla8[#All],11,FALSE),\"\")","v":""},{"$f":"IFERROR(VLOOKUP(Tabla38[[#This Row],[CODIGO municipio]],[3]!Tabla8[#All],12,FALSE),\"\")","v":""},{"$f":"IFERROR(VLOOKUP(Tabla38[[#This Row],[CODIGO municipio]],[3]!Tabla8[#All],13,FALSE),\"\")","v":""},{"$f":"IFERROR(VLOOKUP(Tabla38[[#This Row],[CODIGO municipio]],[3]!Tabla8[#All],14,FALSE),\"\")","v":""},{"$f":"IFERROR(VLOOKUP(Tabla38[[#This Row],[CODIGO municipio]],[3]!Tabla8[#All],15,FALSE),\"\")","v":""},{"$f":"IFERROR(VLOOKUP(Tabla38[[#This Row],[CODIGO municipio]],[3]!Tabla8[#All],16,FALSE),\"\")","v":""},{"$f":"IFERROR(VLOOKUP(Tabla38[[#This Row],[CODIGO municipio]],[3]!Tabla8[#All],17,FALSE),\"\")","v":""},{"$f":"IFERROR(VLOOKUP(Tabla38[[#This Row],[CODIGO municipio]],[3]!Tabla8[#All],18,FALSE),\"\")","v":""},{"$f":"IFERROR(VLOOKUP(Tabla38[[#This Row],[CODIGO municipio]],[3]!Tabla8[#All],19,FALSE),\"\")","v":""},{"$f":"IFERROR(VLOOKUP(Tabla38[[#This Row],[CODIGO municipio]],[3]!Tabla8[#All],20,FALSE),\"\")","v":""},{"$f":"IFERROR(VLOOKUP(Tabla38[[#This Row],[CODIGO municipio]],[3]!Tabla8[#All],21,FALSE),\"\")","v":""},{"$f":"IFERROR(VLOOKUP(Tabla38[[#This Row],[CODIGO municipio]],[3]!Tabla8[#All],22,FALSE),\"\")","v":""},{"$f":"IFERROR(VLOOKUP(Tabla38[[#This Row],[CODIGO municipio]],[3]!Tabla8[#All],23,FALSE),\"\")","v":""},{"$f":"IFERROR(VLOOKUP(Tabla38[[#This Row],[CODIGO municipio]],[3]!Tabla9[#All],3,FALSE),\"\")","v":""}]
[{"$f":"IFERROR(VLOOKUP(Tabla38[[#This Row],[Municipio]],[3]!Tabla2[#All],3,FALSE),\"\")","v":""},1302,"Chiantla",{"$f":"IFERROR(VLOOKUP(Tabla38[[#This Row],[CODIGO municipio]],[3]!Tabla6[[#All],[codigo_mun]],1,FALSE),\"\")","v":""},{"$f":"IFERROR(VLOOKUP(Tabla38[[#This Row],[CODIGO municipio]],[3]!Tabla12[#All],2,FALSE),\"\")","v":""},{"$f":"IFERROR(VLOOKUP(Tabla38[[#This Row],[CODIGO municipio]],[3]!Tabla7[#All],3,FALSE),\"\")","v":""},{"$f":"IFERROR(VLOOKUP(Tabla38[[#This Row],[CODIGO municipio]],[3]!Tabla7[#All],4,FALSE),\"\")","v":""},{"$f":"IFERROR(VLOOKUP(Tabla38[[#This Row],[CODIGO municipio]],[3]!Tabla7[#All],11,FALSE),\"\")","v":""},{"$f":"IFERROR(VLOOKUP(Tabla38[[#This Row],[CODIGO municipio]],[3]!Tabla7[#All],12,FALSE),\"\")","v":""},{"$f":"IFERROR(VLOOKUP(Tabla38[[#This Row],[CODIGO municipio]],[3]!Tabla7[#All],13,FALSE),\"\")","v":""},{"$f":"IFERROR(VLOOKUP(Tabla38[[#This Row],[CODIGO municipio]],[3]!Tabla7[#All],14,FALSE),\"\")","v":""},{"$f":"IFERROR(VLOOKUP(Tabla38[[#This Row],[CODIGO municipio]],[3]!Tabla7[#All],15,FALSE),\"\")","v":""},{"$f":"IFERROR(VLOOKUP(Tabla38[[#This Row],[CODIGO municipio]],[3]!Tabla7[#All],16,FALSE),\"\")","v":""},{"$f":"IFERROR(VLOOKUP(Tabla38[[#This Row],[CODIGO municipio]],[3]!Tabla7[#All],17,FALSE),\"\")","v":""},{"$f":"IFERROR(VLOOKUP(Tabla38[[#This Row],[CODIGO municipio]],[3]!Tabla7[#All],18,FALSE),\"\")","v":""},{"$f":"IFERROR(VLOOKUP(Tabla38[[#This Row],[CODIGO municipio]],[3]!Tabla7[#All],19,FALSE),\"\")","v":""},{"$f":"IFERROR(VLOOKUP(Tabla38[[#This Row],[CODIGO municipio]],[3]!Tabla8[#All],3,FALSE),\"\")","v":""},{"$f":"IFERROR(VLOOKUP(Tabla38[[#This Row],[CODIGO municipio]],[3]!Tabla8[#All],4,FALSE),\"\")","v":""},{"$f":"IFERROR(VLOOKUP(Tabla38[[#This Row],[CODIGO municipio]],[3]!Tabla8[#All],5,FALSE),\"\")","v":""},{"$f":"IFERROR(VLOOKUP(Tabla38[[#This Row],[CODIGO municipio]],[3]!Tabla8[#All],6,FALSE),\"\")","v":""},{"$f":"IFERROR(VLOOKUP(Tabla38[[#This Row],[CODIGO municipio]],[3]!Tabla8[#All],7,FALSE),\"\")","v":""},{"$f":"IFERROR(VLOOKUP(Tabla38[[#This Row],[CODIGO municipio]],[3]!Tabla8[#All],8,FALSE),\"\")","v":""},{"$f":"IFERROR(VLOOKUP(Tabla38[[#This Row],[CODIGO municipio]],[3]!Tabla8[#All],9,FALSE),\"\")","v":""},{"$f":"IFERROR(VLOOKUP(Tabla38[[#This Row],[CODIGO municipio]],[3]!Tabla8[#All],10,FALSE),\"\")","v":""},{"$f":"IFERROR(VLOOKUP(Tabla38[[#This Row],[CODIGO municipio]],[3]!Tabla8[#All],11,FALSE),\"\")","v":""},{"$f":"IFERROR(VLOOKUP(Tabla38[[#This Row],[CODIGO municipio]],[3]!Tabla8[#All],12,FALSE),\"\")","v":""},{"$f":"IFERROR(VLOOKUP(Tabla38[[#This Row],[CODIGO municipio]],[3]!Tabla8[#All],13,FALSE),\"\")","v":""},{"$f":"IFERROR(VLOOKUP(Tabla38[[#This Row],[CODIGO municipio]],[3]!Tabla8[#All],14,FALSE),\"\")","v":""},{"$f":"IFERROR(VLOOKUP(Tabla38[[#This Row],[CODIGO municipio]],[3]!Tabla8[#All],15,FALSE),\"\")","v":""},{"$f":"IFERROR(VLOOKUP(Tabla38[[#This Row],[CODIGO municipio]],[3]!Tabla8[#All],16,FALSE),\"\")","v":""},{"$f":"IFERROR(VLOOKUP(Tabla38[[#This Row],[CODIGO municipio]],[3]!Tabla8[#All],17,FALSE),\"\")","v":""},{"$f":"IFERROR(VLOOKUP(Tabla38[[#This Row],[CODIGO municipio]],[3]!Tabla8[#All],18,FALSE),\"\")","v":""},{"$f":"IFERROR(VLOOKUP(Tabla38[[#This Row],[CODIGO municipio]],[3]!Tabla8[#All],19,FALSE),\"\")","v":""},{"$f":"IFERROR(VLOOKUP(Tabla38[[#This Row],[CODIGO municipio]],[3]!Tabla8[#All],20,FALSE),\"\")","v":""},{"$f":"IFERROR(VLOOKUP(Tabla38[[#This Row],[CODIGO municipio]],[3]!Tabla8[#All],21,FALSE),\"\")","v":""},{"$f":"IFERROR(VLOOKUP(Tabla38[[#This Row],[CODIGO municipio]],[3]!Tabla8[#All],22,FALSE),\"\")","v":""},{"$f":"IFERROR(VLOOKUP(Tabla38[[#This Row],[CODIGO municipio]],[3]!Tabla8[#All],23,FALSE),\"\")","v":""},{"$f":"IFERROR(VLOOKUP(Tabla38[[#This Row],[CODIGO municipio]],[3]!Tabla9[#All],3,FALSE),\"\")","v":""}]
[{"$f":"IFERROR(VLOOKUP(Tabla38[[#This Row],[Municipio]],[3]!Tabla2[#All],3,FALSE),\"\")","v":""},1303,"Malacatancito",{"$f":"IFERROR(VLOOKUP(Tabla38[[#This Row],[CODIGO municipio]],[3]!Tabla6[[#All],[codigo_mun]],1,FALSE),\"\")","v":""},{"$f":"IFERROR(VLOOKUP(Tabla38[[#This Row],[CODIGO municipio]],[3]!Tabla12[#All],2,FALSE),\"\")","v":""},{"$f":"IFERROR(VLOOKUP(Tabla38[[#This Row],[CODIGO municipio]],[3]!Tabla7[#All],3,FALSE),\"\")","v":""},{"$f":"IFERROR(VLOOKUP(Tabla38[[#This Row],[CODIGO municipio]],[3]!Tabla7[#All],4,FALSE),\"\")","v":""},{"$f":"IFERROR(VLOOKUP(Tabla38[[#This Row],[CODIGO municipio]],[3]!Tabla7[#All],11,FALSE),\"\")","v":""},{"$f":"IFERROR(VLOOKUP(Tabla38[[#This Row],[CODIGO municipio]],[3]!Tabla7[#All],12,FALSE),\"\")","v":""},{"$f":"IFERROR(VLOOKUP(Tabla38[[#This Row],[CODIGO municipio]],[3]!Tabla7[#All],13,FALSE),\"\")","v":""},{"$f":"IFERROR(VLOOKUP(Tabla38[[#This Row],[CODIGO municipio]],[3]!Tabla7[#All],14,FALSE),\"\")","v":""},{"$f":"IFERROR(VLOOKUP(Tabla38[[#This Row],[CODIGO municipio]],[3]!Tabla7[#All],15,FALSE),\"\")","v":""},{"$f":"IFERROR(VLOOKUP(Tabla38[[#This Row],[CODIGO municipio]],[3]!Tabla7[#All],16,FALSE),\"\")","v":""},{"$f":"IFERROR(VLOOKUP(Tabla38[[#This Row],[CODIGO municipio]],[3]!Tabla7[#All],17,FALSE),\"\")","v":""},{"$f":"IFERROR(VLOOKUP(Tabla38[[#This Row],[CODIGO municipio]],[3]!Tabla7[#All],18,FALSE),\"\")","v":""},{"$f":"IFERROR(VLOOKUP(Tabla38[[#This Row],[CODIGO municipio]],[3]!Tabla7[#All],19,FALSE),\"\")","v":""},{"$f":"IFERROR(VLOOKUP(Tabla38[[#This Row],[CODIGO municipio]],[3]!Tabla8[#All],3,FALSE),\"\")","v":""},{"$f":"IFERROR(VLOOKUP(Tabla38[[#This Row],[CODIGO municipio]],[3]!Tabla8[#All],4,FALSE),\"\")","v":""},{"$f":"IFERROR(VLOOKUP(Tabla38[[#This Row],[CODIGO municipio]],[3]!Tabla8[#All],5,FALSE),\"\")","v":""},{"$f":"IFERROR(VLOOKUP(Tabla38[[#This Row],[CODIGO municipio]],[3]!Tabla8[#All],6,FALSE),\"\")","v":""},{"$f":"IFERROR(VLOOKUP(Tabla38[[#This Row],[CODIGO municipio]],[3]!Tabla8[#All],7,FALSE),\"\")","v":""},{"$f":"IFERROR(VLOOKUP(Tabla38[[#This Row],[CODIGO municipio]],[3]!Tabla8[#All],8,FALSE),\"\")","v":""},{"$f":"IFERROR(VLOOKUP(Tabla38[[#This Row],[CODIGO municipio]],[3]!Tabla8[#All],9,FALSE),\"\")","v":""},{"$f":"IFERROR(VLOOKUP(Tabla38[[#This Row],[CODIGO municipio]],[3]!Tabla8[#All],10,FALSE),\"\")","v":""},{"$f":"IFERROR(VLOOKUP(Tabla38[[#This Row],[CODIGO municipio]],[3]!Tabla8[#All],11,FALSE),\"\")","v":""},{"$f":"IFERROR(VLOOKUP(Tabla38[[#This Row],[CODIGO municipio]],[3]!Tabla8[#All],12,FALSE),\"\")","v":""},{"$f":"IFERROR(VLOOKUP(Tabla38[[#This Row],[CODIGO municipio]],[3]!Tabla8[#All],13,FALSE),\"\")","v":""},{"$f":"IFERROR(VLOOKUP(Tabla38[[#This Row],[CODIGO municipio]],[3]!Tabla8[#All],14,FALSE),\"\")","v":""},{"$f":"IFERROR(VLOOKUP(Tabla38[[#This Row],[CODIGO municipio]],[3]!Tabla8[#All],15,FALSE),\"\")","v":""},{"$f":"IFERROR(VLOOKUP(Tabla38[[#This Row],[CODIGO municipio]],[3]!Tabla8[#All],16,FALSE),\"\")","v":""},{"$f":"IFERROR(VLOOKUP(Tabla38[[#This Row],[CODIGO municipio]],[3]!Tabla8[#All],17,FALSE),\"\")","v":""},{"$f":"IFERROR(VLOOKUP(Tabla38[[#This Row],[CODIGO municipio]],[3]!Tabla8[#All],18,FALSE),\"\")","v":""},{"$f":"IFERROR(VLOOKUP(Tabla38[[#This Row],[CODIGO municipio]],[3]!Tabla8[#All],19,FALSE),\"\")","v":""},{"$f":"IFERROR(VLOOKUP(Tabla38[[#This Row],[CODIGO municipio]],[3]!Tabla8[#All],20,FALSE),\"\")","v":""},{"$f":"IFERROR(VLOOKUP(Tabla38[[#This Row],[CODIGO municipio]],[3]!Tabla8[#All],21,FALSE),\"\")","v":""},{"$f":"IFERROR(VLOOKUP(Tabla38[[#This Row],[CODIGO municipio]],[3]!Tabla8[#All],22,FALSE),\"\")","v":""},{"$f":"IFERROR(VLOOKUP(Tabla38[[#This Row],[CODIGO municipio]],[3]!Tabla8[#All],23,FALSE),\"\")","v":""},{"$f":"IFERROR(VLOOKUP(Tabla38[[#This Row],[CODIGO municipio]],[3]!Tabla9[#All],3,FALSE),\"\")","v":""}]
[{"$f":"IFERROR(VLOOKUP(Tabla38[[#This Row],[Municipio]],[3]!Tabla2[#All],3,FALSE),\"\")","v":""},1304,"Cuilco",{"$f":"IFERROR(VLOOKUP(Tabla38[[#This Row],[CODIGO municipio]],[3]!Tabla6[[#All],[codigo_mun]],1,FALSE),\"\")","v":""},{"$f":"IFERROR(VLOOKUP(Tabla38[[#This Row],[CODIGO municipio]],[3]!Tabla12[#All],2,FALSE),\"\")","v":""},{"$f":"IFERROR(VLOOKUP(Tabla38[[#This Row],[CODIGO municipio]],[3]!Tabla7[#All],3,FALSE),\"\")","v":""},{"$f":"IFERROR(VLOOKUP(Tabla38[[#This Row],[CODIGO municipio]],[3]!Tabla7[#All],4,FALSE),\"\")","v":""},{"$f":"IFERROR(VLOOKUP(Tabla38[[#This Row],[CODIGO municipio]],[3]!Tabla7[#All],11,FALSE),\"\")","v":""},{"$f":"IFERROR(VLOOKUP(Tabla38[[#This Row],[CODIGO municipio]],[3]!Tabla7[#All],12,FALSE),\"\")","v":""},{"$f":"IFERROR(VLOOKUP(Tabla38[[#This Row],[CODIGO municipio]],[3]!Tabla7[#All],13,FALSE),\"\")","v":""},{"$f":"IFERROR(VLOOKUP(Tabla38[[#This Row],[CODIGO municipio]],[3]!Tabla7[#All],14,FALSE),\"\")","v":""},{"$f":"IFERROR(VLOOKUP(Tabla38[[#This Row],[CODIGO municipio]],[3]!Tabla7[#All],15,FALSE),\"\")","v":""},{"$f":"IFERROR(VLOOKUP(Tabla38[[#This Row],[CODIGO municipio]],[3]!Tabla7[#All],16,FALSE),\"\")","v":""},{"$f":"IFERROR(VLOOKUP(Tabla38[[#This Row],[CODIGO municipio]],[3]!Tabla7[#All],17,FALSE),\"\")","v":""},{"$f":"IFERROR(VLOOKUP(Tabla38[[#This Row],[CODIGO municipio]],[3]!Tabla7[#All],18,FALSE),\"\")","v":""},{"$f":"IFERROR(VLOOKUP(Tabla38[[#This Row],[CODIGO municipio]],[3]!Tabla7[#All],19,FALSE),\"\")","v":""},{"$f":"IFERROR(VLOOKUP(Tabla38[[#This Row],[CODIGO municipio]],[3]!Tabla8[#All],3,FALSE),\"\")","v":""},{"$f":"IFERROR(VLOOKUP(Tabla38[[#This Row],[CODIGO municipio]],[3]!Tabla8[#All],4,FALSE),\"\")","v":""},{"$f":"IFERROR(VLOOKUP(Tabla38[[#This Row],[CODIGO municipio]],[3]!Tabla8[#All],5,FALSE),\"\")","v":""},{"$f":"IFERROR(VLOOKUP(Tabla38[[#This Row],[CODIGO municipio]],[3]!Tabla8[#All],6,FALSE),\"\")","v":""},{"$f":"IFERROR(VLOOKUP(Tabla38[[#This Row],[CODIGO municipio]],[3]!Tabla8[#All],7,FALSE),\"\")","v":""},{"$f":"IFERROR(VLOOKUP(Tabla38[[#This Row],[CODIGO municipio]],[3]!Tabla8[#All],8,FALSE),\"\")","v":""},{"$f":"IFERROR(VLOOKUP(Tabla38[[#This Row],[CODIGO municipio]],[3]!Tabla8[#All],9,FALSE),\"\")","v":""},{"$f":"IFERROR(VLOOKUP(Tabla38[[#This Row],[CODIGO municipio]],[3]!Tabla8[#All],10,FALSE),\"\")","v":""},{"$f":"IFERROR(VLOOKUP(Tabla38[[#This Row],[CODIGO municipio]],[3]!Tabla8[#All],11,FALSE),\"\")","v":""},{"$f":"IFERROR(VLOOKUP(Tabla38[[#This Row],[CODIGO municipio]],[3]!Tabla8[#All],12,FALSE),\"\")","v":""},{"$f":"IFERROR(VLOOKUP(Tabla38[[#This Row],[CODIGO municipio]],[3]!Tabla8[#All],13,FALSE),\"\")","v":""},{"$f":"IFERROR(VLOOKUP(Tabla38[[#This Row],[CODIGO municipio]],[3]!Tabla8[#All],14,FALSE),\"\")","v":""},{"$f":"IFERROR(VLOOKUP(Tabla38[[#This Row],[CODIGO municipio]],[3]!Tabla8[#All],15,FALSE),\"\")","v":""},{"$f":"IFERROR(VLOOKUP(Tabla38[[#This Row],[CODIGO municipio]],[3]!Tabla8[#All],16,FALSE),\"\")","v":""},{"$f":"IFERROR(VLOOKUP(Tabla38[[#This Row],[CODIGO municipio]],[3]!Tabla8[#All],17,FALSE),\"\")","v":""},{"$f":"IFERROR(VLOOKUP(Tabla38[[#This Row],[CODIGO municipio]],[3]!Tabla8[#All],18,FALSE),\"\")","v":""},{"$f":"IFERROR(VLOOKUP(Tabla38[[#This Row],[CODIGO municipio]],[3]!Tabla8[#All],19,FALSE),\"\")","v":""},{"$f":"IFERROR(VLOOKUP(Tabla38[[#This Row],[CODIGO municipio]],[3]!Tabla8[#All],20,FALSE),\"\")","v":""},{"$f":"IFERROR(VLOOKUP(Tabla38[[#This Row],[CODIGO municipio]],[3]!Tabla8[#All],21,FALSE),\"\")","v":""},{"$f":"IFERROR(VLOOKUP(Tabla38[[#This Row],[CODIGO municipio]],[3]!Tabla8[#All],22,FALSE),\"\")","v":""},{"$f":"IFERROR(VLOOKUP(Tabla38[[#This Row],[CODIGO municipio]],[3]!Tabla8[#All],23,FALSE),\"\")","v":""},{"$f":"IFERROR(VLOOKUP(Tabla38[[#This Row],[CODIGO municipio]],[3]!Tabla9[#All],3,FALSE),\"\")","v":""}]
[{"$f":"IFERROR(VLOOKUP(Tabla38[[#This Row],[Municipio]],[3]!Tabla2[#All],3,FALSE),\"\")","v":""},1305,"Nentón",{"$f":"IFERROR(VLOOKUP(Tabla38[[#This Row],[CODIGO municipio]],[3]!Tabla6[[#All],[codigo_mun]],1,FALSE),\"\")","v":""},{"$f":"IFERROR(VLOOKUP(Tabla38[[#This Row],[CODIGO municipio]],[3]!Tabla12[#All],2,FALSE),\"\")","v":""},{"$f":"IFERROR(VLOOKUP(Tabla38[[#This Row],[CODIGO municipio]],[3]!Tabla7[#All],3,FALSE),\"\")","v":""},{"$f":"IFERROR(VLOOKUP(Tabla38[[#This Row],[CODIGO municipio]],[3]!Tabla7[#All],4,FALSE),\"\")","v":""},{"$f":"IFERROR(VLOOKUP(Tabla38[[#This Row],[CODIGO municipio]],[3]!Tabla7[#All],11,FALSE),\"\")","v":""},{"$f":"IFERROR(VLOOKUP(Tabla38[[#This Row],[CODIGO municipio]],[3]!Tabla7[#All],12,FALSE),\"\")","v":""},{"$f":"IFERROR(VLOOKUP(Tabla38[[#This Row],[CODIGO municipio]],[3]!Tabla7[#All],13,FALSE),\"\")","v":""},{"$f":"IFERROR(VLOOKUP(Tabla38[[#This Row],[CODIGO municipio]],[3]!Tabla7[#All],14,FALSE),\"\")","v":""},{"$f":"IFERROR(VLOOKUP(Tabla38[[#This Row],[CODIGO municipio]],[3]!Tabla7[#All],15,FALSE),\"\")","v":""},{"$f":"IFERROR(VLOOKUP(Tabla38[[#This Row],[CODIGO municipio]],[3]!Tabla7[#All],16,FALSE),\"\")","v":""},{"$f":"IFERROR(VLOOKUP(Tabla38[[#This Row],[CODIGO municipio]],[3]!Tabla7[#All],17,FALSE),\"\")","v":""},{"$f":"IFERROR(VLOOKUP(Tabla38[[#This Row],[CODIGO municipio]],[3]!Tabla7[#All],18,FALSE),\"\")","v":""},{"$f":"IFERROR(VLOOKUP(Tabla38[[#This Row],[CODIGO municipio]],[3]!Tabla7[#All],19,FALSE),\"\")","v":""},{"$f":"IFERROR(VLOOKUP(Tabla38[[#This Row],[CODIGO municipio]],[3]!Tabla8[#All],3,FALSE),\"\")","v":""},{"$f":"IFERROR(VLOOKUP(Tabla38[[#This Row],[CODIGO municipio]],[3]!Tabla8[#All],4,FALSE),\"\")","v":""},{"$f":"IFERROR(VLOOKUP(Tabla38[[#This Row],[CODIGO municipio]],[3]!Tabla8[#All],5,FALSE),\"\")","v":""},{"$f":"IFERROR(VLOOKUP(Tabla38[[#This Row],[CODIGO municipio]],[3]!Tabla8[#All],6,FALSE),\"\")","v":""},{"$f":"IFERROR(VLOOKUP(Tabla38[[#This Row],[CODIGO municipio]],[3]!Tabla8[#All],7,FALSE),\"\")","v":""},{"$f":"IFERROR(VLOOKUP(Tabla38[[#This Row],[CODIGO municipio]],[3]!Tabla8[#All],8,FALSE),\"\")","v":""},{"$f":"IFERROR(VLOOKUP(Tabla38[[#This Row],[CODIGO municipio]],[3]!Tabla8[#All],9,FALSE),\"\")","v":""},{"$f":"IFERROR(VLOOKUP(Tabla38[[#This Row],[CODIGO municipio]],[3]!Tabla8[#All],10,FALSE),\"\")","v":""},{"$f":"IFERROR(VLOOKUP(Tabla38[[#This Row],[CODIGO municipio]],[3]!Tabla8[#All],11,FALSE),\"\")","v":""},{"$f":"IFERROR(VLOOKUP(Tabla38[[#This Row],[CODIGO municipio]],[3]!Tabla8[#All],12,FALSE),\"\")","v":""},{"$f":"IFERROR(VLOOKUP(Tabla38[[#This Row],[CODIGO municipio]],[3]!Tabla8[#All],13,FALSE),\"\")","v":""},{"$f":"IFERROR(VLOOKUP(Tabla38[[#This Row],[CODIGO municipio]],[3]!Tabla8[#All],14,FALSE),\"\")","v":""},{"$f":"IFERROR(VLOOKUP(Tabla38[[#This Row],[CODIGO municipio]],[3]!Tabla8[#All],15,FALSE),\"\")","v":""},{"$f":"IFERROR(VLOOKUP(Tabla38[[#This Row],[CODIGO municipio]],[3]!Tabla8[#All],16,FALSE),\"\")","v":""},{"$f":"IFERROR(VLOOKUP(Tabla38[[#This Row],[CODIGO municipio]],[3]!Tabla8[#All],17,FALSE),\"\")","v":""},{"$f":"IFERROR(VLOOKUP(Tabla38[[#This Row],[CODIGO municipio]],[3]!Tabla8[#All],18,FALSE),\"\")","v":""},{"$f":"IFERROR(VLOOKUP(Tabla38[[#This Row],[CODIGO municipio]],[3]!Tabla8[#All],19,FALSE),\"\")","v":""},{"$f":"IFERROR(VLOOKUP(Tabla38[[#This Row],[CODIGO municipio]],[3]!Tabla8[#All],20,FALSE),\"\")","v":""},{"$f":"IFERROR(VLOOKUP(Tabla38[[#This Row],[CODIGO municipio]],[3]!Tabla8[#All],21,FALSE),\"\")","v":""},{"$f":"IFERROR(VLOOKUP(Tabla38[[#This Row],[CODIGO municipio]],[3]!Tabla8[#All],22,FALSE),\"\")","v":""},{"$f":"IFERROR(VLOOKUP(Tabla38[[#This Row],[CODIGO municipio]],[3]!Tabla8[#All],23,FALSE),\"\")","v":""},{"$f":"IFERROR(VLOOKUP(Tabla38[[#This Row],[CODIGO municipio]],[3]!Tabla9[#All],3,FALSE),\"\")","v":""}]
[{"$f":"IFERROR(VLOOKUP(Tabla38[[#This Row],[Municipio]],[3]!Tabla2[#All],3,FALSE),\"\")","v":""},1306,"San Pedro Necta",{"$f":"IFERROR(VLOOKUP(Tabla38[[#This Row],[CODIGO municipio]],[3]!Tabla6[[#All],[codigo_mun]],1,FALSE),\"\")","v":""},{"$f":"IFERROR(VLOOKUP(Tabla38[[#This Row],[CODIGO municipio]],[3]!Tabla12[#All],2,FALSE),\"\")","v":""},{"$f":"IFERROR(VLOOKUP(Tabla38[[#This Row],[CODIGO municipio]],[3]!Tabla7[#All],3,FALSE),\"\")","v":""},{"$f":"IFERROR(VLOOKUP(Tabla38[[#This Row],[CODIGO municipio]],[3]!Tabla7[#All],4,FALSE),\"\")","v":""},{"$f":"IFERROR(VLOOKUP(Tabla38[[#This Row],[CODIGO municipio]],[3]!Tabla7[#All],11,FALSE),\"\")","v":""},{"$f":"IFERROR(VLOOKUP(Tabla38[[#This Row],[CODIGO municipio]],[3]!Tabla7[#All],12,FALSE),\"\")","v":""},{"$f":"IFERROR(VLOOKUP(Tabla38[[#This Row],[CODIGO municipio]],[3]!Tabla7[#All],13,FALSE),\"\")","v":""},{"$f":"IFERROR(VLOOKUP(Tabla38[[#This Row],[CODIGO municipio]],[3]!Tabla7[#All],14,FALSE),\"\")","v":""},{"$f":"IFERROR(VLOOKUP(Tabla38[[#This Row],[CODIGO municipio]],[3]!Tabla7[#All],15,FALSE),\"\")","v":""},{"$f":"IFERROR(VLOOKUP(Tabla38[[#This Row],[CODIGO municipio]],[3]!Tabla7[#All],16,FALSE),\"\")","v":""},{"$f":"IFERROR(VLOOKUP(Tabla38[[#This Row],[CODIGO municipio]],[3]!Tabla7[#All],17,FALSE),\"\")","v":""},{"$f":"IFERROR(VLOOKUP(Tabla38[[#This Row],[CODIGO municipio]],[3]!Tabla7[#All],18,FALSE),\"\")","v":""},{"$f":"IFERROR(VLOOKUP(Tabla38[[#This Row],[CODIGO municipio]],[3]!Tabla7[#All],19,FALSE),\"\")","v":""},{"$f":"IFERROR(VLOOKUP(Tabla38[[#This Row],[CODIGO municipio]],[3]!Tabla8[#All],3,FALSE),\"\")","v":""},{"$f":"IFERROR(VLOOKUP(Tabla38[[#This Row],[CODIGO municipio]],[3]!Tabla8[#All],4,FALSE),\"\")","v":""},{"$f":"IFERROR(VLOOKUP(Tabla38[[#This Row],[CODIGO municipio]],[3]!Tabla8[#All],5,FALSE),\"\")","v":""},{"$f":"IFERROR(VLOOKUP(Tabla38[[#This Row],[CODIGO municipio]],[3]!Tabla8[#All],6,FALSE),\"\")","v":""},{"$f":"IFERROR(VLOOKUP(Tabla38[[#This Row],[CODIGO municipio]],[3]!Tabla8[#All],7,FALSE),\"\")","v":""},{"$f":"IFERROR(VLOOKUP(Tabla38[[#This Row],[CODIGO municipio]],[3]!Tabla8[#All],8,FALSE),\"\")","v":""},{"$f":"IFERROR(VLOOKUP(Tabla38[[#This Row],[CODIGO municipio]],[3]!Tabla8[#All],9,FALSE),\"\")","v":""},{"$f":"IFERROR(VLOOKUP(Tabla38[[#This Row],[CODIGO municipio]],[3]!Tabla8[#All],10,FALSE),\"\")","v":""},{"$f":"IFERROR(VLOOKUP(Tabla38[[#This Row],[CODIGO municipio]],[3]!Tabla8[#All],11,FALSE),\"\")","v":""},{"$f":"IFERROR(VLOOKUP(Tabla38[[#This Row],[CODIGO municipio]],[3]!Tabla8[#All],12,FALSE),\"\")","v":""},{"$f":"IFERROR(VLOOKUP(Tabla38[[#This Row],[CODIGO municipio]],[3]!Tabla8[#All],13,FALSE),\"\")","v":""},{"$f":"IFERROR(VLOOKUP(Tabla38[[#This Row],[CODIGO municipio]],[3]!Tabla8[#All],14,FALSE),\"\")","v":""},{"$f":"IFERROR(VLOOKUP(Tabla38[[#This Row],[CODIGO municipio]],[3]!Tabla8[#All],15,FALSE),\"\")","v":""},{"$f":"IFERROR(VLOOKUP(Tabla38[[#This Row],[CODIGO municipio]],[3]!Tabla8[#All],16,FALSE),\"\")","v":""},{"$f":"IFERROR(VLOOKUP(Tabla38[[#This Row],[CODIGO municipio]],[3]!Tabla8[#All],17,FALSE),\"\")","v":""},{"$f":"IFERROR(VLOOKUP(Tabla38[[#This Row],[CODIGO municipio]],[3]!Tabla8[#All],18,FALSE),\"\")","v":""},{"$f":"IFERROR(VLOOKUP(Tabla38[[#This Row],[CODIGO municipio]],[3]!Tabla8[#All],19,FALSE),\"\")","v":""},{"$f":"IFERROR(VLOOKUP(Tabla38[[#This Row],[CODIGO municipio]],[3]!Tabla8[#All],20,FALSE),\"\")","v":""},{"$f":"IFERROR(VLOOKUP(Tabla38[[#This Row],[CODIGO municipio]],[3]!Tabla8[#All],21,FALSE),\"\")","v":""},{"$f":"IFERROR(VLOOKUP(Tabla38[[#This Row],[CODIGO municipio]],[3]!Tabla8[#All],22,FALSE),\"\")","v":""},{"$f":"IFERROR(VLOOKUP(Tabla38[[#This Row],[CODIGO municipio]],[3]!Tabla8[#All],23,FALSE),\"\")","v":""},{"$f":"IFERROR(VLOOKUP(Tabla38[[#This Row],[CODIGO municipio]],[3]!Tabla9[#All],3,FALSE),\"\")","v":""}]
[{"$f":"IFERROR(VLOOKUP(Tabla38[[#This Row],[Municipio]],[3]!Tabla2[#All],3,FALSE),\"\")","v":""},1307,"Jacaltenango",{"$f":"IFERROR(VLOOKUP(Tabla38[[#This Row],[CODIGO municipio]],[3]!Tabla6[[#All],[codigo_mun]],1,FALSE),\"\")","v":""},{"$f":"IFERROR(VLOOKUP(Tabla38[[#This Row],[CODIGO municipio]],[3]!Tabla12[#All],2,FALSE),\"\")","v":""},{"$f":"IFERROR(VLOOKUP(Tabla38[[#This Row],[CODIGO municipio]],[3]!Tabla7[#All],3,FALSE),\"\")","v":""},{"$f":"IFERROR(VLOOKUP(Tabla38[[#This Row],[CODIGO municipio]],[3]!Tabla7[#All],4,FALSE),\"\")","v":""},{"$f":"IFERROR(VLOOKUP(Tabla38[[#This Row],[CODIGO municipio]],[3]!Tabla7[#All],11,FALSE),\"\")","v":""},{"$f":"IFERROR(VLOOKUP(Tabla38[[#This Row],[CODIGO municipio]],[3]!Tabla7[#All],12,FALSE),\"\")","v":""},{"$f":"IFERROR(VLOOKUP(Tabla38[[#This Row],[CODIGO municipio]],[3]!Tabla7[#All],13,FALSE),\"\")","v":""},{"$f":"IFERROR(VLOOKUP(Tabla38[[#This Row],[CODIGO municipio]],[3]!Tabla7[#All],14,FALSE),\"\")","v":""},{"$f":"IFERROR(VLOOKUP(Tabla38[[#This Row],[CODIGO municipio]],[3]!Tabla7[#All],15,FALSE),\"\")","v":""},{"$f":"IFERROR(VLOOKUP(Tabla38[[#This Row],[CODIGO municipio]],[3]!Tabla7[#All],16,FALSE),\"\")","v":""},{"$f":"IFERROR(VLOOKUP(Tabla38[[#This Row],[CODIGO municipio]],[3]!Tabla7[#All],17,FALSE),\"\")","v":""},{"$f":"IFERROR(VLOOKUP(Tabla38[[#This Row],[CODIGO municipio]],[3]!Tabla7[#All],18,FALSE),\"\")","v":""},{"$f":"IFERROR(VLOOKUP(Tabla38[[#This Row],[CODIGO municipio]],[3]!Tabla7[#All],19,FALSE),\"\")","v":""},{"$f":"IFERROR(VLOOKUP(Tabla38[[#This Row],[CODIGO municipio]],[3]!Tabla8[#All],3,FALSE),\"\")","v":""},{"$f":"IFERROR(VLOOKUP(Tabla38[[#This Row],[CODIGO municipio]],[3]!Tabla8[#All],4,FALSE),\"\")","v":""},{"$f":"IFERROR(VLOOKUP(Tabla38[[#This Row],[CODIGO municipio]],[3]!Tabla8[#All],5,FALSE),\"\")","v":""},{"$f":"IFERROR(VLOOKUP(Tabla38[[#This Row],[CODIGO municipio]],[3]!Tabla8[#All],6,FALSE),\"\")","v":""},{"$f":"IFERROR(VLOOKUP(Tabla38[[#This Row],[CODIGO municipio]],[3]!Tabla8[#All],7,FALSE),\"\")","v":""},{"$f":"IFERROR(VLOOKUP(Tabla38[[#This Row],[CODIGO municipio]],[3]!Tabla8[#All],8,FALSE),\"\")","v":""},{"$f":"IFERROR(VLOOKUP(Tabla38[[#This Row],[CODIGO municipio]],[3]!Tabla8[#All],9,FALSE),\"\")","v":""},{"$f":"IFERROR(VLOOKUP(Tabla38[[#This Row],[CODIGO municipio]],[3]!Tabla8[#All],10,FALSE),\"\")","v":""},{"$f":"IFERROR(VLOOKUP(Tabla38[[#This Row],[CODIGO municipio]],[3]!Tabla8[#All],11,FALSE),\"\")","v":""},{"$f":"IFERROR(VLOOKUP(Tabla38[[#This Row],[CODIGO municipio]],[3]!Tabla8[#All],12,FALSE),\"\")","v":""},{"$f":"IFERROR(VLOOKUP(Tabla38[[#This Row],[CODIGO municipio]],[3]!Tabla8[#All],13,FALSE),\"\")","v":""},{"$f":"IFERROR(VLOOKUP(Tabla38[[#This Row],[CODIGO municipio]],[3]!Tabla8[#All],14,FALSE),\"\")","v":""},{"$f":"IFERROR(VLOOKUP(Tabla38[[#This Row],[CODIGO municipio]],[3]!Tabla8[#All],15,FALSE),\"\")","v":""},{"$f":"IFERROR(VLOOKUP(Tabla38[[#This Row],[CODIGO municipio]],[3]!Tabla8[#All],16,FALSE),\"\")","v":""},{"$f":"IFERROR(VLOOKUP(Tabla38[[#This Row],[CODIGO municipio]],[3]!Tabla8[#All],17,FALSE),\"\")","v":""},{"$f":"IFERROR(VLOOKUP(Tabla38[[#This Row],[CODIGO municipio]],[3]!Tabla8[#All],18,FALSE),\"\")","v":""},{"$f":"IFERROR(VLOOKUP(Tabla38[[#This Row],[CODIGO municipio]],[3]!Tabla8[#All],19,FALSE),\"\")","v":""},{"$f":"IFERROR(VLOOKUP(Tabla38[[#This Row],[CODIGO municipio]],[3]!Tabla8[#All],20,FALSE),\"\")","v":""},{"$f":"IFERROR(VLOOKUP(Tabla38[[#This Row],[CODIGO municipio]],[3]!Tabla8[#All],21,FALSE),\"\")","v":""},{"$f":"IFERROR(VLOOKUP(Tabla38[[#This Row],[CODIGO municipio]],[3]!Tabla8[#All],22,FALSE),\"\")","v":""},{"$f":"IFERROR(VLOOKUP(Tabla38[[#This Row],[CODIGO municipio]],[3]!Tabla8[#All],23,FALSE),\"\")","v":""},{"$f":"IFERROR(VLOOKUP(Tabla38[[#This Row],[CODIGO municipio]],[3]!Tabla9[#All],3,FALSE),\"\")","v":""}]
[{"$f":"IFERROR(VLOOKUP(Tabla38[[#This Row],[Municipio]],[3]!Tabla2[#All],3,FALSE),\"\")","v":""},1308,"San Pedro Soloma",{"$f":"IFERROR(VLOOKUP(Tabla38[[#This Row],[CODIGO municipio]],[3]!Tabla6[[#All],[codigo_mun]],1,FALSE),\"\")","v":""},{"$f":"IFERROR(VLOOKUP(Tabla38[[#This Row],[CODIGO municipio]],[3]!Tabla12[#All],2,FALSE),\"\")","v":""},{"$f":"IFERROR(VLOOKUP(Tabla38[[#This Row],[CODIGO municipio]],[3]!Tabla7[#All],3,FALSE),\"\")","v":""},{"$f":"IFERROR(VLOOKUP(Tabla38[[#This Row],[CODIGO municipio]],[3]!Tabla7[#All],4,FALSE),\"\")","v":""},{"$f":"IFERROR(VLOOKUP(Tabla38[[#This Row],[CODIGO municipio]],[3]!Tabla7[#All],11,FALSE),\"\")","v":""},{"$f":"IFERROR(VLOOKUP(Tabla38[[#This Row],[CODIGO municipio]],[3]!Tabla7[#All],12,FALSE),\"\")","v":""},{"$f":"IFERROR(VLOOKUP(Tabla38[[#This Row],[CODIGO municipio]],[3]!Tabla7[#All],13,FALSE),\"\")","v":""},{"$f":"IFERROR(VLOOKUP(Tabla38[[#This Row],[CODIGO municipio]],[3]!Tabla7[#All],14,FALSE),\"\")","v":""},{"$f":"IFERROR(VLOOKUP(Tabla38[[#This Row],[CODIGO municipio]],[3]!Tabla7[#All],15,FALSE),\"\")","v":""},{"$f":"IFERROR(VLOOKUP(Tabla38[[#This Row],[CODIGO municipio]],[3]!Tabla7[#All],16,FALSE),\"\")","v":""},{"$f":"IFERROR(VLOOKUP(Tabla38[[#This Row],[CODIGO municipio]],[3]!Tabla7[#All],17,FALSE),\"\")","v":""},{"$f":"IFERROR(VLOOKUP(Tabla38[[#This Row],[CODIGO municipio]],[3]!Tabla7[#All],18,FALSE),\"\")","v":""},{"$f":"IFERROR(VLOOKUP(Tabla38[[#This Row],[CODIGO municipio]],[3]!Tabla7[#All],19,FALSE),\"\")","v":""},{"$f":"IFERROR(VLOOKUP(Tabla38[[#This Row],[CODIGO municipio]],[3]!Tabla8[#All],3,FALSE),\"\")","v":""},{"$f":"IFERROR(VLOOKUP(Tabla38[[#This Row],[CODIGO municipio]],[3]!Tabla8[#All],4,FALSE),\"\")","v":""},{"$f":"IFERROR(VLOOKUP(Tabla38[[#This Row],[CODIGO municipio]],[3]!Tabla8[#All],5,FALSE),\"\")","v":""},{"$f":"IFERROR(VLOOKUP(Tabla38[[#This Row],[CODIGO municipio]],[3]!Tabla8[#All],6,FALSE),\"\")","v":""},{"$f":"IFERROR(VLOOKUP(Tabla38[[#This Row],[CODIGO municipio]],[3]!Tabla8[#All],7,FALSE),\"\")","v":""},{"$f":"IFERROR(VLOOKUP(Tabla38[[#This Row],[CODIGO municipio]],[3]!Tabla8[#All],8,FALSE),\"\")","v":""},{"$f":"IFERROR(VLOOKUP(Tabla38[[#This Row],[CODIGO municipio]],[3]!Tabla8[#All],9,FALSE),\"\")","v":""},{"$f":"IFERROR(VLOOKUP(Tabla38[[#This Row],[CODIGO municipio]],[3]!Tabla8[#All],10,FALSE),\"\")","v":""},{"$f":"IFERROR(VLOOKUP(Tabla38[[#This Row],[CODIGO municipio]],[3]!Tabla8[#All],11,FALSE),\"\")","v":""},{"$f":"IFERROR(VLOOKUP(Tabla38[[#This Row],[CODIGO municipio]],[3]!Tabla8[#All],12,FALSE),\"\")","v":""},{"$f":"IFERROR(VLOOKUP(Tabla38[[#This Row],[CODIGO municipio]],[3]!Tabla8[#All],13,FALSE),\"\")","v":""},{"$f":"IFERROR(VLOOKUP(Tabla38[[#This Row],[CODIGO municipio]],[3]!Tabla8[#All],14,FALSE),\"\")","v":""},{"$f":"IFERROR(VLOOKUP(Tabla38[[#This Row],[CODIGO municipio]],[3]!Tabla8[#All],15,FALSE),\"\")","v":""},{"$f":"IFERROR(VLOOKUP(Tabla38[[#This Row],[CODIGO municipio]],[3]!Tabla8[#All],16,FALSE),\"\")","v":""},{"$f":"IFERROR(VLOOKUP(Tabla38[[#This Row],[CODIGO municipio]],[3]!Tabla8[#All],17,FALSE),\"\")","v":""},{"$f":"IFERROR(VLOOKUP(Tabla38[[#This Row],[CODIGO municipio]],[3]!Tabla8[#All],18,FALSE),\"\")","v":""},{"$f":"IFERROR(VLOOKUP(Tabla38[[#This Row],[CODIGO municipio]],[3]!Tabla8[#All],19,FALSE),\"\")","v":""},{"$f":"IFERROR(VLOOKUP(Tabla38[[#This Row],[CODIGO municipio]],[3]!Tabla8[#All],20,FALSE),\"\")","v":""},{"$f":"IFERROR(VLOOKUP(Tabla38[[#This Row],[CODIGO municipio]],[3]!Tabla8[#All],21,FALSE),\"\")","v":""},{"$f":"IFERROR(VLOOKUP(Tabla38[[#This Row],[CODIGO municipio]],[3]!Tabla8[#All],22,FALSE),\"\")","v":""},{"$f":"IFERROR(VLOOKUP(Tabla38[[#This Row],[CODIGO municipio]],[3]!Tabla8[#All],23,FALSE),\"\")","v":""},{"$f":"IFERROR(VLOOKUP(Tabla38[[#This Row],[CODIGO municipio]],[3]!Tabla9[#All],3,FALSE),\"\")","v":""}]
[{"$f":"IFERROR(VLOOKUP(Tabla38[[#This Row],[Municipio]],[3]!Tabla2[#All],3,FALSE),\"\")","v":""},1309,"San Ildefonso Ixtahuacán",{"$f":"IFERROR(VLOOKUP(Tabla38[[#This Row],[CODIGO municipio]],[3]!Tabla6[[#All],[codigo_mun]],1,FALSE),\"\")","v":""},{"$f":"IFERROR(VLOOKUP(Tabla38[[#This Row],[CODIGO municipio]],[3]!Tabla12[#All],2,FALSE),\"\")","v":""},{"$f":"IFERROR(VLOOKUP(Tabla38[[#This Row],[CODIGO municipio]],[3]!Tabla7[#All],3,FALSE),\"\")","v":""},{"$f":"IFERROR(VLOOKUP(Tabla38[[#This Row],[CODIGO municipio]],[3]!Tabla7[#All],4,FALSE),\"\")","v":""},{"$f":"IFERROR(VLOOKUP(Tabla38[[#This Row],[CODIGO municipio]],[3]!Tabla7[#All],11,FALSE),\"\")","v":""},{"$f":"IFERROR(VLOOKUP(Tabla38[[#This Row],[CODIGO municipio]],[3]!Tabla7[#All],12,FALSE),\"\")","v":""},{"$f":"IFERROR(VLOOKUP(Tabla38[[#This Row],[CODIGO municipio]],[3]!Tabla7[#All],13,FALSE),\"\")","v":""},{"$f":"IFERROR(VLOOKUP(Tabla38[[#This Row],[CODIGO municipio]],[3]!Tabla7[#All],14,FALSE),\"\")","v":""},{"$f":"IFERROR(VLOOKUP(Tabla38[[#This Row],[CODIGO municipio]],[3]!Tabla7[#All],15,FALSE),\"\")","v":""},{"$f":"IFERROR(VLOOKUP(Tabla38[[#This Row],[CODIGO municipio]],[3]!Tabla7[#All],16,FALSE),\"\")","v":""},{"$f":"IFERROR(VLOOKUP(Tabla38[[#This Row],[CODIGO municipio]],[3]!Tabla7[#All],17,FALSE),\"\")","v":""},{"$f":"IFERROR(VLOOKUP(Tabla38[[#This Row],[CODIGO municipio]],[3]!Tabla7[#All],18,FALSE),\"\")","v":""},{"$f":"IFERROR(VLOOKUP(Tabla38[[#This Row],[CODIGO municipio]],[3]!Tabla7[#All],19,FALSE),\"\")","v":""},{"$f":"IFERROR(VLOOKUP(Tabla38[[#This Row],[CODIGO municipio]],[3]!Tabla8[#All],3,FALSE),\"\")","v":""},{"$f":"IFERROR(VLOOKUP(Tabla38[[#This Row],[CODIGO municipio]],[3]!Tabla8[#All],4,FALSE),\"\")","v":""},{"$f":"IFERROR(VLOOKUP(Tabla38[[#This Row],[CODIGO municipio]],[3]!Tabla8[#All],5,FALSE),\"\")","v":""},{"$f":"IFERROR(VLOOKUP(Tabla38[[#This Row],[CODIGO municipio]],[3]!Tabla8[#All],6,FALSE),\"\")","v":""},{"$f":"IFERROR(VLOOKUP(Tabla38[[#This Row],[CODIGO municipio]],[3]!Tabla8[#All],7,FALSE),\"\")","v":""},{"$f":"IFERROR(VLOOKUP(Tabla38[[#This Row],[CODIGO municipio]],[3]!Tabla8[#All],8,FALSE),\"\")","v":""},{"$f":"IFERROR(VLOOKUP(Tabla38[[#This Row],[CODIGO municipio]],[3]!Tabla8[#All],9,FALSE),\"\")","v":""},{"$f":"IFERROR(VLOOKUP(Tabla38[[#This Row],[CODIGO municipio]],[3]!Tabla8[#All],10,FALSE),\"\")","v":""},{"$f":"IFERROR(VLOOKUP(Tabla38[[#This Row],[CODIGO municipio]],[3]!Tabla8[#All],11,FALSE),\"\")","v":""},{"$f":"IFERROR(VLOOKUP(Tabla38[[#This Row],[CODIGO municipio]],[3]!Tabla8[#All],12,FALSE),\"\")","v":""},{"$f":"IFERROR(VLOOKUP(Tabla38[[#This Row],[CODIGO municipio]],[3]!Tabla8[#All],13,FALSE),\"\")","v":""},{"$f":"IFERROR(VLOOKUP(Tabla38[[#This Row],[CODIGO municipio]],[3]!Tabla8[#All],14,FALSE),\"\")","v":""},{"$f":"IFERROR(VLOOKUP(Tabla38[[#This Row],[CODIGO municipio]],[3]!Tabla8[#All],15,FALSE),\"\")","v":""},{"$f":"IFERROR(VLOOKUP(Tabla38[[#This Row],[CODIGO municipio]],[3]!Tabla8[#All],16,FALSE),\"\")","v":""},{"$f":"IFERROR(VLOOKUP(Tabla38[[#This Row],[CODIGO municipio]],[3]!Tabla8[#All],17,FALSE),\"\")","v":""},{"$f":"IFERROR(VLOOKUP(Tabla38[[#This Row],[CODIGO municipio]],[3]!Tabla8[#All],18,FALSE),\"\")","v":""},{"$f":"IFERROR(VLOOKUP(Tabla38[[#This Row],[CODIGO municipio]],[3]!Tabla8[#All],19,FALSE),\"\")","v":""},{"$f":"IFERROR(VLOOKUP(Tabla38[[#This Row],[CODIGO municipio]],[3]!Tabla8[#All],20,FALSE),\"\")","v":""},{"$f":"IFERROR(VLOOKUP(Tabla38[[#This Row],[CODIGO municipio]],[3]!Tabla8[#All],21,FALSE),\"\")","v":""},{"$f":"IFERROR(VLOOKUP(Tabla38[[#This Row],[CODIGO municipio]],[3]!Tabla8[#All],22,FALSE),\"\")","v":""},{"$f":"IFERROR(VLOOKUP(Tabla38[[#This Row],[CODIGO municipio]],[3]!Tabla8[#All],23,FALSE),\"\")","v":""},{"$f":"IFERROR(VLOOKUP(Tabla38[[#This Row],[CODIGO municipio]],[3]!Tabla9[#All],3,FALSE),\"\")","v":""}]
[{"$f":"IFERROR(VLOOKUP(Tabla38[[#This Row],[Municipio]],[3]!Tabla2[#All],3,FALSE),\"\")","v":""},1310,"Santa Bárbara","1. Corredor Seco",{"$f":"IFERROR(VLOOKUP(Tabla38[[#This Row],[CODIGO municipio]],[3]!Tabla12[#All],2,FALSE),\"\")","v":""},{"$f":"IFERROR(VLOOKUP(Tabla38[[#This Row],[CODIGO municipio]],[3]!Tabla7[#All],3,FALSE),\"\")","v":""},{"$f":"IFERROR(VLOOKUP(Tabla38[[#This Row],[CODIGO municipio]],[3]!Tabla7[#All],4,FALSE),\"\")","v":""},{"$f":"IFERROR(VLOOKUP(Tabla38[[#This Row],[CODIGO municipio]],[3]!Tabla7[#All],11,FALSE),\"\")","v":""},{"$f":"IFERROR(VLOOKUP(Tabla38[[#This Row],[CODIGO municipio]],[3]!Tabla7[#All],12,FALSE),\"\")","v":""},{"$f":"IFERROR(VLOOKUP(Tabla38[[#This Row],[CODIGO municipio]],[3]!Tabla7[#All],13,FALSE),\"\")","v":""},{"$f":"IFERROR(VLOOKUP(Tabla38[[#This Row],[CODIGO municipio]],[3]!Tabla7[#All],14,FALSE),\"\")","v":""},{"$f":"IFERROR(VLOOKUP(Tabla38[[#This Row],[CODIGO municipio]],[3]!Tabla7[#All],15,FALSE),\"\")","v":""},{"$f":"IFERROR(VLOOKUP(Tabla38[[#This Row],[CODIGO municipio]],[3]!Tabla7[#All],16,FALSE),\"\")","v":""},{"$f":"IFERROR(VLOOKUP(Tabla38[[#This Row],[CODIGO municipio]],[3]!Tabla7[#All],17,FALSE),\"\")","v":""},{"$f":"IFERROR(VLOOKUP(Tabla38[[#This Row],[CODIGO municipio]],[3]!Tabla7[#All],18,FALSE),\"\")","v":""},{"$f":"IFERROR(VLOOKUP(Tabla38[[#This Row],[CODIGO municipio]],[3]!Tabla7[#All],19,FALSE),\"\")","v":""},{"$f":"IFERROR(VLOOKUP(Tabla38[[#This Row],[CODIGO municipio]],[3]!Tabla8[#All],3,FALSE),\"\")","v":""},{"$f":"IFERROR(VLOOKUP(Tabla38[[#This Row],[CODIGO municipio]],[3]!Tabla8[#All],4,FALSE),\"\")","v":""},{"$f":"IFERROR(VLOOKUP(Tabla38[[#This Row],[CODIGO municipio]],[3]!Tabla8[#All],5,FALSE),\"\")","v":""},{"$f":"IFERROR(VLOOKUP(Tabla38[[#This Row],[CODIGO municipio]],[3]!Tabla8[#All],6,FALSE),\"\")","v":""},{"$f":"IFERROR(VLOOKUP(Tabla38[[#This Row],[CODIGO municipio]],[3]!Tabla8[#All],7,FALSE),\"\")","v":""},{"$f":"IFERROR(VLOOKUP(Tabla38[[#This Row],[CODIGO municipio]],[3]!Tabla8[#All],8,FALSE),\"\")","v":""},{"$f":"IFERROR(VLOOKUP(Tabla38[[#This Row],[CODIGO municipio]],[3]!Tabla8[#All],9,FALSE),\"\")","v":""},{"$f":"IFERROR(VLOOKUP(Tabla38[[#This Row],[CODIGO municipio]],[3]!Tabla8[#All],10,FALSE),\"\")","v":""},{"$f":"IFERROR(VLOOKUP(Tabla38[[#This Row],[CODIGO municipio]],[3]!Tabla8[#All],11,FALSE),\"\")","v":""},{"$f":"IFERROR(VLOOKUP(Tabla38[[#This Row],[CODIGO municipio]],[3]!Tabla8[#All],12,FALSE),\"\")","v":""},{"$f":"IFERROR(VLOOKUP(Tabla38[[#This Row],[CODIGO municipio]],[3]!Tabla8[#All],13,FALSE),\"\")","v":""},{"$f":"IFERROR(VLOOKUP(Tabla38[[#This Row],[CODIGO municipio]],[3]!Tabla8[#All],14,FALSE),\"\")","v":""},{"$f":"IFERROR(VLOOKUP(Tabla38[[#This Row],[CODIGO municipio]],[3]!Tabla8[#All],15,FALSE),\"\")","v":""},{"$f":"IFERROR(VLOOKUP(Tabla38[[#This Row],[CODIGO municipio]],[3]!Tabla8[#All],16,FALSE),\"\")","v":""},{"$f":"IFERROR(VLOOKUP(Tabla38[[#This Row],[CODIGO municipio]],[3]!Tabla8[#All],17,FALSE),\"\")","v":""},{"$f":"IFERROR(VLOOKUP(Tabla38[[#This Row],[CODIGO municipio]],[3]!Tabla8[#All],18,FALSE),\"\")","v":""},{"$f":"IFERROR(VLOOKUP(Tabla38[[#This Row],[CODIGO municipio]],[3]!Tabla8[#All],19,FALSE),\"\")","v":""},{"$f":"IFERROR(VLOOKUP(Tabla38[[#This Row],[CODIGO municipio]],[3]!Tabla8[#All],20,FALSE),\"\")","v":""},{"$f":"IFERROR(VLOOKUP(Tabla38[[#This Row],[CODIGO municipio]],[3]!Tabla8[#All],21,FALSE),\"\")","v":""},{"$f":"IFERROR(VLOOKUP(Tabla38[[#This Row],[CODIGO municipio]],[3]!Tabla8[#All],22,FALSE),\"\")","v":""},{"$f":"IFERROR(VLOOKUP(Tabla38[[#This Row],[CODIGO municipio]],[3]!Tabla8[#All],23,FALSE),\"\")","v":""},{"$f":"IFERROR(VLOOKUP(Tabla38[[#This Row],[CODIGO municipio]],[3]!Tabla9[#All],3,FALSE),\"\")","v":""}]
[{"$f":"IFERROR(VLOOKUP(Tabla38[[#This Row],[Municipio]],[3]!Tabla2[#All],3,FALSE),\"\")","v":""},1311,"La Libertad Huehuetenango",{"$f":"IFERROR(VLOOKUP(Tabla38[[#This Row],[CODIGO municipio]],[3]!Tabla6[[#All],[codigo_mun]],1,FALSE),\"\")","v":""},{"$f":"IFERROR(VLOOKUP(Tabla38[[#This Row],[CODIGO municipio]],[3]!Tabla12[#All],2,FALSE),\"\")","v":""},{"$f":"IFERROR(VLOOKUP(Tabla38[[#This Row],[CODIGO municipio]],[3]!Tabla7[#All],3,FALSE),\"\")","v":""},{"$f":"IFERROR(VLOOKUP(Tabla38[[#This Row],[CODIGO municipio]],[3]!Tabla7[#All],4,FALSE),\"\")","v":""},{"$f":"IFERROR(VLOOKUP(Tabla38[[#This Row],[CODIGO municipio]],[3]!Tabla7[#All],11,FALSE),\"\")","v":""},{"$f":"IFERROR(VLOOKUP(Tabla38[[#This Row],[CODIGO municipio]],[3]!Tabla7[#All],12,FALSE),\"\")","v":""},{"$f":"IFERROR(VLOOKUP(Tabla38[[#This Row],[CODIGO municipio]],[3]!Tabla7[#All],13,FALSE),\"\")","v":""},{"$f":"IFERROR(VLOOKUP(Tabla38[[#This Row],[CODIGO municipio]],[3]!Tabla7[#All],14,FALSE),\"\")","v":""},{"$f":"IFERROR(VLOOKUP(Tabla38[[#This Row],[CODIGO municipio]],[3]!Tabla7[#All],15,FALSE),\"\")","v":""},{"$f":"IFERROR(VLOOKUP(Tabla38[[#This Row],[CODIGO municipio]],[3]!Tabla7[#All],16,FALSE),\"\")","v":""},{"$f":"IFERROR(VLOOKUP(Tabla38[[#This Row],[CODIGO municipio]],[3]!Tabla7[#All],17,FALSE),\"\")","v":""},{"$f":"IFERROR(VLOOKUP(Tabla38[[#This Row],[CODIGO municipio]],[3]!Tabla7[#All],18,FALSE),\"\")","v":""},{"$f":"IFERROR(VLOOKUP(Tabla38[[#This Row],[CODIGO municipio]],[3]!Tabla7[#All],19,FALSE),\"\")","v":""},{"$f":"IFERROR(VLOOKUP(Tabla38[[#This Row],[CODIGO municipio]],[3]!Tabla8[#All],3,FALSE),\"\")","v":""},{"$f":"IFERROR(VLOOKUP(Tabla38[[#This Row],[CODIGO municipio]],[3]!Tabla8[#All],4,FALSE),\"\")","v":""},{"$f":"IFERROR(VLOOKUP(Tabla38[[#This Row],[CODIGO municipio]],[3]!Tabla8[#All],5,FALSE),\"\")","v":""},{"$f":"IFERROR(VLOOKUP(Tabla38[[#This Row],[CODIGO municipio]],[3]!Tabla8[#All],6,FALSE),\"\")","v":""},{"$f":"IFERROR(VLOOKUP(Tabla38[[#This Row],[CODIGO municipio]],[3]!Tabla8[#All],7,FALSE),\"\")","v":""},{"$f":"IFERROR(VLOOKUP(Tabla38[[#This Row],[CODIGO municipio]],[3]!Tabla8[#All],8,FALSE),\"\")","v":""},{"$f":"IFERROR(VLOOKUP(Tabla38[[#This Row],[CODIGO municipio]],[3]!Tabla8[#All],9,FALSE),\"\")","v":""},{"$f":"IFERROR(VLOOKUP(Tabla38[[#This Row],[CODIGO municipio]],[3]!Tabla8[#All],10,FALSE),\"\")","v":""},{"$f":"IFERROR(VLOOKUP(Tabla38[[#This Row],[CODIGO municipio]],[3]!Tabla8[#All],11,FALSE),\"\")","v":""},{"$f":"IFERROR(VLOOKUP(Tabla38[[#This Row],[CODIGO municipio]],[3]!Tabla8[#All],12,FALSE),\"\")","v":""},{"$f":"IFERROR(VLOOKUP(Tabla38[[#This Row],[CODIGO municipio]],[3]!Tabla8[#All],13,FALSE),\"\")","v":""},{"$f":"IFERROR(VLOOKUP(Tabla38[[#This Row],[CODIGO municipio]],[3]!Tabla8[#All],14,FALSE),\"\")","v":""},{"$f":"IFERROR(VLOOKUP(Tabla38[[#This Row],[CODIGO municipio]],[3]!Tabla8[#All],15,FALSE),\"\")","v":""},{"$f":"IFERROR(VLOOKUP(Tabla38[[#This Row],[CODIGO municipio]],[3]!Tabla8[#All],16,FALSE),\"\")","v":""},{"$f":"IFERROR(VLOOKUP(Tabla38[[#This Row],[CODIGO municipio]],[3]!Tabla8[#All],17,FALSE),\"\")","v":""},{"$f":"IFERROR(VLOOKUP(Tabla38[[#This Row],[CODIGO municipio]],[3]!Tabla8[#All],18,FALSE),\"\")","v":""},{"$f":"IFERROR(VLOOKUP(Tabla38[[#This Row],[CODIGO municipio]],[3]!Tabla8[#All],19,FALSE),\"\")","v":""},{"$f":"IFERROR(VLOOKUP(Tabla38[[#This Row],[CODIGO municipio]],[3]!Tabla8[#All],20,FALSE),\"\")","v":""},{"$f":"IFERROR(VLOOKUP(Tabla38[[#This Row],[CODIGO municipio]],[3]!Tabla8[#All],21,FALSE),\"\")","v":""},{"$f":"IFERROR(VLOOKUP(Tabla38[[#This Row],[CODIGO municipio]],[3]!Tabla8[#All],22,FALSE),\"\")","v":""},{"$f":"IFERROR(VLOOKUP(Tabla38[[#This Row],[CODIGO municipio]],[3]!Tabla8[#All],23,FALSE),\"\")","v":""},{"$f":"IFERROR(VLOOKUP(Tabla38[[#This Row],[CODIGO municipio]],[3]!Tabla9[#All],3,FALSE),\"\")","v":""}]
[{"$f":"IFERROR(VLOOKUP(Tabla38[[#This Row],[Municipio]],[3]!Tabla2[#All],3,FALSE),\"\")","v":""},1312,"La Democracia","1. Corredor Seco",{"$f":"IFERROR(VLOOKUP(Tabla38[[#This Row],[CODIGO municipio]],[3]!Tabla12[#All],2,FALSE),\"\")","v":""},{"$f":"IFERROR(VLOOKUP(Tabla38[[#This Row],[CODIGO municipio]],[3]!Tabla7[#All],3,FALSE),\"\")","v":""},{"$f":"IFERROR(VLOOKUP(Tabla38[[#This Row],[CODIGO municipio]],[3]!Tabla7[#All],4,FALSE),\"\")","v":""},{"$f":"IFERROR(VLOOKUP(Tabla38[[#This Row],[CODIGO municipio]],[3]!Tabla7[#All],11,FALSE),\"\")","v":""},{"$f":"IFERROR(VLOOKUP(Tabla38[[#This Row],[CODIGO municipio]],[3]!Tabla7[#All],12,FALSE),\"\")","v":""},{"$f":"IFERROR(VLOOKUP(Tabla38[[#This Row],[CODIGO municipio]],[3]!Tabla7[#All],13,FALSE),\"\")","v":""},{"$f":"IFERROR(VLOOKUP(Tabla38[[#This Row],[CODIGO municipio]],[3]!Tabla7[#All],14,FALSE),\"\")","v":""},{"$f":"IFERROR(VLOOKUP(Tabla38[[#This Row],[CODIGO municipio]],[3]!Tabla7[#All],15,FALSE),\"\")","v":""},{"$f":"IFERROR(VLOOKUP(Tabla38[[#This Row],[CODIGO municipio]],[3]!Tabla7[#All],16,FALSE),\"\")","v":""},{"$f":"IFERROR(VLOOKUP(Tabla38[[#This Row],[CODIGO municipio]],[3]!Tabla7[#All],17,FALSE),\"\")","v":""},{"$f":"IFERROR(VLOOKUP(Tabla38[[#This Row],[CODIGO municipio]],[3]!Tabla7[#All],18,FALSE),\"\")","v":""},{"$f":"IFERROR(VLOOKUP(Tabla38[[#This Row],[CODIGO municipio]],[3]!Tabla7[#All],19,FALSE),\"\")","v":""},{"$f":"IFERROR(VLOOKUP(Tabla38[[#This Row],[CODIGO municipio]],[3]!Tabla8[#All],3,FALSE),\"\")","v":""},{"$f":"IFERROR(VLOOKUP(Tabla38[[#This Row],[CODIGO municipio]],[3]!Tabla8[#All],4,FALSE),\"\")","v":""},{"$f":"IFERROR(VLOOKUP(Tabla38[[#This Row],[CODIGO municipio]],[3]!Tabla8[#All],5,FALSE),\"\")","v":""},{"$f":"IFERROR(VLOOKUP(Tabla38[[#This Row],[CODIGO municipio]],[3]!Tabla8[#All],6,FALSE),\"\")","v":""},{"$f":"IFERROR(VLOOKUP(Tabla38[[#This Row],[CODIGO municipio]],[3]!Tabla8[#All],7,FALSE),\"\")","v":""},{"$f":"IFERROR(VLOOKUP(Tabla38[[#This Row],[CODIGO municipio]],[3]!Tabla8[#All],8,FALSE),\"\")","v":""},{"$f":"IFERROR(VLOOKUP(Tabla38[[#This Row],[CODIGO municipio]],[3]!Tabla8[#All],9,FALSE),\"\")","v":""},{"$f":"IFERROR(VLOOKUP(Tabla38[[#This Row],[CODIGO municipio]],[3]!Tabla8[#All],10,FALSE),\"\")","v":""},{"$f":"IFERROR(VLOOKUP(Tabla38[[#This Row],[CODIGO municipio]],[3]!Tabla8[#All],11,FALSE),\"\")","v":""},{"$f":"IFERROR(VLOOKUP(Tabla38[[#This Row],[CODIGO municipio]],[3]!Tabla8[#All],12,FALSE),\"\")","v":""},{"$f":"IFERROR(VLOOKUP(Tabla38[[#This Row],[CODIGO municipio]],[3]!Tabla8[#All],13,FALSE),\"\")","v":""},{"$f":"IFERROR(VLOOKUP(Tabla38[[#This Row],[CODIGO municipio]],[3]!Tabla8[#All],14,FALSE),\"\")","v":""},{"$f":"IFERROR(VLOOKUP(Tabla38[[#This Row],[CODIGO municipio]],[3]!Tabla8[#All],15,FALSE),\"\")","v":""},{"$f":"IFERROR(VLOOKUP(Tabla38[[#This Row],[CODIGO municipio]],[3]!Tabla8[#All],16,FALSE),\"\")","v":""},{"$f":"IFERROR(VLOOKUP(Tabla38[[#This Row],[CODIGO municipio]],[3]!Tabla8[#All],17,FALSE),\"\")","v":""},{"$f":"IFERROR(VLOOKUP(Tabla38[[#This Row],[CODIGO municipio]],[3]!Tabla8[#All],18,FALSE),\"\")","v":""},{"$f":"IFERROR(VLOOKUP(Tabla38[[#This Row],[CODIGO municipio]],[3]!Tabla8[#All],19,FALSE),\"\")","v":""},{"$f":"IFERROR(VLOOKUP(Tabla38[[#This Row],[CODIGO municipio]],[3]!Tabla8[#All],20,FALSE),\"\")","v":""},{"$f":"IFERROR(VLOOKUP(Tabla38[[#This Row],[CODIGO municipio]],[3]!Tabla8[#All],21,FALSE),\"\")","v":""},{"$f":"IFERROR(VLOOKUP(Tabla38[[#This Row],[CODIGO municipio]],[3]!Tabla8[#All],22,FALSE),\"\")","v":""},{"$f":"IFERROR(VLOOKUP(Tabla38[[#This Row],[CODIGO municipio]],[3]!Tabla8[#All],23,FALSE),\"\")","v":""},{"$f":"IFERROR(VLOOKUP(Tabla38[[#This Row],[CODIGO municipio]],[3]!Tabla9[#All],3,FALSE),\"\")","v":""}]
[{"$f":"IFERROR(VLOOKUP(Tabla38[[#This Row],[Municipio]],[3]!Tabla2[#All],3,FALSE),\"\")","v":""},1313,"San Miguel Acatán",{"$f":"IFERROR(VLOOKUP(Tabla38[[#This Row],[CODIGO municipio]],[3]!Tabla6[[#All],[codigo_mun]],1,FALSE),\"\")","v":""},{"$f":"IFERROR(VLOOKUP(Tabla38[[#This Row],[CODIGO municipio]],[3]!Tabla12[#All],2,FALSE),\"\")","v":""},{"$f":"IFERROR(VLOOKUP(Tabla38[[#This Row],[CODIGO municipio]],[3]!Tabla7[#All],3,FALSE),\"\")","v":""},{"$f":"IFERROR(VLOOKUP(Tabla38[[#This Row],[CODIGO municipio]],[3]!Tabla7[#All],4,FALSE),\"\")","v":""},{"$f":"IFERROR(VLOOKUP(Tabla38[[#This Row],[CODIGO municipio]],[3]!Tabla7[#All],11,FALSE),\"\")","v":""},{"$f":"IFERROR(VLOOKUP(Tabla38[[#This Row],[CODIGO municipio]],[3]!Tabla7[#All],12,FALSE),\"\")","v":""},{"$f":"IFERROR(VLOOKUP(Tabla38[[#This Row],[CODIGO municipio]],[3]!Tabla7[#All],13,FALSE),\"\")","v":""},{"$f":"IFERROR(VLOOKUP(Tabla38[[#This Row],[CODIGO municipio]],[3]!Tabla7[#All],14,FALSE),\"\")","v":""},{"$f":"IFERROR(VLOOKUP(Tabla38[[#This Row],[CODIGO municipio]],[3]!Tabla7[#All],15,FALSE),\"\")","v":""},{"$f":"IFERROR(VLOOKUP(Tabla38[[#This Row],[CODIGO municipio]],[3]!Tabla7[#All],16,FALSE),\"\")","v":""},{"$f":"IFERROR(VLOOKUP(Tabla38[[#This Row],[CODIGO municipio]],[3]!Tabla7[#All],17,FALSE),\"\")","v":""},{"$f":"IFERROR(VLOOKUP(Tabla38[[#This Row],[CODIGO municipio]],[3]!Tabla7[#All],18,FALSE),\"\")","v":""},{"$f":"IFERROR(VLOOKUP(Tabla38[[#This Row],[CODIGO municipio]],[3]!Tabla7[#All],19,FALSE),\"\")","v":""},{"$f":"IFERROR(VLOOKUP(Tabla38[[#This Row],[CODIGO municipio]],[3]!Tabla8[#All],3,FALSE),\"\")","v":""},{"$f":"IFERROR(VLOOKUP(Tabla38[[#This Row],[CODIGO municipio]],[3]!Tabla8[#All],4,FALSE),\"\")","v":""},{"$f":"IFERROR(VLOOKUP(Tabla38[[#This Row],[CODIGO municipio]],[3]!Tabla8[#All],5,FALSE),\"\")","v":""},{"$f":"IFERROR(VLOOKUP(Tabla38[[#This Row],[CODIGO municipio]],[3]!Tabla8[#All],6,FALSE),\"\")","v":""},{"$f":"IFERROR(VLOOKUP(Tabla38[[#This Row],[CODIGO municipio]],[3]!Tabla8[#All],7,FALSE),\"\")","v":""},{"$f":"IFERROR(VLOOKUP(Tabla38[[#This Row],[CODIGO municipio]],[3]!Tabla8[#All],8,FALSE),\"\")","v":""},{"$f":"IFERROR(VLOOKUP(Tabla38[[#This Row],[CODIGO municipio]],[3]!Tabla8[#All],9,FALSE),\"\")","v":""},{"$f":"IFERROR(VLOOKUP(Tabla38[[#This Row],[CODIGO municipio]],[3]!Tabla8[#All],10,FALSE),\"\")","v":""},{"$f":"IFERROR(VLOOKUP(Tabla38[[#This Row],[CODIGO municipio]],[3]!Tabla8[#All],11,FALSE),\"\")","v":""},{"$f":"IFERROR(VLOOKUP(Tabla38[[#This Row],[CODIGO municipio]],[3]!Tabla8[#All],12,FALSE),\"\")","v":""},{"$f":"IFERROR(VLOOKUP(Tabla38[[#This Row],[CODIGO municipio]],[3]!Tabla8[#All],13,FALSE),\"\")","v":""},{"$f":"IFERROR(VLOOKUP(Tabla38[[#This Row],[CODIGO municipio]],[3]!Tabla8[#All],14,FALSE),\"\")","v":""},{"$f":"IFERROR(VLOOKUP(Tabla38[[#This Row],[CODIGO municipio]],[3]!Tabla8[#All],15,FALSE),\"\")","v":""},{"$f":"IFERROR(VLOOKUP(Tabla38[[#This Row],[CODIGO municipio]],[3]!Tabla8[#All],16,FALSE),\"\")","v":""},{"$f":"IFERROR(VLOOKUP(Tabla38[[#This Row],[CODIGO municipio]],[3]!Tabla8[#All],17,FALSE),\"\")","v":""},{"$f":"IFERROR(VLOOKUP(Tabla38[[#This Row],[CODIGO municipio]],[3]!Tabla8[#All],18,FALSE),\"\")","v":""},{"$f":"IFERROR(VLOOKUP(Tabla38[[#This Row],[CODIGO municipio]],[3]!Tabla8[#All],19,FALSE),\"\")","v":""},{"$f":"IFERROR(VLOOKUP(Tabla38[[#This Row],[CODIGO municipio]],[3]!Tabla8[#All],20,FALSE),\"\")","v":""},{"$f":"IFERROR(VLOOKUP(Tabla38[[#This Row],[CODIGO municipio]],[3]!Tabla8[#All],21,FALSE),\"\")","v":""},{"$f":"IFERROR(VLOOKUP(Tabla38[[#This Row],[CODIGO municipio]],[3]!Tabla8[#All],22,FALSE),\"\")","v":""},{"$f":"IFERROR(VLOOKUP(Tabla38[[#This Row],[CODIGO municipio]],[3]!Tabla8[#All],23,FALSE),\"\")","v":""},{"$f":"IFERROR(VLOOKUP(Tabla38[[#This Row],[CODIGO municipio]],[3]!Tabla9[#All],3,FALSE),\"\")","v":""}]
[{"$f":"IFERROR(VLOOKUP(Tabla38[[#This Row],[Municipio]],[3]!Tabla2[#All],3,FALSE),\"\")","v":""},1314,"San Rafael La Independencia",{"$f":"IFERROR(VLOOKUP(Tabla38[[#This Row],[CODIGO municipio]],[3]!Tabla6[[#All],[codigo_mun]],1,FALSE),\"\")","v":""},{"$f":"IFERROR(VLOOKUP(Tabla38[[#This Row],[CODIGO municipio]],[3]!Tabla12[#All],2,FALSE),\"\")","v":""},{"$f":"IFERROR(VLOOKUP(Tabla38[[#This Row],[CODIGO municipio]],[3]!Tabla7[#All],3,FALSE),\"\")","v":""},{"$f":"IFERROR(VLOOKUP(Tabla38[[#This Row],[CODIGO municipio]],[3]!Tabla7[#All],4,FALSE),\"\")","v":""},{"$f":"IFERROR(VLOOKUP(Tabla38[[#This Row],[CODIGO municipio]],[3]!Tabla7[#All],11,FALSE),\"\")","v":""},{"$f":"IFERROR(VLOOKUP(Tabla38[[#This Row],[CODIGO municipio]],[3]!Tabla7[#All],12,FALSE),\"\")","v":""},{"$f":"IFERROR(VLOOKUP(Tabla38[[#This Row],[CODIGO municipio]],[3]!Tabla7[#All],13,FALSE),\"\")","v":""},{"$f":"IFERROR(VLOOKUP(Tabla38[[#This Row],[CODIGO municipio]],[3]!Tabla7[#All],14,FALSE),\"\")","v":""},{"$f":"IFERROR(VLOOKUP(Tabla38[[#This Row],[CODIGO municipio]],[3]!Tabla7[#All],15,FALSE),\"\")","v":""},{"$f":"IFERROR(VLOOKUP(Tabla38[[#This Row],[CODIGO municipio]],[3]!Tabla7[#All],16,FALSE),\"\")","v":""},{"$f":"IFERROR(VLOOKUP(Tabla38[[#This Row],[CODIGO municipio]],[3]!Tabla7[#All],17,FALSE),\"\")","v":""},{"$f":"IFERROR(VLOOKUP(Tabla38[[#This Row],[CODIGO municipio]],[3]!Tabla7[#All],18,FALSE),\"\")","v":""},{"$f":"IFERROR(VLOOKUP(Tabla38[[#This Row],[CODIGO municipio]],[3]!Tabla7[#All],19,FALSE),\"\")","v":""},{"$f":"IFERROR(VLOOKUP(Tabla38[[#This Row],[CODIGO municipio]],[3]!Tabla8[#All],3,FALSE),\"\")","v":""},{"$f":"IFERROR(VLOOKUP(Tabla38[[#This Row],[CODIGO municipio]],[3]!Tabla8[#All],4,FALSE),\"\")","v":""},{"$f":"IFERROR(VLOOKUP(Tabla38[[#This Row],[CODIGO municipio]],[3]!Tabla8[#All],5,FALSE),\"\")","v":""},{"$f":"IFERROR(VLOOKUP(Tabla38[[#This Row],[CODIGO municipio]],[3]!Tabla8[#All],6,FALSE),\"\")","v":""},{"$f":"IFERROR(VLOOKUP(Tabla38[[#This Row],[CODIGO municipio]],[3]!Tabla8[#All],7,FALSE),\"\")","v":""},{"$f":"IFERROR(VLOOKUP(Tabla38[[#This Row],[CODIGO municipio]],[3]!Tabla8[#All],8,FALSE),\"\")","v":""},{"$f":"IFERROR(VLOOKUP(Tabla38[[#This Row],[CODIGO municipio]],[3]!Tabla8[#All],9,FALSE),\"\")","v":""},{"$f":"IFERROR(VLOOKUP(Tabla38[[#This Row],[CODIGO municipio]],[3]!Tabla8[#All],10,FALSE),\"\")","v":""},{"$f":"IFERROR(VLOOKUP(Tabla38[[#This Row],[CODIGO municipio]],[3]!Tabla8[#All],11,FALSE),\"\")","v":""},{"$f":"IFERROR(VLOOKUP(Tabla38[[#This Row],[CODIGO municipio]],[3]!Tabla8[#All],12,FALSE),\"\")","v":""},{"$f":"IFERROR(VLOOKUP(Tabla38[[#This Row],[CODIGO municipio]],[3]!Tabla8[#All],13,FALSE),\"\")","v":""},{"$f":"IFERROR(VLOOKUP(Tabla38[[#This Row],[CODIGO municipio]],[3]!Tabla8[#All],14,FALSE),\"\")","v":""},{"$f":"IFERROR(VLOOKUP(Tabla38[[#This Row],[CODIGO municipio]],[3]!Tabla8[#All],15,FALSE),\"\")","v":""},{"$f":"IFERROR(VLOOKUP(Tabla38[[#This Row],[CODIGO municipio]],[3]!Tabla8[#All],16,FALSE),\"\")","v":""},{"$f":"IFERROR(VLOOKUP(Tabla38[[#This Row],[CODIGO municipio]],[3]!Tabla8[#All],17,FALSE),\"\")","v":""},{"$f":"IFERROR(VLOOKUP(Tabla38[[#This Row],[CODIGO municipio]],[3]!Tabla8[#All],18,FALSE),\"\")","v":""},{"$f":"IFERROR(VLOOKUP(Tabla38[[#This Row],[CODIGO municipio]],[3]!Tabla8[#All],19,FALSE),\"\")","v":""},{"$f":"IFERROR(VLOOKUP(Tabla38[[#This Row],[CODIGO municipio]],[3]!Tabla8[#All],20,FALSE),\"\")","v":""},{"$f":"IFERROR(VLOOKUP(Tabla38[[#This Row],[CODIGO municipio]],[3]!Tabla8[#All],21,FALSE),\"\")","v":""},{"$f":"IFERROR(VLOOKUP(Tabla38[[#This Row],[CODIGO municipio]],[3]!Tabla8[#All],22,FALSE),\"\")","v":""},{"$f":"IFERROR(VLOOKUP(Tabla38[[#This Row],[CODIGO municipio]],[3]!Tabla8[#All],23,FALSE),\"\")","v":""},{"$f":"IFERROR(VLOOKUP(Tabla38[[#This Row],[CODIGO municipio]],[3]!Tabla9[#All],3,FALSE),\"\")","v":""}]
[{"$f":"IFERROR(VLOOKUP(Tabla38[[#This Row],[Municipio]],[3]!Tabla2[#All],3,FALSE),\"\")","v":""},1315,"Todos Santos Cuchumatán",{"$f":"IFERROR(VLOOKUP(Tabla38[[#This Row],[CODIGO municipio]],[3]!Tabla6[[#All],[codigo_mun]],1,FALSE),\"\")","v":""},{"$f":"IFERROR(VLOOKUP(Tabla38[[#This Row],[CODIGO municipio]],[3]!Tabla12[#All],2,FALSE),\"\")","v":""},{"$f":"IFERROR(VLOOKUP(Tabla38[[#This Row],[CODIGO municipio]],[3]!Tabla7[#All],3,FALSE),\"\")","v":""},{"$f":"IFERROR(VLOOKUP(Tabla38[[#This Row],[CODIGO municipio]],[3]!Tabla7[#All],4,FALSE),\"\")","v":""},{"$f":"IFERROR(VLOOKUP(Tabla38[[#This Row],[CODIGO municipio]],[3]!Tabla7[#All],11,FALSE),\"\")","v":""},{"$f":"IFERROR(VLOOKUP(Tabla38[[#This Row],[CODIGO municipio]],[3]!Tabla7[#All],12,FALSE),\"\")","v":""},{"$f":"IFERROR(VLOOKUP(Tabla38[[#This Row],[CODIGO municipio]],[3]!Tabla7[#All],13,FALSE),\"\")","v":""},{"$f":"IFERROR(VLOOKUP(Tabla38[[#This Row],[CODIGO municipio]],[3]!Tabla7[#All],14,FALSE),\"\")","v":""},{"$f":"IFERROR(VLOOKUP(Tabla38[[#This Row],[CODIGO municipio]],[3]!Tabla7[#All],15,FALSE),\"\")","v":""},{"$f":"IFERROR(VLOOKUP(Tabla38[[#This Row],[CODIGO municipio]],[3]!Tabla7[#All],16,FALSE),\"\")","v":""},{"$f":"IFERROR(VLOOKUP(Tabla38[[#This Row],[CODIGO municipio]],[3]!Tabla7[#All],17,FALSE),\"\")","v":""},{"$f":"IFERROR(VLOOKUP(Tabla38[[#This Row],[CODIGO municipio]],[3]!Tabla7[#All],18,FALSE),\"\")","v":""},{"$f":"IFERROR(VLOOKUP(Tabla38[[#This Row],[CODIGO municipio]],[3]!Tabla7[#All],19,FALSE),\"\")","v":""},{"$f":"IFERROR(VLOOKUP(Tabla38[[#This Row],[CODIGO municipio]],[3]!Tabla8[#All],3,FALSE),\"\")","v":""},{"$f":"IFERROR(VLOOKUP(Tabla38[[#This Row],[CODIGO municipio]],[3]!Tabla8[#All],4,FALSE),\"\")","v":""},{"$f":"IFERROR(VLOOKUP(Tabla38[[#This Row],[CODIGO municipio]],[3]!Tabla8[#All],5,FALSE),\"\")","v":""},{"$f":"IFERROR(VLOOKUP(Tabla38[[#This Row],[CODIGO municipio]],[3]!Tabla8[#All],6,FALSE),\"\")","v":""},{"$f":"IFERROR(VLOOKUP(Tabla38[[#This Row],[CODIGO municipio]],[3]!Tabla8[#All],7,FALSE),\"\")","v":""},{"$f":"IFERROR(VLOOKUP(Tabla38[[#This Row],[CODIGO municipio]],[3]!Tabla8[#All],8,FALSE),\"\")","v":""},{"$f":"IFERROR(VLOOKUP(Tabla38[[#This Row],[CODIGO municipio]],[3]!Tabla8[#All],9,FALSE),\"\")","v":""},{"$f":"IFERROR(VLOOKUP(Tabla38[[#This Row],[CODIGO municipio]],[3]!Tabla8[#All],10,FALSE),\"\")","v":""},{"$f":"IFERROR(VLOOKUP(Tabla38[[#This Row],[CODIGO municipio]],[3]!Tabla8[#All],11,FALSE),\"\")","v":""},{"$f":"IFERROR(VLOOKUP(Tabla38[[#This Row],[CODIGO municipio]],[3]!Tabla8[#All],12,FALSE),\"\")","v":""},{"$f":"IFERROR(VLOOKUP(Tabla38[[#This Row],[CODIGO municipio]],[3]!Tabla8[#All],13,FALSE),\"\")","v":""},{"$f":"IFERROR(VLOOKUP(Tabla38[[#This Row],[CODIGO municipio]],[3]!Tabla8[#All],14,FALSE),\"\")","v":""},{"$f":"IFERROR(VLOOKUP(Tabla38[[#This Row],[CODIGO municipio]],[3]!Tabla8[#All],15,FALSE),\"\")","v":""},{"$f":"IFERROR(VLOOKUP(Tabla38[[#This Row],[CODIGO municipio]],[3]!Tabla8[#All],16,FALSE),\"\")","v":""},{"$f":"IFERROR(VLOOKUP(Tabla38[[#This Row],[CODIGO municipio]],[3]!Tabla8[#All],17,FALSE),\"\")","v":""},{"$f":"IFERROR(VLOOKUP(Tabla38[[#This Row],[CODIGO municipio]],[3]!Tabla8[#All],18,FALSE),\"\")","v":""},{"$f":"IFERROR(VLOOKUP(Tabla38[[#This Row],[CODIGO municipio]],[3]!Tabla8[#All],19,FALSE),\"\")","v":""},{"$f":"IFERROR(VLOOKUP(Tabla38[[#This Row],[CODIGO municipio]],[3]!Tabla8[#All],20,FALSE),\"\")","v":""},{"$f":"IFERROR(VLOOKUP(Tabla38[[#This Row],[CODIGO municipio]],[3]!Tabla8[#All],21,FALSE),\"\")","v":""},{"$f":"IFERROR(VLOOKUP(Tabla38[[#This Row],[CODIGO municipio]],[3]!Tabla8[#All],22,FALSE),\"\")","v":""},{"$f":"IFERROR(VLOOKUP(Tabla38[[#This Row],[CODIGO municipio]],[3]!Tabla8[#All],23,FALSE),\"\")","v":""},{"$f":"IFERROR(VLOOKUP(Tabla38[[#This Row],[CODIGO municipio]],[3]!Tabla9[#All],3,FALSE),\"\")","v":""}]
[{"$f":"IFERROR(VLOOKUP(Tabla38[[#This Row],[Municipio]],[3]!Tabla2[#All],3,FALSE),\"\")","v":""},1316,"San Juan Atitán",{"$f":"IFERROR(VLOOKUP(Tabla38[[#This Row],[CODIGO municipio]],[3]!Tabla6[[#All],[codigo_mun]],1,FALSE),\"\")","v":""},{"$f":"IFERROR(VLOOKUP(Tabla38[[#This Row],[CODIGO municipio]],[3]!Tabla12[#All],2,FALSE),\"\")","v":""},{"$f":"IFERROR(VLOOKUP(Tabla38[[#This Row],[CODIGO municipio]],[3]!Tabla7[#All],3,FALSE),\"\")","v":""},{"$f":"IFERROR(VLOOKUP(Tabla38[[#This Row],[CODIGO municipio]],[3]!Tabla7[#All],4,FALSE),\"\")","v":""},{"$f":"IFERROR(VLOOKUP(Tabla38[[#This Row],[CODIGO municipio]],[3]!Tabla7[#All],11,FALSE),\"\")","v":""},{"$f":"IFERROR(VLOOKUP(Tabla38[[#This Row],[CODIGO municipio]],[3]!Tabla7[#All],12,FALSE),\"\")","v":""},{"$f":"IFERROR(VLOOKUP(Tabla38[[#This Row],[CODIGO municipio]],[3]!Tabla7[#All],13,FALSE),\"\")","v":""},{"$f":"IFERROR(VLOOKUP(Tabla38[[#This Row],[CODIGO municipio]],[3]!Tabla7[#All],14,FALSE),\"\")","v":""},{"$f":"IFERROR(VLOOKUP(Tabla38[[#This Row],[CODIGO municipio]],[3]!Tabla7[#All],15,FALSE),\"\")","v":""},{"$f":"IFERROR(VLOOKUP(Tabla38[[#This Row],[CODIGO municipio]],[3]!Tabla7[#All],16,FALSE),\"\")","v":""},{"$f":"IFERROR(VLOOKUP(Tabla38[[#This Row],[CODIGO municipio]],[3]!Tabla7[#All],17,FALSE),\"\")","v":""},{"$f":"IFERROR(VLOOKUP(Tabla38[[#This Row],[CODIGO municipio]],[3]!Tabla7[#All],18,FALSE),\"\")","v":""},{"$f":"IFERROR(VLOOKUP(Tabla38[[#This Row],[CODIGO municipio]],[3]!Tabla7[#All],19,FALSE),\"\")","v":""},{"$f":"IFERROR(VLOOKUP(Tabla38[[#This Row],[CODIGO municipio]],[3]!Tabla8[#All],3,FALSE),\"\")","v":""},{"$f":"IFERROR(VLOOKUP(Tabla38[[#This Row],[CODIGO municipio]],[3]!Tabla8[#All],4,FALSE),\"\")","v":""},{"$f":"IFERROR(VLOOKUP(Tabla38[[#This Row],[CODIGO municipio]],[3]!Tabla8[#All],5,FALSE),\"\")","v":""},{"$f":"IFERROR(VLOOKUP(Tabla38[[#This Row],[CODIGO municipio]],[3]!Tabla8[#All],6,FALSE),\"\")","v":""},{"$f":"IFERROR(VLOOKUP(Tabla38[[#This Row],[CODIGO municipio]],[3]!Tabla8[#All],7,FALSE),\"\")","v":""},{"$f":"IFERROR(VLOOKUP(Tabla38[[#This Row],[CODIGO municipio]],[3]!Tabla8[#All],8,FALSE),\"\")","v":""},{"$f":"IFERROR(VLOOKUP(Tabla38[[#This Row],[CODIGO municipio]],[3]!Tabla8[#All],9,FALSE),\"\")","v":""},{"$f":"IFERROR(VLOOKUP(Tabla38[[#This Row],[CODIGO municipio]],[3]!Tabla8[#All],10,FALSE),\"\")","v":""},{"$f":"IFERROR(VLOOKUP(Tabla38[[#This Row],[CODIGO municipio]],[3]!Tabla8[#All],11,FALSE),\"\")","v":""},{"$f":"IFERROR(VLOOKUP(Tabla38[[#This Row],[CODIGO municipio]],[3]!Tabla8[#All],12,FALSE),\"\")","v":""},{"$f":"IFERROR(VLOOKUP(Tabla38[[#This Row],[CODIGO municipio]],[3]!Tabla8[#All],13,FALSE),\"\")","v":""},{"$f":"IFERROR(VLOOKUP(Tabla38[[#This Row],[CODIGO municipio]],[3]!Tabla8[#All],14,FALSE),\"\")","v":""},{"$f":"IFERROR(VLOOKUP(Tabla38[[#This Row],[CODIGO municipio]],[3]!Tabla8[#All],15,FALSE),\"\")","v":""},{"$f":"IFERROR(VLOOKUP(Tabla38[[#This Row],[CODIGO municipio]],[3]!Tabla8[#All],16,FALSE),\"\")","v":""},{"$f":"IFERROR(VLOOKUP(Tabla38[[#This Row],[CODIGO municipio]],[3]!Tabla8[#All],17,FALSE),\"\")","v":""},{"$f":"IFERROR(VLOOKUP(Tabla38[[#This Row],[CODIGO municipio]],[3]!Tabla8[#All],18,FALSE),\"\")","v":""},{"$f":"IFERROR(VLOOKUP(Tabla38[[#This Row],[CODIGO municipio]],[3]!Tabla8[#All],19,FALSE),\"\")","v":""},{"$f":"IFERROR(VLOOKUP(Tabla38[[#This Row],[CODIGO municipio]],[3]!Tabla8[#All],20,FALSE),\"\")","v":""},{"$f":"IFERROR(VLOOKUP(Tabla38[[#This Row],[CODIGO municipio]],[3]!Tabla8[#All],21,FALSE),\"\")","v":""},{"$f":"IFERROR(VLOOKUP(Tabla38[[#This Row],[CODIGO municipio]],[3]!Tabla8[#All],22,FALSE),\"\")","v":""},{"$f":"IFERROR(VLOOKUP(Tabla38[[#This Row],[CODIGO municipio]],[3]!Tabla8[#All],23,FALSE),\"\")","v":""},{"$f":"IFERROR(VLOOKUP(Tabla38[[#This Row],[CODIGO municipio]],[3]!Tabla9[#All],3,FALSE),\"\")","v":""}]
[{"$f":"IFERROR(VLOOKUP(Tabla38[[#This Row],[Municipio]],[3]!Tabla2[#All],3,FALSE),\"\")","v":""},1317,"Santa Eulalia",{"$f":"IFERROR(VLOOKUP(Tabla38[[#This Row],[CODIGO municipio]],[3]!Tabla6[[#All],[codigo_mun]],1,FALSE),\"\")","v":""},{"$f":"IFERROR(VLOOKUP(Tabla38[[#This Row],[CODIGO municipio]],[3]!Tabla12[#All],2,FALSE),\"\")","v":""},{"$f":"IFERROR(VLOOKUP(Tabla38[[#This Row],[CODIGO municipio]],[3]!Tabla7[#All],3,FALSE),\"\")","v":""},{"$f":"IFERROR(VLOOKUP(Tabla38[[#This Row],[CODIGO municipio]],[3]!Tabla7[#All],4,FALSE),\"\")","v":""},{"$f":"IFERROR(VLOOKUP(Tabla38[[#This Row],[CODIGO municipio]],[3]!Tabla7[#All],11,FALSE),\"\")","v":""},{"$f":"IFERROR(VLOOKUP(Tabla38[[#This Row],[CODIGO municipio]],[3]!Tabla7[#All],12,FALSE),\"\")","v":""},{"$f":"IFERROR(VLOOKUP(Tabla38[[#This Row],[CODIGO municipio]],[3]!Tabla7[#All],13,FALSE),\"\")","v":""},{"$f":"IFERROR(VLOOKUP(Tabla38[[#This Row],[CODIGO municipio]],[3]!Tabla7[#All],14,FALSE),\"\")","v":""},{"$f":"IFERROR(VLOOKUP(Tabla38[[#This Row],[CODIGO municipio]],[3]!Tabla7[#All],15,FALSE),\"\")","v":""},{"$f":"IFERROR(VLOOKUP(Tabla38[[#This Row],[CODIGO municipio]],[3]!Tabla7[#All],16,FALSE),\"\")","v":""},{"$f":"IFERROR(VLOOKUP(Tabla38[[#This Row],[CODIGO municipio]],[3]!Tabla7[#All],17,FALSE),\"\")","v":""},{"$f":"IFERROR(VLOOKUP(Tabla38[[#This Row],[CODIGO municipio]],[3]!Tabla7[#All],18,FALSE),\"\")","v":""},{"$f":"IFERROR(VLOOKUP(Tabla38[[#This Row],[CODIGO municipio]],[3]!Tabla7[#All],19,FALSE),\"\")","v":""},{"$f":"IFERROR(VLOOKUP(Tabla38[[#This Row],[CODIGO municipio]],[3]!Tabla8[#All],3,FALSE),\"\")","v":""},{"$f":"IFERROR(VLOOKUP(Tabla38[[#This Row],[CODIGO municipio]],[3]!Tabla8[#All],4,FALSE),\"\")","v":""},{"$f":"IFERROR(VLOOKUP(Tabla38[[#This Row],[CODIGO municipio]],[3]!Tabla8[#All],5,FALSE),\"\")","v":""},{"$f":"IFERROR(VLOOKUP(Tabla38[[#This Row],[CODIGO municipio]],[3]!Tabla8[#All],6,FALSE),\"\")","v":""},{"$f":"IFERROR(VLOOKUP(Tabla38[[#This Row],[CODIGO municipio]],[3]!Tabla8[#All],7,FALSE),\"\")","v":""},{"$f":"IFERROR(VLOOKUP(Tabla38[[#This Row],[CODIGO municipio]],[3]!Tabla8[#All],8,FALSE),\"\")","v":""},{"$f":"IFERROR(VLOOKUP(Tabla38[[#This Row],[CODIGO municipio]],[3]!Tabla8[#All],9,FALSE),\"\")","v":""},{"$f":"IFERROR(VLOOKUP(Tabla38[[#This Row],[CODIGO municipio]],[3]!Tabla8[#All],10,FALSE),\"\")","v":""},{"$f":"IFERROR(VLOOKUP(Tabla38[[#This Row],[CODIGO municipio]],[3]!Tabla8[#All],11,FALSE),\"\")","v":""},{"$f":"IFERROR(VLOOKUP(Tabla38[[#This Row],[CODIGO municipio]],[3]!Tabla8[#All],12,FALSE),\"\")","v":""},{"$f":"IFERROR(VLOOKUP(Tabla38[[#This Row],[CODIGO municipio]],[3]!Tabla8[#All],13,FALSE),\"\")","v":""},{"$f":"IFERROR(VLOOKUP(Tabla38[[#This Row],[CODIGO municipio]],[3]!Tabla8[#All],14,FALSE),\"\")","v":""},{"$f":"IFERROR(VLOOKUP(Tabla38[[#This Row],[CODIGO municipio]],[3]!Tabla8[#All],15,FALSE),\"\")","v":""},{"$f":"IFERROR(VLOOKUP(Tabla38[[#This Row],[CODIGO municipio]],[3]!Tabla8[#All],16,FALSE),\"\")","v":""},{"$f":"IFERROR(VLOOKUP(Tabla38[[#This Row],[CODIGO municipio]],[3]!Tabla8[#All],17,FALSE),\"\")","v":""},{"$f":"IFERROR(VLOOKUP(Tabla38[[#This Row],[CODIGO municipio]],[3]!Tabla8[#All],18,FALSE),\"\")","v":""},{"$f":"IFERROR(VLOOKUP(Tabla38[[#This Row],[CODIGO municipio]],[3]!Tabla8[#All],19,FALSE),\"\")","v":""},{"$f":"IFERROR(VLOOKUP(Tabla38[[#This Row],[CODIGO municipio]],[3]!Tabla8[#All],20,FALSE),\"\")","v":""},{"$f":"IFERROR(VLOOKUP(Tabla38[[#This Row],[CODIGO municipio]],[3]!Tabla8[#All],21,FALSE),\"\")","v":""},{"$f":"IFERROR(VLOOKUP(Tabla38[[#This Row],[CODIGO municipio]],[3]!Tabla8[#All],22,FALSE),\"\")","v":""},{"$f":"IFERROR(VLOOKUP(Tabla38[[#This Row],[CODIGO municipio]],[3]!Tabla8[#All],23,FALSE),\"\")","v":""},{"$f":"IFERROR(VLOOKUP(Tabla38[[#This Row],[CODIGO municipio]],[3]!Tabla9[#All],3,FALSE),\"\")","v":""}]
[{"$f":"IFERROR(VLOOKUP(Tabla38[[#This Row],[Municipio]],[3]!Tabla2[#All],3,FALSE),\"\")","v":""},1318,"San Mateo Ixtatán",{"$f":"IFERROR(VLOOKUP(Tabla38[[#This Row],[CODIGO municipio]],[3]!Tabla6[[#All],[codigo_mun]],1,FALSE),\"\")","v":""},{"$f":"IFERROR(VLOOKUP(Tabla38[[#This Row],[CODIGO municipio]],[3]!Tabla12[#All],2,FALSE),\"\")","v":""},{"$f":"IFERROR(VLOOKUP(Tabla38[[#This Row],[CODIGO municipio]],[3]!Tabla7[#All],3,FALSE),\"\")","v":""},{"$f":"IFERROR(VLOOKUP(Tabla38[[#This Row],[CODIGO municipio]],[3]!Tabla7[#All],4,FALSE),\"\")","v":""},{"$f":"IFERROR(VLOOKUP(Tabla38[[#This Row],[CODIGO municipio]],[3]!Tabla7[#All],11,FALSE),\"\")","v":""},{"$f":"IFERROR(VLOOKUP(Tabla38[[#This Row],[CODIGO municipio]],[3]!Tabla7[#All],12,FALSE),\"\")","v":""},{"$f":"IFERROR(VLOOKUP(Tabla38[[#This Row],[CODIGO municipio]],[3]!Tabla7[#All],13,FALSE),\"\")","v":""},{"$f":"IFERROR(VLOOKUP(Tabla38[[#This Row],[CODIGO municipio]],[3]!Tabla7[#All],14,FALSE),\"\")","v":""},{"$f":"IFERROR(VLOOKUP(Tabla38[[#This Row],[CODIGO municipio]],[3]!Tabla7[#All],15,FALSE),\"\")","v":""},{"$f":"IFERROR(VLOOKUP(Tabla38[[#This Row],[CODIGO municipio]],[3]!Tabla7[#All],16,FALSE),\"\")","v":""},{"$f":"IFERROR(VLOOKUP(Tabla38[[#This Row],[CODIGO municipio]],[3]!Tabla7[#All],17,FALSE),\"\")","v":""},{"$f":"IFERROR(VLOOKUP(Tabla38[[#This Row],[CODIGO municipio]],[3]!Tabla7[#All],18,FALSE),\"\")","v":""},{"$f":"IFERROR(VLOOKUP(Tabla38[[#This Row],[CODIGO municipio]],[3]!Tabla7[#All],19,FALSE),\"\")","v":""},{"$f":"IFERROR(VLOOKUP(Tabla38[[#This Row],[CODIGO municipio]],[3]!Tabla8[#All],3,FALSE),\"\")","v":""},{"$f":"IFERROR(VLOOKUP(Tabla38[[#This Row],[CODIGO municipio]],[3]!Tabla8[#All],4,FALSE),\"\")","v":""},{"$f":"IFERROR(VLOOKUP(Tabla38[[#This Row],[CODIGO municipio]],[3]!Tabla8[#All],5,FALSE),\"\")","v":""},{"$f":"IFERROR(VLOOKUP(Tabla38[[#This Row],[CODIGO municipio]],[3]!Tabla8[#All],6,FALSE),\"\")","v":""},{"$f":"IFERROR(VLOOKUP(Tabla38[[#This Row],[CODIGO municipio]],[3]!Tabla8[#All],7,FALSE),\"\")","v":""},{"$f":"IFERROR(VLOOKUP(Tabla38[[#This Row],[CODIGO municipio]],[3]!Tabla8[#All],8,FALSE),\"\")","v":""},{"$f":"IFERROR(VLOOKUP(Tabla38[[#This Row],[CODIGO municipio]],[3]!Tabla8[#All],9,FALSE),\"\")","v":""},{"$f":"IFERROR(VLOOKUP(Tabla38[[#This Row],[CODIGO municipio]],[3]!Tabla8[#All],10,FALSE),\"\")","v":""},{"$f":"IFERROR(VLOOKUP(Tabla38[[#This Row],[CODIGO municipio]],[3]!Tabla8[#All],11,FALSE),\"\")","v":""},{"$f":"IFERROR(VLOOKUP(Tabla38[[#This Row],[CODIGO municipio]],[3]!Tabla8[#All],12,FALSE),\"\")","v":""},{"$f":"IFERROR(VLOOKUP(Tabla38[[#This Row],[CODIGO municipio]],[3]!Tabla8[#All],13,FALSE),\"\")","v":""},{"$f":"IFERROR(VLOOKUP(Tabla38[[#This Row],[CODIGO municipio]],[3]!Tabla8[#All],14,FALSE),\"\")","v":""},{"$f":"IFERROR(VLOOKUP(Tabla38[[#This Row],[CODIGO municipio]],[3]!Tabla8[#All],15,FALSE),\"\")","v":""},{"$f":"IFERROR(VLOOKUP(Tabla38[[#This Row],[CODIGO municipio]],[3]!Tabla8[#All],16,FALSE),\"\")","v":""},{"$f":"IFERROR(VLOOKUP(Tabla38[[#This Row],[CODIGO municipio]],[3]!Tabla8[#All],17,FALSE),\"\")","v":""},{"$f":"IFERROR(VLOOKUP(Tabla38[[#This Row],[CODIGO municipio]],[3]!Tabla8[#All],18,FALSE),\"\")","v":""},{"$f":"IFERROR(VLOOKUP(Tabla38[[#This Row],[CODIGO municipio]],[3]!Tabla8[#All],19,FALSE),\"\")","v":""},{"$f":"IFERROR(VLOOKUP(Tabla38[[#This Row],[CODIGO municipio]],[3]!Tabla8[#All],20,FALSE),\"\")","v":""},{"$f":"IFERROR(VLOOKUP(Tabla38[[#This Row],[CODIGO municipio]],[3]!Tabla8[#All],21,FALSE),\"\")","v":""},{"$f":"IFERROR(VLOOKUP(Tabla38[[#This Row],[CODIGO municipio]],[3]!Tabla8[#All],22,FALSE),\"\")","v":""},{"$f":"IFERROR(VLOOKUP(Tabla38[[#This Row],[CODIGO municipio]],[3]!Tabla8[#All],23,FALSE),\"\")","v":""},{"$f":"IFERROR(VLOOKUP(Tabla38[[#This Row],[CODIGO municipio]],[3]!Tabla9[#All],3,FALSE),\"\")","v":""}]
[{"$f":"IFERROR(VLOOKUP(Tabla38[[#This Row],[Municipio]],[3]!Tabla2[#All],3,FALSE),\"\")","v":""},1319,"Colotenango",{"$f":"IFERROR(VLOOKUP(Tabla38[[#This Row],[CODIGO municipio]],[3]!Tabla6[[#All],[codigo_mun]],1,FALSE),\"\")","v":""},{"$f":"IFERROR(VLOOKUP(Tabla38[[#This Row],[CODIGO municipio]],[3]!Tabla12[#All],2,FALSE),\"\")","v":""},{"$f":"IFERROR(VLOOKUP(Tabla38[[#This Row],[CODIGO municipio]],[3]!Tabla7[#All],3,FALSE),\"\")","v":""},{"$f":"IFERROR(VLOOKUP(Tabla38[[#This Row],[CODIGO municipio]],[3]!Tabla7[#All],4,FALSE),\"\")","v":""},{"$f":"IFERROR(VLOOKUP(Tabla38[[#This Row],[CODIGO municipio]],[3]!Tabla7[#All],11,FALSE),\"\")","v":""},{"$f":"IFERROR(VLOOKUP(Tabla38[[#This Row],[CODIGO municipio]],[3]!Tabla7[#All],12,FALSE),\"\")","v":""},{"$f":"IFERROR(VLOOKUP(Tabla38[[#This Row],[CODIGO municipio]],[3]!Tabla7[#All],13,FALSE),\"\")","v":""},{"$f":"IFERROR(VLOOKUP(Tabla38[[#This Row],[CODIGO municipio]],[3]!Tabla7[#All],14,FALSE),\"\")","v":""},{"$f":"IFERROR(VLOOKUP(Tabla38[[#This Row],[CODIGO municipio]],[3]!Tabla7[#All],15,FALSE),\"\")","v":""},{"$f":"IFERROR(VLOOKUP(Tabla38[[#This Row],[CODIGO municipio]],[3]!Tabla7[#All],16,FALSE),\"\")","v":""},{"$f":"IFERROR(VLOOKUP(Tabla38[[#This Row],[CODIGO municipio]],[3]!Tabla7[#All],17,FALSE),\"\")","v":""},{"$f":"IFERROR(VLOOKUP(Tabla38[[#This Row],[CODIGO municipio]],[3]!Tabla7[#All],18,FALSE),\"\")","v":""},{"$f":"IFERROR(VLOOKUP(Tabla38[[#This Row],[CODIGO municipio]],[3]!Tabla7[#All],19,FALSE),\"\")","v":""},{"$f":"IFERROR(VLOOKUP(Tabla38[[#This Row],[CODIGO municipio]],[3]!Tabla8[#All],3,FALSE),\"\")","v":""},{"$f":"IFERROR(VLOOKUP(Tabla38[[#This Row],[CODIGO municipio]],[3]!Tabla8[#All],4,FALSE),\"\")","v":""},{"$f":"IFERROR(VLOOKUP(Tabla38[[#This Row],[CODIGO municipio]],[3]!Tabla8[#All],5,FALSE),\"\")","v":""},{"$f":"IFERROR(VLOOKUP(Tabla38[[#This Row],[CODIGO municipio]],[3]!Tabla8[#All],6,FALSE),\"\")","v":""},{"$f":"IFERROR(VLOOKUP(Tabla38[[#This Row],[CODIGO municipio]],[3]!Tabla8[#All],7,FALSE),\"\")","v":""},{"$f":"IFERROR(VLOOKUP(Tabla38[[#This Row],[CODIGO municipio]],[3]!Tabla8[#All],8,FALSE),\"\")","v":""},{"$f":"IFERROR(VLOOKUP(Tabla38[[#This Row],[CODIGO municipio]],[3]!Tabla8[#All],9,FALSE),\"\")","v":""},{"$f":"IFERROR(VLOOKUP(Tabla38[[#This Row],[CODIGO municipio]],[3]!Tabla8[#All],10,FALSE),\"\")","v":""},{"$f":"IFERROR(VLOOKUP(Tabla38[[#This Row],[CODIGO municipio]],[3]!Tabla8[#All],11,FALSE),\"\")","v":""},{"$f":"IFERROR(VLOOKUP(Tabla38[[#This Row],[CODIGO municipio]],[3]!Tabla8[#All],12,FALSE),\"\")","v":""},{"$f":"IFERROR(VLOOKUP(Tabla38[[#This Row],[CODIGO municipio]],[3]!Tabla8[#All],13,FALSE),\"\")","v":""},{"$f":"IFERROR(VLOOKUP(Tabla38[[#This Row],[CODIGO municipio]],[3]!Tabla8[#All],14,FALSE),\"\")","v":""},{"$f":"IFERROR(VLOOKUP(Tabla38[[#This Row],[CODIGO municipio]],[3]!Tabla8[#All],15,FALSE),\"\")","v":""},{"$f":"IFERROR(VLOOKUP(Tabla38[[#This Row],[CODIGO municipio]],[3]!Tabla8[#All],16,FALSE),\"\")","v":""},{"$f":"IFERROR(VLOOKUP(Tabla38[[#This Row],[CODIGO municipio]],[3]!Tabla8[#All],17,FALSE),\"\")","v":""},{"$f":"IFERROR(VLOOKUP(Tabla38[[#This Row],[CODIGO municipio]],[3]!Tabla8[#All],18,FALSE),\"\")","v":""},{"$f":"IFERROR(VLOOKUP(Tabla38[[#This Row],[CODIGO municipio]],[3]!Tabla8[#All],19,FALSE),\"\")","v":""},{"$f":"IFERROR(VLOOKUP(Tabla38[[#This Row],[CODIGO municipio]],[3]!Tabla8[#All],20,FALSE),\"\")","v":""},{"$f":"IFERROR(VLOOKUP(Tabla38[[#This Row],[CODIGO municipio]],[3]!Tabla8[#All],21,FALSE),\"\")","v":""},{"$f":"IFERROR(VLOOKUP(Tabla38[[#This Row],[CODIGO municipio]],[3]!Tabla8[#All],22,FALSE),\"\")","v":""},{"$f":"IFERROR(VLOOKUP(Tabla38[[#This Row],[CODIGO municipio]],[3]!Tabla8[#All],23,FALSE),\"\")","v":""},{"$f":"IFERROR(VLOOKUP(Tabla38[[#This Row],[CODIGO municipio]],[3]!Tabla9[#All],3,FALSE),\"\")","v":""}]
[{"$f":"IFERROR(VLOOKUP(Tabla38[[#This Row],[Municipio]],[3]!Tabla2[#All],3,FALSE),\"\")","v":""},1320,"San Sebastián Huehuetenango",{"$f":"IFERROR(VLOOKUP(Tabla38[[#This Row],[CODIGO municipio]],[3]!Tabla6[[#All],[codigo_mun]],1,FALSE),\"\")","v":""},{"$f":"IFERROR(VLOOKUP(Tabla38[[#This Row],[CODIGO municipio]],[3]!Tabla12[#All],2,FALSE),\"\")","v":""},{"$f":"IFERROR(VLOOKUP(Tabla38[[#This Row],[CODIGO municipio]],[3]!Tabla7[#All],3,FALSE),\"\")","v":""},{"$f":"IFERROR(VLOOKUP(Tabla38[[#This Row],[CODIGO municipio]],[3]!Tabla7[#All],4,FALSE),\"\")","v":""},{"$f":"IFERROR(VLOOKUP(Tabla38[[#This Row],[CODIGO municipio]],[3]!Tabla7[#All],11,FALSE),\"\")","v":""},{"$f":"IFERROR(VLOOKUP(Tabla38[[#This Row],[CODIGO municipio]],[3]!Tabla7[#All],12,FALSE),\"\")","v":""},{"$f":"IFERROR(VLOOKUP(Tabla38[[#This Row],[CODIGO municipio]],[3]!Tabla7[#All],13,FALSE),\"\")","v":""},{"$f":"IFERROR(VLOOKUP(Tabla38[[#This Row],[CODIGO municipio]],[3]!Tabla7[#All],14,FALSE),\"\")","v":""},{"$f":"IFERROR(VLOOKUP(Tabla38[[#This Row],[CODIGO municipio]],[3]!Tabla7[#All],15,FALSE),\"\")","v":""},{"$f":"IFERROR(VLOOKUP(Tabla38[[#This Row],[CODIGO municipio]],[3]!Tabla7[#All],16,FALSE),\"\")","v":""},{"$f":"IFERROR(VLOOKUP(Tabla38[[#This Row],[CODIGO municipio]],[3]!Tabla7[#All],17,FALSE),\"\")","v":""},{"$f":"IFERROR(VLOOKUP(Tabla38[[#This Row],[CODIGO municipio]],[3]!Tabla7[#All],18,FALSE),\"\")","v":""},{"$f":"IFERROR(VLOOKUP(Tabla38[[#This Row],[CODIGO municipio]],[3]!Tabla7[#All],19,FALSE),\"\")","v":""},{"$f":"IFERROR(VLOOKUP(Tabla38[[#This Row],[CODIGO municipio]],[3]!Tabla8[#All],3,FALSE),\"\")","v":""},{"$f":"IFERROR(VLOOKUP(Tabla38[[#This Row],[CODIGO municipio]],[3]!Tabla8[#All],4,FALSE),\"\")","v":""},{"$f":"IFERROR(VLOOKUP(Tabla38[[#This Row],[CODIGO municipio]],[3]!Tabla8[#All],5,FALSE),\"\")","v":""},{"$f":"IFERROR(VLOOKUP(Tabla38[[#This Row],[CODIGO municipio]],[3]!Tabla8[#All],6,FALSE),\"\")","v":""},{"$f":"IFERROR(VLOOKUP(Tabla38[[#This Row],[CODIGO municipio]],[3]!Tabla8[#All],7,FALSE),\"\")","v":""},{"$f":"IFERROR(VLOOKUP(Tabla38[[#This Row],[CODIGO municipio]],[3]!Tabla8[#All],8,FALSE),\"\")","v":""},{"$f":"IFERROR(VLOOKUP(Tabla38[[#This Row],[CODIGO municipio]],[3]!Tabla8[#All],9,FALSE),\"\")","v":""},{"$f":"IFERROR(VLOOKUP(Tabla38[[#This Row],[CODIGO municipio]],[3]!Tabla8[#All],10,FALSE),\"\")","v":""},{"$f":"IFERROR(VLOOKUP(Tabla38[[#This Row],[CODIGO municipio]],[3]!Tabla8[#All],11,FALSE),\"\")","v":""},{"$f":"IFERROR(VLOOKUP(Tabla38[[#This Row],[CODIGO municipio]],[3]!Tabla8[#All],12,FALSE),\"\")","v":""},{"$f":"IFERROR(VLOOKUP(Tabla38[[#This Row],[CODIGO municipio]],[3]!Tabla8[#All],13,FALSE),\"\")","v":""},{"$f":"IFERROR(VLOOKUP(Tabla38[[#This Row],[CODIGO municipio]],[3]!Tabla8[#All],14,FALSE),\"\")","v":""},{"$f":"IFERROR(VLOOKUP(Tabla38[[#This Row],[CODIGO municipio]],[3]!Tabla8[#All],15,FALSE),\"\")","v":""},{"$f":"IFERROR(VLOOKUP(Tabla38[[#This Row],[CODIGO municipio]],[3]!Tabla8[#All],16,FALSE),\"\")","v":""},{"$f":"IFERROR(VLOOKUP(Tabla38[[#This Row],[CODIGO municipio]],[3]!Tabla8[#All],17,FALSE),\"\")","v":""},{"$f":"IFERROR(VLOOKUP(Tabla38[[#This Row],[CODIGO municipio]],[3]!Tabla8[#All],18,FALSE),\"\")","v":""},{"$f":"IFERROR(VLOOKUP(Tabla38[[#This Row],[CODIGO municipio]],[3]!Tabla8[#All],19,FALSE),\"\")","v":""},{"$f":"IFERROR(VLOOKUP(Tabla38[[#This Row],[CODIGO municipio]],[3]!Tabla8[#All],20,FALSE),\"\")","v":""},{"$f":"IFERROR(VLOOKUP(Tabla38[[#This Row],[CODIGO municipio]],[3]!Tabla8[#All],21,FALSE),\"\")","v":""},{"$f":"IFERROR(VLOOKUP(Tabla38[[#This Row],[CODIGO municipio]],[3]!Tabla8[#All],22,FALSE),\"\")","v":""},{"$f":"IFERROR(VLOOKUP(Tabla38[[#This Row],[CODIGO municipio]],[3]!Tabla8[#All],23,FALSE),\"\")","v":""},{"$f":"IFERROR(VLOOKUP(Tabla38[[#This Row],[CODIGO municipio]],[3]!Tabla9[#All],3,FALSE),\"\")","v":""}]
[{"$f":"IFERROR(VLOOKUP(Tabla38[[#This Row],[Municipio]],[3]!Tabla2[#All],3,FALSE),\"\")","v":""},1321,"Tectitán",{"$f":"IFERROR(VLOOKUP(Tabla38[[#This Row],[CODIGO municipio]],[3]!Tabla6[[#All],[codigo_mun]],1,FALSE),\"\")","v":""},{"$f":"IFERROR(VLOOKUP(Tabla38[[#This Row],[CODIGO municipio]],[3]!Tabla12[#All],2,FALSE),\"\")","v":""},{"$f":"IFERROR(VLOOKUP(Tabla38[[#This Row],[CODIGO municipio]],[3]!Tabla7[#All],3,FALSE),\"\")","v":""},{"$f":"IFERROR(VLOOKUP(Tabla38[[#This Row],[CODIGO municipio]],[3]!Tabla7[#All],4,FALSE),\"\")","v":""},{"$f":"IFERROR(VLOOKUP(Tabla38[[#This Row],[CODIGO municipio]],[3]!Tabla7[#All],11,FALSE),\"\")","v":""},{"$f":"IFERROR(VLOOKUP(Tabla38[[#This Row],[CODIGO municipio]],[3]!Tabla7[#All],12,FALSE),\"\")","v":""},{"$f":"IFERROR(VLOOKUP(Tabla38[[#This Row],[CODIGO municipio]],[3]!Tabla7[#All],13,FALSE),\"\")","v":""},{"$f":"IFERROR(VLOOKUP(Tabla38[[#This Row],[CODIGO municipio]],[3]!Tabla7[#All],14,FALSE),\"\")","v":""},{"$f":"IFERROR(VLOOKUP(Tabla38[[#This Row],[CODIGO municipio]],[3]!Tabla7[#All],15,FALSE),\"\")","v":""},{"$f":"IFERROR(VLOOKUP(Tabla38[[#This Row],[CODIGO municipio]],[3]!Tabla7[#All],16,FALSE),\"\")","v":""},{"$f":"IFERROR(VLOOKUP(Tabla38[[#This Row],[CODIGO municipio]],[3]!Tabla7[#All],17,FALSE),\"\")","v":""},{"$f":"IFERROR(VLOOKUP(Tabla38[[#This Row],[CODIGO municipio]],[3]!Tabla7[#All],18,FALSE),\"\")","v":""},{"$f":"IFERROR(VLOOKUP(Tabla38[[#This Row],[CODIGO municipio]],[3]!Tabla7[#All],19,FALSE),\"\")","v":""},{"$f":"IFERROR(VLOOKUP(Tabla38[[#This Row],[CODIGO municipio]],[3]!Tabla8[#All],3,FALSE),\"\")","v":""},{"$f":"IFERROR(VLOOKUP(Tabla38[[#This Row],[CODIGO municipio]],[3]!Tabla8[#All],4,FALSE),\"\")","v":""},{"$f":"IFERROR(VLOOKUP(Tabla38[[#This Row],[CODIGO municipio]],[3]!Tabla8[#All],5,FALSE),\"\")","v":""},{"$f":"IFERROR(VLOOKUP(Tabla38[[#This Row],[CODIGO municipio]],[3]!Tabla8[#All],6,FALSE),\"\")","v":""},{"$f":"IFERROR(VLOOKUP(Tabla38[[#This Row],[CODIGO municipio]],[3]!Tabla8[#All],7,FALSE),\"\")","v":""},{"$f":"IFERROR(VLOOKUP(Tabla38[[#This Row],[CODIGO municipio]],[3]!Tabla8[#All],8,FALSE),\"\")","v":""},{"$f":"IFERROR(VLOOKUP(Tabla38[[#This Row],[CODIGO municipio]],[3]!Tabla8[#All],9,FALSE),\"\")","v":""},{"$f":"IFERROR(VLOOKUP(Tabla38[[#This Row],[CODIGO municipio]],[3]!Tabla8[#All],10,FALSE),\"\")","v":""},{"$f":"IFERROR(VLOOKUP(Tabla38[[#This Row],[CODIGO municipio]],[3]!Tabla8[#All],11,FALSE),\"\")","v":""},{"$f":"IFERROR(VLOOKUP(Tabla38[[#This Row],[CODIGO municipio]],[3]!Tabla8[#All],12,FALSE),\"\")","v":""},{"$f":"IFERROR(VLOOKUP(Tabla38[[#This Row],[CODIGO municipio]],[3]!Tabla8[#All],13,FALSE),\"\")","v":""},{"$f":"IFERROR(VLOOKUP(Tabla38[[#This Row],[CODIGO municipio]],[3]!Tabla8[#All],14,FALSE),\"\")","v":""},{"$f":"IFERROR(VLOOKUP(Tabla38[[#This Row],[CODIGO municipio]],[3]!Tabla8[#All],15,FALSE),\"\")","v":""},{"$f":"IFERROR(VLOOKUP(Tabla38[[#This Row],[CODIGO municipio]],[3]!Tabla8[#All],16,FALSE),\"\")","v":""},{"$f":"IFERROR(VLOOKUP(Tabla38[[#This Row],[CODIGO municipio]],[3]!Tabla8[#All],17,FALSE),\"\")","v":""},{"$f":"IFERROR(VLOOKUP(Tabla38[[#This Row],[CODIGO municipio]],[3]!Tabla8[#All],18,FALSE),\"\")","v":""},{"$f":"IFERROR(VLOOKUP(Tabla38[[#This Row],[CODIGO municipio]],[3]!Tabla8[#All],19,FALSE),\"\")","v":""},{"$f":"IFERROR(VLOOKUP(Tabla38[[#This Row],[CODIGO municipio]],[3]!Tabla8[#All],20,FALSE),\"\")","v":""},{"$f":"IFERROR(VLOOKUP(Tabla38[[#This Row],[CODIGO municipio]],[3]!Tabla8[#All],21,FALSE),\"\")","v":""},{"$f":"IFERROR(VLOOKUP(Tabla38[[#This Row],[CODIGO municipio]],[3]!Tabla8[#All],22,FALSE),\"\")","v":""},{"$f":"IFERROR(VLOOKUP(Tabla38[[#This Row],[CODIGO municipio]],[3]!Tabla8[#All],23,FALSE),\"\")","v":""},{"$f":"IFERROR(VLOOKUP(Tabla38[[#This Row],[CODIGO municipio]],[3]!Tabla9[#All],3,FALSE),\"\")","v":""}]
[{"$f":"IFERROR(VLOOKUP(Tabla38[[#This Row],[Municipio]],[3]!Tabla2[#All],3,FALSE),\"\")","v":""},1322,"Concepción Huista",{"$f":"IFERROR(VLOOKUP(Tabla38[[#This Row],[CODIGO municipio]],[3]!Tabla6[[#All],[codigo_mun]],1,FALSE),\"\")","v":""},{"$f":"IFERROR(VLOOKUP(Tabla38[[#This Row],[CODIGO municipio]],[3]!Tabla12[#All],2,FALSE),\"\")","v":""},{"$f":"IFERROR(VLOOKUP(Tabla38[[#This Row],[CODIGO municipio]],[3]!Tabla7[#All],3,FALSE),\"\")","v":""},{"$f":"IFERROR(VLOOKUP(Tabla38[[#This Row],[CODIGO municipio]],[3]!Tabla7[#All],4,FALSE),\"\")","v":""},{"$f":"IFERROR(VLOOKUP(Tabla38[[#This Row],[CODIGO municipio]],[3]!Tabla7[#All],11,FALSE),\"\")","v":""},{"$f":"IFERROR(VLOOKUP(Tabla38[[#This Row],[CODIGO municipio]],[3]!Tabla7[#All],12,FALSE),\"\")","v":""},{"$f":"IFERROR(VLOOKUP(Tabla38[[#This Row],[CODIGO municipio]],[3]!Tabla7[#All],13,FALSE),\"\")","v":""},{"$f":"IFERROR(VLOOKUP(Tabla38[[#This Row],[CODIGO municipio]],[3]!Tabla7[#All],14,FALSE),\"\")","v":""},{"$f":"IFERROR(VLOOKUP(Tabla38[[#This Row],[CODIGO municipio]],[3]!Tabla7[#All],15,FALSE),\"\")","v":""},{"$f":"IFERROR(VLOOKUP(Tabla38[[#This Row],[CODIGO municipio]],[3]!Tabla7[#All],16,FALSE),\"\")","v":""},{"$f":"IFERROR(VLOOKUP(Tabla38[[#This Row],[CODIGO municipio]],[3]!Tabla7[#All],17,FALSE),\"\")","v":""},{"$f":"IFERROR(VLOOKUP(Tabla38[[#This Row],[CODIGO municipio]],[3]!Tabla7[#All],18,FALSE),\"\")","v":""},{"$f":"IFERROR(VLOOKUP(Tabla38[[#This Row],[CODIGO municipio]],[3]!Tabla7[#All],19,FALSE),\"\")","v":""},{"$f":"IFERROR(VLOOKUP(Tabla38[[#This Row],[CODIGO municipio]],[3]!Tabla8[#All],3,FALSE),\"\")","v":""},{"$f":"IFERROR(VLOOKUP(Tabla38[[#This Row],[CODIGO municipio]],[3]!Tabla8[#All],4,FALSE),\"\")","v":""},{"$f":"IFERROR(VLOOKUP(Tabla38[[#This Row],[CODIGO municipio]],[3]!Tabla8[#All],5,FALSE),\"\")","v":""},{"$f":"IFERROR(VLOOKUP(Tabla38[[#This Row],[CODIGO municipio]],[3]!Tabla8[#All],6,FALSE),\"\")","v":""},{"$f":"IFERROR(VLOOKUP(Tabla38[[#This Row],[CODIGO municipio]],[3]!Tabla8[#All],7,FALSE),\"\")","v":""},{"$f":"IFERROR(VLOOKUP(Tabla38[[#This Row],[CODIGO municipio]],[3]!Tabla8[#All],8,FALSE),\"\")","v":""},{"$f":"IFERROR(VLOOKUP(Tabla38[[#This Row],[CODIGO municipio]],[3]!Tabla8[#All],9,FALSE),\"\")","v":""},{"$f":"IFERROR(VLOOKUP(Tabla38[[#This Row],[CODIGO municipio]],[3]!Tabla8[#All],10,FALSE),\"\")","v":""},{"$f":"IFERROR(VLOOKUP(Tabla38[[#This Row],[CODIGO municipio]],[3]!Tabla8[#All],11,FALSE),\"\")","v":""},{"$f":"IFERROR(VLOOKUP(Tabla38[[#This Row],[CODIGO municipio]],[3]!Tabla8[#All],12,FALSE),\"\")","v":""},{"$f":"IFERROR(VLOOKUP(Tabla38[[#This Row],[CODIGO municipio]],[3]!Tabla8[#All],13,FALSE),\"\")","v":""},{"$f":"IFERROR(VLOOKUP(Tabla38[[#This Row],[CODIGO municipio]],[3]!Tabla8[#All],14,FALSE),\"\")","v":""},{"$f":"IFERROR(VLOOKUP(Tabla38[[#This Row],[CODIGO municipio]],[3]!Tabla8[#All],15,FALSE),\"\")","v":""},{"$f":"IFERROR(VLOOKUP(Tabla38[[#This Row],[CODIGO municipio]],[3]!Tabla8[#All],16,FALSE),\"\")","v":""},{"$f":"IFERROR(VLOOKUP(Tabla38[[#This Row],[CODIGO municipio]],[3]!Tabla8[#All],17,FALSE),\"\")","v":""},{"$f":"IFERROR(VLOOKUP(Tabla38[[#This Row],[CODIGO municipio]],[3]!Tabla8[#All],18,FALSE),\"\")","v":""},{"$f":"IFERROR(VLOOKUP(Tabla38[[#This Row],[CODIGO municipio]],[3]!Tabla8[#All],19,FALSE),\"\")","v":""},{"$f":"IFERROR(VLOOKUP(Tabla38[[#This Row],[CODIGO municipio]],[3]!Tabla8[#All],20,FALSE),\"\")","v":""},{"$f":"IFERROR(VLOOKUP(Tabla38[[#This Row],[CODIGO municipio]],[3]!Tabla8[#All],21,FALSE),\"\")","v":""},{"$f":"IFERROR(VLOOKUP(Tabla38[[#This Row],[CODIGO municipio]],[3]!Tabla8[#All],22,FALSE),\"\")","v":""},{"$f":"IFERROR(VLOOKUP(Tabla38[[#This Row],[CODIGO municipio]],[3]!Tabla8[#All],23,FALSE),\"\")","v":""},{"$f":"IFERROR(VLOOKUP(Tabla38[[#This Row],[CODIGO municipio]],[3]!Tabla9[#All],3,FALSE),\"\")","v":""}]
[{"$f":"IFERROR(VLOOKUP(Tabla38[[#This Row],[Municipio]],[3]!Tabla2[#All],3,FALSE),\"\")","v":""},1323,"San Juan Ixcoy",{"$f":"IFERROR(VLOOKUP(Tabla38[[#This Row],[CODIGO municipio]],[3]!Tabla6[[#All],[codigo_mun]],1,FALSE),\"\")","v":""},{"$f":"IFERROR(VLOOKUP(Tabla38[[#This Row],[CODIGO municipio]],[3]!Tabla12[#All],2,FALSE),\"\")","v":""},{"$f":"IFERROR(VLOOKUP(Tabla38[[#This Row],[CODIGO municipio]],[3]!Tabla7[#All],3,FALSE),\"\")","v":""},{"$f":"IFERROR(VLOOKUP(Tabla38[[#This Row],[CODIGO municipio]],[3]!Tabla7[#All],4,FALSE),\"\")","v":""},{"$f":"IFERROR(VLOOKUP(Tabla38[[#This Row],[CODIGO municipio]],[3]!Tabla7[#All],11,FALSE),\"\")","v":""},{"$f":"IFERROR(VLOOKUP(Tabla38[[#This Row],[CODIGO municipio]],[3]!Tabla7[#All],12,FALSE),\"\")","v":""},{"$f":"IFERROR(VLOOKUP(Tabla38[[#This Row],[CODIGO municipio]],[3]!Tabla7[#All],13,FALSE),\"\")","v":""},{"$f":"IFERROR(VLOOKUP(Tabla38[[#This Row],[CODIGO municipio]],[3]!Tabla7[#All],14,FALSE),\"\")","v":""},{"$f":"IFERROR(VLOOKUP(Tabla38[[#This Row],[CODIGO municipio]],[3]!Tabla7[#All],15,FALSE),\"\")","v":""},{"$f":"IFERROR(VLOOKUP(Tabla38[[#This Row],[CODIGO municipio]],[3]!Tabla7[#All],16,FALSE),\"\")","v":""},{"$f":"IFERROR(VLOOKUP(Tabla38[[#This Row],[CODIGO municipio]],[3]!Tabla7[#All],17,FALSE),\"\")","v":""},{"$f":"IFERROR(VLOOKUP(Tabla38[[#This Row],[CODIGO municipio]],[3]!Tabla7[#All],18,FALSE),\"\")","v":""},{"$f":"IFERROR(VLOOKUP(Tabla38[[#This Row],[CODIGO municipio]],[3]!Tabla7[#All],19,FALSE),\"\")","v":""},{"$f":"IFERROR(VLOOKUP(Tabla38[[#This Row],[CODIGO municipio]],[3]!Tabla8[#All],3,FALSE),\"\")","v":""},{"$f":"IFERROR(VLOOKUP(Tabla38[[#This Row],[CODIGO municipio]],[3]!Tabla8[#All],4,FALSE),\"\")","v":""},{"$f":"IFERROR(VLOOKUP(Tabla38[[#This Row],[CODIGO municipio]],[3]!Tabla8[#All],5,FALSE),\"\")","v":""},{"$f":"IFERROR(VLOOKUP(Tabla38[[#This Row],[CODIGO municipio]],[3]!Tabla8[#All],6,FALSE),\"\")","v":""},{"$f":"IFERROR(VLOOKUP(Tabla38[[#This Row],[CODIGO municipio]],[3]!Tabla8[#All],7,FALSE),\"\")","v":""},{"$f":"IFERROR(VLOOKUP(Tabla38[[#This Row],[CODIGO municipio]],[3]!Tabla8[#All],8,FALSE),\"\")","v":""},{"$f":"IFERROR(VLOOKUP(Tabla38[[#This Row],[CODIGO municipio]],[3]!Tabla8[#All],9,FALSE),\"\")","v":""},{"$f":"IFERROR(VLOOKUP(Tabla38[[#This Row],[CODIGO municipio]],[3]!Tabla8[#All],10,FALSE),\"\")","v":""},{"$f":"IFERROR(VLOOKUP(Tabla38[[#This Row],[CODIGO municipio]],[3]!Tabla8[#All],11,FALSE),\"\")","v":""},{"$f":"IFERROR(VLOOKUP(Tabla38[[#This Row],[CODIGO municipio]],[3]!Tabla8[#All],12,FALSE),\"\")","v":""},{"$f":"IFERROR(VLOOKUP(Tabla38[[#This Row],[CODIGO municipio]],[3]!Tabla8[#All],13,FALSE),\"\")","v":""},{"$f":"IFERROR(VLOOKUP(Tabla38[[#This Row],[CODIGO municipio]],[3]!Tabla8[#All],14,FALSE),\"\")","v":""},{"$f":"IFERROR(VLOOKUP(Tabla38[[#This Row],[CODIGO municipio]],[3]!Tabla8[#All],15,FALSE),\"\")","v":""},{"$f":"IFERROR(VLOOKUP(Tabla38[[#This Row],[CODIGO municipio]],[3]!Tabla8[#All],16,FALSE),\"\")","v":""},{"$f":"IFERROR(VLOOKUP(Tabla38[[#This Row],[CODIGO municipio]],[3]!Tabla8[#All],17,FALSE),\"\")","v":""},{"$f":"IFERROR(VLOOKUP(Tabla38[[#This Row],[CODIGO municipio]],[3]!Tabla8[#All],18,FALSE),\"\")","v":""},{"$f":"IFERROR(VLOOKUP(Tabla38[[#This Row],[CODIGO municipio]],[3]!Tabla8[#All],19,FALSE),\"\")","v":""},{"$f":"IFERROR(VLOOKUP(Tabla38[[#This Row],[CODIGO municipio]],[3]!Tabla8[#All],20,FALSE),\"\")","v":""},{"$f":"IFERROR(VLOOKUP(Tabla38[[#This Row],[CODIGO municipio]],[3]!Tabla8[#All],21,FALSE),\"\")","v":""},{"$f":"IFERROR(VLOOKUP(Tabla38[[#This Row],[CODIGO municipio]],[3]!Tabla8[#All],22,FALSE),\"\")","v":""},{"$f":"IFERROR(VLOOKUP(Tabla38[[#This Row],[CODIGO municipio]],[3]!Tabla8[#All],23,FALSE),\"\")","v":""},{"$f":"IFERROR(VLOOKUP(Tabla38[[#This Row],[CODIGO municipio]],[3]!Tabla9[#All],3,FALSE),\"\")","v":""}]
[{"$f":"IFERROR(VLOOKUP(Tabla38[[#This Row],[Municipio]],[3]!Tabla2[#All],3,FALSE),\"\")","v":""},1324,"San Antonio Huista",{"$f":"IFERROR(VLOOKUP(Tabla38[[#This Row],[CODIGO municipio]],[3]!Tabla6[[#All],[codigo_mun]],1,FALSE),\"\")","v":""},{"$f":"IFERROR(VLOOKUP(Tabla38[[#This Row],[CODIGO municipio]],[3]!Tabla12[#All],2,FALSE),\"\")","v":""},{"$f":"IFERROR(VLOOKUP(Tabla38[[#This Row],[CODIGO municipio]],[3]!Tabla7[#All],3,FALSE),\"\")","v":""},{"$f":"IFERROR(VLOOKUP(Tabla38[[#This Row],[CODIGO municipio]],[3]!Tabla7[#All],4,FALSE),\"\")","v":""},{"$f":"IFERROR(VLOOKUP(Tabla38[[#This Row],[CODIGO municipio]],[3]!Tabla7[#All],11,FALSE),\"\")","v":""},{"$f":"IFERROR(VLOOKUP(Tabla38[[#This Row],[CODIGO municipio]],[3]!Tabla7[#All],12,FALSE),\"\")","v":""},{"$f":"IFERROR(VLOOKUP(Tabla38[[#This Row],[CODIGO municipio]],[3]!Tabla7[#All],13,FALSE),\"\")","v":""},{"$f":"IFERROR(VLOOKUP(Tabla38[[#This Row],[CODIGO municipio]],[3]!Tabla7[#All],14,FALSE),\"\")","v":""},{"$f":"IFERROR(VLOOKUP(Tabla38[[#This Row],[CODIGO municipio]],[3]!Tabla7[#All],15,FALSE),\"\")","v":""},{"$f":"IFERROR(VLOOKUP(Tabla38[[#This Row],[CODIGO municipio]],[3]!Tabla7[#All],16,FALSE),\"\")","v":""},{"$f":"IFERROR(VLOOKUP(Tabla38[[#This Row],[CODIGO municipio]],[3]!Tabla7[#All],17,FALSE),\"\")","v":""},{"$f":"IFERROR(VLOOKUP(Tabla38[[#This Row],[CODIGO municipio]],[3]!Tabla7[#All],18,FALSE),\"\")","v":""},{"$f":"IFERROR(VLOOKUP(Tabla38[[#This Row],[CODIGO municipio]],[3]!Tabla7[#All],19,FALSE),\"\")","v":""},{"$f":"IFERROR(VLOOKUP(Tabla38[[#This Row],[CODIGO municipio]],[3]!Tabla8[#All],3,FALSE),\"\")","v":""},{"$f":"IFERROR(VLOOKUP(Tabla38[[#This Row],[CODIGO municipio]],[3]!Tabla8[#All],4,FALSE),\"\")","v":""},{"$f":"IFERROR(VLOOKUP(Tabla38[[#This Row],[CODIGO municipio]],[3]!Tabla8[#All],5,FALSE),\"\")","v":""},{"$f":"IFERROR(VLOOKUP(Tabla38[[#This Row],[CODIGO municipio]],[3]!Tabla8[#All],6,FALSE),\"\")","v":""},{"$f":"IFERROR(VLOOKUP(Tabla38[[#This Row],[CODIGO municipio]],[3]!Tabla8[#All],7,FALSE),\"\")","v":""},{"$f":"IFERROR(VLOOKUP(Tabla38[[#This Row],[CODIGO municipio]],[3]!Tabla8[#All],8,FALSE),\"\")","v":""},{"$f":"IFERROR(VLOOKUP(Tabla38[[#This Row],[CODIGO municipio]],[3]!Tabla8[#All],9,FALSE),\"\")","v":""},{"$f":"IFERROR(VLOOKUP(Tabla38[[#This Row],[CODIGO municipio]],[3]!Tabla8[#All],10,FALSE),\"\")","v":""},{"$f":"IFERROR(VLOOKUP(Tabla38[[#This Row],[CODIGO municipio]],[3]!Tabla8[#All],11,FALSE),\"\")","v":""},{"$f":"IFERROR(VLOOKUP(Tabla38[[#This Row],[CODIGO municipio]],[3]!Tabla8[#All],12,FALSE),\"\")","v":""},{"$f":"IFERROR(VLOOKUP(Tabla38[[#This Row],[CODIGO municipio]],[3]!Tabla8[#All],13,FALSE),\"\")","v":""},{"$f":"IFERROR(VLOOKUP(Tabla38[[#This Row],[CODIGO municipio]],[3]!Tabla8[#All],14,FALSE),\"\")","v":""},{"$f":"IFERROR(VLOOKUP(Tabla38[[#This Row],[CODIGO municipio]],[3]!Tabla8[#All],15,FALSE),\"\")","v":""},{"$f":"IFERROR(VLOOKUP(Tabla38[[#This Row],[CODIGO municipio]],[3]!Tabla8[#All],16,FALSE),\"\")","v":""},{"$f":"IFERROR(VLOOKUP(Tabla38[[#This Row],[CODIGO municipio]],[3]!Tabla8[#All],17,FALSE),\"\")","v":""},{"$f":"IFERROR(VLOOKUP(Tabla38[[#This Row],[CODIGO municipio]],[3]!Tabla8[#All],18,FALSE),\"\")","v":""},{"$f":"IFERROR(VLOOKUP(Tabla38[[#This Row],[CODIGO municipio]],[3]!Tabla8[#All],19,FALSE),\"\")","v":""},{"$f":"IFERROR(VLOOKUP(Tabla38[[#This Row],[CODIGO municipio]],[3]!Tabla8[#All],20,FALSE),\"\")","v":""},{"$f":"IFERROR(VLOOKUP(Tabla38[[#This Row],[CODIGO municipio]],[3]!Tabla8[#All],21,FALSE),\"\")","v":""},{"$f":"IFERROR(VLOOKUP(Tabla38[[#This Row],[CODIGO municipio]],[3]!Tabla8[#All],22,FALSE),\"\")","v":""},{"$f":"IFERROR(VLOOKUP(Tabla38[[#This Row],[CODIGO municipio]],[3]!Tabla8[#All],23,FALSE),\"\")","v":""},{"$f":"IFERROR(VLOOKUP(Tabla38[[#This Row],[CODIGO municipio]],[3]!Tabla9[#All],3,FALSE),\"\")","v":""}]
[{"$f":"IFERROR(VLOOKUP(Tabla38[[#This Row],[Municipio]],[3]!Tabla2[#All],3,FALSE),\"\")","v":""},1325,"San Sebastián Coatán",{"$f":"IFERROR(VLOOKUP(Tabla38[[#This Row],[CODIGO municipio]],[3]!Tabla6[[#All],[codigo_mun]],1,FALSE),\"\")","v":""},{"$f":"IFERROR(VLOOKUP(Tabla38[[#This Row],[CODIGO municipio]],[3]!Tabla12[#All],2,FALSE),\"\")","v":""},{"$f":"IFERROR(VLOOKUP(Tabla38[[#This Row],[CODIGO municipio]],[3]!Tabla7[#All],3,FALSE),\"\")","v":""},{"$f":"IFERROR(VLOOKUP(Tabla38[[#This Row],[CODIGO municipio]],[3]!Tabla7[#All],4,FALSE),\"\")","v":""},{"$f":"IFERROR(VLOOKUP(Tabla38[[#This Row],[CODIGO municipio]],[3]!Tabla7[#All],11,FALSE),\"\")","v":""},{"$f":"IFERROR(VLOOKUP(Tabla38[[#This Row],[CODIGO municipio]],[3]!Tabla7[#All],12,FALSE),\"\")","v":""},{"$f":"IFERROR(VLOOKUP(Tabla38[[#This Row],[CODIGO municipio]],[3]!Tabla7[#All],13,FALSE),\"\")","v":""},{"$f":"IFERROR(VLOOKUP(Tabla38[[#This Row],[CODIGO municipio]],[3]!Tabla7[#All],14,FALSE),\"\")","v":""},{"$f":"IFERROR(VLOOKUP(Tabla38[[#This Row],[CODIGO municipio]],[3]!Tabla7[#All],15,FALSE),\"\")","v":""},{"$f":"IFERROR(VLOOKUP(Tabla38[[#This Row],[CODIGO municipio]],[3]!Tabla7[#All],16,FALSE),\"\")","v":""},{"$f":"IFERROR(VLOOKUP(Tabla38[[#This Row],[CODIGO municipio]],[3]!Tabla7[#All],17,FALSE),\"\")","v":""},{"$f":"IFERROR(VLOOKUP(Tabla38[[#This Row],[CODIGO municipio]],[3]!Tabla7[#All],18,FALSE),\"\")","v":""},{"$f":"IFERROR(VLOOKUP(Tabla38[[#This Row],[CODIGO municipio]],[3]!Tabla7[#All],19,FALSE),\"\")","v":""},{"$f":"IFERROR(VLOOKUP(Tabla38[[#This Row],[CODIGO municipio]],[3]!Tabla8[#All],3,FALSE),\"\")","v":""},{"$f":"IFERROR(VLOOKUP(Tabla38[[#This Row],[CODIGO municipio]],[3]!Tabla8[#All],4,FALSE),\"\")","v":""},{"$f":"IFERROR(VLOOKUP(Tabla38[[#This Row],[CODIGO municipio]],[3]!Tabla8[#All],5,FALSE),\"\")","v":""},{"$f":"IFERROR(VLOOKUP(Tabla38[[#This Row],[CODIGO municipio]],[3]!Tabla8[#All],6,FALSE),\"\")","v":""},{"$f":"IFERROR(VLOOKUP(Tabla38[[#This Row],[CODIGO municipio]],[3]!Tabla8[#All],7,FALSE),\"\")","v":""},{"$f":"IFERROR(VLOOKUP(Tabla38[[#This Row],[CODIGO municipio]],[3]!Tabla8[#All],8,FALSE),\"\")","v":""},{"$f":"IFERROR(VLOOKUP(Tabla38[[#This Row],[CODIGO municipio]],[3]!Tabla8[#All],9,FALSE),\"\")","v":""},{"$f":"IFERROR(VLOOKUP(Tabla38[[#This Row],[CODIGO municipio]],[3]!Tabla8[#All],10,FALSE),\"\")","v":""},{"$f":"IFERROR(VLOOKUP(Tabla38[[#This Row],[CODIGO municipio]],[3]!Tabla8[#All],11,FALSE),\"\")","v":""},{"$f":"IFERROR(VLOOKUP(Tabla38[[#This Row],[CODIGO municipio]],[3]!Tabla8[#All],12,FALSE),\"\")","v":""},{"$f":"IFERROR(VLOOKUP(Tabla38[[#This Row],[CODIGO municipio]],[3]!Tabla8[#All],13,FALSE),\"\")","v":""},{"$f":"IFERROR(VLOOKUP(Tabla38[[#This Row],[CODIGO municipio]],[3]!Tabla8[#All],14,FALSE),\"\")","v":""},{"$f":"IFERROR(VLOOKUP(Tabla38[[#This Row],[CODIGO municipio]],[3]!Tabla8[#All],15,FALSE),\"\")","v":""},{"$f":"IFERROR(VLOOKUP(Tabla38[[#This Row],[CODIGO municipio]],[3]!Tabla8[#All],16,FALSE),\"\")","v":""},{"$f":"IFERROR(VLOOKUP(Tabla38[[#This Row],[CODIGO municipio]],[3]!Tabla8[#All],17,FALSE),\"\")","v":""},{"$f":"IFERROR(VLOOKUP(Tabla38[[#This Row],[CODIGO municipio]],[3]!Tabla8[#All],18,FALSE),\"\")","v":""},{"$f":"IFERROR(VLOOKUP(Tabla38[[#This Row],[CODIGO municipio]],[3]!Tabla8[#All],19,FALSE),\"\")","v":""},{"$f":"IFERROR(VLOOKUP(Tabla38[[#This Row],[CODIGO municipio]],[3]!Tabla8[#All],20,FALSE),\"\")","v":""},{"$f":"IFERROR(VLOOKUP(Tabla38[[#This Row],[CODIGO municipio]],[3]!Tabla8[#All],21,FALSE),\"\")","v":""},{"$f":"IFERROR(VLOOKUP(Tabla38[[#This Row],[CODIGO municipio]],[3]!Tabla8[#All],22,FALSE),\"\")","v":""},{"$f":"IFERROR(VLOOKUP(Tabla38[[#This Row],[CODIGO municipio]],[3]!Tabla8[#All],23,FALSE),\"\")","v":""},{"$f":"IFERROR(VLOOKUP(Tabla38[[#This Row],[CODIGO municipio]],[3]!Tabla9[#All],3,FALSE),\"\")","v":""}]
[{"$f":"IFERROR(VLOOKUP(Tabla38[[#This Row],[Municipio]],[3]!Tabla2[#All],3,FALSE),\"\")","v":""},1326,"Santa Cruz Barillas",{"$f":"IFERROR(VLOOKUP(Tabla38[[#This Row],[CODIGO municipio]],[3]!Tabla6[[#All],[codigo_mun]],1,FALSE),\"\")","v":""},{"$f":"IFERROR(VLOOKUP(Tabla38[[#This Row],[CODIGO municipio]],[3]!Tabla12[#All],2,FALSE),\"\")","v":""},{"$f":"IFERROR(VLOOKUP(Tabla38[[#This Row],[CODIGO municipio]],[3]!Tabla7[#All],3,FALSE),\"\")","v":""},{"$f":"IFERROR(VLOOKUP(Tabla38[[#This Row],[CODIGO municipio]],[3]!Tabla7[#All],4,FALSE),\"\")","v":""},{"$f":"IFERROR(VLOOKUP(Tabla38[[#This Row],[CODIGO municipio]],[3]!Tabla7[#All],11,FALSE),\"\")","v":""},{"$f":"IFERROR(VLOOKUP(Tabla38[[#This Row],[CODIGO municipio]],[3]!Tabla7[#All],12,FALSE),\"\")","v":""},{"$f":"IFERROR(VLOOKUP(Tabla38[[#This Row],[CODIGO municipio]],[3]!Tabla7[#All],13,FALSE),\"\")","v":""},{"$f":"IFERROR(VLOOKUP(Tabla38[[#This Row],[CODIGO municipio]],[3]!Tabla7[#All],14,FALSE),\"\")","v":""},{"$f":"IFERROR(VLOOKUP(Tabla38[[#This Row],[CODIGO municipio]],[3]!Tabla7[#All],15,FALSE),\"\")","v":""},{"$f":"IFERROR(VLOOKUP(Tabla38[[#This Row],[CODIGO municipio]],[3]!Tabla7[#All],16,FALSE),\"\")","v":""},{"$f":"IFERROR(VLOOKUP(Tabla38[[#This Row],[CODIGO municipio]],[3]!Tabla7[#All],17,FALSE),\"\")","v":""},{"$f":"IFERROR(VLOOKUP(Tabla38[[#This Row],[CODIGO municipio]],[3]!Tabla7[#All],18,FALSE),\"\")","v":""},{"$f":"IFERROR(VLOOKUP(Tabla38[[#This Row],[CODIGO municipio]],[3]!Tabla7[#All],19,FALSE),\"\")","v":""},{"$f":"IFERROR(VLOOKUP(Tabla38[[#This Row],[CODIGO municipio]],[3]!Tabla8[#All],3,FALSE),\"\")","v":""},{"$f":"IFERROR(VLOOKUP(Tabla38[[#This Row],[CODIGO municipio]],[3]!Tabla8[#All],4,FALSE),\"\")","v":""},{"$f":"IFERROR(VLOOKUP(Tabla38[[#This Row],[CODIGO municipio]],[3]!Tabla8[#All],5,FALSE),\"\")","v":""},{"$f":"IFERROR(VLOOKUP(Tabla38[[#This Row],[CODIGO municipio]],[3]!Tabla8[#All],6,FALSE),\"\")","v":""},{"$f":"IFERROR(VLOOKUP(Tabla38[[#This Row],[CODIGO municipio]],[3]!Tabla8[#All],7,FALSE),\"\")","v":""},{"$f":"IFERROR(VLOOKUP(Tabla38[[#This Row],[CODIGO municipio]],[3]!Tabla8[#All],8,FALSE),\"\")","v":""},{"$f":"IFERROR(VLOOKUP(Tabla38[[#This Row],[CODIGO municipio]],[3]!Tabla8[#All],9,FALSE),\"\")","v":""},{"$f":"IFERROR(VLOOKUP(Tabla38[[#This Row],[CODIGO municipio]],[3]!Tabla8[#All],10,FALSE),\"\")","v":""},{"$f":"IFERROR(VLOOKUP(Tabla38[[#This Row],[CODIGO municipio]],[3]!Tabla8[#All],11,FALSE),\"\")","v":""},{"$f":"IFERROR(VLOOKUP(Tabla38[[#This Row],[CODIGO municipio]],[3]!Tabla8[#All],12,FALSE),\"\")","v":""},{"$f":"IFERROR(VLOOKUP(Tabla38[[#This Row],[CODIGO municipio]],[3]!Tabla8[#All],13,FALSE),\"\")","v":""},{"$f":"IFERROR(VLOOKUP(Tabla38[[#This Row],[CODIGO municipio]],[3]!Tabla8[#All],14,FALSE),\"\")","v":""},{"$f":"IFERROR(VLOOKUP(Tabla38[[#This Row],[CODIGO municipio]],[3]!Tabla8[#All],15,FALSE),\"\")","v":""},{"$f":"IFERROR(VLOOKUP(Tabla38[[#This Row],[CODIGO municipio]],[3]!Tabla8[#All],16,FALSE),\"\")","v":""},{"$f":"IFERROR(VLOOKUP(Tabla38[[#This Row],[CODIGO municipio]],[3]!Tabla8[#All],17,FALSE),\"\")","v":""},{"$f":"IFERROR(VLOOKUP(Tabla38[[#This Row],[CODIGO municipio]],[3]!Tabla8[#All],18,FALSE),\"\")","v":""},{"$f":"IFERROR(VLOOKUP(Tabla38[[#This Row],[CODIGO municipio]],[3]!Tabla8[#All],19,FALSE),\"\")","v":""},{"$f":"IFERROR(VLOOKUP(Tabla38[[#This Row],[CODIGO municipio]],[3]!Tabla8[#All],20,FALSE),\"\")","v":""},{"$f":"IFERROR(VLOOKUP(Tabla38[[#This Row],[CODIGO municipio]],[3]!Tabla8[#All],21,FALSE),\"\")","v":""},{"$f":"IFERROR(VLOOKUP(Tabla38[[#This Row],[CODIGO municipio]],[3]!Tabla8[#All],22,FALSE),\"\")","v":""},{"$f":"IFERROR(VLOOKUP(Tabla38[[#This Row],[CODIGO municipio]],[3]!Tabla8[#All],23,FALSE),\"\")","v":""},{"$f":"IFERROR(VLOOKUP(Tabla38[[#This Row],[CODIGO municipio]],[3]!Tabla9[#All],3,FALSE),\"\")","v":""}]
[{"$f":"IFERROR(VLOOKUP(Tabla38[[#This Row],[Municipio]],[3]!Tabla2[#All],3,FALSE),\"\")","v":""},1327,"Aguacatán",{"$f":"IFERROR(VLOOKUP(Tabla38[[#This Row],[CODIGO municipio]],[3]!Tabla6[[#All],[codigo_mun]],1,FALSE),\"\")","v":""},{"$f":"IFERROR(VLOOKUP(Tabla38[[#This Row],[CODIGO municipio]],[3]!Tabla12[#All],2,FALSE),\"\")","v":""},{"$f":"IFERROR(VLOOKUP(Tabla38[[#This Row],[CODIGO municipio]],[3]!Tabla7[#All],3,FALSE),\"\")","v":""},{"$f":"IFERROR(VLOOKUP(Tabla38[[#This Row],[CODIGO municipio]],[3]!Tabla7[#All],4,FALSE),\"\")","v":""},{"$f":"IFERROR(VLOOKUP(Tabla38[[#This Row],[CODIGO municipio]],[3]!Tabla7[#All],11,FALSE),\"\")","v":""},{"$f":"IFERROR(VLOOKUP(Tabla38[[#This Row],[CODIGO municipio]],[3]!Tabla7[#All],12,FALSE),\"\")","v":""},{"$f":"IFERROR(VLOOKUP(Tabla38[[#This Row],[CODIGO municipio]],[3]!Tabla7[#All],13,FALSE),\"\")","v":""},{"$f":"IFERROR(VLOOKUP(Tabla38[[#This Row],[CODIGO municipio]],[3]!Tabla7[#All],14,FALSE),\"\")","v":""},{"$f":"IFERROR(VLOOKUP(Tabla38[[#This Row],[CODIGO municipio]],[3]!Tabla7[#All],15,FALSE),\"\")","v":""},{"$f":"IFERROR(VLOOKUP(Tabla38[[#This Row],[CODIGO municipio]],[3]!Tabla7[#All],16,FALSE),\"\")","v":""},{"$f":"IFERROR(VLOOKUP(Tabla38[[#This Row],[CODIGO municipio]],[3]!Tabla7[#All],17,FALSE),\"\")","v":""},{"$f":"IFERROR(VLOOKUP(Tabla38[[#This Row],[CODIGO municipio]],[3]!Tabla7[#All],18,FALSE),\"\")","v":""},{"$f":"IFERROR(VLOOKUP(Tabla38[[#This Row],[CODIGO municipio]],[3]!Tabla7[#All],19,FALSE),\"\")","v":""},{"$f":"IFERROR(VLOOKUP(Tabla38[[#This Row],[CODIGO municipio]],[3]!Tabla8[#All],3,FALSE),\"\")","v":""},{"$f":"IFERROR(VLOOKUP(Tabla38[[#This Row],[CODIGO municipio]],[3]!Tabla8[#All],4,FALSE),\"\")","v":""},{"$f":"IFERROR(VLOOKUP(Tabla38[[#This Row],[CODIGO municipio]],[3]!Tabla8[#All],5,FALSE),\"\")","v":""},{"$f":"IFERROR(VLOOKUP(Tabla38[[#This Row],[CODIGO municipio]],[3]!Tabla8[#All],6,FALSE),\"\")","v":""},{"$f":"IFERROR(VLOOKUP(Tabla38[[#This Row],[CODIGO municipio]],[3]!Tabla8[#All],7,FALSE),\"\")","v":""},{"$f":"IFERROR(VLOOKUP(Tabla38[[#This Row],[CODIGO municipio]],[3]!Tabla8[#All],8,FALSE),\"\")","v":""},{"$f":"IFERROR(VLOOKUP(Tabla38[[#This Row],[CODIGO municipio]],[3]!Tabla8[#All],9,FALSE),\"\")","v":""},{"$f":"IFERROR(VLOOKUP(Tabla38[[#This Row],[CODIGO municipio]],[3]!Tabla8[#All],10,FALSE),\"\")","v":""},{"$f":"IFERROR(VLOOKUP(Tabla38[[#This Row],[CODIGO municipio]],[3]!Tabla8[#All],11,FALSE),\"\")","v":""},{"$f":"IFERROR(VLOOKUP(Tabla38[[#This Row],[CODIGO municipio]],[3]!Tabla8[#All],12,FALSE),\"\")","v":""},{"$f":"IFERROR(VLOOKUP(Tabla38[[#This Row],[CODIGO municipio]],[3]!Tabla8[#All],13,FALSE),\"\")","v":""},{"$f":"IFERROR(VLOOKUP(Tabla38[[#This Row],[CODIGO municipio]],[3]!Tabla8[#All],14,FALSE),\"\")","v":""},{"$f":"IFERROR(VLOOKUP(Tabla38[[#This Row],[CODIGO municipio]],[3]!Tabla8[#All],15,FALSE),\"\")","v":""},{"$f":"IFERROR(VLOOKUP(Tabla38[[#This Row],[CODIGO municipio]],[3]!Tabla8[#All],16,FALSE),\"\")","v":""},{"$f":"IFERROR(VLOOKUP(Tabla38[[#This Row],[CODIGO municipio]],[3]!Tabla8[#All],17,FALSE),\"\")","v":""},{"$f":"IFERROR(VLOOKUP(Tabla38[[#This Row],[CODIGO municipio]],[3]!Tabla8[#All],18,FALSE),\"\")","v":""},{"$f":"IFERROR(VLOOKUP(Tabla38[[#This Row],[CODIGO municipio]],[3]!Tabla8[#All],19,FALSE),\"\")","v":""},{"$f":"IFERROR(VLOOKUP(Tabla38[[#This Row],[CODIGO municipio]],[3]!Tabla8[#All],20,FALSE),\"\")","v":""},{"$f":"IFERROR(VLOOKUP(Tabla38[[#This Row],[CODIGO municipio]],[3]!Tabla8[#All],21,FALSE),\"\")","v":""},{"$f":"IFERROR(VLOOKUP(Tabla38[[#This Row],[CODIGO municipio]],[3]!Tabla8[#All],22,FALSE),\"\")","v":""},{"$f":"IFERROR(VLOOKUP(Tabla38[[#This Row],[CODIGO municipio]],[3]!Tabla8[#All],23,FALSE),\"\")","v":""},{"$f":"IFERROR(VLOOKUP(Tabla38[[#This Row],[CODIGO municipio]],[3]!Tabla9[#All],3,FALSE),\"\")","v":""}]
[{"$f":"IFERROR(VLOOKUP(Tabla38[[#This Row],[Municipio]],[3]!Tabla2[#All],3,FALSE),\"\")","v":""},1328,"San Rafael Petzal",{"$f":"IFERROR(VLOOKUP(Tabla38[[#This Row],[CODIGO municipio]],[3]!Tabla6[[#All],[codigo_mun]],1,FALSE),\"\")","v":""},{"$f":"IFERROR(VLOOKUP(Tabla38[[#This Row],[CODIGO municipio]],[3]!Tabla12[#All],2,FALSE),\"\")","v":""},{"$f":"IFERROR(VLOOKUP(Tabla38[[#This Row],[CODIGO municipio]],[3]!Tabla7[#All],3,FALSE),\"\")","v":""},{"$f":"IFERROR(VLOOKUP(Tabla38[[#This Row],[CODIGO municipio]],[3]!Tabla7[#All],4,FALSE),\"\")","v":""},{"$f":"IFERROR(VLOOKUP(Tabla38[[#This Row],[CODIGO municipio]],[3]!Tabla7[#All],11,FALSE),\"\")","v":""},{"$f":"IFERROR(VLOOKUP(Tabla38[[#This Row],[CODIGO municipio]],[3]!Tabla7[#All],12,FALSE),\"\")","v":""},{"$f":"IFERROR(VLOOKUP(Tabla38[[#This Row],[CODIGO municipio]],[3]!Tabla7[#All],13,FALSE),\"\")","v":""},{"$f":"IFERROR(VLOOKUP(Tabla38[[#This Row],[CODIGO municipio]],[3]!Tabla7[#All],14,FALSE),\"\")","v":""},{"$f":"IFERROR(VLOOKUP(Tabla38[[#This Row],[CODIGO municipio]],[3]!Tabla7[#All],15,FALSE),\"\")","v":""},{"$f":"IFERROR(VLOOKUP(Tabla38[[#This Row],[CODIGO municipio]],[3]!Tabla7[#All],16,FALSE),\"\")","v":""},{"$f":"IFERROR(VLOOKUP(Tabla38[[#This Row],[CODIGO municipio]],[3]!Tabla7[#All],17,FALSE),\"\")","v":""},{"$f":"IFERROR(VLOOKUP(Tabla38[[#This Row],[CODIGO municipio]],[3]!Tabla7[#All],18,FALSE),\"\")","v":""},{"$f":"IFERROR(VLOOKUP(Tabla38[[#This Row],[CODIGO municipio]],[3]!Tabla7[#All],19,FALSE),\"\")","v":""},{"$f":"IFERROR(VLOOKUP(Tabla38[[#This Row],[CODIGO municipio]],[3]!Tabla8[#All],3,FALSE),\"\")","v":""},{"$f":"IFERROR(VLOOKUP(Tabla38[[#This Row],[CODIGO municipio]],[3]!Tabla8[#All],4,FALSE),\"\")","v":""},{"$f":"IFERROR(VLOOKUP(Tabla38[[#This Row],[CODIGO municipio]],[3]!Tabla8[#All],5,FALSE),\"\")","v":""},{"$f":"IFERROR(VLOOKUP(Tabla38[[#This Row],[CODIGO municipio]],[3]!Tabla8[#All],6,FALSE),\"\")","v":""},{"$f":"IFERROR(VLOOKUP(Tabla38[[#This Row],[CODIGO municipio]],[3]!Tabla8[#All],7,FALSE),\"\")","v":""},{"$f":"IFERROR(VLOOKUP(Tabla38[[#This Row],[CODIGO municipio]],[3]!Tabla8[#All],8,FALSE),\"\")","v":""},{"$f":"IFERROR(VLOOKUP(Tabla38[[#This Row],[CODIGO municipio]],[3]!Tabla8[#All],9,FALSE),\"\")","v":""},{"$f":"IFERROR(VLOOKUP(Tabla38[[#This Row],[CODIGO municipio]],[3]!Tabla8[#All],10,FALSE),\"\")","v":""},{"$f":"IFERROR(VLOOKUP(Tabla38[[#This Row],[CODIGO municipio]],[3]!Tabla8[#All],11,FALSE),\"\")","v":""},{"$f":"IFERROR(VLOOKUP(Tabla38[[#This Row],[CODIGO municipio]],[3]!Tabla8[#All],12,FALSE),\"\")","v":""},{"$f":"IFERROR(VLOOKUP(Tabla38[[#This Row],[CODIGO municipio]],[3]!Tabla8[#All],13,FALSE),\"\")","v":""},{"$f":"IFERROR(VLOOKUP(Tabla38[[#This Row],[CODIGO municipio]],[3]!Tabla8[#All],14,FALSE),\"\")","v":""},{"$f":"IFERROR(VLOOKUP(Tabla38[[#This Row],[CODIGO municipio]],[3]!Tabla8[#All],15,FALSE),\"\")","v":""},{"$f":"IFERROR(VLOOKUP(Tabla38[[#This Row],[CODIGO municipio]],[3]!Tabla8[#All],16,FALSE),\"\")","v":""},{"$f":"IFERROR(VLOOKUP(Tabla38[[#This Row],[CODIGO municipio]],[3]!Tabla8[#All],17,FALSE),\"\")","v":""},{"$f":"IFERROR(VLOOKUP(Tabla38[[#This Row],[CODIGO municipio]],[3]!Tabla8[#All],18,FALSE),\"\")","v":""},{"$f":"IFERROR(VLOOKUP(Tabla38[[#This Row],[CODIGO municipio]],[3]!Tabla8[#All],19,FALSE),\"\")","v":""},{"$f":"IFERROR(VLOOKUP(Tabla38[[#This Row],[CODIGO municipio]],[3]!Tabla8[#All],20,FALSE),\"\")","v":""},{"$f":"IFERROR(VLOOKUP(Tabla38[[#This Row],[CODIGO municipio]],[3]!Tabla8[#All],21,FALSE),\"\")","v":""},{"$f":"IFERROR(VLOOKUP(Tabla38[[#This Row],[CODIGO municipio]],[3]!Tabla8[#All],22,FALSE),\"\")","v":""},{"$f":"IFERROR(VLOOKUP(Tabla38[[#This Row],[CODIGO municipio]],[3]!Tabla8[#All],23,FALSE),\"\")","v":""},{"$f":"IFERROR(VLOOKUP(Tabla38[[#This Row],[CODIGO municipio]],[3]!Tabla9[#All],3,FALSE),\"\")","v":""}]
[{"$f":"IFERROR(VLOOKUP(Tabla38[[#This Row],[Municipio]],[3]!Tabla2[#All],3,FALSE),\"\")","v":""},1329,"San Gaspar Ixchil",{"$f":"IFERROR(VLOOKUP(Tabla38[[#This Row],[CODIGO municipio]],[3]!Tabla6[[#All],[codigo_mun]],1,FALSE),\"\")","v":""},{"$f":"IFERROR(VLOOKUP(Tabla38[[#This Row],[CODIGO municipio]],[3]!Tabla12[#All],2,FALSE),\"\")","v":""},{"$f":"IFERROR(VLOOKUP(Tabla38[[#This Row],[CODIGO municipio]],[3]!Tabla7[#All],3,FALSE),\"\")","v":""},{"$f":"IFERROR(VLOOKUP(Tabla38[[#This Row],[CODIGO municipio]],[3]!Tabla7[#All],4,FALSE),\"\")","v":""},{"$f":"IFERROR(VLOOKUP(Tabla38[[#This Row],[CODIGO municipio]],[3]!Tabla7[#All],11,FALSE),\"\")","v":""},{"$f":"IFERROR(VLOOKUP(Tabla38[[#This Row],[CODIGO municipio]],[3]!Tabla7[#All],12,FALSE),\"\")","v":""},{"$f":"IFERROR(VLOOKUP(Tabla38[[#This Row],[CODIGO municipio]],[3]!Tabla7[#All],13,FALSE),\"\")","v":""},{"$f":"IFERROR(VLOOKUP(Tabla38[[#This Row],[CODIGO municipio]],[3]!Tabla7[#All],14,FALSE),\"\")","v":""},{"$f":"IFERROR(VLOOKUP(Tabla38[[#This Row],[CODIGO municipio]],[3]!Tabla7[#All],15,FALSE),\"\")","v":""},{"$f":"IFERROR(VLOOKUP(Tabla38[[#This Row],[CODIGO municipio]],[3]!Tabla7[#All],16,FALSE),\"\")","v":""},{"$f":"IFERROR(VLOOKUP(Tabla38[[#This Row],[CODIGO municipio]],[3]!Tabla7[#All],17,FALSE),\"\")","v":""},{"$f":"IFERROR(VLOOKUP(Tabla38[[#This Row],[CODIGO municipio]],[3]!Tabla7[#All],18,FALSE),\"\")","v":""},{"$f":"IFERROR(VLOOKUP(Tabla38[[#This Row],[CODIGO municipio]],[3]!Tabla7[#All],19,FALSE),\"\")","v":""},{"$f":"IFERROR(VLOOKUP(Tabla38[[#This Row],[CODIGO municipio]],[3]!Tabla8[#All],3,FALSE),\"\")","v":""},{"$f":"IFERROR(VLOOKUP(Tabla38[[#This Row],[CODIGO municipio]],[3]!Tabla8[#All],4,FALSE),\"\")","v":""},{"$f":"IFERROR(VLOOKUP(Tabla38[[#This Row],[CODIGO municipio]],[3]!Tabla8[#All],5,FALSE),\"\")","v":""},{"$f":"IFERROR(VLOOKUP(Tabla38[[#This Row],[CODIGO municipio]],[3]!Tabla8[#All],6,FALSE),\"\")","v":""},{"$f":"IFERROR(VLOOKUP(Tabla38[[#This Row],[CODIGO municipio]],[3]!Tabla8[#All],7,FALSE),\"\")","v":""},{"$f":"IFERROR(VLOOKUP(Tabla38[[#This Row],[CODIGO municipio]],[3]!Tabla8[#All],8,FALSE),\"\")","v":""},{"$f":"IFERROR(VLOOKUP(Tabla38[[#This Row],[CODIGO municipio]],[3]!Tabla8[#All],9,FALSE),\"\")","v":""},{"$f":"IFERROR(VLOOKUP(Tabla38[[#This Row],[CODIGO municipio]],[3]!Tabla8[#All],10,FALSE),\"\")","v":""},{"$f":"IFERROR(VLOOKUP(Tabla38[[#This Row],[CODIGO municipio]],[3]!Tabla8[#All],11,FALSE),\"\")","v":""},{"$f":"IFERROR(VLOOKUP(Tabla38[[#This Row],[CODIGO municipio]],[3]!Tabla8[#All],12,FALSE),\"\")","v":""},{"$f":"IFERROR(VLOOKUP(Tabla38[[#This Row],[CODIGO municipio]],[3]!Tabla8[#All],13,FALSE),\"\")","v":""},{"$f":"IFERROR(VLOOKUP(Tabla38[[#This Row],[CODIGO municipio]],[3]!Tabla8[#All],14,FALSE),\"\")","v":""},{"$f":"IFERROR(VLOOKUP(Tabla38[[#This Row],[CODIGO municipio]],[3]!Tabla8[#All],15,FALSE),\"\")","v":""},{"$f":"IFERROR(VLOOKUP(Tabla38[[#This Row],[CODIGO municipio]],[3]!Tabla8[#All],16,FALSE),\"\")","v":""},{"$f":"IFERROR(VLOOKUP(Tabla38[[#This Row],[CODIGO municipio]],[3]!Tabla8[#All],17,FALSE),\"\")","v":""},{"$f":"IFERROR(VLOOKUP(Tabla38[[#This Row],[CODIGO municipio]],[3]!Tabla8[#All],18,FALSE),\"\")","v":""},{"$f":"IFERROR(VLOOKUP(Tabla38[[#This Row],[CODIGO municipio]],[3]!Tabla8[#All],19,FALSE),\"\")","v":""},{"$f":"IFERROR(VLOOKUP(Tabla38[[#This Row],[CODIGO municipio]],[3]!Tabla8[#All],20,FALSE),\"\")","v":""},{"$f":"IFERROR(VLOOKUP(Tabla38[[#This Row],[CODIGO municipio]],[3]!Tabla8[#All],21,FALSE),\"\")","v":""},{"$f":"IFERROR(VLOOKUP(Tabla38[[#This Row],[CODIGO municipio]],[3]!Tabla8[#All],22,FALSE),\"\")","v":""},{"$f":"IFERROR(VLOOKUP(Tabla38[[#This Row],[CODIGO municipio]],[3]!Tabla8[#All],23,FALSE),\"\")","v":""},{"$f":"IFERROR(VLOOKUP(Tabla38[[#This Row],[CODIGO municipio]],[3]!Tabla9[#All],3,FALSE),\"\")","v":""}]
[{"$f":"IFERROR(VLOOKUP(Tabla38[[#This Row],[Municipio]],[3]!Tabla2[#All],3,FALSE),\"\")","v":""},1330,"Santiago Chimaltenango",{"$f":"IFERROR(VLOOKUP(Tabla38[[#This Row],[CODIGO municipio]],[3]!Tabla6[[#All],[codigo_mun]],1,FALSE),\"\")","v":""},{"$f":"IFERROR(VLOOKUP(Tabla38[[#This Row],[CODIGO municipio]],[3]!Tabla12[#All],2,FALSE),\"\")","v":""},{"$f":"IFERROR(VLOOKUP(Tabla38[[#This Row],[CODIGO municipio]],[3]!Tabla7[#All],3,FALSE),\"\")","v":""},{"$f":"IFERROR(VLOOKUP(Tabla38[[#This Row],[CODIGO municipio]],[3]!Tabla7[#All],4,FALSE),\"\")","v":""},{"$f":"IFERROR(VLOOKUP(Tabla38[[#This Row],[CODIGO municipio]],[3]!Tabla7[#All],11,FALSE),\"\")","v":""},{"$f":"IFERROR(VLOOKUP(Tabla38[[#This Row],[CODIGO municipio]],[3]!Tabla7[#All],12,FALSE),\"\")","v":""},{"$f":"IFERROR(VLOOKUP(Tabla38[[#This Row],[CODIGO municipio]],[3]!Tabla7[#All],13,FALSE),\"\")","v":""},{"$f":"IFERROR(VLOOKUP(Tabla38[[#This Row],[CODIGO municipio]],[3]!Tabla7[#All],14,FALSE),\"\")","v":""},{"$f":"IFERROR(VLOOKUP(Tabla38[[#This Row],[CODIGO municipio]],[3]!Tabla7[#All],15,FALSE),\"\")","v":""},{"$f":"IFERROR(VLOOKUP(Tabla38[[#This Row],[CODIGO municipio]],[3]!Tabla7[#All],16,FALSE),\"\")","v":""},{"$f":"IFERROR(VLOOKUP(Tabla38[[#This Row],[CODIGO municipio]],[3]!Tabla7[#All],17,FALSE),\"\")","v":""},{"$f":"IFERROR(VLOOKUP(Tabla38[[#This Row],[CODIGO municipio]],[3]!Tabla7[#All],18,FALSE),\"\")","v":""},{"$f":"IFERROR(VLOOKUP(Tabla38[[#This Row],[CODIGO municipio]],[3]!Tabla7[#All],19,FALSE),\"\")","v":""},{"$f":"IFERROR(VLOOKUP(Tabla38[[#This Row],[CODIGO municipio]],[3]!Tabla8[#All],3,FALSE),\"\")","v":""},{"$f":"IFERROR(VLOOKUP(Tabla38[[#This Row],[CODIGO municipio]],[3]!Tabla8[#All],4,FALSE),\"\")","v":""},{"$f":"IFERROR(VLOOKUP(Tabla38[[#This Row],[CODIGO municipio]],[3]!Tabla8[#All],5,FALSE),\"\")","v":""},{"$f":"IFERROR(VLOOKUP(Tabla38[[#This Row],[CODIGO municipio]],[3]!Tabla8[#All],6,FALSE),\"\")","v":""},{"$f":"IFERROR(VLOOKUP(Tabla38[[#This Row],[CODIGO municipio]],[3]!Tabla8[#All],7,FALSE),\"\")","v":""},{"$f":"IFERROR(VLOOKUP(Tabla38[[#This Row],[CODIGO municipio]],[3]!Tabla8[#All],8,FALSE),\"\")","v":""},{"$f":"IFERROR(VLOOKUP(Tabla38[[#This Row],[CODIGO municipio]],[3]!Tabla8[#All],9,FALSE),\"\")","v":""},{"$f":"IFERROR(VLOOKUP(Tabla38[[#This Row],[CODIGO municipio]],[3]!Tabla8[#All],10,FALSE),\"\")","v":""},{"$f":"IFERROR(VLOOKUP(Tabla38[[#This Row],[CODIGO municipio]],[3]!Tabla8[#All],11,FALSE),\"\")","v":""},{"$f":"IFERROR(VLOOKUP(Tabla38[[#This Row],[CODIGO municipio]],[3]!Tabla8[#All],12,FALSE),\"\")","v":""},{"$f":"IFERROR(VLOOKUP(Tabla38[[#This Row],[CODIGO municipio]],[3]!Tabla8[#All],13,FALSE),\"\")","v":""},{"$f":"IFERROR(VLOOKUP(Tabla38[[#This Row],[CODIGO municipio]],[3]!Tabla8[#All],14,FALSE),\"\")","v":""},{"$f":"IFERROR(VLOOKUP(Tabla38[[#This Row],[CODIGO municipio]],[3]!Tabla8[#All],15,FALSE),\"\")","v":""},{"$f":"IFERROR(VLOOKUP(Tabla38[[#This Row],[CODIGO municipio]],[3]!Tabla8[#All],16,FALSE),\"\")","v":""},{"$f":"IFERROR(VLOOKUP(Tabla38[[#This Row],[CODIGO municipio]],[3]!Tabla8[#All],17,FALSE),\"\")","v":""},{"$f":"IFERROR(VLOOKUP(Tabla38[[#This Row],[CODIGO municipio]],[3]!Tabla8[#All],18,FALSE),\"\")","v":""},{"$f":"IFERROR(VLOOKUP(Tabla38[[#This Row],[CODIGO municipio]],[3]!Tabla8[#All],19,FALSE),\"\")","v":""},{"$f":"IFERROR(VLOOKUP(Tabla38[[#This Row],[CODIGO municipio]],[3]!Tabla8[#All],20,FALSE),\"\")","v":""},{"$f":"IFERROR(VLOOKUP(Tabla38[[#This Row],[CODIGO municipio]],[3]!Tabla8[#All],21,FALSE),\"\")","v":""},{"$f":"IFERROR(VLOOKUP(Tabla38[[#This Row],[CODIGO municipio]],[3]!Tabla8[#All],22,FALSE),\"\")","v":""},{"$f":"IFERROR(VLOOKUP(Tabla38[[#This Row],[CODIGO municipio]],[3]!Tabla8[#All],23,FALSE),\"\")","v":""},{"$f":"IFERROR(VLOOKUP(Tabla38[[#This Row],[CODIGO municipio]],[3]!Tabla9[#All],3,FALSE),\"\")","v":""}]
[{"$f":"IFERROR(VLOOKUP(Tabla38[[#This Row],[Municipio]],[3]!Tabla2[#All],3,FALSE),\"\")","v":""},1331,"Santa Ana Huista",{"$f":"IFERROR(VLOOKUP(Tabla38[[#This Row],[CODIGO municipio]],[3]!Tabla6[[#All],[codigo_mun]],1,FALSE),\"\")","v":""},{"$f":"IFERROR(VLOOKUP(Tabla38[[#This Row],[CODIGO municipio]],[3]!Tabla12[#All],2,FALSE),\"\")","v":""},{"$f":"IFERROR(VLOOKUP(Tabla38[[#This Row],[CODIGO municipio]],[3]!Tabla7[#All],3,FALSE),\"\")","v":""},{"$f":"IFERROR(VLOOKUP(Tabla38[[#This Row],[CODIGO municipio]],[3]!Tabla7[#All],4,FALSE),\"\")","v":""},{"$f":"IFERROR(VLOOKUP(Tabla38[[#This Row],[CODIGO municipio]],[3]!Tabla7[#All],11,FALSE),\"\")","v":""},{"$f":"IFERROR(VLOOKUP(Tabla38[[#This Row],[CODIGO municipio]],[3]!Tabla7[#All],12,FALSE),\"\")","v":""},{"$f":"IFERROR(VLOOKUP(Tabla38[[#This Row],[CODIGO municipio]],[3]!Tabla7[#All],13,FALSE),\"\")","v":""},{"$f":"IFERROR(VLOOKUP(Tabla38[[#This Row],[CODIGO municipio]],[3]!Tabla7[#All],14,FALSE),\"\")","v":""},{"$f":"IFERROR(VLOOKUP(Tabla38[[#This Row],[CODIGO municipio]],[3]!Tabla7[#All],15,FALSE),\"\")","v":""},{"$f":"IFERROR(VLOOKUP(Tabla38[[#This Row],[CODIGO municipio]],[3]!Tabla7[#All],16,FALSE),\"\")","v":""},{"$f":"IFERROR(VLOOKUP(Tabla38[[#This Row],[CODIGO municipio]],[3]!Tabla7[#All],17,FALSE),\"\")","v":""},{"$f":"IFERROR(VLOOKUP(Tabla38[[#This Row],[CODIGO municipio]],[3]!Tabla7[#All],18,FALSE),\"\")","v":""},{"$f":"IFERROR(VLOOKUP(Tabla38[[#This Row],[CODIGO municipio]],[3]!Tabla7[#All],19,FALSE),\"\")","v":""},{"$f":"IFERROR(VLOOKUP(Tabla38[[#This Row],[CODIGO municipio]],[3]!Tabla8[#All],3,FALSE),\"\")","v":""},{"$f":"IFERROR(VLOOKUP(Tabla38[[#This Row],[CODIGO municipio]],[3]!Tabla8[#All],4,FALSE),\"\")","v":""},{"$f":"IFERROR(VLOOKUP(Tabla38[[#This Row],[CODIGO municipio]],[3]!Tabla8[#All],5,FALSE),\"\")","v":""},{"$f":"IFERROR(VLOOKUP(Tabla38[[#This Row],[CODIGO municipio]],[3]!Tabla8[#All],6,FALSE),\"\")","v":""},{"$f":"IFERROR(VLOOKUP(Tabla38[[#This Row],[CODIGO municipio]],[3]!Tabla8[#All],7,FALSE),\"\")","v":""},{"$f":"IFERROR(VLOOKUP(Tabla38[[#This Row],[CODIGO municipio]],[3]!Tabla8[#All],8,FALSE),\"\")","v":""},{"$f":"IFERROR(VLOOKUP(Tabla38[[#This Row],[CODIGO municipio]],[3]!Tabla8[#All],9,FALSE),\"\")","v":""},{"$f":"IFERROR(VLOOKUP(Tabla38[[#This Row],[CODIGO municipio]],[3]!Tabla8[#All],10,FALSE),\"\")","v":""},{"$f":"IFERROR(VLOOKUP(Tabla38[[#This Row],[CODIGO municipio]],[3]!Tabla8[#All],11,FALSE),\"\")","v":""},{"$f":"IFERROR(VLOOKUP(Tabla38[[#This Row],[CODIGO municipio]],[3]!Tabla8[#All],12,FALSE),\"\")","v":""},{"$f":"IFERROR(VLOOKUP(Tabla38[[#This Row],[CODIGO municipio]],[3]!Tabla8[#All],13,FALSE),\"\")","v":""},{"$f":"IFERROR(VLOOKUP(Tabla38[[#This Row],[CODIGO municipio]],[3]!Tabla8[#All],14,FALSE),\"\")","v":""},{"$f":"IFERROR(VLOOKUP(Tabla38[[#This Row],[CODIGO municipio]],[3]!Tabla8[#All],15,FALSE),\"\")","v":""},{"$f":"IFERROR(VLOOKUP(Tabla38[[#This Row],[CODIGO municipio]],[3]!Tabla8[#All],16,FALSE),\"\")","v":""},{"$f":"IFERROR(VLOOKUP(Tabla38[[#This Row],[CODIGO municipio]],[3]!Tabla8[#All],17,FALSE),\"\")","v":""},{"$f":"IFERROR(VLOOKUP(Tabla38[[#This Row],[CODIGO municipio]],[3]!Tabla8[#All],18,FALSE),\"\")","v":""},{"$f":"IFERROR(VLOOKUP(Tabla38[[#This Row],[CODIGO municipio]],[3]!Tabla8[#All],19,FALSE),\"\")","v":""},{"$f":"IFERROR(VLOOKUP(Tabla38[[#This Row],[CODIGO municipio]],[3]!Tabla8[#All],20,FALSE),\"\")","v":""},{"$f":"IFERROR(VLOOKUP(Tabla38[[#This Row],[CODIGO municipio]],[3]!Tabla8[#All],21,FALSE),\"\")","v":""},{"$f":"IFERROR(VLOOKUP(Tabla38[[#This Row],[CODIGO municipio]],[3]!Tabla8[#All],22,FALSE),\"\")","v":""},{"$f":"IFERROR(VLOOKUP(Tabla38[[#This Row],[CODIGO municipio]],[3]!Tabla8[#All],23,FALSE),\"\")","v":""},{"$f":"IFERROR(VLOOKUP(Tabla38[[#This Row],[CODIGO municipio]],[3]!Tabla9[#All],3,FALSE),\"\")","v":""}]
[{"$f":"IFERROR(VLOOKUP(Tabla38[[#This Row],[Municipio]],[3]!Tabla2[#All],3,FALSE),\"\")","v":""},1332,"Unión Cantinil",{"$f":"IFERROR(VLOOKUP(Tabla38[[#This Row],[CODIGO municipio]],[3]!Tabla6[[#All],[codigo_mun]],1,FALSE),\"\")","v":""},{"$f":"IFERROR(VLOOKUP(Tabla38[[#This Row],[CODIGO municipio]],[3]!Tabla12[#All],2,FALSE),\"\")","v":""},{"$f":"IFERROR(VLOOKUP(Tabla38[[#This Row],[CODIGO municipio]],[3]!Tabla7[#All],3,FALSE),\"\")","v":""},{"$f":"IFERROR(VLOOKUP(Tabla38[[#This Row],[CODIGO municipio]],[3]!Tabla7[#All],4,FALSE),\"\")","v":""},{"$f":"IFERROR(VLOOKUP(Tabla38[[#This Row],[CODIGO municipio]],[3]!Tabla7[#All],11,FALSE),\"\")","v":""},{"$f":"IFERROR(VLOOKUP(Tabla38[[#This Row],[CODIGO municipio]],[3]!Tabla7[#All],12,FALSE),\"\")","v":""},{"$f":"IFERROR(VLOOKUP(Tabla38[[#This Row],[CODIGO municipio]],[3]!Tabla7[#All],13,FALSE),\"\")","v":""},{"$f":"IFERROR(VLOOKUP(Tabla38[[#This Row],[CODIGO municipio]],[3]!Tabla7[#All],14,FALSE),\"\")","v":""},{"$f":"IFERROR(VLOOKUP(Tabla38[[#This Row],[CODIGO municipio]],[3]!Tabla7[#All],15,FALSE),\"\")","v":""},{"$f":"IFERROR(VLOOKUP(Tabla38[[#This Row],[CODIGO municipio]],[3]!Tabla7[#All],16,FALSE),\"\")","v":""},{"$f":"IFERROR(VLOOKUP(Tabla38[[#This Row],[CODIGO municipio]],[3]!Tabla7[#All],17,FALSE),\"\")","v":""},{"$f":"IFERROR(VLOOKUP(Tabla38[[#This Row],[CODIGO municipio]],[3]!Tabla7[#All],18,FALSE),\"\")","v":""},{"$f":"IFERROR(VLOOKUP(Tabla38[[#This Row],[CODIGO municipio]],[3]!Tabla7[#All],19,FALSE),\"\")","v":""},{"$f":"IFERROR(VLOOKUP(Tabla38[[#This Row],[CODIGO municipio]],[3]!Tabla8[#All],3,FALSE),\"\")","v":""},{"$f":"IFERROR(VLOOKUP(Tabla38[[#This Row],[CODIGO municipio]],[3]!Tabla8[#All],4,FALSE),\"\")","v":""},{"$f":"IFERROR(VLOOKUP(Tabla38[[#This Row],[CODIGO municipio]],[3]!Tabla8[#All],5,FALSE),\"\")","v":""},{"$f":"IFERROR(VLOOKUP(Tabla38[[#This Row],[CODIGO municipio]],[3]!Tabla8[#All],6,FALSE),\"\")","v":""},{"$f":"IFERROR(VLOOKUP(Tabla38[[#This Row],[CODIGO municipio]],[3]!Tabla8[#All],7,FALSE),\"\")","v":""},{"$f":"IFERROR(VLOOKUP(Tabla38[[#This Row],[CODIGO municipio]],[3]!Tabla8[#All],8,FALSE),\"\")","v":""},{"$f":"IFERROR(VLOOKUP(Tabla38[[#This Row],[CODIGO municipio]],[3]!Tabla8[#All],9,FALSE),\"\")","v":""},{"$f":"IFERROR(VLOOKUP(Tabla38[[#This Row],[CODIGO municipio]],[3]!Tabla8[#All],10,FALSE),\"\")","v":""},{"$f":"IFERROR(VLOOKUP(Tabla38[[#This Row],[CODIGO municipio]],[3]!Tabla8[#All],11,FALSE),\"\")","v":""},{"$f":"IFERROR(VLOOKUP(Tabla38[[#This Row],[CODIGO municipio]],[3]!Tabla8[#All],12,FALSE),\"\")","v":""},{"$f":"IFERROR(VLOOKUP(Tabla38[[#This Row],[CODIGO municipio]],[3]!Tabla8[#All],13,FALSE),\"\")","v":""},{"$f":"IFERROR(VLOOKUP(Tabla38[[#This Row],[CODIGO municipio]],[3]!Tabla8[#All],14,FALSE),\"\")","v":""},{"$f":"IFERROR(VLOOKUP(Tabla38[[#This Row],[CODIGO municipio]],[3]!Tabla8[#All],15,FALSE),\"\")","v":""},{"$f":"IFERROR(VLOOKUP(Tabla38[[#This Row],[CODIGO municipio]],[3]!Tabla8[#All],16,FALSE),\"\")","v":""},{"$f":"IFERROR(VLOOKUP(Tabla38[[#This Row],[CODIGO municipio]],[3]!Tabla8[#All],17,FALSE),\"\")","v":""},{"$f":"IFERROR(VLOOKUP(Tabla38[[#This Row],[CODIGO municipio]],[3]!Tabla8[#All],18,FALSE),\"\")","v":""},{"$f":"IFERROR(VLOOKUP(Tabla38[[#This Row],[CODIGO municipio]],[3]!Tabla8[#All],19,FALSE),\"\")","v":""},{"$f":"IFERROR(VLOOKUP(Tabla38[[#This Row],[CODIGO municipio]],[3]!Tabla8[#All],20,FALSE),\"\")","v":""},{"$f":"IFERROR(VLOOKUP(Tabla38[[#This Row],[CODIGO municipio]],[3]!Tabla8[#All],21,FALSE),\"\")","v":""},{"$f":"IFERROR(VLOOKUP(Tabla38[[#This Row],[CODIGO municipio]],[3]!Tabla8[#All],22,FALSE),\"\")","v":""},{"$f":"IFERROR(VLOOKUP(Tabla38[[#This Row],[CODIGO municipio]],[3]!Tabla8[#All],23,FALSE),\"\")","v":""},{"$f":"IFERROR(VLOOKUP(Tabla38[[#This Row],[CODIGO municipio]],[3]!Tabla9[#All],3,FALSE),\"\")","v":""}]
[{"$f":"IFERROR(VLOOKUP(Tabla38[[#This Row],[Municipio]],[3]!Tabla2[#All],3,FALSE),\"\")","v":""},1333,"Petatán",{"$f":"IFERROR(VLOOKUP(Tabla38[[#This Row],[CODIGO municipio]],[3]!Tabla6[[#All],[codigo_mun]],1,FALSE),\"\")","v":""},{"$f":"IFERROR(VLOOKUP(Tabla38[[#This Row],[CODIGO municipio]],[3]!Tabla12[#All],2,FALSE),\"\")","v":""},{"$f":"IFERROR(VLOOKUP(Tabla38[[#This Row],[CODIGO municipio]],[3]!Tabla7[#All],3,FALSE),\"\")","v":""},{"$f":"IFERROR(VLOOKUP(Tabla38[[#This Row],[CODIGO municipio]],[3]!Tabla7[#All],4,FALSE),\"\")","v":""},{"$f":"IFERROR(VLOOKUP(Tabla38[[#This Row],[CODIGO municipio]],[3]!Tabla7[#All],11,FALSE),\"\")","v":""},{"$f":"IFERROR(VLOOKUP(Tabla38[[#This Row],[CODIGO municipio]],[3]!Tabla7[#All],12,FALSE),\"\")","v":""},{"$f":"IFERROR(VLOOKUP(Tabla38[[#This Row],[CODIGO municipio]],[3]!Tabla7[#All],13,FALSE),\"\")","v":""},{"$f":"IFERROR(VLOOKUP(Tabla38[[#This Row],[CODIGO municipio]],[3]!Tabla7[#All],14,FALSE),\"\")","v":""},{"$f":"IFERROR(VLOOKUP(Tabla38[[#This Row],[CODIGO municipio]],[3]!Tabla7[#All],15,FALSE),\"\")","v":""},{"$f":"IFERROR(VLOOKUP(Tabla38[[#This Row],[CODIGO municipio]],[3]!Tabla7[#All],16,FALSE),\"\")","v":""},{"$f":"IFERROR(VLOOKUP(Tabla38[[#This Row],[CODIGO municipio]],[3]!Tabla7[#All],17,FALSE),\"\")","v":""},{"$f":"IFERROR(VLOOKUP(Tabla38[[#This Row],[CODIGO municipio]],[3]!Tabla7[#All],18,FALSE),\"\")","v":""},{"$f":"IFERROR(VLOOKUP(Tabla38[[#This Row],[CODIGO municipio]],[3]!Tabla7[#All],19,FALSE),\"\")","v":""},{"$f":"IFERROR(VLOOKUP(Tabla38[[#This Row],[CODIGO municipio]],[3]!Tabla8[#All],3,FALSE),\"\")","v":""},{"$f":"IFERROR(VLOOKUP(Tabla38[[#This Row],[CODIGO municipio]],[3]!Tabla8[#All],4,FALSE),\"\")","v":""},{"$f":"IFERROR(VLOOKUP(Tabla38[[#This Row],[CODIGO municipio]],[3]!Tabla8[#All],5,FALSE),\"\")","v":""},{"$f":"IFERROR(VLOOKUP(Tabla38[[#This Row],[CODIGO municipio]],[3]!Tabla8[#All],6,FALSE),\"\")","v":""},{"$f":"IFERROR(VLOOKUP(Tabla38[[#This Row],[CODIGO municipio]],[3]!Tabla8[#All],7,FALSE),\"\")","v":""},{"$f":"IFERROR(VLOOKUP(Tabla38[[#This Row],[CODIGO municipio]],[3]!Tabla8[#All],8,FALSE),\"\")","v":""},{"$f":"IFERROR(VLOOKUP(Tabla38[[#This Row],[CODIGO municipio]],[3]!Tabla8[#All],9,FALSE),\"\")","v":""},{"$f":"IFERROR(VLOOKUP(Tabla38[[#This Row],[CODIGO municipio]],[3]!Tabla8[#All],10,FALSE),\"\")","v":""},{"$f":"IFERROR(VLOOKUP(Tabla38[[#This Row],[CODIGO municipio]],[3]!Tabla8[#All],11,FALSE),\"\")","v":""},{"$f":"IFERROR(VLOOKUP(Tabla38[[#This Row],[CODIGO municipio]],[3]!Tabla8[#All],12,FALSE),\"\")","v":""},{"$f":"IFERROR(VLOOKUP(Tabla38[[#This Row],[CODIGO municipio]],[3]!Tabla8[#All],13,FALSE),\"\")","v":""},{"$f":"IFERROR(VLOOKUP(Tabla38[[#This Row],[CODIGO municipio]],[3]!Tabla8[#All],14,FALSE),\"\")","v":""},{"$f":"IFERROR(VLOOKUP(Tabla38[[#This Row],[CODIGO municipio]],[3]!Tabla8[#All],15,FALSE),\"\")","v":""},{"$f":"IFERROR(VLOOKUP(Tabla38[[#This Row],[CODIGO municipio]],[3]!Tabla8[#All],16,FALSE),\"\")","v":""},{"$f":"IFERROR(VLOOKUP(Tabla38[[#This Row],[CODIGO municipio]],[3]!Tabla8[#All],17,FALSE),\"\")","v":""},{"$f":"IFERROR(VLOOKUP(Tabla38[[#This Row],[CODIGO municipio]],[3]!Tabla8[#All],18,FALSE),\"\")","v":""},{"$f":"IFERROR(VLOOKUP(Tabla38[[#This Row],[CODIGO municipio]],[3]!Tabla8[#All],19,FALSE),\"\")","v":""},{"$f":"IFERROR(VLOOKUP(Tabla38[[#This Row],[CODIGO municipio]],[3]!Tabla8[#All],20,FALSE),\"\")","v":""},{"$f":"IFERROR(VLOOKUP(Tabla38[[#This Row],[CODIGO municipio]],[3]!Tabla8[#All],21,FALSE),\"\")","v":""},{"$f":"IFERROR(VLOOKUP(Tabla38[[#This Row],[CODIGO municipio]],[3]!Tabla8[#All],22,FALSE),\"\")","v":""},{"$f":"IFERROR(VLOOKUP(Tabla38[[#This Row],[CODIGO municipio]],[3]!Tabla8[#All],23,FALSE),\"\")","v":""},{"$f":"IFERROR(VLOOKUP(Tabla38[[#This Row],[CODIGO municipio]],[3]!Tabla9[#All],3,FALSE),\"\")","v":""}]
[{"$f":"IFERROR(VLOOKUP(Tabla38[[#This Row],[Municipio]],[3]!Tabla2[#All],3,FALSE),\"\")","v":""},1401,"Santa Cruz del Quiché",{"$f":"IFERROR(VLOOKUP(Tabla38[[#This Row],[CODIGO municipio]],[3]!Tabla6[[#All],[codigo_mun]],1,FALSE),\"\")","v":""},{"$f":"IFERROR(VLOOKUP(Tabla38[[#This Row],[CODIGO municipio]],[3]!Tabla12[#All],2,FALSE),\"\")","v":""},{"$f":"IFERROR(VLOOKUP(Tabla38[[#This Row],[CODIGO municipio]],[3]!Tabla7[#All],3,FALSE),\"\")","v":""},{"$f":"IFERROR(VLOOKUP(Tabla38[[#This Row],[CODIGO municipio]],[3]!Tabla7[#All],4,FALSE),\"\")","v":""},{"$f":"IFERROR(VLOOKUP(Tabla38[[#This Row],[CODIGO municipio]],[3]!Tabla7[#All],11,FALSE),\"\")","v":""},{"$f":"IFERROR(VLOOKUP(Tabla38[[#This Row],[CODIGO municipio]],[3]!Tabla7[#All],12,FALSE),\"\")","v":""},{"$f":"IFERROR(VLOOKUP(Tabla38[[#This Row],[CODIGO municipio]],[3]!Tabla7[#All],13,FALSE),\"\")","v":""},{"$f":"IFERROR(VLOOKUP(Tabla38[[#This Row],[CODIGO municipio]],[3]!Tabla7[#All],14,FALSE),\"\")","v":""},{"$f":"IFERROR(VLOOKUP(Tabla38[[#This Row],[CODIGO municipio]],[3]!Tabla7[#All],15,FALSE),\"\")","v":""},{"$f":"IFERROR(VLOOKUP(Tabla38[[#This Row],[CODIGO municipio]],[3]!Tabla7[#All],16,FALSE),\"\")","v":""},{"$f":"IFERROR(VLOOKUP(Tabla38[[#This Row],[CODIGO municipio]],[3]!Tabla7[#All],17,FALSE),\"\")","v":""},{"$f":"IFERROR(VLOOKUP(Tabla38[[#This Row],[CODIGO municipio]],[3]!Tabla7[#All],18,FALSE),\"\")","v":""},{"$f":"IFERROR(VLOOKUP(Tabla38[[#This Row],[CODIGO municipio]],[3]!Tabla7[#All],19,FALSE),\"\")","v":""},{"$f":"IFERROR(VLOOKUP(Tabla38[[#This Row],[CODIGO municipio]],[3]!Tabla8[#All],3,FALSE),\"\")","v":""},{"$f":"IFERROR(VLOOKUP(Tabla38[[#This Row],[CODIGO municipio]],[3]!Tabla8[#All],4,FALSE),\"\")","v":""},{"$f":"IFERROR(VLOOKUP(Tabla38[[#This Row],[CODIGO municipio]],[3]!Tabla8[#All],5,FALSE),\"\")","v":""},{"$f":"IFERROR(VLOOKUP(Tabla38[[#This Row],[CODIGO municipio]],[3]!Tabla8[#All],6,FALSE),\"\")","v":""},{"$f":"IFERROR(VLOOKUP(Tabla38[[#This Row],[CODIGO municipio]],[3]!Tabla8[#All],7,FALSE),\"\")","v":""},{"$f":"IFERROR(VLOOKUP(Tabla38[[#This Row],[CODIGO municipio]],[3]!Tabla8[#All],8,FALSE),\"\")","v":""},{"$f":"IFERROR(VLOOKUP(Tabla38[[#This Row],[CODIGO municipio]],[3]!Tabla8[#All],9,FALSE),\"\")","v":""},{"$f":"IFERROR(VLOOKUP(Tabla38[[#This Row],[CODIGO municipio]],[3]!Tabla8[#All],10,FALSE),\"\")","v":""},{"$f":"IFERROR(VLOOKUP(Tabla38[[#This Row],[CODIGO municipio]],[3]!Tabla8[#All],11,FALSE),\"\")","v":""},{"$f":"IFERROR(VLOOKUP(Tabla38[[#This Row],[CODIGO municipio]],[3]!Tabla8[#All],12,FALSE),\"\")","v":""},{"$f":"IFERROR(VLOOKUP(Tabla38[[#This Row],[CODIGO municipio]],[3]!Tabla8[#All],13,FALSE),\"\")","v":""},{"$f":"IFERROR(VLOOKUP(Tabla38[[#This Row],[CODIGO municipio]],[3]!Tabla8[#All],14,FALSE),\"\")","v":""},{"$f":"IFERROR(VLOOKUP(Tabla38[[#This Row],[CODIGO municipio]],[3]!Tabla8[#All],15,FALSE),\"\")","v":""},{"$f":"IFERROR(VLOOKUP(Tabla38[[#This Row],[CODIGO municipio]],[3]!Tabla8[#All],16,FALSE),\"\")","v":""},{"$f":"IFERROR(VLOOKUP(Tabla38[[#This Row],[CODIGO municipio]],[3]!Tabla8[#All],17,FALSE),\"\")","v":""},{"$f":"IFERROR(VLOOKUP(Tabla38[[#This Row],[CODIGO municipio]],[3]!Tabla8[#All],18,FALSE),\"\")","v":""},{"$f":"IFERROR(VLOOKUP(Tabla38[[#This Row],[CODIGO municipio]],[3]!Tabla8[#All],19,FALSE),\"\")","v":""},{"$f":"IFERROR(VLOOKUP(Tabla38[[#This Row],[CODIGO municipio]],[3]!Tabla8[#All],20,FALSE),\"\")","v":""},{"$f":"IFERROR(VLOOKUP(Tabla38[[#This Row],[CODIGO municipio]],[3]!Tabla8[#All],21,FALSE),\"\")","v":""},{"$f":"IFERROR(VLOOKUP(Tabla38[[#This Row],[CODIGO municipio]],[3]!Tabla8[#All],22,FALSE),\"\")","v":""},{"$f":"IFERROR(VLOOKUP(Tabla38[[#This Row],[CODIGO municipio]],[3]!Tabla8[#All],23,FALSE),\"\")","v":""},{"$f":"IFERROR(VLOOKUP(Tabla38[[#This Row],[CODIGO municipio]],[3]!Tabla9[#All],3,FALSE),\"\")","v":""}]
[{"$f":"IFERROR(VLOOKUP(Tabla38[[#This Row],[Municipio]],[3]!Tabla2[#All],3,FALSE),\"\")","v":""},1402,"Chiché",{"$f":"IFERROR(VLOOKUP(Tabla38[[#This Row],[CODIGO municipio]],[3]!Tabla6[[#All],[codigo_mun]],1,FALSE),\"\")","v":""},{"$f":"IFERROR(VLOOKUP(Tabla38[[#This Row],[CODIGO municipio]],[3]!Tabla12[#All],2,FALSE),\"\")","v":""},{"$f":"IFERROR(VLOOKUP(Tabla38[[#This Row],[CODIGO municipio]],[3]!Tabla7[#All],3,FALSE),\"\")","v":""},{"$f":"IFERROR(VLOOKUP(Tabla38[[#This Row],[CODIGO municipio]],[3]!Tabla7[#All],4,FALSE),\"\")","v":""},{"$f":"IFERROR(VLOOKUP(Tabla38[[#This Row],[CODIGO municipio]],[3]!Tabla7[#All],11,FALSE),\"\")","v":""},{"$f":"IFERROR(VLOOKUP(Tabla38[[#This Row],[CODIGO municipio]],[3]!Tabla7[#All],12,FALSE),\"\")","v":""},{"$f":"IFERROR(VLOOKUP(Tabla38[[#This Row],[CODIGO municipio]],[3]!Tabla7[#All],13,FALSE),\"\")","v":""},{"$f":"IFERROR(VLOOKUP(Tabla38[[#This Row],[CODIGO municipio]],[3]!Tabla7[#All],14,FALSE),\"\")","v":""},{"$f":"IFERROR(VLOOKUP(Tabla38[[#This Row],[CODIGO municipio]],[3]!Tabla7[#All],15,FALSE),\"\")","v":""},{"$f":"IFERROR(VLOOKUP(Tabla38[[#This Row],[CODIGO municipio]],[3]!Tabla7[#All],16,FALSE),\"\")","v":""},{"$f":"IFERROR(VLOOKUP(Tabla38[[#This Row],[CODIGO municipio]],[3]!Tabla7[#All],17,FALSE),\"\")","v":""},{"$f":"IFERROR(VLOOKUP(Tabla38[[#This Row],[CODIGO municipio]],[3]!Tabla7[#All],18,FALSE),\"\")","v":""},{"$f":"IFERROR(VLOOKUP(Tabla38[[#This Row],[CODIGO municipio]],[3]!Tabla7[#All],19,FALSE),\"\")","v":""},{"$f":"IFERROR(VLOOKUP(Tabla38[[#This Row],[CODIGO municipio]],[3]!Tabla8[#All],3,FALSE),\"\")","v":""},{"$f":"IFERROR(VLOOKUP(Tabla38[[#This Row],[CODIGO municipio]],[3]!Tabla8[#All],4,FALSE),\"\")","v":""},{"$f":"IFERROR(VLOOKUP(Tabla38[[#This Row],[CODIGO municipio]],[3]!Tabla8[#All],5,FALSE),\"\")","v":""},{"$f":"IFERROR(VLOOKUP(Tabla38[[#This Row],[CODIGO municipio]],[3]!Tabla8[#All],6,FALSE),\"\")","v":""},{"$f":"IFERROR(VLOOKUP(Tabla38[[#This Row],[CODIGO municipio]],[3]!Tabla8[#All],7,FALSE),\"\")","v":""},{"$f":"IFERROR(VLOOKUP(Tabla38[[#This Row],[CODIGO municipio]],[3]!Tabla8[#All],8,FALSE),\"\")","v":""},{"$f":"IFERROR(VLOOKUP(Tabla38[[#This Row],[CODIGO municipio]],[3]!Tabla8[#All],9,FALSE),\"\")","v":""},{"$f":"IFERROR(VLOOKUP(Tabla38[[#This Row],[CODIGO municipio]],[3]!Tabla8[#All],10,FALSE),\"\")","v":""},{"$f":"IFERROR(VLOOKUP(Tabla38[[#This Row],[CODIGO municipio]],[3]!Tabla8[#All],11,FALSE),\"\")","v":""},{"$f":"IFERROR(VLOOKUP(Tabla38[[#This Row],[CODIGO municipio]],[3]!Tabla8[#All],12,FALSE),\"\")","v":""},{"$f":"IFERROR(VLOOKUP(Tabla38[[#This Row],[CODIGO municipio]],[3]!Tabla8[#All],13,FALSE),\"\")","v":""},{"$f":"IFERROR(VLOOKUP(Tabla38[[#This Row],[CODIGO municipio]],[3]!Tabla8[#All],14,FALSE),\"\")","v":""},{"$f":"IFERROR(VLOOKUP(Tabla38[[#This Row],[CODIGO municipio]],[3]!Tabla8[#All],15,FALSE),\"\")","v":""},{"$f":"IFERROR(VLOOKUP(Tabla38[[#This Row],[CODIGO municipio]],[3]!Tabla8[#All],16,FALSE),\"\")","v":""},{"$f":"IFERROR(VLOOKUP(Tabla38[[#This Row],[CODIGO municipio]],[3]!Tabla8[#All],17,FALSE),\"\")","v":""},{"$f":"IFERROR(VLOOKUP(Tabla38[[#This Row],[CODIGO municipio]],[3]!Tabla8[#All],18,FALSE),\"\")","v":""},{"$f":"IFERROR(VLOOKUP(Tabla38[[#This Row],[CODIGO municipio]],[3]!Tabla8[#All],19,FALSE),\"\")","v":""},{"$f":"IFERROR(VLOOKUP(Tabla38[[#This Row],[CODIGO municipio]],[3]!Tabla8[#All],20,FALSE),\"\")","v":""},{"$f":"IFERROR(VLOOKUP(Tabla38[[#This Row],[CODIGO municipio]],[3]!Tabla8[#All],21,FALSE),\"\")","v":""},{"$f":"IFERROR(VLOOKUP(Tabla38[[#This Row],[CODIGO municipio]],[3]!Tabla8[#All],22,FALSE),\"\")","v":""},{"$f":"IFERROR(VLOOKUP(Tabla38[[#This Row],[CODIGO municipio]],[3]!Tabla8[#All],23,FALSE),\"\")","v":""},{"$f":"IFERROR(VLOOKUP(Tabla38[[#This Row],[CODIGO municipio]],[3]!Tabla9[#All],3,FALSE),\"\")","v":""}]
[{"$f":"IFERROR(VLOOKUP(Tabla38[[#This Row],[Municipio]],[3]!Tabla2[#All],3,FALSE),\"\")","v":""},1403,"Chinique",{"$f":"IFERROR(VLOOKUP(Tabla38[[#This Row],[CODIGO municipio]],[3]!Tabla6[[#All],[codigo_mun]],1,FALSE),\"\")","v":""},{"$f":"IFERROR(VLOOKUP(Tabla38[[#This Row],[CODIGO municipio]],[3]!Tabla12[#All],2,FALSE),\"\")","v":""},{"$f":"IFERROR(VLOOKUP(Tabla38[[#This Row],[CODIGO municipio]],[3]!Tabla7[#All],3,FALSE),\"\")","v":""},{"$f":"IFERROR(VLOOKUP(Tabla38[[#This Row],[CODIGO municipio]],[3]!Tabla7[#All],4,FALSE),\"\")","v":""},{"$f":"IFERROR(VLOOKUP(Tabla38[[#This Row],[CODIGO municipio]],[3]!Tabla7[#All],11,FALSE),\"\")","v":""},{"$f":"IFERROR(VLOOKUP(Tabla38[[#This Row],[CODIGO municipio]],[3]!Tabla7[#All],12,FALSE),\"\")","v":""},{"$f":"IFERROR(VLOOKUP(Tabla38[[#This Row],[CODIGO municipio]],[3]!Tabla7[#All],13,FALSE),\"\")","v":""},{"$f":"IFERROR(VLOOKUP(Tabla38[[#This Row],[CODIGO municipio]],[3]!Tabla7[#All],14,FALSE),\"\")","v":""},{"$f":"IFERROR(VLOOKUP(Tabla38[[#This Row],[CODIGO municipio]],[3]!Tabla7[#All],15,FALSE),\"\")","v":""},{"$f":"IFERROR(VLOOKUP(Tabla38[[#This Row],[CODIGO municipio]],[3]!Tabla7[#All],16,FALSE),\"\")","v":""},{"$f":"IFERROR(VLOOKUP(Tabla38[[#This Row],[CODIGO municipio]],[3]!Tabla7[#All],17,FALSE),\"\")","v":""},{"$f":"IFERROR(VLOOKUP(Tabla38[[#This Row],[CODIGO municipio]],[3]!Tabla7[#All],18,FALSE),\"\")","v":""},{"$f":"IFERROR(VLOOKUP(Tabla38[[#This Row],[CODIGO municipio]],[3]!Tabla7[#All],19,FALSE),\"\")","v":""},{"$f":"IFERROR(VLOOKUP(Tabla38[[#This Row],[CODIGO municipio]],[3]!Tabla8[#All],3,FALSE),\"\")","v":""},{"$f":"IFERROR(VLOOKUP(Tabla38[[#This Row],[CODIGO municipio]],[3]!Tabla8[#All],4,FALSE),\"\")","v":""},{"$f":"IFERROR(VLOOKUP(Tabla38[[#This Row],[CODIGO municipio]],[3]!Tabla8[#All],5,FALSE),\"\")","v":""},{"$f":"IFERROR(VLOOKUP(Tabla38[[#This Row],[CODIGO municipio]],[3]!Tabla8[#All],6,FALSE),\"\")","v":""},{"$f":"IFERROR(VLOOKUP(Tabla38[[#This Row],[CODIGO municipio]],[3]!Tabla8[#All],7,FALSE),\"\")","v":""},{"$f":"IFERROR(VLOOKUP(Tabla38[[#This Row],[CODIGO municipio]],[3]!Tabla8[#All],8,FALSE),\"\")","v":""},{"$f":"IFERROR(VLOOKUP(Tabla38[[#This Row],[CODIGO municipio]],[3]!Tabla8[#All],9,FALSE),\"\")","v":""},{"$f":"IFERROR(VLOOKUP(Tabla38[[#This Row],[CODIGO municipio]],[3]!Tabla8[#All],10,FALSE),\"\")","v":""},{"$f":"IFERROR(VLOOKUP(Tabla38[[#This Row],[CODIGO municipio]],[3]!Tabla8[#All],11,FALSE),\"\")","v":""},{"$f":"IFERROR(VLOOKUP(Tabla38[[#This Row],[CODIGO municipio]],[3]!Tabla8[#All],12,FALSE),\"\")","v":""},{"$f":"IFERROR(VLOOKUP(Tabla38[[#This Row],[CODIGO municipio]],[3]!Tabla8[#All],13,FALSE),\"\")","v":""},{"$f":"IFERROR(VLOOKUP(Tabla38[[#This Row],[CODIGO municipio]],[3]!Tabla8[#All],14,FALSE),\"\")","v":""},{"$f":"IFERROR(VLOOKUP(Tabla38[[#This Row],[CODIGO municipio]],[3]!Tabla8[#All],15,FALSE),\"\")","v":""},{"$f":"IFERROR(VLOOKUP(Tabla38[[#This Row],[CODIGO municipio]],[3]!Tabla8[#All],16,FALSE),\"\")","v":""},{"$f":"IFERROR(VLOOKUP(Tabla38[[#This Row],[CODIGO municipio]],[3]!Tabla8[#All],17,FALSE),\"\")","v":""},{"$f":"IFERROR(VLOOKUP(Tabla38[[#This Row],[CODIGO municipio]],[3]!Tabla8[#All],18,FALSE),\"\")","v":""},{"$f":"IFERROR(VLOOKUP(Tabla38[[#This Row],[CODIGO municipio]],[3]!Tabla8[#All],19,FALSE),\"\")","v":""},{"$f":"IFERROR(VLOOKUP(Tabla38[[#This Row],[CODIGO municipio]],[3]!Tabla8[#All],20,FALSE),\"\")","v":""},{"$f":"IFERROR(VLOOKUP(Tabla38[[#This Row],[CODIGO municipio]],[3]!Tabla8[#All],21,FALSE),\"\")","v":""},{"$f":"IFERROR(VLOOKUP(Tabla38[[#This Row],[CODIGO municipio]],[3]!Tabla8[#All],22,FALSE),\"\")","v":""},{"$f":"IFERROR(VLOOKUP(Tabla38[[#This Row],[CODIGO municipio]],[3]!Tabla8[#All],23,FALSE),\"\")","v":""},{"$f":"IFERROR(VLOOKUP(Tabla38[[#This Row],[CODIGO municipio]],[3]!Tabla9[#All],3,FALSE),\"\")","v":""}]
[{"$f":"IFERROR(VLOOKUP(Tabla38[[#This Row],[Municipio]],[3]!Tabla2[#All],3,FALSE),\"\")","v":""},1404,"Zacualpa",{"$f":"IFERROR(VLOOKUP(Tabla38[[#This Row],[CODIGO municipio]],[3]!Tabla6[[#All],[codigo_mun]],1,FALSE),\"\")","v":""},{"$f":"IFERROR(VLOOKUP(Tabla38[[#This Row],[CODIGO municipio]],[3]!Tabla12[#All],2,FALSE),\"\")","v":""},{"$f":"IFERROR(VLOOKUP(Tabla38[[#This Row],[CODIGO municipio]],[3]!Tabla7[#All],3,FALSE),\"\")","v":""},{"$f":"IFERROR(VLOOKUP(Tabla38[[#This Row],[CODIGO municipio]],[3]!Tabla7[#All],4,FALSE),\"\")","v":""},{"$f":"IFERROR(VLOOKUP(Tabla38[[#This Row],[CODIGO municipio]],[3]!Tabla7[#All],11,FALSE),\"\")","v":""},{"$f":"IFERROR(VLOOKUP(Tabla38[[#This Row],[CODIGO municipio]],[3]!Tabla7[#All],12,FALSE),\"\")","v":""},{"$f":"IFERROR(VLOOKUP(Tabla38[[#This Row],[CODIGO municipio]],[3]!Tabla7[#All],13,FALSE),\"\")","v":""},{"$f":"IFERROR(VLOOKUP(Tabla38[[#This Row],[CODIGO municipio]],[3]!Tabla7[#All],14,FALSE),\"\")","v":""},{"$f":"IFERROR(VLOOKUP(Tabla38[[#This Row],[CODIGO municipio]],[3]!Tabla7[#All],15,FALSE),\"\")","v":""},{"$f":"IFERROR(VLOOKUP(Tabla38[[#This Row],[CODIGO municipio]],[3]!Tabla7[#All],16,FALSE),\"\")","v":""},{"$f":"IFERROR(VLOOKUP(Tabla38[[#This Row],[CODIGO municipio]],[3]!Tabla7[#All],17,FALSE),\"\")","v":""},{"$f":"IFERROR(VLOOKUP(Tabla38[[#This Row],[CODIGO municipio]],[3]!Tabla7[#All],18,FALSE),\"\")","v":""},{"$f":"IFERROR(VLOOKUP(Tabla38[[#This Row],[CODIGO municipio]],[3]!Tabla7[#All],19,FALSE),\"\")","v":""},{"$f":"IFERROR(VLOOKUP(Tabla38[[#This Row],[CODIGO municipio]],[3]!Tabla8[#All],3,FALSE),\"\")","v":""},{"$f":"IFERROR(VLOOKUP(Tabla38[[#This Row],[CODIGO municipio]],[3]!Tabla8[#All],4,FALSE),\"\")","v":""},{"$f":"IFERROR(VLOOKUP(Tabla38[[#This Row],[CODIGO municipio]],[3]!Tabla8[#All],5,FALSE),\"\")","v":""},{"$f":"IFERROR(VLOOKUP(Tabla38[[#This Row],[CODIGO municipio]],[3]!Tabla8[#All],6,FALSE),\"\")","v":""},{"$f":"IFERROR(VLOOKUP(Tabla38[[#This Row],[CODIGO municipio]],[3]!Tabla8[#All],7,FALSE),\"\")","v":""},{"$f":"IFERROR(VLOOKUP(Tabla38[[#This Row],[CODIGO municipio]],[3]!Tabla8[#All],8,FALSE),\"\")","v":""},{"$f":"IFERROR(VLOOKUP(Tabla38[[#This Row],[CODIGO municipio]],[3]!Tabla8[#All],9,FALSE),\"\")","v":""},{"$f":"IFERROR(VLOOKUP(Tabla38[[#This Row],[CODIGO municipio]],[3]!Tabla8[#All],10,FALSE),\"\")","v":""},{"$f":"IFERROR(VLOOKUP(Tabla38[[#This Row],[CODIGO municipio]],[3]!Tabla8[#All],11,FALSE),\"\")","v":""},{"$f":"IFERROR(VLOOKUP(Tabla38[[#This Row],[CODIGO municipio]],[3]!Tabla8[#All],12,FALSE),\"\")","v":""},{"$f":"IFERROR(VLOOKUP(Tabla38[[#This Row],[CODIGO municipio]],[3]!Tabla8[#All],13,FALSE),\"\")","v":""},{"$f":"IFERROR(VLOOKUP(Tabla38[[#This Row],[CODIGO municipio]],[3]!Tabla8[#All],14,FALSE),\"\")","v":""},{"$f":"IFERROR(VLOOKUP(Tabla38[[#This Row],[CODIGO municipio]],[3]!Tabla8[#All],15,FALSE),\"\")","v":""},{"$f":"IFERROR(VLOOKUP(Tabla38[[#This Row],[CODIGO municipio]],[3]!Tabla8[#All],16,FALSE),\"\")","v":""},{"$f":"IFERROR(VLOOKUP(Tabla38[[#This Row],[CODIGO municipio]],[3]!Tabla8[#All],17,FALSE),\"\")","v":""},{"$f":"IFERROR(VLOOKUP(Tabla38[[#This Row],[CODIGO municipio]],[3]!Tabla8[#All],18,FALSE),\"\")","v":""},{"$f":"IFERROR(VLOOKUP(Tabla38[[#This Row],[CODIGO municipio]],[3]!Tabla8[#All],19,FALSE),\"\")","v":""},{"$f":"IFERROR(VLOOKUP(Tabla38[[#This Row],[CODIGO municipio]],[3]!Tabla8[#All],20,FALSE),\"\")","v":""},{"$f":"IFERROR(VLOOKUP(Tabla38[[#This Row],[CODIGO municipio]],[3]!Tabla8[#All],21,FALSE),\"\")","v":""},{"$f":"IFERROR(VLOOKUP(Tabla38[[#This Row],[CODIGO municipio]],[3]!Tabla8[#All],22,FALSE),\"\")","v":""},{"$f":"IFERROR(VLOOKUP(Tabla38[[#This Row],[CODIGO municipio]],[3]!Tabla8[#All],23,FALSE),\"\")","v":""},{"$f":"IFERROR(VLOOKUP(Tabla38[[#This Row],[CODIGO municipio]],[3]!Tabla9[#All],3,FALSE),\"\")","v":""}]
[{"$f":"IFERROR(VLOOKUP(Tabla38[[#This Row],[Municipio]],[3]!Tabla2[#All],3,FALSE),\"\")","v":""},1405,"Chajul",{"$f":"IFERROR(VLOOKUP(Tabla38[[#This Row],[CODIGO municipio]],[3]!Tabla6[[#All],[codigo_mun]],1,FALSE),\"\")","v":""},{"$f":"IFERROR(VLOOKUP(Tabla38[[#This Row],[CODIGO municipio]],[3]!Tabla12[#All],2,FALSE),\"\")","v":""},{"$f":"IFERROR(VLOOKUP(Tabla38[[#This Row],[CODIGO municipio]],[3]!Tabla7[#All],3,FALSE),\"\")","v":""},{"$f":"IFERROR(VLOOKUP(Tabla38[[#This Row],[CODIGO municipio]],[3]!Tabla7[#All],4,FALSE),\"\")","v":""},{"$f":"IFERROR(VLOOKUP(Tabla38[[#This Row],[CODIGO municipio]],[3]!Tabla7[#All],11,FALSE),\"\")","v":""},{"$f":"IFERROR(VLOOKUP(Tabla38[[#This Row],[CODIGO municipio]],[3]!Tabla7[#All],12,FALSE),\"\")","v":""},{"$f":"IFERROR(VLOOKUP(Tabla38[[#This Row],[CODIGO municipio]],[3]!Tabla7[#All],13,FALSE),\"\")","v":""},{"$f":"IFERROR(VLOOKUP(Tabla38[[#This Row],[CODIGO municipio]],[3]!Tabla7[#All],14,FALSE),\"\")","v":""},{"$f":"IFERROR(VLOOKUP(Tabla38[[#This Row],[CODIGO municipio]],[3]!Tabla7[#All],15,FALSE),\"\")","v":""},{"$f":"IFERROR(VLOOKUP(Tabla38[[#This Row],[CODIGO municipio]],[3]!Tabla7[#All],16,FALSE),\"\")","v":""},{"$f":"IFERROR(VLOOKUP(Tabla38[[#This Row],[CODIGO municipio]],[3]!Tabla7[#All],17,FALSE),\"\")","v":""},{"$f":"IFERROR(VLOOKUP(Tabla38[[#This Row],[CODIGO municipio]],[3]!Tabla7[#All],18,FALSE),\"\")","v":""},{"$f":"IFERROR(VLOOKUP(Tabla38[[#This Row],[CODIGO municipio]],[3]!Tabla7[#All],19,FALSE),\"\")","v":""},{"$f":"IFERROR(VLOOKUP(Tabla38[[#This Row],[CODIGO municipio]],[3]!Tabla8[#All],3,FALSE),\"\")","v":""},{"$f":"IFERROR(VLOOKUP(Tabla38[[#This Row],[CODIGO municipio]],[3]!Tabla8[#All],4,FALSE),\"\")","v":""},{"$f":"IFERROR(VLOOKUP(Tabla38[[#This Row],[CODIGO municipio]],[3]!Tabla8[#All],5,FALSE),\"\")","v":""},{"$f":"IFERROR(VLOOKUP(Tabla38[[#This Row],[CODIGO municipio]],[3]!Tabla8[#All],6,FALSE),\"\")","v":""},{"$f":"IFERROR(VLOOKUP(Tabla38[[#This Row],[CODIGO municipio]],[3]!Tabla8[#All],7,FALSE),\"\")","v":""},{"$f":"IFERROR(VLOOKUP(Tabla38[[#This Row],[CODIGO municipio]],[3]!Tabla8[#All],8,FALSE),\"\")","v":""},{"$f":"IFERROR(VLOOKUP(Tabla38[[#This Row],[CODIGO municipio]],[3]!Tabla8[#All],9,FALSE),\"\")","v":""},{"$f":"IFERROR(VLOOKUP(Tabla38[[#This Row],[CODIGO municipio]],[3]!Tabla8[#All],10,FALSE),\"\")","v":""},{"$f":"IFERROR(VLOOKUP(Tabla38[[#This Row],[CODIGO municipio]],[3]!Tabla8[#All],11,FALSE),\"\")","v":""},{"$f":"IFERROR(VLOOKUP(Tabla38[[#This Row],[CODIGO municipio]],[3]!Tabla8[#All],12,FALSE),\"\")","v":""},{"$f":"IFERROR(VLOOKUP(Tabla38[[#This Row],[CODIGO municipio]],[3]!Tabla8[#All],13,FALSE),\"\")","v":""},{"$f":"IFERROR(VLOOKUP(Tabla38[[#This Row],[CODIGO municipio]],[3]!Tabla8[#All],14,FALSE),\"\")","v":""},{"$f":"IFERROR(VLOOKUP(Tabla38[[#This Row],[CODIGO municipio]],[3]!Tabla8[#All],15,FALSE),\"\")","v":""},{"$f":"IFERROR(VLOOKUP(Tabla38[[#This Row],[CODIGO municipio]],[3]!Tabla8[#All],16,FALSE),\"\")","v":""},{"$f":"IFERROR(VLOOKUP(Tabla38[[#This Row],[CODIGO municipio]],[3]!Tabla8[#All],17,FALSE),\"\")","v":""},{"$f":"IFERROR(VLOOKUP(Tabla38[[#This Row],[CODIGO municipio]],[3]!Tabla8[#All],18,FALSE),\"\")","v":""},{"$f":"IFERROR(VLOOKUP(Tabla38[[#This Row],[CODIGO municipio]],[3]!Tabla8[#All],19,FALSE),\"\")","v":""},{"$f":"IFERROR(VLOOKUP(Tabla38[[#This Row],[CODIGO municipio]],[3]!Tabla8[#All],20,FALSE),\"\")","v":""},{"$f":"IFERROR(VLOOKUP(Tabla38[[#This Row],[CODIGO municipio]],[3]!Tabla8[#All],21,FALSE),\"\")","v":""},{"$f":"IFERROR(VLOOKUP(Tabla38[[#This Row],[CODIGO municipio]],[3]!Tabla8[#All],22,FALSE),\"\")","v":""},{"$f":"IFERROR(VLOOKUP(Tabla38[[#This Row],[CODIGO municipio]],[3]!Tabla8[#All],23,FALSE),\"\")","v":""},{"$f":"IFERROR(VLOOKUP(Tabla38[[#This Row],[CODIGO municipio]],[3]!Tabla9[#All],3,FALSE),\"\")","v":""}]
[{"$f":"IFERROR(VLOOKUP(Tabla38[[#This Row],[Municipio]],[3]!Tabla2[#All],3,FALSE),\"\")","v":""},1406,"Chichicastenango",{"$f":"IFERROR(VLOOKUP(Tabla38[[#This Row],[CODIGO municipio]],[3]!Tabla6[[#All],[codigo_mun]],1,FALSE),\"\")","v":""},{"$f":"IFERROR(VLOOKUP(Tabla38[[#This Row],[CODIGO municipio]],[3]!Tabla12[#All],2,FALSE),\"\")","v":""},{"$f":"IFERROR(VLOOKUP(Tabla38[[#This Row],[CODIGO municipio]],[3]!Tabla7[#All],3,FALSE),\"\")","v":""},{"$f":"IFERROR(VLOOKUP(Tabla38[[#This Row],[CODIGO municipio]],[3]!Tabla7[#All],4,FALSE),\"\")","v":""},{"$f":"IFERROR(VLOOKUP(Tabla38[[#This Row],[CODIGO municipio]],[3]!Tabla7[#All],11,FALSE),\"\")","v":""},{"$f":"IFERROR(VLOOKUP(Tabla38[[#This Row],[CODIGO municipio]],[3]!Tabla7[#All],12,FALSE),\"\")","v":""},{"$f":"IFERROR(VLOOKUP(Tabla38[[#This Row],[CODIGO municipio]],[3]!Tabla7[#All],13,FALSE),\"\")","v":""},{"$f":"IFERROR(VLOOKUP(Tabla38[[#This Row],[CODIGO municipio]],[3]!Tabla7[#All],14,FALSE),\"\")","v":""},{"$f":"IFERROR(VLOOKUP(Tabla38[[#This Row],[CODIGO municipio]],[3]!Tabla7[#All],15,FALSE),\"\")","v":""},{"$f":"IFERROR(VLOOKUP(Tabla38[[#This Row],[CODIGO municipio]],[3]!Tabla7[#All],16,FALSE),\"\")","v":""},{"$f":"IFERROR(VLOOKUP(Tabla38[[#This Row],[CODIGO municipio]],[3]!Tabla7[#All],17,FALSE),\"\")","v":""},{"$f":"IFERROR(VLOOKUP(Tabla38[[#This Row],[CODIGO municipio]],[3]!Tabla7[#All],18,FALSE),\"\")","v":""},{"$f":"IFERROR(VLOOKUP(Tabla38[[#This Row],[CODIGO municipio]],[3]!Tabla7[#All],19,FALSE),\"\")","v":""},{"$f":"IFERROR(VLOOKUP(Tabla38[[#This Row],[CODIGO municipio]],[3]!Tabla8[#All],3,FALSE),\"\")","v":""},{"$f":"IFERROR(VLOOKUP(Tabla38[[#This Row],[CODIGO municipio]],[3]!Tabla8[#All],4,FALSE),\"\")","v":""},{"$f":"IFERROR(VLOOKUP(Tabla38[[#This Row],[CODIGO municipio]],[3]!Tabla8[#All],5,FALSE),\"\")","v":""},{"$f":"IFERROR(VLOOKUP(Tabla38[[#This Row],[CODIGO municipio]],[3]!Tabla8[#All],6,FALSE),\"\")","v":""},{"$f":"IFERROR(VLOOKUP(Tabla38[[#This Row],[CODIGO municipio]],[3]!Tabla8[#All],7,FALSE),\"\")","v":""},{"$f":"IFERROR(VLOOKUP(Tabla38[[#This Row],[CODIGO municipio]],[3]!Tabla8[#All],8,FALSE),\"\")","v":""},{"$f":"IFERROR(VLOOKUP(Tabla38[[#This Row],[CODIGO municipio]],[3]!Tabla8[#All],9,FALSE),\"\")","v":""},{"$f":"IFERROR(VLOOKUP(Tabla38[[#This Row],[CODIGO municipio]],[3]!Tabla8[#All],10,FALSE),\"\")","v":""},{"$f":"IFERROR(VLOOKUP(Tabla38[[#This Row],[CODIGO municipio]],[3]!Tabla8[#All],11,FALSE),\"\")","v":""},{"$f":"IFERROR(VLOOKUP(Tabla38[[#This Row],[CODIGO municipio]],[3]!Tabla8[#All],12,FALSE),\"\")","v":""},{"$f":"IFERROR(VLOOKUP(Tabla38[[#This Row],[CODIGO municipio]],[3]!Tabla8[#All],13,FALSE),\"\")","v":""},{"$f":"IFERROR(VLOOKUP(Tabla38[[#This Row],[CODIGO municipio]],[3]!Tabla8[#All],14,FALSE),\"\")","v":""},{"$f":"IFERROR(VLOOKUP(Tabla38[[#This Row],[CODIGO municipio]],[3]!Tabla8[#All],15,FALSE),\"\")","v":""},{"$f":"IFERROR(VLOOKUP(Tabla38[[#This Row],[CODIGO municipio]],[3]!Tabla8[#All],16,FALSE),\"\")","v":""},{"$f":"IFERROR(VLOOKUP(Tabla38[[#This Row],[CODIGO municipio]],[3]!Tabla8[#All],17,FALSE),\"\")","v":""},{"$f":"IFERROR(VLOOKUP(Tabla38[[#This Row],[CODIGO municipio]],[3]!Tabla8[#All],18,FALSE),\"\")","v":""},{"$f":"IFERROR(VLOOKUP(Tabla38[[#This Row],[CODIGO municipio]],[3]!Tabla8[#All],19,FALSE),\"\")","v":""},{"$f":"IFERROR(VLOOKUP(Tabla38[[#This Row],[CODIGO municipio]],[3]!Tabla8[#All],20,FALSE),\"\")","v":""},{"$f":"IFERROR(VLOOKUP(Tabla38[[#This Row],[CODIGO municipio]],[3]!Tabla8[#All],21,FALSE),\"\")","v":""},{"$f":"IFERROR(VLOOKUP(Tabla38[[#This Row],[CODIGO municipio]],[3]!Tabla8[#All],22,FALSE),\"\")","v":""},{"$f":"IFERROR(VLOOKUP(Tabla38[[#This Row],[CODIGO municipio]],[3]!Tabla8[#All],23,FALSE),\"\")","v":""},{"$f":"IFERROR(VLOOKUP(Tabla38[[#This Row],[CODIGO municipio]],[3]!Tabla9[#All],3,FALSE),\"\")","v":""}]
[{"$f":"IFERROR(VLOOKUP(Tabla38[[#This Row],[Municipio]],[3]!Tabla2[#All],3,FALSE),\"\")","v":""},1407,"Patzité",{"$f":"IFERROR(VLOOKUP(Tabla38[[#This Row],[CODIGO municipio]],[3]!Tabla6[[#All],[codigo_mun]],1,FALSE),\"\")","v":""},{"$f":"IFERROR(VLOOKUP(Tabla38[[#This Row],[CODIGO municipio]],[3]!Tabla12[#All],2,FALSE),\"\")","v":""},{"$f":"IFERROR(VLOOKUP(Tabla38[[#This Row],[CODIGO municipio]],[3]!Tabla7[#All],3,FALSE),\"\")","v":""},{"$f":"IFERROR(VLOOKUP(Tabla38[[#This Row],[CODIGO municipio]],[3]!Tabla7[#All],4,FALSE),\"\")","v":""},{"$f":"IFERROR(VLOOKUP(Tabla38[[#This Row],[CODIGO municipio]],[3]!Tabla7[#All],11,FALSE),\"\")","v":""},{"$f":"IFERROR(VLOOKUP(Tabla38[[#This Row],[CODIGO municipio]],[3]!Tabla7[#All],12,FALSE),\"\")","v":""},{"$f":"IFERROR(VLOOKUP(Tabla38[[#This Row],[CODIGO municipio]],[3]!Tabla7[#All],13,FALSE),\"\")","v":""},{"$f":"IFERROR(VLOOKUP(Tabla38[[#This Row],[CODIGO municipio]],[3]!Tabla7[#All],14,FALSE),\"\")","v":""},{"$f":"IFERROR(VLOOKUP(Tabla38[[#This Row],[CODIGO municipio]],[3]!Tabla7[#All],15,FALSE),\"\")","v":""},{"$f":"IFERROR(VLOOKUP(Tabla38[[#This Row],[CODIGO municipio]],[3]!Tabla7[#All],16,FALSE),\"\")","v":""},{"$f":"IFERROR(VLOOKUP(Tabla38[[#This Row],[CODIGO municipio]],[3]!Tabla7[#All],17,FALSE),\"\")","v":""},{"$f":"IFERROR(VLOOKUP(Tabla38[[#This Row],[CODIGO municipio]],[3]!Tabla7[#All],18,FALSE),\"\")","v":""},{"$f":"IFERROR(VLOOKUP(Tabla38[[#This Row],[CODIGO municipio]],[3]!Tabla7[#All],19,FALSE),\"\")","v":""},{"$f":"IFERROR(VLOOKUP(Tabla38[[#This Row],[CODIGO municipio]],[3]!Tabla8[#All],3,FALSE),\"\")","v":""},{"$f":"IFERROR(VLOOKUP(Tabla38[[#This Row],[CODIGO municipio]],[3]!Tabla8[#All],4,FALSE),\"\")","v":""},{"$f":"IFERROR(VLOOKUP(Tabla38[[#This Row],[CODIGO municipio]],[3]!Tabla8[#All],5,FALSE),\"\")","v":""},{"$f":"IFERROR(VLOOKUP(Tabla38[[#This Row],[CODIGO municipio]],[3]!Tabla8[#All],6,FALSE),\"\")","v":""},{"$f":"IFERROR(VLOOKUP(Tabla38[[#This Row],[CODIGO municipio]],[3]!Tabla8[#All],7,FALSE),\"\")","v":""},{"$f":"IFERROR(VLOOKUP(Tabla38[[#This Row],[CODIGO municipio]],[3]!Tabla8[#All],8,FALSE),\"\")","v":""},{"$f":"IFERROR(VLOOKUP(Tabla38[[#This Row],[CODIGO municipio]],[3]!Tabla8[#All],9,FALSE),\"\")","v":""},{"$f":"IFERROR(VLOOKUP(Tabla38[[#This Row],[CODIGO municipio]],[3]!Tabla8[#All],10,FALSE),\"\")","v":""},{"$f":"IFERROR(VLOOKUP(Tabla38[[#This Row],[CODIGO municipio]],[3]!Tabla8[#All],11,FALSE),\"\")","v":""},{"$f":"IFERROR(VLOOKUP(Tabla38[[#This Row],[CODIGO municipio]],[3]!Tabla8[#All],12,FALSE),\"\")","v":""},{"$f":"IFERROR(VLOOKUP(Tabla38[[#This Row],[CODIGO municipio]],[3]!Tabla8[#All],13,FALSE),\"\")","v":""},{"$f":"IFERROR(VLOOKUP(Tabla38[[#This Row],[CODIGO municipio]],[3]!Tabla8[#All],14,FALSE),\"\")","v":""},{"$f":"IFERROR(VLOOKUP(Tabla38[[#This Row],[CODIGO municipio]],[3]!Tabla8[#All],15,FALSE),\"\")","v":""},{"$f":"IFERROR(VLOOKUP(Tabla38[[#This Row],[CODIGO municipio]],[3]!Tabla8[#All],16,FALSE),\"\")","v":""},{"$f":"IFERROR(VLOOKUP(Tabla38[[#This Row],[CODIGO municipio]],[3]!Tabla8[#All],17,FALSE),\"\")","v":""},{"$f":"IFERROR(VLOOKUP(Tabla38[[#This Row],[CODIGO municipio]],[3]!Tabla8[#All],18,FALSE),\"\")","v":""},{"$f":"IFERROR(VLOOKUP(Tabla38[[#This Row],[CODIGO municipio]],[3]!Tabla8[#All],19,FALSE),\"\")","v":""},{"$f":"IFERROR(VLOOKUP(Tabla38[[#This Row],[CODIGO municipio]],[3]!Tabla8[#All],20,FALSE),\"\")","v":""},{"$f":"IFERROR(VLOOKUP(Tabla38[[#This Row],[CODIGO municipio]],[3]!Tabla8[#All],21,FALSE),\"\")","v":""},{"$f":"IFERROR(VLOOKUP(Tabla38[[#This Row],[CODIGO municipio]],[3]!Tabla8[#All],22,FALSE),\"\")","v":""},{"$f":"IFERROR(VLOOKUP(Tabla38[[#This Row],[CODIGO municipio]],[3]!Tabla8[#All],23,FALSE),\"\")","v":""},{"$f":"IFERROR(VLOOKUP(Tabla38[[#This Row],[CODIGO municipio]],[3]!Tabla9[#All],3,FALSE),\"\")","v":""}]
[{"$f":"IFERROR(VLOOKUP(Tabla38[[#This Row],[Municipio]],[3]!Tabla2[#All],3,FALSE),\"\")","v":""},1408,"San Antonio Ilotenango",{"$f":"IFERROR(VLOOKUP(Tabla38[[#This Row],[CODIGO municipio]],[3]!Tabla6[[#All],[codigo_mun]],1,FALSE),\"\")","v":""},{"$f":"IFERROR(VLOOKUP(Tabla38[[#This Row],[CODIGO municipio]],[3]!Tabla12[#All],2,FALSE),\"\")","v":""},{"$f":"IFERROR(VLOOKUP(Tabla38[[#This Row],[CODIGO municipio]],[3]!Tabla7[#All],3,FALSE),\"\")","v":""},{"$f":"IFERROR(VLOOKUP(Tabla38[[#This Row],[CODIGO municipio]],[3]!Tabla7[#All],4,FALSE),\"\")","v":""},{"$f":"IFERROR(VLOOKUP(Tabla38[[#This Row],[CODIGO municipio]],[3]!Tabla7[#All],11,FALSE),\"\")","v":""},{"$f":"IFERROR(VLOOKUP(Tabla38[[#This Row],[CODIGO municipio]],[3]!Tabla7[#All],12,FALSE),\"\")","v":""},{"$f":"IFERROR(VLOOKUP(Tabla38[[#This Row],[CODIGO municipio]],[3]!Tabla7[#All],13,FALSE),\"\")","v":""},{"$f":"IFERROR(VLOOKUP(Tabla38[[#This Row],[CODIGO municipio]],[3]!Tabla7[#All],14,FALSE),\"\")","v":""},{"$f":"IFERROR(VLOOKUP(Tabla38[[#This Row],[CODIGO municipio]],[3]!Tabla7[#All],15,FALSE),\"\")","v":""},{"$f":"IFERROR(VLOOKUP(Tabla38[[#This Row],[CODIGO municipio]],[3]!Tabla7[#All],16,FALSE),\"\")","v":""},{"$f":"IFERROR(VLOOKUP(Tabla38[[#This Row],[CODIGO municipio]],[3]!Tabla7[#All],17,FALSE),\"\")","v":""},{"$f":"IFERROR(VLOOKUP(Tabla38[[#This Row],[CODIGO municipio]],[3]!Tabla7[#All],18,FALSE),\"\")","v":""},{"$f":"IFERROR(VLOOKUP(Tabla38[[#This Row],[CODIGO municipio]],[3]!Tabla7[#All],19,FALSE),\"\")","v":""},{"$f":"IFERROR(VLOOKUP(Tabla38[[#This Row],[CODIGO municipio]],[3]!Tabla8[#All],3,FALSE),\"\")","v":""},{"$f":"IFERROR(VLOOKUP(Tabla38[[#This Row],[CODIGO municipio]],[3]!Tabla8[#All],4,FALSE),\"\")","v":""},{"$f":"IFERROR(VLOOKUP(Tabla38[[#This Row],[CODIGO municipio]],[3]!Tabla8[#All],5,FALSE),\"\")","v":""},{"$f":"IFERROR(VLOOKUP(Tabla38[[#This Row],[CODIGO municipio]],[3]!Tabla8[#All],6,FALSE),\"\")","v":""},{"$f":"IFERROR(VLOOKUP(Tabla38[[#This Row],[CODIGO municipio]],[3]!Tabla8[#All],7,FALSE),\"\")","v":""},{"$f":"IFERROR(VLOOKUP(Tabla38[[#This Row],[CODIGO municipio]],[3]!Tabla8[#All],8,FALSE),\"\")","v":""},{"$f":"IFERROR(VLOOKUP(Tabla38[[#This Row],[CODIGO municipio]],[3]!Tabla8[#All],9,FALSE),\"\")","v":""},{"$f":"IFERROR(VLOOKUP(Tabla38[[#This Row],[CODIGO municipio]],[3]!Tabla8[#All],10,FALSE),\"\")","v":""},{"$f":"IFERROR(VLOOKUP(Tabla38[[#This Row],[CODIGO municipio]],[3]!Tabla8[#All],11,FALSE),\"\")","v":""},{"$f":"IFERROR(VLOOKUP(Tabla38[[#This Row],[CODIGO municipio]],[3]!Tabla8[#All],12,FALSE),\"\")","v":""},{"$f":"IFERROR(VLOOKUP(Tabla38[[#This Row],[CODIGO municipio]],[3]!Tabla8[#All],13,FALSE),\"\")","v":""},{"$f":"IFERROR(VLOOKUP(Tabla38[[#This Row],[CODIGO municipio]],[3]!Tabla8[#All],14,FALSE),\"\")","v":""},{"$f":"IFERROR(VLOOKUP(Tabla38[[#This Row],[CODIGO municipio]],[3]!Tabla8[#All],15,FALSE),\"\")","v":""},{"$f":"IFERROR(VLOOKUP(Tabla38[[#This Row],[CODIGO municipio]],[3]!Tabla8[#All],16,FALSE),\"\")","v":""},{"$f":"IFERROR(VLOOKUP(Tabla38[[#This Row],[CODIGO municipio]],[3]!Tabla8[#All],17,FALSE),\"\")","v":""},{"$f":"IFERROR(VLOOKUP(Tabla38[[#This Row],[CODIGO municipio]],[3]!Tabla8[#All],18,FALSE),\"\")","v":""},{"$f":"IFERROR(VLOOKUP(Tabla38[[#This Row],[CODIGO municipio]],[3]!Tabla8[#All],19,FALSE),\"\")","v":""},{"$f":"IFERROR(VLOOKUP(Tabla38[[#This Row],[CODIGO municipio]],[3]!Tabla8[#All],20,FALSE),\"\")","v":""},{"$f":"IFERROR(VLOOKUP(Tabla38[[#This Row],[CODIGO municipio]],[3]!Tabla8[#All],21,FALSE),\"\")","v":""},{"$f":"IFERROR(VLOOKUP(Tabla38[[#This Row],[CODIGO municipio]],[3]!Tabla8[#All],22,FALSE),\"\")","v":""},{"$f":"IFERROR(VLOOKUP(Tabla38[[#This Row],[CODIGO municipio]],[3]!Tabla8[#All],23,FALSE),\"\")","v":""},{"$f":"IFERROR(VLOOKUP(Tabla38[[#This Row],[CODIGO municipio]],[3]!Tabla9[#All],3,FALSE),\"\")","v":""}]
[{"$f":"IFERROR(VLOOKUP(Tabla38[[#This Row],[Municipio]],[3]!Tabla2[#All],3,FALSE),\"\")","v":""},1409,"San Pedro Jocopilas",{"$f":"IFERROR(VLOOKUP(Tabla38[[#This Row],[CODIGO municipio]],[3]!Tabla6[[#All],[codigo_mun]],1,FALSE),\"\")","v":""},{"$f":"IFERROR(VLOOKUP(Tabla38[[#This Row],[CODIGO municipio]],[3]!Tabla12[#All],2,FALSE),\"\")","v":""},{"$f":"IFERROR(VLOOKUP(Tabla38[[#This Row],[CODIGO municipio]],[3]!Tabla7[#All],3,FALSE),\"\")","v":""},{"$f":"IFERROR(VLOOKUP(Tabla38[[#This Row],[CODIGO municipio]],[3]!Tabla7[#All],4,FALSE),\"\")","v":""},{"$f":"IFERROR(VLOOKUP(Tabla38[[#This Row],[CODIGO municipio]],[3]!Tabla7[#All],11,FALSE),\"\")","v":""},{"$f":"IFERROR(VLOOKUP(Tabla38[[#This Row],[CODIGO municipio]],[3]!Tabla7[#All],12,FALSE),\"\")","v":""},{"$f":"IFERROR(VLOOKUP(Tabla38[[#This Row],[CODIGO municipio]],[3]!Tabla7[#All],13,FALSE),\"\")","v":""},{"$f":"IFERROR(VLOOKUP(Tabla38[[#This Row],[CODIGO municipio]],[3]!Tabla7[#All],14,FALSE),\"\")","v":""},{"$f":"IFERROR(VLOOKUP(Tabla38[[#This Row],[CODIGO municipio]],[3]!Tabla7[#All],15,FALSE),\"\")","v":""},{"$f":"IFERROR(VLOOKUP(Tabla38[[#This Row],[CODIGO municipio]],[3]!Tabla7[#All],16,FALSE),\"\")","v":""},{"$f":"IFERROR(VLOOKUP(Tabla38[[#This Row],[CODIGO municipio]],[3]!Tabla7[#All],17,FALSE),\"\")","v":""},{"$f":"IFERROR(VLOOKUP(Tabla38[[#This Row],[CODIGO municipio]],[3]!Tabla7[#All],18,FALSE),\"\")","v":""},{"$f":"IFERROR(VLOOKUP(Tabla38[[#This Row],[CODIGO municipio]],[3]!Tabla7[#All],19,FALSE),\"\")","v":""},{"$f":"IFERROR(VLOOKUP(Tabla38[[#This Row],[CODIGO municipio]],[3]!Tabla8[#All],3,FALSE),\"\")","v":""},{"$f":"IFERROR(VLOOKUP(Tabla38[[#This Row],[CODIGO municipio]],[3]!Tabla8[#All],4,FALSE),\"\")","v":""},{"$f":"IFERROR(VLOOKUP(Tabla38[[#This Row],[CODIGO municipio]],[3]!Tabla8[#All],5,FALSE),\"\")","v":""},{"$f":"IFERROR(VLOOKUP(Tabla38[[#This Row],[CODIGO municipio]],[3]!Tabla8[#All],6,FALSE),\"\")","v":""},{"$f":"IFERROR(VLOOKUP(Tabla38[[#This Row],[CODIGO municipio]],[3]!Tabla8[#All],7,FALSE),\"\")","v":""},{"$f":"IFERROR(VLOOKUP(Tabla38[[#This Row],[CODIGO municipio]],[3]!Tabla8[#All],8,FALSE),\"\")","v":""},{"$f":"IFERROR(VLOOKUP(Tabla38[[#This Row],[CODIGO municipio]],[3]!Tabla8[#All],9,FALSE),\"\")","v":""},{"$f":"IFERROR(VLOOKUP(Tabla38[[#This Row],[CODIGO municipio]],[3]!Tabla8[#All],10,FALSE),\"\")","v":""},{"$f":"IFERROR(VLOOKUP(Tabla38[[#This Row],[CODIGO municipio]],[3]!Tabla8[#All],11,FALSE),\"\")","v":""},{"$f":"IFERROR(VLOOKUP(Tabla38[[#This Row],[CODIGO municipio]],[3]!Tabla8[#All],12,FALSE),\"\")","v":""},{"$f":"IFERROR(VLOOKUP(Tabla38[[#This Row],[CODIGO municipio]],[3]!Tabla8[#All],13,FALSE),\"\")","v":""},{"$f":"IFERROR(VLOOKUP(Tabla38[[#This Row],[CODIGO municipio]],[3]!Tabla8[#All],14,FALSE),\"\")","v":""},{"$f":"IFERROR(VLOOKUP(Tabla38[[#This Row],[CODIGO municipio]],[3]!Tabla8[#All],15,FALSE),\"\")","v":""},{"$f":"IFERROR(VLOOKUP(Tabla38[[#This Row],[CODIGO municipio]],[3]!Tabla8[#All],16,FALSE),\"\")","v":""},{"$f":"IFERROR(VLOOKUP(Tabla38[[#This Row],[CODIGO municipio]],[3]!Tabla8[#All],17,FALSE),\"\")","v":""},{"$f":"IFERROR(VLOOKUP(Tabla38[[#This Row],[CODIGO municipio]],[3]!Tabla8[#All],18,FALSE),\"\")","v":""},{"$f":"IFERROR(VLOOKUP(Tabla38[[#This Row],[CODIGO municipio]],[3]!Tabla8[#All],19,FALSE),\"\")","v":""},{"$f":"IFERROR(VLOOKUP(Tabla38[[#This Row],[CODIGO municipio]],[3]!Tabla8[#All],20,FALSE),\"\")","v":""},{"$f":"IFERROR(VLOOKUP(Tabla38[[#This Row],[CODIGO municipio]],[3]!Tabla8[#All],21,FALSE),\"\")","v":""},{"$f":"IFERROR(VLOOKUP(Tabla38[[#This Row],[CODIGO municipio]],[3]!Tabla8[#All],22,FALSE),\"\")","v":""},{"$f":"IFERROR(VLOOKUP(Tabla38[[#This Row],[CODIGO municipio]],[3]!Tabla8[#All],23,FALSE),\"\")","v":""},{"$f":"IFERROR(VLOOKUP(Tabla38[[#This Row],[CODIGO municipio]],[3]!Tabla9[#All],3,FALSE),\"\")","v":""}]
[{"$f":"IFERROR(VLOOKUP(Tabla38[[#This Row],[Municipio]],[3]!Tabla2[#All],3,FALSE),\"\")","v":""},1410,"Cunén",{"$f":"IFERROR(VLOOKUP(Tabla38[[#This Row],[CODIGO municipio]],[3]!Tabla6[[#All],[codigo_mun]],1,FALSE),\"\")","v":""},{"$f":"IFERROR(VLOOKUP(Tabla38[[#This Row],[CODIGO municipio]],[3]!Tabla12[#All],2,FALSE),\"\")","v":""},{"$f":"IFERROR(VLOOKUP(Tabla38[[#This Row],[CODIGO municipio]],[3]!Tabla7[#All],3,FALSE),\"\")","v":""},{"$f":"IFERROR(VLOOKUP(Tabla38[[#This Row],[CODIGO municipio]],[3]!Tabla7[#All],4,FALSE),\"\")","v":""},{"$f":"IFERROR(VLOOKUP(Tabla38[[#This Row],[CODIGO municipio]],[3]!Tabla7[#All],11,FALSE),\"\")","v":""},{"$f":"IFERROR(VLOOKUP(Tabla38[[#This Row],[CODIGO municipio]],[3]!Tabla7[#All],12,FALSE),\"\")","v":""},{"$f":"IFERROR(VLOOKUP(Tabla38[[#This Row],[CODIGO municipio]],[3]!Tabla7[#All],13,FALSE),\"\")","v":""},{"$f":"IFERROR(VLOOKUP(Tabla38[[#This Row],[CODIGO municipio]],[3]!Tabla7[#All],14,FALSE),\"\")","v":""},{"$f":"IFERROR(VLOOKUP(Tabla38[[#This Row],[CODIGO municipio]],[3]!Tabla7[#All],15,FALSE),\"\")","v":""},{"$f":"IFERROR(VLOOKUP(Tabla38[[#This Row],[CODIGO municipio]],[3]!Tabla7[#All],16,FALSE),\"\")","v":""},{"$f":"IFERROR(VLOOKUP(Tabla38[[#This Row],[CODIGO municipio]],[3]!Tabla7[#All],17,FALSE),\"\")","v":""},{"$f":"IFERROR(VLOOKUP(Tabla38[[#This Row],[CODIGO municipio]],[3]!Tabla7[#All],18,FALSE),\"\")","v":""},{"$f":"IFERROR(VLOOKUP(Tabla38[[#This Row],[CODIGO municipio]],[3]!Tabla7[#All],19,FALSE),\"\")","v":""},{"$f":"IFERROR(VLOOKUP(Tabla38[[#This Row],[CODIGO municipio]],[3]!Tabla8[#All],3,FALSE),\"\")","v":""},{"$f":"IFERROR(VLOOKUP(Tabla38[[#This Row],[CODIGO municipio]],[3]!Tabla8[#All],4,FALSE),\"\")","v":""},{"$f":"IFERROR(VLOOKUP(Tabla38[[#This Row],[CODIGO municipio]],[3]!Tabla8[#All],5,FALSE),\"\")","v":""},{"$f":"IFERROR(VLOOKUP(Tabla38[[#This Row],[CODIGO municipio]],[3]!Tabla8[#All],6,FALSE),\"\")","v":""},{"$f":"IFERROR(VLOOKUP(Tabla38[[#This Row],[CODIGO municipio]],[3]!Tabla8[#All],7,FALSE),\"\")","v":""},{"$f":"IFERROR(VLOOKUP(Tabla38[[#This Row],[CODIGO municipio]],[3]!Tabla8[#All],8,FALSE),\"\")","v":""},{"$f":"IFERROR(VLOOKUP(Tabla38[[#This Row],[CODIGO municipio]],[3]!Tabla8[#All],9,FALSE),\"\")","v":""},{"$f":"IFERROR(VLOOKUP(Tabla38[[#This Row],[CODIGO municipio]],[3]!Tabla8[#All],10,FALSE),\"\")","v":""},{"$f":"IFERROR(VLOOKUP(Tabla38[[#This Row],[CODIGO municipio]],[3]!Tabla8[#All],11,FALSE),\"\")","v":""},{"$f":"IFERROR(VLOOKUP(Tabla38[[#This Row],[CODIGO municipio]],[3]!Tabla8[#All],12,FALSE),\"\")","v":""},{"$f":"IFERROR(VLOOKUP(Tabla38[[#This Row],[CODIGO municipio]],[3]!Tabla8[#All],13,FALSE),\"\")","v":""},{"$f":"IFERROR(VLOOKUP(Tabla38[[#This Row],[CODIGO municipio]],[3]!Tabla8[#All],14,FALSE),\"\")","v":""},{"$f":"IFERROR(VLOOKUP(Tabla38[[#This Row],[CODIGO municipio]],[3]!Tabla8[#All],15,FALSE),\"\")","v":""},{"$f":"IFERROR(VLOOKUP(Tabla38[[#This Row],[CODIGO municipio]],[3]!Tabla8[#All],16,FALSE),\"\")","v":""},{"$f":"IFERROR(VLOOKUP(Tabla38[[#This Row],[CODIGO municipio]],[3]!Tabla8[#All],17,FALSE),\"\")","v":""},{"$f":"IFERROR(VLOOKUP(Tabla38[[#This Row],[CODIGO municipio]],[3]!Tabla8[#All],18,FALSE),\"\")","v":""},{"$f":"IFERROR(VLOOKUP(Tabla38[[#This Row],[CODIGO municipio]],[3]!Tabla8[#All],19,FALSE),\"\")","v":""},{"$f":"IFERROR(VLOOKUP(Tabla38[[#This Row],[CODIGO municipio]],[3]!Tabla8[#All],20,FALSE),\"\")","v":""},{"$f":"IFERROR(VLOOKUP(Tabla38[[#This Row],[CODIGO municipio]],[3]!Tabla8[#All],21,FALSE),\"\")","v":""},{"$f":"IFERROR(VLOOKUP(Tabla38[[#This Row],[CODIGO municipio]],[3]!Tabla8[#All],22,FALSE),\"\")","v":""},{"$f":"IFERROR(VLOOKUP(Tabla38[[#This Row],[CODIGO municipio]],[3]!Tabla8[#All],23,FALSE),\"\")","v":""},{"$f":"IFERROR(VLOOKUP(Tabla38[[#This Row],[CODIGO municipio]],[3]!Tabla9[#All],3,FALSE),\"\")","v":""}]
[{"$f":"IFERROR(VLOOKUP(Tabla38[[#This Row],[Municipio]],[3]!Tabla2[#All],3,FALSE),\"\")","v":""},1411,"San Juan Cotzal",{"$f":"IFERROR(VLOOKUP(Tabla38[[#This Row],[CODIGO municipio]],[3]!Tabla6[[#All],[codigo_mun]],1,FALSE),\"\")","v":""},{"$f":"IFERROR(VLOOKUP(Tabla38[[#This Row],[CODIGO municipio]],[3]!Tabla12[#All],2,FALSE),\"\")","v":""},{"$f":"IFERROR(VLOOKUP(Tabla38[[#This Row],[CODIGO municipio]],[3]!Tabla7[#All],3,FALSE),\"\")","v":""},{"$f":"IFERROR(VLOOKUP(Tabla38[[#This Row],[CODIGO municipio]],[3]!Tabla7[#All],4,FALSE),\"\")","v":""},{"$f":"IFERROR(VLOOKUP(Tabla38[[#This Row],[CODIGO municipio]],[3]!Tabla7[#All],11,FALSE),\"\")","v":""},{"$f":"IFERROR(VLOOKUP(Tabla38[[#This Row],[CODIGO municipio]],[3]!Tabla7[#All],12,FALSE),\"\")","v":""},{"$f":"IFERROR(VLOOKUP(Tabla38[[#This Row],[CODIGO municipio]],[3]!Tabla7[#All],13,FALSE),\"\")","v":""},{"$f":"IFERROR(VLOOKUP(Tabla38[[#This Row],[CODIGO municipio]],[3]!Tabla7[#All],14,FALSE),\"\")","v":""},{"$f":"IFERROR(VLOOKUP(Tabla38[[#This Row],[CODIGO municipio]],[3]!Tabla7[#All],15,FALSE),\"\")","v":""},{"$f":"IFERROR(VLOOKUP(Tabla38[[#This Row],[CODIGO municipio]],[3]!Tabla7[#All],16,FALSE),\"\")","v":""},{"$f":"IFERROR(VLOOKUP(Tabla38[[#This Row],[CODIGO municipio]],[3]!Tabla7[#All],17,FALSE),\"\")","v":""},{"$f":"IFERROR(VLOOKUP(Tabla38[[#This Row],[CODIGO municipio]],[3]!Tabla7[#All],18,FALSE),\"\")","v":""},{"$f":"IFERROR(VLOOKUP(Tabla38[[#This Row],[CODIGO municipio]],[3]!Tabla7[#All],19,FALSE),\"\")","v":""},{"$f":"IFERROR(VLOOKUP(Tabla38[[#This Row],[CODIGO municipio]],[3]!Tabla8[#All],3,FALSE),\"\")","v":""},{"$f":"IFERROR(VLOOKUP(Tabla38[[#This Row],[CODIGO municipio]],[3]!Tabla8[#All],4,FALSE),\"\")","v":""},{"$f":"IFERROR(VLOOKUP(Tabla38[[#This Row],[CODIGO municipio]],[3]!Tabla8[#All],5,FALSE),\"\")","v":""},{"$f":"IFERROR(VLOOKUP(Tabla38[[#This Row],[CODIGO municipio]],[3]!Tabla8[#All],6,FALSE),\"\")","v":""},{"$f":"IFERROR(VLOOKUP(Tabla38[[#This Row],[CODIGO municipio]],[3]!Tabla8[#All],7,FALSE),\"\")","v":""},{"$f":"IFERROR(VLOOKUP(Tabla38[[#This Row],[CODIGO municipio]],[3]!Tabla8[#All],8,FALSE),\"\")","v":""},{"$f":"IFERROR(VLOOKUP(Tabla38[[#This Row],[CODIGO municipio]],[3]!Tabla8[#All],9,FALSE),\"\")","v":""},{"$f":"IFERROR(VLOOKUP(Tabla38[[#This Row],[CODIGO municipio]],[3]!Tabla8[#All],10,FALSE),\"\")","v":""},{"$f":"IFERROR(VLOOKUP(Tabla38[[#This Row],[CODIGO municipio]],[3]!Tabla8[#All],11,FALSE),\"\")","v":""},{"$f":"IFERROR(VLOOKUP(Tabla38[[#This Row],[CODIGO municipio]],[3]!Tabla8[#All],12,FALSE),\"\")","v":""},{"$f":"IFERROR(VLOOKUP(Tabla38[[#This Row],[CODIGO municipio]],[3]!Tabla8[#All],13,FALSE),\"\")","v":""},{"$f":"IFERROR(VLOOKUP(Tabla38[[#This Row],[CODIGO municipio]],[3]!Tabla8[#All],14,FALSE),\"\")","v":""},{"$f":"IFERROR(VLOOKUP(Tabla38[[#This Row],[CODIGO municipio]],[3]!Tabla8[#All],15,FALSE),\"\")","v":""},{"$f":"IFERROR(VLOOKUP(Tabla38[[#This Row],[CODIGO municipio]],[3]!Tabla8[#All],16,FALSE),\"\")","v":""},{"$f":"IFERROR(VLOOKUP(Tabla38[[#This Row],[CODIGO municipio]],[3]!Tabla8[#All],17,FALSE),\"\")","v":""},{"$f":"IFERROR(VLOOKUP(Tabla38[[#This Row],[CODIGO municipio]],[3]!Tabla8[#All],18,FALSE),\"\")","v":""},{"$f":"IFERROR(VLOOKUP(Tabla38[[#This Row],[CODIGO municipio]],[3]!Tabla8[#All],19,FALSE),\"\")","v":""},{"$f":"IFERROR(VLOOKUP(Tabla38[[#This Row],[CODIGO municipio]],[3]!Tabla8[#All],20,FALSE),\"\")","v":""},{"$f":"IFERROR(VLOOKUP(Tabla38[[#This Row],[CODIGO municipio]],[3]!Tabla8[#All],21,FALSE),\"\")","v":""},{"$f":"IFERROR(VLOOKUP(Tabla38[[#This Row],[CODIGO municipio]],[3]!Tabla8[#All],22,FALSE),\"\")","v":""},{"$f":"IFERROR(VLOOKUP(Tabla38[[#This Row],[CODIGO municipio]],[3]!Tabla8[#All],23,FALSE),\"\")","v":""},{"$f":"IFERROR(VLOOKUP(Tabla38[[#This Row],[CODIGO municipio]],[3]!Tabla9[#All],3,FALSE),\"\")","v":""}]
[{"$f":"IFERROR(VLOOKUP(Tabla38[[#This Row],[Municipio]],[3]!Tabla2[#All],3,FALSE),\"\")","v":""},1412,"Joyabaj",{"$f":"IFERROR(VLOOKUP(Tabla38[[#This Row],[CODIGO municipio]],[3]!Tabla6[[#All],[codigo_mun]],1,FALSE),\"\")","v":""},{"$f":"IFERROR(VLOOKUP(Tabla38[[#This Row],[CODIGO municipio]],[3]!Tabla12[#All],2,FALSE),\"\")","v":""},{"$f":"IFERROR(VLOOKUP(Tabla38[[#This Row],[CODIGO municipio]],[3]!Tabla7[#All],3,FALSE),\"\")","v":""},{"$f":"IFERROR(VLOOKUP(Tabla38[[#This Row],[CODIGO municipio]],[3]!Tabla7[#All],4,FALSE),\"\")","v":""},{"$f":"IFERROR(VLOOKUP(Tabla38[[#This Row],[CODIGO municipio]],[3]!Tabla7[#All],11,FALSE),\"\")","v":""},{"$f":"IFERROR(VLOOKUP(Tabla38[[#This Row],[CODIGO municipio]],[3]!Tabla7[#All],12,FALSE),\"\")","v":""},{"$f":"IFERROR(VLOOKUP(Tabla38[[#This Row],[CODIGO municipio]],[3]!Tabla7[#All],13,FALSE),\"\")","v":""},{"$f":"IFERROR(VLOOKUP(Tabla38[[#This Row],[CODIGO municipio]],[3]!Tabla7[#All],14,FALSE),\"\")","v":""},{"$f":"IFERROR(VLOOKUP(Tabla38[[#This Row],[CODIGO municipio]],[3]!Tabla7[#All],15,FALSE),\"\")","v":""},{"$f":"IFERROR(VLOOKUP(Tabla38[[#This Row],[CODIGO municipio]],[3]!Tabla7[#All],16,FALSE),\"\")","v":""},{"$f":"IFERROR(VLOOKUP(Tabla38[[#This Row],[CODIGO municipio]],[3]!Tabla7[#All],17,FALSE),\"\")","v":""},{"$f":"IFERROR(VLOOKUP(Tabla38[[#This Row],[CODIGO municipio]],[3]!Tabla7[#All],18,FALSE),\"\")","v":""},{"$f":"IFERROR(VLOOKUP(Tabla38[[#This Row],[CODIGO municipio]],[3]!Tabla7[#All],19,FALSE),\"\")","v":""},{"$f":"IFERROR(VLOOKUP(Tabla38[[#This Row],[CODIGO municipio]],[3]!Tabla8[#All],3,FALSE),\"\")","v":""},{"$f":"IFERROR(VLOOKUP(Tabla38[[#This Row],[CODIGO municipio]],[3]!Tabla8[#All],4,FALSE),\"\")","v":""},{"$f":"IFERROR(VLOOKUP(Tabla38[[#This Row],[CODIGO municipio]],[3]!Tabla8[#All],5,FALSE),\"\")","v":""},{"$f":"IFERROR(VLOOKUP(Tabla38[[#This Row],[CODIGO municipio]],[3]!Tabla8[#All],6,FALSE),\"\")","v":""},{"$f":"IFERROR(VLOOKUP(Tabla38[[#This Row],[CODIGO municipio]],[3]!Tabla8[#All],7,FALSE),\"\")","v":""},{"$f":"IFERROR(VLOOKUP(Tabla38[[#This Row],[CODIGO municipio]],[3]!Tabla8[#All],8,FALSE),\"\")","v":""},{"$f":"IFERROR(VLOOKUP(Tabla38[[#This Row],[CODIGO municipio]],[3]!Tabla8[#All],9,FALSE),\"\")","v":""},{"$f":"IFERROR(VLOOKUP(Tabla38[[#This Row],[CODIGO municipio]],[3]!Tabla8[#All],10,FALSE),\"\")","v":""},{"$f":"IFERROR(VLOOKUP(Tabla38[[#This Row],[CODIGO municipio]],[3]!Tabla8[#All],11,FALSE),\"\")","v":""},{"$f":"IFERROR(VLOOKUP(Tabla38[[#This Row],[CODIGO municipio]],[3]!Tabla8[#All],12,FALSE),\"\")","v":""},{"$f":"IFERROR(VLOOKUP(Tabla38[[#This Row],[CODIGO municipio]],[3]!Tabla8[#All],13,FALSE),\"\")","v":""},{"$f":"IFERROR(VLOOKUP(Tabla38[[#This Row],[CODIGO municipio]],[3]!Tabla8[#All],14,FALSE),\"\")","v":""},{"$f":"IFERROR(VLOOKUP(Tabla38[[#This Row],[CODIGO municipio]],[3]!Tabla8[#All],15,FALSE),\"\")","v":""},{"$f":"IFERROR(VLOOKUP(Tabla38[[#This Row],[CODIGO municipio]],[3]!Tabla8[#All],16,FALSE),\"\")","v":""},{"$f":"IFERROR(VLOOKUP(Tabla38[[#This Row],[CODIGO municipio]],[3]!Tabla8[#All],17,FALSE),\"\")","v":""},{"$f":"IFERROR(VLOOKUP(Tabla38[[#This Row],[CODIGO municipio]],[3]!Tabla8[#All],18,FALSE),\"\")","v":""},{"$f":"IFERROR(VLOOKUP(Tabla38[[#This Row],[CODIGO municipio]],[3]!Tabla8[#All],19,FALSE),\"\")","v":""},{"$f":"IFERROR(VLOOKUP(Tabla38[[#This Row],[CODIGO municipio]],[3]!Tabla8[#All],20,FALSE),\"\")","v":""},{"$f":"IFERROR(VLOOKUP(Tabla38[[#This Row],[CODIGO municipio]],[3]!Tabla8[#All],21,FALSE),\"\")","v":""},{"$f":"IFERROR(VLOOKUP(Tabla38[[#This Row],[CODIGO municipio]],[3]!Tabla8[#All],22,FALSE),\"\")","v":""},{"$f":"IFERROR(VLOOKUP(Tabla38[[#This Row],[CODIGO municipio]],[3]!Tabla8[#All],23,FALSE),\"\")","v":""},{"$f":"IFERROR(VLOOKUP(Tabla38[[#This Row],[CODIGO municipio]],[3]!Tabla9[#All],3,FALSE),\"\")","v":""}]
[{"$f":"IFERROR(VLOOKUP(Tabla38[[#This Row],[Municipio]],[3]!Tabla2[#All],3,FALSE),\"\")","v":""},1413,"Santa María Nebaj",{"$f":"IFERROR(VLOOKUP(Tabla38[[#This Row],[CODIGO municipio]],[3]!Tabla6[[#All],[codigo_mun]],1,FALSE),\"\")","v":""},{"$f":"IFERROR(VLOOKUP(Tabla38[[#This Row],[CODIGO municipio]],[3]!Tabla12[#All],2,FALSE),\"\")","v":""},{"$f":"IFERROR(VLOOKUP(Tabla38[[#This Row],[CODIGO municipio]],[3]!Tabla7[#All],3,FALSE),\"\")","v":""},{"$f":"IFERROR(VLOOKUP(Tabla38[[#This Row],[CODIGO municipio]],[3]!Tabla7[#All],4,FALSE),\"\")","v":""},{"$f":"IFERROR(VLOOKUP(Tabla38[[#This Row],[CODIGO municipio]],[3]!Tabla7[#All],11,FALSE),\"\")","v":""},{"$f":"IFERROR(VLOOKUP(Tabla38[[#This Row],[CODIGO municipio]],[3]!Tabla7[#All],12,FALSE),\"\")","v":""},{"$f":"IFERROR(VLOOKUP(Tabla38[[#This Row],[CODIGO municipio]],[3]!Tabla7[#All],13,FALSE),\"\")","v":""},{"$f":"IFERROR(VLOOKUP(Tabla38[[#This Row],[CODIGO municipio]],[3]!Tabla7[#All],14,FALSE),\"\")","v":""},{"$f":"IFERROR(VLOOKUP(Tabla38[[#This Row],[CODIGO municipio]],[3]!Tabla7[#All],15,FALSE),\"\")","v":""},{"$f":"IFERROR(VLOOKUP(Tabla38[[#This Row],[CODIGO municipio]],[3]!Tabla7[#All],16,FALSE),\"\")","v":""},{"$f":"IFERROR(VLOOKUP(Tabla38[[#This Row],[CODIGO municipio]],[3]!Tabla7[#All],17,FALSE),\"\")","v":""},{"$f":"IFERROR(VLOOKUP(Tabla38[[#This Row],[CODIGO municipio]],[3]!Tabla7[#All],18,FALSE),\"\")","v":""},{"$f":"IFERROR(VLOOKUP(Tabla38[[#This Row],[CODIGO municipio]],[3]!Tabla7[#All],19,FALSE),\"\")","v":""},{"$f":"IFERROR(VLOOKUP(Tabla38[[#This Row],[CODIGO municipio]],[3]!Tabla8[#All],3,FALSE),\"\")","v":""},{"$f":"IFERROR(VLOOKUP(Tabla38[[#This Row],[CODIGO municipio]],[3]!Tabla8[#All],4,FALSE),\"\")","v":""},{"$f":"IFERROR(VLOOKUP(Tabla38[[#This Row],[CODIGO municipio]],[3]!Tabla8[#All],5,FALSE),\"\")","v":""},{"$f":"IFERROR(VLOOKUP(Tabla38[[#This Row],[CODIGO municipio]],[3]!Tabla8[#All],6,FALSE),\"\")","v":""},{"$f":"IFERROR(VLOOKUP(Tabla38[[#This Row],[CODIGO municipio]],[3]!Tabla8[#All],7,FALSE),\"\")","v":""},{"$f":"IFERROR(VLOOKUP(Tabla38[[#This Row],[CODIGO municipio]],[3]!Tabla8[#All],8,FALSE),\"\")","v":""},{"$f":"IFERROR(VLOOKUP(Tabla38[[#This Row],[CODIGO municipio]],[3]!Tabla8[#All],9,FALSE),\"\")","v":""},{"$f":"IFERROR(VLOOKUP(Tabla38[[#This Row],[CODIGO municipio]],[3]!Tabla8[#All],10,FALSE),\"\")","v":""},{"$f":"IFERROR(VLOOKUP(Tabla38[[#This Row],[CODIGO municipio]],[3]!Tabla8[#All],11,FALSE),\"\")","v":""},{"$f":"IFERROR(VLOOKUP(Tabla38[[#This Row],[CODIGO municipio]],[3]!Tabla8[#All],12,FALSE),\"\")","v":""},{"$f":"IFERROR(VLOOKUP(Tabla38[[#This Row],[CODIGO municipio]],[3]!Tabla8[#All],13,FALSE),\"\")","v":""},{"$f":"IFERROR(VLOOKUP(Tabla38[[#This Row],[CODIGO municipio]],[3]!Tabla8[#All],14,FALSE),\"\")","v":""},{"$f":"IFERROR(VLOOKUP(Tabla38[[#This Row],[CODIGO municipio]],[3]!Tabla8[#All],15,FALSE),\"\")","v":""},{"$f":"IFERROR(VLOOKUP(Tabla38[[#This Row],[CODIGO municipio]],[3]!Tabla8[#All],16,FALSE),\"\")","v":""},{"$f":"IFERROR(VLOOKUP(Tabla38[[#This Row],[CODIGO municipio]],[3]!Tabla8[#All],17,FALSE),\"\")","v":""},{"$f":"IFERROR(VLOOKUP(Tabla38[[#This Row],[CODIGO municipio]],[3]!Tabla8[#All],18,FALSE),\"\")","v":""},{"$f":"IFERROR(VLOOKUP(Tabla38[[#This Row],[CODIGO municipio]],[3]!Tabla8[#All],19,FALSE),\"\")","v":""},{"$f":"IFERROR(VLOOKUP(Tabla38[[#This Row],[CODIGO municipio]],[3]!Tabla8[#All],20,FALSE),\"\")","v":""},{"$f":"IFERROR(VLOOKUP(Tabla38[[#This Row],[CODIGO municipio]],[3]!Tabla8[#All],21,FALSE),\"\")","v":""},{"$f":"IFERROR(VLOOKUP(Tabla38[[#This Row],[CODIGO municipio]],[3]!Tabla8[#All],22,FALSE),\"\")","v":""},{"$f":"IFERROR(VLOOKUP(Tabla38[[#This Row],[CODIGO municipio]],[3]!Tabla8[#All],23,FALSE),\"\")","v":""},{"$f":"IFERROR(VLOOKUP(Tabla38[[#This Row],[CODIGO municipio]],[3]!Tabla9[#All],3,FALSE),\"\")","v":""}]
[{"$f":"IFERROR(VLOOKUP(Tabla38[[#This Row],[Municipio]],[3]!Tabla2[#All],3,FALSE),\"\")","v":""},1414,"San Andrés Sajcabajá",{"$f":"IFERROR(VLOOKUP(Tabla38[[#This Row],[CODIGO municipio]],[3]!Tabla6[[#All],[codigo_mun]],1,FALSE),\"\")","v":""},{"$f":"IFERROR(VLOOKUP(Tabla38[[#This Row],[CODIGO municipio]],[3]!Tabla12[#All],2,FALSE),\"\")","v":""},{"$f":"IFERROR(VLOOKUP(Tabla38[[#This Row],[CODIGO municipio]],[3]!Tabla7[#All],3,FALSE),\"\")","v":""},{"$f":"IFERROR(VLOOKUP(Tabla38[[#This Row],[CODIGO municipio]],[3]!Tabla7[#All],4,FALSE),\"\")","v":""},{"$f":"IFERROR(VLOOKUP(Tabla38[[#This Row],[CODIGO municipio]],[3]!Tabla7[#All],11,FALSE),\"\")","v":""},{"$f":"IFERROR(VLOOKUP(Tabla38[[#This Row],[CODIGO municipio]],[3]!Tabla7[#All],12,FALSE),\"\")","v":""},{"$f":"IFERROR(VLOOKUP(Tabla38[[#This Row],[CODIGO municipio]],[3]!Tabla7[#All],13,FALSE),\"\")","v":""},{"$f":"IFERROR(VLOOKUP(Tabla38[[#This Row],[CODIGO municipio]],[3]!Tabla7[#All],14,FALSE),\"\")","v":""},{"$f":"IFERROR(VLOOKUP(Tabla38[[#This Row],[CODIGO municipio]],[3]!Tabla7[#All],15,FALSE),\"\")","v":""},{"$f":"IFERROR(VLOOKUP(Tabla38[[#This Row],[CODIGO municipio]],[3]!Tabla7[#All],16,FALSE),\"\")","v":""},{"$f":"IFERROR(VLOOKUP(Tabla38[[#This Row],[CODIGO municipio]],[3]!Tabla7[#All],17,FALSE),\"\")","v":""},{"$f":"IFERROR(VLOOKUP(Tabla38[[#This Row],[CODIGO municipio]],[3]!Tabla7[#All],18,FALSE),\"\")","v":""},{"$f":"IFERROR(VLOOKUP(Tabla38[[#This Row],[CODIGO municipio]],[3]!Tabla7[#All],19,FALSE),\"\")","v":""},{"$f":"IFERROR(VLOOKUP(Tabla38[[#This Row],[CODIGO municipio]],[3]!Tabla8[#All],3,FALSE),\"\")","v":""},{"$f":"IFERROR(VLOOKUP(Tabla38[[#This Row],[CODIGO municipio]],[3]!Tabla8[#All],4,FALSE),\"\")","v":""},{"$f":"IFERROR(VLOOKUP(Tabla38[[#This Row],[CODIGO municipio]],[3]!Tabla8[#All],5,FALSE),\"\")","v":""},{"$f":"IFERROR(VLOOKUP(Tabla38[[#This Row],[CODIGO municipio]],[3]!Tabla8[#All],6,FALSE),\"\")","v":""},{"$f":"IFERROR(VLOOKUP(Tabla38[[#This Row],[CODIGO municipio]],[3]!Tabla8[#All],7,FALSE),\"\")","v":""},{"$f":"IFERROR(VLOOKUP(Tabla38[[#This Row],[CODIGO municipio]],[3]!Tabla8[#All],8,FALSE),\"\")","v":""},{"$f":"IFERROR(VLOOKUP(Tabla38[[#This Row],[CODIGO municipio]],[3]!Tabla8[#All],9,FALSE),\"\")","v":""},{"$f":"IFERROR(VLOOKUP(Tabla38[[#This Row],[CODIGO municipio]],[3]!Tabla8[#All],10,FALSE),\"\")","v":""},{"$f":"IFERROR(VLOOKUP(Tabla38[[#This Row],[CODIGO municipio]],[3]!Tabla8[#All],11,FALSE),\"\")","v":""},{"$f":"IFERROR(VLOOKUP(Tabla38[[#This Row],[CODIGO municipio]],[3]!Tabla8[#All],12,FALSE),\"\")","v":""},{"$f":"IFERROR(VLOOKUP(Tabla38[[#This Row],[CODIGO municipio]],[3]!Tabla8[#All],13,FALSE),\"\")","v":""},{"$f":"IFERROR(VLOOKUP(Tabla38[[#This Row],[CODIGO municipio]],[3]!Tabla8[#All],14,FALSE),\"\")","v":""},{"$f":"IFERROR(VLOOKUP(Tabla38[[#This Row],[CODIGO municipio]],[3]!Tabla8[#All],15,FALSE),\"\")","v":""},{"$f":"IFERROR(VLOOKUP(Tabla38[[#This Row],[CODIGO municipio]],[3]!Tabla8[#All],16,FALSE),\"\")","v":""},{"$f":"IFERROR(VLOOKUP(Tabla38[[#This Row],[CODIGO municipio]],[3]!Tabla8[#All],17,FALSE),\"\")","v":""},{"$f":"IFERROR(VLOOKUP(Tabla38[[#This Row],[CODIGO municipio]],[3]!Tabla8[#All],18,FALSE),\"\")","v":""},{"$f":"IFERROR(VLOOKUP(Tabla38[[#This Row],[CODIGO municipio]],[3]!Tabla8[#All],19,FALSE),\"\")","v":""},{"$f":"IFERROR(VLOOKUP(Tabla38[[#This Row],[CODIGO municipio]],[3]!Tabla8[#All],20,FALSE),\"\")","v":""},{"$f":"IFERROR(VLOOKUP(Tabla38[[#This Row],[CODIGO municipio]],[3]!Tabla8[#All],21,FALSE),\"\")","v":""},{"$f":"IFERROR(VLOOKUP(Tabla38[[#This Row],[CODIGO municipio]],[3]!Tabla8[#All],22,FALSE),\"\")","v":""},{"$f":"IFERROR(VLOOKUP(Tabla38[[#This Row],[CODIGO municipio]],[3]!Tabla8[#All],23,FALSE),\"\")","v":""},{"$f":"IFERROR(VLOOKUP(Tabla38[[#This Row],[CODIGO municipio]],[3]!Tabla9[#All],3,FALSE),\"\")","v":""}]
[{"$f":"IFERROR(VLOOKUP(Tabla38[[#This Row],[Municipio]],[3]!Tabla2[#All],3,FALSE),\"\")","v":""},1415,"San Miguel Uspantán",{"$f":"IFERROR(VLOOKUP(Tabla38[[#This Row],[CODIGO municipio]],[3]!Tabla6[[#All],[codigo_mun]],1,FALSE),\"\")","v":""},{"$f":"IFERROR(VLOOKUP(Tabla38[[#This Row],[CODIGO municipio]],[3]!Tabla12[#All],2,FALSE),\"\")","v":""},{"$f":"IFERROR(VLOOKUP(Tabla38[[#This Row],[CODIGO municipio]],[3]!Tabla7[#All],3,FALSE),\"\")","v":""},{"$f":"IFERROR(VLOOKUP(Tabla38[[#This Row],[CODIGO municipio]],[3]!Tabla7[#All],4,FALSE),\"\")","v":""},{"$f":"IFERROR(VLOOKUP(Tabla38[[#This Row],[CODIGO municipio]],[3]!Tabla7[#All],11,FALSE),\"\")","v":""},{"$f":"IFERROR(VLOOKUP(Tabla38[[#This Row],[CODIGO municipio]],[3]!Tabla7[#All],12,FALSE),\"\")","v":""},{"$f":"IFERROR(VLOOKUP(Tabla38[[#This Row],[CODIGO municipio]],[3]!Tabla7[#All],13,FALSE),\"\")","v":""},{"$f":"IFERROR(VLOOKUP(Tabla38[[#This Row],[CODIGO municipio]],[3]!Tabla7[#All],14,FALSE),\"\")","v":""},{"$f":"IFERROR(VLOOKUP(Tabla38[[#This Row],[CODIGO municipio]],[3]!Tabla7[#All],15,FALSE),\"\")","v":""},{"$f":"IFERROR(VLOOKUP(Tabla38[[#This Row],[CODIGO municipio]],[3]!Tabla7[#All],16,FALSE),\"\")","v":""},{"$f":"IFERROR(VLOOKUP(Tabla38[[#This Row],[CODIGO municipio]],[3]!Tabla7[#All],17,FALSE),\"\")","v":""},{"$f":"IFERROR(VLOOKUP(Tabla38[[#This Row],[CODIGO municipio]],[3]!Tabla7[#All],18,FALSE),\"\")","v":""},{"$f":"IFERROR(VLOOKUP(Tabla38[[#This Row],[CODIGO municipio]],[3]!Tabla7[#All],19,FALSE),\"\")","v":""},{"$f":"IFERROR(VLOOKUP(Tabla38[[#This Row],[CODIGO municipio]],[3]!Tabla8[#All],3,FALSE),\"\")","v":""},{"$f":"IFERROR(VLOOKUP(Tabla38[[#This Row],[CODIGO municipio]],[3]!Tabla8[#All],4,FALSE),\"\")","v":""},{"$f":"IFERROR(VLOOKUP(Tabla38[[#This Row],[CODIGO municipio]],[3]!Tabla8[#All],5,FALSE),\"\")","v":""},{"$f":"IFERROR(VLOOKUP(Tabla38[[#This Row],[CODIGO municipio]],[3]!Tabla8[#All],6,FALSE),\"\")","v":""},{"$f":"IFERROR(VLOOKUP(Tabla38[[#This Row],[CODIGO municipio]],[3]!Tabla8[#All],7,FALSE),\"\")","v":""},{"$f":"IFERROR(VLOOKUP(Tabla38[[#This Row],[CODIGO municipio]],[3]!Tabla8[#All],8,FALSE),\"\")","v":""},{"$f":"IFERROR(VLOOKUP(Tabla38[[#This Row],[CODIGO municipio]],[3]!Tabla8[#All],9,FALSE),\"\")","v":""},{"$f":"IFERROR(VLOOKUP(Tabla38[[#This Row],[CODIGO municipio]],[3]!Tabla8[#All],10,FALSE),\"\")","v":""},{"$f":"IFERROR(VLOOKUP(Tabla38[[#This Row],[CODIGO municipio]],[3]!Tabla8[#All],11,FALSE),\"\")","v":""},{"$f":"IFERROR(VLOOKUP(Tabla38[[#This Row],[CODIGO municipio]],[3]!Tabla8[#All],12,FALSE),\"\")","v":""},{"$f":"IFERROR(VLOOKUP(Tabla38[[#This Row],[CODIGO municipio]],[3]!Tabla8[#All],13,FALSE),\"\")","v":""},{"$f":"IFERROR(VLOOKUP(Tabla38[[#This Row],[CODIGO municipio]],[3]!Tabla8[#All],14,FALSE),\"\")","v":""},{"$f":"IFERROR(VLOOKUP(Tabla38[[#This Row],[CODIGO municipio]],[3]!Tabla8[#All],15,FALSE),\"\")","v":""},{"$f":"IFERROR(VLOOKUP(Tabla38[[#This Row],[CODIGO municipio]],[3]!Tabla8[#All],16,FALSE),\"\")","v":""},{"$f":"IFERROR(VLOOKUP(Tabla38[[#This Row],[CODIGO municipio]],[3]!Tabla8[#All],17,FALSE),\"\")","v":""},{"$f":"IFERROR(VLOOKUP(Tabla38[[#This Row],[CODIGO municipio]],[3]!Tabla8[#All],18,FALSE),\"\")","v":""},{"$f":"IFERROR(VLOOKUP(Tabla38[[#This Row],[CODIGO municipio]],[3]!Tabla8[#All],19,FALSE),\"\")","v":""},{"$f":"IFERROR(VLOOKUP(Tabla38[[#This Row],[CODIGO municipio]],[3]!Tabla8[#All],20,FALSE),\"\")","v":""},{"$f":"IFERROR(VLOOKUP(Tabla38[[#This Row],[CODIGO municipio]],[3]!Tabla8[#All],21,FALSE),\"\")","v":""},{"$f":"IFERROR(VLOOKUP(Tabla38[[#This Row],[CODIGO municipio]],[3]!Tabla8[#All],22,FALSE),\"\")","v":""},{"$f":"IFERROR(VLOOKUP(Tabla38[[#This Row],[CODIGO municipio]],[3]!Tabla8[#All],23,FALSE),\"\")","v":""},{"$f":"IFERROR(VLOOKUP(Tabla38[[#This Row],[CODIGO municipio]],[3]!Tabla9[#All],3,FALSE),\"\")","v":""}]
[{"$f":"IFERROR(VLOOKUP(Tabla38[[#This Row],[Municipio]],[3]!Tabla2[#All],3,FALSE),\"\")","v":""},1416,"Sacapulas",{"$f":"IFERROR(VLOOKUP(Tabla38[[#This Row],[CODIGO municipio]],[3]!Tabla6[[#All],[codigo_mun]],1,FALSE),\"\")","v":""},{"$f":"IFERROR(VLOOKUP(Tabla38[[#This Row],[CODIGO municipio]],[3]!Tabla12[#All],2,FALSE),\"\")","v":""},{"$f":"IFERROR(VLOOKUP(Tabla38[[#This Row],[CODIGO municipio]],[3]!Tabla7[#All],3,FALSE),\"\")","v":""},{"$f":"IFERROR(VLOOKUP(Tabla38[[#This Row],[CODIGO municipio]],[3]!Tabla7[#All],4,FALSE),\"\")","v":""},{"$f":"IFERROR(VLOOKUP(Tabla38[[#This Row],[CODIGO municipio]],[3]!Tabla7[#All],11,FALSE),\"\")","v":""},{"$f":"IFERROR(VLOOKUP(Tabla38[[#This Row],[CODIGO municipio]],[3]!Tabla7[#All],12,FALSE),\"\")","v":""},{"$f":"IFERROR(VLOOKUP(Tabla38[[#This Row],[CODIGO municipio]],[3]!Tabla7[#All],13,FALSE),\"\")","v":""},{"$f":"IFERROR(VLOOKUP(Tabla38[[#This Row],[CODIGO municipio]],[3]!Tabla7[#All],14,FALSE),\"\")","v":""},{"$f":"IFERROR(VLOOKUP(Tabla38[[#This Row],[CODIGO municipio]],[3]!Tabla7[#All],15,FALSE),\"\")","v":""},{"$f":"IFERROR(VLOOKUP(Tabla38[[#This Row],[CODIGO municipio]],[3]!Tabla7[#All],16,FALSE),\"\")","v":""},{"$f":"IFERROR(VLOOKUP(Tabla38[[#This Row],[CODIGO municipio]],[3]!Tabla7[#All],17,FALSE),\"\")","v":""},{"$f":"IFERROR(VLOOKUP(Tabla38[[#This Row],[CODIGO municipio]],[3]!Tabla7[#All],18,FALSE),\"\")","v":""},{"$f":"IFERROR(VLOOKUP(Tabla38[[#This Row],[CODIGO municipio]],[3]!Tabla7[#All],19,FALSE),\"\")","v":""},{"$f":"IFERROR(VLOOKUP(Tabla38[[#This Row],[CODIGO municipio]],[3]!Tabla8[#All],3,FALSE),\"\")","v":""},{"$f":"IFERROR(VLOOKUP(Tabla38[[#This Row],[CODIGO municipio]],[3]!Tabla8[#All],4,FALSE),\"\")","v":""},{"$f":"IFERROR(VLOOKUP(Tabla38[[#This Row],[CODIGO municipio]],[3]!Tabla8[#All],5,FALSE),\"\")","v":""},{"$f":"IFERROR(VLOOKUP(Tabla38[[#This Row],[CODIGO municipio]],[3]!Tabla8[#All],6,FALSE),\"\")","v":""},{"$f":"IFERROR(VLOOKUP(Tabla38[[#This Row],[CODIGO municipio]],[3]!Tabla8[#All],7,FALSE),\"\")","v":""},{"$f":"IFERROR(VLOOKUP(Tabla38[[#This Row],[CODIGO municipio]],[3]!Tabla8[#All],8,FALSE),\"\")","v":""},{"$f":"IFERROR(VLOOKUP(Tabla38[[#This Row],[CODIGO municipio]],[3]!Tabla8[#All],9,FALSE),\"\")","v":""},{"$f":"IFERROR(VLOOKUP(Tabla38[[#This Row],[CODIGO municipio]],[3]!Tabla8[#All],10,FALSE),\"\")","v":""},{"$f":"IFERROR(VLOOKUP(Tabla38[[#This Row],[CODIGO municipio]],[3]!Tabla8[#All],11,FALSE),\"\")","v":""},{"$f":"IFERROR(VLOOKUP(Tabla38[[#This Row],[CODIGO municipio]],[3]!Tabla8[#All],12,FALSE),\"\")","v":""},{"$f":"IFERROR(VLOOKUP(Tabla38[[#This Row],[CODIGO municipio]],[3]!Tabla8[#All],13,FALSE),\"\")","v":""},{"$f":"IFERROR(VLOOKUP(Tabla38[[#This Row],[CODIGO municipio]],[3]!Tabla8[#All],14,FALSE),\"\")","v":""},{"$f":"IFERROR(VLOOKUP(Tabla38[[#This Row],[CODIGO municipio]],[3]!Tabla8[#All],15,FALSE),\"\")","v":""},{"$f":"IFERROR(VLOOKUP(Tabla38[[#This Row],[CODIGO municipio]],[3]!Tabla8[#All],16,FALSE),\"\")","v":""},{"$f":"IFERROR(VLOOKUP(Tabla38[[#This Row],[CODIGO municipio]],[3]!Tabla8[#All],17,FALSE),\"\")","v":""},{"$f":"IFERROR(VLOOKUP(Tabla38[[#This Row],[CODIGO municipio]],[3]!Tabla8[#All],18,FALSE),\"\")","v":""},{"$f":"IFERROR(VLOOKUP(Tabla38[[#This Row],[CODIGO municipio]],[3]!Tabla8[#All],19,FALSE),\"\")","v":""},{"$f":"IFERROR(VLOOKUP(Tabla38[[#This Row],[CODIGO municipio]],[3]!Tabla8[#All],20,FALSE),\"\")","v":""},{"$f":"IFERROR(VLOOKUP(Tabla38[[#This Row],[CODIGO municipio]],[3]!Tabla8[#All],21,FALSE),\"\")","v":""},{"$f":"IFERROR(VLOOKUP(Tabla38[[#This Row],[CODIGO municipio]],[3]!Tabla8[#All],22,FALSE),\"\")","v":""},{"$f":"IFERROR(VLOOKUP(Tabla38[[#This Row],[CODIGO municipio]],[3]!Tabla8[#All],23,FALSE),\"\")","v":""},{"$f":"IFERROR(VLOOKUP(Tabla38[[#This Row],[CODIGO municipio]],[3]!Tabla9[#All],3,FALSE),\"\")","v":""}]
[{"$f":"IFERROR(VLOOKUP(Tabla38[[#This Row],[Municipio]],[3]!Tabla2[#All],3,FALSE),\"\")","v":""},1417,"San Bartolomé Jocotenango",{"$f":"IFERROR(VLOOKUP(Tabla38[[#This Row],[CODIGO municipio]],[3]!Tabla6[[#All],[codigo_mun]],1,FALSE),\"\")","v":""},{"$f":"IFERROR(VLOOKUP(Tabla38[[#This Row],[CODIGO municipio]],[3]!Tabla12[#All],2,FALSE),\"\")","v":""},{"$f":"IFERROR(VLOOKUP(Tabla38[[#This Row],[CODIGO municipio]],[3]!Tabla7[#All],3,FALSE),\"\")","v":""},{"$f":"IFERROR(VLOOKUP(Tabla38[[#This Row],[CODIGO municipio]],[3]!Tabla7[#All],4,FALSE),\"\")","v":""},{"$f":"IFERROR(VLOOKUP(Tabla38[[#This Row],[CODIGO municipio]],[3]!Tabla7[#All],11,FALSE),\"\")","v":""},{"$f":"IFERROR(VLOOKUP(Tabla38[[#This Row],[CODIGO municipio]],[3]!Tabla7[#All],12,FALSE),\"\")","v":""},{"$f":"IFERROR(VLOOKUP(Tabla38[[#This Row],[CODIGO municipio]],[3]!Tabla7[#All],13,FALSE),\"\")","v":""},{"$f":"IFERROR(VLOOKUP(Tabla38[[#This Row],[CODIGO municipio]],[3]!Tabla7[#All],14,FALSE),\"\")","v":""},{"$f":"IFERROR(VLOOKUP(Tabla38[[#This Row],[CODIGO municipio]],[3]!Tabla7[#All],15,FALSE),\"\")","v":""},{"$f":"IFERROR(VLOOKUP(Tabla38[[#This Row],[CODIGO municipio]],[3]!Tabla7[#All],16,FALSE),\"\")","v":""},{"$f":"IFERROR(VLOOKUP(Tabla38[[#This Row],[CODIGO municipio]],[3]!Tabla7[#All],17,FALSE),\"\")","v":""},{"$f":"IFERROR(VLOOKUP(Tabla38[[#This Row],[CODIGO municipio]],[3]!Tabla7[#All],18,FALSE),\"\")","v":""},{"$f":"IFERROR(VLOOKUP(Tabla38[[#This Row],[CODIGO municipio]],[3]!Tabla7[#All],19,FALSE),\"\")","v":""},{"$f":"IFERROR(VLOOKUP(Tabla38[[#This Row],[CODIGO municipio]],[3]!Tabla8[#All],3,FALSE),\"\")","v":""},{"$f":"IFERROR(VLOOKUP(Tabla38[[#This Row],[CODIGO municipio]],[3]!Tabla8[#All],4,FALSE),\"\")","v":""},{"$f":"IFERROR(VLOOKUP(Tabla38[[#This Row],[CODIGO municipio]],[3]!Tabla8[#All],5,FALSE),\"\")","v":""},{"$f":"IFERROR(VLOOKUP(Tabla38[[#This Row],[CODIGO municipio]],[3]!Tabla8[#All],6,FALSE),\"\")","v":""},{"$f":"IFERROR(VLOOKUP(Tabla38[[#This Row],[CODIGO municipio]],[3]!Tabla8[#All],7,FALSE),\"\")","v":""},{"$f":"IFERROR(VLOOKUP(Tabla38[[#This Row],[CODIGO municipio]],[3]!Tabla8[#All],8,FALSE),\"\")","v":""},{"$f":"IFERROR(VLOOKUP(Tabla38[[#This Row],[CODIGO municipio]],[3]!Tabla8[#All],9,FALSE),\"\")","v":""},{"$f":"IFERROR(VLOOKUP(Tabla38[[#This Row],[CODIGO municipio]],[3]!Tabla8[#All],10,FALSE),\"\")","v":""},{"$f":"IFERROR(VLOOKUP(Tabla38[[#This Row],[CODIGO municipio]],[3]!Tabla8[#All],11,FALSE),\"\")","v":""},{"$f":"IFERROR(VLOOKUP(Tabla38[[#This Row],[CODIGO municipio]],[3]!Tabla8[#All],12,FALSE),\"\")","v":""},{"$f":"IFERROR(VLOOKUP(Tabla38[[#This Row],[CODIGO municipio]],[3]!Tabla8[#All],13,FALSE),\"\")","v":""},{"$f":"IFERROR(VLOOKUP(Tabla38[[#This Row],[CODIGO municipio]],[3]!Tabla8[#All],14,FALSE),\"\")","v":""},{"$f":"IFERROR(VLOOKUP(Tabla38[[#This Row],[CODIGO municipio]],[3]!Tabla8[#All],15,FALSE),\"\")","v":""},{"$f":"IFERROR(VLOOKUP(Tabla38[[#This Row],[CODIGO municipio]],[3]!Tabla8[#All],16,FALSE),\"\")","v":""},{"$f":"IFERROR(VLOOKUP(Tabla38[[#This Row],[CODIGO municipio]],[3]!Tabla8[#All],17,FALSE),\"\")","v":""},{"$f":"IFERROR(VLOOKUP(Tabla38[[#This Row],[CODIGO municipio]],[3]!Tabla8[#All],18,FALSE),\"\")","v":""},{"$f":"IFERROR(VLOOKUP(Tabla38[[#This Row],[CODIGO municipio]],[3]!Tabla8[#All],19,FALSE),\"\")","v":""},{"$f":"IFERROR(VLOOKUP(Tabla38[[#This Row],[CODIGO municipio]],[3]!Tabla8[#All],20,FALSE),\"\")","v":""},{"$f":"IFERROR(VLOOKUP(Tabla38[[#This Row],[CODIGO municipio]],[3]!Tabla8[#All],21,FALSE),\"\")","v":""},{"$f":"IFERROR(VLOOKUP(Tabla38[[#This Row],[CODIGO municipio]],[3]!Tabla8[#All],22,FALSE),\"\")","v":""},{"$f":"IFERROR(VLOOKUP(Tabla38[[#This Row],[CODIGO municipio]],[3]!Tabla8[#All],23,FALSE),\"\")","v":""},{"$f":"IFERROR(VLOOKUP(Tabla38[[#This Row],[CODIGO municipio]],[3]!Tabla9[#All],3,FALSE),\"\")","v":""}]
[{"$f":"IFERROR(VLOOKUP(Tabla38[[#This Row],[Municipio]],[3]!Tabla2[#All],3,FALSE),\"\")","v":""},1418,"Canillá",{"$f":"IFERROR(VLOOKUP(Tabla38[[#This Row],[CODIGO municipio]],[3]!Tabla6[[#All],[codigo_mun]],1,FALSE),\"\")","v":""},{"$f":"IFERROR(VLOOKUP(Tabla38[[#This Row],[CODIGO municipio]],[3]!Tabla12[#All],2,FALSE),\"\")","v":""},{"$f":"IFERROR(VLOOKUP(Tabla38[[#This Row],[CODIGO municipio]],[3]!Tabla7[#All],3,FALSE),\"\")","v":""},{"$f":"IFERROR(VLOOKUP(Tabla38[[#This Row],[CODIGO municipio]],[3]!Tabla7[#All],4,FALSE),\"\")","v":""},{"$f":"IFERROR(VLOOKUP(Tabla38[[#This Row],[CODIGO municipio]],[3]!Tabla7[#All],11,FALSE),\"\")","v":""},{"$f":"IFERROR(VLOOKUP(Tabla38[[#This Row],[CODIGO municipio]],[3]!Tabla7[#All],12,FALSE),\"\")","v":""},{"$f":"IFERROR(VLOOKUP(Tabla38[[#This Row],[CODIGO municipio]],[3]!Tabla7[#All],13,FALSE),\"\")","v":""},{"$f":"IFERROR(VLOOKUP(Tabla38[[#This Row],[CODIGO municipio]],[3]!Tabla7[#All],14,FALSE),\"\")","v":""},{"$f":"IFERROR(VLOOKUP(Tabla38[[#This Row],[CODIGO municipio]],[3]!Tabla7[#All],15,FALSE),\"\")","v":""},{"$f":"IFERROR(VLOOKUP(Tabla38[[#This Row],[CODIGO municipio]],[3]!Tabla7[#All],16,FALSE),\"\")","v":""},{"$f":"IFERROR(VLOOKUP(Tabla38[[#This Row],[CODIGO municipio]],[3]!Tabla7[#All],17,FALSE),\"\")","v":""},{"$f":"IFERROR(VLOOKUP(Tabla38[[#This Row],[CODIGO municipio]],[3]!Tabla7[#All],18,FALSE),\"\")","v":""},{"$f":"IFERROR(VLOOKUP(Tabla38[[#This Row],[CODIGO municipio]],[3]!Tabla7[#All],19,FALSE),\"\")","v":""},{"$f":"IFERROR(VLOOKUP(Tabla38[[#This Row],[CODIGO municipio]],[3]!Tabla8[#All],3,FALSE),\"\")","v":""},{"$f":"IFERROR(VLOOKUP(Tabla38[[#This Row],[CODIGO municipio]],[3]!Tabla8[#All],4,FALSE),\"\")","v":""},{"$f":"IFERROR(VLOOKUP(Tabla38[[#This Row],[CODIGO municipio]],[3]!Tabla8[#All],5,FALSE),\"\")","v":""},{"$f":"IFERROR(VLOOKUP(Tabla38[[#This Row],[CODIGO municipio]],[3]!Tabla8[#All],6,FALSE),\"\")","v":""},{"$f":"IFERROR(VLOOKUP(Tabla38[[#This Row],[CODIGO municipio]],[3]!Tabla8[#All],7,FALSE),\"\")","v":""},{"$f":"IFERROR(VLOOKUP(Tabla38[[#This Row],[CODIGO municipio]],[3]!Tabla8[#All],8,FALSE),\"\")","v":""},{"$f":"IFERROR(VLOOKUP(Tabla38[[#This Row],[CODIGO municipio]],[3]!Tabla8[#All],9,FALSE),\"\")","v":""},{"$f":"IFERROR(VLOOKUP(Tabla38[[#This Row],[CODIGO municipio]],[3]!Tabla8[#All],10,FALSE),\"\")","v":""},{"$f":"IFERROR(VLOOKUP(Tabla38[[#This Row],[CODIGO municipio]],[3]!Tabla8[#All],11,FALSE),\"\")","v":""},{"$f":"IFERROR(VLOOKUP(Tabla38[[#This Row],[CODIGO municipio]],[3]!Tabla8[#All],12,FALSE),\"\")","v":""},{"$f":"IFERROR(VLOOKUP(Tabla38[[#This Row],[CODIGO municipio]],[3]!Tabla8[#All],13,FALSE),\"\")","v":""},{"$f":"IFERROR(VLOOKUP(Tabla38[[#This Row],[CODIGO municipio]],[3]!Tabla8[#All],14,FALSE),\"\")","v":""},{"$f":"IFERROR(VLOOKUP(Tabla38[[#This Row],[CODIGO municipio]],[3]!Tabla8[#All],15,FALSE),\"\")","v":""},{"$f":"IFERROR(VLOOKUP(Tabla38[[#This Row],[CODIGO municipio]],[3]!Tabla8[#All],16,FALSE),\"\")","v":""},{"$f":"IFERROR(VLOOKUP(Tabla38[[#This Row],[CODIGO municipio]],[3]!Tabla8[#All],17,FALSE),\"\")","v":""},{"$f":"IFERROR(VLOOKUP(Tabla38[[#This Row],[CODIGO municipio]],[3]!Tabla8[#All],18,FALSE),\"\")","v":""},{"$f":"IFERROR(VLOOKUP(Tabla38[[#This Row],[CODIGO municipio]],[3]!Tabla8[#All],19,FALSE),\"\")","v":""},{"$f":"IFERROR(VLOOKUP(Tabla38[[#This Row],[CODIGO municipio]],[3]!Tabla8[#All],20,FALSE),\"\")","v":""},{"$f":"IFERROR(VLOOKUP(Tabla38[[#This Row],[CODIGO municipio]],[3]!Tabla8[#All],21,FALSE),\"\")","v":""},{"$f":"IFERROR(VLOOKUP(Tabla38[[#This Row],[CODIGO municipio]],[3]!Tabla8[#All],22,FALSE),\"\")","v":""},{"$f":"IFERROR(VLOOKUP(Tabla38[[#This Row],[CODIGO municipio]],[3]!Tabla8[#All],23,FALSE),\"\")","v":""},{"$f":"IFERROR(VLOOKUP(Tabla38[[#This Row],[CODIGO municipio]],[3]!Tabla9[#All],3,FALSE),\"\")","v":""}]
[{"$f":"IFERROR(VLOOKUP(Tabla38[[#This Row],[Municipio]],[3]!Tabla2[#All],3,FALSE),\"\")","v":""},1419,"Chicamán",{"$f":"IFERROR(VLOOKUP(Tabla38[[#This Row],[CODIGO municipio]],[3]!Tabla6[[#All],[codigo_mun]],1,FALSE),\"\")","v":""},{"$f":"IFERROR(VLOOKUP(Tabla38[[#This Row],[CODIGO municipio]],[3]!Tabla12[#All],2,FALSE),\"\")","v":""},{"$f":"IFERROR(VLOOKUP(Tabla38[[#This Row],[CODIGO municipio]],[3]!Tabla7[#All],3,FALSE),\"\")","v":""},{"$f":"IFERROR(VLOOKUP(Tabla38[[#This Row],[CODIGO municipio]],[3]!Tabla7[#All],4,FALSE),\"\")","v":""},{"$f":"IFERROR(VLOOKUP(Tabla38[[#This Row],[CODIGO municipio]],[3]!Tabla7[#All],11,FALSE),\"\")","v":""},{"$f":"IFERROR(VLOOKUP(Tabla38[[#This Row],[CODIGO municipio]],[3]!Tabla7[#All],12,FALSE),\"\")","v":""},{"$f":"IFERROR(VLOOKUP(Tabla38[[#This Row],[CODIGO municipio]],[3]!Tabla7[#All],13,FALSE),\"\")","v":""},{"$f":"IFERROR(VLOOKUP(Tabla38[[#This Row],[CODIGO municipio]],[3]!Tabla7[#All],14,FALSE),\"\")","v":""},{"$f":"IFERROR(VLOOKUP(Tabla38[[#This Row],[CODIGO municipio]],[3]!Tabla7[#All],15,FALSE),\"\")","v":""},{"$f":"IFERROR(VLOOKUP(Tabla38[[#This Row],[CODIGO municipio]],[3]!Tabla7[#All],16,FALSE),\"\")","v":""},{"$f":"IFERROR(VLOOKUP(Tabla38[[#This Row],[CODIGO municipio]],[3]!Tabla7[#All],17,FALSE),\"\")","v":""},{"$f":"IFERROR(VLOOKUP(Tabla38[[#This Row],[CODIGO municipio]],[3]!Tabla7[#All],18,FALSE),\"\")","v":""},{"$f":"IFERROR(VLOOKUP(Tabla38[[#This Row],[CODIGO municipio]],[3]!Tabla7[#All],19,FALSE),\"\")","v":""},{"$f":"IFERROR(VLOOKUP(Tabla38[[#This Row],[CODIGO municipio]],[3]!Tabla8[#All],3,FALSE),\"\")","v":""},{"$f":"IFERROR(VLOOKUP(Tabla38[[#This Row],[CODIGO municipio]],[3]!Tabla8[#All],4,FALSE),\"\")","v":""},{"$f":"IFERROR(VLOOKUP(Tabla38[[#This Row],[CODIGO municipio]],[3]!Tabla8[#All],5,FALSE),\"\")","v":""},{"$f":"IFERROR(VLOOKUP(Tabla38[[#This Row],[CODIGO municipio]],[3]!Tabla8[#All],6,FALSE),\"\")","v":""},{"$f":"IFERROR(VLOOKUP(Tabla38[[#This Row],[CODIGO municipio]],[3]!Tabla8[#All],7,FALSE),\"\")","v":""},{"$f":"IFERROR(VLOOKUP(Tabla38[[#This Row],[CODIGO municipio]],[3]!Tabla8[#All],8,FALSE),\"\")","v":""},{"$f":"IFERROR(VLOOKUP(Tabla38[[#This Row],[CODIGO municipio]],[3]!Tabla8[#All],9,FALSE),\"\")","v":""},{"$f":"IFERROR(VLOOKUP(Tabla38[[#This Row],[CODIGO municipio]],[3]!Tabla8[#All],10,FALSE),\"\")","v":""},{"$f":"IFERROR(VLOOKUP(Tabla38[[#This Row],[CODIGO municipio]],[3]!Tabla8[#All],11,FALSE),\"\")","v":""},{"$f":"IFERROR(VLOOKUP(Tabla38[[#This Row],[CODIGO municipio]],[3]!Tabla8[#All],12,FALSE),\"\")","v":""},{"$f":"IFERROR(VLOOKUP(Tabla38[[#This Row],[CODIGO municipio]],[3]!Tabla8[#All],13,FALSE),\"\")","v":""},{"$f":"IFERROR(VLOOKUP(Tabla38[[#This Row],[CODIGO municipio]],[3]!Tabla8[#All],14,FALSE),\"\")","v":""},{"$f":"IFERROR(VLOOKUP(Tabla38[[#This Row],[CODIGO municipio]],[3]!Tabla8[#All],15,FALSE),\"\")","v":""},{"$f":"IFERROR(VLOOKUP(Tabla38[[#This Row],[CODIGO municipio]],[3]!Tabla8[#All],16,FALSE),\"\")","v":""},{"$f":"IFERROR(VLOOKUP(Tabla38[[#This Row],[CODIGO municipio]],[3]!Tabla8[#All],17,FALSE),\"\")","v":""},{"$f":"IFERROR(VLOOKUP(Tabla38[[#This Row],[CODIGO municipio]],[3]!Tabla8[#All],18,FALSE),\"\")","v":""},{"$f":"IFERROR(VLOOKUP(Tabla38[[#This Row],[CODIGO municipio]],[3]!Tabla8[#All],19,FALSE),\"\")","v":""},{"$f":"IFERROR(VLOOKUP(Tabla38[[#This Row],[CODIGO municipio]],[3]!Tabla8[#All],20,FALSE),\"\")","v":""},{"$f":"IFERROR(VLOOKUP(Tabla38[[#This Row],[CODIGO municipio]],[3]!Tabla8[#All],21,FALSE),\"\")","v":""},{"$f":"IFERROR(VLOOKUP(Tabla38[[#This Row],[CODIGO municipio]],[3]!Tabla8[#All],22,FALSE),\"\")","v":""},{"$f":"IFERROR(VLOOKUP(Tabla38[[#This Row],[CODIGO municipio]],[3]!Tabla8[#All],23,FALSE),\"\")","v":""},{"$f":"IFERROR(VLOOKUP(Tabla38[[#This Row],[CODIGO municipio]],[3]!Tabla9[#All],3,FALSE),\"\")","v":""}]
[{"$f":"IFERROR(VLOOKUP(Tabla38[[#This Row],[Municipio]],[3]!Tabla2[#All],3,FALSE),\"\")","v":""},1420,"Playa Grande Ixcán",{"$f":"IFERROR(VLOOKUP(Tabla38[[#This Row],[CODIGO municipio]],[3]!Tabla6[[#All],[codigo_mun]],1,FALSE),\"\")","v":""},{"$f":"IFERROR(VLOOKUP(Tabla38[[#This Row],[CODIGO municipio]],[3]!Tabla12[#All],2,FALSE),\"\")","v":""},{"$f":"IFERROR(VLOOKUP(Tabla38[[#This Row],[CODIGO municipio]],[3]!Tabla7[#All],3,FALSE),\"\")","v":""},{"$f":"IFERROR(VLOOKUP(Tabla38[[#This Row],[CODIGO municipio]],[3]!Tabla7[#All],4,FALSE),\"\")","v":""},{"$f":"IFERROR(VLOOKUP(Tabla38[[#This Row],[CODIGO municipio]],[3]!Tabla7[#All],11,FALSE),\"\")","v":""},{"$f":"IFERROR(VLOOKUP(Tabla38[[#This Row],[CODIGO municipio]],[3]!Tabla7[#All],12,FALSE),\"\")","v":""},{"$f":"IFERROR(VLOOKUP(Tabla38[[#This Row],[CODIGO municipio]],[3]!Tabla7[#All],13,FALSE),\"\")","v":""},{"$f":"IFERROR(VLOOKUP(Tabla38[[#This Row],[CODIGO municipio]],[3]!Tabla7[#All],14,FALSE),\"\")","v":""},{"$f":"IFERROR(VLOOKUP(Tabla38[[#This Row],[CODIGO municipio]],[3]!Tabla7[#All],15,FALSE),\"\")","v":""},{"$f":"IFERROR(VLOOKUP(Tabla38[[#This Row],[CODIGO municipio]],[3]!Tabla7[#All],16,FALSE),\"\")","v":""},{"$f":"IFERROR(VLOOKUP(Tabla38[[#This Row],[CODIGO municipio]],[3]!Tabla7[#All],17,FALSE),\"\")","v":""},{"$f":"IFERROR(VLOOKUP(Tabla38[[#This Row],[CODIGO municipio]],[3]!Tabla7[#All],18,FALSE),\"\")","v":""},{"$f":"IFERROR(VLOOKUP(Tabla38[[#This Row],[CODIGO municipio]],[3]!Tabla7[#All],19,FALSE),\"\")","v":""},{"$f":"IFERROR(VLOOKUP(Tabla38[[#This Row],[CODIGO municipio]],[3]!Tabla8[#All],3,FALSE),\"\")","v":""},{"$f":"IFERROR(VLOOKUP(Tabla38[[#This Row],[CODIGO municipio]],[3]!Tabla8[#All],4,FALSE),\"\")","v":""},{"$f":"IFERROR(VLOOKUP(Tabla38[[#This Row],[CODIGO municipio]],[3]!Tabla8[#All],5,FALSE),\"\")","v":""},{"$f":"IFERROR(VLOOKUP(Tabla38[[#This Row],[CODIGO municipio]],[3]!Tabla8[#All],6,FALSE),\"\")","v":""},{"$f":"IFERROR(VLOOKUP(Tabla38[[#This Row],[CODIGO municipio]],[3]!Tabla8[#All],7,FALSE),\"\")","v":""},{"$f":"IFERROR(VLOOKUP(Tabla38[[#This Row],[CODIGO municipio]],[3]!Tabla8[#All],8,FALSE),\"\")","v":""},{"$f":"IFERROR(VLOOKUP(Tabla38[[#This Row],[CODIGO municipio]],[3]!Tabla8[#All],9,FALSE),\"\")","v":""},{"$f":"IFERROR(VLOOKUP(Tabla38[[#This Row],[CODIGO municipio]],[3]!Tabla8[#All],10,FALSE),\"\")","v":""},{"$f":"IFERROR(VLOOKUP(Tabla38[[#This Row],[CODIGO municipio]],[3]!Tabla8[#All],11,FALSE),\"\")","v":""},{"$f":"IFERROR(VLOOKUP(Tabla38[[#This Row],[CODIGO municipio]],[3]!Tabla8[#All],12,FALSE),\"\")","v":""},{"$f":"IFERROR(VLOOKUP(Tabla38[[#This Row],[CODIGO municipio]],[3]!Tabla8[#All],13,FALSE),\"\")","v":""},{"$f":"IFERROR(VLOOKUP(Tabla38[[#This Row],[CODIGO municipio]],[3]!Tabla8[#All],14,FALSE),\"\")","v":""},{"$f":"IFERROR(VLOOKUP(Tabla38[[#This Row],[CODIGO municipio]],[3]!Tabla8[#All],15,FALSE),\"\")","v":""},{"$f":"IFERROR(VLOOKUP(Tabla38[[#This Row],[CODIGO municipio]],[3]!Tabla8[#All],16,FALSE),\"\")","v":""},{"$f":"IFERROR(VLOOKUP(Tabla38[[#This Row],[CODIGO municipio]],[3]!Tabla8[#All],17,FALSE),\"\")","v":""},{"$f":"IFERROR(VLOOKUP(Tabla38[[#This Row],[CODIGO municipio]],[3]!Tabla8[#All],18,FALSE),\"\")","v":""},{"$f":"IFERROR(VLOOKUP(Tabla38[[#This Row],[CODIGO municipio]],[3]!Tabla8[#All],19,FALSE),\"\")","v":""},{"$f":"IFERROR(VLOOKUP(Tabla38[[#This Row],[CODIGO municipio]],[3]!Tabla8[#All],20,FALSE),\"\")","v":""},{"$f":"IFERROR(VLOOKUP(Tabla38[[#This Row],[CODIGO municipio]],[3]!Tabla8[#All],21,FALSE),\"\")","v":""},{"$f":"IFERROR(VLOOKUP(Tabla38[[#This Row],[CODIGO municipio]],[3]!Tabla8[#All],22,FALSE),\"\")","v":""},{"$f":"IFERROR(VLOOKUP(Tabla38[[#This Row],[CODIGO municipio]],[3]!Tabla8[#All],23,FALSE),\"\")","v":""},{"$f":"IFERROR(VLOOKUP(Tabla38[[#This Row],[CODIGO municipio]],[3]!Tabla9[#All],3,FALSE),\"\")","v":""}]
[{"$f":"IFERROR(VLOOKUP(Tabla38[[#This Row],[Municipio]],[3]!Tabla2[#All],3,FALSE),\"\")","v":""},1421,"Pachalum",{"$f":"IFERROR(VLOOKUP(Tabla38[[#This Row],[CODIGO municipio]],[3]!Tabla6[[#All],[codigo_mun]],1,FALSE),\"\")","v":""},{"$f":"IFERROR(VLOOKUP(Tabla38[[#This Row],[CODIGO municipio]],[3]!Tabla12[#All],2,FALSE),\"\")","v":""},{"$f":"IFERROR(VLOOKUP(Tabla38[[#This Row],[CODIGO municipio]],[3]!Tabla7[#All],3,FALSE),\"\")","v":""},{"$f":"IFERROR(VLOOKUP(Tabla38[[#This Row],[CODIGO municipio]],[3]!Tabla7[#All],4,FALSE),\"\")","v":""},{"$f":"IFERROR(VLOOKUP(Tabla38[[#This Row],[CODIGO municipio]],[3]!Tabla7[#All],11,FALSE),\"\")","v":""},{"$f":"IFERROR(VLOOKUP(Tabla38[[#This Row],[CODIGO municipio]],[3]!Tabla7[#All],12,FALSE),\"\")","v":""},{"$f":"IFERROR(VLOOKUP(Tabla38[[#This Row],[CODIGO municipio]],[3]!Tabla7[#All],13,FALSE),\"\")","v":""},{"$f":"IFERROR(VLOOKUP(Tabla38[[#This Row],[CODIGO municipio]],[3]!Tabla7[#All],14,FALSE),\"\")","v":""},{"$f":"IFERROR(VLOOKUP(Tabla38[[#This Row],[CODIGO municipio]],[3]!Tabla7[#All],15,FALSE),\"\")","v":""},{"$f":"IFERROR(VLOOKUP(Tabla38[[#This Row],[CODIGO municipio]],[3]!Tabla7[#All],16,FALSE),\"\")","v":""},{"$f":"IFERROR(VLOOKUP(Tabla38[[#This Row],[CODIGO municipio]],[3]!Tabla7[#All],17,FALSE),\"\")","v":""},{"$f":"IFERROR(VLOOKUP(Tabla38[[#This Row],[CODIGO municipio]],[3]!Tabla7[#All],18,FALSE),\"\")","v":""},{"$f":"IFERROR(VLOOKUP(Tabla38[[#This Row],[CODIGO municipio]],[3]!Tabla7[#All],19,FALSE),\"\")","v":""},{"$f":"IFERROR(VLOOKUP(Tabla38[[#This Row],[CODIGO municipio]],[3]!Tabla8[#All],3,FALSE),\"\")","v":""},{"$f":"IFERROR(VLOOKUP(Tabla38[[#This Row],[CODIGO municipio]],[3]!Tabla8[#All],4,FALSE),\"\")","v":""},{"$f":"IFERROR(VLOOKUP(Tabla38[[#This Row],[CODIGO municipio]],[3]!Tabla8[#All],5,FALSE),\"\")","v":""},{"$f":"IFERROR(VLOOKUP(Tabla38[[#This Row],[CODIGO municipio]],[3]!Tabla8[#All],6,FALSE),\"\")","v":""},{"$f":"IFERROR(VLOOKUP(Tabla38[[#This Row],[CODIGO municipio]],[3]!Tabla8[#All],7,FALSE),\"\")","v":""},{"$f":"IFERROR(VLOOKUP(Tabla38[[#This Row],[CODIGO municipio]],[3]!Tabla8[#All],8,FALSE),\"\")","v":""},{"$f":"IFERROR(VLOOKUP(Tabla38[[#This Row],[CODIGO municipio]],[3]!Tabla8[#All],9,FALSE),\"\")","v":""},{"$f":"IFERROR(VLOOKUP(Tabla38[[#This Row],[CODIGO municipio]],[3]!Tabla8[#All],10,FALSE),\"\")","v":""},{"$f":"IFERROR(VLOOKUP(Tabla38[[#This Row],[CODIGO municipio]],[3]!Tabla8[#All],11,FALSE),\"\")","v":""},{"$f":"IFERROR(VLOOKUP(Tabla38[[#This Row],[CODIGO municipio]],[3]!Tabla8[#All],12,FALSE),\"\")","v":""},{"$f":"IFERROR(VLOOKUP(Tabla38[[#This Row],[CODIGO municipio]],[3]!Tabla8[#All],13,FALSE),\"\")","v":""},{"$f":"IFERROR(VLOOKUP(Tabla38[[#This Row],[CODIGO municipio]],[3]!Tabla8[#All],14,FALSE),\"\")","v":""},{"$f":"IFERROR(VLOOKUP(Tabla38[[#This Row],[CODIGO municipio]],[3]!Tabla8[#All],15,FALSE),\"\")","v":""},{"$f":"IFERROR(VLOOKUP(Tabla38[[#This Row],[CODIGO municipio]],[3]!Tabla8[#All],16,FALSE),\"\")","v":""},{"$f":"IFERROR(VLOOKUP(Tabla38[[#This Row],[CODIGO municipio]],[3]!Tabla8[#All],17,FALSE),\"\")","v":""},{"$f":"IFERROR(VLOOKUP(Tabla38[[#This Row],[CODIGO municipio]],[3]!Tabla8[#All],18,FALSE),\"\")","v":""},{"$f":"IFERROR(VLOOKUP(Tabla38[[#This Row],[CODIGO municipio]],[3]!Tabla8[#All],19,FALSE),\"\")","v":""},{"$f":"IFERROR(VLOOKUP(Tabla38[[#This Row],[CODIGO municipio]],[3]!Tabla8[#All],20,FALSE),\"\")","v":""},{"$f":"IFERROR(VLOOKUP(Tabla38[[#This Row],[CODIGO municipio]],[3]!Tabla8[#All],21,FALSE),\"\")","v":""},{"$f":"IFERROR(VLOOKUP(Tabla38[[#This Row],[CODIGO municipio]],[3]!Tabla8[#All],22,FALSE),\"\")","v":""},{"$f":"IFERROR(VLOOKUP(Tabla38[[#This Row],[CODIGO municipio]],[3]!Tabla8[#All],23,FALSE),\"\")","v":""},{"$f":"IFERROR(VLOOKUP(Tabla38[[#This Row],[CODIGO municipio]],[3]!Tabla9[#All],3,FALSE),\"\")","v":""}]
[{"$f":"IFERROR(VLOOKUP(Tabla38[[#This Row],[Municipio]],[3]!Tabla2[#All],3,FALSE),\"\")","v":""},1501,"Salamá",{"$f":"IFERROR(VLOOKUP(Tabla38[[#This Row],[CODIGO municipio]],[3]!Tabla6[[#All],[codigo_mun]],1,FALSE),\"\")","v":""},{"$f":"IFERROR(VLOOKUP(Tabla38[[#This Row],[CODIGO municipio]],[3]!Tabla12[#All],2,FALSE),\"\")","v":""},{"$f":"IFERROR(VLOOKUP(Tabla38[[#This Row],[CODIGO municipio]],[3]!Tabla7[#All],3,FALSE),\"\")","v":""},{"$f":"IFERROR(VLOOKUP(Tabla38[[#This Row],[CODIGO municipio]],[3]!Tabla7[#All],4,FALSE),\"\")","v":""},{"$f":"IFERROR(VLOOKUP(Tabla38[[#This Row],[CODIGO municipio]],[3]!Tabla7[#All],11,FALSE),\"\")","v":""},{"$f":"IFERROR(VLOOKUP(Tabla38[[#This Row],[CODIGO municipio]],[3]!Tabla7[#All],12,FALSE),\"\")","v":""},{"$f":"IFERROR(VLOOKUP(Tabla38[[#This Row],[CODIGO municipio]],[3]!Tabla7[#All],13,FALSE),\"\")","v":""},{"$f":"IFERROR(VLOOKUP(Tabla38[[#This Row],[CODIGO municipio]],[3]!Tabla7[#All],14,FALSE),\"\")","v":""},{"$f":"IFERROR(VLOOKUP(Tabla38[[#This Row],[CODIGO municipio]],[3]!Tabla7[#All],15,FALSE),\"\")","v":""},{"$f":"IFERROR(VLOOKUP(Tabla38[[#This Row],[CODIGO municipio]],[3]!Tabla7[#All],16,FALSE),\"\")","v":""},{"$f":"IFERROR(VLOOKUP(Tabla38[[#This Row],[CODIGO municipio]],[3]!Tabla7[#All],17,FALSE),\"\")","v":""},{"$f":"IFERROR(VLOOKUP(Tabla38[[#This Row],[CODIGO municipio]],[3]!Tabla7[#All],18,FALSE),\"\")","v":""},{"$f":"IFERROR(VLOOKUP(Tabla38[[#This Row],[CODIGO municipio]],[3]!Tabla7[#All],19,FALSE),\"\")","v":""},{"$f":"IFERROR(VLOOKUP(Tabla38[[#This Row],[CODIGO municipio]],[3]!Tabla8[#All],3,FALSE),\"\")","v":""},{"$f":"IFERROR(VLOOKUP(Tabla38[[#This Row],[CODIGO municipio]],[3]!Tabla8[#All],4,FALSE),\"\")","v":""},{"$f":"IFERROR(VLOOKUP(Tabla38[[#This Row],[CODIGO municipio]],[3]!Tabla8[#All],5,FALSE),\"\")","v":""},{"$f":"IFERROR(VLOOKUP(Tabla38[[#This Row],[CODIGO municipio]],[3]!Tabla8[#All],6,FALSE),\"\")","v":""},{"$f":"IFERROR(VLOOKUP(Tabla38[[#This Row],[CODIGO municipio]],[3]!Tabla8[#All],7,FALSE),\"\")","v":""},{"$f":"IFERROR(VLOOKUP(Tabla38[[#This Row],[CODIGO municipio]],[3]!Tabla8[#All],8,FALSE),\"\")","v":""},{"$f":"IFERROR(VLOOKUP(Tabla38[[#This Row],[CODIGO municipio]],[3]!Tabla8[#All],9,FALSE),\"\")","v":""},{"$f":"IFERROR(VLOOKUP(Tabla38[[#This Row],[CODIGO municipio]],[3]!Tabla8[#All],10,FALSE),\"\")","v":""},{"$f":"IFERROR(VLOOKUP(Tabla38[[#This Row],[CODIGO municipio]],[3]!Tabla8[#All],11,FALSE),\"\")","v":""},{"$f":"IFERROR(VLOOKUP(Tabla38[[#This Row],[CODIGO municipio]],[3]!Tabla8[#All],12,FALSE),\"\")","v":""},{"$f":"IFERROR(VLOOKUP(Tabla38[[#This Row],[CODIGO municipio]],[3]!Tabla8[#All],13,FALSE),\"\")","v":""},{"$f":"IFERROR(VLOOKUP(Tabla38[[#This Row],[CODIGO municipio]],[3]!Tabla8[#All],14,FALSE),\"\")","v":""},{"$f":"IFERROR(VLOOKUP(Tabla38[[#This Row],[CODIGO municipio]],[3]!Tabla8[#All],15,FALSE),\"\")","v":""},{"$f":"IFERROR(VLOOKUP(Tabla38[[#This Row],[CODIGO municipio]],[3]!Tabla8[#All],16,FALSE),\"\")","v":""},{"$f":"IFERROR(VLOOKUP(Tabla38[[#This Row],[CODIGO municipio]],[3]!Tabla8[#All],17,FALSE),\"\")","v":""},{"$f":"IFERROR(VLOOKUP(Tabla38[[#This Row],[CODIGO municipio]],[3]!Tabla8[#All],18,FALSE),\"\")","v":""},{"$f":"IFERROR(VLOOKUP(Tabla38[[#This Row],[CODIGO municipio]],[3]!Tabla8[#All],19,FALSE),\"\")","v":""},{"$f":"IFERROR(VLOOKUP(Tabla38[[#This Row],[CODIGO municipio]],[3]!Tabla8[#All],20,FALSE),\"\")","v":""},{"$f":"IFERROR(VLOOKUP(Tabla38[[#This Row],[CODIGO municipio]],[3]!Tabla8[#All],21,FALSE),\"\")","v":""},{"$f":"IFERROR(VLOOKUP(Tabla38[[#This Row],[CODIGO municipio]],[3]!Tabla8[#All],22,FALSE),\"\")","v":""},{"$f":"IFERROR(VLOOKUP(Tabla38[[#This Row],[CODIGO municipio]],[3]!Tabla8[#All],23,FALSE),\"\")","v":""},{"$f":"IFERROR(VLOOKUP(Tabla38[[#This Row],[CODIGO municipio]],[3]!Tabla9[#All],3,FALSE),\"\")","v":""}]
[{"$f":"IFERROR(VLOOKUP(Tabla38[[#This Row],[Municipio]],[3]!Tabla2[#All],3,FALSE),\"\")","v":""},1502,"San Miguel Chicaj",{"$f":"IFERROR(VLOOKUP(Tabla38[[#This Row],[CODIGO municipio]],[3]!Tabla6[[#All],[codigo_mun]],1,FALSE),\"\")","v":""},{"$f":"IFERROR(VLOOKUP(Tabla38[[#This Row],[CODIGO municipio]],[3]!Tabla12[#All],2,FALSE),\"\")","v":""},{"$f":"IFERROR(VLOOKUP(Tabla38[[#This Row],[CODIGO municipio]],[3]!Tabla7[#All],3,FALSE),\"\")","v":""},{"$f":"IFERROR(VLOOKUP(Tabla38[[#This Row],[CODIGO municipio]],[3]!Tabla7[#All],4,FALSE),\"\")","v":""},{"$f":"IFERROR(VLOOKUP(Tabla38[[#This Row],[CODIGO municipio]],[3]!Tabla7[#All],11,FALSE),\"\")","v":""},{"$f":"IFERROR(VLOOKUP(Tabla38[[#This Row],[CODIGO municipio]],[3]!Tabla7[#All],12,FALSE),\"\")","v":""},{"$f":"IFERROR(VLOOKUP(Tabla38[[#This Row],[CODIGO municipio]],[3]!Tabla7[#All],13,FALSE),\"\")","v":""},{"$f":"IFERROR(VLOOKUP(Tabla38[[#This Row],[CODIGO municipio]],[3]!Tabla7[#All],14,FALSE),\"\")","v":""},{"$f":"IFERROR(VLOOKUP(Tabla38[[#This Row],[CODIGO municipio]],[3]!Tabla7[#All],15,FALSE),\"\")","v":""},{"$f":"IFERROR(VLOOKUP(Tabla38[[#This Row],[CODIGO municipio]],[3]!Tabla7[#All],16,FALSE),\"\")","v":""},{"$f":"IFERROR(VLOOKUP(Tabla38[[#This Row],[CODIGO municipio]],[3]!Tabla7[#All],17,FALSE),\"\")","v":""},{"$f":"IFERROR(VLOOKUP(Tabla38[[#This Row],[CODIGO municipio]],[3]!Tabla7[#All],18,FALSE),\"\")","v":""},{"$f":"IFERROR(VLOOKUP(Tabla38[[#This Row],[CODIGO municipio]],[3]!Tabla7[#All],19,FALSE),\"\")","v":""},{"$f":"IFERROR(VLOOKUP(Tabla38[[#This Row],[CODIGO municipio]],[3]!Tabla8[#All],3,FALSE),\"\")","v":""},{"$f":"IFERROR(VLOOKUP(Tabla38[[#This Row],[CODIGO municipio]],[3]!Tabla8[#All],4,FALSE),\"\")","v":""},{"$f":"IFERROR(VLOOKUP(Tabla38[[#This Row],[CODIGO municipio]],[3]!Tabla8[#All],5,FALSE),\"\")","v":""},{"$f":"IFERROR(VLOOKUP(Tabla38[[#This Row],[CODIGO municipio]],[3]!Tabla8[#All],6,FALSE),\"\")","v":""},{"$f":"IFERROR(VLOOKUP(Tabla38[[#This Row],[CODIGO municipio]],[3]!Tabla8[#All],7,FALSE),\"\")","v":""},{"$f":"IFERROR(VLOOKUP(Tabla38[[#This Row],[CODIGO municipio]],[3]!Tabla8[#All],8,FALSE),\"\")","v":""},{"$f":"IFERROR(VLOOKUP(Tabla38[[#This Row],[CODIGO municipio]],[3]!Tabla8[#All],9,FALSE),\"\")","v":""},{"$f":"IFERROR(VLOOKUP(Tabla38[[#This Row],[CODIGO municipio]],[3]!Tabla8[#All],10,FALSE),\"\")","v":""},{"$f":"IFERROR(VLOOKUP(Tabla38[[#This Row],[CODIGO municipio]],[3]!Tabla8[#All],11,FALSE),\"\")","v":""},{"$f":"IFERROR(VLOOKUP(Tabla38[[#This Row],[CODIGO municipio]],[3]!Tabla8[#All],12,FALSE),\"\")","v":""},{"$f":"IFERROR(VLOOKUP(Tabla38[[#This Row],[CODIGO municipio]],[3]!Tabla8[#All],13,FALSE),\"\")","v":""},{"$f":"IFERROR(VLOOKUP(Tabla38[[#This Row],[CODIGO municipio]],[3]!Tabla8[#All],14,FALSE),\"\")","v":""},{"$f":"IFERROR(VLOOKUP(Tabla38[[#This Row],[CODIGO municipio]],[3]!Tabla8[#All],15,FALSE),\"\")","v":""},{"$f":"IFERROR(VLOOKUP(Tabla38[[#This Row],[CODIGO municipio]],[3]!Tabla8[#All],16,FALSE),\"\")","v":""},{"$f":"IFERROR(VLOOKUP(Tabla38[[#This Row],[CODIGO municipio]],[3]!Tabla8[#All],17,FALSE),\"\")","v":""},{"$f":"IFERROR(VLOOKUP(Tabla38[[#This Row],[CODIGO municipio]],[3]!Tabla8[#All],18,FALSE),\"\")","v":""},{"$f":"IFERROR(VLOOKUP(Tabla38[[#This Row],[CODIGO municipio]],[3]!Tabla8[#All],19,FALSE),\"\")","v":""},{"$f":"IFERROR(VLOOKUP(Tabla38[[#This Row],[CODIGO municipio]],[3]!Tabla8[#All],20,FALSE),\"\")","v":""},{"$f":"IFERROR(VLOOKUP(Tabla38[[#This Row],[CODIGO municipio]],[3]!Tabla8[#All],21,FALSE),\"\")","v":""},{"$f":"IFERROR(VLOOKUP(Tabla38[[#This Row],[CODIGO municipio]],[3]!Tabla8[#All],22,FALSE),\"\")","v":""},{"$f":"IFERROR(VLOOKUP(Tabla38[[#This Row],[CODIGO municipio]],[3]!Tabla8[#All],23,FALSE),\"\")","v":""},{"$f":"IFERROR(VLOOKUP(Tabla38[[#This Row],[CODIGO municipio]],[3]!Tabla9[#All],3,FALSE),\"\")","v":""}]
[{"$f":"IFERROR(VLOOKUP(Tabla38[[#This Row],[Municipio]],[3]!Tabla2[#All],3,FALSE),\"\")","v":""},1503,"Rabinal",{"$f":"IFERROR(VLOOKUP(Tabla38[[#This Row],[CODIGO municipio]],[3]!Tabla6[[#All],[codigo_mun]],1,FALSE),\"\")","v":""},{"$f":"IFERROR(VLOOKUP(Tabla38[[#This Row],[CODIGO municipio]],[3]!Tabla12[#All],2,FALSE),\"\")","v":""},{"$f":"IFERROR(VLOOKUP(Tabla38[[#This Row],[CODIGO municipio]],[3]!Tabla7[#All],3,FALSE),\"\")","v":""},{"$f":"IFERROR(VLOOKUP(Tabla38[[#This Row],[CODIGO municipio]],[3]!Tabla7[#All],4,FALSE),\"\")","v":""},{"$f":"IFERROR(VLOOKUP(Tabla38[[#This Row],[CODIGO municipio]],[3]!Tabla7[#All],11,FALSE),\"\")","v":""},{"$f":"IFERROR(VLOOKUP(Tabla38[[#This Row],[CODIGO municipio]],[3]!Tabla7[#All],12,FALSE),\"\")","v":""},{"$f":"IFERROR(VLOOKUP(Tabla38[[#This Row],[CODIGO municipio]],[3]!Tabla7[#All],13,FALSE),\"\")","v":""},{"$f":"IFERROR(VLOOKUP(Tabla38[[#This Row],[CODIGO municipio]],[3]!Tabla7[#All],14,FALSE),\"\")","v":""},{"$f":"IFERROR(VLOOKUP(Tabla38[[#This Row],[CODIGO municipio]],[3]!Tabla7[#All],15,FALSE),\"\")","v":""},{"$f":"IFERROR(VLOOKUP(Tabla38[[#This Row],[CODIGO municipio]],[3]!Tabla7[#All],16,FALSE),\"\")","v":""},{"$f":"IFERROR(VLOOKUP(Tabla38[[#This Row],[CODIGO municipio]],[3]!Tabla7[#All],17,FALSE),\"\")","v":""},{"$f":"IFERROR(VLOOKUP(Tabla38[[#This Row],[CODIGO municipio]],[3]!Tabla7[#All],18,FALSE),\"\")","v":""},{"$f":"IFERROR(VLOOKUP(Tabla38[[#This Row],[CODIGO municipio]],[3]!Tabla7[#All],19,FALSE),\"\")","v":""},{"$f":"IFERROR(VLOOKUP(Tabla38[[#This Row],[CODIGO municipio]],[3]!Tabla8[#All],3,FALSE),\"\")","v":""},{"$f":"IFERROR(VLOOKUP(Tabla38[[#This Row],[CODIGO municipio]],[3]!Tabla8[#All],4,FALSE),\"\")","v":""},{"$f":"IFERROR(VLOOKUP(Tabla38[[#This Row],[CODIGO municipio]],[3]!Tabla8[#All],5,FALSE),\"\")","v":""},{"$f":"IFERROR(VLOOKUP(Tabla38[[#This Row],[CODIGO municipio]],[3]!Tabla8[#All],6,FALSE),\"\")","v":""},{"$f":"IFERROR(VLOOKUP(Tabla38[[#This Row],[CODIGO municipio]],[3]!Tabla8[#All],7,FALSE),\"\")","v":""},{"$f":"IFERROR(VLOOKUP(Tabla38[[#This Row],[CODIGO municipio]],[3]!Tabla8[#All],8,FALSE),\"\")","v":""},{"$f":"IFERROR(VLOOKUP(Tabla38[[#This Row],[CODIGO municipio]],[3]!Tabla8[#All],9,FALSE),\"\")","v":""},{"$f":"IFERROR(VLOOKUP(Tabla38[[#This Row],[CODIGO municipio]],[3]!Tabla8[#All],10,FALSE),\"\")","v":""},{"$f":"IFERROR(VLOOKUP(Tabla38[[#This Row],[CODIGO municipio]],[3]!Tabla8[#All],11,FALSE),\"\")","v":""},{"$f":"IFERROR(VLOOKUP(Tabla38[[#This Row],[CODIGO municipio]],[3]!Tabla8[#All],12,FALSE),\"\")","v":""},{"$f":"IFERROR(VLOOKUP(Tabla38[[#This Row],[CODIGO municipio]],[3]!Tabla8[#All],13,FALSE),\"\")","v":""},{"$f":"IFERROR(VLOOKUP(Tabla38[[#This Row],[CODIGO municipio]],[3]!Tabla8[#All],14,FALSE),\"\")","v":""},{"$f":"IFERROR(VLOOKUP(Tabla38[[#This Row],[CODIGO municipio]],[3]!Tabla8[#All],15,FALSE),\"\")","v":""},{"$f":"IFERROR(VLOOKUP(Tabla38[[#This Row],[CODIGO municipio]],[3]!Tabla8[#All],16,FALSE),\"\")","v":""},{"$f":"IFERROR(VLOOKUP(Tabla38[[#This Row],[CODIGO municipio]],[3]!Tabla8[#All],17,FALSE),\"\")","v":""},{"$f":"IFERROR(VLOOKUP(Tabla38[[#This Row],[CODIGO municipio]],[3]!Tabla8[#All],18,FALSE),\"\")","v":""},{"$f":"IFERROR(VLOOKUP(Tabla38[[#This Row],[CODIGO municipio]],[3]!Tabla8[#All],19,FALSE),\"\")","v":""},{"$f":"IFERROR(VLOOKUP(Tabla38[[#This Row],[CODIGO municipio]],[3]!Tabla8[#All],20,FALSE),\"\")","v":""},{"$f":"IFERROR(VLOOKUP(Tabla38[[#This Row],[CODIGO municipio]],[3]!Tabla8[#All],21,FALSE),\"\")","v":""},{"$f":"IFERROR(VLOOKUP(Tabla38[[#This Row],[CODIGO municipio]],[3]!Tabla8[#All],22,FALSE),\"\")","v":""},{"$f":"IFERROR(VLOOKUP(Tabla38[[#This Row],[CODIGO municipio]],[3]!Tabla8[#All],23,FALSE),\"\")","v":""},{"$f":"IFERROR(VLOOKUP(Tabla38[[#This Row],[CODIGO municipio]],[3]!Tabla9[#All],3,FALSE),\"\")","v":""}]
[{"$f":"IFERROR(VLOOKUP(Tabla38[[#This Row],[Municipio]],[3]!Tabla2[#All],3,FALSE),\"\")","v":""},1504,"Cubulco",{"$f":"IFERROR(VLOOKUP(Tabla38[[#This Row],[CODIGO municipio]],[3]!Tabla6[[#All],[codigo_mun]],1,FALSE),\"\")","v":""},{"$f":"IFERROR(VLOOKUP(Tabla38[[#This Row],[CODIGO municipio]],[3]!Tabla12[#All],2,FALSE),\"\")","v":""},{"$f":"IFERROR(VLOOKUP(Tabla38[[#This Row],[CODIGO municipio]],[3]!Tabla7[#All],3,FALSE),\"\")","v":""},{"$f":"IFERROR(VLOOKUP(Tabla38[[#This Row],[CODIGO municipio]],[3]!Tabla7[#All],4,FALSE),\"\")","v":""},{"$f":"IFERROR(VLOOKUP(Tabla38[[#This Row],[CODIGO municipio]],[3]!Tabla7[#All],11,FALSE),\"\")","v":""},{"$f":"IFERROR(VLOOKUP(Tabla38[[#This Row],[CODIGO municipio]],[3]!Tabla7[#All],12,FALSE),\"\")","v":""},{"$f":"IFERROR(VLOOKUP(Tabla38[[#This Row],[CODIGO municipio]],[3]!Tabla7[#All],13,FALSE),\"\")","v":""},{"$f":"IFERROR(VLOOKUP(Tabla38[[#This Row],[CODIGO municipio]],[3]!Tabla7[#All],14,FALSE),\"\")","v":""},{"$f":"IFERROR(VLOOKUP(Tabla38[[#This Row],[CODIGO municipio]],[3]!Tabla7[#All],15,FALSE),\"\")","v":""},{"$f":"IFERROR(VLOOKUP(Tabla38[[#This Row],[CODIGO municipio]],[3]!Tabla7[#All],16,FALSE),\"\")","v":""},{"$f":"IFERROR(VLOOKUP(Tabla38[[#This Row],[CODIGO municipio]],[3]!Tabla7[#All],17,FALSE),\"\")","v":""},{"$f":"IFERROR(VLOOKUP(Tabla38[[#This Row],[CODIGO municipio]],[3]!Tabla7[#All],18,FALSE),\"\")","v":""},{"$f":"IFERROR(VLOOKUP(Tabla38[[#This Row],[CODIGO municipio]],[3]!Tabla7[#All],19,FALSE),\"\")","v":""},{"$f":"IFERROR(VLOOKUP(Tabla38[[#This Row],[CODIGO municipio]],[3]!Tabla8[#All],3,FALSE),\"\")","v":""},{"$f":"IFERROR(VLOOKUP(Tabla38[[#This Row],[CODIGO municipio]],[3]!Tabla8[#All],4,FALSE),\"\")","v":""},{"$f":"IFERROR(VLOOKUP(Tabla38[[#This Row],[CODIGO municipio]],[3]!Tabla8[#All],5,FALSE),\"\")","v":""},{"$f":"IFERROR(VLOOKUP(Tabla38[[#This Row],[CODIGO municipio]],[3]!Tabla8[#All],6,FALSE),\"\")","v":""},{"$f":"IFERROR(VLOOKUP(Tabla38[[#This Row],[CODIGO municipio]],[3]!Tabla8[#All],7,FALSE),\"\")","v":""},{"$f":"IFERROR(VLOOKUP(Tabla38[[#This Row],[CODIGO municipio]],[3]!Tabla8[#All],8,FALSE),\"\")","v":""},{"$f":"IFERROR(VLOOKUP(Tabla38[[#This Row],[CODIGO municipio]],[3]!Tabla8[#All],9,FALSE),\"\")","v":""},{"$f":"IFERROR(VLOOKUP(Tabla38[[#This Row],[CODIGO municipio]],[3]!Tabla8[#All],10,FALSE),\"\")","v":""},{"$f":"IFERROR(VLOOKUP(Tabla38[[#This Row],[CODIGO municipio]],[3]!Tabla8[#All],11,FALSE),\"\")","v":""},{"$f":"IFERROR(VLOOKUP(Tabla38[[#This Row],[CODIGO municipio]],[3]!Tabla8[#All],12,FALSE),\"\")","v":""},{"$f":"IFERROR(VLOOKUP(Tabla38[[#This Row],[CODIGO municipio]],[3]!Tabla8[#All],13,FALSE),\"\")","v":""},{"$f":"IFERROR(VLOOKUP(Tabla38[[#This Row],[CODIGO municipio]],[3]!Tabla8[#All],14,FALSE),\"\")","v":""},{"$f":"IFERROR(VLOOKUP(Tabla38[[#This Row],[CODIGO municipio]],[3]!Tabla8[#All],15,FALSE),\"\")","v":""},{"$f":"IFERROR(VLOOKUP(Tabla38[[#This Row],[CODIGO municipio]],[3]!Tabla8[#All],16,FALSE),\"\")","v":""},{"$f":"IFERROR(VLOOKUP(Tabla38[[#This Row],[CODIGO municipio]],[3]!Tabla8[#All],17,FALSE),\"\")","v":""},{"$f":"IFERROR(VLOOKUP(Tabla38[[#This Row],[CODIGO municipio]],[3]!Tabla8[#All],18,FALSE),\"\")","v":""},{"$f":"IFERROR(VLOOKUP(Tabla38[[#This Row],[CODIGO municipio]],[3]!Tabla8[#All],19,FALSE),\"\")","v":""},{"$f":"IFERROR(VLOOKUP(Tabla38[[#This Row],[CODIGO municipio]],[3]!Tabla8[#All],20,FALSE),\"\")","v":""},{"$f":"IFERROR(VLOOKUP(Tabla38[[#This Row],[CODIGO municipio]],[3]!Tabla8[#All],21,FALSE),\"\")","v":""},{"$f":"IFERROR(VLOOKUP(Tabla38[[#This Row],[CODIGO municipio]],[3]!Tabla8[#All],22,FALSE),\"\")","v":""},{"$f":"IFERROR(VLOOKUP(Tabla38[[#This Row],[CODIGO municipio]],[3]!Tabla8[#All],23,FALSE),\"\")","v":""},{"$f":"IFERROR(VLOOKUP(Tabla38[[#This Row],[CODIGO municipio]],[3]!Tabla9[#All],3,FALSE),\"\")","v":""}]
[{"$f":"IFERROR(VLOOKUP(Tabla38[[#This Row],[Municipio]],[3]!Tabla2[#All],3,FALSE),\"\")","v":""},1505,"Granados",{"$f":"IFERROR(VLOOKUP(Tabla38[[#This Row],[CODIGO municipio]],[3]!Tabla6[[#All],[codigo_mun]],1,FALSE),\"\")","v":""},{"$f":"IFERROR(VLOOKUP(Tabla38[[#This Row],[CODIGO municipio]],[3]!Tabla12[#All],2,FALSE),\"\")","v":""},{"$f":"IFERROR(VLOOKUP(Tabla38[[#This Row],[CODIGO municipio]],[3]!Tabla7[#All],3,FALSE),\"\")","v":""},{"$f":"IFERROR(VLOOKUP(Tabla38[[#This Row],[CODIGO municipio]],[3]!Tabla7[#All],4,FALSE),\"\")","v":""},{"$f":"IFERROR(VLOOKUP(Tabla38[[#This Row],[CODIGO municipio]],[3]!Tabla7[#All],11,FALSE),\"\")","v":""},{"$f":"IFERROR(VLOOKUP(Tabla38[[#This Row],[CODIGO municipio]],[3]!Tabla7[#All],12,FALSE),\"\")","v":""},{"$f":"IFERROR(VLOOKUP(Tabla38[[#This Row],[CODIGO municipio]],[3]!Tabla7[#All],13,FALSE),\"\")","v":""},{"$f":"IFERROR(VLOOKUP(Tabla38[[#This Row],[CODIGO municipio]],[3]!Tabla7[#All],14,FALSE),\"\")","v":""},{"$f":"IFERROR(VLOOKUP(Tabla38[[#This Row],[CODIGO municipio]],[3]!Tabla7[#All],15,FALSE),\"\")","v":""},{"$f":"IFERROR(VLOOKUP(Tabla38[[#This Row],[CODIGO municipio]],[3]!Tabla7[#All],16,FALSE),\"\")","v":""},{"$f":"IFERROR(VLOOKUP(Tabla38[[#This Row],[CODIGO municipio]],[3]!Tabla7[#All],17,FALSE),\"\")","v":""},{"$f":"IFERROR(VLOOKUP(Tabla38[[#This Row],[CODIGO municipio]],[3]!Tabla7[#All],18,FALSE),\"\")","v":""},{"$f":"IFERROR(VLOOKUP(Tabla38[[#This Row],[CODIGO municipio]],[3]!Tabla7[#All],19,FALSE),\"\")","v":""},{"$f":"IFERROR(VLOOKUP(Tabla38[[#This Row],[CODIGO municipio]],[3]!Tabla8[#All],3,FALSE),\"\")","v":""},{"$f":"IFERROR(VLOOKUP(Tabla38[[#This Row],[CODIGO municipio]],[3]!Tabla8[#All],4,FALSE),\"\")","v":""},{"$f":"IFERROR(VLOOKUP(Tabla38[[#This Row],[CODIGO municipio]],[3]!Tabla8[#All],5,FALSE),\"\")","v":""},{"$f":"IFERROR(VLOOKUP(Tabla38[[#This Row],[CODIGO municipio]],[3]!Tabla8[#All],6,FALSE),\"\")","v":""},{"$f":"IFERROR(VLOOKUP(Tabla38[[#This Row],[CODIGO municipio]],[3]!Tabla8[#All],7,FALSE),\"\")","v":""},{"$f":"IFERROR(VLOOKUP(Tabla38[[#This Row],[CODIGO municipio]],[3]!Tabla8[#All],8,FALSE),\"\")","v":""},{"$f":"IFERROR(VLOOKUP(Tabla38[[#This Row],[CODIGO municipio]],[3]!Tabla8[#All],9,FALSE),\"\")","v":""},{"$f":"IFERROR(VLOOKUP(Tabla38[[#This Row],[CODIGO municipio]],[3]!Tabla8[#All],10,FALSE),\"\")","v":""},{"$f":"IFERROR(VLOOKUP(Tabla38[[#This Row],[CODIGO municipio]],[3]!Tabla8[#All],11,FALSE),\"\")","v":""},{"$f":"IFERROR(VLOOKUP(Tabla38[[#This Row],[CODIGO municipio]],[3]!Tabla8[#All],12,FALSE),\"\")","v":""},{"$f":"IFERROR(VLOOKUP(Tabla38[[#This Row],[CODIGO municipio]],[3]!Tabla8[#All],13,FALSE),\"\")","v":""},{"$f":"IFERROR(VLOOKUP(Tabla38[[#This Row],[CODIGO municipio]],[3]!Tabla8[#All],14,FALSE),\"\")","v":""},{"$f":"IFERROR(VLOOKUP(Tabla38[[#This Row],[CODIGO municipio]],[3]!Tabla8[#All],15,FALSE),\"\")","v":""},{"$f":"IFERROR(VLOOKUP(Tabla38[[#This Row],[CODIGO municipio]],[3]!Tabla8[#All],16,FALSE),\"\")","v":""},{"$f":"IFERROR(VLOOKUP(Tabla38[[#This Row],[CODIGO municipio]],[3]!Tabla8[#All],17,FALSE),\"\")","v":""},{"$f":"IFERROR(VLOOKUP(Tabla38[[#This Row],[CODIGO municipio]],[3]!Tabla8[#All],18,FALSE),\"\")","v":""},{"$f":"IFERROR(VLOOKUP(Tabla38[[#This Row],[CODIGO municipio]],[3]!Tabla8[#All],19,FALSE),\"\")","v":""},{"$f":"IFERROR(VLOOKUP(Tabla38[[#This Row],[CODIGO municipio]],[3]!Tabla8[#All],20,FALSE),\"\")","v":""},{"$f":"IFERROR(VLOOKUP(Tabla38[[#This Row],[CODIGO municipio]],[3]!Tabla8[#All],21,FALSE),\"\")","v":""},{"$f":"IFERROR(VLOOKUP(Tabla38[[#This Row],[CODIGO municipio]],[3]!Tabla8[#All],22,FALSE),\"\")","v":""},{"$f":"IFERROR(VLOOKUP(Tabla38[[#This Row],[CODIGO municipio]],[3]!Tabla8[#All],23,FALSE),\"\")","v":""},{"$f":"IFERROR(VLOOKUP(Tabla38[[#This Row],[CODIGO municipio]],[3]!Tabla9[#All],3,FALSE),\"\")","v":""}]
[{"$f":"IFERROR(VLOOKUP(Tabla38[[#This Row],[Municipio]],[3]!Tabla2[#All],3,FALSE),\"\")","v":""},1506,"Santa Cruz El Chol",{"$f":"IFERROR(VLOOKUP(Tabla38[[#This Row],[CODIGO municipio]],[3]!Tabla6[[#All],[codigo_mun]],1,FALSE),\"\")","v":""},{"$f":"IFERROR(VLOOKUP(Tabla38[[#This Row],[CODIGO municipio]],[3]!Tabla12[#All],2,FALSE),\"\")","v":""},{"$f":"IFERROR(VLOOKUP(Tabla38[[#This Row],[CODIGO municipio]],[3]!Tabla7[#All],3,FALSE),\"\")","v":""},{"$f":"IFERROR(VLOOKUP(Tabla38[[#This Row],[CODIGO municipio]],[3]!Tabla7[#All],4,FALSE),\"\")","v":""},{"$f":"IFERROR(VLOOKUP(Tabla38[[#This Row],[CODIGO municipio]],[3]!Tabla7[#All],11,FALSE),\"\")","v":""},{"$f":"IFERROR(VLOOKUP(Tabla38[[#This Row],[CODIGO municipio]],[3]!Tabla7[#All],12,FALSE),\"\")","v":""},{"$f":"IFERROR(VLOOKUP(Tabla38[[#This Row],[CODIGO municipio]],[3]!Tabla7[#All],13,FALSE),\"\")","v":""},{"$f":"IFERROR(VLOOKUP(Tabla38[[#This Row],[CODIGO municipio]],[3]!Tabla7[#All],14,FALSE),\"\")","v":""},{"$f":"IFERROR(VLOOKUP(Tabla38[[#This Row],[CODIGO municipio]],[3]!Tabla7[#All],15,FALSE),\"\")","v":""},{"$f":"IFERROR(VLOOKUP(Tabla38[[#This Row],[CODIGO municipio]],[3]!Tabla7[#All],16,FALSE),\"\")","v":""},{"$f":"IFERROR(VLOOKUP(Tabla38[[#This Row],[CODIGO municipio]],[3]!Tabla7[#All],17,FALSE),\"\")","v":""},{"$f":"IFERROR(VLOOKUP(Tabla38[[#This Row],[CODIGO municipio]],[3]!Tabla7[#All],18,FALSE),\"\")","v":""},{"$f":"IFERROR(VLOOKUP(Tabla38[[#This Row],[CODIGO municipio]],[3]!Tabla7[#All],19,FALSE),\"\")","v":""},{"$f":"IFERROR(VLOOKUP(Tabla38[[#This Row],[CODIGO municipio]],[3]!Tabla8[#All],3,FALSE),\"\")","v":""},{"$f":"IFERROR(VLOOKUP(Tabla38[[#This Row],[CODIGO municipio]],[3]!Tabla8[#All],4,FALSE),\"\")","v":""},{"$f":"IFERROR(VLOOKUP(Tabla38[[#This Row],[CODIGO municipio]],[3]!Tabla8[#All],5,FALSE),\"\")","v":""},{"$f":"IFERROR(VLOOKUP(Tabla38[[#This Row],[CODIGO municipio]],[3]!Tabla8[#All],6,FALSE),\"\")","v":""},{"$f":"IFERROR(VLOOKUP(Tabla38[[#This Row],[CODIGO municipio]],[3]!Tabla8[#All],7,FALSE),\"\")","v":""},{"$f":"IFERROR(VLOOKUP(Tabla38[[#This Row],[CODIGO municipio]],[3]!Tabla8[#All],8,FALSE),\"\")","v":""},{"$f":"IFERROR(VLOOKUP(Tabla38[[#This Row],[CODIGO municipio]],[3]!Tabla8[#All],9,FALSE),\"\")","v":""},{"$f":"IFERROR(VLOOKUP(Tabla38[[#This Row],[CODIGO municipio]],[3]!Tabla8[#All],10,FALSE),\"\")","v":""},{"$f":"IFERROR(VLOOKUP(Tabla38[[#This Row],[CODIGO municipio]],[3]!Tabla8[#All],11,FALSE),\"\")","v":""},{"$f":"IFERROR(VLOOKUP(Tabla38[[#This Row],[CODIGO municipio]],[3]!Tabla8[#All],12,FALSE),\"\")","v":""},{"$f":"IFERROR(VLOOKUP(Tabla38[[#This Row],[CODIGO municipio]],[3]!Tabla8[#All],13,FALSE),\"\")","v":""},{"$f":"IFERROR(VLOOKUP(Tabla38[[#This Row],[CODIGO municipio]],[3]!Tabla8[#All],14,FALSE),\"\")","v":""},{"$f":"IFERROR(VLOOKUP(Tabla38[[#This Row],[CODIGO municipio]],[3]!Tabla8[#All],15,FALSE),\"\")","v":""},{"$f":"IFERROR(VLOOKUP(Tabla38[[#This Row],[CODIGO municipio]],[3]!Tabla8[#All],16,FALSE),\"\")","v":""},{"$f":"IFERROR(VLOOKUP(Tabla38[[#This Row],[CODIGO municipio]],[3]!Tabla8[#All],17,FALSE),\"\")","v":""},{"$f":"IFERROR(VLOOKUP(Tabla38[[#This Row],[CODIGO municipio]],[3]!Tabla8[#All],18,FALSE),\"\")","v":""},{"$f":"IFERROR(VLOOKUP(Tabla38[[#This Row],[CODIGO municipio]],[3]!Tabla8[#All],19,FALSE),\"\")","v":""},{"$f":"IFERROR(VLOOKUP(Tabla38[[#This Row],[CODIGO municipio]],[3]!Tabla8[#All],20,FALSE),\"\")","v":""},{"$f":"IFERROR(VLOOKUP(Tabla38[[#This Row],[CODIGO municipio]],[3]!Tabla8[#All],21,FALSE),\"\")","v":""},{"$f":"IFERROR(VLOOKUP(Tabla38[[#This Row],[CODIGO municipio]],[3]!Tabla8[#All],22,FALSE),\"\")","v":""},{"$f":"IFERROR(VLOOKUP(Tabla38[[#This Row],[CODIGO municipio]],[3]!Tabla8[#All],23,FALSE),\"\")","v":""},{"$f":"IFERROR(VLOOKUP(Tabla38[[#This Row],[CODIGO municipio]],[3]!Tabla9[#All],3,FALSE),\"\")","v":""}]
[{"$f":"IFERROR(VLOOKUP(Tabla38[[#This Row],[Municipio]],[3]!Tabla2[#All],3,FALSE),\"\")","v":""},1507,"San Jerónimo",{"$f":"IFERROR(VLOOKUP(Tabla38[[#This Row],[CODIGO municipio]],[3]!Tabla6[[#All],[codigo_mun]],1,FALSE),\"\")","v":""},{"$f":"IFERROR(VLOOKUP(Tabla38[[#This Row],[CODIGO municipio]],[3]!Tabla12[#All],2,FALSE),\"\")","v":""},{"$f":"IFERROR(VLOOKUP(Tabla38[[#This Row],[CODIGO municipio]],[3]!Tabla7[#All],3,FALSE),\"\")","v":""},{"$f":"IFERROR(VLOOKUP(Tabla38[[#This Row],[CODIGO municipio]],[3]!Tabla7[#All],4,FALSE),\"\")","v":""},{"$f":"IFERROR(VLOOKUP(Tabla38[[#This Row],[CODIGO municipio]],[3]!Tabla7[#All],11,FALSE),\"\")","v":""},{"$f":"IFERROR(VLOOKUP(Tabla38[[#This Row],[CODIGO municipio]],[3]!Tabla7[#All],12,FALSE),\"\")","v":""},{"$f":"IFERROR(VLOOKUP(Tabla38[[#This Row],[CODIGO municipio]],[3]!Tabla7[#All],13,FALSE),\"\")","v":""},{"$f":"IFERROR(VLOOKUP(Tabla38[[#This Row],[CODIGO municipio]],[3]!Tabla7[#All],14,FALSE),\"\")","v":""},{"$f":"IFERROR(VLOOKUP(Tabla38[[#This Row],[CODIGO municipio]],[3]!Tabla7[#All],15,FALSE),\"\")","v":""},{"$f":"IFERROR(VLOOKUP(Tabla38[[#This Row],[CODIGO municipio]],[3]!Tabla7[#All],16,FALSE),\"\")","v":""},{"$f":"IFERROR(VLOOKUP(Tabla38[[#This Row],[CODIGO municipio]],[3]!Tabla7[#All],17,FALSE),\"\")","v":""},{"$f":"IFERROR(VLOOKUP(Tabla38[[#This Row],[CODIGO municipio]],[3]!Tabla7[#All],18,FALSE),\"\")","v":""},{"$f":"IFERROR(VLOOKUP(Tabla38[[#This Row],[CODIGO municipio]],[3]!Tabla7[#All],19,FALSE),\"\")","v":""},{"$f":"IFERROR(VLOOKUP(Tabla38[[#This Row],[CODIGO municipio]],[3]!Tabla8[#All],3,FALSE),\"\")","v":""},{"$f":"IFERROR(VLOOKUP(Tabla38[[#This Row],[CODIGO municipio]],[3]!Tabla8[#All],4,FALSE),\"\")","v":""},{"$f":"IFERROR(VLOOKUP(Tabla38[[#This Row],[CODIGO municipio]],[3]!Tabla8[#All],5,FALSE),\"\")","v":""},{"$f":"IFERROR(VLOOKUP(Tabla38[[#This Row],[CODIGO municipio]],[3]!Tabla8[#All],6,FALSE),\"\")","v":""},{"$f":"IFERROR(VLOOKUP(Tabla38[[#This Row],[CODIGO municipio]],[3]!Tabla8[#All],7,FALSE),\"\")","v":""},{"$f":"IFERROR(VLOOKUP(Tabla38[[#This Row],[CODIGO municipio]],[3]!Tabla8[#All],8,FALSE),\"\")","v":""},{"$f":"IFERROR(VLOOKUP(Tabla38[[#This Row],[CODIGO municipio]],[3]!Tabla8[#All],9,FALSE),\"\")","v":""},{"$f":"IFERROR(VLOOKUP(Tabla38[[#This Row],[CODIGO municipio]],[3]!Tabla8[#All],10,FALSE),\"\")","v":""},{"$f":"IFERROR(VLOOKUP(Tabla38[[#This Row],[CODIGO municipio]],[3]!Tabla8[#All],11,FALSE),\"\")","v":""},{"$f":"IFERROR(VLOOKUP(Tabla38[[#This Row],[CODIGO municipio]],[3]!Tabla8[#All],12,FALSE),\"\")","v":""},{"$f":"IFERROR(VLOOKUP(Tabla38[[#This Row],[CODIGO municipio]],[3]!Tabla8[#All],13,FALSE),\"\")","v":""},{"$f":"IFERROR(VLOOKUP(Tabla38[[#This Row],[CODIGO municipio]],[3]!Tabla8[#All],14,FALSE),\"\")","v":""},{"$f":"IFERROR(VLOOKUP(Tabla38[[#This Row],[CODIGO municipio]],[3]!Tabla8[#All],15,FALSE),\"\")","v":""},{"$f":"IFERROR(VLOOKUP(Tabla38[[#This Row],[CODIGO municipio]],[3]!Tabla8[#All],16,FALSE),\"\")","v":""},{"$f":"IFERROR(VLOOKUP(Tabla38[[#This Row],[CODIGO municipio]],[3]!Tabla8[#All],17,FALSE),\"\")","v":""},{"$f":"IFERROR(VLOOKUP(Tabla38[[#This Row],[CODIGO municipio]],[3]!Tabla8[#All],18,FALSE),\"\")","v":""},{"$f":"IFERROR(VLOOKUP(Tabla38[[#This Row],[CODIGO municipio]],[3]!Tabla8[#All],19,FALSE),\"\")","v":""},{"$f":"IFERROR(VLOOKUP(Tabla38[[#This Row],[CODIGO municipio]],[3]!Tabla8[#All],20,FALSE),\"\")","v":""},{"$f":"IFERROR(VLOOKUP(Tabla38[[#This Row],[CODIGO municipio]],[3]!Tabla8[#All],21,FALSE),\"\")","v":""},{"$f":"IFERROR(VLOOKUP(Tabla38[[#This Row],[CODIGO municipio]],[3]!Tabla8[#All],22,FALSE),\"\")","v":""},{"$f":"IFERROR(VLOOKUP(Tabla38[[#This Row],[CODIGO municipio]],[3]!Tabla8[#All],23,FALSE),\"\")","v":""},{"$f":"IFERROR(VLOOKUP(Tabla38[[#This Row],[CODIGO municipio]],[3]!Tabla9[#All],3,FALSE),\"\")","v":""}]
[{"$f":"IFERROR(VLOOKUP(Tabla38[[#This Row],[Municipio]],[3]!Tabla2[#All],3,FALSE),\"\")","v":""},1508,"Purulhá",{"$f":"IFERROR(VLOOKUP(Tabla38[[#This Row],[CODIGO municipio]],[3]!Tabla6[[#All],[codigo_mun]],1,FALSE),\"\")","v":""},{"$f":"IFERROR(VLOOKUP(Tabla38[[#This Row],[CODIGO municipio]],[3]!Tabla12[#All],2,FALSE),\"\")","v":""},{"$f":"IFERROR(VLOOKUP(Tabla38[[#This Row],[CODIGO municipio]],[3]!Tabla7[#All],3,FALSE),\"\")","v":""},{"$f":"IFERROR(VLOOKUP(Tabla38[[#This Row],[CODIGO municipio]],[3]!Tabla7[#All],4,FALSE),\"\")","v":""},{"$f":"IFERROR(VLOOKUP(Tabla38[[#This Row],[CODIGO municipio]],[3]!Tabla7[#All],11,FALSE),\"\")","v":""},{"$f":"IFERROR(VLOOKUP(Tabla38[[#This Row],[CODIGO municipio]],[3]!Tabla7[#All],12,FALSE),\"\")","v":""},{"$f":"IFERROR(VLOOKUP(Tabla38[[#This Row],[CODIGO municipio]],[3]!Tabla7[#All],13,FALSE),\"\")","v":""},{"$f":"IFERROR(VLOOKUP(Tabla38[[#This Row],[CODIGO municipio]],[3]!Tabla7[#All],14,FALSE),\"\")","v":""},{"$f":"IFERROR(VLOOKUP(Tabla38[[#This Row],[CODIGO municipio]],[3]!Tabla7[#All],15,FALSE),\"\")","v":""},{"$f":"IFERROR(VLOOKUP(Tabla38[[#This Row],[CODIGO municipio]],[3]!Tabla7[#All],16,FALSE),\"\")","v":""},{"$f":"IFERROR(VLOOKUP(Tabla38[[#This Row],[CODIGO municipio]],[3]!Tabla7[#All],17,FALSE),\"\")","v":""},{"$f":"IFERROR(VLOOKUP(Tabla38[[#This Row],[CODIGO municipio]],[3]!Tabla7[#All],18,FALSE),\"\")","v":""},{"$f":"IFERROR(VLOOKUP(Tabla38[[#This Row],[CODIGO municipio]],[3]!Tabla7[#All],19,FALSE),\"\")","v":""},{"$f":"IFERROR(VLOOKUP(Tabla38[[#This Row],[CODIGO municipio]],[3]!Tabla8[#All],3,FALSE),\"\")","v":""},{"$f":"IFERROR(VLOOKUP(Tabla38[[#This Row],[CODIGO municipio]],[3]!Tabla8[#All],4,FALSE),\"\")","v":""},{"$f":"IFERROR(VLOOKUP(Tabla38[[#This Row],[CODIGO municipio]],[3]!Tabla8[#All],5,FALSE),\"\")","v":""},{"$f":"IFERROR(VLOOKUP(Tabla38[[#This Row],[CODIGO municipio]],[3]!Tabla8[#All],6,FALSE),\"\")","v":""},{"$f":"IFERROR(VLOOKUP(Tabla38[[#This Row],[CODIGO municipio]],[3]!Tabla8[#All],7,FALSE),\"\")","v":""},{"$f":"IFERROR(VLOOKUP(Tabla38[[#This Row],[CODIGO municipio]],[3]!Tabla8[#All],8,FALSE),\"\")","v":""},{"$f":"IFERROR(VLOOKUP(Tabla38[[#This Row],[CODIGO municipio]],[3]!Tabla8[#All],9,FALSE),\"\")","v":""},{"$f":"IFERROR(VLOOKUP(Tabla38[[#This Row],[CODIGO municipio]],[3]!Tabla8[#All],10,FALSE),\"\")","v":""},{"$f":"IFERROR(VLOOKUP(Tabla38[[#This Row],[CODIGO municipio]],[3]!Tabla8[#All],11,FALSE),\"\")","v":""},{"$f":"IFERROR(VLOOKUP(Tabla38[[#This Row],[CODIGO municipio]],[3]!Tabla8[#All],12,FALSE),\"\")","v":""},{"$f":"IFERROR(VLOOKUP(Tabla38[[#This Row],[CODIGO municipio]],[3]!Tabla8[#All],13,FALSE),\"\")","v":""},{"$f":"IFERROR(VLOOKUP(Tabla38[[#This Row],[CODIGO municipio]],[3]!Tabla8[#All],14,FALSE),\"\")","v":""},{"$f":"IFERROR(VLOOKUP(Tabla38[[#This Row],[CODIGO municipio]],[3]!Tabla8[#All],15,FALSE),\"\")","v":""},{"$f":"IFERROR(VLOOKUP(Tabla38[[#This Row],[CODIGO municipio]],[3]!Tabla8[#All],16,FALSE),\"\")","v":""},{"$f":"IFERROR(VLOOKUP(Tabla38[[#This Row],[CODIGO municipio]],[3]!Tabla8[#All],17,FALSE),\"\")","v":""},{"$f":"IFERROR(VLOOKUP(Tabla38[[#This Row],[CODIGO municipio]],[3]!Tabla8[#All],18,FALSE),\"\")","v":""},{"$f":"IFERROR(VLOOKUP(Tabla38[[#This Row],[CODIGO municipio]],[3]!Tabla8[#All],19,FALSE),\"\")","v":""},{"$f":"IFERROR(VLOOKUP(Tabla38[[#This Row],[CODIGO municipio]],[3]!Tabla8[#All],20,FALSE),\"\")","v":""},{"$f":"IFERROR(VLOOKUP(Tabla38[[#This Row],[CODIGO municipio]],[3]!Tabla8[#All],21,FALSE),\"\")","v":""},{"$f":"IFERROR(VLOOKUP(Tabla38[[#This Row],[CODIGO municipio]],[3]!Tabla8[#All],22,FALSE),\"\")","v":""},{"$f":"IFERROR(VLOOKUP(Tabla38[[#This Row],[CODIGO municipio]],[3]!Tabla8[#All],23,FALSE),\"\")","v":""},{"$f":"IFERROR(VLOOKUP(Tabla38[[#This Row],[CODIGO municipio]],[3]!Tabla9[#All],3,FALSE),\"\")","v":""}]
[{"$f":"IFERROR(VLOOKUP(Tabla38[[#This Row],[Municipio]],[3]!Tabla2[#All],3,FALSE),\"\")","v":""},1601,"Cobán",{"$f":"IFERROR(VLOOKUP(Tabla38[[#This Row],[CODIGO municipio]],[3]!Tabla6[[#All],[codigo_mun]],1,FALSE),\"\")","v":""},{"$f":"IFERROR(VLOOKUP(Tabla38[[#This Row],[CODIGO municipio]],[3]!Tabla12[#All],2,FALSE),\"\")","v":""},{"$f":"IFERROR(VLOOKUP(Tabla38[[#This Row],[CODIGO municipio]],[3]!Tabla7[#All],3,FALSE),\"\")","v":""},{"$f":"IFERROR(VLOOKUP(Tabla38[[#This Row],[CODIGO municipio]],[3]!Tabla7[#All],4,FALSE),\"\")","v":""},{"$f":"IFERROR(VLOOKUP(Tabla38[[#This Row],[CODIGO municipio]],[3]!Tabla7[#All],11,FALSE),\"\")","v":""},{"$f":"IFERROR(VLOOKUP(Tabla38[[#This Row],[CODIGO municipio]],[3]!Tabla7[#All],12,FALSE),\"\")","v":""},{"$f":"IFERROR(VLOOKUP(Tabla38[[#This Row],[CODIGO municipio]],[3]!Tabla7[#All],13,FALSE),\"\")","v":""},{"$f":"IFERROR(VLOOKUP(Tabla38[[#This Row],[CODIGO municipio]],[3]!Tabla7[#All],14,FALSE),\"\")","v":""},{"$f":"IFERROR(VLOOKUP(Tabla38[[#This Row],[CODIGO municipio]],[3]!Tabla7[#All],15,FALSE),\"\")","v":""},{"$f":"IFERROR(VLOOKUP(Tabla38[[#This Row],[CODIGO municipio]],[3]!Tabla7[#All],16,FALSE),\"\")","v":""},{"$f":"IFERROR(VLOOKUP(Tabla38[[#This Row],[CODIGO municipio]],[3]!Tabla7[#All],17,FALSE),\"\")","v":""},{"$f":"IFERROR(VLOOKUP(Tabla38[[#This Row],[CODIGO municipio]],[3]!Tabla7[#All],18,FALSE),\"\")","v":""},{"$f":"IFERROR(VLOOKUP(Tabla38[[#This Row],[CODIGO municipio]],[3]!Tabla7[#All],19,FALSE),\"\")","v":""},{"$f":"IFERROR(VLOOKUP(Tabla38[[#This Row],[CODIGO municipio]],[3]!Tabla8[#All],3,FALSE),\"\")","v":""},{"$f":"IFERROR(VLOOKUP(Tabla38[[#This Row],[CODIGO municipio]],[3]!Tabla8[#All],4,FALSE),\"\")","v":""},{"$f":"IFERROR(VLOOKUP(Tabla38[[#This Row],[CODIGO municipio]],[3]!Tabla8[#All],5,FALSE),\"\")","v":""},{"$f":"IFERROR(VLOOKUP(Tabla38[[#This Row],[CODIGO municipio]],[3]!Tabla8[#All],6,FALSE),\"\")","v":""},{"$f":"IFERROR(VLOOKUP(Tabla38[[#This Row],[CODIGO municipio]],[3]!Tabla8[#All],7,FALSE),\"\")","v":""},{"$f":"IFERROR(VLOOKUP(Tabla38[[#This Row],[CODIGO municipio]],[3]!Tabla8[#All],8,FALSE),\"\")","v":""},{"$f":"IFERROR(VLOOKUP(Tabla38[[#This Row],[CODIGO municipio]],[3]!Tabla8[#All],9,FALSE),\"\")","v":""},{"$f":"IFERROR(VLOOKUP(Tabla38[[#This Row],[CODIGO municipio]],[3]!Tabla8[#All],10,FALSE),\"\")","v":""},{"$f":"IFERROR(VLOOKUP(Tabla38[[#This Row],[CODIGO municipio]],[3]!Tabla8[#All],11,FALSE),\"\")","v":""},{"$f":"IFERROR(VLOOKUP(Tabla38[[#This Row],[CODIGO municipio]],[3]!Tabla8[#All],12,FALSE),\"\")","v":""},{"$f":"IFERROR(VLOOKUP(Tabla38[[#This Row],[CODIGO municipio]],[3]!Tabla8[#All],13,FALSE),\"\")","v":""},{"$f":"IFERROR(VLOOKUP(Tabla38[[#This Row],[CODIGO municipio]],[3]!Tabla8[#All],14,FALSE),\"\")","v":""},{"$f":"IFERROR(VLOOKUP(Tabla38[[#This Row],[CODIGO municipio]],[3]!Tabla8[#All],15,FALSE),\"\")","v":""},{"$f":"IFERROR(VLOOKUP(Tabla38[[#This Row],[CODIGO municipio]],[3]!Tabla8[#All],16,FALSE),\"\")","v":""},{"$f":"IFERROR(VLOOKUP(Tabla38[[#This Row],[CODIGO municipio]],[3]!Tabla8[#All],17,FALSE),\"\")","v":""},{"$f":"IFERROR(VLOOKUP(Tabla38[[#This Row],[CODIGO municipio]],[3]!Tabla8[#All],18,FALSE),\"\")","v":""},{"$f":"IFERROR(VLOOKUP(Tabla38[[#This Row],[CODIGO municipio]],[3]!Tabla8[#All],19,FALSE),\"\")","v":""},{"$f":"IFERROR(VLOOKUP(Tabla38[[#This Row],[CODIGO municipio]],[3]!Tabla8[#All],20,FALSE),\"\")","v":""},{"$f":"IFERROR(VLOOKUP(Tabla38[[#This Row],[CODIGO municipio]],[3]!Tabla8[#All],21,FALSE),\"\")","v":""},{"$f":"IFERROR(VLOOKUP(Tabla38[[#This Row],[CODIGO municipio]],[3]!Tabla8[#All],22,FALSE),\"\")","v":""},{"$f":"IFERROR(VLOOKUP(Tabla38[[#This Row],[CODIGO municipio]],[3]!Tabla8[#All],23,FALSE),\"\")","v":""},{"$f":"IFERROR(VLOOKUP(Tabla38[[#This Row],[CODIGO municipio]],[3]!Tabla9[#All],3,FALSE),\"\")","v":""}]
[{"$f":"IFERROR(VLOOKUP(Tabla38[[#This Row],[Municipio]],[3]!Tabla2[#All],3,FALSE),\"\")","v":""},1602,"Santa Cruz Verapaz",{"$f":"IFERROR(VLOOKUP(Tabla38[[#This Row],[CODIGO municipio]],[3]!Tabla6[[#All],[codigo_mun]],1,FALSE),\"\")","v":""},{"$f":"IFERROR(VLOOKUP(Tabla38[[#This Row],[CODIGO municipio]],[3]!Tabla12[#All],2,FALSE),\"\")","v":""},{"$f":"IFERROR(VLOOKUP(Tabla38[[#This Row],[CODIGO municipio]],[3]!Tabla7[#All],3,FALSE),\"\")","v":""},{"$f":"IFERROR(VLOOKUP(Tabla38[[#This Row],[CODIGO municipio]],[3]!Tabla7[#All],4,FALSE),\"\")","v":""},{"$f":"IFERROR(VLOOKUP(Tabla38[[#This Row],[CODIGO municipio]],[3]!Tabla7[#All],11,FALSE),\"\")","v":""},{"$f":"IFERROR(VLOOKUP(Tabla38[[#This Row],[CODIGO municipio]],[3]!Tabla7[#All],12,FALSE),\"\")","v":""},{"$f":"IFERROR(VLOOKUP(Tabla38[[#This Row],[CODIGO municipio]],[3]!Tabla7[#All],13,FALSE),\"\")","v":""},{"$f":"IFERROR(VLOOKUP(Tabla38[[#This Row],[CODIGO municipio]],[3]!Tabla7[#All],14,FALSE),\"\")","v":""},{"$f":"IFERROR(VLOOKUP(Tabla38[[#This Row],[CODIGO municipio]],[3]!Tabla7[#All],15,FALSE),\"\")","v":""},{"$f":"IFERROR(VLOOKUP(Tabla38[[#This Row],[CODIGO municipio]],[3]!Tabla7[#All],16,FALSE),\"\")","v":""},{"$f":"IFERROR(VLOOKUP(Tabla38[[#This Row],[CODIGO municipio]],[3]!Tabla7[#All],17,FALSE),\"\")","v":""},{"$f":"IFERROR(VLOOKUP(Tabla38[[#This Row],[CODIGO municipio]],[3]!Tabla7[#All],18,FALSE),\"\")","v":""},{"$f":"IFERROR(VLOOKUP(Tabla38[[#This Row],[CODIGO municipio]],[3]!Tabla7[#All],19,FALSE),\"\")","v":""},{"$f":"IFERROR(VLOOKUP(Tabla38[[#This Row],[CODIGO municipio]],[3]!Tabla8[#All],3,FALSE),\"\")","v":""},{"$f":"IFERROR(VLOOKUP(Tabla38[[#This Row],[CODIGO municipio]],[3]!Tabla8[#All],4,FALSE),\"\")","v":""},{"$f":"IFERROR(VLOOKUP(Tabla38[[#This Row],[CODIGO municipio]],[3]!Tabla8[#All],5,FALSE),\"\")","v":""},{"$f":"IFERROR(VLOOKUP(Tabla38[[#This Row],[CODIGO municipio]],[3]!Tabla8[#All],6,FALSE),\"\")","v":""},{"$f":"IFERROR(VLOOKUP(Tabla38[[#This Row],[CODIGO municipio]],[3]!Tabla8[#All],7,FALSE),\"\")","v":""},{"$f":"IFERROR(VLOOKUP(Tabla38[[#This Row],[CODIGO municipio]],[3]!Tabla8[#All],8,FALSE),\"\")","v":""},{"$f":"IFERROR(VLOOKUP(Tabla38[[#This Row],[CODIGO municipio]],[3]!Tabla8[#All],9,FALSE),\"\")","v":""},{"$f":"IFERROR(VLOOKUP(Tabla38[[#This Row],[CODIGO municipio]],[3]!Tabla8[#All],10,FALSE),\"\")","v":""},{"$f":"IFERROR(VLOOKUP(Tabla38[[#This Row],[CODIGO municipio]],[3]!Tabla8[#All],11,FALSE),\"\")","v":""},{"$f":"IFERROR(VLOOKUP(Tabla38[[#This Row],[CODIGO municipio]],[3]!Tabla8[#All],12,FALSE),\"\")","v":""},{"$f":"IFERROR(VLOOKUP(Tabla38[[#This Row],[CODIGO municipio]],[3]!Tabla8[#All],13,FALSE),\"\")","v":""},{"$f":"IFERROR(VLOOKUP(Tabla38[[#This Row],[CODIGO municipio]],[3]!Tabla8[#All],14,FALSE),\"\")","v":""},{"$f":"IFERROR(VLOOKUP(Tabla38[[#This Row],[CODIGO municipio]],[3]!Tabla8[#All],15,FALSE),\"\")","v":""},{"$f":"IFERROR(VLOOKUP(Tabla38[[#This Row],[CODIGO municipio]],[3]!Tabla8[#All],16,FALSE),\"\")","v":""},{"$f":"IFERROR(VLOOKUP(Tabla38[[#This Row],[CODIGO municipio]],[3]!Tabla8[#All],17,FALSE),\"\")","v":""},{"$f":"IFERROR(VLOOKUP(Tabla38[[#This Row],[CODIGO municipio]],[3]!Tabla8[#All],18,FALSE),\"\")","v":""},{"$f":"IFERROR(VLOOKUP(Tabla38[[#This Row],[CODIGO municipio]],[3]!Tabla8[#All],19,FALSE),\"\")","v":""},{"$f":"IFERROR(VLOOKUP(Tabla38[[#This Row],[CODIGO municipio]],[3]!Tabla8[#All],20,FALSE),\"\")","v":""},{"$f":"IFERROR(VLOOKUP(Tabla38[[#This Row],[CODIGO municipio]],[3]!Tabla8[#All],21,FALSE),\"\")","v":""},{"$f":"IFERROR(VLOOKUP(Tabla38[[#This Row],[CODIGO municipio]],[3]!Tabla8[#All],22,FALSE),\"\")","v":""},{"$f":"IFERROR(VLOOKUP(Tabla38[[#This Row],[CODIGO municipio]],[3]!Tabla8[#All],23,FALSE),\"\")","v":""},{"$f":"IFERROR(VLOOKUP(Tabla38[[#This Row],[CODIGO municipio]],[3]!Tabla9[#All],3,FALSE),\"\")","v":""}]
[{"$f":"IFERROR(VLOOKUP(Tabla38[[#This Row],[Municipio]],[3]!Tabla2[#All],3,FALSE),\"\")","v":""},1603,"San Cristóbal Verapaz",{"$f":"IFERROR(VLOOKUP(Tabla38[[#This Row],[CODIGO municipio]],[3]!Tabla6[[#All],[codigo_mun]],1,FALSE),\"\")","v":""},{"$f":"IFERROR(VLOOKUP(Tabla38[[#This Row],[CODIGO municipio]],[3]!Tabla12[#All],2,FALSE),\"\")","v":""},{"$f":"IFERROR(VLOOKUP(Tabla38[[#This Row],[CODIGO municipio]],[3]!Tabla7[#All],3,FALSE),\"\")","v":""},{"$f":"IFERROR(VLOOKUP(Tabla38[[#This Row],[CODIGO municipio]],[3]!Tabla7[#All],4,FALSE),\"\")","v":""},{"$f":"IFERROR(VLOOKUP(Tabla38[[#This Row],[CODIGO municipio]],[3]!Tabla7[#All],11,FALSE),\"\")","v":""},{"$f":"IFERROR(VLOOKUP(Tabla38[[#This Row],[CODIGO municipio]],[3]!Tabla7[#All],12,FALSE),\"\")","v":""},{"$f":"IFERROR(VLOOKUP(Tabla38[[#This Row],[CODIGO municipio]],[3]!Tabla7[#All],13,FALSE),\"\")","v":""},{"$f":"IFERROR(VLOOKUP(Tabla38[[#This Row],[CODIGO municipio]],[3]!Tabla7[#All],14,FALSE),\"\")","v":""},{"$f":"IFERROR(VLOOKUP(Tabla38[[#This Row],[CODIGO municipio]],[3]!Tabla7[#All],15,FALSE),\"\")","v":""},{"$f":"IFERROR(VLOOKUP(Tabla38[[#This Row],[CODIGO municipio]],[3]!Tabla7[#All],16,FALSE),\"\")","v":""},{"$f":"IFERROR(VLOOKUP(Tabla38[[#This Row],[CODIGO municipio]],[3]!Tabla7[#All],17,FALSE),\"\")","v":""},{"$f":"IFERROR(VLOOKUP(Tabla38[[#This Row],[CODIGO municipio]],[3]!Tabla7[#All],18,FALSE),\"\")","v":""},{"$f":"IFERROR(VLOOKUP(Tabla38[[#This Row],[CODIGO municipio]],[3]!Tabla7[#All],19,FALSE),\"\")","v":""},{"$f":"IFERROR(VLOOKUP(Tabla38[[#This Row],[CODIGO municipio]],[3]!Tabla8[#All],3,FALSE),\"\")","v":""},{"$f":"IFERROR(VLOOKUP(Tabla38[[#This Row],[CODIGO municipio]],[3]!Tabla8[#All],4,FALSE),\"\")","v":""},{"$f":"IFERROR(VLOOKUP(Tabla38[[#This Row],[CODIGO municipio]],[3]!Tabla8[#All],5,FALSE),\"\")","v":""},{"$f":"IFERROR(VLOOKUP(Tabla38[[#This Row],[CODIGO municipio]],[3]!Tabla8[#All],6,FALSE),\"\")","v":""},{"$f":"IFERROR(VLOOKUP(Tabla38[[#This Row],[CODIGO municipio]],[3]!Tabla8[#All],7,FALSE),\"\")","v":""},{"$f":"IFERROR(VLOOKUP(Tabla38[[#This Row],[CODIGO municipio]],[3]!Tabla8[#All],8,FALSE),\"\")","v":""},{"$f":"IFERROR(VLOOKUP(Tabla38[[#This Row],[CODIGO municipio]],[3]!Tabla8[#All],9,FALSE),\"\")","v":""},{"$f":"IFERROR(VLOOKUP(Tabla38[[#This Row],[CODIGO municipio]],[3]!Tabla8[#All],10,FALSE),\"\")","v":""},{"$f":"IFERROR(VLOOKUP(Tabla38[[#This Row],[CODIGO municipio]],[3]!Tabla8[#All],11,FALSE),\"\")","v":""},{"$f":"IFERROR(VLOOKUP(Tabla38[[#This Row],[CODIGO municipio]],[3]!Tabla8[#All],12,FALSE),\"\")","v":""},{"$f":"IFERROR(VLOOKUP(Tabla38[[#This Row],[CODIGO municipio]],[3]!Tabla8[#All],13,FALSE),\"\")","v":""},{"$f":"IFERROR(VLOOKUP(Tabla38[[#This Row],[CODIGO municipio]],[3]!Tabla8[#All],14,FALSE),\"\")","v":""},{"$f":"IFERROR(VLOOKUP(Tabla38[[#This Row],[CODIGO municipio]],[3]!Tabla8[#All],15,FALSE),\"\")","v":""},{"$f":"IFERROR(VLOOKUP(Tabla38[[#This Row],[CODIGO municipio]],[3]!Tabla8[#All],16,FALSE),\"\")","v":""},{"$f":"IFERROR(VLOOKUP(Tabla38[[#This Row],[CODIGO municipio]],[3]!Tabla8[#All],17,FALSE),\"\")","v":""},{"$f":"IFERROR(VLOOKUP(Tabla38[[#This Row],[CODIGO municipio]],[3]!Tabla8[#All],18,FALSE),\"\")","v":""},{"$f":"IFERROR(VLOOKUP(Tabla38[[#This Row],[CODIGO municipio]],[3]!Tabla8[#All],19,FALSE),\"\")","v":""},{"$f":"IFERROR(VLOOKUP(Tabla38[[#This Row],[CODIGO municipio]],[3]!Tabla8[#All],20,FALSE),\"\")","v":""},{"$f":"IFERROR(VLOOKUP(Tabla38[[#This Row],[CODIGO municipio]],[3]!Tabla8[#All],21,FALSE),\"\")","v":""},{"$f":"IFERROR(VLOOKUP(Tabla38[[#This Row],[CODIGO municipio]],[3]!Tabla8[#All],22,FALSE),\"\")","v":""},{"$f":"IFERROR(VLOOKUP(Tabla38[[#This Row],[CODIGO municipio]],[3]!Tabla8[#All],23,FALSE),\"\")","v":""},{"$f":"IFERROR(VLOOKUP(Tabla38[[#This Row],[CODIGO municipio]],[3]!Tabla9[#All],3,FALSE),\"\")","v":""}]
[{"$f":"IFERROR(VLOOKUP(Tabla38[[#This Row],[Municipio]],[3]!Tabla2[#All],3,FALSE),\"\")","v":""},1604,"Tactic",{"$f":"IFERROR(VLOOKUP(Tabla38[[#This Row],[CODIGO municipio]],[3]!Tabla6[[#All],[codigo_mun]],1,FALSE),\"\")","v":""},{"$f":"IFERROR(VLOOKUP(Tabla38[[#This Row],[CODIGO municipio]],[3]!Tabla12[#All],2,FALSE),\"\")","v":""},{"$f":"IFERROR(VLOOKUP(Tabla38[[#This Row],[CODIGO municipio]],[3]!Tabla7[#All],3,FALSE),\"\")","v":""},{"$f":"IFERROR(VLOOKUP(Tabla38[[#This Row],[CODIGO municipio]],[3]!Tabla7[#All],4,FALSE),\"\")","v":""},{"$f":"IFERROR(VLOOKUP(Tabla38[[#This Row],[CODIGO municipio]],[3]!Tabla7[#All],11,FALSE),\"\")","v":""},{"$f":"IFERROR(VLOOKUP(Tabla38[[#This Row],[CODIGO municipio]],[3]!Tabla7[#All],12,FALSE),\"\")","v":""},{"$f":"IFERROR(VLOOKUP(Tabla38[[#This Row],[CODIGO municipio]],[3]!Tabla7[#All],13,FALSE),\"\")","v":""},{"$f":"IFERROR(VLOOKUP(Tabla38[[#This Row],[CODIGO municipio]],[3]!Tabla7[#All],14,FALSE),\"\")","v":""},{"$f":"IFERROR(VLOOKUP(Tabla38[[#This Row],[CODIGO municipio]],[3]!Tabla7[#All],15,FALSE),\"\")","v":""},{"$f":"IFERROR(VLOOKUP(Tabla38[[#This Row],[CODIGO municipio]],[3]!Tabla7[#All],16,FALSE),\"\")","v":""},{"$f":"IFERROR(VLOOKUP(Tabla38[[#This Row],[CODIGO municipio]],[3]!Tabla7[#All],17,FALSE),\"\")","v":""},{"$f":"IFERROR(VLOOKUP(Tabla38[[#This Row],[CODIGO municipio]],[3]!Tabla7[#All],18,FALSE),\"\")","v":""},{"$f":"IFERROR(VLOOKUP(Tabla38[[#This Row],[CODIGO municipio]],[3]!Tabla7[#All],19,FALSE),\"\")","v":""},{"$f":"IFERROR(VLOOKUP(Tabla38[[#This Row],[CODIGO municipio]],[3]!Tabla8[#All],3,FALSE),\"\")","v":""},{"$f":"IFERROR(VLOOKUP(Tabla38[[#This Row],[CODIGO municipio]],[3]!Tabla8[#All],4,FALSE),\"\")","v":""},{"$f":"IFERROR(VLOOKUP(Tabla38[[#This Row],[CODIGO municipio]],[3]!Tabla8[#All],5,FALSE),\"\")","v":""},{"$f":"IFERROR(VLOOKUP(Tabla38[[#This Row],[CODIGO municipio]],[3]!Tabla8[#All],6,FALSE),\"\")","v":""},{"$f":"IFERROR(VLOOKUP(Tabla38[[#This Row],[CODIGO municipio]],[3]!Tabla8[#All],7,FALSE),\"\")","v":""},{"$f":"IFERROR(VLOOKUP(Tabla38[[#This Row],[CODIGO municipio]],[3]!Tabla8[#All],8,FALSE),\"\")","v":""},{"$f":"IFERROR(VLOOKUP(Tabla38[[#This Row],[CODIGO municipio]],[3]!Tabla8[#All],9,FALSE),\"\")","v":""},{"$f":"IFERROR(VLOOKUP(Tabla38[[#This Row],[CODIGO municipio]],[3]!Tabla8[#All],10,FALSE),\"\")","v":""},{"$f":"IFERROR(VLOOKUP(Tabla38[[#This Row],[CODIGO municipio]],[3]!Tabla8[#All],11,FALSE),\"\")","v":""},{"$f":"IFERROR(VLOOKUP(Tabla38[[#This Row],[CODIGO municipio]],[3]!Tabla8[#All],12,FALSE),\"\")","v":""},{"$f":"IFERROR(VLOOKUP(Tabla38[[#This Row],[CODIGO municipio]],[3]!Tabla8[#All],13,FALSE),\"\")","v":""},{"$f":"IFERROR(VLOOKUP(Tabla38[[#This Row],[CODIGO municipio]],[3]!Tabla8[#All],14,FALSE),\"\")","v":""},{"$f":"IFERROR(VLOOKUP(Tabla38[[#This Row],[CODIGO municipio]],[3]!Tabla8[#All],15,FALSE),\"\")","v":""},{"$f":"IFERROR(VLOOKUP(Tabla38[[#This Row],[CODIGO municipio]],[3]!Tabla8[#All],16,FALSE),\"\")","v":""},{"$f":"IFERROR(VLOOKUP(Tabla38[[#This Row],[CODIGO municipio]],[3]!Tabla8[#All],17,FALSE),\"\")","v":""},{"$f":"IFERROR(VLOOKUP(Tabla38[[#This Row],[CODIGO municipio]],[3]!Tabla8[#All],18,FALSE),\"\")","v":""},{"$f":"IFERROR(VLOOKUP(Tabla38[[#This Row],[CODIGO municipio]],[3]!Tabla8[#All],19,FALSE),\"\")","v":""},{"$f":"IFERROR(VLOOKUP(Tabla38[[#This Row],[CODIGO municipio]],[3]!Tabla8[#All],20,FALSE),\"\")","v":""},{"$f":"IFERROR(VLOOKUP(Tabla38[[#This Row],[CODIGO municipio]],[3]!Tabla8[#All],21,FALSE),\"\")","v":""},{"$f":"IFERROR(VLOOKUP(Tabla38[[#This Row],[CODIGO municipio]],[3]!Tabla8[#All],22,FALSE),\"\")","v":""},{"$f":"IFERROR(VLOOKUP(Tabla38[[#This Row],[CODIGO municipio]],[3]!Tabla8[#All],23,FALSE),\"\")","v":""},{"$f":"IFERROR(VLOOKUP(Tabla38[[#This Row],[CODIGO municipio]],[3]!Tabla9[#All],3,FALSE),\"\")","v":""}]
[{"$f":"IFERROR(VLOOKUP(Tabla38[[#This Row],[Municipio]],[3]!Tabla2[#All],3,FALSE),\"\")","v":""},1605,"Tamahú",{"$f":"IFERROR(VLOOKUP(Tabla38[[#This Row],[CODIGO municipio]],[3]!Tabla6[[#All],[codigo_mun]],1,FALSE),\"\")","v":""},{"$f":"IFERROR(VLOOKUP(Tabla38[[#This Row],[CODIGO municipio]],[3]!Tabla12[#All],2,FALSE),\"\")","v":""},{"$f":"IFERROR(VLOOKUP(Tabla38[[#This Row],[CODIGO municipio]],[3]!Tabla7[#All],3,FALSE),\"\")","v":""},{"$f":"IFERROR(VLOOKUP(Tabla38[[#This Row],[CODIGO municipio]],[3]!Tabla7[#All],4,FALSE),\"\")","v":""},{"$f":"IFERROR(VLOOKUP(Tabla38[[#This Row],[CODIGO municipio]],[3]!Tabla7[#All],11,FALSE),\"\")","v":""},{"$f":"IFERROR(VLOOKUP(Tabla38[[#This Row],[CODIGO municipio]],[3]!Tabla7[#All],12,FALSE),\"\")","v":""},{"$f":"IFERROR(VLOOKUP(Tabla38[[#This Row],[CODIGO municipio]],[3]!Tabla7[#All],13,FALSE),\"\")","v":""},{"$f":"IFERROR(VLOOKUP(Tabla38[[#This Row],[CODIGO municipio]],[3]!Tabla7[#All],14,FALSE),\"\")","v":""},{"$f":"IFERROR(VLOOKUP(Tabla38[[#This Row],[CODIGO municipio]],[3]!Tabla7[#All],15,FALSE),\"\")","v":""},{"$f":"IFERROR(VLOOKUP(Tabla38[[#This Row],[CODIGO municipio]],[3]!Tabla7[#All],16,FALSE),\"\")","v":""},{"$f":"IFERROR(VLOOKUP(Tabla38[[#This Row],[CODIGO municipio]],[3]!Tabla7[#All],17,FALSE),\"\")","v":""},{"$f":"IFERROR(VLOOKUP(Tabla38[[#This Row],[CODIGO municipio]],[3]!Tabla7[#All],18,FALSE),\"\")","v":""},{"$f":"IFERROR(VLOOKUP(Tabla38[[#This Row],[CODIGO municipio]],[3]!Tabla7[#All],19,FALSE),\"\")","v":""},{"$f":"IFERROR(VLOOKUP(Tabla38[[#This Row],[CODIGO municipio]],[3]!Tabla8[#All],3,FALSE),\"\")","v":""},{"$f":"IFERROR(VLOOKUP(Tabla38[[#This Row],[CODIGO municipio]],[3]!Tabla8[#All],4,FALSE),\"\")","v":""},{"$f":"IFERROR(VLOOKUP(Tabla38[[#This Row],[CODIGO municipio]],[3]!Tabla8[#All],5,FALSE),\"\")","v":""},{"$f":"IFERROR(VLOOKUP(Tabla38[[#This Row],[CODIGO municipio]],[3]!Tabla8[#All],6,FALSE),\"\")","v":""},{"$f":"IFERROR(VLOOKUP(Tabla38[[#This Row],[CODIGO municipio]],[3]!Tabla8[#All],7,FALSE),\"\")","v":""},{"$f":"IFERROR(VLOOKUP(Tabla38[[#This Row],[CODIGO municipio]],[3]!Tabla8[#All],8,FALSE),\"\")","v":""},{"$f":"IFERROR(VLOOKUP(Tabla38[[#This Row],[CODIGO municipio]],[3]!Tabla8[#All],9,FALSE),\"\")","v":""},{"$f":"IFERROR(VLOOKUP(Tabla38[[#This Row],[CODIGO municipio]],[3]!Tabla8[#All],10,FALSE),\"\")","v":""},{"$f":"IFERROR(VLOOKUP(Tabla38[[#This Row],[CODIGO municipio]],[3]!Tabla8[#All],11,FALSE),\"\")","v":""},{"$f":"IFERROR(VLOOKUP(Tabla38[[#This Row],[CODIGO municipio]],[3]!Tabla8[#All],12,FALSE),\"\")","v":""},{"$f":"IFERROR(VLOOKUP(Tabla38[[#This Row],[CODIGO municipio]],[3]!Tabla8[#All],13,FALSE),\"\")","v":""},{"$f":"IFERROR(VLOOKUP(Tabla38[[#This Row],[CODIGO municipio]],[3]!Tabla8[#All],14,FALSE),\"\")","v":""},{"$f":"IFERROR(VLOOKUP(Tabla38[[#This Row],[CODIGO municipio]],[3]!Tabla8[#All],15,FALSE),\"\")","v":""},{"$f":"IFERROR(VLOOKUP(Tabla38[[#This Row],[CODIGO municipio]],[3]!Tabla8[#All],16,FALSE),\"\")","v":""},{"$f":"IFERROR(VLOOKUP(Tabla38[[#This Row],[CODIGO municipio]],[3]!Tabla8[#All],17,FALSE),\"\")","v":""},{"$f":"IFERROR(VLOOKUP(Tabla38[[#This Row],[CODIGO municipio]],[3]!Tabla8[#All],18,FALSE),\"\")","v":""},{"$f":"IFERROR(VLOOKUP(Tabla38[[#This Row],[CODIGO municipio]],[3]!Tabla8[#All],19,FALSE),\"\")","v":""},{"$f":"IFERROR(VLOOKUP(Tabla38[[#This Row],[CODIGO municipio]],[3]!Tabla8[#All],20,FALSE),\"\")","v":""},{"$f":"IFERROR(VLOOKUP(Tabla38[[#This Row],[CODIGO municipio]],[3]!Tabla8[#All],21,FALSE),\"\")","v":""},{"$f":"IFERROR(VLOOKUP(Tabla38[[#This Row],[CODIGO municipio]],[3]!Tabla8[#All],22,FALSE),\"\")","v":""},{"$f":"IFERROR(VLOOKUP(Tabla38[[#This Row],[CODIGO municipio]],[3]!Tabla8[#All],23,FALSE),\"\")","v":""},{"$f":"IFERROR(VLOOKUP(Tabla38[[#This Row],[CODIGO municipio]],[3]!Tabla9[#All],3,FALSE),\"\")","v":""}]
[{"$f":"IFERROR(VLOOKUP(Tabla38[[#This Row],[Municipio]],[3]!Tabla2[#All],3,FALSE),\"\")","v":""},1606,"Tucurú",{"$f":"IFERROR(VLOOKUP(Tabla38[[#This Row],[CODIGO municipio]],[3]!Tabla6[[#All],[codigo_mun]],1,FALSE),\"\")","v":""},{"$f":"IFERROR(VLOOKUP(Tabla38[[#This Row],[CODIGO municipio]],[3]!Tabla12[#All],2,FALSE),\"\")","v":""},{"$f":"IFERROR(VLOOKUP(Tabla38[[#This Row],[CODIGO municipio]],[3]!Tabla7[#All],3,FALSE),\"\")","v":""},{"$f":"IFERROR(VLOOKUP(Tabla38[[#This Row],[CODIGO municipio]],[3]!Tabla7[#All],4,FALSE),\"\")","v":""},{"$f":"IFERROR(VLOOKUP(Tabla38[[#This Row],[CODIGO municipio]],[3]!Tabla7[#All],11,FALSE),\"\")","v":""},{"$f":"IFERROR(VLOOKUP(Tabla38[[#This Row],[CODIGO municipio]],[3]!Tabla7[#All],12,FALSE),\"\")","v":""},{"$f":"IFERROR(VLOOKUP(Tabla38[[#This Row],[CODIGO municipio]],[3]!Tabla7[#All],13,FALSE),\"\")","v":""},{"$f":"IFERROR(VLOOKUP(Tabla38[[#This Row],[CODIGO municipio]],[3]!Tabla7[#All],14,FALSE),\"\")","v":""},{"$f":"IFERROR(VLOOKUP(Tabla38[[#This Row],[CODIGO municipio]],[3]!Tabla7[#All],15,FALSE),\"\")","v":""},{"$f":"IFERROR(VLOOKUP(Tabla38[[#This Row],[CODIGO municipio]],[3]!Tabla7[#All],16,FALSE),\"\")","v":""},{"$f":"IFERROR(VLOOKUP(Tabla38[[#This Row],[CODIGO municipio]],[3]!Tabla7[#All],17,FALSE),\"\")","v":""},{"$f":"IFERROR(VLOOKUP(Tabla38[[#This Row],[CODIGO municipio]],[3]!Tabla7[#All],18,FALSE),\"\")","v":""},{"$f":"IFERROR(VLOOKUP(Tabla38[[#This Row],[CODIGO municipio]],[3]!Tabla7[#All],19,FALSE),\"\")","v":""},{"$f":"IFERROR(VLOOKUP(Tabla38[[#This Row],[CODIGO municipio]],[3]!Tabla8[#All],3,FALSE),\"\")","v":""},{"$f":"IFERROR(VLOOKUP(Tabla38[[#This Row],[CODIGO municipio]],[3]!Tabla8[#All],4,FALSE),\"\")","v":""},{"$f":"IFERROR(VLOOKUP(Tabla38[[#This Row],[CODIGO municipio]],[3]!Tabla8[#All],5,FALSE),\"\")","v":""},{"$f":"IFERROR(VLOOKUP(Tabla38[[#This Row],[CODIGO municipio]],[3]!Tabla8[#All],6,FALSE),\"\")","v":""},{"$f":"IFERROR(VLOOKUP(Tabla38[[#This Row],[CODIGO municipio]],[3]!Tabla8[#All],7,FALSE),\"\")","v":""},{"$f":"IFERROR(VLOOKUP(Tabla38[[#This Row],[CODIGO municipio]],[3]!Tabla8[#All],8,FALSE),\"\")","v":""},{"$f":"IFERROR(VLOOKUP(Tabla38[[#This Row],[CODIGO municipio]],[3]!Tabla8[#All],9,FALSE),\"\")","v":""},{"$f":"IFERROR(VLOOKUP(Tabla38[[#This Row],[CODIGO municipio]],[3]!Tabla8[#All],10,FALSE),\"\")","v":""},{"$f":"IFERROR(VLOOKUP(Tabla38[[#This Row],[CODIGO municipio]],[3]!Tabla8[#All],11,FALSE),\"\")","v":""},{"$f":"IFERROR(VLOOKUP(Tabla38[[#This Row],[CODIGO municipio]],[3]!Tabla8[#All],12,FALSE),\"\")","v":""},{"$f":"IFERROR(VLOOKUP(Tabla38[[#This Row],[CODIGO municipio]],[3]!Tabla8[#All],13,FALSE),\"\")","v":""},{"$f":"IFERROR(VLOOKUP(Tabla38[[#This Row],[CODIGO municipio]],[3]!Tabla8[#All],14,FALSE),\"\")","v":""},{"$f":"IFERROR(VLOOKUP(Tabla38[[#This Row],[CODIGO municipio]],[3]!Tabla8[#All],15,FALSE),\"\")","v":""},{"$f":"IFERROR(VLOOKUP(Tabla38[[#This Row],[CODIGO municipio]],[3]!Tabla8[#All],16,FALSE),\"\")","v":""},{"$f":"IFERROR(VLOOKUP(Tabla38[[#This Row],[CODIGO municipio]],[3]!Tabla8[#All],17,FALSE),\"\")","v":""},{"$f":"IFERROR(VLOOKUP(Tabla38[[#This Row],[CODIGO municipio]],[3]!Tabla8[#All],18,FALSE),\"\")","v":""},{"$f":"IFERROR(VLOOKUP(Tabla38[[#This Row],[CODIGO municipio]],[3]!Tabla8[#All],19,FALSE),\"\")","v":""},{"$f":"IFERROR(VLOOKUP(Tabla38[[#This Row],[CODIGO municipio]],[3]!Tabla8[#All],20,FALSE),\"\")","v":""},{"$f":"IFERROR(VLOOKUP(Tabla38[[#This Row],[CODIGO municipio]],[3]!Tabla8[#All],21,FALSE),\"\")","v":""},{"$f":"IFERROR(VLOOKUP(Tabla38[[#This Row],[CODIGO municipio]],[3]!Tabla8[#All],22,FALSE),\"\")","v":""},{"$f":"IFERROR(VLOOKUP(Tabla38[[#This Row],[CODIGO municipio]],[3]!Tabla8[#All],23,FALSE),\"\")","v":""},{"$f":"IFERROR(VLOOKUP(Tabla38[[#This Row],[CODIGO municipio]],[3]!Tabla9[#All],3,FALSE),\"\")","v":""}]
[{"$f":"IFERROR(VLOOKUP(Tabla38[[#This Row],[Municipio]],[3]!Tabla2[#All],3,FALSE),\"\")","v":""},1607,"Panzós",{"$f":"IFERROR(VLOOKUP(Tabla38[[#This Row],[CODIGO municipio]],[3]!Tabla6[[#All],[codigo_mun]],1,FALSE),\"\")","v":""},{"$f":"IFERROR(VLOOKUP(Tabla38[[#This Row],[CODIGO municipio]],[3]!Tabla12[#All],2,FALSE),\"\")","v":""},{"$f":"IFERROR(VLOOKUP(Tabla38[[#This Row],[CODIGO municipio]],[3]!Tabla7[#All],3,FALSE),\"\")","v":""},{"$f":"IFERROR(VLOOKUP(Tabla38[[#This Row],[CODIGO municipio]],[3]!Tabla7[#All],4,FALSE),\"\")","v":""},{"$f":"IFERROR(VLOOKUP(Tabla38[[#This Row],[CODIGO municipio]],[3]!Tabla7[#All],11,FALSE),\"\")","v":""},{"$f":"IFERROR(VLOOKUP(Tabla38[[#This Row],[CODIGO municipio]],[3]!Tabla7[#All],12,FALSE),\"\")","v":""},{"$f":"IFERROR(VLOOKUP(Tabla38[[#This Row],[CODIGO municipio]],[3]!Tabla7[#All],13,FALSE),\"\")","v":""},{"$f":"IFERROR(VLOOKUP(Tabla38[[#This Row],[CODIGO municipio]],[3]!Tabla7[#All],14,FALSE),\"\")","v":""},{"$f":"IFERROR(VLOOKUP(Tabla38[[#This Row],[CODIGO municipio]],[3]!Tabla7[#All],15,FALSE),\"\")","v":""},{"$f":"IFERROR(VLOOKUP(Tabla38[[#This Row],[CODIGO municipio]],[3]!Tabla7[#All],16,FALSE),\"\")","v":""},{"$f":"IFERROR(VLOOKUP(Tabla38[[#This Row],[CODIGO municipio]],[3]!Tabla7[#All],17,FALSE),\"\")","v":""},{"$f":"IFERROR(VLOOKUP(Tabla38[[#This Row],[CODIGO municipio]],[3]!Tabla7[#All],18,FALSE),\"\")","v":""},{"$f":"IFERROR(VLOOKUP(Tabla38[[#This Row],[CODIGO municipio]],[3]!Tabla7[#All],19,FALSE),\"\")","v":""},{"$f":"IFERROR(VLOOKUP(Tabla38[[#This Row],[CODIGO municipio]],[3]!Tabla8[#All],3,FALSE),\"\")","v":""},{"$f":"IFERROR(VLOOKUP(Tabla38[[#This Row],[CODIGO municipio]],[3]!Tabla8[#All],4,FALSE),\"\")","v":""},{"$f":"IFERROR(VLOOKUP(Tabla38[[#This Row],[CODIGO municipio]],[3]!Tabla8[#All],5,FALSE),\"\")","v":""},{"$f":"IFERROR(VLOOKUP(Tabla38[[#This Row],[CODIGO municipio]],[3]!Tabla8[#All],6,FALSE),\"\")","v":""},{"$f":"IFERROR(VLOOKUP(Tabla38[[#This Row],[CODIGO municipio]],[3]!Tabla8[#All],7,FALSE),\"\")","v":""},{"$f":"IFERROR(VLOOKUP(Tabla38[[#This Row],[CODIGO municipio]],[3]!Tabla8[#All],8,FALSE),\"\")","v":""},{"$f":"IFERROR(VLOOKUP(Tabla38[[#This Row],[CODIGO municipio]],[3]!Tabla8[#All],9,FALSE),\"\")","v":""},{"$f":"IFERROR(VLOOKUP(Tabla38[[#This Row],[CODIGO municipio]],[3]!Tabla8[#All],10,FALSE),\"\")","v":""},{"$f":"IFERROR(VLOOKUP(Tabla38[[#This Row],[CODIGO municipio]],[3]!Tabla8[#All],11,FALSE),\"\")","v":""},{"$f":"IFERROR(VLOOKUP(Tabla38[[#This Row],[CODIGO municipio]],[3]!Tabla8[#All],12,FALSE),\"\")","v":""},{"$f":"IFERROR(VLOOKUP(Tabla38[[#This Row],[CODIGO municipio]],[3]!Tabla8[#All],13,FALSE),\"\")","v":""},{"$f":"IFERROR(VLOOKUP(Tabla38[[#This Row],[CODIGO municipio]],[3]!Tabla8[#All],14,FALSE),\"\")","v":""},{"$f":"IFERROR(VLOOKUP(Tabla38[[#This Row],[CODIGO municipio]],[3]!Tabla8[#All],15,FALSE),\"\")","v":""},{"$f":"IFERROR(VLOOKUP(Tabla38[[#This Row],[CODIGO municipio]],[3]!Tabla8[#All],16,FALSE),\"\")","v":""},{"$f":"IFERROR(VLOOKUP(Tabla38[[#This Row],[CODIGO municipio]],[3]!Tabla8[#All],17,FALSE),\"\")","v":""},{"$f":"IFERROR(VLOOKUP(Tabla38[[#This Row],[CODIGO municipio]],[3]!Tabla8[#All],18,FALSE),\"\")","v":""},{"$f":"IFERROR(VLOOKUP(Tabla38[[#This Row],[CODIGO municipio]],[3]!Tabla8[#All],19,FALSE),\"\")","v":""},{"$f":"IFERROR(VLOOKUP(Tabla38[[#This Row],[CODIGO municipio]],[3]!Tabla8[#All],20,FALSE),\"\")","v":""},{"$f":"IFERROR(VLOOKUP(Tabla38[[#This Row],[CODIGO municipio]],[3]!Tabla8[#All],21,FALSE),\"\")","v":""},{"$f":"IFERROR(VLOOKUP(Tabla38[[#This Row],[CODIGO municipio]],[3]!Tabla8[#All],22,FALSE),\"\")","v":""},{"$f":"IFERROR(VLOOKUP(Tabla38[[#This Row],[CODIGO municipio]],[3]!Tabla8[#All],23,FALSE),\"\")","v":""},{"$f":"IFERROR(VLOOKUP(Tabla38[[#This Row],[CODIGO municipio]],[3]!Tabla9[#All],3,FALSE),\"\")","v":""}]
[{"$f":"IFERROR(VLOOKUP(Tabla38[[#This Row],[Municipio]],[3]!Tabla2[#All],3,FALSE),\"\")","v":""},1608,"Senahú",{"$f":"IFERROR(VLOOKUP(Tabla38[[#This Row],[CODIGO municipio]],[3]!Tabla6[[#All],[codigo_mun]],1,FALSE),\"\")","v":""},{"$f":"IFERROR(VLOOKUP(Tabla38[[#This Row],[CODIGO municipio]],[3]!Tabla12[#All],2,FALSE),\"\")","v":""},{"$f":"IFERROR(VLOOKUP(Tabla38[[#This Row],[CODIGO municipio]],[3]!Tabla7[#All],3,FALSE),\"\")","v":""},{"$f":"IFERROR(VLOOKUP(Tabla38[[#This Row],[CODIGO municipio]],[3]!Tabla7[#All],4,FALSE),\"\")","v":""},{"$f":"IFERROR(VLOOKUP(Tabla38[[#This Row],[CODIGO municipio]],[3]!Tabla7[#All],11,FALSE),\"\")","v":""},{"$f":"IFERROR(VLOOKUP(Tabla38[[#This Row],[CODIGO municipio]],[3]!Tabla7[#All],12,FALSE),\"\")","v":""},{"$f":"IFERROR(VLOOKUP(Tabla38[[#This Row],[CODIGO municipio]],[3]!Tabla7[#All],13,FALSE),\"\")","v":""},{"$f":"IFERROR(VLOOKUP(Tabla38[[#This Row],[CODIGO municipio]],[3]!Tabla7[#All],14,FALSE),\"\")","v":""},{"$f":"IFERROR(VLOOKUP(Tabla38[[#This Row],[CODIGO municipio]],[3]!Tabla7[#All],15,FALSE),\"\")","v":""},{"$f":"IFERROR(VLOOKUP(Tabla38[[#This Row],[CODIGO municipio]],[3]!Tabla7[#All],16,FALSE),\"\")","v":""},{"$f":"IFERROR(VLOOKUP(Tabla38[[#This Row],[CODIGO municipio]],[3]!Tabla7[#All],17,FALSE),\"\")","v":""},{"$f":"IFERROR(VLOOKUP(Tabla38[[#This Row],[CODIGO municipio]],[3]!Tabla7[#All],18,FALSE),\"\")","v":""},{"$f":"IFERROR(VLOOKUP(Tabla38[[#This Row],[CODIGO municipio]],[3]!Tabla7[#All],19,FALSE),\"\")","v":""},{"$f":"IFERROR(VLOOKUP(Tabla38[[#This Row],[CODIGO municipio]],[3]!Tabla8[#All],3,FALSE),\"\")","v":""},{"$f":"IFERROR(VLOOKUP(Tabla38[[#This Row],[CODIGO municipio]],[3]!Tabla8[#All],4,FALSE),\"\")","v":""},{"$f":"IFERROR(VLOOKUP(Tabla38[[#This Row],[CODIGO municipio]],[3]!Tabla8[#All],5,FALSE),\"\")","v":""},{"$f":"IFERROR(VLOOKUP(Tabla38[[#This Row],[CODIGO municipio]],[3]!Tabla8[#All],6,FALSE),\"\")","v":""},{"$f":"IFERROR(VLOOKUP(Tabla38[[#This Row],[CODIGO municipio]],[3]!Tabla8[#All],7,FALSE),\"\")","v":""},{"$f":"IFERROR(VLOOKUP(Tabla38[[#This Row],[CODIGO municipio]],[3]!Tabla8[#All],8,FALSE),\"\")","v":""},{"$f":"IFERROR(VLOOKUP(Tabla38[[#This Row],[CODIGO municipio]],[3]!Tabla8[#All],9,FALSE),\"\")","v":""},{"$f":"IFERROR(VLOOKUP(Tabla38[[#This Row],[CODIGO municipio]],[3]!Tabla8[#All],10,FALSE),\"\")","v":""},{"$f":"IFERROR(VLOOKUP(Tabla38[[#This Row],[CODIGO municipio]],[3]!Tabla8[#All],11,FALSE),\"\")","v":""},{"$f":"IFERROR(VLOOKUP(Tabla38[[#This Row],[CODIGO municipio]],[3]!Tabla8[#All],12,FALSE),\"\")","v":""},{"$f":"IFERROR(VLOOKUP(Tabla38[[#This Row],[CODIGO municipio]],[3]!Tabla8[#All],13,FALSE),\"\")","v":""},{"$f":"IFERROR(VLOOKUP(Tabla38[[#This Row],[CODIGO municipio]],[3]!Tabla8[#All],14,FALSE),\"\")","v":""},{"$f":"IFERROR(VLOOKUP(Tabla38[[#This Row],[CODIGO municipio]],[3]!Tabla8[#All],15,FALSE),\"\")","v":""},{"$f":"IFERROR(VLOOKUP(Tabla38[[#This Row],[CODIGO municipio]],[3]!Tabla8[#All],16,FALSE),\"\")","v":""},{"$f":"IFERROR(VLOOKUP(Tabla38[[#This Row],[CODIGO municipio]],[3]!Tabla8[#All],17,FALSE),\"\")","v":""},{"$f":"IFERROR(VLOOKUP(Tabla38[[#This Row],[CODIGO municipio]],[3]!Tabla8[#All],18,FALSE),\"\")","v":""},{"$f":"IFERROR(VLOOKUP(Tabla38[[#This Row],[CODIGO municipio]],[3]!Tabla8[#All],19,FALSE),\"\")","v":""},{"$f":"IFERROR(VLOOKUP(Tabla38[[#This Row],[CODIGO municipio]],[3]!Tabla8[#All],20,FALSE),\"\")","v":""},{"$f":"IFERROR(VLOOKUP(Tabla38[[#This Row],[CODIGO municipio]],[3]!Tabla8[#All],21,FALSE),\"\")","v":""},{"$f":"IFERROR(VLOOKUP(Tabla38[[#This Row],[CODIGO municipio]],[3]!Tabla8[#All],22,FALSE),\"\")","v":""},{"$f":"IFERROR(VLOOKUP(Tabla38[[#This Row],[CODIGO municipio]],[3]!Tabla8[#All],23,FALSE),\"\")","v":""},{"$f":"IFERROR(VLOOKUP(Tabla38[[#This Row],[CODIGO municipio]],[3]!Tabla9[#All],3,FALSE),\"\")","v":""}]
[{"$f":"IFERROR(VLOOKUP(Tabla38[[#This Row],[Municipio]],[3]!Tabla2[#All],3,FALSE),\"\")","v":""},1609,"San Pedro Carchá",{"$f":"IFERROR(VLOOKUP(Tabla38[[#This Row],[CODIGO municipio]],[3]!Tabla6[[#All],[codigo_mun]],1,FALSE),\"\")","v":""},{"$f":"IFERROR(VLOOKUP(Tabla38[[#This Row],[CODIGO municipio]],[3]!Tabla12[#All],2,FALSE),\"\")","v":""},{"$f":"IFERROR(VLOOKUP(Tabla38[[#This Row],[CODIGO municipio]],[3]!Tabla7[#All],3,FALSE),\"\")","v":""},{"$f":"IFERROR(VLOOKUP(Tabla38[[#This Row],[CODIGO municipio]],[3]!Tabla7[#All],4,FALSE),\"\")","v":""},{"$f":"IFERROR(VLOOKUP(Tabla38[[#This Row],[CODIGO municipio]],[3]!Tabla7[#All],11,FALSE),\"\")","v":""},{"$f":"IFERROR(VLOOKUP(Tabla38[[#This Row],[CODIGO municipio]],[3]!Tabla7[#All],12,FALSE),\"\")","v":""},{"$f":"IFERROR(VLOOKUP(Tabla38[[#This Row],[CODIGO municipio]],[3]!Tabla7[#All],13,FALSE),\"\")","v":""},{"$f":"IFERROR(VLOOKUP(Tabla38[[#This Row],[CODIGO municipio]],[3]!Tabla7[#All],14,FALSE),\"\")","v":""},{"$f":"IFERROR(VLOOKUP(Tabla38[[#This Row],[CODIGO municipio]],[3]!Tabla7[#All],15,FALSE),\"\")","v":""},{"$f":"IFERROR(VLOOKUP(Tabla38[[#This Row],[CODIGO municipio]],[3]!Tabla7[#All],16,FALSE),\"\")","v":""},{"$f":"IFERROR(VLOOKUP(Tabla38[[#This Row],[CODIGO municipio]],[3]!Tabla7[#All],17,FALSE),\"\")","v":""},{"$f":"IFERROR(VLOOKUP(Tabla38[[#This Row],[CODIGO municipio]],[3]!Tabla7[#All],18,FALSE),\"\")","v":""},{"$f":"IFERROR(VLOOKUP(Tabla38[[#This Row],[CODIGO municipio]],[3]!Tabla7[#All],19,FALSE),\"\")","v":""},{"$f":"IFERROR(VLOOKUP(Tabla38[[#This Row],[CODIGO municipio]],[3]!Tabla8[#All],3,FALSE),\"\")","v":""},{"$f":"IFERROR(VLOOKUP(Tabla38[[#This Row],[CODIGO municipio]],[3]!Tabla8[#All],4,FALSE),\"\")","v":""},{"$f":"IFERROR(VLOOKUP(Tabla38[[#This Row],[CODIGO municipio]],[3]!Tabla8[#All],5,FALSE),\"\")","v":""},{"$f":"IFERROR(VLOOKUP(Tabla38[[#This Row],[CODIGO municipio]],[3]!Tabla8[#All],6,FALSE),\"\")","v":""},{"$f":"IFERROR(VLOOKUP(Tabla38[[#This Row],[CODIGO municipio]],[3]!Tabla8[#All],7,FALSE),\"\")","v":""},{"$f":"IFERROR(VLOOKUP(Tabla38[[#This Row],[CODIGO municipio]],[3]!Tabla8[#All],8,FALSE),\"\")","v":""},{"$f":"IFERROR(VLOOKUP(Tabla38[[#This Row],[CODIGO municipio]],[3]!Tabla8[#All],9,FALSE),\"\")","v":""},{"$f":"IFERROR(VLOOKUP(Tabla38[[#This Row],[CODIGO municipio]],[3]!Tabla8[#All],10,FALSE),\"\")","v":""},{"$f":"IFERROR(VLOOKUP(Tabla38[[#This Row],[CODIGO municipio]],[3]!Tabla8[#All],11,FALSE),\"\")","v":""},{"$f":"IFERROR(VLOOKUP(Tabla38[[#This Row],[CODIGO municipio]],[3]!Tabla8[#All],12,FALSE),\"\")","v":""},{"$f":"IFERROR(VLOOKUP(Tabla38[[#This Row],[CODIGO municipio]],[3]!Tabla8[#All],13,FALSE),\"\")","v":""},{"$f":"IFERROR(VLOOKUP(Tabla38[[#This Row],[CODIGO municipio]],[3]!Tabla8[#All],14,FALSE),\"\")","v":""},{"$f":"IFERROR(VLOOKUP(Tabla38[[#This Row],[CODIGO municipio]],[3]!Tabla8[#All],15,FALSE),\"\")","v":""},{"$f":"IFERROR(VLOOKUP(Tabla38[[#This Row],[CODIGO municipio]],[3]!Tabla8[#All],16,FALSE),\"\")","v":""},{"$f":"IFERROR(VLOOKUP(Tabla38[[#This Row],[CODIGO municipio]],[3]!Tabla8[#All],17,FALSE),\"\")","v":""},{"$f":"IFERROR(VLOOKUP(Tabla38[[#This Row],[CODIGO municipio]],[3]!Tabla8[#All],18,FALSE),\"\")","v":""},{"$f":"IFERROR(VLOOKUP(Tabla38[[#This Row],[CODIGO municipio]],[3]!Tabla8[#All],19,FALSE),\"\")","v":""},{"$f":"IFERROR(VLOOKUP(Tabla38[[#This Row],[CODIGO municipio]],[3]!Tabla8[#All],20,FALSE),\"\")","v":""},{"$f":"IFERROR(VLOOKUP(Tabla38[[#This Row],[CODIGO municipio]],[3]!Tabla8[#All],21,FALSE),\"\")","v":""},{"$f":"IFERROR(VLOOKUP(Tabla38[[#This Row],[CODIGO municipio]],[3]!Tabla8[#All],22,FALSE),\"\")","v":""},{"$f":"IFERROR(VLOOKUP(Tabla38[[#This Row],[CODIGO municipio]],[3]!Tabla8[#All],23,FALSE),\"\")","v":""},{"$f":"IFERROR(VLOOKUP(Tabla38[[#This Row],[CODIGO municipio]],[3]!Tabla9[#All],3,FALSE),\"\")","v":""}]
[{"$f":"IFERROR(VLOOKUP(Tabla38[[#This Row],[Municipio]],[3]!Tabla2[#All],3,FALSE),\"\")","v":""},1610,"San Juan Chamelco",{"$f":"IFERROR(VLOOKUP(Tabla38[[#This Row],[CODIGO municipio]],[3]!Tabla6[[#All],[codigo_mun]],1,FALSE),\"\")","v":""},{"$f":"IFERROR(VLOOKUP(Tabla38[[#This Row],[CODIGO municipio]],[3]!Tabla12[#All],2,FALSE),\"\")","v":""},{"$f":"IFERROR(VLOOKUP(Tabla38[[#This Row],[CODIGO municipio]],[3]!Tabla7[#All],3,FALSE),\"\")","v":""},{"$f":"IFERROR(VLOOKUP(Tabla38[[#This Row],[CODIGO municipio]],[3]!Tabla7[#All],4,FALSE),\"\")","v":""},{"$f":"IFERROR(VLOOKUP(Tabla38[[#This Row],[CODIGO municipio]],[3]!Tabla7[#All],11,FALSE),\"\")","v":""},{"$f":"IFERROR(VLOOKUP(Tabla38[[#This Row],[CODIGO municipio]],[3]!Tabla7[#All],12,FALSE),\"\")","v":""},{"$f":"IFERROR(VLOOKUP(Tabla38[[#This Row],[CODIGO municipio]],[3]!Tabla7[#All],13,FALSE),\"\")","v":""},{"$f":"IFERROR(VLOOKUP(Tabla38[[#This Row],[CODIGO municipio]],[3]!Tabla7[#All],14,FALSE),\"\")","v":""},{"$f":"IFERROR(VLOOKUP(Tabla38[[#This Row],[CODIGO municipio]],[3]!Tabla7[#All],15,FALSE),\"\")","v":""},{"$f":"IFERROR(VLOOKUP(Tabla38[[#This Row],[CODIGO municipio]],[3]!Tabla7[#All],16,FALSE),\"\")","v":""},{"$f":"IFERROR(VLOOKUP(Tabla38[[#This Row],[CODIGO municipio]],[3]!Tabla7[#All],17,FALSE),\"\")","v":""},{"$f":"IFERROR(VLOOKUP(Tabla38[[#This Row],[CODIGO municipio]],[3]!Tabla7[#All],18,FALSE),\"\")","v":""},{"$f":"IFERROR(VLOOKUP(Tabla38[[#This Row],[CODIGO municipio]],[3]!Tabla7[#All],19,FALSE),\"\")","v":""},{"$f":"IFERROR(VLOOKUP(Tabla38[[#This Row],[CODIGO municipio]],[3]!Tabla8[#All],3,FALSE),\"\")","v":""},{"$f":"IFERROR(VLOOKUP(Tabla38[[#This Row],[CODIGO municipio]],[3]!Tabla8[#All],4,FALSE),\"\")","v":""},{"$f":"IFERROR(VLOOKUP(Tabla38[[#This Row],[CODIGO municipio]],[3]!Tabla8[#All],5,FALSE),\"\")","v":""},{"$f":"IFERROR(VLOOKUP(Tabla38[[#This Row],[CODIGO municipio]],[3]!Tabla8[#All],6,FALSE),\"\")","v":""},{"$f":"IFERROR(VLOOKUP(Tabla38[[#This Row],[CODIGO municipio]],[3]!Tabla8[#All],7,FALSE),\"\")","v":""},{"$f":"IFERROR(VLOOKUP(Tabla38[[#This Row],[CODIGO municipio]],[3]!Tabla8[#All],8,FALSE),\"\")","v":""},{"$f":"IFERROR(VLOOKUP(Tabla38[[#This Row],[CODIGO municipio]],[3]!Tabla8[#All],9,FALSE),\"\")","v":""},{"$f":"IFERROR(VLOOKUP(Tabla38[[#This Row],[CODIGO municipio]],[3]!Tabla8[#All],10,FALSE),\"\")","v":""},{"$f":"IFERROR(VLOOKUP(Tabla38[[#This Row],[CODIGO municipio]],[3]!Tabla8[#All],11,FALSE),\"\")","v":""},{"$f":"IFERROR(VLOOKUP(Tabla38[[#This Row],[CODIGO municipio]],[3]!Tabla8[#All],12,FALSE),\"\")","v":""},{"$f":"IFERROR(VLOOKUP(Tabla38[[#This Row],[CODIGO municipio]],[3]!Tabla8[#All],13,FALSE),\"\")","v":""},{"$f":"IFERROR(VLOOKUP(Tabla38[[#This Row],[CODIGO municipio]],[3]!Tabla8[#All],14,FALSE),\"\")","v":""},{"$f":"IFERROR(VLOOKUP(Tabla38[[#This Row],[CODIGO municipio]],[3]!Tabla8[#All],15,FALSE),\"\")","v":""},{"$f":"IFERROR(VLOOKUP(Tabla38[[#This Row],[CODIGO municipio]],[3]!Tabla8[#All],16,FALSE),\"\")","v":""},{"$f":"IFERROR(VLOOKUP(Tabla38[[#This Row],[CODIGO municipio]],[3]!Tabla8[#All],17,FALSE),\"\")","v":""},{"$f":"IFERROR(VLOOKUP(Tabla38[[#This Row],[CODIGO municipio]],[3]!Tabla8[#All],18,FALSE),\"\")","v":""},{"$f":"IFERROR(VLOOKUP(Tabla38[[#This Row],[CODIGO municipio]],[3]!Tabla8[#All],19,FALSE),\"\")","v":""},{"$f":"IFERROR(VLOOKUP(Tabla38[[#This Row],[CODIGO municipio]],[3]!Tabla8[#All],20,FALSE),\"\")","v":""},{"$f":"IFERROR(VLOOKUP(Tabla38[[#This Row],[CODIGO municipio]],[3]!Tabla8[#All],21,FALSE),\"\")","v":""},{"$f":"IFERROR(VLOOKUP(Tabla38[[#This Row],[CODIGO municipio]],[3]!Tabla8[#All],22,FALSE),\"\")","v":""},{"$f":"IFERROR(VLOOKUP(Tabla38[[#This Row],[CODIGO municipio]],[3]!Tabla8[#All],23,FALSE),\"\")","v":""},{"$f":"IFERROR(VLOOKUP(Tabla38[[#This Row],[CODIGO municipio]],[3]!Tabla9[#All],3,FALSE),\"\")","v":""}]
[{"$f":"IFERROR(VLOOKUP(Tabla38[[#This Row],[Municipio]],[3]!Tabla2[#All],3,FALSE),\"\")","v":""},1611,"Lanquín",{"$f":"IFERROR(VLOOKUP(Tabla38[[#This Row],[CODIGO municipio]],[3]!Tabla6[[#All],[codigo_mun]],1,FALSE),\"\")","v":""},{"$f":"IFERROR(VLOOKUP(Tabla38[[#This Row],[CODIGO municipio]],[3]!Tabla12[#All],2,FALSE),\"\")","v":""},{"$f":"IFERROR(VLOOKUP(Tabla38[[#This Row],[CODIGO municipio]],[3]!Tabla7[#All],3,FALSE),\"\")","v":""},{"$f":"IFERROR(VLOOKUP(Tabla38[[#This Row],[CODIGO municipio]],[3]!Tabla7[#All],4,FALSE),\"\")","v":""},{"$f":"IFERROR(VLOOKUP(Tabla38[[#This Row],[CODIGO municipio]],[3]!Tabla7[#All],11,FALSE),\"\")","v":""},{"$f":"IFERROR(VLOOKUP(Tabla38[[#This Row],[CODIGO municipio]],[3]!Tabla7[#All],12,FALSE),\"\")","v":""},{"$f":"IFERROR(VLOOKUP(Tabla38[[#This Row],[CODIGO municipio]],[3]!Tabla7[#All],13,FALSE),\"\")","v":""},{"$f":"IFERROR(VLOOKUP(Tabla38[[#This Row],[CODIGO municipio]],[3]!Tabla7[#All],14,FALSE),\"\")","v":""},{"$f":"IFERROR(VLOOKUP(Tabla38[[#This Row],[CODIGO municipio]],[3]!Tabla7[#All],15,FALSE),\"\")","v":""},{"$f":"IFERROR(VLOOKUP(Tabla38[[#This Row],[CODIGO municipio]],[3]!Tabla7[#All],16,FALSE),\"\")","v":""},{"$f":"IFERROR(VLOOKUP(Tabla38[[#This Row],[CODIGO municipio]],[3]!Tabla7[#All],17,FALSE),\"\")","v":""},{"$f":"IFERROR(VLOOKUP(Tabla38[[#This Row],[CODIGO municipio]],[3]!Tabla7[#All],18,FALSE),\"\")","v":""},{"$f":"IFERROR(VLOOKUP(Tabla38[[#This Row],[CODIGO municipio]],[3]!Tabla7[#All],19,FALSE),\"\")","v":""},{"$f":"IFERROR(VLOOKUP(Tabla38[[#This Row],[CODIGO municipio]],[3]!Tabla8[#All],3,FALSE),\"\")","v":""},{"$f":"IFERROR(VLOOKUP(Tabla38[[#This Row],[CODIGO municipio]],[3]!Tabla8[#All],4,FALSE),\"\")","v":""},{"$f":"IFERROR(VLOOKUP(Tabla38[[#This Row],[CODIGO municipio]],[3]!Tabla8[#All],5,FALSE),\"\")","v":""},{"$f":"IFERROR(VLOOKUP(Tabla38[[#This Row],[CODIGO municipio]],[3]!Tabla8[#All],6,FALSE),\"\")","v":""},{"$f":"IFERROR(VLOOKUP(Tabla38[[#This Row],[CODIGO municipio]],[3]!Tabla8[#All],7,FALSE),\"\")","v":""},{"$f":"IFERROR(VLOOKUP(Tabla38[[#This Row],[CODIGO municipio]],[3]!Tabla8[#All],8,FALSE),\"\")","v":""},{"$f":"IFERROR(VLOOKUP(Tabla38[[#This Row],[CODIGO municipio]],[3]!Tabla8[#All],9,FALSE),\"\")","v":""},{"$f":"IFERROR(VLOOKUP(Tabla38[[#This Row],[CODIGO municipio]],[3]!Tabla8[#All],10,FALSE),\"\")","v":""},{"$f":"IFERROR(VLOOKUP(Tabla38[[#This Row],[CODIGO municipio]],[3]!Tabla8[#All],11,FALSE),\"\")","v":""},{"$f":"IFERROR(VLOOKUP(Tabla38[[#This Row],[CODIGO municipio]],[3]!Tabla8[#All],12,FALSE),\"\")","v":""},{"$f":"IFERROR(VLOOKUP(Tabla38[[#This Row],[CODIGO municipio]],[3]!Tabla8[#All],13,FALSE),\"\")","v":""},{"$f":"IFERROR(VLOOKUP(Tabla38[[#This Row],[CODIGO municipio]],[3]!Tabla8[#All],14,FALSE),\"\")","v":""},{"$f":"IFERROR(VLOOKUP(Tabla38[[#This Row],[CODIGO municipio]],[3]!Tabla8[#All],15,FALSE),\"\")","v":""},{"$f":"IFERROR(VLOOKUP(Tabla38[[#This Row],[CODIGO municipio]],[3]!Tabla8[#All],16,FALSE),\"\")","v":""},{"$f":"IFERROR(VLOOKUP(Tabla38[[#This Row],[CODIGO municipio]],[3]!Tabla8[#All],17,FALSE),\"\")","v":""},{"$f":"IFERROR(VLOOKUP(Tabla38[[#This Row],[CODIGO municipio]],[3]!Tabla8[#All],18,FALSE),\"\")","v":""},{"$f":"IFERROR(VLOOKUP(Tabla38[[#This Row],[CODIGO municipio]],[3]!Tabla8[#All],19,FALSE),\"\")","v":""},{"$f":"IFERROR(VLOOKUP(Tabla38[[#This Row],[CODIGO municipio]],[3]!Tabla8[#All],20,FALSE),\"\")","v":""},{"$f":"IFERROR(VLOOKUP(Tabla38[[#This Row],[CODIGO municipio]],[3]!Tabla8[#All],21,FALSE),\"\")","v":""},{"$f":"IFERROR(VLOOKUP(Tabla38[[#This Row],[CODIGO municipio]],[3]!Tabla8[#All],22,FALSE),\"\")","v":""},{"$f":"IFERROR(VLOOKUP(Tabla38[[#This Row],[CODIGO municipio]],[3]!Tabla8[#All],23,FALSE),\"\")","v":""},{"$f":"IFERROR(VLOOKUP(Tabla38[[#This Row],[CODIGO municipio]],[3]!Tabla9[#All],3,FALSE),\"\")","v":""}]
[{"$f":"IFERROR(VLOOKUP(Tabla38[[#This Row],[Municipio]],[3]!Tabla2[#All],3,FALSE),\"\")","v":""},1612,"Cahabón",{"$f":"IFERROR(VLOOKUP(Tabla38[[#This Row],[CODIGO municipio]],[3]!Tabla6[[#All],[codigo_mun]],1,FALSE),\"\")","v":""},{"$f":"IFERROR(VLOOKUP(Tabla38[[#This Row],[CODIGO municipio]],[3]!Tabla12[#All],2,FALSE),\"\")","v":""},{"$f":"IFERROR(VLOOKUP(Tabla38[[#This Row],[CODIGO municipio]],[3]!Tabla7[#All],3,FALSE),\"\")","v":""},{"$f":"IFERROR(VLOOKUP(Tabla38[[#This Row],[CODIGO municipio]],[3]!Tabla7[#All],4,FALSE),\"\")","v":""},{"$f":"IFERROR(VLOOKUP(Tabla38[[#This Row],[CODIGO municipio]],[3]!Tabla7[#All],11,FALSE),\"\")","v":""},{"$f":"IFERROR(VLOOKUP(Tabla38[[#This Row],[CODIGO municipio]],[3]!Tabla7[#All],12,FALSE),\"\")","v":""},{"$f":"IFERROR(VLOOKUP(Tabla38[[#This Row],[CODIGO municipio]],[3]!Tabla7[#All],13,FALSE),\"\")","v":""},{"$f":"IFERROR(VLOOKUP(Tabla38[[#This Row],[CODIGO municipio]],[3]!Tabla7[#All],14,FALSE),\"\")","v":""},{"$f":"IFERROR(VLOOKUP(Tabla38[[#This Row],[CODIGO municipio]],[3]!Tabla7[#All],15,FALSE),\"\")","v":""},{"$f":"IFERROR(VLOOKUP(Tabla38[[#This Row],[CODIGO municipio]],[3]!Tabla7[#All],16,FALSE),\"\")","v":""},{"$f":"IFERROR(VLOOKUP(Tabla38[[#This Row],[CODIGO municipio]],[3]!Tabla7[#All],17,FALSE),\"\")","v":""},{"$f":"IFERROR(VLOOKUP(Tabla38[[#This Row],[CODIGO municipio]],[3]!Tabla7[#All],18,FALSE),\"\")","v":""},{"$f":"IFERROR(VLOOKUP(Tabla38[[#This Row],[CODIGO municipio]],[3]!Tabla7[#All],19,FALSE),\"\")","v":""},{"$f":"IFERROR(VLOOKUP(Tabla38[[#This Row],[CODIGO municipio]],[3]!Tabla8[#All],3,FALSE),\"\")","v":""},{"$f":"IFERROR(VLOOKUP(Tabla38[[#This Row],[CODIGO municipio]],[3]!Tabla8[#All],4,FALSE),\"\")","v":""},{"$f":"IFERROR(VLOOKUP(Tabla38[[#This Row],[CODIGO municipio]],[3]!Tabla8[#All],5,FALSE),\"\")","v":""},{"$f":"IFERROR(VLOOKUP(Tabla38[[#This Row],[CODIGO municipio]],[3]!Tabla8[#All],6,FALSE),\"\")","v":""},{"$f":"IFERROR(VLOOKUP(Tabla38[[#This Row],[CODIGO municipio]],[3]!Tabla8[#All],7,FALSE),\"\")","v":""},{"$f":"IFERROR(VLOOKUP(Tabla38[[#This Row],[CODIGO municipio]],[3]!Tabla8[#All],8,FALSE),\"\")","v":""},{"$f":"IFERROR(VLOOKUP(Tabla38[[#This Row],[CODIGO municipio]],[3]!Tabla8[#All],9,FALSE),\"\")","v":""},{"$f":"IFERROR(VLOOKUP(Tabla38[[#This Row],[CODIGO municipio]],[3]!Tabla8[#All],10,FALSE),\"\")","v":""},{"$f":"IFERROR(VLOOKUP(Tabla38[[#This Row],[CODIGO municipio]],[3]!Tabla8[#All],11,FALSE),\"\")","v":""},{"$f":"IFERROR(VLOOKUP(Tabla38[[#This Row],[CODIGO municipio]],[3]!Tabla8[#All],12,FALSE),\"\")","v":""},{"$f":"IFERROR(VLOOKUP(Tabla38[[#This Row],[CODIGO municipio]],[3]!Tabla8[#All],13,FALSE),\"\")","v":""},{"$f":"IFERROR(VLOOKUP(Tabla38[[#This Row],[CODIGO municipio]],[3]!Tabla8[#All],14,FALSE),\"\")","v":""},{"$f":"IFERROR(VLOOKUP(Tabla38[[#This Row],[CODIGO municipio]],[3]!Tabla8[#All],15,FALSE),\"\")","v":""},{"$f":"IFERROR(VLOOKUP(Tabla38[[#This Row],[CODIGO municipio]],[3]!Tabla8[#All],16,FALSE),\"\")","v":""},{"$f":"IFERROR(VLOOKUP(Tabla38[[#This Row],[CODIGO municipio]],[3]!Tabla8[#All],17,FALSE),\"\")","v":""},{"$f":"IFERROR(VLOOKUP(Tabla38[[#This Row],[CODIGO municipio]],[3]!Tabla8[#All],18,FALSE),\"\")","v":""},{"$f":"IFERROR(VLOOKUP(Tabla38[[#This Row],[CODIGO municipio]],[3]!Tabla8[#All],19,FALSE),\"\")","v":""},{"$f":"IFERROR(VLOOKUP(Tabla38[[#This Row],[CODIGO municipio]],[3]!Tabla8[#All],20,FALSE),\"\")","v":""},{"$f":"IFERROR(VLOOKUP(Tabla38[[#This Row],[CODIGO municipio]],[3]!Tabla8[#All],21,FALSE),\"\")","v":""},{"$f":"IFERROR(VLOOKUP(Tabla38[[#This Row],[CODIGO municipio]],[3]!Tabla8[#All],22,FALSE),\"\")","v":""},{"$f":"IFERROR(VLOOKUP(Tabla38[[#This Row],[CODIGO municipio]],[3]!Tabla8[#All],23,FALSE),\"\")","v":""},{"$f":"IFERROR(VLOOKUP(Tabla38[[#This Row],[CODIGO municipio]],[3]!Tabla9[#All],3,FALSE),\"\")","v":""}]
[{"$f":"IFERROR(VLOOKUP(Tabla38[[#This Row],[Municipio]],[3]!Tabla2[#All],3,FALSE),\"\")","v":""},1613,"Chisec",{"$f":"IFERROR(VLOOKUP(Tabla38[[#This Row],[CODIGO municipio]],[3]!Tabla6[[#All],[codigo_mun]],1,FALSE),\"\")","v":""},{"$f":"IFERROR(VLOOKUP(Tabla38[[#This Row],[CODIGO municipio]],[3]!Tabla12[#All],2,FALSE),\"\")","v":""},{"$f":"IFERROR(VLOOKUP(Tabla38[[#This Row],[CODIGO municipio]],[3]!Tabla7[#All],3,FALSE),\"\")","v":""},{"$f":"IFERROR(VLOOKUP(Tabla38[[#This Row],[CODIGO municipio]],[3]!Tabla7[#All],4,FALSE),\"\")","v":""},{"$f":"IFERROR(VLOOKUP(Tabla38[[#This Row],[CODIGO municipio]],[3]!Tabla7[#All],11,FALSE),\"\")","v":""},{"$f":"IFERROR(VLOOKUP(Tabla38[[#This Row],[CODIGO municipio]],[3]!Tabla7[#All],12,FALSE),\"\")","v":""},{"$f":"IFERROR(VLOOKUP(Tabla38[[#This Row],[CODIGO municipio]],[3]!Tabla7[#All],13,FALSE),\"\")","v":""},{"$f":"IFERROR(VLOOKUP(Tabla38[[#This Row],[CODIGO municipio]],[3]!Tabla7[#All],14,FALSE),\"\")","v":""},{"$f":"IFERROR(VLOOKUP(Tabla38[[#This Row],[CODIGO municipio]],[3]!Tabla7[#All],15,FALSE),\"\")","v":""},{"$f":"IFERROR(VLOOKUP(Tabla38[[#This Row],[CODIGO municipio]],[3]!Tabla7[#All],16,FALSE),\"\")","v":""},{"$f":"IFERROR(VLOOKUP(Tabla38[[#This Row],[CODIGO municipio]],[3]!Tabla7[#All],17,FALSE),\"\")","v":""},{"$f":"IFERROR(VLOOKUP(Tabla38[[#This Row],[CODIGO municipio]],[3]!Tabla7[#All],18,FALSE),\"\")","v":""},{"$f":"IFERROR(VLOOKUP(Tabla38[[#This Row],[CODIGO municipio]],[3]!Tabla7[#All],19,FALSE),\"\")","v":""},{"$f":"IFERROR(VLOOKUP(Tabla38[[#This Row],[CODIGO municipio]],[3]!Tabla8[#All],3,FALSE),\"\")","v":""},{"$f":"IFERROR(VLOOKUP(Tabla38[[#This Row],[CODIGO municipio]],[3]!Tabla8[#All],4,FALSE),\"\")","v":""},{"$f":"IFERROR(VLOOKUP(Tabla38[[#This Row],[CODIGO municipio]],[3]!Tabla8[#All],5,FALSE),\"\")","v":""},{"$f":"IFERROR(VLOOKUP(Tabla38[[#This Row],[CODIGO municipio]],[3]!Tabla8[#All],6,FALSE),\"\")","v":""},{"$f":"IFERROR(VLOOKUP(Tabla38[[#This Row],[CODIGO municipio]],[3]!Tabla8[#All],7,FALSE),\"\")","v":""},{"$f":"IFERROR(VLOOKUP(Tabla38[[#This Row],[CODIGO municipio]],[3]!Tabla8[#All],8,FALSE),\"\")","v":""},{"$f":"IFERROR(VLOOKUP(Tabla38[[#This Row],[CODIGO municipio]],[3]!Tabla8[#All],9,FALSE),\"\")","v":""},{"$f":"IFERROR(VLOOKUP(Tabla38[[#This Row],[CODIGO municipio]],[3]!Tabla8[#All],10,FALSE),\"\")","v":""},{"$f":"IFERROR(VLOOKUP(Tabla38[[#This Row],[CODIGO municipio]],[3]!Tabla8[#All],11,FALSE),\"\")","v":""},{"$f":"IFERROR(VLOOKUP(Tabla38[[#This Row],[CODIGO municipio]],[3]!Tabla8[#All],12,FALSE),\"\")","v":""},{"$f":"IFERROR(VLOOKUP(Tabla38[[#This Row],[CODIGO municipio]],[3]!Tabla8[#All],13,FALSE),\"\")","v":""},{"$f":"IFERROR(VLOOKUP(Tabla38[[#This Row],[CODIGO municipio]],[3]!Tabla8[#All],14,FALSE),\"\")","v":""},{"$f":"IFERROR(VLOOKUP(Tabla38[[#This Row],[CODIGO municipio]],[3]!Tabla8[#All],15,FALSE),\"\")","v":""},{"$f":"IFERROR(VLOOKUP(Tabla38[[#This Row],[CODIGO municipio]],[3]!Tabla8[#All],16,FALSE),\"\")","v":""},{"$f":"IFERROR(VLOOKUP(Tabla38[[#This Row],[CODIGO municipio]],[3]!Tabla8[#All],17,FALSE),\"\")","v":""},{"$f":"IFERROR(VLOOKUP(Tabla38[[#This Row],[CODIGO municipio]],[3]!Tabla8[#All],18,FALSE),\"\")","v":""},{"$f":"IFERROR(VLOOKUP(Tabla38[[#This Row],[CODIGO municipio]],[3]!Tabla8[#All],19,FALSE),\"\")","v":""},{"$f":"IFERROR(VLOOKUP(Tabla38[[#This Row],[CODIGO municipio]],[3]!Tabla8[#All],20,FALSE),\"\")","v":""},{"$f":"IFERROR(VLOOKUP(Tabla38[[#This Row],[CODIGO municipio]],[3]!Tabla8[#All],21,FALSE),\"\")","v":""},{"$f":"IFERROR(VLOOKUP(Tabla38[[#This Row],[CODIGO municipio]],[3]!Tabla8[#All],22,FALSE),\"\")","v":""},{"$f":"IFERROR(VLOOKUP(Tabla38[[#This Row],[CODIGO municipio]],[3]!Tabla8[#All],23,FALSE),\"\")","v":""},{"$f":"IFERROR(VLOOKUP(Tabla38[[#This Row],[CODIGO municipio]],[3]!Tabla9[#All],3,FALSE),\"\")","v":""}]
[{"$f":"IFERROR(VLOOKUP(Tabla38[[#This Row],[Municipio]],[3]!Tabla2[#All],3,FALSE),\"\")","v":""},1614,"Chahal",{"$f":"IFERROR(VLOOKUP(Tabla38[[#This Row],[CODIGO municipio]],[3]!Tabla6[[#All],[codigo_mun]],1,FALSE),\"\")","v":""},{"$f":"IFERROR(VLOOKUP(Tabla38[[#This Row],[CODIGO municipio]],[3]!Tabla12[#All],2,FALSE),\"\")","v":""},{"$f":"IFERROR(VLOOKUP(Tabla38[[#This Row],[CODIGO municipio]],[3]!Tabla7[#All],3,FALSE),\"\")","v":""},{"$f":"IFERROR(VLOOKUP(Tabla38[[#This Row],[CODIGO municipio]],[3]!Tabla7[#All],4,FALSE),\"\")","v":""},{"$f":"IFERROR(VLOOKUP(Tabla38[[#This Row],[CODIGO municipio]],[3]!Tabla7[#All],11,FALSE),\"\")","v":""},{"$f":"IFERROR(VLOOKUP(Tabla38[[#This Row],[CODIGO municipio]],[3]!Tabla7[#All],12,FALSE),\"\")","v":""},{"$f":"IFERROR(VLOOKUP(Tabla38[[#This Row],[CODIGO municipio]],[3]!Tabla7[#All],13,FALSE),\"\")","v":""},{"$f":"IFERROR(VLOOKUP(Tabla38[[#This Row],[CODIGO municipio]],[3]!Tabla7[#All],14,FALSE),\"\")","v":""},{"$f":"IFERROR(VLOOKUP(Tabla38[[#This Row],[CODIGO municipio]],[3]!Tabla7[#All],15,FALSE),\"\")","v":""},{"$f":"IFERROR(VLOOKUP(Tabla38[[#This Row],[CODIGO municipio]],[3]!Tabla7[#All],16,FALSE),\"\")","v":""},{"$f":"IFERROR(VLOOKUP(Tabla38[[#This Row],[CODIGO municipio]],[3]!Tabla7[#All],17,FALSE),\"\")","v":""},{"$f":"IFERROR(VLOOKUP(Tabla38[[#This Row],[CODIGO municipio]],[3]!Tabla7[#All],18,FALSE),\"\")","v":""},{"$f":"IFERROR(VLOOKUP(Tabla38[[#This Row],[CODIGO municipio]],[3]!Tabla7[#All],19,FALSE),\"\")","v":""},{"$f":"IFERROR(VLOOKUP(Tabla38[[#This Row],[CODIGO municipio]],[3]!Tabla8[#All],3,FALSE),\"\")","v":""},{"$f":"IFERROR(VLOOKUP(Tabla38[[#This Row],[CODIGO municipio]],[3]!Tabla8[#All],4,FALSE),\"\")","v":""},{"$f":"IFERROR(VLOOKUP(Tabla38[[#This Row],[CODIGO municipio]],[3]!Tabla8[#All],5,FALSE),\"\")","v":""},{"$f":"IFERROR(VLOOKUP(Tabla38[[#This Row],[CODIGO municipio]],[3]!Tabla8[#All],6,FALSE),\"\")","v":""},{"$f":"IFERROR(VLOOKUP(Tabla38[[#This Row],[CODIGO municipio]],[3]!Tabla8[#All],7,FALSE),\"\")","v":""},{"$f":"IFERROR(VLOOKUP(Tabla38[[#This Row],[CODIGO municipio]],[3]!Tabla8[#All],8,FALSE),\"\")","v":""},{"$f":"IFERROR(VLOOKUP(Tabla38[[#This Row],[CODIGO municipio]],[3]!Tabla8[#All],9,FALSE),\"\")","v":""},{"$f":"IFERROR(VLOOKUP(Tabla38[[#This Row],[CODIGO municipio]],[3]!Tabla8[#All],10,FALSE),\"\")","v":""},{"$f":"IFERROR(VLOOKUP(Tabla38[[#This Row],[CODIGO municipio]],[3]!Tabla8[#All],11,FALSE),\"\")","v":""},{"$f":"IFERROR(VLOOKUP(Tabla38[[#This Row],[CODIGO municipio]],[3]!Tabla8[#All],12,FALSE),\"\")","v":""},{"$f":"IFERROR(VLOOKUP(Tabla38[[#This Row],[CODIGO municipio]],[3]!Tabla8[#All],13,FALSE),\"\")","v":""},{"$f":"IFERROR(VLOOKUP(Tabla38[[#This Row],[CODIGO municipio]],[3]!Tabla8[#All],14,FALSE),\"\")","v":""},{"$f":"IFERROR(VLOOKUP(Tabla38[[#This Row],[CODIGO municipio]],[3]!Tabla8[#All],15,FALSE),\"\")","v":""},{"$f":"IFERROR(VLOOKUP(Tabla38[[#This Row],[CODIGO municipio]],[3]!Tabla8[#All],16,FALSE),\"\")","v":""},{"$f":"IFERROR(VLOOKUP(Tabla38[[#This Row],[CODIGO municipio]],[3]!Tabla8[#All],17,FALSE),\"\")","v":""},{"$f":"IFERROR(VLOOKUP(Tabla38[[#This Row],[CODIGO municipio]],[3]!Tabla8[#All],18,FALSE),\"\")","v":""},{"$f":"IFERROR(VLOOKUP(Tabla38[[#This Row],[CODIGO municipio]],[3]!Tabla8[#All],19,FALSE),\"\")","v":""},{"$f":"IFERROR(VLOOKUP(Tabla38[[#This Row],[CODIGO municipio]],[3]!Tabla8[#All],20,FALSE),\"\")","v":""},{"$f":"IFERROR(VLOOKUP(Tabla38[[#This Row],[CODIGO municipio]],[3]!Tabla8[#All],21,FALSE),\"\")","v":""},{"$f":"IFERROR(VLOOKUP(Tabla38[[#This Row],[CODIGO municipio]],[3]!Tabla8[#All],22,FALSE),\"\")","v":""},{"$f":"IFERROR(VLOOKUP(Tabla38[[#This Row],[CODIGO municipio]],[3]!Tabla8[#All],23,FALSE),\"\")","v":""},{"$f":"IFERROR(VLOOKUP(Tabla38[[#This Row],[CODIGO municipio]],[3]!Tabla9[#All],3,FALSE),\"\")","v":""}]
[{"$f":"IFERROR(VLOOKUP(Tabla38[[#This Row],[Municipio]],[3]!Tabla2[#All],3,FALSE),\"\")","v":""},1615,"Fray Bartolomé de Las Casas",{"$f":"IFERROR(VLOOKUP(Tabla38[[#This Row],[CODIGO municipio]],[3]!Tabla6[[#All],[codigo_mun]],1,FALSE),\"\")","v":""},{"$f":"IFERROR(VLOOKUP(Tabla38[[#This Row],[CODIGO municipio]],[3]!Tabla12[#All],2,FALSE),\"\")","v":""},{"$f":"IFERROR(VLOOKUP(Tabla38[[#This Row],[CODIGO municipio]],[3]!Tabla7[#All],3,FALSE),\"\")","v":""},{"$f":"IFERROR(VLOOKUP(Tabla38[[#This Row],[CODIGO municipio]],[3]!Tabla7[#All],4,FALSE),\"\")","v":""},{"$f":"IFERROR(VLOOKUP(Tabla38[[#This Row],[CODIGO municipio]],[3]!Tabla7[#All],11,FALSE),\"\")","v":""},{"$f":"IFERROR(VLOOKUP(Tabla38[[#This Row],[CODIGO municipio]],[3]!Tabla7[#All],12,FALSE),\"\")","v":""},{"$f":"IFERROR(VLOOKUP(Tabla38[[#This Row],[CODIGO municipio]],[3]!Tabla7[#All],13,FALSE),\"\")","v":""},{"$f":"IFERROR(VLOOKUP(Tabla38[[#This Row],[CODIGO municipio]],[3]!Tabla7[#All],14,FALSE),\"\")","v":""},{"$f":"IFERROR(VLOOKUP(Tabla38[[#This Row],[CODIGO municipio]],[3]!Tabla7[#All],15,FALSE),\"\")","v":""},{"$f":"IFERROR(VLOOKUP(Tabla38[[#This Row],[CODIGO municipio]],[3]!Tabla7[#All],16,FALSE),\"\")","v":""},{"$f":"IFERROR(VLOOKUP(Tabla38[[#This Row],[CODIGO municipio]],[3]!Tabla7[#All],17,FALSE),\"\")","v":""},{"$f":"IFERROR(VLOOKUP(Tabla38[[#This Row],[CODIGO municipio]],[3]!Tabla7[#All],18,FALSE),\"\")","v":""},{"$f":"IFERROR(VLOOKUP(Tabla38[[#This Row],[CODIGO municipio]],[3]!Tabla7[#All],19,FALSE),\"\")","v":""},{"$f":"IFERROR(VLOOKUP(Tabla38[[#This Row],[CODIGO municipio]],[3]!Tabla8[#All],3,FALSE),\"\")","v":""},{"$f":"IFERROR(VLOOKUP(Tabla38[[#This Row],[CODIGO municipio]],[3]!Tabla8[#All],4,FALSE),\"\")","v":""},{"$f":"IFERROR(VLOOKUP(Tabla38[[#This Row],[CODIGO municipio]],[3]!Tabla8[#All],5,FALSE),\"\")","v":""},{"$f":"IFERROR(VLOOKUP(Tabla38[[#This Row],[CODIGO municipio]],[3]!Tabla8[#All],6,FALSE),\"\")","v":""},{"$f":"IFERROR(VLOOKUP(Tabla38[[#This Row],[CODIGO municipio]],[3]!Tabla8[#All],7,FALSE),\"\")","v":""},{"$f":"IFERROR(VLOOKUP(Tabla38[[#This Row],[CODIGO municipio]],[3]!Tabla8[#All],8,FALSE),\"\")","v":""},{"$f":"IFERROR(VLOOKUP(Tabla38[[#This Row],[CODIGO municipio]],[3]!Tabla8[#All],9,FALSE),\"\")","v":""},{"$f":"IFERROR(VLOOKUP(Tabla38[[#This Row],[CODIGO municipio]],[3]!Tabla8[#All],10,FALSE),\"\")","v":""},{"$f":"IFERROR(VLOOKUP(Tabla38[[#This Row],[CODIGO municipio]],[3]!Tabla8[#All],11,FALSE),\"\")","v":""},{"$f":"IFERROR(VLOOKUP(Tabla38[[#This Row],[CODIGO municipio]],[3]!Tabla8[#All],12,FALSE),\"\")","v":""},{"$f":"IFERROR(VLOOKUP(Tabla38[[#This Row],[CODIGO municipio]],[3]!Tabla8[#All],13,FALSE),\"\")","v":""},{"$f":"IFERROR(VLOOKUP(Tabla38[[#This Row],[CODIGO municipio]],[3]!Tabla8[#All],14,FALSE),\"\")","v":""},{"$f":"IFERROR(VLOOKUP(Tabla38[[#This Row],[CODIGO municipio]],[3]!Tabla8[#All],15,FALSE),\"\")","v":""},{"$f":"IFERROR(VLOOKUP(Tabla38[[#This Row],[CODIGO municipio]],[3]!Tabla8[#All],16,FALSE),\"\")","v":""},{"$f":"IFERROR(VLOOKUP(Tabla38[[#This Row],[CODIGO municipio]],[3]!Tabla8[#All],17,FALSE),\"\")","v":""},{"$f":"IFERROR(VLOOKUP(Tabla38[[#This Row],[CODIGO municipio]],[3]!Tabla8[#All],18,FALSE),\"\")","v":""},{"$f":"IFERROR(VLOOKUP(Tabla38[[#This Row],[CODIGO municipio]],[3]!Tabla8[#All],19,FALSE),\"\")","v":""},{"$f":"IFERROR(VLOOKUP(Tabla38[[#This Row],[CODIGO municipio]],[3]!Tabla8[#All],20,FALSE),\"\")","v":""},{"$f":"IFERROR(VLOOKUP(Tabla38[[#This Row],[CODIGO municipio]],[3]!Tabla8[#All],21,FALSE),\"\")","v":""},{"$f":"IFERROR(VLOOKUP(Tabla38[[#This Row],[CODIGO municipio]],[3]!Tabla8[#All],22,FALSE),\"\")","v":""},{"$f":"IFERROR(VLOOKUP(Tabla38[[#This Row],[CODIGO municipio]],[3]!Tabla8[#All],23,FALSE),\"\")","v":""},{"$f":"IFERROR(VLOOKUP(Tabla38[[#This Row],[CODIGO municipio]],[3]!Tabla9[#All],3,FALSE),\"\")","v":""}]
[{"$f":"IFERROR(VLOOKUP(Tabla38[[#This Row],[Municipio]],[3]!Tabla2[#All],3,FALSE),\"\")","v":""},1616,"Santa Catarina La Tinta",{"$f":"IFERROR(VLOOKUP(Tabla38[[#This Row],[CODIGO municipio]],[3]!Tabla6[[#All],[codigo_mun]],1,FALSE),\"\")","v":""},{"$f":"IFERROR(VLOOKUP(Tabla38[[#This Row],[CODIGO municipio]],[3]!Tabla12[#All],2,FALSE),\"\")","v":""},{"$f":"IFERROR(VLOOKUP(Tabla38[[#This Row],[CODIGO municipio]],[3]!Tabla7[#All],3,FALSE),\"\")","v":""},{"$f":"IFERROR(VLOOKUP(Tabla38[[#This Row],[CODIGO municipio]],[3]!Tabla7[#All],4,FALSE),\"\")","v":""},{"$f":"IFERROR(VLOOKUP(Tabla38[[#This Row],[CODIGO municipio]],[3]!Tabla7[#All],11,FALSE),\"\")","v":""},{"$f":"IFERROR(VLOOKUP(Tabla38[[#This Row],[CODIGO municipio]],[3]!Tabla7[#All],12,FALSE),\"\")","v":""},{"$f":"IFERROR(VLOOKUP(Tabla38[[#This Row],[CODIGO municipio]],[3]!Tabla7[#All],13,FALSE),\"\")","v":""},{"$f":"IFERROR(VLOOKUP(Tabla38[[#This Row],[CODIGO municipio]],[3]!Tabla7[#All],14,FALSE),\"\")","v":""},{"$f":"IFERROR(VLOOKUP(Tabla38[[#This Row],[CODIGO municipio]],[3]!Tabla7[#All],15,FALSE),\"\")","v":""},{"$f":"IFERROR(VLOOKUP(Tabla38[[#This Row],[CODIGO municipio]],[3]!Tabla7[#All],16,FALSE),\"\")","v":""},{"$f":"IFERROR(VLOOKUP(Tabla38[[#This Row],[CODIGO municipio]],[3]!Tabla7[#All],17,FALSE),\"\")","v":""},{"$f":"IFERROR(VLOOKUP(Tabla38[[#This Row],[CODIGO municipio]],[3]!Tabla7[#All],18,FALSE),\"\")","v":""},{"$f":"IFERROR(VLOOKUP(Tabla38[[#This Row],[CODIGO municipio]],[3]!Tabla7[#All],19,FALSE),\"\")","v":""},{"$f":"IFERROR(VLOOKUP(Tabla38[[#This Row],[CODIGO municipio]],[3]!Tabla8[#All],3,FALSE),\"\")","v":""},{"$f":"IFERROR(VLOOKUP(Tabla38[[#This Row],[CODIGO municipio]],[3]!Tabla8[#All],4,FALSE),\"\")","v":""},{"$f":"IFERROR(VLOOKUP(Tabla38[[#This Row],[CODIGO municipio]],[3]!Tabla8[#All],5,FALSE),\"\")","v":""},{"$f":"IFERROR(VLOOKUP(Tabla38[[#This Row],[CODIGO municipio]],[3]!Tabla8[#All],6,FALSE),\"\")","v":""},{"$f":"IFERROR(VLOOKUP(Tabla38[[#This Row],[CODIGO municipio]],[3]!Tabla8[#All],7,FALSE),\"\")","v":""},{"$f":"IFERROR(VLOOKUP(Tabla38[[#This Row],[CODIGO municipio]],[3]!Tabla8[#All],8,FALSE),\"\")","v":""},{"$f":"IFERROR(VLOOKUP(Tabla38[[#This Row],[CODIGO municipio]],[3]!Tabla8[#All],9,FALSE),\"\")","v":""},{"$f":"IFERROR(VLOOKUP(Tabla38[[#This Row],[CODIGO municipio]],[3]!Tabla8[#All],10,FALSE),\"\")","v":""},{"$f":"IFERROR(VLOOKUP(Tabla38[[#This Row],[CODIGO municipio]],[3]!Tabla8[#All],11,FALSE),\"\")","v":""},{"$f":"IFERROR(VLOOKUP(Tabla38[[#This Row],[CODIGO municipio]],[3]!Tabla8[#All],12,FALSE),\"\")","v":""},{"$f":"IFERROR(VLOOKUP(Tabla38[[#This Row],[CODIGO municipio]],[3]!Tabla8[#All],13,FALSE),\"\")","v":""},{"$f":"IFERROR(VLOOKUP(Tabla38[[#This Row],[CODIGO municipio]],[3]!Tabla8[#All],14,FALSE),\"\")","v":""},{"$f":"IFERROR(VLOOKUP(Tabla38[[#This Row],[CODIGO municipio]],[3]!Tabla8[#All],15,FALSE),\"\")","v":""},{"$f":"IFERROR(VLOOKUP(Tabla38[[#This Row],[CODIGO municipio]],[3]!Tabla8[#All],16,FALSE),\"\")","v":""},{"$f":"IFERROR(VLOOKUP(Tabla38[[#This Row],[CODIGO municipio]],[3]!Tabla8[#All],17,FALSE),\"\")","v":""},{"$f":"IFERROR(VLOOKUP(Tabla38[[#This Row],[CODIGO municipio]],[3]!Tabla8[#All],18,FALSE),\"\")","v":""},{"$f":"IFERROR(VLOOKUP(Tabla38[[#This Row],[CODIGO municipio]],[3]!Tabla8[#All],19,FALSE),\"\")","v":""},{"$f":"IFERROR(VLOOKUP(Tabla38[[#This Row],[CODIGO municipio]],[3]!Tabla8[#All],20,FALSE),\"\")","v":""},{"$f":"IFERROR(VLOOKUP(Tabla38[[#This Row],[CODIGO municipio]],[3]!Tabla8[#All],21,FALSE),\"\")","v":""},{"$f":"IFERROR(VLOOKUP(Tabla38[[#This Row],[CODIGO municipio]],[3]!Tabla8[#All],22,FALSE),\"\")","v":""},{"$f":"IFERROR(VLOOKUP(Tabla38[[#This Row],[CODIGO municipio]],[3]!Tabla8[#All],23,FALSE),\"\")","v":""},{"$f":"IFERROR(VLOOKUP(Tabla38[[#This Row],[CODIGO municipio]],[3]!Tabla9[#All],3,FALSE),\"\")","v":""}]
[{"$f":"IFERROR(VLOOKUP(Tabla38[[#This Row],[Municipio]],[3]!Tabla2[#All],3,FALSE),\"\")","v":""},1617,"Raxruhá",{"$f":"IFERROR(VLOOKUP(Tabla38[[#This Row],[CODIGO municipio]],[3]!Tabla6[[#All],[codigo_mun]],1,FALSE),\"\")","v":""},{"$f":"IFERROR(VLOOKUP(Tabla38[[#This Row],[CODIGO municipio]],[3]!Tabla12[#All],2,FALSE),\"\")","v":""},{"$f":"IFERROR(VLOOKUP(Tabla38[[#This Row],[CODIGO municipio]],[3]!Tabla7[#All],3,FALSE),\"\")","v":""},{"$f":"IFERROR(VLOOKUP(Tabla38[[#This Row],[CODIGO municipio]],[3]!Tabla7[#All],4,FALSE),\"\")","v":""},{"$f":"IFERROR(VLOOKUP(Tabla38[[#This Row],[CODIGO municipio]],[3]!Tabla7[#All],11,FALSE),\"\")","v":""},{"$f":"IFERROR(VLOOKUP(Tabla38[[#This Row],[CODIGO municipio]],[3]!Tabla7[#All],12,FALSE),\"\")","v":""},{"$f":"IFERROR(VLOOKUP(Tabla38[[#This Row],[CODIGO municipio]],[3]!Tabla7[#All],13,FALSE),\"\")","v":""},{"$f":"IFERROR(VLOOKUP(Tabla38[[#This Row],[CODIGO municipio]],[3]!Tabla7[#All],14,FALSE),\"\")","v":""},{"$f":"IFERROR(VLOOKUP(Tabla38[[#This Row],[CODIGO municipio]],[3]!Tabla7[#All],15,FALSE),\"\")","v":""},{"$f":"IFERROR(VLOOKUP(Tabla38[[#This Row],[CODIGO municipio]],[3]!Tabla7[#All],16,FALSE),\"\")","v":""},{"$f":"IFERROR(VLOOKUP(Tabla38[[#This Row],[CODIGO municipio]],[3]!Tabla7[#All],17,FALSE),\"\")","v":""},{"$f":"IFERROR(VLOOKUP(Tabla38[[#This Row],[CODIGO municipio]],[3]!Tabla7[#All],18,FALSE),\"\")","v":""},{"$f":"IFERROR(VLOOKUP(Tabla38[[#This Row],[CODIGO municipio]],[3]!Tabla7[#All],19,FALSE),\"\")","v":""},{"$f":"IFERROR(VLOOKUP(Tabla38[[#This Row],[CODIGO municipio]],[3]!Tabla8[#All],3,FALSE),\"\")","v":""},{"$f":"IFERROR(VLOOKUP(Tabla38[[#This Row],[CODIGO municipio]],[3]!Tabla8[#All],4,FALSE),\"\")","v":""},{"$f":"IFERROR(VLOOKUP(Tabla38[[#This Row],[CODIGO municipio]],[3]!Tabla8[#All],5,FALSE),\"\")","v":""},{"$f":"IFERROR(VLOOKUP(Tabla38[[#This Row],[CODIGO municipio]],[3]!Tabla8[#All],6,FALSE),\"\")","v":""},{"$f":"IFERROR(VLOOKUP(Tabla38[[#This Row],[CODIGO municipio]],[3]!Tabla8[#All],7,FALSE),\"\")","v":""},{"$f":"IFERROR(VLOOKUP(Tabla38[[#This Row],[CODIGO municipio]],[3]!Tabla8[#All],8,FALSE),\"\")","v":""},{"$f":"IFERROR(VLOOKUP(Tabla38[[#This Row],[CODIGO municipio]],[3]!Tabla8[#All],9,FALSE),\"\")","v":""},{"$f":"IFERROR(VLOOKUP(Tabla38[[#This Row],[CODIGO municipio]],[3]!Tabla8[#All],10,FALSE),\"\")","v":""},{"$f":"IFERROR(VLOOKUP(Tabla38[[#This Row],[CODIGO municipio]],[3]!Tabla8[#All],11,FALSE),\"\")","v":""},{"$f":"IFERROR(VLOOKUP(Tabla38[[#This Row],[CODIGO municipio]],[3]!Tabla8[#All],12,FALSE),\"\")","v":""},{"$f":"IFERROR(VLOOKUP(Tabla38[[#This Row],[CODIGO municipio]],[3]!Tabla8[#All],13,FALSE),\"\")","v":""},{"$f":"IFERROR(VLOOKUP(Tabla38[[#This Row],[CODIGO municipio]],[3]!Tabla8[#All],14,FALSE),\"\")","v":""},{"$f":"IFERROR(VLOOKUP(Tabla38[[#This Row],[CODIGO municipio]],[3]!Tabla8[#All],15,FALSE),\"\")","v":""},{"$f":"IFERROR(VLOOKUP(Tabla38[[#This Row],[CODIGO municipio]],[3]!Tabla8[#All],16,FALSE),\"\")","v":""},{"$f":"IFERROR(VLOOKUP(Tabla38[[#This Row],[CODIGO municipio]],[3]!Tabla8[#All],17,FALSE),\"\")","v":""},{"$f":"IFERROR(VLOOKUP(Tabla38[[#This Row],[CODIGO municipio]],[3]!Tabla8[#All],18,FALSE),\"\")","v":""},{"$f":"IFERROR(VLOOKUP(Tabla38[[#This Row],[CODIGO municipio]],[3]!Tabla8[#All],19,FALSE),\"\")","v":""},{"$f":"IFERROR(VLOOKUP(Tabla38[[#This Row],[CODIGO municipio]],[3]!Tabla8[#All],20,FALSE),\"\")","v":""},{"$f":"IFERROR(VLOOKUP(Tabla38[[#This Row],[CODIGO municipio]],[3]!Tabla8[#All],21,FALSE),\"\")","v":""},{"$f":"IFERROR(VLOOKUP(Tabla38[[#This Row],[CODIGO municipio]],[3]!Tabla8[#All],22,FALSE),\"\")","v":""},{"$f":"IFERROR(VLOOKUP(Tabla38[[#This Row],[CODIGO municipio]],[3]!Tabla8[#All],23,FALSE),\"\")","v":""},{"$f":"IFERROR(VLOOKUP(Tabla38[[#This Row],[CODIGO municipio]],[3]!Tabla9[#All],3,FALSE),\"\")","v":""}]
[{"$f":"IFERROR(VLOOKUP(Tabla38[[#This Row],[Municipio]],[3]!Tabla2[#All],3,FALSE),\"\")","v":""},1701,"Flores",{"$f":"IFERROR(VLOOKUP(Tabla38[[#This Row],[CODIGO municipio]],[3]!Tabla6[[#All],[codigo_mun]],1,FALSE),\"\")","v":""},{"$f":"IFERROR(VLOOKUP(Tabla38[[#This Row],[CODIGO municipio]],[3]!Tabla12[#All],2,FALSE),\"\")","v":""},{"$f":"IFERROR(VLOOKUP(Tabla38[[#This Row],[CODIGO municipio]],[3]!Tabla7[#All],3,FALSE),\"\")","v":""},{"$f":"IFERROR(VLOOKUP(Tabla38[[#This Row],[CODIGO municipio]],[3]!Tabla7[#All],4,FALSE),\"\")","v":""},{"$f":"IFERROR(VLOOKUP(Tabla38[[#This Row],[CODIGO municipio]],[3]!Tabla7[#All],11,FALSE),\"\")","v":""},{"$f":"IFERROR(VLOOKUP(Tabla38[[#This Row],[CODIGO municipio]],[3]!Tabla7[#All],12,FALSE),\"\")","v":""},{"$f":"IFERROR(VLOOKUP(Tabla38[[#This Row],[CODIGO municipio]],[3]!Tabla7[#All],13,FALSE),\"\")","v":""},{"$f":"IFERROR(VLOOKUP(Tabla38[[#This Row],[CODIGO municipio]],[3]!Tabla7[#All],14,FALSE),\"\")","v":""},{"$f":"IFERROR(VLOOKUP(Tabla38[[#This Row],[CODIGO municipio]],[3]!Tabla7[#All],15,FALSE),\"\")","v":""},{"$f":"IFERROR(VLOOKUP(Tabla38[[#This Row],[CODIGO municipio]],[3]!Tabla7[#All],16,FALSE),\"\")","v":""},{"$f":"IFERROR(VLOOKUP(Tabla38[[#This Row],[CODIGO municipio]],[3]!Tabla7[#All],17,FALSE),\"\")","v":""},{"$f":"IFERROR(VLOOKUP(Tabla38[[#This Row],[CODIGO municipio]],[3]!Tabla7[#All],18,FALSE),\"\")","v":""},{"$f":"IFERROR(VLOOKUP(Tabla38[[#This Row],[CODIGO municipio]],[3]!Tabla7[#All],19,FALSE),\"\")","v":""},{"$f":"IFERROR(VLOOKUP(Tabla38[[#This Row],[CODIGO municipio]],[3]!Tabla8[#All],3,FALSE),\"\")","v":""},{"$f":"IFERROR(VLOOKUP(Tabla38[[#This Row],[CODIGO municipio]],[3]!Tabla8[#All],4,FALSE),\"\")","v":""},{"$f":"IFERROR(VLOOKUP(Tabla38[[#This Row],[CODIGO municipio]],[3]!Tabla8[#All],5,FALSE),\"\")","v":""},{"$f":"IFERROR(VLOOKUP(Tabla38[[#This Row],[CODIGO municipio]],[3]!Tabla8[#All],6,FALSE),\"\")","v":""},{"$f":"IFERROR(VLOOKUP(Tabla38[[#This Row],[CODIGO municipio]],[3]!Tabla8[#All],7,FALSE),\"\")","v":""},{"$f":"IFERROR(VLOOKUP(Tabla38[[#This Row],[CODIGO municipio]],[3]!Tabla8[#All],8,FALSE),\"\")","v":""},{"$f":"IFERROR(VLOOKUP(Tabla38[[#This Row],[CODIGO municipio]],[3]!Tabla8[#All],9,FALSE),\"\")","v":""},{"$f":"IFERROR(VLOOKUP(Tabla38[[#This Row],[CODIGO municipio]],[3]!Tabla8[#All],10,FALSE),\"\")","v":""},{"$f":"IFERROR(VLOOKUP(Tabla38[[#This Row],[CODIGO municipio]],[3]!Tabla8[#All],11,FALSE),\"\")","v":""},{"$f":"IFERROR(VLOOKUP(Tabla38[[#This Row],[CODIGO municipio]],[3]!Tabla8[#All],12,FALSE),\"\")","v":""},{"$f":"IFERROR(VLOOKUP(Tabla38[[#This Row],[CODIGO municipio]],[3]!Tabla8[#All],13,FALSE),\"\")","v":""},{"$f":"IFERROR(VLOOKUP(Tabla38[[#This Row],[CODIGO municipio]],[3]!Tabla8[#All],14,FALSE),\"\")","v":""},{"$f":"IFERROR(VLOOKUP(Tabla38[[#This Row],[CODIGO municipio]],[3]!Tabla8[#All],15,FALSE),\"\")","v":""},{"$f":"IFERROR(VLOOKUP(Tabla38[[#This Row],[CODIGO municipio]],[3]!Tabla8[#All],16,FALSE),\"\")","v":""},{"$f":"IFERROR(VLOOKUP(Tabla38[[#This Row],[CODIGO municipio]],[3]!Tabla8[#All],17,FALSE),\"\")","v":""},{"$f":"IFERROR(VLOOKUP(Tabla38[[#This Row],[CODIGO municipio]],[3]!Tabla8[#All],18,FALSE),\"\")","v":""},{"$f":"IFERROR(VLOOKUP(Tabla38[[#This Row],[CODIGO municipio]],[3]!Tabla8[#All],19,FALSE),\"\")","v":""},{"$f":"IFERROR(VLOOKUP(Tabla38[[#This Row],[CODIGO municipio]],[3]!Tabla8[#All],20,FALSE),\"\")","v":""},{"$f":"IFERROR(VLOOKUP(Tabla38[[#This Row],[CODIGO municipio]],[3]!Tabla8[#All],21,FALSE),\"\")","v":""},{"$f":"IFERROR(VLOOKUP(Tabla38[[#This Row],[CODIGO municipio]],[3]!Tabla8[#All],22,FALSE),\"\")","v":""},{"$f":"IFERROR(VLOOKUP(Tabla38[[#This Row],[CODIGO municipio]],[3]!Tabla8[#All],23,FALSE),\"\")","v":""},{"$f":"IFERROR(VLOOKUP(Tabla38[[#This Row],[CODIGO municipio]],[3]!Tabla9[#All],3,FALSE),\"\")","v":""}]
[{"$f":"IFERROR(VLOOKUP(Tabla38[[#This Row],[Municipio]],[3]!Tabla2[#All],3,FALSE),\"\")","v":""},1702,"San José Petén",{"$f":"IFERROR(VLOOKUP(Tabla38[[#This Row],[CODIGO municipio]],[3]!Tabla6[[#All],[codigo_mun]],1,FALSE),\"\")","v":""},{"$f":"IFERROR(VLOOKUP(Tabla38[[#This Row],[CODIGO municipio]],[3]!Tabla12[#All],2,FALSE),\"\")","v":""},{"$f":"IFERROR(VLOOKUP(Tabla38[[#This Row],[CODIGO municipio]],[3]!Tabla7[#All],3,FALSE),\"\")","v":""},{"$f":"IFERROR(VLOOKUP(Tabla38[[#This Row],[CODIGO municipio]],[3]!Tabla7[#All],4,FALSE),\"\")","v":""},{"$f":"IFERROR(VLOOKUP(Tabla38[[#This Row],[CODIGO municipio]],[3]!Tabla7[#All],11,FALSE),\"\")","v":""},{"$f":"IFERROR(VLOOKUP(Tabla38[[#This Row],[CODIGO municipio]],[3]!Tabla7[#All],12,FALSE),\"\")","v":""},{"$f":"IFERROR(VLOOKUP(Tabla38[[#This Row],[CODIGO municipio]],[3]!Tabla7[#All],13,FALSE),\"\")","v":""},{"$f":"IFERROR(VLOOKUP(Tabla38[[#This Row],[CODIGO municipio]],[3]!Tabla7[#All],14,FALSE),\"\")","v":""},{"$f":"IFERROR(VLOOKUP(Tabla38[[#This Row],[CODIGO municipio]],[3]!Tabla7[#All],15,FALSE),\"\")","v":""},{"$f":"IFERROR(VLOOKUP(Tabla38[[#This Row],[CODIGO municipio]],[3]!Tabla7[#All],16,FALSE),\"\")","v":""},{"$f":"IFERROR(VLOOKUP(Tabla38[[#This Row],[CODIGO municipio]],[3]!Tabla7[#All],17,FALSE),\"\")","v":""},{"$f":"IFERROR(VLOOKUP(Tabla38[[#This Row],[CODIGO municipio]],[3]!Tabla7[#All],18,FALSE),\"\")","v":""},{"$f":"IFERROR(VLOOKUP(Tabla38[[#This Row],[CODIGO municipio]],[3]!Tabla7[#All],19,FALSE),\"\")","v":""},{"$f":"IFERROR(VLOOKUP(Tabla38[[#This Row],[CODIGO municipio]],[3]!Tabla8[#All],3,FALSE),\"\")","v":""},{"$f":"IFERROR(VLOOKUP(Tabla38[[#This Row],[CODIGO municipio]],[3]!Tabla8[#All],4,FALSE),\"\")","v":""},{"$f":"IFERROR(VLOOKUP(Tabla38[[#This Row],[CODIGO municipio]],[3]!Tabla8[#All],5,FALSE),\"\")","v":""},{"$f":"IFERROR(VLOOKUP(Tabla38[[#This Row],[CODIGO municipio]],[3]!Tabla8[#All],6,FALSE),\"\")","v":""},{"$f":"IFERROR(VLOOKUP(Tabla38[[#This Row],[CODIGO municipio]],[3]!Tabla8[#All],7,FALSE),\"\")","v":""},{"$f":"IFERROR(VLOOKUP(Tabla38[[#This Row],[CODIGO municipio]],[3]!Tabla8[#All],8,FALSE),\"\")","v":""},{"$f":"IFERROR(VLOOKUP(Tabla38[[#This Row],[CODIGO municipio]],[3]!Tabla8[#All],9,FALSE),\"\")","v":""},{"$f":"IFERROR(VLOOKUP(Tabla38[[#This Row],[CODIGO municipio]],[3]!Tabla8[#All],10,FALSE),\"\")","v":""},{"$f":"IFERROR(VLOOKUP(Tabla38[[#This Row],[CODIGO municipio]],[3]!Tabla8[#All],11,FALSE),\"\")","v":""},{"$f":"IFERROR(VLOOKUP(Tabla38[[#This Row],[CODIGO municipio]],[3]!Tabla8[#All],12,FALSE),\"\")","v":""},{"$f":"IFERROR(VLOOKUP(Tabla38[[#This Row],[CODIGO municipio]],[3]!Tabla8[#All],13,FALSE),\"\")","v":""},{"$f":"IFERROR(VLOOKUP(Tabla38[[#This Row],[CODIGO municipio]],[3]!Tabla8[#All],14,FALSE),\"\")","v":""},{"$f":"IFERROR(VLOOKUP(Tabla38[[#This Row],[CODIGO municipio]],[3]!Tabla8[#All],15,FALSE),\"\")","v":""},{"$f":"IFERROR(VLOOKUP(Tabla38[[#This Row],[CODIGO municipio]],[3]!Tabla8[#All],16,FALSE),\"\")","v":""},{"$f":"IFERROR(VLOOKUP(Tabla38[[#This Row],[CODIGO municipio]],[3]!Tabla8[#All],17,FALSE),\"\")","v":""},{"$f":"IFERROR(VLOOKUP(Tabla38[[#This Row],[CODIGO municipio]],[3]!Tabla8[#All],18,FALSE),\"\")","v":""},{"$f":"IFERROR(VLOOKUP(Tabla38[[#This Row],[CODIGO municipio]],[3]!Tabla8[#All],19,FALSE),\"\")","v":""},{"$f":"IFERROR(VLOOKUP(Tabla38[[#This Row],[CODIGO municipio]],[3]!Tabla8[#All],20,FALSE),\"\")","v":""},{"$f":"IFERROR(VLOOKUP(Tabla38[[#This Row],[CODIGO municipio]],[3]!Tabla8[#All],21,FALSE),\"\")","v":""},{"$f":"IFERROR(VLOOKUP(Tabla38[[#This Row],[CODIGO municipio]],[3]!Tabla8[#All],22,FALSE),\"\")","v":""},{"$f":"IFERROR(VLOOKUP(Tabla38[[#This Row],[CODIGO municipio]],[3]!Tabla8[#All],23,FALSE),\"\")","v":""},{"$f":"IFERROR(VLOOKUP(Tabla38[[#This Row],[CODIGO municipio]],[3]!Tabla9[#All],3,FALSE),\"\")","v":""}]
[{"$f":"IFERROR(VLOOKUP(Tabla38[[#This Row],[Municipio]],[3]!Tabla2[#All],3,FALSE),\"\")","v":""},1703,"San Benito",{"$f":"IFERROR(VLOOKUP(Tabla38[[#This Row],[CODIGO municipio]],[3]!Tabla6[[#All],[codigo_mun]],1,FALSE),\"\")","v":""},{"$f":"IFERROR(VLOOKUP(Tabla38[[#This Row],[CODIGO municipio]],[3]!Tabla12[#All],2,FALSE),\"\")","v":""},{"$f":"IFERROR(VLOOKUP(Tabla38[[#This Row],[CODIGO municipio]],[3]!Tabla7[#All],3,FALSE),\"\")","v":""},{"$f":"IFERROR(VLOOKUP(Tabla38[[#This Row],[CODIGO municipio]],[3]!Tabla7[#All],4,FALSE),\"\")","v":""},{"$f":"IFERROR(VLOOKUP(Tabla38[[#This Row],[CODIGO municipio]],[3]!Tabla7[#All],11,FALSE),\"\")","v":""},{"$f":"IFERROR(VLOOKUP(Tabla38[[#This Row],[CODIGO municipio]],[3]!Tabla7[#All],12,FALSE),\"\")","v":""},{"$f":"IFERROR(VLOOKUP(Tabla38[[#This Row],[CODIGO municipio]],[3]!Tabla7[#All],13,FALSE),\"\")","v":""},{"$f":"IFERROR(VLOOKUP(Tabla38[[#This Row],[CODIGO municipio]],[3]!Tabla7[#All],14,FALSE),\"\")","v":""},{"$f":"IFERROR(VLOOKUP(Tabla38[[#This Row],[CODIGO municipio]],[3]!Tabla7[#All],15,FALSE),\"\")","v":""},{"$f":"IFERROR(VLOOKUP(Tabla38[[#This Row],[CODIGO municipio]],[3]!Tabla7[#All],16,FALSE),\"\")","v":""},{"$f":"IFERROR(VLOOKUP(Tabla38[[#This Row],[CODIGO municipio]],[3]!Tabla7[#All],17,FALSE),\"\")","v":""},{"$f":"IFERROR(VLOOKUP(Tabla38[[#This Row],[CODIGO municipio]],[3]!Tabla7[#All],18,FALSE),\"\")","v":""},{"$f":"IFERROR(VLOOKUP(Tabla38[[#This Row],[CODIGO municipio]],[3]!Tabla7[#All],19,FALSE),\"\")","v":""},{"$f":"IFERROR(VLOOKUP(Tabla38[[#This Row],[CODIGO municipio]],[3]!Tabla8[#All],3,FALSE),\"\")","v":""},{"$f":"IFERROR(VLOOKUP(Tabla38[[#This Row],[CODIGO municipio]],[3]!Tabla8[#All],4,FALSE),\"\")","v":""},{"$f":"IFERROR(VLOOKUP(Tabla38[[#This Row],[CODIGO municipio]],[3]!Tabla8[#All],5,FALSE),\"\")","v":""},{"$f":"IFERROR(VLOOKUP(Tabla38[[#This Row],[CODIGO municipio]],[3]!Tabla8[#All],6,FALSE),\"\")","v":""},{"$f":"IFERROR(VLOOKUP(Tabla38[[#This Row],[CODIGO municipio]],[3]!Tabla8[#All],7,FALSE),\"\")","v":""},{"$f":"IFERROR(VLOOKUP(Tabla38[[#This Row],[CODIGO municipio]],[3]!Tabla8[#All],8,FALSE),\"\")","v":""},{"$f":"IFERROR(VLOOKUP(Tabla38[[#This Row],[CODIGO municipio]],[3]!Tabla8[#All],9,FALSE),\"\")","v":""},{"$f":"IFERROR(VLOOKUP(Tabla38[[#This Row],[CODIGO municipio]],[3]!Tabla8[#All],10,FALSE),\"\")","v":""},{"$f":"IFERROR(VLOOKUP(Tabla38[[#This Row],[CODIGO municipio]],[3]!Tabla8[#All],11,FALSE),\"\")","v":""},{"$f":"IFERROR(VLOOKUP(Tabla38[[#This Row],[CODIGO municipio]],[3]!Tabla8[#All],12,FALSE),\"\")","v":""},{"$f":"IFERROR(VLOOKUP(Tabla38[[#This Row],[CODIGO municipio]],[3]!Tabla8[#All],13,FALSE),\"\")","v":""},{"$f":"IFERROR(VLOOKUP(Tabla38[[#This Row],[CODIGO municipio]],[3]!Tabla8[#All],14,FALSE),\"\")","v":""},{"$f":"IFERROR(VLOOKUP(Tabla38[[#This Row],[CODIGO municipio]],[3]!Tabla8[#All],15,FALSE),\"\")","v":""},{"$f":"IFERROR(VLOOKUP(Tabla38[[#This Row],[CODIGO municipio]],[3]!Tabla8[#All],16,FALSE),\"\")","v":""},{"$f":"IFERROR(VLOOKUP(Tabla38[[#This Row],[CODIGO municipio]],[3]!Tabla8[#All],17,FALSE),\"\")","v":""},{"$f":"IFERROR(VLOOKUP(Tabla38[[#This Row],[CODIGO municipio]],[3]!Tabla8[#All],18,FALSE),\"\")","v":""},{"$f":"IFERROR(VLOOKUP(Tabla38[[#This Row],[CODIGO municipio]],[3]!Tabla8[#All],19,FALSE),\"\")","v":""},{"$f":"IFERROR(VLOOKUP(Tabla38[[#This Row],[CODIGO municipio]],[3]!Tabla8[#All],20,FALSE),\"\")","v":""},{"$f":"IFERROR(VLOOKUP(Tabla38[[#This Row],[CODIGO municipio]],[3]!Tabla8[#All],21,FALSE),\"\")","v":""},{"$f":"IFERROR(VLOOKUP(Tabla38[[#This Row],[CODIGO municipio]],[3]!Tabla8[#All],22,FALSE),\"\")","v":""},{"$f":"IFERROR(VLOOKUP(Tabla38[[#This Row],[CODIGO municipio]],[3]!Tabla8[#All],23,FALSE),\"\")","v":""},{"$f":"IFERROR(VLOOKUP(Tabla38[[#This Row],[CODIGO municipio]],[3]!Tabla9[#All],3,FALSE),\"\")","v":""}]
[{"$f":"IFERROR(VLOOKUP(Tabla38[[#This Row],[Municipio]],[3]!Tabla2[#All],3,FALSE),\"\")","v":""},1704,"San Andrés",{"$f":"IFERROR(VLOOKUP(Tabla38[[#This Row],[CODIGO municipio]],[3]!Tabla6[[#All],[codigo_mun]],1,FALSE),\"\")","v":""},{"$f":"IFERROR(VLOOKUP(Tabla38[[#This Row],[CODIGO municipio]],[3]!Tabla12[#All],2,FALSE),\"\")","v":""},{"$f":"IFERROR(VLOOKUP(Tabla38[[#This Row],[CODIGO municipio]],[3]!Tabla7[#All],3,FALSE),\"\")","v":""},{"$f":"IFERROR(VLOOKUP(Tabla38[[#This Row],[CODIGO municipio]],[3]!Tabla7[#All],4,FALSE),\"\")","v":""},{"$f":"IFERROR(VLOOKUP(Tabla38[[#This Row],[CODIGO municipio]],[3]!Tabla7[#All],11,FALSE),\"\")","v":""},{"$f":"IFERROR(VLOOKUP(Tabla38[[#This Row],[CODIGO municipio]],[3]!Tabla7[#All],12,FALSE),\"\")","v":""},{"$f":"IFERROR(VLOOKUP(Tabla38[[#This Row],[CODIGO municipio]],[3]!Tabla7[#All],13,FALSE),\"\")","v":""},{"$f":"IFERROR(VLOOKUP(Tabla38[[#This Row],[CODIGO municipio]],[3]!Tabla7[#All],14,FALSE),\"\")","v":""},{"$f":"IFERROR(VLOOKUP(Tabla38[[#This Row],[CODIGO municipio]],[3]!Tabla7[#All],15,FALSE),\"\")","v":""},{"$f":"IFERROR(VLOOKUP(Tabla38[[#This Row],[CODIGO municipio]],[3]!Tabla7[#All],16,FALSE),\"\")","v":""},{"$f":"IFERROR(VLOOKUP(Tabla38[[#This Row],[CODIGO municipio]],[3]!Tabla7[#All],17,FALSE),\"\")","v":""},{"$f":"IFERROR(VLOOKUP(Tabla38[[#This Row],[CODIGO municipio]],[3]!Tabla7[#All],18,FALSE),\"\")","v":""},{"$f":"IFERROR(VLOOKUP(Tabla38[[#This Row],[CODIGO municipio]],[3]!Tabla7[#All],19,FALSE),\"\")","v":""},{"$f":"IFERROR(VLOOKUP(Tabla38[[#This Row],[CODIGO municipio]],[3]!Tabla8[#All],3,FALSE),\"\")","v":""},{"$f":"IFERROR(VLOOKUP(Tabla38[[#This Row],[CODIGO municipio]],[3]!Tabla8[#All],4,FALSE),\"\")","v":""},{"$f":"IFERROR(VLOOKUP(Tabla38[[#This Row],[CODIGO municipio]],[3]!Tabla8[#All],5,FALSE),\"\")","v":""},{"$f":"IFERROR(VLOOKUP(Tabla38[[#This Row],[CODIGO municipio]],[3]!Tabla8[#All],6,FALSE),\"\")","v":""},{"$f":"IFERROR(VLOOKUP(Tabla38[[#This Row],[CODIGO municipio]],[3]!Tabla8[#All],7,FALSE),\"\")","v":""},{"$f":"IFERROR(VLOOKUP(Tabla38[[#This Row],[CODIGO municipio]],[3]!Tabla8[#All],8,FALSE),\"\")","v":""},{"$f":"IFERROR(VLOOKUP(Tabla38[[#This Row],[CODIGO municipio]],[3]!Tabla8[#All],9,FALSE),\"\")","v":""},{"$f":"IFERROR(VLOOKUP(Tabla38[[#This Row],[CODIGO municipio]],[3]!Tabla8[#All],10,FALSE),\"\")","v":""},{"$f":"IFERROR(VLOOKUP(Tabla38[[#This Row],[CODIGO municipio]],[3]!Tabla8[#All],11,FALSE),\"\")","v":""},{"$f":"IFERROR(VLOOKUP(Tabla38[[#This Row],[CODIGO municipio]],[3]!Tabla8[#All],12,FALSE),\"\")","v":""},{"$f":"IFERROR(VLOOKUP(Tabla38[[#This Row],[CODIGO municipio]],[3]!Tabla8[#All],13,FALSE),\"\")","v":""},{"$f":"IFERROR(VLOOKUP(Tabla38[[#This Row],[CODIGO municipio]],[3]!Tabla8[#All],14,FALSE),\"\")","v":""},{"$f":"IFERROR(VLOOKUP(Tabla38[[#This Row],[CODIGO municipio]],[3]!Tabla8[#All],15,FALSE),\"\")","v":""},{"$f":"IFERROR(VLOOKUP(Tabla38[[#This Row],[CODIGO municipio]],[3]!Tabla8[#All],16,FALSE),\"\")","v":""},{"$f":"IFERROR(VLOOKUP(Tabla38[[#This Row],[CODIGO municipio]],[3]!Tabla8[#All],17,FALSE),\"\")","v":""},{"$f":"IFERROR(VLOOKUP(Tabla38[[#This Row],[CODIGO municipio]],[3]!Tabla8[#All],18,FALSE),\"\")","v":""},{"$f":"IFERROR(VLOOKUP(Tabla38[[#This Row],[CODIGO municipio]],[3]!Tabla8[#All],19,FALSE),\"\")","v":""},{"$f":"IFERROR(VLOOKUP(Tabla38[[#This Row],[CODIGO municipio]],[3]!Tabla8[#All],20,FALSE),\"\")","v":""},{"$f":"IFERROR(VLOOKUP(Tabla38[[#This Row],[CODIGO municipio]],[3]!Tabla8[#All],21,FALSE),\"\")","v":""},{"$f":"IFERROR(VLOOKUP(Tabla38[[#This Row],[CODIGO municipio]],[3]!Tabla8[#All],22,FALSE),\"\")","v":""},{"$f":"IFERROR(VLOOKUP(Tabla38[[#This Row],[CODIGO municipio]],[3]!Tabla8[#All],23,FALSE),\"\")","v":""},{"$f":"IFERROR(VLOOKUP(Tabla38[[#This Row],[CODIGO municipio]],[3]!Tabla9[#All],3,FALSE),\"\")","v":""}]
[{"$f":"IFERROR(VLOOKUP(Tabla38[[#This Row],[Municipio]],[3]!Tabla2[#All],3,FALSE),\"\")","v":""},1705,"La Libertad",{"$f":"IFERROR(VLOOKUP(Tabla38[[#This Row],[CODIGO municipio]],[3]!Tabla6[[#All],[codigo_mun]],1,FALSE),\"\")","v":""},{"$f":"IFERROR(VLOOKUP(Tabla38[[#This Row],[CODIGO municipio]],[3]!Tabla12[#All],2,FALSE),\"\")","v":""},{"$f":"IFERROR(VLOOKUP(Tabla38[[#This Row],[CODIGO municipio]],[3]!Tabla7[#All],3,FALSE),\"\")","v":""},{"$f":"IFERROR(VLOOKUP(Tabla38[[#This Row],[CODIGO municipio]],[3]!Tabla7[#All],4,FALSE),\"\")","v":""},{"$f":"IFERROR(VLOOKUP(Tabla38[[#This Row],[CODIGO municipio]],[3]!Tabla7[#All],11,FALSE),\"\")","v":""},{"$f":"IFERROR(VLOOKUP(Tabla38[[#This Row],[CODIGO municipio]],[3]!Tabla7[#All],12,FALSE),\"\")","v":""},{"$f":"IFERROR(VLOOKUP(Tabla38[[#This Row],[CODIGO municipio]],[3]!Tabla7[#All],13,FALSE),\"\")","v":""},{"$f":"IFERROR(VLOOKUP(Tabla38[[#This Row],[CODIGO municipio]],[3]!Tabla7[#All],14,FALSE),\"\")","v":""},{"$f":"IFERROR(VLOOKUP(Tabla38[[#This Row],[CODIGO municipio]],[3]!Tabla7[#All],15,FALSE),\"\")","v":""},{"$f":"IFERROR(VLOOKUP(Tabla38[[#This Row],[CODIGO municipio]],[3]!Tabla7[#All],16,FALSE),\"\")","v":""},{"$f":"IFERROR(VLOOKUP(Tabla38[[#This Row],[CODIGO municipio]],[3]!Tabla7[#All],17,FALSE),\"\")","v":""},{"$f":"IFERROR(VLOOKUP(Tabla38[[#This Row],[CODIGO municipio]],[3]!Tabla7[#All],18,FALSE),\"\")","v":""},{"$f":"IFERROR(VLOOKUP(Tabla38[[#This Row],[CODIGO municipio]],[3]!Tabla7[#All],19,FALSE),\"\")","v":""},{"$f":"IFERROR(VLOOKUP(Tabla38[[#This Row],[CODIGO municipio]],[3]!Tabla8[#All],3,FALSE),\"\")","v":""},{"$f":"IFERROR(VLOOKUP(Tabla38[[#This Row],[CODIGO municipio]],[3]!Tabla8[#All],4,FALSE),\"\")","v":""},{"$f":"IFERROR(VLOOKUP(Tabla38[[#This Row],[CODIGO municipio]],[3]!Tabla8[#All],5,FALSE),\"\")","v":""},{"$f":"IFERROR(VLOOKUP(Tabla38[[#This Row],[CODIGO municipio]],[3]!Tabla8[#All],6,FALSE),\"\")","v":""},{"$f":"IFERROR(VLOOKUP(Tabla38[[#This Row],[CODIGO municipio]],[3]!Tabla8[#All],7,FALSE),\"\")","v":""},{"$f":"IFERROR(VLOOKUP(Tabla38[[#This Row],[CODIGO municipio]],[3]!Tabla8[#All],8,FALSE),\"\")","v":""},{"$f":"IFERROR(VLOOKUP(Tabla38[[#This Row],[CODIGO municipio]],[3]!Tabla8[#All],9,FALSE),\"\")","v":""},{"$f":"IFERROR(VLOOKUP(Tabla38[[#This Row],[CODIGO municipio]],[3]!Tabla8[#All],10,FALSE),\"\")","v":""},{"$f":"IFERROR(VLOOKUP(Tabla38[[#This Row],[CODIGO municipio]],[3]!Tabla8[#All],11,FALSE),\"\")","v":""},{"$f":"IFERROR(VLOOKUP(Tabla38[[#This Row],[CODIGO municipio]],[3]!Tabla8[#All],12,FALSE),\"\")","v":""},{"$f":"IFERROR(VLOOKUP(Tabla38[[#This Row],[CODIGO municipio]],[3]!Tabla8[#All],13,FALSE),\"\")","v":""},{"$f":"IFERROR(VLOOKUP(Tabla38[[#This Row],[CODIGO municipio]],[3]!Tabla8[#All],14,FALSE),\"\")","v":""},{"$f":"IFERROR(VLOOKUP(Tabla38[[#This Row],[CODIGO municipio]],[3]!Tabla8[#All],15,FALSE),\"\")","v":""},{"$f":"IFERROR(VLOOKUP(Tabla38[[#This Row],[CODIGO municipio]],[3]!Tabla8[#All],16,FALSE),\"\")","v":""},{"$f":"IFERROR(VLOOKUP(Tabla38[[#This Row],[CODIGO municipio]],[3]!Tabla8[#All],17,FALSE),\"\")","v":""},{"$f":"IFERROR(VLOOKUP(Tabla38[[#This Row],[CODIGO municipio]],[3]!Tabla8[#All],18,FALSE),\"\")","v":""},{"$f":"IFERROR(VLOOKUP(Tabla38[[#This Row],[CODIGO municipio]],[3]!Tabla8[#All],19,FALSE),\"\")","v":""},{"$f":"IFERROR(VLOOKUP(Tabla38[[#This Row],[CODIGO municipio]],[3]!Tabla8[#All],20,FALSE),\"\")","v":""},{"$f":"IFERROR(VLOOKUP(Tabla38[[#This Row],[CODIGO municipio]],[3]!Tabla8[#All],21,FALSE),\"\")","v":""},{"$f":"IFERROR(VLOOKUP(Tabla38[[#This Row],[CODIGO municipio]],[3]!Tabla8[#All],22,FALSE),\"\")","v":""},{"$f":"IFERROR(VLOOKUP(Tabla38[[#This Row],[CODIGO municipio]],[3]!Tabla8[#All],23,FALSE),\"\")","v":""},{"$f":"IFERROR(VLOOKUP(Tabla38[[#This Row],[CODIGO municipio]],[3]!Tabla9[#All],3,FALSE),\"\")","v":""}]
[{"$f":"IFERROR(VLOOKUP(Tabla38[[#This Row],[Municipio]],[3]!Tabla2[#All],3,FALSE),\"\")","v":""},1706,"San Francisco",{"$f":"IFERROR(VLOOKUP(Tabla38[[#This Row],[CODIGO municipio]],[3]!Tabla6[[#All],[codigo_mun]],1,FALSE),\"\")","v":""},{"$f":"IFERROR(VLOOKUP(Tabla38[[#This Row],[CODIGO municipio]],[3]!Tabla12[#All],2,FALSE),\"\")","v":""},{"$f":"IFERROR(VLOOKUP(Tabla38[[#This Row],[CODIGO municipio]],[3]!Tabla7[#All],3,FALSE),\"\")","v":""},{"$f":"IFERROR(VLOOKUP(Tabla38[[#This Row],[CODIGO municipio]],[3]!Tabla7[#All],4,FALSE),\"\")","v":""},{"$f":"IFERROR(VLOOKUP(Tabla38[[#This Row],[CODIGO municipio]],[3]!Tabla7[#All],11,FALSE),\"\")","v":""},{"$f":"IFERROR(VLOOKUP(Tabla38[[#This Row],[CODIGO municipio]],[3]!Tabla7[#All],12,FALSE),\"\")","v":""},{"$f":"IFERROR(VLOOKUP(Tabla38[[#This Row],[CODIGO municipio]],[3]!Tabla7[#All],13,FALSE),\"\")","v":""},{"$f":"IFERROR(VLOOKUP(Tabla38[[#This Row],[CODIGO municipio]],[3]!Tabla7[#All],14,FALSE),\"\")","v":""},{"$f":"IFERROR(VLOOKUP(Tabla38[[#This Row],[CODIGO municipio]],[3]!Tabla7[#All],15,FALSE),\"\")","v":""},{"$f":"IFERROR(VLOOKUP(Tabla38[[#This Row],[CODIGO municipio]],[3]!Tabla7[#All],16,FALSE),\"\")","v":""},{"$f":"IFERROR(VLOOKUP(Tabla38[[#This Row],[CODIGO municipio]],[3]!Tabla7[#All],17,FALSE),\"\")","v":""},{"$f":"IFERROR(VLOOKUP(Tabla38[[#This Row],[CODIGO municipio]],[3]!Tabla7[#All],18,FALSE),\"\")","v":""},{"$f":"IFERROR(VLOOKUP(Tabla38[[#This Row],[CODIGO municipio]],[3]!Tabla7[#All],19,FALSE),\"\")","v":""},{"$f":"IFERROR(VLOOKUP(Tabla38[[#This Row],[CODIGO municipio]],[3]!Tabla8[#All],3,FALSE),\"\")","v":""},{"$f":"IFERROR(VLOOKUP(Tabla38[[#This Row],[CODIGO municipio]],[3]!Tabla8[#All],4,FALSE),\"\")","v":""},{"$f":"IFERROR(VLOOKUP(Tabla38[[#This Row],[CODIGO municipio]],[3]!Tabla8[#All],5,FALSE),\"\")","v":""},{"$f":"IFERROR(VLOOKUP(Tabla38[[#This Row],[CODIGO municipio]],[3]!Tabla8[#All],6,FALSE),\"\")","v":""},{"$f":"IFERROR(VLOOKUP(Tabla38[[#This Row],[CODIGO municipio]],[3]!Tabla8[#All],7,FALSE),\"\")","v":""},{"$f":"IFERROR(VLOOKUP(Tabla38[[#This Row],[CODIGO municipio]],[3]!Tabla8[#All],8,FALSE),\"\")","v":""},{"$f":"IFERROR(VLOOKUP(Tabla38[[#This Row],[CODIGO municipio]],[3]!Tabla8[#All],9,FALSE),\"\")","v":""},{"$f":"IFERROR(VLOOKUP(Tabla38[[#This Row],[CODIGO municipio]],[3]!Tabla8[#All],10,FALSE),\"\")","v":""},{"$f":"IFERROR(VLOOKUP(Tabla38[[#This Row],[CODIGO municipio]],[3]!Tabla8[#All],11,FALSE),\"\")","v":""},{"$f":"IFERROR(VLOOKUP(Tabla38[[#This Row],[CODIGO municipio]],[3]!Tabla8[#All],12,FALSE),\"\")","v":""},{"$f":"IFERROR(VLOOKUP(Tabla38[[#This Row],[CODIGO municipio]],[3]!Tabla8[#All],13,FALSE),\"\")","v":""},{"$f":"IFERROR(VLOOKUP(Tabla38[[#This Row],[CODIGO municipio]],[3]!Tabla8[#All],14,FALSE),\"\")","v":""},{"$f":"IFERROR(VLOOKUP(Tabla38[[#This Row],[CODIGO municipio]],[3]!Tabla8[#All],15,FALSE),\"\")","v":""},{"$f":"IFERROR(VLOOKUP(Tabla38[[#This Row],[CODIGO municipio]],[3]!Tabla8[#All],16,FALSE),\"\")","v":""},{"$f":"IFERROR(VLOOKUP(Tabla38[[#This Row],[CODIGO municipio]],[3]!Tabla8[#All],17,FALSE),\"\")","v":""},{"$f":"IFERROR(VLOOKUP(Tabla38[[#This Row],[CODIGO municipio]],[3]!Tabla8[#All],18,FALSE),\"\")","v":""},{"$f":"IFERROR(VLOOKUP(Tabla38[[#This Row],[CODIGO municipio]],[3]!Tabla8[#All],19,FALSE),\"\")","v":""},{"$f":"IFERROR(VLOOKUP(Tabla38[[#This Row],[CODIGO municipio]],[3]!Tabla8[#All],20,FALSE),\"\")","v":""},{"$f":"IFERROR(VLOOKUP(Tabla38[[#This Row],[CODIGO municipio]],[3]!Tabla8[#All],21,FALSE),\"\")","v":""},{"$f":"IFERROR(VLOOKUP(Tabla38[[#This Row],[CODIGO municipio]],[3]!Tabla8[#All],22,FALSE),\"\")","v":""},{"$f":"IFERROR(VLOOKUP(Tabla38[[#This Row],[CODIGO municipio]],[3]!Tabla8[#All],23,FALSE),\"\")","v":""},{"$f":"IFERROR(VLOOKUP(Tabla38[[#This Row],[CODIGO municipio]],[3]!Tabla9[#All],3,FALSE),\"\")","v":""}]
[{"$f":"IFERROR(VLOOKUP(Tabla38[[#This Row],[Municipio]],[3]!Tabla2[#All],3,FALSE),\"\")","v":""},1707,"Santa Ana",{"$f":"IFERROR(VLOOKUP(Tabla38[[#This Row],[CODIGO municipio]],[3]!Tabla6[[#All],[codigo_mun]],1,FALSE),\"\")","v":""},{"$f":"IFERROR(VLOOKUP(Tabla38[[#This Row],[CODIGO municipio]],[3]!Tabla12[#All],2,FALSE),\"\")","v":""},{"$f":"IFERROR(VLOOKUP(Tabla38[[#This Row],[CODIGO municipio]],[3]!Tabla7[#All],3,FALSE),\"\")","v":""},{"$f":"IFERROR(VLOOKUP(Tabla38[[#This Row],[CODIGO municipio]],[3]!Tabla7[#All],4,FALSE),\"\")","v":""},{"$f":"IFERROR(VLOOKUP(Tabla38[[#This Row],[CODIGO municipio]],[3]!Tabla7[#All],11,FALSE),\"\")","v":""},{"$f":"IFERROR(VLOOKUP(Tabla38[[#This Row],[CODIGO municipio]],[3]!Tabla7[#All],12,FALSE),\"\")","v":""},{"$f":"IFERROR(VLOOKUP(Tabla38[[#This Row],[CODIGO municipio]],[3]!Tabla7[#All],13,FALSE),\"\")","v":""},{"$f":"IFERROR(VLOOKUP(Tabla38[[#This Row],[CODIGO municipio]],[3]!Tabla7[#All],14,FALSE),\"\")","v":""},{"$f":"IFERROR(VLOOKUP(Tabla38[[#This Row],[CODIGO municipio]],[3]!Tabla7[#All],15,FALSE),\"\")","v":""},{"$f":"IFERROR(VLOOKUP(Tabla38[[#This Row],[CODIGO municipio]],[3]!Tabla7[#All],16,FALSE),\"\")","v":""},{"$f":"IFERROR(VLOOKUP(Tabla38[[#This Row],[CODIGO municipio]],[3]!Tabla7[#All],17,FALSE),\"\")","v":""},{"$f":"IFERROR(VLOOKUP(Tabla38[[#This Row],[CODIGO municipio]],[3]!Tabla7[#All],18,FALSE),\"\")","v":""},{"$f":"IFERROR(VLOOKUP(Tabla38[[#This Row],[CODIGO municipio]],[3]!Tabla7[#All],19,FALSE),\"\")","v":""},{"$f":"IFERROR(VLOOKUP(Tabla38[[#This Row],[CODIGO municipio]],[3]!Tabla8[#All],3,FALSE),\"\")","v":""},{"$f":"IFERROR(VLOOKUP(Tabla38[[#This Row],[CODIGO municipio]],[3]!Tabla8[#All],4,FALSE),\"\")","v":""},{"$f":"IFERROR(VLOOKUP(Tabla38[[#This Row],[CODIGO municipio]],[3]!Tabla8[#All],5,FALSE),\"\")","v":""},{"$f":"IFERROR(VLOOKUP(Tabla38[[#This Row],[CODIGO municipio]],[3]!Tabla8[#All],6,FALSE),\"\")","v":""},{"$f":"IFERROR(VLOOKUP(Tabla38[[#This Row],[CODIGO municipio]],[3]!Tabla8[#All],7,FALSE),\"\")","v":""},{"$f":"IFERROR(VLOOKUP(Tabla38[[#This Row],[CODIGO municipio]],[3]!Tabla8[#All],8,FALSE),\"\")","v":""},{"$f":"IFERROR(VLOOKUP(Tabla38[[#This Row],[CODIGO municipio]],[3]!Tabla8[#All],9,FALSE),\"\")","v":""},{"$f":"IFERROR(VLOOKUP(Tabla38[[#This Row],[CODIGO municipio]],[3]!Tabla8[#All],10,FALSE),\"\")","v":""},{"$f":"IFERROR(VLOOKUP(Tabla38[[#This Row],[CODIGO municipio]],[3]!Tabla8[#All],11,FALSE),\"\")","v":""},{"$f":"IFERROR(VLOOKUP(Tabla38[[#This Row],[CODIGO municipio]],[3]!Tabla8[#All],12,FALSE),\"\")","v":""},{"$f":"IFERROR(VLOOKUP(Tabla38[[#This Row],[CODIGO municipio]],[3]!Tabla8[#All],13,FALSE),\"\")","v":""},{"$f":"IFERROR(VLOOKUP(Tabla38[[#This Row],[CODIGO municipio]],[3]!Tabla8[#All],14,FALSE),\"\")","v":""},{"$f":"IFERROR(VLOOKUP(Tabla38[[#This Row],[CODIGO municipio]],[3]!Tabla8[#All],15,FALSE),\"\")","v":""},{"$f":"IFERROR(VLOOKUP(Tabla38[[#This Row],[CODIGO municipio]],[3]!Tabla8[#All],16,FALSE),\"\")","v":""},{"$f":"IFERROR(VLOOKUP(Tabla38[[#This Row],[CODIGO municipio]],[3]!Tabla8[#All],17,FALSE),\"\")","v":""},{"$f":"IFERROR(VLOOKUP(Tabla38[[#This Row],[CODIGO municipio]],[3]!Tabla8[#All],18,FALSE),\"\")","v":""},{"$f":"IFERROR(VLOOKUP(Tabla38[[#This Row],[CODIGO municipio]],[3]!Tabla8[#All],19,FALSE),\"\")","v":""},{"$f":"IFERROR(VLOOKUP(Tabla38[[#This Row],[CODIGO municipio]],[3]!Tabla8[#All],20,FALSE),\"\")","v":""},{"$f":"IFERROR(VLOOKUP(Tabla38[[#This Row],[CODIGO municipio]],[3]!Tabla8[#All],21,FALSE),\"\")","v":""},{"$f":"IFERROR(VLOOKUP(Tabla38[[#This Row],[CODIGO municipio]],[3]!Tabla8[#All],22,FALSE),\"\")","v":""},{"$f":"IFERROR(VLOOKUP(Tabla38[[#This Row],[CODIGO municipio]],[3]!Tabla8[#All],23,FALSE),\"\")","v":""},{"$f":"IFERROR(VLOOKUP(Tabla38[[#This Row],[CODIGO municipio]],[3]!Tabla9[#All],3,FALSE),\"\")","v":""}]
[{"$f":"IFERROR(VLOOKUP(Tabla38[[#This Row],[Municipio]],[3]!Tabla2[#All],3,FALSE),\"\")","v":""},1708,"Dolores",{"$f":"IFERROR(VLOOKUP(Tabla38[[#This Row],[CODIGO municipio]],[3]!Tabla6[[#All],[codigo_mun]],1,FALSE),\"\")","v":""},{"$f":"IFERROR(VLOOKUP(Tabla38[[#This Row],[CODIGO municipio]],[3]!Tabla12[#All],2,FALSE),\"\")","v":""},{"$f":"IFERROR(VLOOKUP(Tabla38[[#This Row],[CODIGO municipio]],[3]!Tabla7[#All],3,FALSE),\"\")","v":""},{"$f":"IFERROR(VLOOKUP(Tabla38[[#This Row],[CODIGO municipio]],[3]!Tabla7[#All],4,FALSE),\"\")","v":""},{"$f":"IFERROR(VLOOKUP(Tabla38[[#This Row],[CODIGO municipio]],[3]!Tabla7[#All],11,FALSE),\"\")","v":""},{"$f":"IFERROR(VLOOKUP(Tabla38[[#This Row],[CODIGO municipio]],[3]!Tabla7[#All],12,FALSE),\"\")","v":""},{"$f":"IFERROR(VLOOKUP(Tabla38[[#This Row],[CODIGO municipio]],[3]!Tabla7[#All],13,FALSE),\"\")","v":""},{"$f":"IFERROR(VLOOKUP(Tabla38[[#This Row],[CODIGO municipio]],[3]!Tabla7[#All],14,FALSE),\"\")","v":""},{"$f":"IFERROR(VLOOKUP(Tabla38[[#This Row],[CODIGO municipio]],[3]!Tabla7[#All],15,FALSE),\"\")","v":""},{"$f":"IFERROR(VLOOKUP(Tabla38[[#This Row],[CODIGO municipio]],[3]!Tabla7[#All],16,FALSE),\"\")","v":""},{"$f":"IFERROR(VLOOKUP(Tabla38[[#This Row],[CODIGO municipio]],[3]!Tabla7[#All],17,FALSE),\"\")","v":""},{"$f":"IFERROR(VLOOKUP(Tabla38[[#This Row],[CODIGO municipio]],[3]!Tabla7[#All],18,FALSE),\"\")","v":""},{"$f":"IFERROR(VLOOKUP(Tabla38[[#This Row],[CODIGO municipio]],[3]!Tabla7[#All],19,FALSE),\"\")","v":""},{"$f":"IFERROR(VLOOKUP(Tabla38[[#This Row],[CODIGO municipio]],[3]!Tabla8[#All],3,FALSE),\"\")","v":""},{"$f":"IFERROR(VLOOKUP(Tabla38[[#This Row],[CODIGO municipio]],[3]!Tabla8[#All],4,FALSE),\"\")","v":""},{"$f":"IFERROR(VLOOKUP(Tabla38[[#This Row],[CODIGO municipio]],[3]!Tabla8[#All],5,FALSE),\"\")","v":""},{"$f":"IFERROR(VLOOKUP(Tabla38[[#This Row],[CODIGO municipio]],[3]!Tabla8[#All],6,FALSE),\"\")","v":""},{"$f":"IFERROR(VLOOKUP(Tabla38[[#This Row],[CODIGO municipio]],[3]!Tabla8[#All],7,FALSE),\"\")","v":""},{"$f":"IFERROR(VLOOKUP(Tabla38[[#This Row],[CODIGO municipio]],[3]!Tabla8[#All],8,FALSE),\"\")","v":""},{"$f":"IFERROR(VLOOKUP(Tabla38[[#This Row],[CODIGO municipio]],[3]!Tabla8[#All],9,FALSE),\"\")","v":""},{"$f":"IFERROR(VLOOKUP(Tabla38[[#This Row],[CODIGO municipio]],[3]!Tabla8[#All],10,FALSE),\"\")","v":""},{"$f":"IFERROR(VLOOKUP(Tabla38[[#This Row],[CODIGO municipio]],[3]!Tabla8[#All],11,FALSE),\"\")","v":""},{"$f":"IFERROR(VLOOKUP(Tabla38[[#This Row],[CODIGO municipio]],[3]!Tabla8[#All],12,FALSE),\"\")","v":""},{"$f":"IFERROR(VLOOKUP(Tabla38[[#This Row],[CODIGO municipio]],[3]!Tabla8[#All],13,FALSE),\"\")","v":""},{"$f":"IFERROR(VLOOKUP(Tabla38[[#This Row],[CODIGO municipio]],[3]!Tabla8[#All],14,FALSE),\"\")","v":""},{"$f":"IFERROR(VLOOKUP(Tabla38[[#This Row],[CODIGO municipio]],[3]!Tabla8[#All],15,FALSE),\"\")","v":""},{"$f":"IFERROR(VLOOKUP(Tabla38[[#This Row],[CODIGO municipio]],[3]!Tabla8[#All],16,FALSE),\"\")","v":""},{"$f":"IFERROR(VLOOKUP(Tabla38[[#This Row],[CODIGO municipio]],[3]!Tabla8[#All],17,FALSE),\"\")","v":""},{"$f":"IFERROR(VLOOKUP(Tabla38[[#This Row],[CODIGO municipio]],[3]!Tabla8[#All],18,FALSE),\"\")","v":""},{"$f":"IFERROR(VLOOKUP(Tabla38[[#This Row],[CODIGO municipio]],[3]!Tabla8[#All],19,FALSE),\"\")","v":""},{"$f":"IFERROR(VLOOKUP(Tabla38[[#This Row],[CODIGO municipio]],[3]!Tabla8[#All],20,FALSE),\"\")","v":""},{"$f":"IFERROR(VLOOKUP(Tabla38[[#This Row],[CODIGO municipio]],[3]!Tabla8[#All],21,FALSE),\"\")","v":""},{"$f":"IFERROR(VLOOKUP(Tabla38[[#This Row],[CODIGO municipio]],[3]!Tabla8[#All],22,FALSE),\"\")","v":""},{"$f":"IFERROR(VLOOKUP(Tabla38[[#This Row],[CODIGO municipio]],[3]!Tabla8[#All],23,FALSE),\"\")","v":""},{"$f":"IFERROR(VLOOKUP(Tabla38[[#This Row],[CODIGO municipio]],[3]!Tabla9[#All],3,FALSE),\"\")","v":""}]
[{"$f":"IFERROR(VLOOKUP(Tabla38[[#This Row],[Municipio]],[3]!Tabla2[#All],3,FALSE),\"\")","v":""},1709,"San Luis",{"$f":"IFERROR(VLOOKUP(Tabla38[[#This Row],[CODIGO municipio]],[3]!Tabla6[[#All],[codigo_mun]],1,FALSE),\"\")","v":""},{"$f":"IFERROR(VLOOKUP(Tabla38[[#This Row],[CODIGO municipio]],[3]!Tabla12[#All],2,FALSE),\"\")","v":""},{"$f":"IFERROR(VLOOKUP(Tabla38[[#This Row],[CODIGO municipio]],[3]!Tabla7[#All],3,FALSE),\"\")","v":""},{"$f":"IFERROR(VLOOKUP(Tabla38[[#This Row],[CODIGO municipio]],[3]!Tabla7[#All],4,FALSE),\"\")","v":""},{"$f":"IFERROR(VLOOKUP(Tabla38[[#This Row],[CODIGO municipio]],[3]!Tabla7[#All],11,FALSE),\"\")","v":""},{"$f":"IFERROR(VLOOKUP(Tabla38[[#This Row],[CODIGO municipio]],[3]!Tabla7[#All],12,FALSE),\"\")","v":""},{"$f":"IFERROR(VLOOKUP(Tabla38[[#This Row],[CODIGO municipio]],[3]!Tabla7[#All],13,FALSE),\"\")","v":""},{"$f":"IFERROR(VLOOKUP(Tabla38[[#This Row],[CODIGO municipio]],[3]!Tabla7[#All],14,FALSE),\"\")","v":""},{"$f":"IFERROR(VLOOKUP(Tabla38[[#This Row],[CODIGO municipio]],[3]!Tabla7[#All],15,FALSE),\"\")","v":""},{"$f":"IFERROR(VLOOKUP(Tabla38[[#This Row],[CODIGO municipio]],[3]!Tabla7[#All],16,FALSE),\"\")","v":""},{"$f":"IFERROR(VLOOKUP(Tabla38[[#This Row],[CODIGO municipio]],[3]!Tabla7[#All],17,FALSE),\"\")","v":""},{"$f":"IFERROR(VLOOKUP(Tabla38[[#This Row],[CODIGO municipio]],[3]!Tabla7[#All],18,FALSE),\"\")","v":""},{"$f":"IFERROR(VLOOKUP(Tabla38[[#This Row],[CODIGO municipio]],[3]!Tabla7[#All],19,FALSE),\"\")","v":""},{"$f":"IFERROR(VLOOKUP(Tabla38[[#This Row],[CODIGO municipio]],[3]!Tabla8[#All],3,FALSE),\"\")","v":""},{"$f":"IFERROR(VLOOKUP(Tabla38[[#This Row],[CODIGO municipio]],[3]!Tabla8[#All],4,FALSE),\"\")","v":""},{"$f":"IFERROR(VLOOKUP(Tabla38[[#This Row],[CODIGO municipio]],[3]!Tabla8[#All],5,FALSE),\"\")","v":""},{"$f":"IFERROR(VLOOKUP(Tabla38[[#This Row],[CODIGO municipio]],[3]!Tabla8[#All],6,FALSE),\"\")","v":""},{"$f":"IFERROR(VLOOKUP(Tabla38[[#This Row],[CODIGO municipio]],[3]!Tabla8[#All],7,FALSE),\"\")","v":""},{"$f":"IFERROR(VLOOKUP(Tabla38[[#This Row],[CODIGO municipio]],[3]!Tabla8[#All],8,FALSE),\"\")","v":""},{"$f":"IFERROR(VLOOKUP(Tabla38[[#This Row],[CODIGO municipio]],[3]!Tabla8[#All],9,FALSE),\"\")","v":""},{"$f":"IFERROR(VLOOKUP(Tabla38[[#This Row],[CODIGO municipio]],[3]!Tabla8[#All],10,FALSE),\"\")","v":""},{"$f":"IFERROR(VLOOKUP(Tabla38[[#This Row],[CODIGO municipio]],[3]!Tabla8[#All],11,FALSE),\"\")","v":""},{"$f":"IFERROR(VLOOKUP(Tabla38[[#This Row],[CODIGO municipio]],[3]!Tabla8[#All],12,FALSE),\"\")","v":""},{"$f":"IFERROR(VLOOKUP(Tabla38[[#This Row],[CODIGO municipio]],[3]!Tabla8[#All],13,FALSE),\"\")","v":""},{"$f":"IFERROR(VLOOKUP(Tabla38[[#This Row],[CODIGO municipio]],[3]!Tabla8[#All],14,FALSE),\"\")","v":""},{"$f":"IFERROR(VLOOKUP(Tabla38[[#This Row],[CODIGO municipio]],[3]!Tabla8[#All],15,FALSE),\"\")","v":""},{"$f":"IFERROR(VLOOKUP(Tabla38[[#This Row],[CODIGO municipio]],[3]!Tabla8[#All],16,FALSE),\"\")","v":""},{"$f":"IFERROR(VLOOKUP(Tabla38[[#This Row],[CODIGO municipio]],[3]!Tabla8[#All],17,FALSE),\"\")","v":""},{"$f":"IFERROR(VLOOKUP(Tabla38[[#This Row],[CODIGO municipio]],[3]!Tabla8[#All],18,FALSE),\"\")","v":""},{"$f":"IFERROR(VLOOKUP(Tabla38[[#This Row],[CODIGO municipio]],[3]!Tabla8[#All],19,FALSE),\"\")","v":""},{"$f":"IFERROR(VLOOKUP(Tabla38[[#This Row],[CODIGO municipio]],[3]!Tabla8[#All],20,FALSE),\"\")","v":""},{"$f":"IFERROR(VLOOKUP(Tabla38[[#This Row],[CODIGO municipio]],[3]!Tabla8[#All],21,FALSE),\"\")","v":""},{"$f":"IFERROR(VLOOKUP(Tabla38[[#This Row],[CODIGO municipio]],[3]!Tabla8[#All],22,FALSE),\"\")","v":""},{"$f":"IFERROR(VLOOKUP(Tabla38[[#This Row],[CODIGO municipio]],[3]!Tabla8[#All],23,FALSE),\"\")","v":""},{"$f":"IFERROR(VLOOKUP(Tabla38[[#This Row],[CODIGO municipio]],[3]!Tabla9[#All],3,FALSE),\"\")","v":""}]
[{"$f":"IFERROR(VLOOKUP(Tabla38[[#This Row],[Municipio]],[3]!Tabla2[#All],3,FALSE),\"\")","v":""},1710,"Sayaxché",{"$f":"IFERROR(VLOOKUP(Tabla38[[#This Row],[CODIGO municipio]],[3]!Tabla6[[#All],[codigo_mun]],1,FALSE),\"\")","v":""},{"$f":"IFERROR(VLOOKUP(Tabla38[[#This Row],[CODIGO municipio]],[3]!Tabla12[#All],2,FALSE),\"\")","v":""},{"$f":"IFERROR(VLOOKUP(Tabla38[[#This Row],[CODIGO municipio]],[3]!Tabla7[#All],3,FALSE),\"\")","v":""},{"$f":"IFERROR(VLOOKUP(Tabla38[[#This Row],[CODIGO municipio]],[3]!Tabla7[#All],4,FALSE),\"\")","v":""},{"$f":"IFERROR(VLOOKUP(Tabla38[[#This Row],[CODIGO municipio]],[3]!Tabla7[#All],11,FALSE),\"\")","v":""},{"$f":"IFERROR(VLOOKUP(Tabla38[[#This Row],[CODIGO municipio]],[3]!Tabla7[#All],12,FALSE),\"\")","v":""},{"$f":"IFERROR(VLOOKUP(Tabla38[[#This Row],[CODIGO municipio]],[3]!Tabla7[#All],13,FALSE),\"\")","v":""},{"$f":"IFERROR(VLOOKUP(Tabla38[[#This Row],[CODIGO municipio]],[3]!Tabla7[#All],14,FALSE),\"\")","v":""},{"$f":"IFERROR(VLOOKUP(Tabla38[[#This Row],[CODIGO municipio]],[3]!Tabla7[#All],15,FALSE),\"\")","v":""},{"$f":"IFERROR(VLOOKUP(Tabla38[[#This Row],[CODIGO municipio]],[3]!Tabla7[#All],16,FALSE),\"\")","v":""},{"$f":"IFERROR(VLOOKUP(Tabla38[[#This Row],[CODIGO municipio]],[3]!Tabla7[#All],17,FALSE),\"\")","v":""},{"$f":"IFERROR(VLOOKUP(Tabla38[[#This Row],[CODIGO municipio]],[3]!Tabla7[#All],18,FALSE),\"\")","v":""},{"$f":"IFERROR(VLOOKUP(Tabla38[[#This Row],[CODIGO municipio]],[3]!Tabla7[#All],19,FALSE),\"\")","v":""},{"$f":"IFERROR(VLOOKUP(Tabla38[[#This Row],[CODIGO municipio]],[3]!Tabla8[#All],3,FALSE),\"\")","v":""},{"$f":"IFERROR(VLOOKUP(Tabla38[[#This Row],[CODIGO municipio]],[3]!Tabla8[#All],4,FALSE),\"\")","v":""},{"$f":"IFERROR(VLOOKUP(Tabla38[[#This Row],[CODIGO municipio]],[3]!Tabla8[#All],5,FALSE),\"\")","v":""},{"$f":"IFERROR(VLOOKUP(Tabla38[[#This Row],[CODIGO municipio]],[3]!Tabla8[#All],6,FALSE),\"\")","v":""},{"$f":"IFERROR(VLOOKUP(Tabla38[[#This Row],[CODIGO municipio]],[3]!Tabla8[#All],7,FALSE),\"\")","v":""},{"$f":"IFERROR(VLOOKUP(Tabla38[[#This Row],[CODIGO municipio]],[3]!Tabla8[#All],8,FALSE),\"\")","v":""},{"$f":"IFERROR(VLOOKUP(Tabla38[[#This Row],[CODIGO municipio]],[3]!Tabla8[#All],9,FALSE),\"\")","v":""},{"$f":"IFERROR(VLOOKUP(Tabla38[[#This Row],[CODIGO municipio]],[3]!Tabla8[#All],10,FALSE),\"\")","v":""},{"$f":"IFERROR(VLOOKUP(Tabla38[[#This Row],[CODIGO municipio]],[3]!Tabla8[#All],11,FALSE),\"\")","v":""},{"$f":"IFERROR(VLOOKUP(Tabla38[[#This Row],[CODIGO municipio]],[3]!Tabla8[#All],12,FALSE),\"\")","v":""},{"$f":"IFERROR(VLOOKUP(Tabla38[[#This Row],[CODIGO municipio]],[3]!Tabla8[#All],13,FALSE),\"\")","v":""},{"$f":"IFERROR(VLOOKUP(Tabla38[[#This Row],[CODIGO municipio]],[3]!Tabla8[#All],14,FALSE),\"\")","v":""},{"$f":"IFERROR(VLOOKUP(Tabla38[[#This Row],[CODIGO municipio]],[3]!Tabla8[#All],15,FALSE),\"\")","v":""},{"$f":"IFERROR(VLOOKUP(Tabla38[[#This Row],[CODIGO municipio]],[3]!Tabla8[#All],16,FALSE),\"\")","v":""},{"$f":"IFERROR(VLOOKUP(Tabla38[[#This Row],[CODIGO municipio]],[3]!Tabla8[#All],17,FALSE),\"\")","v":""},{"$f":"IFERROR(VLOOKUP(Tabla38[[#This Row],[CODIGO municipio]],[3]!Tabla8[#All],18,FALSE),\"\")","v":""},{"$f":"IFERROR(VLOOKUP(Tabla38[[#This Row],[CODIGO municipio]],[3]!Tabla8[#All],19,FALSE),\"\")","v":""},{"$f":"IFERROR(VLOOKUP(Tabla38[[#This Row],[CODIGO municipio]],[3]!Tabla8[#All],20,FALSE),\"\")","v":""},{"$f":"IFERROR(VLOOKUP(Tabla38[[#This Row],[CODIGO municipio]],[3]!Tabla8[#All],21,FALSE),\"\")","v":""},{"$f":"IFERROR(VLOOKUP(Tabla38[[#This Row],[CODIGO municipio]],[3]!Tabla8[#All],22,FALSE),\"\")","v":""},{"$f":"IFERROR(VLOOKUP(Tabla38[[#This Row],[CODIGO municipio]],[3]!Tabla8[#All],23,FALSE),\"\")","v":""},{"$f":"IFERROR(VLOOKUP(Tabla38[[#This Row],[CODIGO municipio]],[3]!Tabla9[#All],3,FALSE),\"\")","v":""}]
[{"$f":"IFERROR(VLOOKUP(Tabla38[[#This Row],[Municipio]],[3]!Tabla2[#All],3,FALSE),\"\")","v":""},1711,"Melchor de Mencos",{"$f":"IFERROR(VLOOKUP(Tabla38[[#This Row],[CODIGO municipio]],[3]!Tabla6[[#All],[codigo_mun]],1,FALSE),\"\")","v":""},{"$f":"IFERROR(VLOOKUP(Tabla38[[#This Row],[CODIGO municipio]],[3]!Tabla12[#All],2,FALSE),\"\")","v":""},{"$f":"IFERROR(VLOOKUP(Tabla38[[#This Row],[CODIGO municipio]],[3]!Tabla7[#All],3,FALSE),\"\")","v":""},{"$f":"IFERROR(VLOOKUP(Tabla38[[#This Row],[CODIGO municipio]],[3]!Tabla7[#All],4,FALSE),\"\")","v":""},{"$f":"IFERROR(VLOOKUP(Tabla38[[#This Row],[CODIGO municipio]],[3]!Tabla7[#All],11,FALSE),\"\")","v":""},{"$f":"IFERROR(VLOOKUP(Tabla38[[#This Row],[CODIGO municipio]],[3]!Tabla7[#All],12,FALSE),\"\")","v":""},{"$f":"IFERROR(VLOOKUP(Tabla38[[#This Row],[CODIGO municipio]],[3]!Tabla7[#All],13,FALSE),\"\")","v":""},{"$f":"IFERROR(VLOOKUP(Tabla38[[#This Row],[CODIGO municipio]],[3]!Tabla7[#All],14,FALSE),\"\")","v":""},{"$f":"IFERROR(VLOOKUP(Tabla38[[#This Row],[CODIGO municipio]],[3]!Tabla7[#All],15,FALSE),\"\")","v":""},{"$f":"IFERROR(VLOOKUP(Tabla38[[#This Row],[CODIGO municipio]],[3]!Tabla7[#All],16,FALSE),\"\")","v":""},{"$f":"IFERROR(VLOOKUP(Tabla38[[#This Row],[CODIGO municipio]],[3]!Tabla7[#All],17,FALSE),\"\")","v":""},{"$f":"IFERROR(VLOOKUP(Tabla38[[#This Row],[CODIGO municipio]],[3]!Tabla7[#All],18,FALSE),\"\")","v":""},{"$f":"IFERROR(VLOOKUP(Tabla38[[#This Row],[CODIGO municipio]],[3]!Tabla7[#All],19,FALSE),\"\")","v":""},{"$f":"IFERROR(VLOOKUP(Tabla38[[#This Row],[CODIGO municipio]],[3]!Tabla8[#All],3,FALSE),\"\")","v":""},{"$f":"IFERROR(VLOOKUP(Tabla38[[#This Row],[CODIGO municipio]],[3]!Tabla8[#All],4,FALSE),\"\")","v":""},{"$f":"IFERROR(VLOOKUP(Tabla38[[#This Row],[CODIGO municipio]],[3]!Tabla8[#All],5,FALSE),\"\")","v":""},{"$f":"IFERROR(VLOOKUP(Tabla38[[#This Row],[CODIGO municipio]],[3]!Tabla8[#All],6,FALSE),\"\")","v":""},{"$f":"IFERROR(VLOOKUP(Tabla38[[#This Row],[CODIGO municipio]],[3]!Tabla8[#All],7,FALSE),\"\")","v":""},{"$f":"IFERROR(VLOOKUP(Tabla38[[#This Row],[CODIGO municipio]],[3]!Tabla8[#All],8,FALSE),\"\")","v":""},{"$f":"IFERROR(VLOOKUP(Tabla38[[#This Row],[CODIGO municipio]],[3]!Tabla8[#All],9,FALSE),\"\")","v":""},{"$f":"IFERROR(VLOOKUP(Tabla38[[#This Row],[CODIGO municipio]],[3]!Tabla8[#All],10,FALSE),\"\")","v":""},{"$f":"IFERROR(VLOOKUP(Tabla38[[#This Row],[CODIGO municipio]],[3]!Tabla8[#All],11,FALSE),\"\")","v":""},{"$f":"IFERROR(VLOOKUP(Tabla38[[#This Row],[CODIGO municipio]],[3]!Tabla8[#All],12,FALSE),\"\")","v":""},{"$f":"IFERROR(VLOOKUP(Tabla38[[#This Row],[CODIGO municipio]],[3]!Tabla8[#All],13,FALSE),\"\")","v":""},{"$f":"IFERROR(VLOOKUP(Tabla38[[#This Row],[CODIGO municipio]],[3]!Tabla8[#All],14,FALSE),\"\")","v":""},{"$f":"IFERROR(VLOOKUP(Tabla38[[#This Row],[CODIGO municipio]],[3]!Tabla8[#All],15,FALSE),\"\")","v":""},{"$f":"IFERROR(VLOOKUP(Tabla38[[#This Row],[CODIGO municipio]],[3]!Tabla8[#All],16,FALSE),\"\")","v":""},{"$f":"IFERROR(VLOOKUP(Tabla38[[#This Row],[CODIGO municipio]],[3]!Tabla8[#All],17,FALSE),\"\")","v":""},{"$f":"IFERROR(VLOOKUP(Tabla38[[#This Row],[CODIGO municipio]],[3]!Tabla8[#All],18,FALSE),\"\")","v":""},{"$f":"IFERROR(VLOOKUP(Tabla38[[#This Row],[CODIGO municipio]],[3]!Tabla8[#All],19,FALSE),\"\")","v":""},{"$f":"IFERROR(VLOOKUP(Tabla38[[#This Row],[CODIGO municipio]],[3]!Tabla8[#All],20,FALSE),\"\")","v":""},{"$f":"IFERROR(VLOOKUP(Tabla38[[#This Row],[CODIGO municipio]],[3]!Tabla8[#All],21,FALSE),\"\")","v":""},{"$f":"IFERROR(VLOOKUP(Tabla38[[#This Row],[CODIGO municipio]],[3]!Tabla8[#All],22,FALSE),\"\")","v":""},{"$f":"IFERROR(VLOOKUP(Tabla38[[#This Row],[CODIGO municipio]],[3]!Tabla8[#All],23,FALSE),\"\")","v":""},{"$f":"IFERROR(VLOOKUP(Tabla38[[#This Row],[CODIGO municipio]],[3]!Tabla9[#All],3,FALSE),\"\")","v":""}]
[{"$f":"IFERROR(VLOOKUP(Tabla38[[#This Row],[Municipio]],[3]!Tabla2[#All],3,FALSE),\"\")","v":""},1712,"Poptún",{"$f":"IFERROR(VLOOKUP(Tabla38[[#This Row],[CODIGO municipio]],[3]!Tabla6[[#All],[codigo_mun]],1,FALSE),\"\")","v":""},{"$f":"IFERROR(VLOOKUP(Tabla38[[#This Row],[CODIGO municipio]],[3]!Tabla12[#All],2,FALSE),\"\")","v":""},{"$f":"IFERROR(VLOOKUP(Tabla38[[#This Row],[CODIGO municipio]],[3]!Tabla7[#All],3,FALSE),\"\")","v":""},{"$f":"IFERROR(VLOOKUP(Tabla38[[#This Row],[CODIGO municipio]],[3]!Tabla7[#All],4,FALSE),\"\")","v":""},{"$f":"IFERROR(VLOOKUP(Tabla38[[#This Row],[CODIGO municipio]],[3]!Tabla7[#All],11,FALSE),\"\")","v":""},{"$f":"IFERROR(VLOOKUP(Tabla38[[#This Row],[CODIGO municipio]],[3]!Tabla7[#All],12,FALSE),\"\")","v":""},{"$f":"IFERROR(VLOOKUP(Tabla38[[#This Row],[CODIGO municipio]],[3]!Tabla7[#All],13,FALSE),\"\")","v":""},{"$f":"IFERROR(VLOOKUP(Tabla38[[#This Row],[CODIGO municipio]],[3]!Tabla7[#All],14,FALSE),\"\")","v":""},{"$f":"IFERROR(VLOOKUP(Tabla38[[#This Row],[CODIGO municipio]],[3]!Tabla7[#All],15,FALSE),\"\")","v":""},{"$f":"IFERROR(VLOOKUP(Tabla38[[#This Row],[CODIGO municipio]],[3]!Tabla7[#All],16,FALSE),\"\")","v":""},{"$f":"IFERROR(VLOOKUP(Tabla38[[#This Row],[CODIGO municipio]],[3]!Tabla7[#All],17,FALSE),\"\")","v":""},{"$f":"IFERROR(VLOOKUP(Tabla38[[#This Row],[CODIGO municipio]],[3]!Tabla7[#All],18,FALSE),\"\")","v":""},{"$f":"IFERROR(VLOOKUP(Tabla38[[#This Row],[CODIGO municipio]],[3]!Tabla7[#All],19,FALSE),\"\")","v":""},{"$f":"IFERROR(VLOOKUP(Tabla38[[#This Row],[CODIGO municipio]],[3]!Tabla8[#All],3,FALSE),\"\")","v":""},{"$f":"IFERROR(VLOOKUP(Tabla38[[#This Row],[CODIGO municipio]],[3]!Tabla8[#All],4,FALSE),\"\")","v":""},{"$f":"IFERROR(VLOOKUP(Tabla38[[#This Row],[CODIGO municipio]],[3]!Tabla8[#All],5,FALSE),\"\")","v":""},{"$f":"IFERROR(VLOOKUP(Tabla38[[#This Row],[CODIGO municipio]],[3]!Tabla8[#All],6,FALSE),\"\")","v":""},{"$f":"IFERROR(VLOOKUP(Tabla38[[#This Row],[CODIGO municipio]],[3]!Tabla8[#All],7,FALSE),\"\")","v":""},{"$f":"IFERROR(VLOOKUP(Tabla38[[#This Row],[CODIGO municipio]],[3]!Tabla8[#All],8,FALSE),\"\")","v":""},{"$f":"IFERROR(VLOOKUP(Tabla38[[#This Row],[CODIGO municipio]],[3]!Tabla8[#All],9,FALSE),\"\")","v":""},{"$f":"IFERROR(VLOOKUP(Tabla38[[#This Row],[CODIGO municipio]],[3]!Tabla8[#All],10,FALSE),\"\")","v":""},{"$f":"IFERROR(VLOOKUP(Tabla38[[#This Row],[CODIGO municipio]],[3]!Tabla8[#All],11,FALSE),\"\")","v":""},{"$f":"IFERROR(VLOOKUP(Tabla38[[#This Row],[CODIGO municipio]],[3]!Tabla8[#All],12,FALSE),\"\")","v":""},{"$f":"IFERROR(VLOOKUP(Tabla38[[#This Row],[CODIGO municipio]],[3]!Tabla8[#All],13,FALSE),\"\")","v":""},{"$f":"IFERROR(VLOOKUP(Tabla38[[#This Row],[CODIGO municipio]],[3]!Tabla8[#All],14,FALSE),\"\")","v":""},{"$f":"IFERROR(VLOOKUP(Tabla38[[#This Row],[CODIGO municipio]],[3]!Tabla8[#All],15,FALSE),\"\")","v":""},{"$f":"IFERROR(VLOOKUP(Tabla38[[#This Row],[CODIGO municipio]],[3]!Tabla8[#All],16,FALSE),\"\")","v":""},{"$f":"IFERROR(VLOOKUP(Tabla38[[#This Row],[CODIGO municipio]],[3]!Tabla8[#All],17,FALSE),\"\")","v":""},{"$f":"IFERROR(VLOOKUP(Tabla38[[#This Row],[CODIGO municipio]],[3]!Tabla8[#All],18,FALSE),\"\")","v":""},{"$f":"IFERROR(VLOOKUP(Tabla38[[#This Row],[CODIGO municipio]],[3]!Tabla8[#All],19,FALSE),\"\")","v":""},{"$f":"IFERROR(VLOOKUP(Tabla38[[#This Row],[CODIGO municipio]],[3]!Tabla8[#All],20,FALSE),\"\")","v":""},{"$f":"IFERROR(VLOOKUP(Tabla38[[#This Row],[CODIGO municipio]],[3]!Tabla8[#All],21,FALSE),\"\")","v":""},{"$f":"IFERROR(VLOOKUP(Tabla38[[#This Row],[CODIGO municipio]],[3]!Tabla8[#All],22,FALSE),\"\")","v":""},{"$f":"IFERROR(VLOOKUP(Tabla38[[#This Row],[CODIGO municipio]],[3]!Tabla8[#All],23,FALSE),\"\")","v":""},{"$f":"IFERROR(VLOOKUP(Tabla38[[#This Row],[CODIGO municipio]],[3]!Tabla9[#All],3,FALSE),\"\")","v":""}]
[{"$f":"IFERROR(VLOOKUP(Tabla38[[#This Row],[Municipio]],[3]!Tabla2[#All],3,FALSE),\"\")","v":""},1713,"Las Cruces",{"$f":"IFERROR(VLOOKUP(Tabla38[[#This Row],[CODIGO municipio]],[3]!Tabla6[[#All],[codigo_mun]],1,FALSE),\"\")","v":""},{"$f":"IFERROR(VLOOKUP(Tabla38[[#This Row],[CODIGO municipio]],[3]!Tabla12[#All],2,FALSE),\"\")","v":""},{"$f":"IFERROR(VLOOKUP(Tabla38[[#This Row],[CODIGO municipio]],[3]!Tabla7[#All],3,FALSE),\"\")","v":""},{"$f":"IFERROR(VLOOKUP(Tabla38[[#This Row],[CODIGO municipio]],[3]!Tabla7[#All],4,FALSE),\"\")","v":""},{"$f":"IFERROR(VLOOKUP(Tabla38[[#This Row],[CODIGO municipio]],[3]!Tabla7[#All],11,FALSE),\"\")","v":""},{"$f":"IFERROR(VLOOKUP(Tabla38[[#This Row],[CODIGO municipio]],[3]!Tabla7[#All],12,FALSE),\"\")","v":""},{"$f":"IFERROR(VLOOKUP(Tabla38[[#This Row],[CODIGO municipio]],[3]!Tabla7[#All],13,FALSE),\"\")","v":""},{"$f":"IFERROR(VLOOKUP(Tabla38[[#This Row],[CODIGO municipio]],[3]!Tabla7[#All],14,FALSE),\"\")","v":""},{"$f":"IFERROR(VLOOKUP(Tabla38[[#This Row],[CODIGO municipio]],[3]!Tabla7[#All],15,FALSE),\"\")","v":""},{"$f":"IFERROR(VLOOKUP(Tabla38[[#This Row],[CODIGO municipio]],[3]!Tabla7[#All],16,FALSE),\"\")","v":""},{"$f":"IFERROR(VLOOKUP(Tabla38[[#This Row],[CODIGO municipio]],[3]!Tabla7[#All],17,FALSE),\"\")","v":""},{"$f":"IFERROR(VLOOKUP(Tabla38[[#This Row],[CODIGO municipio]],[3]!Tabla7[#All],18,FALSE),\"\")","v":""},{"$f":"IFERROR(VLOOKUP(Tabla38[[#This Row],[CODIGO municipio]],[3]!Tabla7[#All],19,FALSE),\"\")","v":""},{"$f":"IFERROR(VLOOKUP(Tabla38[[#This Row],[CODIGO municipio]],[3]!Tabla8[#All],3,FALSE),\"\")","v":""},{"$f":"IFERROR(VLOOKUP(Tabla38[[#This Row],[CODIGO municipio]],[3]!Tabla8[#All],4,FALSE),\"\")","v":""},{"$f":"IFERROR(VLOOKUP(Tabla38[[#This Row],[CODIGO municipio]],[3]!Tabla8[#All],5,FALSE),\"\")","v":""},{"$f":"IFERROR(VLOOKUP(Tabla38[[#This Row],[CODIGO municipio]],[3]!Tabla8[#All],6,FALSE),\"\")","v":""},{"$f":"IFERROR(VLOOKUP(Tabla38[[#This Row],[CODIGO municipio]],[3]!Tabla8[#All],7,FALSE),\"\")","v":""},{"$f":"IFERROR(VLOOKUP(Tabla38[[#This Row],[CODIGO municipio]],[3]!Tabla8[#All],8,FALSE),\"\")","v":""},{"$f":"IFERROR(VLOOKUP(Tabla38[[#This Row],[CODIGO municipio]],[3]!Tabla8[#All],9,FALSE),\"\")","v":""},{"$f":"IFERROR(VLOOKUP(Tabla38[[#This Row],[CODIGO municipio]],[3]!Tabla8[#All],10,FALSE),\"\")","v":""},{"$f":"IFERROR(VLOOKUP(Tabla38[[#This Row],[CODIGO municipio]],[3]!Tabla8[#All],11,FALSE),\"\")","v":""},{"$f":"IFERROR(VLOOKUP(Tabla38[[#This Row],[CODIGO municipio]],[3]!Tabla8[#All],12,FALSE),\"\")","v":""},{"$f":"IFERROR(VLOOKUP(Tabla38[[#This Row],[CODIGO municipio]],[3]!Tabla8[#All],13,FALSE),\"\")","v":""},{"$f":"IFERROR(VLOOKUP(Tabla38[[#This Row],[CODIGO municipio]],[3]!Tabla8[#All],14,FALSE),\"\")","v":""},{"$f":"IFERROR(VLOOKUP(Tabla38[[#This Row],[CODIGO municipio]],[3]!Tabla8[#All],15,FALSE),\"\")","v":""},{"$f":"IFERROR(VLOOKUP(Tabla38[[#This Row],[CODIGO municipio]],[3]!Tabla8[#All],16,FALSE),\"\")","v":""},{"$f":"IFERROR(VLOOKUP(Tabla38[[#This Row],[CODIGO municipio]],[3]!Tabla8[#All],17,FALSE),\"\")","v":""},{"$f":"IFERROR(VLOOKUP(Tabla38[[#This Row],[CODIGO municipio]],[3]!Tabla8[#All],18,FALSE),\"\")","v":""},{"$f":"IFERROR(VLOOKUP(Tabla38[[#This Row],[CODIGO municipio]],[3]!Tabla8[#All],19,FALSE),\"\")","v":""},{"$f":"IFERROR(VLOOKUP(Tabla38[[#This Row],[CODIGO municipio]],[3]!Tabla8[#All],20,FALSE),\"\")","v":""},{"$f":"IFERROR(VLOOKUP(Tabla38[[#This Row],[CODIGO municipio]],[3]!Tabla8[#All],21,FALSE),\"\")","v":""},{"$f":"IFERROR(VLOOKUP(Tabla38[[#This Row],[CODIGO municipio]],[3]!Tabla8[#All],22,FALSE),\"\")","v":""},{"$f":"IFERROR(VLOOKUP(Tabla38[[#This Row],[CODIGO municipio]],[3]!Tabla8[#All],23,FALSE),\"\")","v":""},{"$f":"IFERROR(VLOOKUP(Tabla38[[#This Row],[CODIGO municipio]],[3]!Tabla9[#All],3,FALSE),\"\")","v":""}]
[{"$f":"IFERROR(VLOOKUP(Tabla38[[#This Row],[Municipio]],[3]!Tabla2[#All],3,FALSE),\"\")","v":""},1714,"El Chal",{"$f":"IFERROR(VLOOKUP(Tabla38[[#This Row],[CODIGO municipio]],[3]!Tabla6[[#All],[codigo_mun]],1,FALSE),\"\")","v":""},{"$f":"IFERROR(VLOOKUP(Tabla38[[#This Row],[CODIGO municipio]],[3]!Tabla12[#All],2,FALSE),\"\")","v":""},{"$f":"IFERROR(VLOOKUP(Tabla38[[#This Row],[CODIGO municipio]],[3]!Tabla7[#All],3,FALSE),\"\")","v":""},{"$f":"IFERROR(VLOOKUP(Tabla38[[#This Row],[CODIGO municipio]],[3]!Tabla7[#All],4,FALSE),\"\")","v":""},{"$f":"IFERROR(VLOOKUP(Tabla38[[#This Row],[CODIGO municipio]],[3]!Tabla7[#All],11,FALSE),\"\")","v":""},{"$f":"IFERROR(VLOOKUP(Tabla38[[#This Row],[CODIGO municipio]],[3]!Tabla7[#All],12,FALSE),\"\")","v":""},{"$f":"IFERROR(VLOOKUP(Tabla38[[#This Row],[CODIGO municipio]],[3]!Tabla7[#All],13,FALSE),\"\")","v":""},{"$f":"IFERROR(VLOOKUP(Tabla38[[#This Row],[CODIGO municipio]],[3]!Tabla7[#All],14,FALSE),\"\")","v":""},{"$f":"IFERROR(VLOOKUP(Tabla38[[#This Row],[CODIGO municipio]],[3]!Tabla7[#All],15,FALSE),\"\")","v":""},{"$f":"IFERROR(VLOOKUP(Tabla38[[#This Row],[CODIGO municipio]],[3]!Tabla7[#All],16,FALSE),\"\")","v":""},{"$f":"IFERROR(VLOOKUP(Tabla38[[#This Row],[CODIGO municipio]],[3]!Tabla7[#All],17,FALSE),\"\")","v":""},{"$f":"IFERROR(VLOOKUP(Tabla38[[#This Row],[CODIGO municipio]],[3]!Tabla7[#All],18,FALSE),\"\")","v":""},{"$f":"IFERROR(VLOOKUP(Tabla38[[#This Row],[CODIGO municipio]],[3]!Tabla7[#All],19,FALSE),\"\")","v":""},{"$f":"IFERROR(VLOOKUP(Tabla38[[#This Row],[CODIGO municipio]],[3]!Tabla8[#All],3,FALSE),\"\")","v":""},{"$f":"IFERROR(VLOOKUP(Tabla38[[#This Row],[CODIGO municipio]],[3]!Tabla8[#All],4,FALSE),\"\")","v":""},{"$f":"IFERROR(VLOOKUP(Tabla38[[#This Row],[CODIGO municipio]],[3]!Tabla8[#All],5,FALSE),\"\")","v":""},{"$f":"IFERROR(VLOOKUP(Tabla38[[#This Row],[CODIGO municipio]],[3]!Tabla8[#All],6,FALSE),\"\")","v":""},{"$f":"IFERROR(VLOOKUP(Tabla38[[#This Row],[CODIGO municipio]],[3]!Tabla8[#All],7,FALSE),\"\")","v":""},{"$f":"IFERROR(VLOOKUP(Tabla38[[#This Row],[CODIGO municipio]],[3]!Tabla8[#All],8,FALSE),\"\")","v":""},{"$f":"IFERROR(VLOOKUP(Tabla38[[#This Row],[CODIGO municipio]],[3]!Tabla8[#All],9,FALSE),\"\")","v":""},{"$f":"IFERROR(VLOOKUP(Tabla38[[#This Row],[CODIGO municipio]],[3]!Tabla8[#All],10,FALSE),\"\")","v":""},{"$f":"IFERROR(VLOOKUP(Tabla38[[#This Row],[CODIGO municipio]],[3]!Tabla8[#All],11,FALSE),\"\")","v":""},{"$f":"IFERROR(VLOOKUP(Tabla38[[#This Row],[CODIGO municipio]],[3]!Tabla8[#All],12,FALSE),\"\")","v":""},{"$f":"IFERROR(VLOOKUP(Tabla38[[#This Row],[CODIGO municipio]],[3]!Tabla8[#All],13,FALSE),\"\")","v":""},{"$f":"IFERROR(VLOOKUP(Tabla38[[#This Row],[CODIGO municipio]],[3]!Tabla8[#All],14,FALSE),\"\")","v":""},{"$f":"IFERROR(VLOOKUP(Tabla38[[#This Row],[CODIGO municipio]],[3]!Tabla8[#All],15,FALSE),\"\")","v":""},{"$f":"IFERROR(VLOOKUP(Tabla38[[#This Row],[CODIGO municipio]],[3]!Tabla8[#All],16,FALSE),\"\")","v":""},{"$f":"IFERROR(VLOOKUP(Tabla38[[#This Row],[CODIGO municipio]],[3]!Tabla8[#All],17,FALSE),\"\")","v":""},{"$f":"IFERROR(VLOOKUP(Tabla38[[#This Row],[CODIGO municipio]],[3]!Tabla8[#All],18,FALSE),\"\")","v":""},{"$f":"IFERROR(VLOOKUP(Tabla38[[#This Row],[CODIGO municipio]],[3]!Tabla8[#All],19,FALSE),\"\")","v":""},{"$f":"IFERROR(VLOOKUP(Tabla38[[#This Row],[CODIGO municipio]],[3]!Tabla8[#All],20,FALSE),\"\")","v":""},{"$f":"IFERROR(VLOOKUP(Tabla38[[#This Row],[CODIGO municipio]],[3]!Tabla8[#All],21,FALSE),\"\")","v":""},{"$f":"IFERROR(VLOOKUP(Tabla38[[#This Row],[CODIGO municipio]],[3]!Tabla8[#All],22,FALSE),\"\")","v":""},{"$f":"IFERROR(VLOOKUP(Tabla38[[#This Row],[CODIGO municipio]],[3]!Tabla8[#All],23,FALSE),\"\")","v":""},{"$f":"IFERROR(VLOOKUP(Tabla38[[#This Row],[CODIGO municipio]],[3]!Tabla9[#All],3,FALSE),\"\")","v":""}]
[{"$f":"IFERROR(VLOOKUP(Tabla38[[#This Row],[Municipio]],[3]!Tabla2[#All],3,FALSE),\"\")","v":""},1801,"Puerto Barrios",{"$f":"IFERROR(VLOOKUP(Tabla38[[#This Row],[CODIGO municipio]],[3]!Tabla6[[#All],[codigo_mun]],1,FALSE),\"\")","v":""},{"$f":"IFERROR(VLOOKUP(Tabla38[[#This Row],[CODIGO municipio]],[3]!Tabla12[#All],2,FALSE),\"\")","v":""},{"$f":"IFERROR(VLOOKUP(Tabla38[[#This Row],[CODIGO municipio]],[3]!Tabla7[#All],3,FALSE),\"\")","v":""},{"$f":"IFERROR(VLOOKUP(Tabla38[[#This Row],[CODIGO municipio]],[3]!Tabla7[#All],4,FALSE),\"\")","v":""},{"$f":"IFERROR(VLOOKUP(Tabla38[[#This Row],[CODIGO municipio]],[3]!Tabla7[#All],11,FALSE),\"\")","v":""},{"$f":"IFERROR(VLOOKUP(Tabla38[[#This Row],[CODIGO municipio]],[3]!Tabla7[#All],12,FALSE),\"\")","v":""},{"$f":"IFERROR(VLOOKUP(Tabla38[[#This Row],[CODIGO municipio]],[3]!Tabla7[#All],13,FALSE),\"\")","v":""},{"$f":"IFERROR(VLOOKUP(Tabla38[[#This Row],[CODIGO municipio]],[3]!Tabla7[#All],14,FALSE),\"\")","v":""},{"$f":"IFERROR(VLOOKUP(Tabla38[[#This Row],[CODIGO municipio]],[3]!Tabla7[#All],15,FALSE),\"\")","v":""},{"$f":"IFERROR(VLOOKUP(Tabla38[[#This Row],[CODIGO municipio]],[3]!Tabla7[#All],16,FALSE),\"\")","v":""},{"$f":"IFERROR(VLOOKUP(Tabla38[[#This Row],[CODIGO municipio]],[3]!Tabla7[#All],17,FALSE),\"\")","v":""},{"$f":"IFERROR(VLOOKUP(Tabla38[[#This Row],[CODIGO municipio]],[3]!Tabla7[#All],18,FALSE),\"\")","v":""},{"$f":"IFERROR(VLOOKUP(Tabla38[[#This Row],[CODIGO municipio]],[3]!Tabla7[#All],19,FALSE),\"\")","v":""},{"$f":"IFERROR(VLOOKUP(Tabla38[[#This Row],[CODIGO municipio]],[3]!Tabla8[#All],3,FALSE),\"\")","v":""},{"$f":"IFERROR(VLOOKUP(Tabla38[[#This Row],[CODIGO municipio]],[3]!Tabla8[#All],4,FALSE),\"\")","v":""},{"$f":"IFERROR(VLOOKUP(Tabla38[[#This Row],[CODIGO municipio]],[3]!Tabla8[#All],5,FALSE),\"\")","v":""},{"$f":"IFERROR(VLOOKUP(Tabla38[[#This Row],[CODIGO municipio]],[3]!Tabla8[#All],6,FALSE),\"\")","v":""},{"$f":"IFERROR(VLOOKUP(Tabla38[[#This Row],[CODIGO municipio]],[3]!Tabla8[#All],7,FALSE),\"\")","v":""},{"$f":"IFERROR(VLOOKUP(Tabla38[[#This Row],[CODIGO municipio]],[3]!Tabla8[#All],8,FALSE),\"\")","v":""},{"$f":"IFERROR(VLOOKUP(Tabla38[[#This Row],[CODIGO municipio]],[3]!Tabla8[#All],9,FALSE),\"\")","v":""},{"$f":"IFERROR(VLOOKUP(Tabla38[[#This Row],[CODIGO municipio]],[3]!Tabla8[#All],10,FALSE),\"\")","v":""},{"$f":"IFERROR(VLOOKUP(Tabla38[[#This Row],[CODIGO municipio]],[3]!Tabla8[#All],11,FALSE),\"\")","v":""},{"$f":"IFERROR(VLOOKUP(Tabla38[[#This Row],[CODIGO municipio]],[3]!Tabla8[#All],12,FALSE),\"\")","v":""},{"$f":"IFERROR(VLOOKUP(Tabla38[[#This Row],[CODIGO municipio]],[3]!Tabla8[#All],13,FALSE),\"\")","v":""},{"$f":"IFERROR(VLOOKUP(Tabla38[[#This Row],[CODIGO municipio]],[3]!Tabla8[#All],14,FALSE),\"\")","v":""},{"$f":"IFERROR(VLOOKUP(Tabla38[[#This Row],[CODIGO municipio]],[3]!Tabla8[#All],15,FALSE),\"\")","v":""},{"$f":"IFERROR(VLOOKUP(Tabla38[[#This Row],[CODIGO municipio]],[3]!Tabla8[#All],16,FALSE),\"\")","v":""},{"$f":"IFERROR(VLOOKUP(Tabla38[[#This Row],[CODIGO municipio]],[3]!Tabla8[#All],17,FALSE),\"\")","v":""},{"$f":"IFERROR(VLOOKUP(Tabla38[[#This Row],[CODIGO municipio]],[3]!Tabla8[#All],18,FALSE),\"\")","v":""},{"$f":"IFERROR(VLOOKUP(Tabla38[[#This Row],[CODIGO municipio]],[3]!Tabla8[#All],19,FALSE),\"\")","v":""},{"$f":"IFERROR(VLOOKUP(Tabla38[[#This Row],[CODIGO municipio]],[3]!Tabla8[#All],20,FALSE),\"\")","v":""},{"$f":"IFERROR(VLOOKUP(Tabla38[[#This Row],[CODIGO municipio]],[3]!Tabla8[#All],21,FALSE),\"\")","v":""},{"$f":"IFERROR(VLOOKUP(Tabla38[[#This Row],[CODIGO municipio]],[3]!Tabla8[#All],22,FALSE),\"\")","v":""},{"$f":"IFERROR(VLOOKUP(Tabla38[[#This Row],[CODIGO municipio]],[3]!Tabla8[#All],23,FALSE),\"\")","v":""},{"$f":"IFERROR(VLOOKUP(Tabla38[[#This Row],[CODIGO municipio]],[3]!Tabla9[#All],3,FALSE),\"\")","v":""}]
[{"$f":"IFERROR(VLOOKUP(Tabla38[[#This Row],[Municipio]],[3]!Tabla2[#All],3,FALSE),\"\")","v":""},1802,"Livingston",{"$f":"IFERROR(VLOOKUP(Tabla38[[#This Row],[CODIGO municipio]],[3]!Tabla6[[#All],[codigo_mun]],1,FALSE),\"\")","v":""},{"$f":"IFERROR(VLOOKUP(Tabla38[[#This Row],[CODIGO municipio]],[3]!Tabla12[#All],2,FALSE),\"\")","v":""},{"$f":"IFERROR(VLOOKUP(Tabla38[[#This Row],[CODIGO municipio]],[3]!Tabla7[#All],3,FALSE),\"\")","v":""},{"$f":"IFERROR(VLOOKUP(Tabla38[[#This Row],[CODIGO municipio]],[3]!Tabla7[#All],4,FALSE),\"\")","v":""},{"$f":"IFERROR(VLOOKUP(Tabla38[[#This Row],[CODIGO municipio]],[3]!Tabla7[#All],11,FALSE),\"\")","v":""},{"$f":"IFERROR(VLOOKUP(Tabla38[[#This Row],[CODIGO municipio]],[3]!Tabla7[#All],12,FALSE),\"\")","v":""},{"$f":"IFERROR(VLOOKUP(Tabla38[[#This Row],[CODIGO municipio]],[3]!Tabla7[#All],13,FALSE),\"\")","v":""},{"$f":"IFERROR(VLOOKUP(Tabla38[[#This Row],[CODIGO municipio]],[3]!Tabla7[#All],14,FALSE),\"\")","v":""},{"$f":"IFERROR(VLOOKUP(Tabla38[[#This Row],[CODIGO municipio]],[3]!Tabla7[#All],15,FALSE),\"\")","v":""},{"$f":"IFERROR(VLOOKUP(Tabla38[[#This Row],[CODIGO municipio]],[3]!Tabla7[#All],16,FALSE),\"\")","v":""},{"$f":"IFERROR(VLOOKUP(Tabla38[[#This Row],[CODIGO municipio]],[3]!Tabla7[#All],17,FALSE),\"\")","v":""},{"$f":"IFERROR(VLOOKUP(Tabla38[[#This Row],[CODIGO municipio]],[3]!Tabla7[#All],18,FALSE),\"\")","v":""},{"$f":"IFERROR(VLOOKUP(Tabla38[[#This Row],[CODIGO municipio]],[3]!Tabla7[#All],19,FALSE),\"\")","v":""},{"$f":"IFERROR(VLOOKUP(Tabla38[[#This Row],[CODIGO municipio]],[3]!Tabla8[#All],3,FALSE),\"\")","v":""},{"$f":"IFERROR(VLOOKUP(Tabla38[[#This Row],[CODIGO municipio]],[3]!Tabla8[#All],4,FALSE),\"\")","v":""},{"$f":"IFERROR(VLOOKUP(Tabla38[[#This Row],[CODIGO municipio]],[3]!Tabla8[#All],5,FALSE),\"\")","v":""},{"$f":"IFERROR(VLOOKUP(Tabla38[[#This Row],[CODIGO municipio]],[3]!Tabla8[#All],6,FALSE),\"\")","v":""},{"$f":"IFERROR(VLOOKUP(Tabla38[[#This Row],[CODIGO municipio]],[3]!Tabla8[#All],7,FALSE),\"\")","v":""},{"$f":"IFERROR(VLOOKUP(Tabla38[[#This Row],[CODIGO municipio]],[3]!Tabla8[#All],8,FALSE),\"\")","v":""},{"$f":"IFERROR(VLOOKUP(Tabla38[[#This Row],[CODIGO municipio]],[3]!Tabla8[#All],9,FALSE),\"\")","v":""},{"$f":"IFERROR(VLOOKUP(Tabla38[[#This Row],[CODIGO municipio]],[3]!Tabla8[#All],10,FALSE),\"\")","v":""},{"$f":"IFERROR(VLOOKUP(Tabla38[[#This Row],[CODIGO municipio]],[3]!Tabla8[#All],11,FALSE),\"\")","v":""},{"$f":"IFERROR(VLOOKUP(Tabla38[[#This Row],[CODIGO municipio]],[3]!Tabla8[#All],12,FALSE),\"\")","v":""},{"$f":"IFERROR(VLOOKUP(Tabla38[[#This Row],[CODIGO municipio]],[3]!Tabla8[#All],13,FALSE),\"\")","v":""},{"$f":"IFERROR(VLOOKUP(Tabla38[[#This Row],[CODIGO municipio]],[3]!Tabla8[#All],14,FALSE),\"\")","v":""},{"$f":"IFERROR(VLOOKUP(Tabla38[[#This Row],[CODIGO municipio]],[3]!Tabla8[#All],15,FALSE),\"\")","v":""},{"$f":"IFERROR(VLOOKUP(Tabla38[[#This Row],[CODIGO municipio]],[3]!Tabla8[#All],16,FALSE),\"\")","v":""},{"$f":"IFERROR(VLOOKUP(Tabla38[[#This Row],[CODIGO municipio]],[3]!Tabla8[#All],17,FALSE),\"\")","v":""},{"$f":"IFERROR(VLOOKUP(Tabla38[[#This Row],[CODIGO municipio]],[3]!Tabla8[#All],18,FALSE),\"\")","v":""},{"$f":"IFERROR(VLOOKUP(Tabla38[[#This Row],[CODIGO municipio]],[3]!Tabla8[#All],19,FALSE),\"\")","v":""},{"$f":"IFERROR(VLOOKUP(Tabla38[[#This Row],[CODIGO municipio]],[3]!Tabla8[#All],20,FALSE),\"\")","v":""},{"$f":"IFERROR(VLOOKUP(Tabla38[[#This Row],[CODIGO municipio]],[3]!Tabla8[#All],21,FALSE),\"\")","v":""},{"$f":"IFERROR(VLOOKUP(Tabla38[[#This Row],[CODIGO municipio]],[3]!Tabla8[#All],22,FALSE),\"\")","v":""},{"$f":"IFERROR(VLOOKUP(Tabla38[[#This Row],[CODIGO municipio]],[3]!Tabla8[#All],23,FALSE),\"\")","v":""},{"$f":"IFERROR(VLOOKUP(Tabla38[[#This Row],[CODIGO municipio]],[3]!Tabla9[#All],3,FALSE),\"\")","v":""}]
[{"$f":"IFERROR(VLOOKUP(Tabla38[[#This Row],[Municipio]],[3]!Tabla2[#All],3,FALSE),\"\")","v":""},1803,"El Estor",{"$f":"IFERROR(VLOOKUP(Tabla38[[#This Row],[CODIGO municipio]],[3]!Tabla6[[#All],[codigo_mun]],1,FALSE),\"\")","v":""},{"$f":"IFERROR(VLOOKUP(Tabla38[[#This Row],[CODIGO municipio]],[3]!Tabla12[#All],2,FALSE),\"\")","v":""},{"$f":"IFERROR(VLOOKUP(Tabla38[[#This Row],[CODIGO municipio]],[3]!Tabla7[#All],3,FALSE),\"\")","v":""},{"$f":"IFERROR(VLOOKUP(Tabla38[[#This Row],[CODIGO municipio]],[3]!Tabla7[#All],4,FALSE),\"\")","v":""},{"$f":"IFERROR(VLOOKUP(Tabla38[[#This Row],[CODIGO municipio]],[3]!Tabla7[#All],11,FALSE),\"\")","v":""},{"$f":"IFERROR(VLOOKUP(Tabla38[[#This Row],[CODIGO municipio]],[3]!Tabla7[#All],12,FALSE),\"\")","v":""},{"$f":"IFERROR(VLOOKUP(Tabla38[[#This Row],[CODIGO municipio]],[3]!Tabla7[#All],13,FALSE),\"\")","v":""},{"$f":"IFERROR(VLOOKUP(Tabla38[[#This Row],[CODIGO municipio]],[3]!Tabla7[#All],14,FALSE),\"\")","v":""},{"$f":"IFERROR(VLOOKUP(Tabla38[[#This Row],[CODIGO municipio]],[3]!Tabla7[#All],15,FALSE),\"\")","v":""},{"$f":"IFERROR(VLOOKUP(Tabla38[[#This Row],[CODIGO municipio]],[3]!Tabla7[#All],16,FALSE),\"\")","v":""},{"$f":"IFERROR(VLOOKUP(Tabla38[[#This Row],[CODIGO municipio]],[3]!Tabla7[#All],17,FALSE),\"\")","v":""},{"$f":"IFERROR(VLOOKUP(Tabla38[[#This Row],[CODIGO municipio]],[3]!Tabla7[#All],18,FALSE),\"\")","v":""},{"$f":"IFERROR(VLOOKUP(Tabla38[[#This Row],[CODIGO municipio]],[3]!Tabla7[#All],19,FALSE),\"\")","v":""},{"$f":"IFERROR(VLOOKUP(Tabla38[[#This Row],[CODIGO municipio]],[3]!Tabla8[#All],3,FALSE),\"\")","v":""},{"$f":"IFERROR(VLOOKUP(Tabla38[[#This Row],[CODIGO municipio]],[3]!Tabla8[#All],4,FALSE),\"\")","v":""},{"$f":"IFERROR(VLOOKUP(Tabla38[[#This Row],[CODIGO municipio]],[3]!Tabla8[#All],5,FALSE),\"\")","v":""},{"$f":"IFERROR(VLOOKUP(Tabla38[[#This Row],[CODIGO municipio]],[3]!Tabla8[#All],6,FALSE),\"\")","v":""},{"$f":"IFERROR(VLOOKUP(Tabla38[[#This Row],[CODIGO municipio]],[3]!Tabla8[#All],7,FALSE),\"\")","v":""},{"$f":"IFERROR(VLOOKUP(Tabla38[[#This Row],[CODIGO municipio]],[3]!Tabla8[#All],8,FALSE),\"\")","v":""},{"$f":"IFERROR(VLOOKUP(Tabla38[[#This Row],[CODIGO municipio]],[3]!Tabla8[#All],9,FALSE),\"\")","v":""},{"$f":"IFERROR(VLOOKUP(Tabla38[[#This Row],[CODIGO municipio]],[3]!Tabla8[#All],10,FALSE),\"\")","v":""},{"$f":"IFERROR(VLOOKUP(Tabla38[[#This Row],[CODIGO municipio]],[3]!Tabla8[#All],11,FALSE),\"\")","v":""},{"$f":"IFERROR(VLOOKUP(Tabla38[[#This Row],[CODIGO municipio]],[3]!Tabla8[#All],12,FALSE),\"\")","v":""},{"$f":"IFERROR(VLOOKUP(Tabla38[[#This Row],[CODIGO municipio]],[3]!Tabla8[#All],13,FALSE),\"\")","v":""},{"$f":"IFERROR(VLOOKUP(Tabla38[[#This Row],[CODIGO municipio]],[3]!Tabla8[#All],14,FALSE),\"\")","v":""},{"$f":"IFERROR(VLOOKUP(Tabla38[[#This Row],[CODIGO municipio]],[3]!Tabla8[#All],15,FALSE),\"\")","v":""},{"$f":"IFERROR(VLOOKUP(Tabla38[[#This Row],[CODIGO municipio]],[3]!Tabla8[#All],16,FALSE),\"\")","v":""},{"$f":"IFERROR(VLOOKUP(Tabla38[[#This Row],[CODIGO municipio]],[3]!Tabla8[#All],17,FALSE),\"\")","v":""},{"$f":"IFERROR(VLOOKUP(Tabla38[[#This Row],[CODIGO municipio]],[3]!Tabla8[#All],18,FALSE),\"\")","v":""},{"$f":"IFERROR(VLOOKUP(Tabla38[[#This Row],[CODIGO municipio]],[3]!Tabla8[#All],19,FALSE),\"\")","v":""},{"$f":"IFERROR(VLOOKUP(Tabla38[[#This Row],[CODIGO municipio]],[3]!Tabla8[#All],20,FALSE),\"\")","v":""},{"$f":"IFERROR(VLOOKUP(Tabla38[[#This Row],[CODIGO municipio]],[3]!Tabla8[#All],21,FALSE),\"\")","v":""},{"$f":"IFERROR(VLOOKUP(Tabla38[[#This Row],[CODIGO municipio]],[3]!Tabla8[#All],22,FALSE),\"\")","v":""},{"$f":"IFERROR(VLOOKUP(Tabla38[[#This Row],[CODIGO municipio]],[3]!Tabla8[#All],23,FALSE),\"\")","v":""},{"$f":"IFERROR(VLOOKUP(Tabla38[[#This Row],[CODIGO municipio]],[3]!Tabla9[#All],3,FALSE),\"\")","v":""}]
[{"$f":"IFERROR(VLOOKUP(Tabla38[[#This Row],[Municipio]],[3]!Tabla2[#All],3,FALSE),\"\")","v":""},1804,"Morales",{"$f":"IFERROR(VLOOKUP(Tabla38[[#This Row],[CODIGO municipio]],[3]!Tabla6[[#All],[codigo_mun]],1,FALSE),\"\")","v":""},{"$f":"IFERROR(VLOOKUP(Tabla38[[#This Row],[CODIGO municipio]],[3]!Tabla12[#All],2,FALSE),\"\")","v":""},{"$f":"IFERROR(VLOOKUP(Tabla38[[#This Row],[CODIGO municipio]],[3]!Tabla7[#All],3,FALSE),\"\")","v":""},{"$f":"IFERROR(VLOOKUP(Tabla38[[#This Row],[CODIGO municipio]],[3]!Tabla7[#All],4,FALSE),\"\")","v":""},{"$f":"IFERROR(VLOOKUP(Tabla38[[#This Row],[CODIGO municipio]],[3]!Tabla7[#All],11,FALSE),\"\")","v":""},{"$f":"IFERROR(VLOOKUP(Tabla38[[#This Row],[CODIGO municipio]],[3]!Tabla7[#All],12,FALSE),\"\")","v":""},{"$f":"IFERROR(VLOOKUP(Tabla38[[#This Row],[CODIGO municipio]],[3]!Tabla7[#All],13,FALSE),\"\")","v":""},{"$f":"IFERROR(VLOOKUP(Tabla38[[#This Row],[CODIGO municipio]],[3]!Tabla7[#All],14,FALSE),\"\")","v":""},{"$f":"IFERROR(VLOOKUP(Tabla38[[#This Row],[CODIGO municipio]],[3]!Tabla7[#All],15,FALSE),\"\")","v":""},{"$f":"IFERROR(VLOOKUP(Tabla38[[#This Row],[CODIGO municipio]],[3]!Tabla7[#All],16,FALSE),\"\")","v":""},{"$f":"IFERROR(VLOOKUP(Tabla38[[#This Row],[CODIGO municipio]],[3]!Tabla7[#All],17,FALSE),\"\")","v":""},{"$f":"IFERROR(VLOOKUP(Tabla38[[#This Row],[CODIGO municipio]],[3]!Tabla7[#All],18,FALSE),\"\")","v":""},{"$f":"IFERROR(VLOOKUP(Tabla38[[#This Row],[CODIGO municipio]],[3]!Tabla7[#All],19,FALSE),\"\")","v":""},{"$f":"IFERROR(VLOOKUP(Tabla38[[#This Row],[CODIGO municipio]],[3]!Tabla8[#All],3,FALSE),\"\")","v":""},{"$f":"IFERROR(VLOOKUP(Tabla38[[#This Row],[CODIGO municipio]],[3]!Tabla8[#All],4,FALSE),\"\")","v":""},{"$f":"IFERROR(VLOOKUP(Tabla38[[#This Row],[CODIGO municipio]],[3]!Tabla8[#All],5,FALSE),\"\")","v":""},{"$f":"IFERROR(VLOOKUP(Tabla38[[#This Row],[CODIGO municipio]],[3]!Tabla8[#All],6,FALSE),\"\")","v":""},{"$f":"IFERROR(VLOOKUP(Tabla38[[#This Row],[CODIGO municipio]],[3]!Tabla8[#All],7,FALSE),\"\")","v":""},{"$f":"IFERROR(VLOOKUP(Tabla38[[#This Row],[CODIGO municipio]],[3]!Tabla8[#All],8,FALSE),\"\")","v":""},{"$f":"IFERROR(VLOOKUP(Tabla38[[#This Row],[CODIGO municipio]],[3]!Tabla8[#All],9,FALSE),\"\")","v":""},{"$f":"IFERROR(VLOOKUP(Tabla38[[#This Row],[CODIGO municipio]],[3]!Tabla8[#All],10,FALSE),\"\")","v":""},{"$f":"IFERROR(VLOOKUP(Tabla38[[#This Row],[CODIGO municipio]],[3]!Tabla8[#All],11,FALSE),\"\")","v":""},{"$f":"IFERROR(VLOOKUP(Tabla38[[#This Row],[CODIGO municipio]],[3]!Tabla8[#All],12,FALSE),\"\")","v":""},{"$f":"IFERROR(VLOOKUP(Tabla38[[#This Row],[CODIGO municipio]],[3]!Tabla8[#All],13,FALSE),\"\")","v":""},{"$f":"IFERROR(VLOOKUP(Tabla38[[#This Row],[CODIGO municipio]],[3]!Tabla8[#All],14,FALSE),\"\")","v":""},{"$f":"IFERROR(VLOOKUP(Tabla38[[#This Row],[CODIGO municipio]],[3]!Tabla8[#All],15,FALSE),\"\")","v":""},{"$f":"IFERROR(VLOOKUP(Tabla38[[#This Row],[CODIGO municipio]],[3]!Tabla8[#All],16,FALSE),\"\")","v":""},{"$f":"IFERROR(VLOOKUP(Tabla38[[#This Row],[CODIGO municipio]],[3]!Tabla8[#All],17,FALSE),\"\")","v":""},{"$f":"IFERROR(VLOOKUP(Tabla38[[#This Row],[CODIGO municipio]],[3]!Tabla8[#All],18,FALSE),\"\")","v":""},{"$f":"IFERROR(VLOOKUP(Tabla38[[#This Row],[CODIGO municipio]],[3]!Tabla8[#All],19,FALSE),\"\")","v":""},{"$f":"IFERROR(VLOOKUP(Tabla38[[#This Row],[CODIGO municipio]],[3]!Tabla8[#All],20,FALSE),\"\")","v":""},{"$f":"IFERROR(VLOOKUP(Tabla38[[#This Row],[CODIGO municipio]],[3]!Tabla8[#All],21,FALSE),\"\")","v":""},{"$f":"IFERROR(VLOOKUP(Tabla38[[#This Row],[CODIGO municipio]],[3]!Tabla8[#All],22,FALSE),\"\")","v":""},{"$f":"IFERROR(VLOOKUP(Tabla38[[#This Row],[CODIGO municipio]],[3]!Tabla8[#All],23,FALSE),\"\")","v":""},{"$f":"IFERROR(VLOOKUP(Tabla38[[#This Row],[CODIGO municipio]],[3]!Tabla9[#All],3,FALSE),\"\")","v":""}]
[{"$f":"IFERROR(VLOOKUP(Tabla38[[#This Row],[Municipio]],[3]!Tabla2[#All],3,FALSE),\"\")","v":""},1805,"Los Amates",{"$f":"IFERROR(VLOOKUP(Tabla38[[#This Row],[CODIGO municipio]],[3]!Tabla6[[#All],[codigo_mun]],1,FALSE),\"\")","v":""},{"$f":"IFERROR(VLOOKUP(Tabla38[[#This Row],[CODIGO municipio]],[3]!Tabla12[#All],2,FALSE),\"\")","v":""},{"$f":"IFERROR(VLOOKUP(Tabla38[[#This Row],[CODIGO municipio]],[3]!Tabla7[#All],3,FALSE),\"\")","v":""},{"$f":"IFERROR(VLOOKUP(Tabla38[[#This Row],[CODIGO municipio]],[3]!Tabla7[#All],4,FALSE),\"\")","v":""},{"$f":"IFERROR(VLOOKUP(Tabla38[[#This Row],[CODIGO municipio]],[3]!Tabla7[#All],11,FALSE),\"\")","v":""},{"$f":"IFERROR(VLOOKUP(Tabla38[[#This Row],[CODIGO municipio]],[3]!Tabla7[#All],12,FALSE),\"\")","v":""},{"$f":"IFERROR(VLOOKUP(Tabla38[[#This Row],[CODIGO municipio]],[3]!Tabla7[#All],13,FALSE),\"\")","v":""},{"$f":"IFERROR(VLOOKUP(Tabla38[[#This Row],[CODIGO municipio]],[3]!Tabla7[#All],14,FALSE),\"\")","v":""},{"$f":"IFERROR(VLOOKUP(Tabla38[[#This Row],[CODIGO municipio]],[3]!Tabla7[#All],15,FALSE),\"\")","v":""},{"$f":"IFERROR(VLOOKUP(Tabla38[[#This Row],[CODIGO municipio]],[3]!Tabla7[#All],16,FALSE),\"\")","v":""},{"$f":"IFERROR(VLOOKUP(Tabla38[[#This Row],[CODIGO municipio]],[3]!Tabla7[#All],17,FALSE),\"\")","v":""},{"$f":"IFERROR(VLOOKUP(Tabla38[[#This Row],[CODIGO municipio]],[3]!Tabla7[#All],18,FALSE),\"\")","v":""},{"$f":"IFERROR(VLOOKUP(Tabla38[[#This Row],[CODIGO municipio]],[3]!Tabla7[#All],19,FALSE),\"\")","v":""},{"$f":"IFERROR(VLOOKUP(Tabla38[[#This Row],[CODIGO municipio]],[3]!Tabla8[#All],3,FALSE),\"\")","v":""},{"$f":"IFERROR(VLOOKUP(Tabla38[[#This Row],[CODIGO municipio]],[3]!Tabla8[#All],4,FALSE),\"\")","v":""},{"$f":"IFERROR(VLOOKUP(Tabla38[[#This Row],[CODIGO municipio]],[3]!Tabla8[#All],5,FALSE),\"\")","v":""},{"$f":"IFERROR(VLOOKUP(Tabla38[[#This Row],[CODIGO municipio]],[3]!Tabla8[#All],6,FALSE),\"\")","v":""},{"$f":"IFERROR(VLOOKUP(Tabla38[[#This Row],[CODIGO municipio]],[3]!Tabla8[#All],7,FALSE),\"\")","v":""},{"$f":"IFERROR(VLOOKUP(Tabla38[[#This Row],[CODIGO municipio]],[3]!Tabla8[#All],8,FALSE),\"\")","v":""},{"$f":"IFERROR(VLOOKUP(Tabla38[[#This Row],[CODIGO municipio]],[3]!Tabla8[#All],9,FALSE),\"\")","v":""},{"$f":"IFERROR(VLOOKUP(Tabla38[[#This Row],[CODIGO municipio]],[3]!Tabla8[#All],10,FALSE),\"\")","v":""},{"$f":"IFERROR(VLOOKUP(Tabla38[[#This Row],[CODIGO municipio]],[3]!Tabla8[#All],11,FALSE),\"\")","v":""},{"$f":"IFERROR(VLOOKUP(Tabla38[[#This Row],[CODIGO municipio]],[3]!Tabla8[#All],12,FALSE),\"\")","v":""},{"$f":"IFERROR(VLOOKUP(Tabla38[[#This Row],[CODIGO municipio]],[3]!Tabla8[#All],13,FALSE),\"\")","v":""},{"$f":"IFERROR(VLOOKUP(Tabla38[[#This Row],[CODIGO municipio]],[3]!Tabla8[#All],14,FALSE),\"\")","v":""},{"$f":"IFERROR(VLOOKUP(Tabla38[[#This Row],[CODIGO municipio]],[3]!Tabla8[#All],15,FALSE),\"\")","v":""},{"$f":"IFERROR(VLOOKUP(Tabla38[[#This Row],[CODIGO municipio]],[3]!Tabla8[#All],16,FALSE),\"\")","v":""},{"$f":"IFERROR(VLOOKUP(Tabla38[[#This Row],[CODIGO municipio]],[3]!Tabla8[#All],17,FALSE),\"\")","v":""},{"$f":"IFERROR(VLOOKUP(Tabla38[[#This Row],[CODIGO municipio]],[3]!Tabla8[#All],18,FALSE),\"\")","v":""},{"$f":"IFERROR(VLOOKUP(Tabla38[[#This Row],[CODIGO municipio]],[3]!Tabla8[#All],19,FALSE),\"\")","v":""},{"$f":"IFERROR(VLOOKUP(Tabla38[[#This Row],[CODIGO municipio]],[3]!Tabla8[#All],20,FALSE),\"\")","v":""},{"$f":"IFERROR(VLOOKUP(Tabla38[[#This Row],[CODIGO municipio]],[3]!Tabla8[#All],21,FALSE),\"\")","v":""},{"$f":"IFERROR(VLOOKUP(Tabla38[[#This Row],[CODIGO municipio]],[3]!Tabla8[#All],22,FALSE),\"\")","v":""},{"$f":"IFERROR(VLOOKUP(Tabla38[[#This Row],[CODIGO municipio]],[3]!Tabla8[#All],23,FALSE),\"\")","v":""},{"$f":"IFERROR(VLOOKUP(Tabla38[[#This Row],[CODIGO municipio]],[3]!Tabla9[#All],3,FALSE),\"\")","v":""}]
[{"$f":"IFERROR(VLOOKUP(Tabla38[[#This Row],[Municipio]],[3]!Tabla2[#All],3,FALSE),\"\")","v":""},1901,"Zacapa",{"$f":"IFERROR(VLOOKUP(Tabla38[[#This Row],[CODIGO municipio]],[3]!Tabla6[[#All],[codigo_mun]],1,FALSE),\"\")","v":""},{"$f":"IFERROR(VLOOKUP(Tabla38[[#This Row],[CODIGO municipio]],[3]!Tabla12[#All],2,FALSE),\"\")","v":""},{"$f":"IFERROR(VLOOKUP(Tabla38[[#This Row],[CODIGO municipio]],[3]!Tabla7[#All],3,FALSE),\"\")","v":""},{"$f":"IFERROR(VLOOKUP(Tabla38[[#This Row],[CODIGO municipio]],[3]!Tabla7[#All],4,FALSE),\"\")","v":""},{"$f":"IFERROR(VLOOKUP(Tabla38[[#This Row],[CODIGO municipio]],[3]!Tabla7[#All],11,FALSE),\"\")","v":""},{"$f":"IFERROR(VLOOKUP(Tabla38[[#This Row],[CODIGO municipio]],[3]!Tabla7[#All],12,FALSE),\"\")","v":""},{"$f":"IFERROR(VLOOKUP(Tabla38[[#This Row],[CODIGO municipio]],[3]!Tabla7[#All],13,FALSE),\"\")","v":""},{"$f":"IFERROR(VLOOKUP(Tabla38[[#This Row],[CODIGO municipio]],[3]!Tabla7[#All],14,FALSE),\"\")","v":""},{"$f":"IFERROR(VLOOKUP(Tabla38[[#This Row],[CODIGO municipio]],[3]!Tabla7[#All],15,FALSE),\"\")","v":""},{"$f":"IFERROR(VLOOKUP(Tabla38[[#This Row],[CODIGO municipio]],[3]!Tabla7[#All],16,FALSE),\"\")","v":""},{"$f":"IFERROR(VLOOKUP(Tabla38[[#This Row],[CODIGO municipio]],[3]!Tabla7[#All],17,FALSE),\"\")","v":""},{"$f":"IFERROR(VLOOKUP(Tabla38[[#This Row],[CODIGO municipio]],[3]!Tabla7[#All],18,FALSE),\"\")","v":""},{"$f":"IFERROR(VLOOKUP(Tabla38[[#This Row],[CODIGO municipio]],[3]!Tabla7[#All],19,FALSE),\"\")","v":""},{"$f":"IFERROR(VLOOKUP(Tabla38[[#This Row],[CODIGO municipio]],[3]!Tabla8[#All],3,FALSE),\"\")","v":""},{"$f":"IFERROR(VLOOKUP(Tabla38[[#This Row],[CODIGO municipio]],[3]!Tabla8[#All],4,FALSE),\"\")","v":""},{"$f":"IFERROR(VLOOKUP(Tabla38[[#This Row],[CODIGO municipio]],[3]!Tabla8[#All],5,FALSE),\"\")","v":""},{"$f":"IFERROR(VLOOKUP(Tabla38[[#This Row],[CODIGO municipio]],[3]!Tabla8[#All],6,FALSE),\"\")","v":""},{"$f":"IFERROR(VLOOKUP(Tabla38[[#This Row],[CODIGO municipio]],[3]!Tabla8[#All],7,FALSE),\"\")","v":""},{"$f":"IFERROR(VLOOKUP(Tabla38[[#This Row],[CODIGO municipio]],[3]!Tabla8[#All],8,FALSE),\"\")","v":""},{"$f":"IFERROR(VLOOKUP(Tabla38[[#This Row],[CODIGO municipio]],[3]!Tabla8[#All],9,FALSE),\"\")","v":""},{"$f":"IFERROR(VLOOKUP(Tabla38[[#This Row],[CODIGO municipio]],[3]!Tabla8[#All],10,FALSE),\"\")","v":""},{"$f":"IFERROR(VLOOKUP(Tabla38[[#This Row],[CODIGO municipio]],[3]!Tabla8[#All],11,FALSE),\"\")","v":""},{"$f":"IFERROR(VLOOKUP(Tabla38[[#This Row],[CODIGO municipio]],[3]!Tabla8[#All],12,FALSE),\"\")","v":""},{"$f":"IFERROR(VLOOKUP(Tabla38[[#This Row],[CODIGO municipio]],[3]!Tabla8[#All],13,FALSE),\"\")","v":""},{"$f":"IFERROR(VLOOKUP(Tabla38[[#This Row],[CODIGO municipio]],[3]!Tabla8[#All],14,FALSE),\"\")","v":""},{"$f":"IFERROR(VLOOKUP(Tabla38[[#This Row],[CODIGO municipio]],[3]!Tabla8[#All],15,FALSE),\"\")","v":""},{"$f":"IFERROR(VLOOKUP(Tabla38[[#This Row],[CODIGO municipio]],[3]!Tabla8[#All],16,FALSE),\"\")","v":""},{"$f":"IFERROR(VLOOKUP(Tabla38[[#This Row],[CODIGO municipio]],[3]!Tabla8[#All],17,FALSE),\"\")","v":""},{"$f":"IFERROR(VLOOKUP(Tabla38[[#This Row],[CODIGO municipio]],[3]!Tabla8[#All],18,FALSE),\"\")","v":""},{"$f":"IFERROR(VLOOKUP(Tabla38[[#This Row],[CODIGO municipio]],[3]!Tabla8[#All],19,FALSE),\"\")","v":""},{"$f":"IFERROR(VLOOKUP(Tabla38[[#This Row],[CODIGO municipio]],[3]!Tabla8[#All],20,FALSE),\"\")","v":""},{"$f":"IFERROR(VLOOKUP(Tabla38[[#This Row],[CODIGO municipio]],[3]!Tabla8[#All],21,FALSE),\"\")","v":""},{"$f":"IFERROR(VLOOKUP(Tabla38[[#This Row],[CODIGO municipio]],[3]!Tabla8[#All],22,FALSE),\"\")","v":""},{"$f":"IFERROR(VLOOKUP(Tabla38[[#This Row],[CODIGO municipio]],[3]!Tabla8[#All],23,FALSE),\"\")","v":""},{"$f":"IFERROR(VLOOKUP(Tabla38[[#This Row],[CODIGO municipio]],[3]!Tabla9[#All],3,FALSE),\"\")","v":""}]
[{"$f":"IFERROR(VLOOKUP(Tabla38[[#This Row],[Municipio]],[3]!Tabla2[#All],3,FALSE),\"\")","v":""},1902,"Estanzuela",{"$f":"IFERROR(VLOOKUP(Tabla38[[#This Row],[CODIGO municipio]],[3]!Tabla6[[#All],[codigo_mun]],1,FALSE),\"\")","v":""},{"$f":"IFERROR(VLOOKUP(Tabla38[[#This Row],[CODIGO municipio]],[3]!Tabla12[#All],2,FALSE),\"\")","v":""},{"$f":"IFERROR(VLOOKUP(Tabla38[[#This Row],[CODIGO municipio]],[3]!Tabla7[#All],3,FALSE),\"\")","v":""},{"$f":"IFERROR(VLOOKUP(Tabla38[[#This Row],[CODIGO municipio]],[3]!Tabla7[#All],4,FALSE),\"\")","v":""},{"$f":"IFERROR(VLOOKUP(Tabla38[[#This Row],[CODIGO municipio]],[3]!Tabla7[#All],11,FALSE),\"\")","v":""},{"$f":"IFERROR(VLOOKUP(Tabla38[[#This Row],[CODIGO municipio]],[3]!Tabla7[#All],12,FALSE),\"\")","v":""},{"$f":"IFERROR(VLOOKUP(Tabla38[[#This Row],[CODIGO municipio]],[3]!Tabla7[#All],13,FALSE),\"\")","v":""},{"$f":"IFERROR(VLOOKUP(Tabla38[[#This Row],[CODIGO municipio]],[3]!Tabla7[#All],14,FALSE),\"\")","v":""},{"$f":"IFERROR(VLOOKUP(Tabla38[[#This Row],[CODIGO municipio]],[3]!Tabla7[#All],15,FALSE),\"\")","v":""},{"$f":"IFERROR(VLOOKUP(Tabla38[[#This Row],[CODIGO municipio]],[3]!Tabla7[#All],16,FALSE),\"\")","v":""},{"$f":"IFERROR(VLOOKUP(Tabla38[[#This Row],[CODIGO municipio]],[3]!Tabla7[#All],17,FALSE),\"\")","v":""},{"$f":"IFERROR(VLOOKUP(Tabla38[[#This Row],[CODIGO municipio]],[3]!Tabla7[#All],18,FALSE),\"\")","v":""},{"$f":"IFERROR(VLOOKUP(Tabla38[[#This Row],[CODIGO municipio]],[3]!Tabla7[#All],19,FALSE),\"\")","v":""},{"$f":"IFERROR(VLOOKUP(Tabla38[[#This Row],[CODIGO municipio]],[3]!Tabla8[#All],3,FALSE),\"\")","v":""},{"$f":"IFERROR(VLOOKUP(Tabla38[[#This Row],[CODIGO municipio]],[3]!Tabla8[#All],4,FALSE),\"\")","v":""},{"$f":"IFERROR(VLOOKUP(Tabla38[[#This Row],[CODIGO municipio]],[3]!Tabla8[#All],5,FALSE),\"\")","v":""},{"$f":"IFERROR(VLOOKUP(Tabla38[[#This Row],[CODIGO municipio]],[3]!Tabla8[#All],6,FALSE),\"\")","v":""},{"$f":"IFERROR(VLOOKUP(Tabla38[[#This Row],[CODIGO municipio]],[3]!Tabla8[#All],7,FALSE),\"\")","v":""},{"$f":"IFERROR(VLOOKUP(Tabla38[[#This Row],[CODIGO municipio]],[3]!Tabla8[#All],8,FALSE),\"\")","v":""},{"$f":"IFERROR(VLOOKUP(Tabla38[[#This Row],[CODIGO municipio]],[3]!Tabla8[#All],9,FALSE),\"\")","v":""},{"$f":"IFERROR(VLOOKUP(Tabla38[[#This Row],[CODIGO municipio]],[3]!Tabla8[#All],10,FALSE),\"\")","v":""},{"$f":"IFERROR(VLOOKUP(Tabla38[[#This Row],[CODIGO municipio]],[3]!Tabla8[#All],11,FALSE),\"\")","v":""},{"$f":"IFERROR(VLOOKUP(Tabla38[[#This Row],[CODIGO municipio]],[3]!Tabla8[#All],12,FALSE),\"\")","v":""},{"$f":"IFERROR(VLOOKUP(Tabla38[[#This Row],[CODIGO municipio]],[3]!Tabla8[#All],13,FALSE),\"\")","v":""},{"$f":"IFERROR(VLOOKUP(Tabla38[[#This Row],[CODIGO municipio]],[3]!Tabla8[#All],14,FALSE),\"\")","v":""},{"$f":"IFERROR(VLOOKUP(Tabla38[[#This Row],[CODIGO municipio]],[3]!Tabla8[#All],15,FALSE),\"\")","v":""},{"$f":"IFERROR(VLOOKUP(Tabla38[[#This Row],[CODIGO municipio]],[3]!Tabla8[#All],16,FALSE),\"\")","v":""},{"$f":"IFERROR(VLOOKUP(Tabla38[[#This Row],[CODIGO municipio]],[3]!Tabla8[#All],17,FALSE),\"\")","v":""},{"$f":"IFERROR(VLOOKUP(Tabla38[[#This Row],[CODIGO municipio]],[3]!Tabla8[#All],18,FALSE),\"\")","v":""},{"$f":"IFERROR(VLOOKUP(Tabla38[[#This Row],[CODIGO municipio]],[3]!Tabla8[#All],19,FALSE),\"\")","v":""},{"$f":"IFERROR(VLOOKUP(Tabla38[[#This Row],[CODIGO municipio]],[3]!Tabla8[#All],20,FALSE),\"\")","v":""},{"$f":"IFERROR(VLOOKUP(Tabla38[[#This Row],[CODIGO municipio]],[3]!Tabla8[#All],21,FALSE),\"\")","v":""},{"$f":"IFERROR(VLOOKUP(Tabla38[[#This Row],[CODIGO municipio]],[3]!Tabla8[#All],22,FALSE),\"\")","v":""},{"$f":"IFERROR(VLOOKUP(Tabla38[[#This Row],[CODIGO municipio]],[3]!Tabla8[#All],23,FALSE),\"\")","v":""},{"$f":"IFERROR(VLOOKUP(Tabla38[[#This Row],[CODIGO municipio]],[3]!Tabla9[#All],3,FALSE),\"\")","v":""}]
[{"$f":"IFERROR(VLOOKUP(Tabla38[[#This Row],[Municipio]],[3]!Tabla2[#All],3,FALSE),\"\")","v":""},1903,"Río Hondo",{"$f":"IFERROR(VLOOKUP(Tabla38[[#This Row],[CODIGO municipio]],[3]!Tabla6[[#All],[codigo_mun]],1,FALSE),\"\")","v":""},{"$f":"IFERROR(VLOOKUP(Tabla38[[#This Row],[CODIGO municipio]],[3]!Tabla12[#All],2,FALSE),\"\")","v":""},{"$f":"IFERROR(VLOOKUP(Tabla38[[#This Row],[CODIGO municipio]],[3]!Tabla7[#All],3,FALSE),\"\")","v":""},{"$f":"IFERROR(VLOOKUP(Tabla38[[#This Row],[CODIGO municipio]],[3]!Tabla7[#All],4,FALSE),\"\")","v":""},{"$f":"IFERROR(VLOOKUP(Tabla38[[#This Row],[CODIGO municipio]],[3]!Tabla7[#All],11,FALSE),\"\")","v":""},{"$f":"IFERROR(VLOOKUP(Tabla38[[#This Row],[CODIGO municipio]],[3]!Tabla7[#All],12,FALSE),\"\")","v":""},{"$f":"IFERROR(VLOOKUP(Tabla38[[#This Row],[CODIGO municipio]],[3]!Tabla7[#All],13,FALSE),\"\")","v":""},{"$f":"IFERROR(VLOOKUP(Tabla38[[#This Row],[CODIGO municipio]],[3]!Tabla7[#All],14,FALSE),\"\")","v":""},{"$f":"IFERROR(VLOOKUP(Tabla38[[#This Row],[CODIGO municipio]],[3]!Tabla7[#All],15,FALSE),\"\")","v":""},{"$f":"IFERROR(VLOOKUP(Tabla38[[#This Row],[CODIGO municipio]],[3]!Tabla7[#All],16,FALSE),\"\")","v":""},{"$f":"IFERROR(VLOOKUP(Tabla38[[#This Row],[CODIGO municipio]],[3]!Tabla7[#All],17,FALSE),\"\")","v":""},{"$f":"IFERROR(VLOOKUP(Tabla38[[#This Row],[CODIGO municipio]],[3]!Tabla7[#All],18,FALSE),\"\")","v":""},{"$f":"IFERROR(VLOOKUP(Tabla38[[#This Row],[CODIGO municipio]],[3]!Tabla7[#All],19,FALSE),\"\")","v":""},{"$f":"IFERROR(VLOOKUP(Tabla38[[#This Row],[CODIGO municipio]],[3]!Tabla8[#All],3,FALSE),\"\")","v":""},{"$f":"IFERROR(VLOOKUP(Tabla38[[#This Row],[CODIGO municipio]],[3]!Tabla8[#All],4,FALSE),\"\")","v":""},{"$f":"IFERROR(VLOOKUP(Tabla38[[#This Row],[CODIGO municipio]],[3]!Tabla8[#All],5,FALSE),\"\")","v":""},{"$f":"IFERROR(VLOOKUP(Tabla38[[#This Row],[CODIGO municipio]],[3]!Tabla8[#All],6,FALSE),\"\")","v":""},{"$f":"IFERROR(VLOOKUP(Tabla38[[#This Row],[CODIGO municipio]],[3]!Tabla8[#All],7,FALSE),\"\")","v":""},{"$f":"IFERROR(VLOOKUP(Tabla38[[#This Row],[CODIGO municipio]],[3]!Tabla8[#All],8,FALSE),\"\")","v":""},{"$f":"IFERROR(VLOOKUP(Tabla38[[#This Row],[CODIGO municipio]],[3]!Tabla8[#All],9,FALSE),\"\")","v":""},{"$f":"IFERROR(VLOOKUP(Tabla38[[#This Row],[CODIGO municipio]],[3]!Tabla8[#All],10,FALSE),\"\")","v":""},{"$f":"IFERROR(VLOOKUP(Tabla38[[#This Row],[CODIGO municipio]],[3]!Tabla8[#All],11,FALSE),\"\")","v":""},{"$f":"IFERROR(VLOOKUP(Tabla38[[#This Row],[CODIGO municipio]],[3]!Tabla8[#All],12,FALSE),\"\")","v":""},{"$f":"IFERROR(VLOOKUP(Tabla38[[#This Row],[CODIGO municipio]],[3]!Tabla8[#All],13,FALSE),\"\")","v":""},{"$f":"IFERROR(VLOOKUP(Tabla38[[#This Row],[CODIGO municipio]],[3]!Tabla8[#All],14,FALSE),\"\")","v":""},{"$f":"IFERROR(VLOOKUP(Tabla38[[#This Row],[CODIGO municipio]],[3]!Tabla8[#All],15,FALSE),\"\")","v":""},{"$f":"IFERROR(VLOOKUP(Tabla38[[#This Row],[CODIGO municipio]],[3]!Tabla8[#All],16,FALSE),\"\")","v":""},{"$f":"IFERROR(VLOOKUP(Tabla38[[#This Row],[CODIGO municipio]],[3]!Tabla8[#All],17,FALSE),\"\")","v":""},{"$f":"IFERROR(VLOOKUP(Tabla38[[#This Row],[CODIGO municipio]],[3]!Tabla8[#All],18,FALSE),\"\")","v":""},{"$f":"IFERROR(VLOOKUP(Tabla38[[#This Row],[CODIGO municipio]],[3]!Tabla8[#All],19,FALSE),\"\")","v":""},{"$f":"IFERROR(VLOOKUP(Tabla38[[#This Row],[CODIGO municipio]],[3]!Tabla8[#All],20,FALSE),\"\")","v":""},{"$f":"IFERROR(VLOOKUP(Tabla38[[#This Row],[CODIGO municipio]],[3]!Tabla8[#All],21,FALSE),\"\")","v":""},{"$f":"IFERROR(VLOOKUP(Tabla38[[#This Row],[CODIGO municipio]],[3]!Tabla8[#All],22,FALSE),\"\")","v":""},{"$f":"IFERROR(VLOOKUP(Tabla38[[#This Row],[CODIGO municipio]],[3]!Tabla8[#All],23,FALSE),\"\")","v":""},{"$f":"IFERROR(VLOOKUP(Tabla38[[#This Row],[CODIGO municipio]],[3]!Tabla9[#All],3,FALSE),\"\")","v":""}]
[{"$f":"IFERROR(VLOOKUP(Tabla38[[#This Row],[Municipio]],[3]!Tabla2[#All],3,FALSE),\"\")","v":""},1904,"Gualán",{"$f":"IFERROR(VLOOKUP(Tabla38[[#This Row],[CODIGO municipio]],[3]!Tabla6[[#All],[codigo_mun]],1,FALSE),\"\")","v":""},{"$f":"IFERROR(VLOOKUP(Tabla38[[#This Row],[CODIGO municipio]],[3]!Tabla12[#All],2,FALSE),\"\")","v":""},{"$f":"IFERROR(VLOOKUP(Tabla38[[#This Row],[CODIGO municipio]],[3]!Tabla7[#All],3,FALSE),\"\")","v":""},{"$f":"IFERROR(VLOOKUP(Tabla38[[#This Row],[CODIGO municipio]],[3]!Tabla7[#All],4,FALSE),\"\")","v":""},{"$f":"IFERROR(VLOOKUP(Tabla38[[#This Row],[CODIGO municipio]],[3]!Tabla7[#All],11,FALSE),\"\")","v":""},{"$f":"IFERROR(VLOOKUP(Tabla38[[#This Row],[CODIGO municipio]],[3]!Tabla7[#All],12,FALSE),\"\")","v":""},{"$f":"IFERROR(VLOOKUP(Tabla38[[#This Row],[CODIGO municipio]],[3]!Tabla7[#All],13,FALSE),\"\")","v":""},{"$f":"IFERROR(VLOOKUP(Tabla38[[#This Row],[CODIGO municipio]],[3]!Tabla7[#All],14,FALSE),\"\")","v":""},{"$f":"IFERROR(VLOOKUP(Tabla38[[#This Row],[CODIGO municipio]],[3]!Tabla7[#All],15,FALSE),\"\")","v":""},{"$f":"IFERROR(VLOOKUP(Tabla38[[#This Row],[CODIGO municipio]],[3]!Tabla7[#All],16,FALSE),\"\")","v":""},{"$f":"IFERROR(VLOOKUP(Tabla38[[#This Row],[CODIGO municipio]],[3]!Tabla7[#All],17,FALSE),\"\")","v":""},{"$f":"IFERROR(VLOOKUP(Tabla38[[#This Row],[CODIGO municipio]],[3]!Tabla7[#All],18,FALSE),\"\")","v":""},{"$f":"IFERROR(VLOOKUP(Tabla38[[#This Row],[CODIGO municipio]],[3]!Tabla7[#All],19,FALSE),\"\")","v":""},{"$f":"IFERROR(VLOOKUP(Tabla38[[#This Row],[CODIGO municipio]],[3]!Tabla8[#All],3,FALSE),\"\")","v":""},{"$f":"IFERROR(VLOOKUP(Tabla38[[#This Row],[CODIGO municipio]],[3]!Tabla8[#All],4,FALSE),\"\")","v":""},{"$f":"IFERROR(VLOOKUP(Tabla38[[#This Row],[CODIGO municipio]],[3]!Tabla8[#All],5,FALSE),\"\")","v":""},{"$f":"IFERROR(VLOOKUP(Tabla38[[#This Row],[CODIGO municipio]],[3]!Tabla8[#All],6,FALSE),\"\")","v":""},{"$f":"IFERROR(VLOOKUP(Tabla38[[#This Row],[CODIGO municipio]],[3]!Tabla8[#All],7,FALSE),\"\")","v":""},{"$f":"IFERROR(VLOOKUP(Tabla38[[#This Row],[CODIGO municipio]],[3]!Tabla8[#All],8,FALSE),\"\")","v":""},{"$f":"IFERROR(VLOOKUP(Tabla38[[#This Row],[CODIGO municipio]],[3]!Tabla8[#All],9,FALSE),\"\")","v":""},{"$f":"IFERROR(VLOOKUP(Tabla38[[#This Row],[CODIGO municipio]],[3]!Tabla8[#All],10,FALSE),\"\")","v":""},{"$f":"IFERROR(VLOOKUP(Tabla38[[#This Row],[CODIGO municipio]],[3]!Tabla8[#All],11,FALSE),\"\")","v":""},{"$f":"IFERROR(VLOOKUP(Tabla38[[#This Row],[CODIGO municipio]],[3]!Tabla8[#All],12,FALSE),\"\")","v":""},{"$f":"IFERROR(VLOOKUP(Tabla38[[#This Row],[CODIGO municipio]],[3]!Tabla8[#All],13,FALSE),\"\")","v":""},{"$f":"IFERROR(VLOOKUP(Tabla38[[#This Row],[CODIGO municipio]],[3]!Tabla8[#All],14,FALSE),\"\")","v":""},{"$f":"IFERROR(VLOOKUP(Tabla38[[#This Row],[CODIGO municipio]],[3]!Tabla8[#All],15,FALSE),\"\")","v":""},{"$f":"IFERROR(VLOOKUP(Tabla38[[#This Row],[CODIGO municipio]],[3]!Tabla8[#All],16,FALSE),\"\")","v":""},{"$f":"IFERROR(VLOOKUP(Tabla38[[#This Row],[CODIGO municipio]],[3]!Tabla8[#All],17,FALSE),\"\")","v":""},{"$f":"IFERROR(VLOOKUP(Tabla38[[#This Row],[CODIGO municipio]],[3]!Tabla8[#All],18,FALSE),\"\")","v":""},{"$f":"IFERROR(VLOOKUP(Tabla38[[#This Row],[CODIGO municipio]],[3]!Tabla8[#All],19,FALSE),\"\")","v":""},{"$f":"IFERROR(VLOOKUP(Tabla38[[#This Row],[CODIGO municipio]],[3]!Tabla8[#All],20,FALSE),\"\")","v":""},{"$f":"IFERROR(VLOOKUP(Tabla38[[#This Row],[CODIGO municipio]],[3]!Tabla8[#All],21,FALSE),\"\")","v":""},{"$f":"IFERROR(VLOOKUP(Tabla38[[#This Row],[CODIGO municipio]],[3]!Tabla8[#All],22,FALSE),\"\")","v":""},{"$f":"IFERROR(VLOOKUP(Tabla38[[#This Row],[CODIGO municipio]],[3]!Tabla8[#All],23,FALSE),\"\")","v":""},{"$f":"IFERROR(VLOOKUP(Tabla38[[#This Row],[CODIGO municipio]],[3]!Tabla9[#All],3,FALSE),\"\")","v":""}]
[{"$f":"IFERROR(VLOOKUP(Tabla38[[#This Row],[Municipio]],[3]!Tabla2[#All],3,FALSE),\"\")","v":""},1905,"Teculután",{"$f":"IFERROR(VLOOKUP(Tabla38[[#This Row],[CODIGO municipio]],[3]!Tabla6[[#All],[codigo_mun]],1,FALSE),\"\")","v":""},{"$f":"IFERROR(VLOOKUP(Tabla38[[#This Row],[CODIGO municipio]],[3]!Tabla12[#All],2,FALSE),\"\")","v":""},{"$f":"IFERROR(VLOOKUP(Tabla38[[#This Row],[CODIGO municipio]],[3]!Tabla7[#All],3,FALSE),\"\")","v":""},{"$f":"IFERROR(VLOOKUP(Tabla38[[#This Row],[CODIGO municipio]],[3]!Tabla7[#All],4,FALSE),\"\")","v":""},{"$f":"IFERROR(VLOOKUP(Tabla38[[#This Row],[CODIGO municipio]],[3]!Tabla7[#All],11,FALSE),\"\")","v":""},{"$f":"IFERROR(VLOOKUP(Tabla38[[#This Row],[CODIGO municipio]],[3]!Tabla7[#All],12,FALSE),\"\")","v":""},{"$f":"IFERROR(VLOOKUP(Tabla38[[#This Row],[CODIGO municipio]],[3]!Tabla7[#All],13,FALSE),\"\")","v":""},{"$f":"IFERROR(VLOOKUP(Tabla38[[#This Row],[CODIGO municipio]],[3]!Tabla7[#All],14,FALSE),\"\")","v":""},{"$f":"IFERROR(VLOOKUP(Tabla38[[#This Row],[CODIGO municipio]],[3]!Tabla7[#All],15,FALSE),\"\")","v":""},{"$f":"IFERROR(VLOOKUP(Tabla38[[#This Row],[CODIGO municipio]],[3]!Tabla7[#All],16,FALSE),\"\")","v":""},{"$f":"IFERROR(VLOOKUP(Tabla38[[#This Row],[CODIGO municipio]],[3]!Tabla7[#All],17,FALSE),\"\")","v":""},{"$f":"IFERROR(VLOOKUP(Tabla38[[#This Row],[CODIGO municipio]],[3]!Tabla7[#All],18,FALSE),\"\")","v":""},{"$f":"IFERROR(VLOOKUP(Tabla38[[#This Row],[CODIGO municipio]],[3]!Tabla7[#All],19,FALSE),\"\")","v":""},{"$f":"IFERROR(VLOOKUP(Tabla38[[#This Row],[CODIGO municipio]],[3]!Tabla8[#All],3,FALSE),\"\")","v":""},{"$f":"IFERROR(VLOOKUP(Tabla38[[#This Row],[CODIGO municipio]],[3]!Tabla8[#All],4,FALSE),\"\")","v":""},{"$f":"IFERROR(VLOOKUP(Tabla38[[#This Row],[CODIGO municipio]],[3]!Tabla8[#All],5,FALSE),\"\")","v":""},{"$f":"IFERROR(VLOOKUP(Tabla38[[#This Row],[CODIGO municipio]],[3]!Tabla8[#All],6,FALSE),\"\")","v":""},{"$f":"IFERROR(VLOOKUP(Tabla38[[#This Row],[CODIGO municipio]],[3]!Tabla8[#All],7,FALSE),\"\")","v":""},{"$f":"IFERROR(VLOOKUP(Tabla38[[#This Row],[CODIGO municipio]],[3]!Tabla8[#All],8,FALSE),\"\")","v":""},{"$f":"IFERROR(VLOOKUP(Tabla38[[#This Row],[CODIGO municipio]],[3]!Tabla8[#All],9,FALSE),\"\")","v":""},{"$f":"IFERROR(VLOOKUP(Tabla38[[#This Row],[CODIGO municipio]],[3]!Tabla8[#All],10,FALSE),\"\")","v":""},{"$f":"IFERROR(VLOOKUP(Tabla38[[#This Row],[CODIGO municipio]],[3]!Tabla8[#All],11,FALSE),\"\")","v":""},{"$f":"IFERROR(VLOOKUP(Tabla38[[#This Row],[CODIGO municipio]],[3]!Tabla8[#All],12,FALSE),\"\")","v":""},{"$f":"IFERROR(VLOOKUP(Tabla38[[#This Row],[CODIGO municipio]],[3]!Tabla8[#All],13,FALSE),\"\")","v":""},{"$f":"IFERROR(VLOOKUP(Tabla38[[#This Row],[CODIGO municipio]],[3]!Tabla8[#All],14,FALSE),\"\")","v":""},{"$f":"IFERROR(VLOOKUP(Tabla38[[#This Row],[CODIGO municipio]],[3]!Tabla8[#All],15,FALSE),\"\")","v":""},{"$f":"IFERROR(VLOOKUP(Tabla38[[#This Row],[CODIGO municipio]],[3]!Tabla8[#All],16,FALSE),\"\")","v":""},{"$f":"IFERROR(VLOOKUP(Tabla38[[#This Row],[CODIGO municipio]],[3]!Tabla8[#All],17,FALSE),\"\")","v":""},{"$f":"IFERROR(VLOOKUP(Tabla38[[#This Row],[CODIGO municipio]],[3]!Tabla8[#All],18,FALSE),\"\")","v":""},{"$f":"IFERROR(VLOOKUP(Tabla38[[#This Row],[CODIGO municipio]],[3]!Tabla8[#All],19,FALSE),\"\")","v":""},{"$f":"IFERROR(VLOOKUP(Tabla38[[#This Row],[CODIGO municipio]],[3]!Tabla8[#All],20,FALSE),\"\")","v":""},{"$f":"IFERROR(VLOOKUP(Tabla38[[#This Row],[CODIGO municipio]],[3]!Tabla8[#All],21,FALSE),\"\")","v":""},{"$f":"IFERROR(VLOOKUP(Tabla38[[#This Row],[CODIGO municipio]],[3]!Tabla8[#All],22,FALSE),\"\")","v":""},{"$f":"IFERROR(VLOOKUP(Tabla38[[#This Row],[CODIGO municipio]],[3]!Tabla8[#All],23,FALSE),\"\")","v":""},{"$f":"IFERROR(VLOOKUP(Tabla38[[#This Row],[CODIGO municipio]],[3]!Tabla9[#All],3,FALSE),\"\")","v":""}]
[{"$f":"IFERROR(VLOOKUP(Tabla38[[#This Row],[Municipio]],[3]!Tabla2[#All],3,FALSE),\"\")","v":""},1906,"Usumatlán",{"$f":"IFERROR(VLOOKUP(Tabla38[[#This Row],[CODIGO municipio]],[3]!Tabla6[[#All],[codigo_mun]],1,FALSE),\"\")","v":""},{"$f":"IFERROR(VLOOKUP(Tabla38[[#This Row],[CODIGO municipio]],[3]!Tabla12[#All],2,FALSE),\"\")","v":""},{"$f":"IFERROR(VLOOKUP(Tabla38[[#This Row],[CODIGO municipio]],[3]!Tabla7[#All],3,FALSE),\"\")","v":""},{"$f":"IFERROR(VLOOKUP(Tabla38[[#This Row],[CODIGO municipio]],[3]!Tabla7[#All],4,FALSE),\"\")","v":""},{"$f":"IFERROR(VLOOKUP(Tabla38[[#This Row],[CODIGO municipio]],[3]!Tabla7[#All],11,FALSE),\"\")","v":""},{"$f":"IFERROR(VLOOKUP(Tabla38[[#This Row],[CODIGO municipio]],[3]!Tabla7[#All],12,FALSE),\"\")","v":""},{"$f":"IFERROR(VLOOKUP(Tabla38[[#This Row],[CODIGO municipio]],[3]!Tabla7[#All],13,FALSE),\"\")","v":""},{"$f":"IFERROR(VLOOKUP(Tabla38[[#This Row],[CODIGO municipio]],[3]!Tabla7[#All],14,FALSE),\"\")","v":""},{"$f":"IFERROR(VLOOKUP(Tabla38[[#This Row],[CODIGO municipio]],[3]!Tabla7[#All],15,FALSE),\"\")","v":""},{"$f":"IFERROR(VLOOKUP(Tabla38[[#This Row],[CODIGO municipio]],[3]!Tabla7[#All],16,FALSE),\"\")","v":""},{"$f":"IFERROR(VLOOKUP(Tabla38[[#This Row],[CODIGO municipio]],[3]!Tabla7[#All],17,FALSE),\"\")","v":""},{"$f":"IFERROR(VLOOKUP(Tabla38[[#This Row],[CODIGO municipio]],[3]!Tabla7[#All],18,FALSE),\"\")","v":""},{"$f":"IFERROR(VLOOKUP(Tabla38[[#This Row],[CODIGO municipio]],[3]!Tabla7[#All],19,FALSE),\"\")","v":""},{"$f":"IFERROR(VLOOKUP(Tabla38[[#This Row],[CODIGO municipio]],[3]!Tabla8[#All],3,FALSE),\"\")","v":""},{"$f":"IFERROR(VLOOKUP(Tabla38[[#This Row],[CODIGO municipio]],[3]!Tabla8[#All],4,FALSE),\"\")","v":""},{"$f":"IFERROR(VLOOKUP(Tabla38[[#This Row],[CODIGO municipio]],[3]!Tabla8[#All],5,FALSE),\"\")","v":""},{"$f":"IFERROR(VLOOKUP(Tabla38[[#This Row],[CODIGO municipio]],[3]!Tabla8[#All],6,FALSE),\"\")","v":""},{"$f":"IFERROR(VLOOKUP(Tabla38[[#This Row],[CODIGO municipio]],[3]!Tabla8[#All],7,FALSE),\"\")","v":""},{"$f":"IFERROR(VLOOKUP(Tabla38[[#This Row],[CODIGO municipio]],[3]!Tabla8[#All],8,FALSE),\"\")","v":""},{"$f":"IFERROR(VLOOKUP(Tabla38[[#This Row],[CODIGO municipio]],[3]!Tabla8[#All],9,FALSE),\"\")","v":""},{"$f":"IFERROR(VLOOKUP(Tabla38[[#This Row],[CODIGO municipio]],[3]!Tabla8[#All],10,FALSE),\"\")","v":""},{"$f":"IFERROR(VLOOKUP(Tabla38[[#This Row],[CODIGO municipio]],[3]!Tabla8[#All],11,FALSE),\"\")","v":""},{"$f":"IFERROR(VLOOKUP(Tabla38[[#This Row],[CODIGO municipio]],[3]!Tabla8[#All],12,FALSE),\"\")","v":""},{"$f":"IFERROR(VLOOKUP(Tabla38[[#This Row],[CODIGO municipio]],[3]!Tabla8[#All],13,FALSE),\"\")","v":""},{"$f":"IFERROR(VLOOKUP(Tabla38[[#This Row],[CODIGO municipio]],[3]!Tabla8[#All],14,FALSE),\"\")","v":""},{"$f":"IFERROR(VLOOKUP(Tabla38[[#This Row],[CODIGO municipio]],[3]!Tabla8[#All],15,FALSE),\"\")","v":""},{"$f":"IFERROR(VLOOKUP(Tabla38[[#This Row],[CODIGO municipio]],[3]!Tabla8[#All],16,FALSE),\"\")","v":""},{"$f":"IFERROR(VLOOKUP(Tabla38[[#This Row],[CODIGO municipio]],[3]!Tabla8[#All],17,FALSE),\"\")","v":""},{"$f":"IFERROR(VLOOKUP(Tabla38[[#This Row],[CODIGO municipio]],[3]!Tabla8[#All],18,FALSE),\"\")","v":""},{"$f":"IFERROR(VLOOKUP(Tabla38[[#This Row],[CODIGO municipio]],[3]!Tabla8[#All],19,FALSE),\"\")","v":""},{"$f":"IFERROR(VLOOKUP(Tabla38[[#This Row],[CODIGO municipio]],[3]!Tabla8[#All],20,FALSE),\"\")","v":""},{"$f":"IFERROR(VLOOKUP(Tabla38[[#This Row],[CODIGO municipio]],[3]!Tabla8[#All],21,FALSE),\"\")","v":""},{"$f":"IFERROR(VLOOKUP(Tabla38[[#This Row],[CODIGO municipio]],[3]!Tabla8[#All],22,FALSE),\"\")","v":""},{"$f":"IFERROR(VLOOKUP(Tabla38[[#This Row],[CODIGO municipio]],[3]!Tabla8[#All],23,FALSE),\"\")","v":""},{"$f":"IFERROR(VLOOKUP(Tabla38[[#This Row],[CODIGO municipio]],[3]!Tabla9[#All],3,FALSE),\"\")","v":""}]
[{"$f":"IFERROR(VLOOKUP(Tabla38[[#This Row],[Municipio]],[3]!Tabla2[#All],3,FALSE),\"\")","v":""},1907,"Cabañas",{"$f":"IFERROR(VLOOKUP(Tabla38[[#This Row],[CODIGO municipio]],[3]!Tabla6[[#All],[codigo_mun]],1,FALSE),\"\")","v":""},{"$f":"IFERROR(VLOOKUP(Tabla38[[#This Row],[CODIGO municipio]],[3]!Tabla12[#All],2,FALSE),\"\")","v":""},{"$f":"IFERROR(VLOOKUP(Tabla38[[#This Row],[CODIGO municipio]],[3]!Tabla7[#All],3,FALSE),\"\")","v":""},{"$f":"IFERROR(VLOOKUP(Tabla38[[#This Row],[CODIGO municipio]],[3]!Tabla7[#All],4,FALSE),\"\")","v":""},{"$f":"IFERROR(VLOOKUP(Tabla38[[#This Row],[CODIGO municipio]],[3]!Tabla7[#All],11,FALSE),\"\")","v":""},{"$f":"IFERROR(VLOOKUP(Tabla38[[#This Row],[CODIGO municipio]],[3]!Tabla7[#All],12,FALSE),\"\")","v":""},{"$f":"IFERROR(VLOOKUP(Tabla38[[#This Row],[CODIGO municipio]],[3]!Tabla7[#All],13,FALSE),\"\")","v":""},{"$f":"IFERROR(VLOOKUP(Tabla38[[#This Row],[CODIGO municipio]],[3]!Tabla7[#All],14,FALSE),\"\")","v":""},{"$f":"IFERROR(VLOOKUP(Tabla38[[#This Row],[CODIGO municipio]],[3]!Tabla7[#All],15,FALSE),\"\")","v":""},{"$f":"IFERROR(VLOOKUP(Tabla38[[#This Row],[CODIGO municipio]],[3]!Tabla7[#All],16,FALSE),\"\")","v":""},{"$f":"IFERROR(VLOOKUP(Tabla38[[#This Row],[CODIGO municipio]],[3]!Tabla7[#All],17,FALSE),\"\")","v":""},{"$f":"IFERROR(VLOOKUP(Tabla38[[#This Row],[CODIGO municipio]],[3]!Tabla7[#All],18,FALSE),\"\")","v":""},{"$f":"IFERROR(VLOOKUP(Tabla38[[#This Row],[CODIGO municipio]],[3]!Tabla7[#All],19,FALSE),\"\")","v":""},{"$f":"IFERROR(VLOOKUP(Tabla38[[#This Row],[CODIGO municipio]],[3]!Tabla8[#All],3,FALSE),\"\")","v":""},{"$f":"IFERROR(VLOOKUP(Tabla38[[#This Row],[CODIGO municipio]],[3]!Tabla8[#All],4,FALSE),\"\")","v":""},{"$f":"IFERROR(VLOOKUP(Tabla38[[#This Row],[CODIGO municipio]],[3]!Tabla8[#All],5,FALSE),\"\")","v":""},{"$f":"IFERROR(VLOOKUP(Tabla38[[#This Row],[CODIGO municipio]],[3]!Tabla8[#All],6,FALSE),\"\")","v":""},{"$f":"IFERROR(VLOOKUP(Tabla38[[#This Row],[CODIGO municipio]],[3]!Tabla8[#All],7,FALSE),\"\")","v":""},{"$f":"IFERROR(VLOOKUP(Tabla38[[#This Row],[CODIGO municipio]],[3]!Tabla8[#All],8,FALSE),\"\")","v":""},{"$f":"IFERROR(VLOOKUP(Tabla38[[#This Row],[CODIGO municipio]],[3]!Tabla8[#All],9,FALSE),\"\")","v":""},{"$f":"IFERROR(VLOOKUP(Tabla38[[#This Row],[CODIGO municipio]],[3]!Tabla8[#All],10,FALSE),\"\")","v":""},{"$f":"IFERROR(VLOOKUP(Tabla38[[#This Row],[CODIGO municipio]],[3]!Tabla8[#All],11,FALSE),\"\")","v":""},{"$f":"IFERROR(VLOOKUP(Tabla38[[#This Row],[CODIGO municipio]],[3]!Tabla8[#All],12,FALSE),\"\")","v":""},{"$f":"IFERROR(VLOOKUP(Tabla38[[#This Row],[CODIGO municipio]],[3]!Tabla8[#All],13,FALSE),\"\")","v":""},{"$f":"IFERROR(VLOOKUP(Tabla38[[#This Row],[CODIGO municipio]],[3]!Tabla8[#All],14,FALSE),\"\")","v":""},{"$f":"IFERROR(VLOOKUP(Tabla38[[#This Row],[CODIGO municipio]],[3]!Tabla8[#All],15,FALSE),\"\")","v":""},{"$f":"IFERROR(VLOOKUP(Tabla38[[#This Row],[CODIGO municipio]],[3]!Tabla8[#All],16,FALSE),\"\")","v":""},{"$f":"IFERROR(VLOOKUP(Tabla38[[#This Row],[CODIGO municipio]],[3]!Tabla8[#All],17,FALSE),\"\")","v":""},{"$f":"IFERROR(VLOOKUP(Tabla38[[#This Row],[CODIGO municipio]],[3]!Tabla8[#All],18,FALSE),\"\")","v":""},{"$f":"IFERROR(VLOOKUP(Tabla38[[#This Row],[CODIGO municipio]],[3]!Tabla8[#All],19,FALSE),\"\")","v":""},{"$f":"IFERROR(VLOOKUP(Tabla38[[#This Row],[CODIGO municipio]],[3]!Tabla8[#All],20,FALSE),\"\")","v":""},{"$f":"IFERROR(VLOOKUP(Tabla38[[#This Row],[CODIGO municipio]],[3]!Tabla8[#All],21,FALSE),\"\")","v":""},{"$f":"IFERROR(VLOOKUP(Tabla38[[#This Row],[CODIGO municipio]],[3]!Tabla8[#All],22,FALSE),\"\")","v":""},{"$f":"IFERROR(VLOOKUP(Tabla38[[#This Row],[CODIGO municipio]],[3]!Tabla8[#All],23,FALSE),\"\")","v":""},{"$f":"IFERROR(VLOOKUP(Tabla38[[#This Row],[CODIGO municipio]],[3]!Tabla9[#All],3,FALSE),\"\")","v":""}]
[{"$f":"IFERROR(VLOOKUP(Tabla38[[#This Row],[Municipio]],[3]!Tabla2[#All],3,FALSE),\"\")","v":""},1908,"San Diego",{"$f":"IFERROR(VLOOKUP(Tabla38[[#This Row],[CODIGO municipio]],[3]!Tabla6[[#All],[codigo_mun]],1,FALSE),\"\")","v":""},{"$f":"IFERROR(VLOOKUP(Tabla38[[#This Row],[CODIGO municipio]],[3]!Tabla12[#All],2,FALSE),\"\")","v":""},{"$f":"IFERROR(VLOOKUP(Tabla38[[#This Row],[CODIGO municipio]],[3]!Tabla7[#All],3,FALSE),\"\")","v":""},{"$f":"IFERROR(VLOOKUP(Tabla38[[#This Row],[CODIGO municipio]],[3]!Tabla7[#All],4,FALSE),\"\")","v":""},{"$f":"IFERROR(VLOOKUP(Tabla38[[#This Row],[CODIGO municipio]],[3]!Tabla7[#All],11,FALSE),\"\")","v":""},{"$f":"IFERROR(VLOOKUP(Tabla38[[#This Row],[CODIGO municipio]],[3]!Tabla7[#All],12,FALSE),\"\")","v":""},{"$f":"IFERROR(VLOOKUP(Tabla38[[#This Row],[CODIGO municipio]],[3]!Tabla7[#All],13,FALSE),\"\")","v":""},{"$f":"IFERROR(VLOOKUP(Tabla38[[#This Row],[CODIGO municipio]],[3]!Tabla7[#All],14,FALSE),\"\")","v":""},{"$f":"IFERROR(VLOOKUP(Tabla38[[#This Row],[CODIGO municipio]],[3]!Tabla7[#All],15,FALSE),\"\")","v":""},{"$f":"IFERROR(VLOOKUP(Tabla38[[#This Row],[CODIGO municipio]],[3]!Tabla7[#All],16,FALSE),\"\")","v":""},{"$f":"IFERROR(VLOOKUP(Tabla38[[#This Row],[CODIGO municipio]],[3]!Tabla7[#All],17,FALSE),\"\")","v":""},{"$f":"IFERROR(VLOOKUP(Tabla38[[#This Row],[CODIGO municipio]],[3]!Tabla7[#All],18,FALSE),\"\")","v":""},{"$f":"IFERROR(VLOOKUP(Tabla38[[#This Row],[CODIGO municipio]],[3]!Tabla7[#All],19,FALSE),\"\")","v":""},{"$f":"IFERROR(VLOOKUP(Tabla38[[#This Row],[CODIGO municipio]],[3]!Tabla8[#All],3,FALSE),\"\")","v":""},{"$f":"IFERROR(VLOOKUP(Tabla38[[#This Row],[CODIGO municipio]],[3]!Tabla8[#All],4,FALSE),\"\")","v":""},{"$f":"IFERROR(VLOOKUP(Tabla38[[#This Row],[CODIGO municipio]],[3]!Tabla8[#All],5,FALSE),\"\")","v":""},{"$f":"IFERROR(VLOOKUP(Tabla38[[#This Row],[CODIGO municipio]],[3]!Tabla8[#All],6,FALSE),\"\")","v":""},{"$f":"IFERROR(VLOOKUP(Tabla38[[#This Row],[CODIGO municipio]],[3]!Tabla8[#All],7,FALSE),\"\")","v":""},{"$f":"IFERROR(VLOOKUP(Tabla38[[#This Row],[CODIGO municipio]],[3]!Tabla8[#All],8,FALSE),\"\")","v":""},{"$f":"IFERROR(VLOOKUP(Tabla38[[#This Row],[CODIGO municipio]],[3]!Tabla8[#All],9,FALSE),\"\")","v":""},{"$f":"IFERROR(VLOOKUP(Tabla38[[#This Row],[CODIGO municipio]],[3]!Tabla8[#All],10,FALSE),\"\")","v":""},{"$f":"IFERROR(VLOOKUP(Tabla38[[#This Row],[CODIGO municipio]],[3]!Tabla8[#All],11,FALSE),\"\")","v":""},{"$f":"IFERROR(VLOOKUP(Tabla38[[#This Row],[CODIGO municipio]],[3]!Tabla8[#All],12,FALSE),\"\")","v":""},{"$f":"IFERROR(VLOOKUP(Tabla38[[#This Row],[CODIGO municipio]],[3]!Tabla8[#All],13,FALSE),\"\")","v":""},{"$f":"IFERROR(VLOOKUP(Tabla38[[#This Row],[CODIGO municipio]],[3]!Tabla8[#All],14,FALSE),\"\")","v":""},{"$f":"IFERROR(VLOOKUP(Tabla38[[#This Row],[CODIGO municipio]],[3]!Tabla8[#All],15,FALSE),\"\")","v":""},{"$f":"IFERROR(VLOOKUP(Tabla38[[#This Row],[CODIGO municipio]],[3]!Tabla8[#All],16,FALSE),\"\")","v":""},{"$f":"IFERROR(VLOOKUP(Tabla38[[#This Row],[CODIGO municipio]],[3]!Tabla8[#All],17,FALSE),\"\")","v":""},{"$f":"IFERROR(VLOOKUP(Tabla38[[#This Row],[CODIGO municipio]],[3]!Tabla8[#All],18,FALSE),\"\")","v":""},{"$f":"IFERROR(VLOOKUP(Tabla38[[#This Row],[CODIGO municipio]],[3]!Tabla8[#All],19,FALSE),\"\")","v":""},{"$f":"IFERROR(VLOOKUP(Tabla38[[#This Row],[CODIGO municipio]],[3]!Tabla8[#All],20,FALSE),\"\")","v":""},{"$f":"IFERROR(VLOOKUP(Tabla38[[#This Row],[CODIGO municipio]],[3]!Tabla8[#All],21,FALSE),\"\")","v":""},{"$f":"IFERROR(VLOOKUP(Tabla38[[#This Row],[CODIGO municipio]],[3]!Tabla8[#All],22,FALSE),\"\")","v":""},{"$f":"IFERROR(VLOOKUP(Tabla38[[#This Row],[CODIGO municipio]],[3]!Tabla8[#All],23,FALSE),\"\")","v":""},{"$f":"IFERROR(VLOOKUP(Tabla38[[#This Row],[CODIGO municipio]],[3]!Tabla9[#All],3,FALSE),\"\")","v":""}]
[{"$f":"IFERROR(VLOOKUP(Tabla38[[#This Row],[Municipio]],[3]!Tabla2[#All],3,FALSE),\"\")","v":""},1909,"La Unión",{"$f":"IFERROR(VLOOKUP(Tabla38[[#This Row],[CODIGO municipio]],[3]!Tabla6[[#All],[codigo_mun]],1,FALSE),\"\")","v":""},{"$f":"IFERROR(VLOOKUP(Tabla38[[#This Row],[CODIGO municipio]],[3]!Tabla12[#All],2,FALSE),\"\")","v":""},{"$f":"IFERROR(VLOOKUP(Tabla38[[#This Row],[CODIGO municipio]],[3]!Tabla7[#All],3,FALSE),\"\")","v":""},{"$f":"IFERROR(VLOOKUP(Tabla38[[#This Row],[CODIGO municipio]],[3]!Tabla7[#All],4,FALSE),\"\")","v":""},{"$f":"IFERROR(VLOOKUP(Tabla38[[#This Row],[CODIGO municipio]],[3]!Tabla7[#All],11,FALSE),\"\")","v":""},{"$f":"IFERROR(VLOOKUP(Tabla38[[#This Row],[CODIGO municipio]],[3]!Tabla7[#All],12,FALSE),\"\")","v":""},{"$f":"IFERROR(VLOOKUP(Tabla38[[#This Row],[CODIGO municipio]],[3]!Tabla7[#All],13,FALSE),\"\")","v":""},{"$f":"IFERROR(VLOOKUP(Tabla38[[#This Row],[CODIGO municipio]],[3]!Tabla7[#All],14,FALSE),\"\")","v":""},{"$f":"IFERROR(VLOOKUP(Tabla38[[#This Row],[CODIGO municipio]],[3]!Tabla7[#All],15,FALSE),\"\")","v":""},{"$f":"IFERROR(VLOOKUP(Tabla38[[#This Row],[CODIGO municipio]],[3]!Tabla7[#All],16,FALSE),\"\")","v":""},{"$f":"IFERROR(VLOOKUP(Tabla38[[#This Row],[CODIGO municipio]],[3]!Tabla7[#All],17,FALSE),\"\")","v":""},{"$f":"IFERROR(VLOOKUP(Tabla38[[#This Row],[CODIGO municipio]],[3]!Tabla7[#All],18,FALSE),\"\")","v":""},{"$f":"IFERROR(VLOOKUP(Tabla38[[#This Row],[CODIGO municipio]],[3]!Tabla7[#All],19,FALSE),\"\")","v":""},{"$f":"IFERROR(VLOOKUP(Tabla38[[#This Row],[CODIGO municipio]],[3]!Tabla8[#All],3,FALSE),\"\")","v":""},{"$f":"IFERROR(VLOOKUP(Tabla38[[#This Row],[CODIGO municipio]],[3]!Tabla8[#All],4,FALSE),\"\")","v":""},{"$f":"IFERROR(VLOOKUP(Tabla38[[#This Row],[CODIGO municipio]],[3]!Tabla8[#All],5,FALSE),\"\")","v":""},{"$f":"IFERROR(VLOOKUP(Tabla38[[#This Row],[CODIGO municipio]],[3]!Tabla8[#All],6,FALSE),\"\")","v":""},{"$f":"IFERROR(VLOOKUP(Tabla38[[#This Row],[CODIGO municipio]],[3]!Tabla8[#All],7,FALSE),\"\")","v":""},{"$f":"IFERROR(VLOOKUP(Tabla38[[#This Row],[CODIGO municipio]],[3]!Tabla8[#All],8,FALSE),\"\")","v":""},{"$f":"IFERROR(VLOOKUP(Tabla38[[#This Row],[CODIGO municipio]],[3]!Tabla8[#All],9,FALSE),\"\")","v":""},{"$f":"IFERROR(VLOOKUP(Tabla38[[#This Row],[CODIGO municipio]],[3]!Tabla8[#All],10,FALSE),\"\")","v":""},{"$f":"IFERROR(VLOOKUP(Tabla38[[#This Row],[CODIGO municipio]],[3]!Tabla8[#All],11,FALSE),\"\")","v":""},{"$f":"IFERROR(VLOOKUP(Tabla38[[#This Row],[CODIGO municipio]],[3]!Tabla8[#All],12,FALSE),\"\")","v":""},{"$f":"IFERROR(VLOOKUP(Tabla38[[#This Row],[CODIGO municipio]],[3]!Tabla8[#All],13,FALSE),\"\")","v":""},{"$f":"IFERROR(VLOOKUP(Tabla38[[#This Row],[CODIGO municipio]],[3]!Tabla8[#All],14,FALSE),\"\")","v":""},{"$f":"IFERROR(VLOOKUP(Tabla38[[#This Row],[CODIGO municipio]],[3]!Tabla8[#All],15,FALSE),\"\")","v":""},{"$f":"IFERROR(VLOOKUP(Tabla38[[#This Row],[CODIGO municipio]],[3]!Tabla8[#All],16,FALSE),\"\")","v":""},{"$f":"IFERROR(VLOOKUP(Tabla38[[#This Row],[CODIGO municipio]],[3]!Tabla8[#All],17,FALSE),\"\")","v":""},{"$f":"IFERROR(VLOOKUP(Tabla38[[#This Row],[CODIGO municipio]],[3]!Tabla8[#All],18,FALSE),\"\")","v":""},{"$f":"IFERROR(VLOOKUP(Tabla38[[#This Row],[CODIGO municipio]],[3]!Tabla8[#All],19,FALSE),\"\")","v":""},{"$f":"IFERROR(VLOOKUP(Tabla38[[#This Row],[CODIGO municipio]],[3]!Tabla8[#All],20,FALSE),\"\")","v":""},{"$f":"IFERROR(VLOOKUP(Tabla38[[#This Row],[CODIGO municipio]],[3]!Tabla8[#All],21,FALSE),\"\")","v":""},{"$f":"IFERROR(VLOOKUP(Tabla38[[#This Row],[CODIGO municipio]],[3]!Tabla8[#All],22,FALSE),\"\")","v":""},{"$f":"IFERROR(VLOOKUP(Tabla38[[#This Row],[CODIGO municipio]],[3]!Tabla8[#All],23,FALSE),\"\")","v":""},{"$f":"IFERROR(VLOOKUP(Tabla38[[#This Row],[CODIGO municipio]],[3]!Tabla9[#All],3,FALSE),\"\")","v":""}]
[{"$f":"IFERROR(VLOOKUP(Tabla38[[#This Row],[Municipio]],[3]!Tabla2[#All],3,FALSE),\"\")","v":""},1910,"Huité",{"$f":"IFERROR(VLOOKUP(Tabla38[[#This Row],[CODIGO municipio]],[3]!Tabla6[[#All],[codigo_mun]],1,FALSE),\"\")","v":""},{"$f":"IFERROR(VLOOKUP(Tabla38[[#This Row],[CODIGO municipio]],[3]!Tabla12[#All],2,FALSE),\"\")","v":""},{"$f":"IFERROR(VLOOKUP(Tabla38[[#This Row],[CODIGO municipio]],[3]!Tabla7[#All],3,FALSE),\"\")","v":""},{"$f":"IFERROR(VLOOKUP(Tabla38[[#This Row],[CODIGO municipio]],[3]!Tabla7[#All],4,FALSE),\"\")","v":""},{"$f":"IFERROR(VLOOKUP(Tabla38[[#This Row],[CODIGO municipio]],[3]!Tabla7[#All],11,FALSE),\"\")","v":""},{"$f":"IFERROR(VLOOKUP(Tabla38[[#This Row],[CODIGO municipio]],[3]!Tabla7[#All],12,FALSE),\"\")","v":""},{"$f":"IFERROR(VLOOKUP(Tabla38[[#This Row],[CODIGO municipio]],[3]!Tabla7[#All],13,FALSE),\"\")","v":""},{"$f":"IFERROR(VLOOKUP(Tabla38[[#This Row],[CODIGO municipio]],[3]!Tabla7[#All],14,FALSE),\"\")","v":""},{"$f":"IFERROR(VLOOKUP(Tabla38[[#This Row],[CODIGO municipio]],[3]!Tabla7[#All],15,FALSE),\"\")","v":""},{"$f":"IFERROR(VLOOKUP(Tabla38[[#This Row],[CODIGO municipio]],[3]!Tabla7[#All],16,FALSE),\"\")","v":""},{"$f":"IFERROR(VLOOKUP(Tabla38[[#This Row],[CODIGO municipio]],[3]!Tabla7[#All],17,FALSE),\"\")","v":""},{"$f":"IFERROR(VLOOKUP(Tabla38[[#This Row],[CODIGO municipio]],[3]!Tabla7[#All],18,FALSE),\"\")","v":""},{"$f":"IFERROR(VLOOKUP(Tabla38[[#This Row],[CODIGO municipio]],[3]!Tabla7[#All],19,FALSE),\"\")","v":""},{"$f":"IFERROR(VLOOKUP(Tabla38[[#This Row],[CODIGO municipio]],[3]!Tabla8[#All],3,FALSE),\"\")","v":""},{"$f":"IFERROR(VLOOKUP(Tabla38[[#This Row],[CODIGO municipio]],[3]!Tabla8[#All],4,FALSE),\"\")","v":""},{"$f":"IFERROR(VLOOKUP(Tabla38[[#This Row],[CODIGO municipio]],[3]!Tabla8[#All],5,FALSE),\"\")","v":""},{"$f":"IFERROR(VLOOKUP(Tabla38[[#This Row],[CODIGO municipio]],[3]!Tabla8[#All],6,FALSE),\"\")","v":""},{"$f":"IFERROR(VLOOKUP(Tabla38[[#This Row],[CODIGO municipio]],[3]!Tabla8[#All],7,FALSE),\"\")","v":""},{"$f":"IFERROR(VLOOKUP(Tabla38[[#This Row],[CODIGO municipio]],[3]!Tabla8[#All],8,FALSE),\"\")","v":""},{"$f":"IFERROR(VLOOKUP(Tabla38[[#This Row],[CODIGO municipio]],[3]!Tabla8[#All],9,FALSE),\"\")","v":""},{"$f":"IFERROR(VLOOKUP(Tabla38[[#This Row],[CODIGO municipio]],[3]!Tabla8[#All],10,FALSE),\"\")","v":""},{"$f":"IFERROR(VLOOKUP(Tabla38[[#This Row],[CODIGO municipio]],[3]!Tabla8[#All],11,FALSE),\"\")","v":""},{"$f":"IFERROR(VLOOKUP(Tabla38[[#This Row],[CODIGO municipio]],[3]!Tabla8[#All],12,FALSE),\"\")","v":""},{"$f":"IFERROR(VLOOKUP(Tabla38[[#This Row],[CODIGO municipio]],[3]!Tabla8[#All],13,FALSE),\"\")","v":""},{"$f":"IFERROR(VLOOKUP(Tabla38[[#This Row],[CODIGO municipio]],[3]!Tabla8[#All],14,FALSE),\"\")","v":""},{"$f":"IFERROR(VLOOKUP(Tabla38[[#This Row],[CODIGO municipio]],[3]!Tabla8[#All],15,FALSE),\"\")","v":""},{"$f":"IFERROR(VLOOKUP(Tabla38[[#This Row],[CODIGO municipio]],[3]!Tabla8[#All],16,FALSE),\"\")","v":""},{"$f":"IFERROR(VLOOKUP(Tabla38[[#This Row],[CODIGO municipio]],[3]!Tabla8[#All],17,FALSE),\"\")","v":""},{"$f":"IFERROR(VLOOKUP(Tabla38[[#This Row],[CODIGO municipio]],[3]!Tabla8[#All],18,FALSE),\"\")","v":""},{"$f":"IFERROR(VLOOKUP(Tabla38[[#This Row],[CODIGO municipio]],[3]!Tabla8[#All],19,FALSE),\"\")","v":""},{"$f":"IFERROR(VLOOKUP(Tabla38[[#This Row],[CODIGO municipio]],[3]!Tabla8[#All],20,FALSE),\"\")","v":""},{"$f":"IFERROR(VLOOKUP(Tabla38[[#This Row],[CODIGO municipio]],[3]!Tabla8[#All],21,FALSE),\"\")","v":""},{"$f":"IFERROR(VLOOKUP(Tabla38[[#This Row],[CODIGO municipio]],[3]!Tabla8[#All],22,FALSE),\"\")","v":""},{"$f":"IFERROR(VLOOKUP(Tabla38[[#This Row],[CODIGO municipio]],[3]!Tabla8[#All],23,FALSE),\"\")","v":""},{"$f":"IFERROR(VLOOKUP(Tabla38[[#This Row],[CODIGO municipio]],[3]!Tabla9[#All],3,FALSE),\"\")","v":""}]
[{"$f":"IFERROR(VLOOKUP(Tabla38[[#This Row],[Municipio]],[3]!Tabla2[#All],3,FALSE),\"\")","v":""},1911,"San Jorge",{"$f":"IFERROR(VLOOKUP(Tabla38[[#This Row],[CODIGO municipio]],[3]!Tabla6[[#All],[codigo_mun]],1,FALSE),\"\")","v":""},{"$f":"IFERROR(VLOOKUP(Tabla38[[#This Row],[CODIGO municipio]],[3]!Tabla12[#All],2,FALSE),\"\")","v":""},{"$f":"IFERROR(VLOOKUP(Tabla38[[#This Row],[CODIGO municipio]],[3]!Tabla7[#All],3,FALSE),\"\")","v":""},{"$f":"IFERROR(VLOOKUP(Tabla38[[#This Row],[CODIGO municipio]],[3]!Tabla7[#All],4,FALSE),\"\")","v":""},{"$f":"IFERROR(VLOOKUP(Tabla38[[#This Row],[CODIGO municipio]],[3]!Tabla7[#All],11,FALSE),\"\")","v":""},{"$f":"IFERROR(VLOOKUP(Tabla38[[#This Row],[CODIGO municipio]],[3]!Tabla7[#All],12,FALSE),\"\")","v":""},{"$f":"IFERROR(VLOOKUP(Tabla38[[#This Row],[CODIGO municipio]],[3]!Tabla7[#All],13,FALSE),\"\")","v":""},{"$f":"IFERROR(VLOOKUP(Tabla38[[#This Row],[CODIGO municipio]],[3]!Tabla7[#All],14,FALSE),\"\")","v":""},{"$f":"IFERROR(VLOOKUP(Tabla38[[#This Row],[CODIGO municipio]],[3]!Tabla7[#All],15,FALSE),\"\")","v":""},{"$f":"IFERROR(VLOOKUP(Tabla38[[#This Row],[CODIGO municipio]],[3]!Tabla7[#All],16,FALSE),\"\")","v":""},{"$f":"IFERROR(VLOOKUP(Tabla38[[#This Row],[CODIGO municipio]],[3]!Tabla7[#All],17,FALSE),\"\")","v":""},{"$f":"IFERROR(VLOOKUP(Tabla38[[#This Row],[CODIGO municipio]],[3]!Tabla7[#All],18,FALSE),\"\")","v":""},{"$f":"IFERROR(VLOOKUP(Tabla38[[#This Row],[CODIGO municipio]],[3]!Tabla7[#All],19,FALSE),\"\")","v":""},{"$f":"IFERROR(VLOOKUP(Tabla38[[#This Row],[CODIGO municipio]],[3]!Tabla8[#All],3,FALSE),\"\")","v":""},{"$f":"IFERROR(VLOOKUP(Tabla38[[#This Row],[CODIGO municipio]],[3]!Tabla8[#All],4,FALSE),\"\")","v":""},{"$f":"IFERROR(VLOOKUP(Tabla38[[#This Row],[CODIGO municipio]],[3]!Tabla8[#All],5,FALSE),\"\")","v":""},{"$f":"IFERROR(VLOOKUP(Tabla38[[#This Row],[CODIGO municipio]],[3]!Tabla8[#All],6,FALSE),\"\")","v":""},{"$f":"IFERROR(VLOOKUP(Tabla38[[#This Row],[CODIGO municipio]],[3]!Tabla8[#All],7,FALSE),\"\")","v":""},{"$f":"IFERROR(VLOOKUP(Tabla38[[#This Row],[CODIGO municipio]],[3]!Tabla8[#All],8,FALSE),\"\")","v":""},{"$f":"IFERROR(VLOOKUP(Tabla38[[#This Row],[CODIGO municipio]],[3]!Tabla8[#All],9,FALSE),\"\")","v":""},{"$f":"IFERROR(VLOOKUP(Tabla38[[#This Row],[CODIGO municipio]],[3]!Tabla8[#All],10,FALSE),\"\")","v":""},{"$f":"IFERROR(VLOOKUP(Tabla38[[#This Row],[CODIGO municipio]],[3]!Tabla8[#All],11,FALSE),\"\")","v":""},{"$f":"IFERROR(VLOOKUP(Tabla38[[#This Row],[CODIGO municipio]],[3]!Tabla8[#All],12,FALSE),\"\")","v":""},{"$f":"IFERROR(VLOOKUP(Tabla38[[#This Row],[CODIGO municipio]],[3]!Tabla8[#All],13,FALSE),\"\")","v":""},{"$f":"IFERROR(VLOOKUP(Tabla38[[#This Row],[CODIGO municipio]],[3]!Tabla8[#All],14,FALSE),\"\")","v":""},{"$f":"IFERROR(VLOOKUP(Tabla38[[#This Row],[CODIGO municipio]],[3]!Tabla8[#All],15,FALSE),\"\")","v":""},{"$f":"IFERROR(VLOOKUP(Tabla38[[#This Row],[CODIGO municipio]],[3]!Tabla8[#All],16,FALSE),\"\")","v":""},{"$f":"IFERROR(VLOOKUP(Tabla38[[#This Row],[CODIGO municipio]],[3]!Tabla8[#All],17,FALSE),\"\")","v":""},{"$f":"IFERROR(VLOOKUP(Tabla38[[#This Row],[CODIGO municipio]],[3]!Tabla8[#All],18,FALSE),\"\")","v":""},{"$f":"IFERROR(VLOOKUP(Tabla38[[#This Row],[CODIGO municipio]],[3]!Tabla8[#All],19,FALSE),\"\")","v":""},{"$f":"IFERROR(VLOOKUP(Tabla38[[#This Row],[CODIGO municipio]],[3]!Tabla8[#All],20,FALSE),\"\")","v":""},{"$f":"IFERROR(VLOOKUP(Tabla38[[#This Row],[CODIGO municipio]],[3]!Tabla8[#All],21,FALSE),\"\")","v":""},{"$f":"IFERROR(VLOOKUP(Tabla38[[#This Row],[CODIGO municipio]],[3]!Tabla8[#All],22,FALSE),\"\")","v":""},{"$f":"IFERROR(VLOOKUP(Tabla38[[#This Row],[CODIGO municipio]],[3]!Tabla8[#All],23,FALSE),\"\")","v":""},{"$f":"IFERROR(VLOOKUP(Tabla38[[#This Row],[CODIGO municipio]],[3]!Tabla9[#All],3,FALSE),\"\")","v":""}]
[{"$f":"IFERROR(VLOOKUP(Tabla38[[#This Row],[Municipio]],[3]!Tabla2[#All],3,FALSE),\"\")","v":""},2001,"Chiquimula",{"$f":"IFERROR(VLOOKUP(Tabla38[[#This Row],[CODIGO municipio]],[3]!Tabla6[[#All],[codigo_mun]],1,FALSE),\"\")","v":""},{"$f":"IFERROR(VLOOKUP(Tabla38[[#This Row],[CODIGO municipio]],[3]!Tabla12[#All],2,FALSE),\"\")","v":""},{"$f":"IFERROR(VLOOKUP(Tabla38[[#This Row],[CODIGO municipio]],[3]!Tabla7[#All],3,FALSE),\"\")","v":""},{"$f":"IFERROR(VLOOKUP(Tabla38[[#This Row],[CODIGO municipio]],[3]!Tabla7[#All],4,FALSE),\"\")","v":""},{"$f":"IFERROR(VLOOKUP(Tabla38[[#This Row],[CODIGO municipio]],[3]!Tabla7[#All],11,FALSE),\"\")","v":""},{"$f":"IFERROR(VLOOKUP(Tabla38[[#This Row],[CODIGO municipio]],[3]!Tabla7[#All],12,FALSE),\"\")","v":""},{"$f":"IFERROR(VLOOKUP(Tabla38[[#This Row],[CODIGO municipio]],[3]!Tabla7[#All],13,FALSE),\"\")","v":""},{"$f":"IFERROR(VLOOKUP(Tabla38[[#This Row],[CODIGO municipio]],[3]!Tabla7[#All],14,FALSE),\"\")","v":""},{"$f":"IFERROR(VLOOKUP(Tabla38[[#This Row],[CODIGO municipio]],[3]!Tabla7[#All],15,FALSE),\"\")","v":""},{"$f":"IFERROR(VLOOKUP(Tabla38[[#This Row],[CODIGO municipio]],[3]!Tabla7[#All],16,FALSE),\"\")","v":""},{"$f":"IFERROR(VLOOKUP(Tabla38[[#This Row],[CODIGO municipio]],[3]!Tabla7[#All],17,FALSE),\"\")","v":""},{"$f":"IFERROR(VLOOKUP(Tabla38[[#This Row],[CODIGO municipio]],[3]!Tabla7[#All],18,FALSE),\"\")","v":""},{"$f":"IFERROR(VLOOKUP(Tabla38[[#This Row],[CODIGO municipio]],[3]!Tabla7[#All],19,FALSE),\"\")","v":""},{"$f":"IFERROR(VLOOKUP(Tabla38[[#This Row],[CODIGO municipio]],[3]!Tabla8[#All],3,FALSE),\"\")","v":""},{"$f":"IFERROR(VLOOKUP(Tabla38[[#This Row],[CODIGO municipio]],[3]!Tabla8[#All],4,FALSE),\"\")","v":""},{"$f":"IFERROR(VLOOKUP(Tabla38[[#This Row],[CODIGO municipio]],[3]!Tabla8[#All],5,FALSE),\"\")","v":""},{"$f":"IFERROR(VLOOKUP(Tabla38[[#This Row],[CODIGO municipio]],[3]!Tabla8[#All],6,FALSE),\"\")","v":""},{"$f":"IFERROR(VLOOKUP(Tabla38[[#This Row],[CODIGO municipio]],[3]!Tabla8[#All],7,FALSE),\"\")","v":""},{"$f":"IFERROR(VLOOKUP(Tabla38[[#This Row],[CODIGO municipio]],[3]!Tabla8[#All],8,FALSE),\"\")","v":""},{"$f":"IFERROR(VLOOKUP(Tabla38[[#This Row],[CODIGO municipio]],[3]!Tabla8[#All],9,FALSE),\"\")","v":""},{"$f":"IFERROR(VLOOKUP(Tabla38[[#This Row],[CODIGO municipio]],[3]!Tabla8[#All],10,FALSE),\"\")","v":""},{"$f":"IFERROR(VLOOKUP(Tabla38[[#This Row],[CODIGO municipio]],[3]!Tabla8[#All],11,FALSE),\"\")","v":""},{"$f":"IFERROR(VLOOKUP(Tabla38[[#This Row],[CODIGO municipio]],[3]!Tabla8[#All],12,FALSE),\"\")","v":""},{"$f":"IFERROR(VLOOKUP(Tabla38[[#This Row],[CODIGO municipio]],[3]!Tabla8[#All],13,FALSE),\"\")","v":""},{"$f":"IFERROR(VLOOKUP(Tabla38[[#This Row],[CODIGO municipio]],[3]!Tabla8[#All],14,FALSE),\"\")","v":""},{"$f":"IFERROR(VLOOKUP(Tabla38[[#This Row],[CODIGO municipio]],[3]!Tabla8[#All],15,FALSE),\"\")","v":""},{"$f":"IFERROR(VLOOKUP(Tabla38[[#This Row],[CODIGO municipio]],[3]!Tabla8[#All],16,FALSE),\"\")","v":""},{"$f":"IFERROR(VLOOKUP(Tabla38[[#This Row],[CODIGO municipio]],[3]!Tabla8[#All],17,FALSE),\"\")","v":""},{"$f":"IFERROR(VLOOKUP(Tabla38[[#This Row],[CODIGO municipio]],[3]!Tabla8[#All],18,FALSE),\"\")","v":""},{"$f":"IFERROR(VLOOKUP(Tabla38[[#This Row],[CODIGO municipio]],[3]!Tabla8[#All],19,FALSE),\"\")","v":""},{"$f":"IFERROR(VLOOKUP(Tabla38[[#This Row],[CODIGO municipio]],[3]!Tabla8[#All],20,FALSE),\"\")","v":""},{"$f":"IFERROR(VLOOKUP(Tabla38[[#This Row],[CODIGO municipio]],[3]!Tabla8[#All],21,FALSE),\"\")","v":""},{"$f":"IFERROR(VLOOKUP(Tabla38[[#This Row],[CODIGO municipio]],[3]!Tabla8[#All],22,FALSE),\"\")","v":""},{"$f":"IFERROR(VLOOKUP(Tabla38[[#This Row],[CODIGO municipio]],[3]!Tabla8[#All],23,FALSE),\"\")","v":""},{"$f":"IFERROR(VLOOKUP(Tabla38[[#This Row],[CODIGO municipio]],[3]!Tabla9[#All],3,FALSE),\"\")","v":""}]
[{"$f":"IFERROR(VLOOKUP(Tabla38[[#This Row],[Municipio]],[3]!Tabla2[#All],3,FALSE),\"\")","v":""},2002,"San José La Arada",{"$f":"IFERROR(VLOOKUP(Tabla38[[#This Row],[CODIGO municipio]],[3]!Tabla6[[#All],[codigo_mun]],1,FALSE),\"\")","v":""},{"$f":"IFERROR(VLOOKUP(Tabla38[[#This Row],[CODIGO municipio]],[3]!Tabla12[#All],2,FALSE),\"\")","v":""},{"$f":"IFERROR(VLOOKUP(Tabla38[[#This Row],[CODIGO municipio]],[3]!Tabla7[#All],3,FALSE),\"\")","v":""},{"$f":"IFERROR(VLOOKUP(Tabla38[[#This Row],[CODIGO municipio]],[3]!Tabla7[#All],4,FALSE),\"\")","v":""},{"$f":"IFERROR(VLOOKUP(Tabla38[[#This Row],[CODIGO municipio]],[3]!Tabla7[#All],11,FALSE),\"\")","v":""},{"$f":"IFERROR(VLOOKUP(Tabla38[[#This Row],[CODIGO municipio]],[3]!Tabla7[#All],12,FALSE),\"\")","v":""},{"$f":"IFERROR(VLOOKUP(Tabla38[[#This Row],[CODIGO municipio]],[3]!Tabla7[#All],13,FALSE),\"\")","v":""},{"$f":"IFERROR(VLOOKUP(Tabla38[[#This Row],[CODIGO municipio]],[3]!Tabla7[#All],14,FALSE),\"\")","v":""},{"$f":"IFERROR(VLOOKUP(Tabla38[[#This Row],[CODIGO municipio]],[3]!Tabla7[#All],15,FALSE),\"\")","v":""},{"$f":"IFERROR(VLOOKUP(Tabla38[[#This Row],[CODIGO municipio]],[3]!Tabla7[#All],16,FALSE),\"\")","v":""},{"$f":"IFERROR(VLOOKUP(Tabla38[[#This Row],[CODIGO municipio]],[3]!Tabla7[#All],17,FALSE),\"\")","v":""},{"$f":"IFERROR(VLOOKUP(Tabla38[[#This Row],[CODIGO municipio]],[3]!Tabla7[#All],18,FALSE),\"\")","v":""},{"$f":"IFERROR(VLOOKUP(Tabla38[[#This Row],[CODIGO municipio]],[3]!Tabla7[#All],19,FALSE),\"\")","v":""},{"$f":"IFERROR(VLOOKUP(Tabla38[[#This Row],[CODIGO municipio]],[3]!Tabla8[#All],3,FALSE),\"\")","v":""},{"$f":"IFERROR(VLOOKUP(Tabla38[[#This Row],[CODIGO municipio]],[3]!Tabla8[#All],4,FALSE),\"\")","v":""},{"$f":"IFERROR(VLOOKUP(Tabla38[[#This Row],[CODIGO municipio]],[3]!Tabla8[#All],5,FALSE),\"\")","v":""},{"$f":"IFERROR(VLOOKUP(Tabla38[[#This Row],[CODIGO municipio]],[3]!Tabla8[#All],6,FALSE),\"\")","v":""},{"$f":"IFERROR(VLOOKUP(Tabla38[[#This Row],[CODIGO municipio]],[3]!Tabla8[#All],7,FALSE),\"\")","v":""},{"$f":"IFERROR(VLOOKUP(Tabla38[[#This Row],[CODIGO municipio]],[3]!Tabla8[#All],8,FALSE),\"\")","v":""},{"$f":"IFERROR(VLOOKUP(Tabla38[[#This Row],[CODIGO municipio]],[3]!Tabla8[#All],9,FALSE),\"\")","v":""},{"$f":"IFERROR(VLOOKUP(Tabla38[[#This Row],[CODIGO municipio]],[3]!Tabla8[#All],10,FALSE),\"\")","v":""},{"$f":"IFERROR(VLOOKUP(Tabla38[[#This Row],[CODIGO municipio]],[3]!Tabla8[#All],11,FALSE),\"\")","v":""},{"$f":"IFERROR(VLOOKUP(Tabla38[[#This Row],[CODIGO municipio]],[3]!Tabla8[#All],12,FALSE),\"\")","v":""},{"$f":"IFERROR(VLOOKUP(Tabla38[[#This Row],[CODIGO municipio]],[3]!Tabla8[#All],13,FALSE),\"\")","v":""},{"$f":"IFERROR(VLOOKUP(Tabla38[[#This Row],[CODIGO municipio]],[3]!Tabla8[#All],14,FALSE),\"\")","v":""},{"$f":"IFERROR(VLOOKUP(Tabla38[[#This Row],[CODIGO municipio]],[3]!Tabla8[#All],15,FALSE),\"\")","v":""},{"$f":"IFERROR(VLOOKUP(Tabla38[[#This Row],[CODIGO municipio]],[3]!Tabla8[#All],16,FALSE),\"\")","v":""},{"$f":"IFERROR(VLOOKUP(Tabla38[[#This Row],[CODIGO municipio]],[3]!Tabla8[#All],17,FALSE),\"\")","v":""},{"$f":"IFERROR(VLOOKUP(Tabla38[[#This Row],[CODIGO municipio]],[3]!Tabla8[#All],18,FALSE),\"\")","v":""},{"$f":"IFERROR(VLOOKUP(Tabla38[[#This Row],[CODIGO municipio]],[3]!Tabla8[#All],19,FALSE),\"\")","v":""},{"$f":"IFERROR(VLOOKUP(Tabla38[[#This Row],[CODIGO municipio]],[3]!Tabla8[#All],20,FALSE),\"\")","v":""},{"$f":"IFERROR(VLOOKUP(Tabla38[[#This Row],[CODIGO municipio]],[3]!Tabla8[#All],21,FALSE),\"\")","v":""},{"$f":"IFERROR(VLOOKUP(Tabla38[[#This Row],[CODIGO municipio]],[3]!Tabla8[#All],22,FALSE),\"\")","v":""},{"$f":"IFERROR(VLOOKUP(Tabla38[[#This Row],[CODIGO municipio]],[3]!Tabla8[#All],23,FALSE),\"\")","v":""},{"$f":"IFERROR(VLOOKUP(Tabla38[[#This Row],[CODIGO municipio]],[3]!Tabla9[#All],3,FALSE),\"\")","v":""}]
[{"$f":"IFERROR(VLOOKUP(Tabla38[[#This Row],[Municipio]],[3]!Tabla2[#All],3,FALSE),\"\")","v":""},2003,"San Juan Ermita",{"$f":"IFERROR(VLOOKUP(Tabla38[[#This Row],[CODIGO municipio]],[3]!Tabla6[[#All],[codigo_mun]],1,FALSE),\"\")","v":""},{"$f":"IFERROR(VLOOKUP(Tabla38[[#This Row],[CODIGO municipio]],[3]!Tabla12[#All],2,FALSE),\"\")","v":""},{"$f":"IFERROR(VLOOKUP(Tabla38[[#This Row],[CODIGO municipio]],[3]!Tabla7[#All],3,FALSE),\"\")","v":""},{"$f":"IFERROR(VLOOKUP(Tabla38[[#This Row],[CODIGO municipio]],[3]!Tabla7[#All],4,FALSE),\"\")","v":""},{"$f":"IFERROR(VLOOKUP(Tabla38[[#This Row],[CODIGO municipio]],[3]!Tabla7[#All],11,FALSE),\"\")","v":""},{"$f":"IFERROR(VLOOKUP(Tabla38[[#This Row],[CODIGO municipio]],[3]!Tabla7[#All],12,FALSE),\"\")","v":""},{"$f":"IFERROR(VLOOKUP(Tabla38[[#This Row],[CODIGO municipio]],[3]!Tabla7[#All],13,FALSE),\"\")","v":""},{"$f":"IFERROR(VLOOKUP(Tabla38[[#This Row],[CODIGO municipio]],[3]!Tabla7[#All],14,FALSE),\"\")","v":""},{"$f":"IFERROR(VLOOKUP(Tabla38[[#This Row],[CODIGO municipio]],[3]!Tabla7[#All],15,FALSE),\"\")","v":""},{"$f":"IFERROR(VLOOKUP(Tabla38[[#This Row],[CODIGO municipio]],[3]!Tabla7[#All],16,FALSE),\"\")","v":""},{"$f":"IFERROR(VLOOKUP(Tabla38[[#This Row],[CODIGO municipio]],[3]!Tabla7[#All],17,FALSE),\"\")","v":""},{"$f":"IFERROR(VLOOKUP(Tabla38[[#This Row],[CODIGO municipio]],[3]!Tabla7[#All],18,FALSE),\"\")","v":""},{"$f":"IFERROR(VLOOKUP(Tabla38[[#This Row],[CODIGO municipio]],[3]!Tabla7[#All],19,FALSE),\"\")","v":""},{"$f":"IFERROR(VLOOKUP(Tabla38[[#This Row],[CODIGO municipio]],[3]!Tabla8[#All],3,FALSE),\"\")","v":""},{"$f":"IFERROR(VLOOKUP(Tabla38[[#This Row],[CODIGO municipio]],[3]!Tabla8[#All],4,FALSE),\"\")","v":""},{"$f":"IFERROR(VLOOKUP(Tabla38[[#This Row],[CODIGO municipio]],[3]!Tabla8[#All],5,FALSE),\"\")","v":""},{"$f":"IFERROR(VLOOKUP(Tabla38[[#This Row],[CODIGO municipio]],[3]!Tabla8[#All],6,FALSE),\"\")","v":""},{"$f":"IFERROR(VLOOKUP(Tabla38[[#This Row],[CODIGO municipio]],[3]!Tabla8[#All],7,FALSE),\"\")","v":""},{"$f":"IFERROR(VLOOKUP(Tabla38[[#This Row],[CODIGO municipio]],[3]!Tabla8[#All],8,FALSE),\"\")","v":""},{"$f":"IFERROR(VLOOKUP(Tabla38[[#This Row],[CODIGO municipio]],[3]!Tabla8[#All],9,FALSE),\"\")","v":""},{"$f":"IFERROR(VLOOKUP(Tabla38[[#This Row],[CODIGO municipio]],[3]!Tabla8[#All],10,FALSE),\"\")","v":""},{"$f":"IFERROR(VLOOKUP(Tabla38[[#This Row],[CODIGO municipio]],[3]!Tabla8[#All],11,FALSE),\"\")","v":""},{"$f":"IFERROR(VLOOKUP(Tabla38[[#This Row],[CODIGO municipio]],[3]!Tabla8[#All],12,FALSE),\"\")","v":""},{"$f":"IFERROR(VLOOKUP(Tabla38[[#This Row],[CODIGO municipio]],[3]!Tabla8[#All],13,FALSE),\"\")","v":""},{"$f":"IFERROR(VLOOKUP(Tabla38[[#This Row],[CODIGO municipio]],[3]!Tabla8[#All],14,FALSE),\"\")","v":""},{"$f":"IFERROR(VLOOKUP(Tabla38[[#This Row],[CODIGO municipio]],[3]!Tabla8[#All],15,FALSE),\"\")","v":""},{"$f":"IFERROR(VLOOKUP(Tabla38[[#This Row],[CODIGO municipio]],[3]!Tabla8[#All],16,FALSE),\"\")","v":""},{"$f":"IFERROR(VLOOKUP(Tabla38[[#This Row],[CODIGO municipio]],[3]!Tabla8[#All],17,FALSE),\"\")","v":""},{"$f":"IFERROR(VLOOKUP(Tabla38[[#This Row],[CODIGO municipio]],[3]!Tabla8[#All],18,FALSE),\"\")","v":""},{"$f":"IFERROR(VLOOKUP(Tabla38[[#This Row],[CODIGO municipio]],[3]!Tabla8[#All],19,FALSE),\"\")","v":""},{"$f":"IFERROR(VLOOKUP(Tabla38[[#This Row],[CODIGO municipio]],[3]!Tabla8[#All],20,FALSE),\"\")","v":""},{"$f":"IFERROR(VLOOKUP(Tabla38[[#This Row],[CODIGO municipio]],[3]!Tabla8[#All],21,FALSE),\"\")","v":""},{"$f":"IFERROR(VLOOKUP(Tabla38[[#This Row],[CODIGO municipio]],[3]!Tabla8[#All],22,FALSE),\"\")","v":""},{"$f":"IFERROR(VLOOKUP(Tabla38[[#This Row],[CODIGO municipio]],[3]!Tabla8[#All],23,FALSE),\"\")","v":""},{"$f":"IFERROR(VLOOKUP(Tabla38[[#This Row],[CODIGO municipio]],[3]!Tabla9[#All],3,FALSE),\"\")","v":""}]
[{"$f":"IFERROR(VLOOKUP(Tabla38[[#This Row],[Municipio]],[3]!Tabla2[#All],3,FALSE),\"\")","v":""},2004,"Jocotán",{"$f":"IFERROR(VLOOKUP(Tabla38[[#This Row],[CODIGO municipio]],[3]!Tabla6[[#All],[codigo_mun]],1,FALSE),\"\")","v":""},{"$f":"IFERROR(VLOOKUP(Tabla38[[#This Row],[CODIGO municipio]],[3]!Tabla12[#All],2,FALSE),\"\")","v":""},{"$f":"IFERROR(VLOOKUP(Tabla38[[#This Row],[CODIGO municipio]],[3]!Tabla7[#All],3,FALSE),\"\")","v":""},{"$f":"IFERROR(VLOOKUP(Tabla38[[#This Row],[CODIGO municipio]],[3]!Tabla7[#All],4,FALSE),\"\")","v":""},{"$f":"IFERROR(VLOOKUP(Tabla38[[#This Row],[CODIGO municipio]],[3]!Tabla7[#All],11,FALSE),\"\")","v":""},{"$f":"IFERROR(VLOOKUP(Tabla38[[#This Row],[CODIGO municipio]],[3]!Tabla7[#All],12,FALSE),\"\")","v":""},{"$f":"IFERROR(VLOOKUP(Tabla38[[#This Row],[CODIGO municipio]],[3]!Tabla7[#All],13,FALSE),\"\")","v":""},{"$f":"IFERROR(VLOOKUP(Tabla38[[#This Row],[CODIGO municipio]],[3]!Tabla7[#All],14,FALSE),\"\")","v":""},{"$f":"IFERROR(VLOOKUP(Tabla38[[#This Row],[CODIGO municipio]],[3]!Tabla7[#All],15,FALSE),\"\")","v":""},{"$f":"IFERROR(VLOOKUP(Tabla38[[#This Row],[CODIGO municipio]],[3]!Tabla7[#All],16,FALSE),\"\")","v":""},{"$f":"IFERROR(VLOOKUP(Tabla38[[#This Row],[CODIGO municipio]],[3]!Tabla7[#All],17,FALSE),\"\")","v":""},{"$f":"IFERROR(VLOOKUP(Tabla38[[#This Row],[CODIGO municipio]],[3]!Tabla7[#All],18,FALSE),\"\")","v":""},{"$f":"IFERROR(VLOOKUP(Tabla38[[#This Row],[CODIGO municipio]],[3]!Tabla7[#All],19,FALSE),\"\")","v":""},{"$f":"IFERROR(VLOOKUP(Tabla38[[#This Row],[CODIGO municipio]],[3]!Tabla8[#All],3,FALSE),\"\")","v":""},{"$f":"IFERROR(VLOOKUP(Tabla38[[#This Row],[CODIGO municipio]],[3]!Tabla8[#All],4,FALSE),\"\")","v":""},{"$f":"IFERROR(VLOOKUP(Tabla38[[#This Row],[CODIGO municipio]],[3]!Tabla8[#All],5,FALSE),\"\")","v":""},{"$f":"IFERROR(VLOOKUP(Tabla38[[#This Row],[CODIGO municipio]],[3]!Tabla8[#All],6,FALSE),\"\")","v":""},{"$f":"IFERROR(VLOOKUP(Tabla38[[#This Row],[CODIGO municipio]],[3]!Tabla8[#All],7,FALSE),\"\")","v":""},{"$f":"IFERROR(VLOOKUP(Tabla38[[#This Row],[CODIGO municipio]],[3]!Tabla8[#All],8,FALSE),\"\")","v":""},{"$f":"IFERROR(VLOOKUP(Tabla38[[#This Row],[CODIGO municipio]],[3]!Tabla8[#All],9,FALSE),\"\")","v":""},{"$f":"IFERROR(VLOOKUP(Tabla38[[#This Row],[CODIGO municipio]],[3]!Tabla8[#All],10,FALSE),\"\")","v":""},{"$f":"IFERROR(VLOOKUP(Tabla38[[#This Row],[CODIGO municipio]],[3]!Tabla8[#All],11,FALSE),\"\")","v":""},{"$f":"IFERROR(VLOOKUP(Tabla38[[#This Row],[CODIGO municipio]],[3]!Tabla8[#All],12,FALSE),\"\")","v":""},{"$f":"IFERROR(VLOOKUP(Tabla38[[#This Row],[CODIGO municipio]],[3]!Tabla8[#All],13,FALSE),\"\")","v":""},{"$f":"IFERROR(VLOOKUP(Tabla38[[#This Row],[CODIGO municipio]],[3]!Tabla8[#All],14,FALSE),\"\")","v":""},{"$f":"IFERROR(VLOOKUP(Tabla38[[#This Row],[CODIGO municipio]],[3]!Tabla8[#All],15,FALSE),\"\")","v":""},{"$f":"IFERROR(VLOOKUP(Tabla38[[#This Row],[CODIGO municipio]],[3]!Tabla8[#All],16,FALSE),\"\")","v":""},{"$f":"IFERROR(VLOOKUP(Tabla38[[#This Row],[CODIGO municipio]],[3]!Tabla8[#All],17,FALSE),\"\")","v":""},{"$f":"IFERROR(VLOOKUP(Tabla38[[#This Row],[CODIGO municipio]],[3]!Tabla8[#All],18,FALSE),\"\")","v":""},{"$f":"IFERROR(VLOOKUP(Tabla38[[#This Row],[CODIGO municipio]],[3]!Tabla8[#All],19,FALSE),\"\")","v":""},{"$f":"IFERROR(VLOOKUP(Tabla38[[#This Row],[CODIGO municipio]],[3]!Tabla8[#All],20,FALSE),\"\")","v":""},{"$f":"IFERROR(VLOOKUP(Tabla38[[#This Row],[CODIGO municipio]],[3]!Tabla8[#All],21,FALSE),\"\")","v":""},{"$f":"IFERROR(VLOOKUP(Tabla38[[#This Row],[CODIGO municipio]],[3]!Tabla8[#All],22,FALSE),\"\")","v":""},{"$f":"IFERROR(VLOOKUP(Tabla38[[#This Row],[CODIGO municipio]],[3]!Tabla8[#All],23,FALSE),\"\")","v":""},{"$f":"IFERROR(VLOOKUP(Tabla38[[#This Row],[CODIGO municipio]],[3]!Tabla9[#All],3,FALSE),\"\")","v":""}]
[{"$f":"IFERROR(VLOOKUP(Tabla38[[#This Row],[Municipio]],[3]!Tabla2[#All],3,FALSE),\"\")","v":""},2005,"Camotán",{"$f":"IFERROR(VLOOKUP(Tabla38[[#This Row],[CODIGO municipio]],[3]!Tabla6[[#All],[codigo_mun]],1,FALSE),\"\")","v":""},{"$f":"IFERROR(VLOOKUP(Tabla38[[#This Row],[CODIGO municipio]],[3]!Tabla12[#All],2,FALSE),\"\")","v":""},{"$f":"IFERROR(VLOOKUP(Tabla38[[#This Row],[CODIGO municipio]],[3]!Tabla7[#All],3,FALSE),\"\")","v":""},{"$f":"IFERROR(VLOOKUP(Tabla38[[#This Row],[CODIGO municipio]],[3]!Tabla7[#All],4,FALSE),\"\")","v":""},{"$f":"IFERROR(VLOOKUP(Tabla38[[#This Row],[CODIGO municipio]],[3]!Tabla7[#All],11,FALSE),\"\")","v":""},{"$f":"IFERROR(VLOOKUP(Tabla38[[#This Row],[CODIGO municipio]],[3]!Tabla7[#All],12,FALSE),\"\")","v":""},{"$f":"IFERROR(VLOOKUP(Tabla38[[#This Row],[CODIGO municipio]],[3]!Tabla7[#All],13,FALSE),\"\")","v":""},{"$f":"IFERROR(VLOOKUP(Tabla38[[#This Row],[CODIGO municipio]],[3]!Tabla7[#All],14,FALSE),\"\")","v":""},{"$f":"IFERROR(VLOOKUP(Tabla38[[#This Row],[CODIGO municipio]],[3]!Tabla7[#All],15,FALSE),\"\")","v":""},{"$f":"IFERROR(VLOOKUP(Tabla38[[#This Row],[CODIGO municipio]],[3]!Tabla7[#All],16,FALSE),\"\")","v":""},{"$f":"IFERROR(VLOOKUP(Tabla38[[#This Row],[CODIGO municipio]],[3]!Tabla7[#All],17,FALSE),\"\")","v":""},{"$f":"IFERROR(VLOOKUP(Tabla38[[#This Row],[CODIGO municipio]],[3]!Tabla7[#All],18,FALSE),\"\")","v":""},{"$f":"IFERROR(VLOOKUP(Tabla38[[#This Row],[CODIGO municipio]],[3]!Tabla7[#All],19,FALSE),\"\")","v":""},{"$f":"IFERROR(VLOOKUP(Tabla38[[#This Row],[CODIGO municipio]],[3]!Tabla8[#All],3,FALSE),\"\")","v":""},{"$f":"IFERROR(VLOOKUP(Tabla38[[#This Row],[CODIGO municipio]],[3]!Tabla8[#All],4,FALSE),\"\")","v":""},{"$f":"IFERROR(VLOOKUP(Tabla38[[#This Row],[CODIGO municipio]],[3]!Tabla8[#All],5,FALSE),\"\")","v":""},{"$f":"IFERROR(VLOOKUP(Tabla38[[#This Row],[CODIGO municipio]],[3]!Tabla8[#All],6,FALSE),\"\")","v":""},{"$f":"IFERROR(VLOOKUP(Tabla38[[#This Row],[CODIGO municipio]],[3]!Tabla8[#All],7,FALSE),\"\")","v":""},{"$f":"IFERROR(VLOOKUP(Tabla38[[#This Row],[CODIGO municipio]],[3]!Tabla8[#All],8,FALSE),\"\")","v":""},{"$f":"IFERROR(VLOOKUP(Tabla38[[#This Row],[CODIGO municipio]],[3]!Tabla8[#All],9,FALSE),\"\")","v":""},{"$f":"IFERROR(VLOOKUP(Tabla38[[#This Row],[CODIGO municipio]],[3]!Tabla8[#All],10,FALSE),\"\")","v":""},{"$f":"IFERROR(VLOOKUP(Tabla38[[#This Row],[CODIGO municipio]],[3]!Tabla8[#All],11,FALSE),\"\")","v":""},{"$f":"IFERROR(VLOOKUP(Tabla38[[#This Row],[CODIGO municipio]],[3]!Tabla8[#All],12,FALSE),\"\")","v":""},{"$f":"IFERROR(VLOOKUP(Tabla38[[#This Row],[CODIGO municipio]],[3]!Tabla8[#All],13,FALSE),\"\")","v":""},{"$f":"IFERROR(VLOOKUP(Tabla38[[#This Row],[CODIGO municipio]],[3]!Tabla8[#All],14,FALSE),\"\")","v":""},{"$f":"IFERROR(VLOOKUP(Tabla38[[#This Row],[CODIGO municipio]],[3]!Tabla8[#All],15,FALSE),\"\")","v":""},{"$f":"IFERROR(VLOOKUP(Tabla38[[#This Row],[CODIGO municipio]],[3]!Tabla8[#All],16,FALSE),\"\")","v":""},{"$f":"IFERROR(VLOOKUP(Tabla38[[#This Row],[CODIGO municipio]],[3]!Tabla8[#All],17,FALSE),\"\")","v":""},{"$f":"IFERROR(VLOOKUP(Tabla38[[#This Row],[CODIGO municipio]],[3]!Tabla8[#All],18,FALSE),\"\")","v":""},{"$f":"IFERROR(VLOOKUP(Tabla38[[#This Row],[CODIGO municipio]],[3]!Tabla8[#All],19,FALSE),\"\")","v":""},{"$f":"IFERROR(VLOOKUP(Tabla38[[#This Row],[CODIGO municipio]],[3]!Tabla8[#All],20,FALSE),\"\")","v":""},{"$f":"IFERROR(VLOOKUP(Tabla38[[#This Row],[CODIGO municipio]],[3]!Tabla8[#All],21,FALSE),\"\")","v":""},{"$f":"IFERROR(VLOOKUP(Tabla38[[#This Row],[CODIGO municipio]],[3]!Tabla8[#All],22,FALSE),\"\")","v":""},{"$f":"IFERROR(VLOOKUP(Tabla38[[#This Row],[CODIGO municipio]],[3]!Tabla8[#All],23,FALSE),\"\")","v":""},{"$f":"IFERROR(VLOOKUP(Tabla38[[#This Row],[CODIGO municipio]],[3]!Tabla9[#All],3,FALSE),\"\")","v":""}]
[{"$f":"IFERROR(VLOOKUP(Tabla38[[#This Row],[Municipio]],[3]!Tabla2[#All],3,FALSE),\"\")","v":""},2006,"Olopa",{"$f":"IFERROR(VLOOKUP(Tabla38[[#This Row],[CODIGO municipio]],[3]!Tabla6[[#All],[codigo_mun]],1,FALSE),\"\")","v":""},{"$f":"IFERROR(VLOOKUP(Tabla38[[#This Row],[CODIGO municipio]],[3]!Tabla12[#All],2,FALSE),\"\")","v":""},{"$f":"IFERROR(VLOOKUP(Tabla38[[#This Row],[CODIGO municipio]],[3]!Tabla7[#All],3,FALSE),\"\")","v":""},{"$f":"IFERROR(VLOOKUP(Tabla38[[#This Row],[CODIGO municipio]],[3]!Tabla7[#All],4,FALSE),\"\")","v":""},{"$f":"IFERROR(VLOOKUP(Tabla38[[#This Row],[CODIGO municipio]],[3]!Tabla7[#All],11,FALSE),\"\")","v":""},{"$f":"IFERROR(VLOOKUP(Tabla38[[#This Row],[CODIGO municipio]],[3]!Tabla7[#All],12,FALSE),\"\")","v":""},{"$f":"IFERROR(VLOOKUP(Tabla38[[#This Row],[CODIGO municipio]],[3]!Tabla7[#All],13,FALSE),\"\")","v":""},{"$f":"IFERROR(VLOOKUP(Tabla38[[#This Row],[CODIGO municipio]],[3]!Tabla7[#All],14,FALSE),\"\")","v":""},{"$f":"IFERROR(VLOOKUP(Tabla38[[#This Row],[CODIGO municipio]],[3]!Tabla7[#All],15,FALSE),\"\")","v":""},{"$f":"IFERROR(VLOOKUP(Tabla38[[#This Row],[CODIGO municipio]],[3]!Tabla7[#All],16,FALSE),\"\")","v":""},{"$f":"IFERROR(VLOOKUP(Tabla38[[#This Row],[CODIGO municipio]],[3]!Tabla7[#All],17,FALSE),\"\")","v":""},{"$f":"IFERROR(VLOOKUP(Tabla38[[#This Row],[CODIGO municipio]],[3]!Tabla7[#All],18,FALSE),\"\")","v":""},{"$f":"IFERROR(VLOOKUP(Tabla38[[#This Row],[CODIGO municipio]],[3]!Tabla7[#All],19,FALSE),\"\")","v":""},{"$f":"IFERROR(VLOOKUP(Tabla38[[#This Row],[CODIGO municipio]],[3]!Tabla8[#All],3,FALSE),\"\")","v":""},{"$f":"IFERROR(VLOOKUP(Tabla38[[#This Row],[CODIGO municipio]],[3]!Tabla8[#All],4,FALSE),\"\")","v":""},{"$f":"IFERROR(VLOOKUP(Tabla38[[#This Row],[CODIGO municipio]],[3]!Tabla8[#All],5,FALSE),\"\")","v":""},{"$f":"IFERROR(VLOOKUP(Tabla38[[#This Row],[CODIGO municipio]],[3]!Tabla8[#All],6,FALSE),\"\")","v":""},{"$f":"IFERROR(VLOOKUP(Tabla38[[#This Row],[CODIGO municipio]],[3]!Tabla8[#All],7,FALSE),\"\")","v":""},{"$f":"IFERROR(VLOOKUP(Tabla38[[#This Row],[CODIGO municipio]],[3]!Tabla8[#All],8,FALSE),\"\")","v":""},{"$f":"IFERROR(VLOOKUP(Tabla38[[#This Row],[CODIGO municipio]],[3]!Tabla8[#All],9,FALSE),\"\")","v":""},{"$f":"IFERROR(VLOOKUP(Tabla38[[#This Row],[CODIGO municipio]],[3]!Tabla8[#All],10,FALSE),\"\")","v":""},{"$f":"IFERROR(VLOOKUP(Tabla38[[#This Row],[CODIGO municipio]],[3]!Tabla8[#All],11,FALSE),\"\")","v":""},{"$f":"IFERROR(VLOOKUP(Tabla38[[#This Row],[CODIGO municipio]],[3]!Tabla8[#All],12,FALSE),\"\")","v":""},{"$f":"IFERROR(VLOOKUP(Tabla38[[#This Row],[CODIGO municipio]],[3]!Tabla8[#All],13,FALSE),\"\")","v":""},{"$f":"IFERROR(VLOOKUP(Tabla38[[#This Row],[CODIGO municipio]],[3]!Tabla8[#All],14,FALSE),\"\")","v":""},{"$f":"IFERROR(VLOOKUP(Tabla38[[#This Row],[CODIGO municipio]],[3]!Tabla8[#All],15,FALSE),\"\")","v":""},{"$f":"IFERROR(VLOOKUP(Tabla38[[#This Row],[CODIGO municipio]],[3]!Tabla8[#All],16,FALSE),\"\")","v":""},{"$f":"IFERROR(VLOOKUP(Tabla38[[#This Row],[CODIGO municipio]],[3]!Tabla8[#All],17,FALSE),\"\")","v":""},{"$f":"IFERROR(VLOOKUP(Tabla38[[#This Row],[CODIGO municipio]],[3]!Tabla8[#All],18,FALSE),\"\")","v":""},{"$f":"IFERROR(VLOOKUP(Tabla38[[#This Row],[CODIGO municipio]],[3]!Tabla8[#All],19,FALSE),\"\")","v":""},{"$f":"IFERROR(VLOOKUP(Tabla38[[#This Row],[CODIGO municipio]],[3]!Tabla8[#All],20,FALSE),\"\")","v":""},{"$f":"IFERROR(VLOOKUP(Tabla38[[#This Row],[CODIGO municipio]],[3]!Tabla8[#All],21,FALSE),\"\")","v":""},{"$f":"IFERROR(VLOOKUP(Tabla38[[#This Row],[CODIGO municipio]],[3]!Tabla8[#All],22,FALSE),\"\")","v":""},{"$f":"IFERROR(VLOOKUP(Tabla38[[#This Row],[CODIGO municipio]],[3]!Tabla8[#All],23,FALSE),\"\")","v":""},{"$f":"IFERROR(VLOOKUP(Tabla38[[#This Row],[CODIGO municipio]],[3]!Tabla9[#All],3,FALSE),\"\")","v":""}]
[{"$f":"IFERROR(VLOOKUP(Tabla38[[#This Row],[Municipio]],[3]!Tabla2[#All],3,FALSE),\"\")","v":""},2007,"Esquipulas",{"$f":"IFERROR(VLOOKUP(Tabla38[[#This Row],[CODIGO municipio]],[3]!Tabla6[[#All],[codigo_mun]],1,FALSE),\"\")","v":""},{"$f":"IFERROR(VLOOKUP(Tabla38[[#This Row],[CODIGO municipio]],[3]!Tabla12[#All],2,FALSE),\"\")","v":""},{"$f":"IFERROR(VLOOKUP(Tabla38[[#This Row],[CODIGO municipio]],[3]!Tabla7[#All],3,FALSE),\"\")","v":""},{"$f":"IFERROR(VLOOKUP(Tabla38[[#This Row],[CODIGO municipio]],[3]!Tabla7[#All],4,FALSE),\"\")","v":""},{"$f":"IFERROR(VLOOKUP(Tabla38[[#This Row],[CODIGO municipio]],[3]!Tabla7[#All],11,FALSE),\"\")","v":""},{"$f":"IFERROR(VLOOKUP(Tabla38[[#This Row],[CODIGO municipio]],[3]!Tabla7[#All],12,FALSE),\"\")","v":""},{"$f":"IFERROR(VLOOKUP(Tabla38[[#This Row],[CODIGO municipio]],[3]!Tabla7[#All],13,FALSE),\"\")","v":""},{"$f":"IFERROR(VLOOKUP(Tabla38[[#This Row],[CODIGO municipio]],[3]!Tabla7[#All],14,FALSE),\"\")","v":""},{"$f":"IFERROR(VLOOKUP(Tabla38[[#This Row],[CODIGO municipio]],[3]!Tabla7[#All],15,FALSE),\"\")","v":""},{"$f":"IFERROR(VLOOKUP(Tabla38[[#This Row],[CODIGO municipio]],[3]!Tabla7[#All],16,FALSE),\"\")","v":""},{"$f":"IFERROR(VLOOKUP(Tabla38[[#This Row],[CODIGO municipio]],[3]!Tabla7[#All],17,FALSE),\"\")","v":""},{"$f":"IFERROR(VLOOKUP(Tabla38[[#This Row],[CODIGO municipio]],[3]!Tabla7[#All],18,FALSE),\"\")","v":""},{"$f":"IFERROR(VLOOKUP(Tabla38[[#This Row],[CODIGO municipio]],[3]!Tabla7[#All],19,FALSE),\"\")","v":""},{"$f":"IFERROR(VLOOKUP(Tabla38[[#This Row],[CODIGO municipio]],[3]!Tabla8[#All],3,FALSE),\"\")","v":""},{"$f":"IFERROR(VLOOKUP(Tabla38[[#This Row],[CODIGO municipio]],[3]!Tabla8[#All],4,FALSE),\"\")","v":""},{"$f":"IFERROR(VLOOKUP(Tabla38[[#This Row],[CODIGO municipio]],[3]!Tabla8[#All],5,FALSE),\"\")","v":""},{"$f":"IFERROR(VLOOKUP(Tabla38[[#This Row],[CODIGO municipio]],[3]!Tabla8[#All],6,FALSE),\"\")","v":""},{"$f":"IFERROR(VLOOKUP(Tabla38[[#This Row],[CODIGO municipio]],[3]!Tabla8[#All],7,FALSE),\"\")","v":""},{"$f":"IFERROR(VLOOKUP(Tabla38[[#This Row],[CODIGO municipio]],[3]!Tabla8[#All],8,FALSE),\"\")","v":""},{"$f":"IFERROR(VLOOKUP(Tabla38[[#This Row],[CODIGO municipio]],[3]!Tabla8[#All],9,FALSE),\"\")","v":""},{"$f":"IFERROR(VLOOKUP(Tabla38[[#This Row],[CODIGO municipio]],[3]!Tabla8[#All],10,FALSE),\"\")","v":""},{"$f":"IFERROR(VLOOKUP(Tabla38[[#This Row],[CODIGO municipio]],[3]!Tabla8[#All],11,FALSE),\"\")","v":""},{"$f":"IFERROR(VLOOKUP(Tabla38[[#This Row],[CODIGO municipio]],[3]!Tabla8[#All],12,FALSE),\"\")","v":""},{"$f":"IFERROR(VLOOKUP(Tabla38[[#This Row],[CODIGO municipio]],[3]!Tabla8[#All],13,FALSE),\"\")","v":""},{"$f":"IFERROR(VLOOKUP(Tabla38[[#This Row],[CODIGO municipio]],[3]!Tabla8[#All],14,FALSE),\"\")","v":""},{"$f":"IFERROR(VLOOKUP(Tabla38[[#This Row],[CODIGO municipio]],[3]!Tabla8[#All],15,FALSE),\"\")","v":""},{"$f":"IFERROR(VLOOKUP(Tabla38[[#This Row],[CODIGO municipio]],[3]!Tabla8[#All],16,FALSE),\"\")","v":""},{"$f":"IFERROR(VLOOKUP(Tabla38[[#This Row],[CODIGO municipio]],[3]!Tabla8[#All],17,FALSE),\"\")","v":""},{"$f":"IFERROR(VLOOKUP(Tabla38[[#This Row],[CODIGO municipio]],[3]!Tabla8[#All],18,FALSE),\"\")","v":""},{"$f":"IFERROR(VLOOKUP(Tabla38[[#This Row],[CODIGO municipio]],[3]!Tabla8[#All],19,FALSE),\"\")","v":""},{"$f":"IFERROR(VLOOKUP(Tabla38[[#This Row],[CODIGO municipio]],[3]!Tabla8[#All],20,FALSE),\"\")","v":""},{"$f":"IFERROR(VLOOKUP(Tabla38[[#This Row],[CODIGO municipio]],[3]!Tabla8[#All],21,FALSE),\"\")","v":""},{"$f":"IFERROR(VLOOKUP(Tabla38[[#This Row],[CODIGO municipio]],[3]!Tabla8[#All],22,FALSE),\"\")","v":""},{"$f":"IFERROR(VLOOKUP(Tabla38[[#This Row],[CODIGO municipio]],[3]!Tabla8[#All],23,FALSE),\"\")","v":""},{"$f":"IFERROR(VLOOKUP(Tabla38[[#This Row],[CODIGO municipio]],[3]!Tabla9[#All],3,FALSE),\"\")","v":""}]
[{"$f":"IFERROR(VLOOKUP(Tabla38[[#This Row],[Municipio]],[3]!Tabla2[#All],3,FALSE),\"\")","v":""},2008,"Concepción las Minas",{"$f":"IFERROR(VLOOKUP(Tabla38[[#This Row],[CODIGO municipio]],[3]!Tabla6[[#All],[codigo_mun]],1,FALSE),\"\")","v":""},{"$f":"IFERROR(VLOOKUP(Tabla38[[#This Row],[CODIGO municipio]],[3]!Tabla12[#All],2,FALSE),\"\")","v":""},{"$f":"IFERROR(VLOOKUP(Tabla38[[#This Row],[CODIGO municipio]],[3]!Tabla7[#All],3,FALSE),\"\")","v":""},{"$f":"IFERROR(VLOOKUP(Tabla38[[#This Row],[CODIGO municipio]],[3]!Tabla7[#All],4,FALSE),\"\")","v":""},{"$f":"IFERROR(VLOOKUP(Tabla38[[#This Row],[CODIGO municipio]],[3]!Tabla7[#All],11,FALSE),\"\")","v":""},{"$f":"IFERROR(VLOOKUP(Tabla38[[#This Row],[CODIGO municipio]],[3]!Tabla7[#All],12,FALSE),\"\")","v":""},{"$f":"IFERROR(VLOOKUP(Tabla38[[#This Row],[CODIGO municipio]],[3]!Tabla7[#All],13,FALSE),\"\")","v":""},{"$f":"IFERROR(VLOOKUP(Tabla38[[#This Row],[CODIGO municipio]],[3]!Tabla7[#All],14,FALSE),\"\")","v":""},{"$f":"IFERROR(VLOOKUP(Tabla38[[#This Row],[CODIGO municipio]],[3]!Tabla7[#All],15,FALSE),\"\")","v":""},{"$f":"IFERROR(VLOOKUP(Tabla38[[#This Row],[CODIGO municipio]],[3]!Tabla7[#All],16,FALSE),\"\")","v":""},{"$f":"IFERROR(VLOOKUP(Tabla38[[#This Row],[CODIGO municipio]],[3]!Tabla7[#All],17,FALSE),\"\")","v":""},{"$f":"IFERROR(VLOOKUP(Tabla38[[#This Row],[CODIGO municipio]],[3]!Tabla7[#All],18,FALSE),\"\")","v":""},{"$f":"IFERROR(VLOOKUP(Tabla38[[#This Row],[CODIGO municipio]],[3]!Tabla7[#All],19,FALSE),\"\")","v":""},{"$f":"IFERROR(VLOOKUP(Tabla38[[#This Row],[CODIGO municipio]],[3]!Tabla8[#All],3,FALSE),\"\")","v":""},{"$f":"IFERROR(VLOOKUP(Tabla38[[#This Row],[CODIGO municipio]],[3]!Tabla8[#All],4,FALSE),\"\")","v":""},{"$f":"IFERROR(VLOOKUP(Tabla38[[#This Row],[CODIGO municipio]],[3]!Tabla8[#All],5,FALSE),\"\")","v":""},{"$f":"IFERROR(VLOOKUP(Tabla38[[#This Row],[CODIGO municipio]],[3]!Tabla8[#All],6,FALSE),\"\")","v":""},{"$f":"IFERROR(VLOOKUP(Tabla38[[#This Row],[CODIGO municipio]],[3]!Tabla8[#All],7,FALSE),\"\")","v":""},{"$f":"IFERROR(VLOOKUP(Tabla38[[#This Row],[CODIGO municipio]],[3]!Tabla8[#All],8,FALSE),\"\")","v":""},{"$f":"IFERROR(VLOOKUP(Tabla38[[#This Row],[CODIGO municipio]],[3]!Tabla8[#All],9,FALSE),\"\")","v":""},{"$f":"IFERROR(VLOOKUP(Tabla38[[#This Row],[CODIGO municipio]],[3]!Tabla8[#All],10,FALSE),\"\")","v":""},{"$f":"IFERROR(VLOOKUP(Tabla38[[#This Row],[CODIGO municipio]],[3]!Tabla8[#All],11,FALSE),\"\")","v":""},{"$f":"IFERROR(VLOOKUP(Tabla38[[#This Row],[CODIGO municipio]],[3]!Tabla8[#All],12,FALSE),\"\")","v":""},{"$f":"IFERROR(VLOOKUP(Tabla38[[#This Row],[CODIGO municipio]],[3]!Tabla8[#All],13,FALSE),\"\")","v":""},{"$f":"IFERROR(VLOOKUP(Tabla38[[#This Row],[CODIGO municipio]],[3]!Tabla8[#All],14,FALSE),\"\")","v":""},{"$f":"IFERROR(VLOOKUP(Tabla38[[#This Row],[CODIGO municipio]],[3]!Tabla8[#All],15,FALSE),\"\")","v":""},{"$f":"IFERROR(VLOOKUP(Tabla38[[#This Row],[CODIGO municipio]],[3]!Tabla8[#All],16,FALSE),\"\")","v":""},{"$f":"IFERROR(VLOOKUP(Tabla38[[#This Row],[CODIGO municipio]],[3]!Tabla8[#All],17,FALSE),\"\")","v":""},{"$f":"IFERROR(VLOOKUP(Tabla38[[#This Row],[CODIGO municipio]],[3]!Tabla8[#All],18,FALSE),\"\")","v":""},{"$f":"IFERROR(VLOOKUP(Tabla38[[#This Row],[CODIGO municipio]],[3]!Tabla8[#All],19,FALSE),\"\")","v":""},{"$f":"IFERROR(VLOOKUP(Tabla38[[#This Row],[CODIGO municipio]],[3]!Tabla8[#All],20,FALSE),\"\")","v":""},{"$f":"IFERROR(VLOOKUP(Tabla38[[#This Row],[CODIGO municipio]],[3]!Tabla8[#All],21,FALSE),\"\")","v":""},{"$f":"IFERROR(VLOOKUP(Tabla38[[#This Row],[CODIGO municipio]],[3]!Tabla8[#All],22,FALSE),\"\")","v":""},{"$f":"IFERROR(VLOOKUP(Tabla38[[#This Row],[CODIGO municipio]],[3]!Tabla8[#All],23,FALSE),\"\")","v":""},{"$f":"IFERROR(VLOOKUP(Tabla38[[#This Row],[CODIGO municipio]],[3]!Tabla9[#All],3,FALSE),\"\")","v":""}]
[{"$f":"IFERROR(VLOOKUP(Tabla38[[#This Row],[Municipio]],[3]!Tabla2[#All],3,FALSE),\"\")","v":""},2009,"Quezaltepeque",{"$f":"IFERROR(VLOOKUP(Tabla38[[#This Row],[CODIGO municipio]],[3]!Tabla6[[#All],[codigo_mun]],1,FALSE),\"\")","v":""},{"$f":"IFERROR(VLOOKUP(Tabla38[[#This Row],[CODIGO municipio]],[3]!Tabla12[#All],2,FALSE),\"\")","v":""},{"$f":"IFERROR(VLOOKUP(Tabla38[[#This Row],[CODIGO municipio]],[3]!Tabla7[#All],3,FALSE),\"\")","v":""},{"$f":"IFERROR(VLOOKUP(Tabla38[[#This Row],[CODIGO municipio]],[3]!Tabla7[#All],4,FALSE),\"\")","v":""},{"$f":"IFERROR(VLOOKUP(Tabla38[[#This Row],[CODIGO municipio]],[3]!Tabla7[#All],11,FALSE),\"\")","v":""},{"$f":"IFERROR(VLOOKUP(Tabla38[[#This Row],[CODIGO municipio]],[3]!Tabla7[#All],12,FALSE),\"\")","v":""},{"$f":"IFERROR(VLOOKUP(Tabla38[[#This Row],[CODIGO municipio]],[3]!Tabla7[#All],13,FALSE),\"\")","v":""},{"$f":"IFERROR(VLOOKUP(Tabla38[[#This Row],[CODIGO municipio]],[3]!Tabla7[#All],14,FALSE),\"\")","v":""},{"$f":"IFERROR(VLOOKUP(Tabla38[[#This Row],[CODIGO municipio]],[3]!Tabla7[#All],15,FALSE),\"\")","v":""},{"$f":"IFERROR(VLOOKUP(Tabla38[[#This Row],[CODIGO municipio]],[3]!Tabla7[#All],16,FALSE),\"\")","v":""},{"$f":"IFERROR(VLOOKUP(Tabla38[[#This Row],[CODIGO municipio]],[3]!Tabla7[#All],17,FALSE),\"\")","v":""},{"$f":"IFERROR(VLOOKUP(Tabla38[[#This Row],[CODIGO municipio]],[3]!Tabla7[#All],18,FALSE),\"\")","v":""},{"$f":"IFERROR(VLOOKUP(Tabla38[[#This Row],[CODIGO municipio]],[3]!Tabla7[#All],19,FALSE),\"\")","v":""},{"$f":"IFERROR(VLOOKUP(Tabla38[[#This Row],[CODIGO municipio]],[3]!Tabla8[#All],3,FALSE),\"\")","v":""},{"$f":"IFERROR(VLOOKUP(Tabla38[[#This Row],[CODIGO municipio]],[3]!Tabla8[#All],4,FALSE),\"\")","v":""},{"$f":"IFERROR(VLOOKUP(Tabla38[[#This Row],[CODIGO municipio]],[3]!Tabla8[#All],5,FALSE),\"\")","v":""},{"$f":"IFERROR(VLOOKUP(Tabla38[[#This Row],[CODIGO municipio]],[3]!Tabla8[#All],6,FALSE),\"\")","v":""},{"$f":"IFERROR(VLOOKUP(Tabla38[[#This Row],[CODIGO municipio]],[3]!Tabla8[#All],7,FALSE),\"\")","v":""},{"$f":"IFERROR(VLOOKUP(Tabla38[[#This Row],[CODIGO municipio]],[3]!Tabla8[#All],8,FALSE),\"\")","v":""},{"$f":"IFERROR(VLOOKUP(Tabla38[[#This Row],[CODIGO municipio]],[3]!Tabla8[#All],9,FALSE),\"\")","v":""},{"$f":"IFERROR(VLOOKUP(Tabla38[[#This Row],[CODIGO municipio]],[3]!Tabla8[#All],10,FALSE),\"\")","v":""},{"$f":"IFERROR(VLOOKUP(Tabla38[[#This Row],[CODIGO municipio]],[3]!Tabla8[#All],11,FALSE),\"\")","v":""},{"$f":"IFERROR(VLOOKUP(Tabla38[[#This Row],[CODIGO municipio]],[3]!Tabla8[#All],12,FALSE),\"\")","v":""},{"$f":"IFERROR(VLOOKUP(Tabla38[[#This Row],[CODIGO municipio]],[3]!Tabla8[#All],13,FALSE),\"\")","v":""},{"$f":"IFERROR(VLOOKUP(Tabla38[[#This Row],[CODIGO municipio]],[3]!Tabla8[#All],14,FALSE),\"\")","v":""},{"$f":"IFERROR(VLOOKUP(Tabla38[[#This Row],[CODIGO municipio]],[3]!Tabla8[#All],15,FALSE),\"\")","v":""},{"$f":"IFERROR(VLOOKUP(Tabla38[[#This Row],[CODIGO municipio]],[3]!Tabla8[#All],16,FALSE),\"\")","v":""},{"$f":"IFERROR(VLOOKUP(Tabla38[[#This Row],[CODIGO municipio]],[3]!Tabla8[#All],17,FALSE),\"\")","v":""},{"$f":"IFERROR(VLOOKUP(Tabla38[[#This Row],[CODIGO municipio]],[3]!Tabla8[#All],18,FALSE),\"\")","v":""},{"$f":"IFERROR(VLOOKUP(Tabla38[[#This Row],[CODIGO municipio]],[3]!Tabla8[#All],19,FALSE),\"\")","v":""},{"$f":"IFERROR(VLOOKUP(Tabla38[[#This Row],[CODIGO municipio]],[3]!Tabla8[#All],20,FALSE),\"\")","v":""},{"$f":"IFERROR(VLOOKUP(Tabla38[[#This Row],[CODIGO municipio]],[3]!Tabla8[#All],21,FALSE),\"\")","v":""},{"$f":"IFERROR(VLOOKUP(Tabla38[[#This Row],[CODIGO municipio]],[3]!Tabla8[#All],22,FALSE),\"\")","v":""},{"$f":"IFERROR(VLOOKUP(Tabla38[[#This Row],[CODIGO municipio]],[3]!Tabla8[#All],23,FALSE),\"\")","v":""},{"$f":"IFERROR(VLOOKUP(Tabla38[[#This Row],[CODIGO municipio]],[3]!Tabla9[#All],3,FALSE),\"\")","v":""}]
[{"$f":"IFERROR(VLOOKUP(Tabla38[[#This Row],[Municipio]],[3]!Tabla2[#All],3,FALSE),\"\")","v":""},2010,"San Jacinto",{"$f":"IFERROR(VLOOKUP(Tabla38[[#This Row],[CODIGO municipio]],[3]!Tabla6[[#All],[codigo_mun]],1,FALSE),\"\")","v":""},{"$f":"IFERROR(VLOOKUP(Tabla38[[#This Row],[CODIGO municipio]],[3]!Tabla12[#All],2,FALSE),\"\")","v":""},{"$f":"IFERROR(VLOOKUP(Tabla38[[#This Row],[CODIGO municipio]],[3]!Tabla7[#All],3,FALSE),\"\")","v":""},{"$f":"IFERROR(VLOOKUP(Tabla38[[#This Row],[CODIGO municipio]],[3]!Tabla7[#All],4,FALSE),\"\")","v":""},{"$f":"IFERROR(VLOOKUP(Tabla38[[#This Row],[CODIGO municipio]],[3]!Tabla7[#All],11,FALSE),\"\")","v":""},{"$f":"IFERROR(VLOOKUP(Tabla38[[#This Row],[CODIGO municipio]],[3]!Tabla7[#All],12,FALSE),\"\")","v":""},{"$f":"IFERROR(VLOOKUP(Tabla38[[#This Row],[CODIGO municipio]],[3]!Tabla7[#All],13,FALSE),\"\")","v":""},{"$f":"IFERROR(VLOOKUP(Tabla38[[#This Row],[CODIGO municipio]],[3]!Tabla7[#All],14,FALSE),\"\")","v":""},{"$f":"IFERROR(VLOOKUP(Tabla38[[#This Row],[CODIGO municipio]],[3]!Tabla7[#All],15,FALSE),\"\")","v":""},{"$f":"IFERROR(VLOOKUP(Tabla38[[#This Row],[CODIGO municipio]],[3]!Tabla7[#All],16,FALSE),\"\")","v":""},{"$f":"IFERROR(VLOOKUP(Tabla38[[#This Row],[CODIGO municipio]],[3]!Tabla7[#All],17,FALSE),\"\")","v":""},{"$f":"IFERROR(VLOOKUP(Tabla38[[#This Row],[CODIGO municipio]],[3]!Tabla7[#All],18,FALSE),\"\")","v":""},{"$f":"IFERROR(VLOOKUP(Tabla38[[#This Row],[CODIGO municipio]],[3]!Tabla7[#All],19,FALSE),\"\")","v":""},{"$f":"IFERROR(VLOOKUP(Tabla38[[#This Row],[CODIGO municipio]],[3]!Tabla8[#All],3,FALSE),\"\")","v":""},{"$f":"IFERROR(VLOOKUP(Tabla38[[#This Row],[CODIGO municipio]],[3]!Tabla8[#All],4,FALSE),\"\")","v":""},{"$f":"IFERROR(VLOOKUP(Tabla38[[#This Row],[CODIGO municipio]],[3]!Tabla8[#All],5,FALSE),\"\")","v":""},{"$f":"IFERROR(VLOOKUP(Tabla38[[#This Row],[CODIGO municipio]],[3]!Tabla8[#All],6,FALSE),\"\")","v":""},{"$f":"IFERROR(VLOOKUP(Tabla38[[#This Row],[CODIGO municipio]],[3]!Tabla8[#All],7,FALSE),\"\")","v":""},{"$f":"IFERROR(VLOOKUP(Tabla38[[#This Row],[CODIGO municipio]],[3]!Tabla8[#All],8,FALSE),\"\")","v":""},{"$f":"IFERROR(VLOOKUP(Tabla38[[#This Row],[CODIGO municipio]],[3]!Tabla8[#All],9,FALSE),\"\")","v":""},{"$f":"IFERROR(VLOOKUP(Tabla38[[#This Row],[CODIGO municipio]],[3]!Tabla8[#All],10,FALSE),\"\")","v":""},{"$f":"IFERROR(VLOOKUP(Tabla38[[#This Row],[CODIGO municipio]],[3]!Tabla8[#All],11,FALSE),\"\")","v":""},{"$f":"IFERROR(VLOOKUP(Tabla38[[#This Row],[CODIGO municipio]],[3]!Tabla8[#All],12,FALSE),\"\")","v":""},{"$f":"IFERROR(VLOOKUP(Tabla38[[#This Row],[CODIGO municipio]],[3]!Tabla8[#All],13,FALSE),\"\")","v":""},{"$f":"IFERROR(VLOOKUP(Tabla38[[#This Row],[CODIGO municipio]],[3]!Tabla8[#All],14,FALSE),\"\")","v":""},{"$f":"IFERROR(VLOOKUP(Tabla38[[#This Row],[CODIGO municipio]],[3]!Tabla8[#All],15,FALSE),\"\")","v":""},{"$f":"IFERROR(VLOOKUP(Tabla38[[#This Row],[CODIGO municipio]],[3]!Tabla8[#All],16,FALSE),\"\")","v":""},{"$f":"IFERROR(VLOOKUP(Tabla38[[#This Row],[CODIGO municipio]],[3]!Tabla8[#All],17,FALSE),\"\")","v":""},{"$f":"IFERROR(VLOOKUP(Tabla38[[#This Row],[CODIGO municipio]],[3]!Tabla8[#All],18,FALSE),\"\")","v":""},{"$f":"IFERROR(VLOOKUP(Tabla38[[#This Row],[CODIGO municipio]],[3]!Tabla8[#All],19,FALSE),\"\")","v":""},{"$f":"IFERROR(VLOOKUP(Tabla38[[#This Row],[CODIGO municipio]],[3]!Tabla8[#All],20,FALSE),\"\")","v":""},{"$f":"IFERROR(VLOOKUP(Tabla38[[#This Row],[CODIGO municipio]],[3]!Tabla8[#All],21,FALSE),\"\")","v":""},{"$f":"IFERROR(VLOOKUP(Tabla38[[#This Row],[CODIGO municipio]],[3]!Tabla8[#All],22,FALSE),\"\")","v":""},{"$f":"IFERROR(VLOOKUP(Tabla38[[#This Row],[CODIGO municipio]],[3]!Tabla8[#All],23,FALSE),\"\")","v":""},{"$f":"IFERROR(VLOOKUP(Tabla38[[#This Row],[CODIGO municipio]],[3]!Tabla9[#All],3,FALSE),\"\")","v":""}]
[{"$f":"IFERROR(VLOOKUP(Tabla38[[#This Row],[Municipio]],[3]!Tabla2[#All],3,FALSE),\"\")","v":""},2011,"Ipala",{"$f":"IFERROR(VLOOKUP(Tabla38[[#This Row],[CODIGO municipio]],[3]!Tabla6[[#All],[codigo_mun]],1,FALSE),\"\")","v":""},{"$f":"IFERROR(VLOOKUP(Tabla38[[#This Row],[CODIGO municipio]],[3]!Tabla12[#All],2,FALSE),\"\")","v":""},{"$f":"IFERROR(VLOOKUP(Tabla38[[#This Row],[CODIGO municipio]],[3]!Tabla7[#All],3,FALSE),\"\")","v":""},{"$f":"IFERROR(VLOOKUP(Tabla38[[#This Row],[CODIGO municipio]],[3]!Tabla7[#All],4,FALSE),\"\")","v":""},{"$f":"IFERROR(VLOOKUP(Tabla38[[#This Row],[CODIGO municipio]],[3]!Tabla7[#All],11,FALSE),\"\")","v":""},{"$f":"IFERROR(VLOOKUP(Tabla38[[#This Row],[CODIGO municipio]],[3]!Tabla7[#All],12,FALSE),\"\")","v":""},{"$f":"IFERROR(VLOOKUP(Tabla38[[#This Row],[CODIGO municipio]],[3]!Tabla7[#All],13,FALSE),\"\")","v":""},{"$f":"IFERROR(VLOOKUP(Tabla38[[#This Row],[CODIGO municipio]],[3]!Tabla7[#All],14,FALSE),\"\")","v":""},{"$f":"IFERROR(VLOOKUP(Tabla38[[#This Row],[CODIGO municipio]],[3]!Tabla7[#All],15,FALSE),\"\")","v":""},{"$f":"IFERROR(VLOOKUP(Tabla38[[#This Row],[CODIGO municipio]],[3]!Tabla7[#All],16,FALSE),\"\")","v":""},{"$f":"IFERROR(VLOOKUP(Tabla38[[#This Row],[CODIGO municipio]],[3]!Tabla7[#All],17,FALSE),\"\")","v":""},{"$f":"IFERROR(VLOOKUP(Tabla38[[#This Row],[CODIGO municipio]],[3]!Tabla7[#All],18,FALSE),\"\")","v":""},{"$f":"IFERROR(VLOOKUP(Tabla38[[#This Row],[CODIGO municipio]],[3]!Tabla7[#All],19,FALSE),\"\")","v":""},{"$f":"IFERROR(VLOOKUP(Tabla38[[#This Row],[CODIGO municipio]],[3]!Tabla8[#All],3,FALSE),\"\")","v":""},{"$f":"IFERROR(VLOOKUP(Tabla38[[#This Row],[CODIGO municipio]],[3]!Tabla8[#All],4,FALSE),\"\")","v":""},{"$f":"IFERROR(VLOOKUP(Tabla38[[#This Row],[CODIGO municipio]],[3]!Tabla8[#All],5,FALSE),\"\")","v":""},{"$f":"IFERROR(VLOOKUP(Tabla38[[#This Row],[CODIGO municipio]],[3]!Tabla8[#All],6,FALSE),\"\")","v":""},{"$f":"IFERROR(VLOOKUP(Tabla38[[#This Row],[CODIGO municipio]],[3]!Tabla8[#All],7,FALSE),\"\")","v":""},{"$f":"IFERROR(VLOOKUP(Tabla38[[#This Row],[CODIGO municipio]],[3]!Tabla8[#All],8,FALSE),\"\")","v":""},{"$f":"IFERROR(VLOOKUP(Tabla38[[#This Row],[CODIGO municipio]],[3]!Tabla8[#All],9,FALSE),\"\")","v":""},{"$f":"IFERROR(VLOOKUP(Tabla38[[#This Row],[CODIGO municipio]],[3]!Tabla8[#All],10,FALSE),\"\")","v":""},{"$f":"IFERROR(VLOOKUP(Tabla38[[#This Row],[CODIGO municipio]],[3]!Tabla8[#All],11,FALSE),\"\")","v":""},{"$f":"IFERROR(VLOOKUP(Tabla38[[#This Row],[CODIGO municipio]],[3]!Tabla8[#All],12,FALSE),\"\")","v":""},{"$f":"IFERROR(VLOOKUP(Tabla38[[#This Row],[CODIGO municipio]],[3]!Tabla8[#All],13,FALSE),\"\")","v":""},{"$f":"IFERROR(VLOOKUP(Tabla38[[#This Row],[CODIGO municipio]],[3]!Tabla8[#All],14,FALSE),\"\")","v":""},{"$f":"IFERROR(VLOOKUP(Tabla38[[#This Row],[CODIGO municipio]],[3]!Tabla8[#All],15,FALSE),\"\")","v":""},{"$f":"IFERROR(VLOOKUP(Tabla38[[#This Row],[CODIGO municipio]],[3]!Tabla8[#All],16,FALSE),\"\")","v":""},{"$f":"IFERROR(VLOOKUP(Tabla38[[#This Row],[CODIGO municipio]],[3]!Tabla8[#All],17,FALSE),\"\")","v":""},{"$f":"IFERROR(VLOOKUP(Tabla38[[#This Row],[CODIGO municipio]],[3]!Tabla8[#All],18,FALSE),\"\")","v":""},{"$f":"IFERROR(VLOOKUP(Tabla38[[#This Row],[CODIGO municipio]],[3]!Tabla8[#All],19,FALSE),\"\")","v":""},{"$f":"IFERROR(VLOOKUP(Tabla38[[#This Row],[CODIGO municipio]],[3]!Tabla8[#All],20,FALSE),\"\")","v":""},{"$f":"IFERROR(VLOOKUP(Tabla38[[#This Row],[CODIGO municipio]],[3]!Tabla8[#All],21,FALSE),\"\")","v":""},{"$f":"IFERROR(VLOOKUP(Tabla38[[#This Row],[CODIGO municipio]],[3]!Tabla8[#All],22,FALSE),\"\")","v":""},{"$f":"IFERROR(VLOOKUP(Tabla38[[#This Row],[CODIGO municipio]],[3]!Tabla8[#All],23,FALSE),\"\")","v":""},{"$f":"IFERROR(VLOOKUP(Tabla38[[#This Row],[CODIGO municipio]],[3]!Tabla9[#All],3,FALSE),\"\")","v":""}]
[{"$f":"IFERROR(VLOOKUP(Tabla38[[#This Row],[Municipio]],[3]!Tabla2[#All],3,FALSE),\"\")","v":""},2101,"Jalapa",{"$f":"IFERROR(VLOOKUP(Tabla38[[#This Row],[CODIGO municipio]],[3]!Tabla6[[#All],[codigo_mun]],1,FALSE),\"\")","v":""},{"$f":"IFERROR(VLOOKUP(Tabla38[[#This Row],[CODIGO municipio]],[3]!Tabla12[#All],2,FALSE),\"\")","v":""},{"$f":"IFERROR(VLOOKUP(Tabla38[[#This Row],[CODIGO municipio]],[3]!Tabla7[#All],3,FALSE),\"\")","v":""},{"$f":"IFERROR(VLOOKUP(Tabla38[[#This Row],[CODIGO municipio]],[3]!Tabla7[#All],4,FALSE),\"\")","v":""},{"$f":"IFERROR(VLOOKUP(Tabla38[[#This Row],[CODIGO municipio]],[3]!Tabla7[#All],11,FALSE),\"\")","v":""},{"$f":"IFERROR(VLOOKUP(Tabla38[[#This Row],[CODIGO municipio]],[3]!Tabla7[#All],12,FALSE),\"\")","v":""},{"$f":"IFERROR(VLOOKUP(Tabla38[[#This Row],[CODIGO municipio]],[3]!Tabla7[#All],13,FALSE),\"\")","v":""},{"$f":"IFERROR(VLOOKUP(Tabla38[[#This Row],[CODIGO municipio]],[3]!Tabla7[#All],14,FALSE),\"\")","v":""},{"$f":"IFERROR(VLOOKUP(Tabla38[[#This Row],[CODIGO municipio]],[3]!Tabla7[#All],15,FALSE),\"\")","v":""},{"$f":"IFERROR(VLOOKUP(Tabla38[[#This Row],[CODIGO municipio]],[3]!Tabla7[#All],16,FALSE),\"\")","v":""},{"$f":"IFERROR(VLOOKUP(Tabla38[[#This Row],[CODIGO municipio]],[3]!Tabla7[#All],17,FALSE),\"\")","v":""},{"$f":"IFERROR(VLOOKUP(Tabla38[[#This Row],[CODIGO municipio]],[3]!Tabla7[#All],18,FALSE),\"\")","v":""},{"$f":"IFERROR(VLOOKUP(Tabla38[[#This Row],[CODIGO municipio]],[3]!Tabla7[#All],19,FALSE),\"\")","v":""},{"$f":"IFERROR(VLOOKUP(Tabla38[[#This Row],[CODIGO municipio]],[3]!Tabla8[#All],3,FALSE),\"\")","v":""},{"$f":"IFERROR(VLOOKUP(Tabla38[[#This Row],[CODIGO municipio]],[3]!Tabla8[#All],4,FALSE),\"\")","v":""},{"$f":"IFERROR(VLOOKUP(Tabla38[[#This Row],[CODIGO municipio]],[3]!Tabla8[#All],5,FALSE),\"\")","v":""},{"$f":"IFERROR(VLOOKUP(Tabla38[[#This Row],[CODIGO municipio]],[3]!Tabla8[#All],6,FALSE),\"\")","v":""},{"$f":"IFERROR(VLOOKUP(Tabla38[[#This Row],[CODIGO municipio]],[3]!Tabla8[#All],7,FALSE),\"\")","v":""},{"$f":"IFERROR(VLOOKUP(Tabla38[[#This Row],[CODIGO municipio]],[3]!Tabla8[#All],8,FALSE),\"\")","v":""},{"$f":"IFERROR(VLOOKUP(Tabla38[[#This Row],[CODIGO municipio]],[3]!Tabla8[#All],9,FALSE),\"\")","v":""},{"$f":"IFERROR(VLOOKUP(Tabla38[[#This Row],[CODIGO municipio]],[3]!Tabla8[#All],10,FALSE),\"\")","v":""},{"$f":"IFERROR(VLOOKUP(Tabla38[[#This Row],[CODIGO municipio]],[3]!Tabla8[#All],11,FALSE),\"\")","v":""},{"$f":"IFERROR(VLOOKUP(Tabla38[[#This Row],[CODIGO municipio]],[3]!Tabla8[#All],12,FALSE),\"\")","v":""},{"$f":"IFERROR(VLOOKUP(Tabla38[[#This Row],[CODIGO municipio]],[3]!Tabla8[#All],13,FALSE),\"\")","v":""},{"$f":"IFERROR(VLOOKUP(Tabla38[[#This Row],[CODIGO municipio]],[3]!Tabla8[#All],14,FALSE),\"\")","v":""},{"$f":"IFERROR(VLOOKUP(Tabla38[[#This Row],[CODIGO municipio]],[3]!Tabla8[#All],15,FALSE),\"\")","v":""},{"$f":"IFERROR(VLOOKUP(Tabla38[[#This Row],[CODIGO municipio]],[3]!Tabla8[#All],16,FALSE),\"\")","v":""},{"$f":"IFERROR(VLOOKUP(Tabla38[[#This Row],[CODIGO municipio]],[3]!Tabla8[#All],17,FALSE),\"\")","v":""},{"$f":"IFERROR(VLOOKUP(Tabla38[[#This Row],[CODIGO municipio]],[3]!Tabla8[#All],18,FALSE),\"\")","v":""},{"$f":"IFERROR(VLOOKUP(Tabla38[[#This Row],[CODIGO municipio]],[3]!Tabla8[#All],19,FALSE),\"\")","v":""},{"$f":"IFERROR(VLOOKUP(Tabla38[[#This Row],[CODIGO municipio]],[3]!Tabla8[#All],20,FALSE),\"\")","v":""},{"$f":"IFERROR(VLOOKUP(Tabla38[[#This Row],[CODIGO municipio]],[3]!Tabla8[#All],21,FALSE),\"\")","v":""},{"$f":"IFERROR(VLOOKUP(Tabla38[[#This Row],[CODIGO municipio]],[3]!Tabla8[#All],22,FALSE),\"\")","v":""},{"$f":"IFERROR(VLOOKUP(Tabla38[[#This Row],[CODIGO municipio]],[3]!Tabla8[#All],23,FALSE),\"\")","v":""},{"$f":"IFERROR(VLOOKUP(Tabla38[[#This Row],[CODIGO municipio]],[3]!Tabla9[#All],3,FALSE),\"\")","v":""}]
[{"$f":"IFERROR(VLOOKUP(Tabla38[[#This Row],[Municipio]],[3]!Tabla2[#All],3,FALSE),\"\")","v":""},2102,"San Pedro Pinula",{"$f":"IFERROR(VLOOKUP(Tabla38[[#This Row],[CODIGO municipio]],[3]!Tabla6[[#All],[codigo_mun]],1,FALSE),\"\")","v":""},{"$f":"IFERROR(VLOOKUP(Tabla38[[#This Row],[CODIGO municipio]],[3]!Tabla12[#All],2,FALSE),\"\")","v":""},{"$f":"IFERROR(VLOOKUP(Tabla38[[#This Row],[CODIGO municipio]],[3]!Tabla7[#All],3,FALSE),\"\")","v":""},{"$f":"IFERROR(VLOOKUP(Tabla38[[#This Row],[CODIGO municipio]],[3]!Tabla7[#All],4,FALSE),\"\")","v":""},{"$f":"IFERROR(VLOOKUP(Tabla38[[#This Row],[CODIGO municipio]],[3]!Tabla7[#All],11,FALSE),\"\")","v":""},{"$f":"IFERROR(VLOOKUP(Tabla38[[#This Row],[CODIGO municipio]],[3]!Tabla7[#All],12,FALSE),\"\")","v":""},{"$f":"IFERROR(VLOOKUP(Tabla38[[#This Row],[CODIGO municipio]],[3]!Tabla7[#All],13,FALSE),\"\")","v":""},{"$f":"IFERROR(VLOOKUP(Tabla38[[#This Row],[CODIGO municipio]],[3]!Tabla7[#All],14,FALSE),\"\")","v":""},{"$f":"IFERROR(VLOOKUP(Tabla38[[#This Row],[CODIGO municipio]],[3]!Tabla7[#All],15,FALSE),\"\")","v":""},{"$f":"IFERROR(VLOOKUP(Tabla38[[#This Row],[CODIGO municipio]],[3]!Tabla7[#All],16,FALSE),\"\")","v":""},{"$f":"IFERROR(VLOOKUP(Tabla38[[#This Row],[CODIGO municipio]],[3]!Tabla7[#All],17,FALSE),\"\")","v":""},{"$f":"IFERROR(VLOOKUP(Tabla38[[#This Row],[CODIGO municipio]],[3]!Tabla7[#All],18,FALSE),\"\")","v":""},{"$f":"IFERROR(VLOOKUP(Tabla38[[#This Row],[CODIGO municipio]],[3]!Tabla7[#All],19,FALSE),\"\")","v":""},{"$f":"IFERROR(VLOOKUP(Tabla38[[#This Row],[CODIGO municipio]],[3]!Tabla8[#All],3,FALSE),\"\")","v":""},{"$f":"IFERROR(VLOOKUP(Tabla38[[#This Row],[CODIGO municipio]],[3]!Tabla8[#All],4,FALSE),\"\")","v":""},{"$f":"IFERROR(VLOOKUP(Tabla38[[#This Row],[CODIGO municipio]],[3]!Tabla8[#All],5,FALSE),\"\")","v":""},{"$f":"IFERROR(VLOOKUP(Tabla38[[#This Row],[CODIGO municipio]],[3]!Tabla8[#All],6,FALSE),\"\")","v":""},{"$f":"IFERROR(VLOOKUP(Tabla38[[#This Row],[CODIGO municipio]],[3]!Tabla8[#All],7,FALSE),\"\")","v":""},{"$f":"IFERROR(VLOOKUP(Tabla38[[#This Row],[CODIGO municipio]],[3]!Tabla8[#All],8,FALSE),\"\")","v":""},{"$f":"IFERROR(VLOOKUP(Tabla38[[#This Row],[CODIGO municipio]],[3]!Tabla8[#All],9,FALSE),\"\")","v":""},{"$f":"IFERROR(VLOOKUP(Tabla38[[#This Row],[CODIGO municipio]],[3]!Tabla8[#All],10,FALSE),\"\")","v":""},{"$f":"IFERROR(VLOOKUP(Tabla38[[#This Row],[CODIGO municipio]],[3]!Tabla8[#All],11,FALSE),\"\")","v":""},{"$f":"IFERROR(VLOOKUP(Tabla38[[#This Row],[CODIGO municipio]],[3]!Tabla8[#All],12,FALSE),\"\")","v":""},{"$f":"IFERROR(VLOOKUP(Tabla38[[#This Row],[CODIGO municipio]],[3]!Tabla8[#All],13,FALSE),\"\")","v":""},{"$f":"IFERROR(VLOOKUP(Tabla38[[#This Row],[CODIGO municipio]],[3]!Tabla8[#All],14,FALSE),\"\")","v":""},{"$f":"IFERROR(VLOOKUP(Tabla38[[#This Row],[CODIGO municipio]],[3]!Tabla8[#All],15,FALSE),\"\")","v":""},{"$f":"IFERROR(VLOOKUP(Tabla38[[#This Row],[CODIGO municipio]],[3]!Tabla8[#All],16,FALSE),\"\")","v":""},{"$f":"IFERROR(VLOOKUP(Tabla38[[#This Row],[CODIGO municipio]],[3]!Tabla8[#All],17,FALSE),\"\")","v":""},{"$f":"IFERROR(VLOOKUP(Tabla38[[#This Row],[CODIGO municipio]],[3]!Tabla8[#All],18,FALSE),\"\")","v":""},{"$f":"IFERROR(VLOOKUP(Tabla38[[#This Row],[CODIGO municipio]],[3]!Tabla8[#All],19,FALSE),\"\")","v":""},{"$f":"IFERROR(VLOOKUP(Tabla38[[#This Row],[CODIGO municipio]],[3]!Tabla8[#All],20,FALSE),\"\")","v":""},{"$f":"IFERROR(VLOOKUP(Tabla38[[#This Row],[CODIGO municipio]],[3]!Tabla8[#All],21,FALSE),\"\")","v":""},{"$f":"IFERROR(VLOOKUP(Tabla38[[#This Row],[CODIGO municipio]],[3]!Tabla8[#All],22,FALSE),\"\")","v":""},{"$f":"IFERROR(VLOOKUP(Tabla38[[#This Row],[CODIGO municipio]],[3]!Tabla8[#All],23,FALSE),\"\")","v":""},{"$f":"IFERROR(VLOOKUP(Tabla38[[#This Row],[CODIGO municipio]],[3]!Tabla9[#All],3,FALSE),\"\")","v":""}]
[{"$f":"IFERROR(VLOOKUP(Tabla38[[#This Row],[Municipio]],[3]!Tabla2[#All],3,FALSE),\"\")","v":""},2103,"San Luis Jilotepeque",{"$f":"IFERROR(VLOOKUP(Tabla38[[#This Row],[CODIGO municipio]],[3]!Tabla6[[#All],[codigo_mun]],1,FALSE),\"\")","v":""},{"$f":"IFERROR(VLOOKUP(Tabla38[[#This Row],[CODIGO municipio]],[3]!Tabla12[#All],2,FALSE),\"\")","v":""},{"$f":"IFERROR(VLOOKUP(Tabla38[[#This Row],[CODIGO municipio]],[3]!Tabla7[#All],3,FALSE),\"\")","v":""},{"$f":"IFERROR(VLOOKUP(Tabla38[[#This Row],[CODIGO municipio]],[3]!Tabla7[#All],4,FALSE),\"\")","v":""},{"$f":"IFERROR(VLOOKUP(Tabla38[[#This Row],[CODIGO municipio]],[3]!Tabla7[#All],11,FALSE),\"\")","v":""},{"$f":"IFERROR(VLOOKUP(Tabla38[[#This Row],[CODIGO municipio]],[3]!Tabla7[#All],12,FALSE),\"\")","v":""},{"$f":"IFERROR(VLOOKUP(Tabla38[[#This Row],[CODIGO municipio]],[3]!Tabla7[#All],13,FALSE),\"\")","v":""},{"$f":"IFERROR(VLOOKUP(Tabla38[[#This Row],[CODIGO municipio]],[3]!Tabla7[#All],14,FALSE),\"\")","v":""},{"$f":"IFERROR(VLOOKUP(Tabla38[[#This Row],[CODIGO municipio]],[3]!Tabla7[#All],15,FALSE),\"\")","v":""},{"$f":"IFERROR(VLOOKUP(Tabla38[[#This Row],[CODIGO municipio]],[3]!Tabla7[#All],16,FALSE),\"\")","v":""},{"$f":"IFERROR(VLOOKUP(Tabla38[[#This Row],[CODIGO municipio]],[3]!Tabla7[#All],17,FALSE),\"\")","v":""},{"$f":"IFERROR(VLOOKUP(Tabla38[[#This Row],[CODIGO municipio]],[3]!Tabla7[#All],18,FALSE),\"\")","v":""},{"$f":"IFERROR(VLOOKUP(Tabla38[[#This Row],[CODIGO municipio]],[3]!Tabla7[#All],19,FALSE),\"\")","v":""},{"$f":"IFERROR(VLOOKUP(Tabla38[[#This Row],[CODIGO municipio]],[3]!Tabla8[#All],3,FALSE),\"\")","v":""},{"$f":"IFERROR(VLOOKUP(Tabla38[[#This Row],[CODIGO municipio]],[3]!Tabla8[#All],4,FALSE),\"\")","v":""},{"$f":"IFERROR(VLOOKUP(Tabla38[[#This Row],[CODIGO municipio]],[3]!Tabla8[#All],5,FALSE),\"\")","v":""},{"$f":"IFERROR(VLOOKUP(Tabla38[[#This Row],[CODIGO municipio]],[3]!Tabla8[#All],6,FALSE),\"\")","v":""},{"$f":"IFERROR(VLOOKUP(Tabla38[[#This Row],[CODIGO municipio]],[3]!Tabla8[#All],7,FALSE),\"\")","v":""},{"$f":"IFERROR(VLOOKUP(Tabla38[[#This Row],[CODIGO municipio]],[3]!Tabla8[#All],8,FALSE),\"\")","v":""},{"$f":"IFERROR(VLOOKUP(Tabla38[[#This Row],[CODIGO municipio]],[3]!Tabla8[#All],9,FALSE),\"\")","v":""},{"$f":"IFERROR(VLOOKUP(Tabla38[[#This Row],[CODIGO municipio]],[3]!Tabla8[#All],10,FALSE),\"\")","v":""},{"$f":"IFERROR(VLOOKUP(Tabla38[[#This Row],[CODIGO municipio]],[3]!Tabla8[#All],11,FALSE),\"\")","v":""},{"$f":"IFERROR(VLOOKUP(Tabla38[[#This Row],[CODIGO municipio]],[3]!Tabla8[#All],12,FALSE),\"\")","v":""},{"$f":"IFERROR(VLOOKUP(Tabla38[[#This Row],[CODIGO municipio]],[3]!Tabla8[#All],13,FALSE),\"\")","v":""},{"$f":"IFERROR(VLOOKUP(Tabla38[[#This Row],[CODIGO municipio]],[3]!Tabla8[#All],14,FALSE),\"\")","v":""},{"$f":"IFERROR(VLOOKUP(Tabla38[[#This Row],[CODIGO municipio]],[3]!Tabla8[#All],15,FALSE),\"\")","v":""},{"$f":"IFERROR(VLOOKUP(Tabla38[[#This Row],[CODIGO municipio]],[3]!Tabla8[#All],16,FALSE),\"\")","v":""},{"$f":"IFERROR(VLOOKUP(Tabla38[[#This Row],[CODIGO municipio]],[3]!Tabla8[#All],17,FALSE),\"\")","v":""},{"$f":"IFERROR(VLOOKUP(Tabla38[[#This Row],[CODIGO municipio]],[3]!Tabla8[#All],18,FALSE),\"\")","v":""},{"$f":"IFERROR(VLOOKUP(Tabla38[[#This Row],[CODIGO municipio]],[3]!Tabla8[#All],19,FALSE),\"\")","v":""},{"$f":"IFERROR(VLOOKUP(Tabla38[[#This Row],[CODIGO municipio]],[3]!Tabla8[#All],20,FALSE),\"\")","v":""},{"$f":"IFERROR(VLOOKUP(Tabla38[[#This Row],[CODIGO municipio]],[3]!Tabla8[#All],21,FALSE),\"\")","v":""},{"$f":"IFERROR(VLOOKUP(Tabla38[[#This Row],[CODIGO municipio]],[3]!Tabla8[#All],22,FALSE),\"\")","v":""},{"$f":"IFERROR(VLOOKUP(Tabla38[[#This Row],[CODIGO municipio]],[3]!Tabla8[#All],23,FALSE),\"\")","v":""},{"$f":"IFERROR(VLOOKUP(Tabla38[[#This Row],[CODIGO municipio]],[3]!Tabla9[#All],3,FALSE),\"\")","v":""}]
[{"$f":"IFERROR(VLOOKUP(Tabla38[[#This Row],[Municipio]],[3]!Tabla2[#All],3,FALSE),\"\")","v":""},2104,"San Manuel Chaparrón",{"$f":"IFERROR(VLOOKUP(Tabla38[[#This Row],[CODIGO municipio]],[3]!Tabla6[[#All],[codigo_mun]],1,FALSE),\"\")","v":""},{"$f":"IFERROR(VLOOKUP(Tabla38[[#This Row],[CODIGO municipio]],[3]!Tabla12[#All],2,FALSE),\"\")","v":""},{"$f":"IFERROR(VLOOKUP(Tabla38[[#This Row],[CODIGO municipio]],[3]!Tabla7[#All],3,FALSE),\"\")","v":""},{"$f":"IFERROR(VLOOKUP(Tabla38[[#This Row],[CODIGO municipio]],[3]!Tabla7[#All],4,FALSE),\"\")","v":""},{"$f":"IFERROR(VLOOKUP(Tabla38[[#This Row],[CODIGO municipio]],[3]!Tabla7[#All],11,FALSE),\"\")","v":""},{"$f":"IFERROR(VLOOKUP(Tabla38[[#This Row],[CODIGO municipio]],[3]!Tabla7[#All],12,FALSE),\"\")","v":""},{"$f":"IFERROR(VLOOKUP(Tabla38[[#This Row],[CODIGO municipio]],[3]!Tabla7[#All],13,FALSE),\"\")","v":""},{"$f":"IFERROR(VLOOKUP(Tabla38[[#This Row],[CODIGO municipio]],[3]!Tabla7[#All],14,FALSE),\"\")","v":""},{"$f":"IFERROR(VLOOKUP(Tabla38[[#This Row],[CODIGO municipio]],[3]!Tabla7[#All],15,FALSE),\"\")","v":""},{"$f":"IFERROR(VLOOKUP(Tabla38[[#This Row],[CODIGO municipio]],[3]!Tabla7[#All],16,FALSE),\"\")","v":""},{"$f":"IFERROR(VLOOKUP(Tabla38[[#This Row],[CODIGO municipio]],[3]!Tabla7[#All],17,FALSE),\"\")","v":""},{"$f":"IFERROR(VLOOKUP(Tabla38[[#This Row],[CODIGO municipio]],[3]!Tabla7[#All],18,FALSE),\"\")","v":""},{"$f":"IFERROR(VLOOKUP(Tabla38[[#This Row],[CODIGO municipio]],[3]!Tabla7[#All],19,FALSE),\"\")","v":""},{"$f":"IFERROR(VLOOKUP(Tabla38[[#This Row],[CODIGO municipio]],[3]!Tabla8[#All],3,FALSE),\"\")","v":""},{"$f":"IFERROR(VLOOKUP(Tabla38[[#This Row],[CODIGO municipio]],[3]!Tabla8[#All],4,FALSE),\"\")","v":""},{"$f":"IFERROR(VLOOKUP(Tabla38[[#This Row],[CODIGO municipio]],[3]!Tabla8[#All],5,FALSE),\"\")","v":""},{"$f":"IFERROR(VLOOKUP(Tabla38[[#This Row],[CODIGO municipio]],[3]!Tabla8[#All],6,FALSE),\"\")","v":""},{"$f":"IFERROR(VLOOKUP(Tabla38[[#This Row],[CODIGO municipio]],[3]!Tabla8[#All],7,FALSE),\"\")","v":""},{"$f":"IFERROR(VLOOKUP(Tabla38[[#This Row],[CODIGO municipio]],[3]!Tabla8[#All],8,FALSE),\"\")","v":""},{"$f":"IFERROR(VLOOKUP(Tabla38[[#This Row],[CODIGO municipio]],[3]!Tabla8[#All],9,FALSE),\"\")","v":""},{"$f":"IFERROR(VLOOKUP(Tabla38[[#This Row],[CODIGO municipio]],[3]!Tabla8[#All],10,FALSE),\"\")","v":""},{"$f":"IFERROR(VLOOKUP(Tabla38[[#This Row],[CODIGO municipio]],[3]!Tabla8[#All],11,FALSE),\"\")","v":""},{"$f":"IFERROR(VLOOKUP(Tabla38[[#This Row],[CODIGO municipio]],[3]!Tabla8[#All],12,FALSE),\"\")","v":""},{"$f":"IFERROR(VLOOKUP(Tabla38[[#This Row],[CODIGO municipio]],[3]!Tabla8[#All],13,FALSE),\"\")","v":""},{"$f":"IFERROR(VLOOKUP(Tabla38[[#This Row],[CODIGO municipio]],[3]!Tabla8[#All],14,FALSE),\"\")","v":""},{"$f":"IFERROR(VLOOKUP(Tabla38[[#This Row],[CODIGO municipio]],[3]!Tabla8[#All],15,FALSE),\"\")","v":""},{"$f":"IFERROR(VLOOKUP(Tabla38[[#This Row],[CODIGO municipio]],[3]!Tabla8[#All],16,FALSE),\"\")","v":""},{"$f":"IFERROR(VLOOKUP(Tabla38[[#This Row],[CODIGO municipio]],[3]!Tabla8[#All],17,FALSE),\"\")","v":""},{"$f":"IFERROR(VLOOKUP(Tabla38[[#This Row],[CODIGO municipio]],[3]!Tabla8[#All],18,FALSE),\"\")","v":""},{"$f":"IFERROR(VLOOKUP(Tabla38[[#This Row],[CODIGO municipio]],[3]!Tabla8[#All],19,FALSE),\"\")","v":""},{"$f":"IFERROR(VLOOKUP(Tabla38[[#This Row],[CODIGO municipio]],[3]!Tabla8[#All],20,FALSE),\"\")","v":""},{"$f":"IFERROR(VLOOKUP(Tabla38[[#This Row],[CODIGO municipio]],[3]!Tabla8[#All],21,FALSE),\"\")","v":""},{"$f":"IFERROR(VLOOKUP(Tabla38[[#This Row],[CODIGO municipio]],[3]!Tabla8[#All],22,FALSE),\"\")","v":""},{"$f":"IFERROR(VLOOKUP(Tabla38[[#This Row],[CODIGO municipio]],[3]!Tabla8[#All],23,FALSE),\"\")","v":""},{"$f":"IFERROR(VLOOKUP(Tabla38[[#This Row],[CODIGO municipio]],[3]!Tabla9[#All],3,FALSE),\"\")","v":""}]
[{"$f":"IFERROR(VLOOKUP(Tabla38[[#This Row],[Municipio]],[3]!Tabla2[#All],3,FALSE),\"\")","v":""},2105,"San Carlos Alzatate",{"$f":"IFERROR(VLOOKUP(Tabla38[[#This Row],[CODIGO municipio]],[3]!Tabla6[[#All],[codigo_mun]],1,FALSE),\"\")","v":""},{"$f":"IFERROR(VLOOKUP(Tabla38[[#This Row],[CODIGO municipio]],[3]!Tabla12[#All],2,FALSE),\"\")","v":""},{"$f":"IFERROR(VLOOKUP(Tabla38[[#This Row],[CODIGO municipio]],[3]!Tabla7[#All],3,FALSE),\"\")","v":""},{"$f":"IFERROR(VLOOKUP(Tabla38[[#This Row],[CODIGO municipio]],[3]!Tabla7[#All],4,FALSE),\"\")","v":""},{"$f":"IFERROR(VLOOKUP(Tabla38[[#This Row],[CODIGO municipio]],[3]!Tabla7[#All],11,FALSE),\"\")","v":""},{"$f":"IFERROR(VLOOKUP(Tabla38[[#This Row],[CODIGO municipio]],[3]!Tabla7[#All],12,FALSE),\"\")","v":""},{"$f":"IFERROR(VLOOKUP(Tabla38[[#This Row],[CODIGO municipio]],[3]!Tabla7[#All],13,FALSE),\"\")","v":""},{"$f":"IFERROR(VLOOKUP(Tabla38[[#This Row],[CODIGO municipio]],[3]!Tabla7[#All],14,FALSE),\"\")","v":""},{"$f":"IFERROR(VLOOKUP(Tabla38[[#This Row],[CODIGO municipio]],[3]!Tabla7[#All],15,FALSE),\"\")","v":""},{"$f":"IFERROR(VLOOKUP(Tabla38[[#This Row],[CODIGO municipio]],[3]!Tabla7[#All],16,FALSE),\"\")","v":""},{"$f":"IFERROR(VLOOKUP(Tabla38[[#This Row],[CODIGO municipio]],[3]!Tabla7[#All],17,FALSE),\"\")","v":""},{"$f":"IFERROR(VLOOKUP(Tabla38[[#This Row],[CODIGO municipio]],[3]!Tabla7[#All],18,FALSE),\"\")","v":""},{"$f":"IFERROR(VLOOKUP(Tabla38[[#This Row],[CODIGO municipio]],[3]!Tabla7[#All],19,FALSE),\"\")","v":""},{"$f":"IFERROR(VLOOKUP(Tabla38[[#This Row],[CODIGO municipio]],[3]!Tabla8[#All],3,FALSE),\"\")","v":""},{"$f":"IFERROR(VLOOKUP(Tabla38[[#This Row],[CODIGO municipio]],[3]!Tabla8[#All],4,FALSE),\"\")","v":""},{"$f":"IFERROR(VLOOKUP(Tabla38[[#This Row],[CODIGO municipio]],[3]!Tabla8[#All],5,FALSE),\"\")","v":""},{"$f":"IFERROR(VLOOKUP(Tabla38[[#This Row],[CODIGO municipio]],[3]!Tabla8[#All],6,FALSE),\"\")","v":""},{"$f":"IFERROR(VLOOKUP(Tabla38[[#This Row],[CODIGO municipio]],[3]!Tabla8[#All],7,FALSE),\"\")","v":""},{"$f":"IFERROR(VLOOKUP(Tabla38[[#This Row],[CODIGO municipio]],[3]!Tabla8[#All],8,FALSE),\"\")","v":""},{"$f":"IFERROR(VLOOKUP(Tabla38[[#This Row],[CODIGO municipio]],[3]!Tabla8[#All],9,FALSE),\"\")","v":""},{"$f":"IFERROR(VLOOKUP(Tabla38[[#This Row],[CODIGO municipio]],[3]!Tabla8[#All],10,FALSE),\"\")","v":""},{"$f":"IFERROR(VLOOKUP(Tabla38[[#This Row],[CODIGO municipio]],[3]!Tabla8[#All],11,FALSE),\"\")","v":""},{"$f":"IFERROR(VLOOKUP(Tabla38[[#This Row],[CODIGO municipio]],[3]!Tabla8[#All],12,FALSE),\"\")","v":""},{"$f":"IFERROR(VLOOKUP(Tabla38[[#This Row],[CODIGO municipio]],[3]!Tabla8[#All],13,FALSE),\"\")","v":""},{"$f":"IFERROR(VLOOKUP(Tabla38[[#This Row],[CODIGO municipio]],[3]!Tabla8[#All],14,FALSE),\"\")","v":""},{"$f":"IFERROR(VLOOKUP(Tabla38[[#This Row],[CODIGO municipio]],[3]!Tabla8[#All],15,FALSE),\"\")","v":""},{"$f":"IFERROR(VLOOKUP(Tabla38[[#This Row],[CODIGO municipio]],[3]!Tabla8[#All],16,FALSE),\"\")","v":""},{"$f":"IFERROR(VLOOKUP(Tabla38[[#This Row],[CODIGO municipio]],[3]!Tabla8[#All],17,FALSE),\"\")","v":""},{"$f":"IFERROR(VLOOKUP(Tabla38[[#This Row],[CODIGO municipio]],[3]!Tabla8[#All],18,FALSE),\"\")","v":""},{"$f":"IFERROR(VLOOKUP(Tabla38[[#This Row],[CODIGO municipio]],[3]!Tabla8[#All],19,FALSE),\"\")","v":""},{"$f":"IFERROR(VLOOKUP(Tabla38[[#This Row],[CODIGO municipio]],[3]!Tabla8[#All],20,FALSE),\"\")","v":""},{"$f":"IFERROR(VLOOKUP(Tabla38[[#This Row],[CODIGO municipio]],[3]!Tabla8[#All],21,FALSE),\"\")","v":""},{"$f":"IFERROR(VLOOKUP(Tabla38[[#This Row],[CODIGO municipio]],[3]!Tabla8[#All],22,FALSE),\"\")","v":""},{"$f":"IFERROR(VLOOKUP(Tabla38[[#This Row],[CODIGO municipio]],[3]!Tabla8[#All],23,FALSE),\"\")","v":""},{"$f":"IFERROR(VLOOKUP(Tabla38[[#This Row],[CODIGO municipio]],[3]!Tabla9[#All],3,FALSE),\"\")","v":""}]
[{"$f":"IFERROR(VLOOKUP(Tabla38[[#This Row],[Municipio]],[3]!Tabla2[#All],3,FALSE),\"\")","v":""},2106,"Monjas",{"$f":"IFERROR(VLOOKUP(Tabla38[[#This Row],[CODIGO municipio]],[3]!Tabla6[[#All],[codigo_mun]],1,FALSE),\"\")","v":""},{"$f":"IFERROR(VLOOKUP(Tabla38[[#This Row],[CODIGO municipio]],[3]!Tabla12[#All],2,FALSE),\"\")","v":""},{"$f":"IFERROR(VLOOKUP(Tabla38[[#This Row],[CODIGO municipio]],[3]!Tabla7[#All],3,FALSE),\"\")","v":""},{"$f":"IFERROR(VLOOKUP(Tabla38[[#This Row],[CODIGO municipio]],[3]!Tabla7[#All],4,FALSE),\"\")","v":""},{"$f":"IFERROR(VLOOKUP(Tabla38[[#This Row],[CODIGO municipio]],[3]!Tabla7[#All],11,FALSE),\"\")","v":""},{"$f":"IFERROR(VLOOKUP(Tabla38[[#This Row],[CODIGO municipio]],[3]!Tabla7[#All],12,FALSE),\"\")","v":""},{"$f":"IFERROR(VLOOKUP(Tabla38[[#This Row],[CODIGO municipio]],[3]!Tabla7[#All],13,FALSE),\"\")","v":""},{"$f":"IFERROR(VLOOKUP(Tabla38[[#This Row],[CODIGO municipio]],[3]!Tabla7[#All],14,FALSE),\"\")","v":""},{"$f":"IFERROR(VLOOKUP(Tabla38[[#This Row],[CODIGO municipio]],[3]!Tabla7[#All],15,FALSE),\"\")","v":""},{"$f":"IFERROR(VLOOKUP(Tabla38[[#This Row],[CODIGO municipio]],[3]!Tabla7[#All],16,FALSE),\"\")","v":""},{"$f":"IFERROR(VLOOKUP(Tabla38[[#This Row],[CODIGO municipio]],[3]!Tabla7[#All],17,FALSE),\"\")","v":""},{"$f":"IFERROR(VLOOKUP(Tabla38[[#This Row],[CODIGO municipio]],[3]!Tabla7[#All],18,FALSE),\"\")","v":""},{"$f":"IFERROR(VLOOKUP(Tabla38[[#This Row],[CODIGO municipio]],[3]!Tabla7[#All],19,FALSE),\"\")","v":""},{"$f":"IFERROR(VLOOKUP(Tabla38[[#This Row],[CODIGO municipio]],[3]!Tabla8[#All],3,FALSE),\"\")","v":""},{"$f":"IFERROR(VLOOKUP(Tabla38[[#This Row],[CODIGO municipio]],[3]!Tabla8[#All],4,FALSE),\"\")","v":""},{"$f":"IFERROR(VLOOKUP(Tabla38[[#This Row],[CODIGO municipio]],[3]!Tabla8[#All],5,FALSE),\"\")","v":""},{"$f":"IFERROR(VLOOKUP(Tabla38[[#This Row],[CODIGO municipio]],[3]!Tabla8[#All],6,FALSE),\"\")","v":""},{"$f":"IFERROR(VLOOKUP(Tabla38[[#This Row],[CODIGO municipio]],[3]!Tabla8[#All],7,FALSE),\"\")","v":""},{"$f":"IFERROR(VLOOKUP(Tabla38[[#This Row],[CODIGO municipio]],[3]!Tabla8[#All],8,FALSE),\"\")","v":""},{"$f":"IFERROR(VLOOKUP(Tabla38[[#This Row],[CODIGO municipio]],[3]!Tabla8[#All],9,FALSE),\"\")","v":""},{"$f":"IFERROR(VLOOKUP(Tabla38[[#This Row],[CODIGO municipio]],[3]!Tabla8[#All],10,FALSE),\"\")","v":""},{"$f":"IFERROR(VLOOKUP(Tabla38[[#This Row],[CODIGO municipio]],[3]!Tabla8[#All],11,FALSE),\"\")","v":""},{"$f":"IFERROR(VLOOKUP(Tabla38[[#This Row],[CODIGO municipio]],[3]!Tabla8[#All],12,FALSE),\"\")","v":""},{"$f":"IFERROR(VLOOKUP(Tabla38[[#This Row],[CODIGO municipio]],[3]!Tabla8[#All],13,FALSE),\"\")","v":""},{"$f":"IFERROR(VLOOKUP(Tabla38[[#This Row],[CODIGO municipio]],[3]!Tabla8[#All],14,FALSE),\"\")","v":""},{"$f":"IFERROR(VLOOKUP(Tabla38[[#This Row],[CODIGO municipio]],[3]!Tabla8[#All],15,FALSE),\"\")","v":""},{"$f":"IFERROR(VLOOKUP(Tabla38[[#This Row],[CODIGO municipio]],[3]!Tabla8[#All],16,FALSE),\"\")","v":""},{"$f":"IFERROR(VLOOKUP(Tabla38[[#This Row],[CODIGO municipio]],[3]!Tabla8[#All],17,FALSE),\"\")","v":""},{"$f":"IFERROR(VLOOKUP(Tabla38[[#This Row],[CODIGO municipio]],[3]!Tabla8[#All],18,FALSE),\"\")","v":""},{"$f":"IFERROR(VLOOKUP(Tabla38[[#This Row],[CODIGO municipio]],[3]!Tabla8[#All],19,FALSE),\"\")","v":""},{"$f":"IFERROR(VLOOKUP(Tabla38[[#This Row],[CODIGO municipio]],[3]!Tabla8[#All],20,FALSE),\"\")","v":""},{"$f":"IFERROR(VLOOKUP(Tabla38[[#This Row],[CODIGO municipio]],[3]!Tabla8[#All],21,FALSE),\"\")","v":""},{"$f":"IFERROR(VLOOKUP(Tabla38[[#This Row],[CODIGO municipio]],[3]!Tabla8[#All],22,FALSE),\"\")","v":""},{"$f":"IFERROR(VLOOKUP(Tabla38[[#This Row],[CODIGO municipio]],[3]!Tabla8[#All],23,FALSE),\"\")","v":""},{"$f":"IFERROR(VLOOKUP(Tabla38[[#This Row],[CODIGO municipio]],[3]!Tabla9[#All],3,FALSE),\"\")","v":""}]
[{"$f":"IFERROR(VLOOKUP(Tabla38[[#This Row],[Municipio]],[3]!Tabla2[#All],3,FALSE),\"\")","v":""},2107,"Mataquescuintla",{"$f":"IFERROR(VLOOKUP(Tabla38[[#This Row],[CODIGO municipio]],[3]!Tabla6[[#All],[codigo_mun]],1,FALSE),\"\")","v":""},{"$f":"IFERROR(VLOOKUP(Tabla38[[#This Row],[CODIGO municipio]],[3]!Tabla12[#All],2,FALSE),\"\")","v":""},{"$f":"IFERROR(VLOOKUP(Tabla38[[#This Row],[CODIGO municipio]],[3]!Tabla7[#All],3,FALSE),\"\")","v":""},{"$f":"IFERROR(VLOOKUP(Tabla38[[#This Row],[CODIGO municipio]],[3]!Tabla7[#All],4,FALSE),\"\")","v":""},{"$f":"IFERROR(VLOOKUP(Tabla38[[#This Row],[CODIGO municipio]],[3]!Tabla7[#All],11,FALSE),\"\")","v":""},{"$f":"IFERROR(VLOOKUP(Tabla38[[#This Row],[CODIGO municipio]],[3]!Tabla7[#All],12,FALSE),\"\")","v":""},{"$f":"IFERROR(VLOOKUP(Tabla38[[#This Row],[CODIGO municipio]],[3]!Tabla7[#All],13,FALSE),\"\")","v":""},{"$f":"IFERROR(VLOOKUP(Tabla38[[#This Row],[CODIGO municipio]],[3]!Tabla7[#All],14,FALSE),\"\")","v":""},{"$f":"IFERROR(VLOOKUP(Tabla38[[#This Row],[CODIGO municipio]],[3]!Tabla7[#All],15,FALSE),\"\")","v":""},{"$f":"IFERROR(VLOOKUP(Tabla38[[#This Row],[CODIGO municipio]],[3]!Tabla7[#All],16,FALSE),\"\")","v":""},{"$f":"IFERROR(VLOOKUP(Tabla38[[#This Row],[CODIGO municipio]],[3]!Tabla7[#All],17,FALSE),\"\")","v":""},{"$f":"IFERROR(VLOOKUP(Tabla38[[#This Row],[CODIGO municipio]],[3]!Tabla7[#All],18,FALSE),\"\")","v":""},{"$f":"IFERROR(VLOOKUP(Tabla38[[#This Row],[CODIGO municipio]],[3]!Tabla7[#All],19,FALSE),\"\")","v":""},{"$f":"IFERROR(VLOOKUP(Tabla38[[#This Row],[CODIGO municipio]],[3]!Tabla8[#All],3,FALSE),\"\")","v":""},{"$f":"IFERROR(VLOOKUP(Tabla38[[#This Row],[CODIGO municipio]],[3]!Tabla8[#All],4,FALSE),\"\")","v":""},{"$f":"IFERROR(VLOOKUP(Tabla38[[#This Row],[CODIGO municipio]],[3]!Tabla8[#All],5,FALSE),\"\")","v":""},{"$f":"IFERROR(VLOOKUP(Tabla38[[#This Row],[CODIGO municipio]],[3]!Tabla8[#All],6,FALSE),\"\")","v":""},{"$f":"IFERROR(VLOOKUP(Tabla38[[#This Row],[CODIGO municipio]],[3]!Tabla8[#All],7,FALSE),\"\")","v":""},{"$f":"IFERROR(VLOOKUP(Tabla38[[#This Row],[CODIGO municipio]],[3]!Tabla8[#All],8,FALSE),\"\")","v":""},{"$f":"IFERROR(VLOOKUP(Tabla38[[#This Row],[CODIGO municipio]],[3]!Tabla8[#All],9,FALSE),\"\")","v":""},{"$f":"IFERROR(VLOOKUP(Tabla38[[#This Row],[CODIGO municipio]],[3]!Tabla8[#All],10,FALSE),\"\")","v":""},{"$f":"IFERROR(VLOOKUP(Tabla38[[#This Row],[CODIGO municipio]],[3]!Tabla8[#All],11,FALSE),\"\")","v":""},{"$f":"IFERROR(VLOOKUP(Tabla38[[#This Row],[CODIGO municipio]],[3]!Tabla8[#All],12,FALSE),\"\")","v":""},{"$f":"IFERROR(VLOOKUP(Tabla38[[#This Row],[CODIGO municipio]],[3]!Tabla8[#All],13,FALSE),\"\")","v":""},{"$f":"IFERROR(VLOOKUP(Tabla38[[#This Row],[CODIGO municipio]],[3]!Tabla8[#All],14,FALSE),\"\")","v":""},{"$f":"IFERROR(VLOOKUP(Tabla38[[#This Row],[CODIGO municipio]],[3]!Tabla8[#All],15,FALSE),\"\")","v":""},{"$f":"IFERROR(VLOOKUP(Tabla38[[#This Row],[CODIGO municipio]],[3]!Tabla8[#All],16,FALSE),\"\")","v":""},{"$f":"IFERROR(VLOOKUP(Tabla38[[#This Row],[CODIGO municipio]],[3]!Tabla8[#All],17,FALSE),\"\")","v":""},{"$f":"IFERROR(VLOOKUP(Tabla38[[#This Row],[CODIGO municipio]],[3]!Tabla8[#All],18,FALSE),\"\")","v":""},{"$f":"IFERROR(VLOOKUP(Tabla38[[#This Row],[CODIGO municipio]],[3]!Tabla8[#All],19,FALSE),\"\")","v":""},{"$f":"IFERROR(VLOOKUP(Tabla38[[#This Row],[CODIGO municipio]],[3]!Tabla8[#All],20,FALSE),\"\")","v":""},{"$f":"IFERROR(VLOOKUP(Tabla38[[#This Row],[CODIGO municipio]],[3]!Tabla8[#All],21,FALSE),\"\")","v":""},{"$f":"IFERROR(VLOOKUP(Tabla38[[#This Row],[CODIGO municipio]],[3]!Tabla8[#All],22,FALSE),\"\")","v":""},{"$f":"IFERROR(VLOOKUP(Tabla38[[#This Row],[CODIGO municipio]],[3]!Tabla8[#All],23,FALSE),\"\")","v":""},{"$f":"IFERROR(VLOOKUP(Tabla38[[#This Row],[CODIGO municipio]],[3]!Tabla9[#All],3,FALSE),\"\")","v":""}]
[{"$f":"IFERROR(VLOOKUP(Tabla38[[#This Row],[Municipio]],[3]!Tabla2[#All],3,FALSE),\"\")","v":""},2201,"Jutiapa",{"$f":"IFERROR(VLOOKUP(Tabla38[[#This Row],[CODIGO municipio]],[3]!Tabla6[[#All],[codigo_mun]],1,FALSE),\"\")","v":""},{"$f":"IFERROR(VLOOKUP(Tabla38[[#This Row],[CODIGO municipio]],[3]!Tabla12[#All],2,FALSE),\"\")","v":""},{"$f":"IFERROR(VLOOKUP(Tabla38[[#This Row],[CODIGO municipio]],[3]!Tabla7[#All],3,FALSE),\"\")","v":""},{"$f":"IFERROR(VLOOKUP(Tabla38[[#This Row],[CODIGO municipio]],[3]!Tabla7[#All],4,FALSE),\"\")","v":""},{"$f":"IFERROR(VLOOKUP(Tabla38[[#This Row],[CODIGO municipio]],[3]!Tabla7[#All],11,FALSE),\"\")","v":""},{"$f":"IFERROR(VLOOKUP(Tabla38[[#This Row],[CODIGO municipio]],[3]!Tabla7[#All],12,FALSE),\"\")","v":""},{"$f":"IFERROR(VLOOKUP(Tabla38[[#This Row],[CODIGO municipio]],[3]!Tabla7[#All],13,FALSE),\"\")","v":""},{"$f":"IFERROR(VLOOKUP(Tabla38[[#This Row],[CODIGO municipio]],[3]!Tabla7[#All],14,FALSE),\"\")","v":""},{"$f":"IFERROR(VLOOKUP(Tabla38[[#This Row],[CODIGO municipio]],[3]!Tabla7[#All],15,FALSE),\"\")","v":""},{"$f":"IFERROR(VLOOKUP(Tabla38[[#This Row],[CODIGO municipio]],[3]!Tabla7[#All],16,FALSE),\"\")","v":""},{"$f":"IFERROR(VLOOKUP(Tabla38[[#This Row],[CODIGO municipio]],[3]!Tabla7[#All],17,FALSE),\"\")","v":""},{"$f":"IFERROR(VLOOKUP(Tabla38[[#This Row],[CODIGO municipio]],[3]!Tabla7[#All],18,FALSE),\"\")","v":""},{"$f":"IFERROR(VLOOKUP(Tabla38[[#This Row],[CODIGO municipio]],[3]!Tabla7[#All],19,FALSE),\"\")","v":""},{"$f":"IFERROR(VLOOKUP(Tabla38[[#This Row],[CODIGO municipio]],[3]!Tabla8[#All],3,FALSE),\"\")","v":""},{"$f":"IFERROR(VLOOKUP(Tabla38[[#This Row],[CODIGO municipio]],[3]!Tabla8[#All],4,FALSE),\"\")","v":""},{"$f":"IFERROR(VLOOKUP(Tabla38[[#This Row],[CODIGO municipio]],[3]!Tabla8[#All],5,FALSE),\"\")","v":""},{"$f":"IFERROR(VLOOKUP(Tabla38[[#This Row],[CODIGO municipio]],[3]!Tabla8[#All],6,FALSE),\"\")","v":""},{"$f":"IFERROR(VLOOKUP(Tabla38[[#This Row],[CODIGO municipio]],[3]!Tabla8[#All],7,FALSE),\"\")","v":""},{"$f":"IFERROR(VLOOKUP(Tabla38[[#This Row],[CODIGO municipio]],[3]!Tabla8[#All],8,FALSE),\"\")","v":""},{"$f":"IFERROR(VLOOKUP(Tabla38[[#This Row],[CODIGO municipio]],[3]!Tabla8[#All],9,FALSE),\"\")","v":""},{"$f":"IFERROR(VLOOKUP(Tabla38[[#This Row],[CODIGO municipio]],[3]!Tabla8[#All],10,FALSE),\"\")","v":""},{"$f":"IFERROR(VLOOKUP(Tabla38[[#This Row],[CODIGO municipio]],[3]!Tabla8[#All],11,FALSE),\"\")","v":""},{"$f":"IFERROR(VLOOKUP(Tabla38[[#This Row],[CODIGO municipio]],[3]!Tabla8[#All],12,FALSE),\"\")","v":""},{"$f":"IFERROR(VLOOKUP(Tabla38[[#This Row],[CODIGO municipio]],[3]!Tabla8[#All],13,FALSE),\"\")","v":""},{"$f":"IFERROR(VLOOKUP(Tabla38[[#This Row],[CODIGO municipio]],[3]!Tabla8[#All],14,FALSE),\"\")","v":""},{"$f":"IFERROR(VLOOKUP(Tabla38[[#This Row],[CODIGO municipio]],[3]!Tabla8[#All],15,FALSE),\"\")","v":""},{"$f":"IFERROR(VLOOKUP(Tabla38[[#This Row],[CODIGO municipio]],[3]!Tabla8[#All],16,FALSE),\"\")","v":""},{"$f":"IFERROR(VLOOKUP(Tabla38[[#This Row],[CODIGO municipio]],[3]!Tabla8[#All],17,FALSE),\"\")","v":""},{"$f":"IFERROR(VLOOKUP(Tabla38[[#This Row],[CODIGO municipio]],[3]!Tabla8[#All],18,FALSE),\"\")","v":""},{"$f":"IFERROR(VLOOKUP(Tabla38[[#This Row],[CODIGO municipio]],[3]!Tabla8[#All],19,FALSE),\"\")","v":""},{"$f":"IFERROR(VLOOKUP(Tabla38[[#This Row],[CODIGO municipio]],[3]!Tabla8[#All],20,FALSE),\"\")","v":""},{"$f":"IFERROR(VLOOKUP(Tabla38[[#This Row],[CODIGO municipio]],[3]!Tabla8[#All],21,FALSE),\"\")","v":""},{"$f":"IFERROR(VLOOKUP(Tabla38[[#This Row],[CODIGO municipio]],[3]!Tabla8[#All],22,FALSE),\"\")","v":""},{"$f":"IFERROR(VLOOKUP(Tabla38[[#This Row],[CODIGO municipio]],[3]!Tabla8[#All],23,FALSE),\"\")","v":""},{"$f":"IFERROR(VLOOKUP(Tabla38[[#This Row],[CODIGO municipio]],[3]!Tabla9[#All],3,FALSE),\"\")","v":""}]
[{"$f":"IFERROR(VLOOKUP(Tabla38[[#This Row],[Municipio]],[3]!Tabla2[#All],3,FALSE),\"\")","v":""},2202,"El Progreso",{"$f":"IFERROR(VLOOKUP(Tabla38[[#This Row],[CODIGO municipio]],[3]!Tabla6[[#All],[codigo_mun]],1,FALSE),\"\")","v":""},{"$f":"IFERROR(VLOOKUP(Tabla38[[#This Row],[CODIGO municipio]],[3]!Tabla12[#All],2,FALSE),\"\")","v":""},{"$f":"IFERROR(VLOOKUP(Tabla38[[#This Row],[CODIGO municipio]],[3]!Tabla7[#All],3,FALSE),\"\")","v":""},{"$f":"IFERROR(VLOOKUP(Tabla38[[#This Row],[CODIGO municipio]],[3]!Tabla7[#All],4,FALSE),\"\")","v":""},{"$f":"IFERROR(VLOOKUP(Tabla38[[#This Row],[CODIGO municipio]],[3]!Tabla7[#All],11,FALSE),\"\")","v":""},{"$f":"IFERROR(VLOOKUP(Tabla38[[#This Row],[CODIGO municipio]],[3]!Tabla7[#All],12,FALSE),\"\")","v":""},{"$f":"IFERROR(VLOOKUP(Tabla38[[#This Row],[CODIGO municipio]],[3]!Tabla7[#All],13,FALSE),\"\")","v":""},{"$f":"IFERROR(VLOOKUP(Tabla38[[#This Row],[CODIGO municipio]],[3]!Tabla7[#All],14,FALSE),\"\")","v":""},{"$f":"IFERROR(VLOOKUP(Tabla38[[#This Row],[CODIGO municipio]],[3]!Tabla7[#All],15,FALSE),\"\")","v":""},{"$f":"IFERROR(VLOOKUP(Tabla38[[#This Row],[CODIGO municipio]],[3]!Tabla7[#All],16,FALSE),\"\")","v":""},{"$f":"IFERROR(VLOOKUP(Tabla38[[#This Row],[CODIGO municipio]],[3]!Tabla7[#All],17,FALSE),\"\")","v":""},{"$f":"IFERROR(VLOOKUP(Tabla38[[#This Row],[CODIGO municipio]],[3]!Tabla7[#All],18,FALSE),\"\")","v":""},{"$f":"IFERROR(VLOOKUP(Tabla38[[#This Row],[CODIGO municipio]],[3]!Tabla7[#All],19,FALSE),\"\")","v":""},{"$f":"IFERROR(VLOOKUP(Tabla38[[#This Row],[CODIGO municipio]],[3]!Tabla8[#All],3,FALSE),\"\")","v":""},{"$f":"IFERROR(VLOOKUP(Tabla38[[#This Row],[CODIGO municipio]],[3]!Tabla8[#All],4,FALSE),\"\")","v":""},{"$f":"IFERROR(VLOOKUP(Tabla38[[#This Row],[CODIGO municipio]],[3]!Tabla8[#All],5,FALSE),\"\")","v":""},{"$f":"IFERROR(VLOOKUP(Tabla38[[#This Row],[CODIGO municipio]],[3]!Tabla8[#All],6,FALSE),\"\")","v":""},{"$f":"IFERROR(VLOOKUP(Tabla38[[#This Row],[CODIGO municipio]],[3]!Tabla8[#All],7,FALSE),\"\")","v":""},{"$f":"IFERROR(VLOOKUP(Tabla38[[#This Row],[CODIGO municipio]],[3]!Tabla8[#All],8,FALSE),\"\")","v":""},{"$f":"IFERROR(VLOOKUP(Tabla38[[#This Row],[CODIGO municipio]],[3]!Tabla8[#All],9,FALSE),\"\")","v":""},{"$f":"IFERROR(VLOOKUP(Tabla38[[#This Row],[CODIGO municipio]],[3]!Tabla8[#All],10,FALSE),\"\")","v":""},{"$f":"IFERROR(VLOOKUP(Tabla38[[#This Row],[CODIGO municipio]],[3]!Tabla8[#All],11,FALSE),\"\")","v":""},{"$f":"IFERROR(VLOOKUP(Tabla38[[#This Row],[CODIGO municipio]],[3]!Tabla8[#All],12,FALSE),\"\")","v":""},{"$f":"IFERROR(VLOOKUP(Tabla38[[#This Row],[CODIGO municipio]],[3]!Tabla8[#All],13,FALSE),\"\")","v":""},{"$f":"IFERROR(VLOOKUP(Tabla38[[#This Row],[CODIGO municipio]],[3]!Tabla8[#All],14,FALSE),\"\")","v":""},{"$f":"IFERROR(VLOOKUP(Tabla38[[#This Row],[CODIGO municipio]],[3]!Tabla8[#All],15,FALSE),\"\")","v":""},{"$f":"IFERROR(VLOOKUP(Tabla38[[#This Row],[CODIGO municipio]],[3]!Tabla8[#All],16,FALSE),\"\")","v":""},{"$f":"IFERROR(VLOOKUP(Tabla38[[#This Row],[CODIGO municipio]],[3]!Tabla8[#All],17,FALSE),\"\")","v":""},{"$f":"IFERROR(VLOOKUP(Tabla38[[#This Row],[CODIGO municipio]],[3]!Tabla8[#All],18,FALSE),\"\")","v":""},{"$f":"IFERROR(VLOOKUP(Tabla38[[#This Row],[CODIGO municipio]],[3]!Tabla8[#All],19,FALSE),\"\")","v":""},{"$f":"IFERROR(VLOOKUP(Tabla38[[#This Row],[CODIGO municipio]],[3]!Tabla8[#All],20,FALSE),\"\")","v":""},{"$f":"IFERROR(VLOOKUP(Tabla38[[#This Row],[CODIGO municipio]],[3]!Tabla8[#All],21,FALSE),\"\")","v":""},{"$f":"IFERROR(VLOOKUP(Tabla38[[#This Row],[CODIGO municipio]],[3]!Tabla8[#All],22,FALSE),\"\")","v":""},{"$f":"IFERROR(VLOOKUP(Tabla38[[#This Row],[CODIGO municipio]],[3]!Tabla8[#All],23,FALSE),\"\")","v":""},{"$f":"IFERROR(VLOOKUP(Tabla38[[#This Row],[CODIGO municipio]],[3]!Tabla9[#All],3,FALSE),\"\")","v":""}]
[{"$f":"IFERROR(VLOOKUP(Tabla38[[#This Row],[Municipio]],[3]!Tabla2[#All],3,FALSE),\"\")","v":""},2203,"Santa Catarina Mita",{"$f":"IFERROR(VLOOKUP(Tabla38[[#This Row],[CODIGO municipio]],[3]!Tabla6[[#All],[codigo_mun]],1,FALSE),\"\")","v":""},{"$f":"IFERROR(VLOOKUP(Tabla38[[#This Row],[CODIGO municipio]],[3]!Tabla12[#All],2,FALSE),\"\")","v":""},{"$f":"IFERROR(VLOOKUP(Tabla38[[#This Row],[CODIGO municipio]],[3]!Tabla7[#All],3,FALSE),\"\")","v":""},{"$f":"IFERROR(VLOOKUP(Tabla38[[#This Row],[CODIGO municipio]],[3]!Tabla7[#All],4,FALSE),\"\")","v":""},{"$f":"IFERROR(VLOOKUP(Tabla38[[#This Row],[CODIGO municipio]],[3]!Tabla7[#All],11,FALSE),\"\")","v":""},{"$f":"IFERROR(VLOOKUP(Tabla38[[#This Row],[CODIGO municipio]],[3]!Tabla7[#All],12,FALSE),\"\")","v":""},{"$f":"IFERROR(VLOOKUP(Tabla38[[#This Row],[CODIGO municipio]],[3]!Tabla7[#All],13,FALSE),\"\")","v":""},{"$f":"IFERROR(VLOOKUP(Tabla38[[#This Row],[CODIGO municipio]],[3]!Tabla7[#All],14,FALSE),\"\")","v":""},{"$f":"IFERROR(VLOOKUP(Tabla38[[#This Row],[CODIGO municipio]],[3]!Tabla7[#All],15,FALSE),\"\")","v":""},{"$f":"IFERROR(VLOOKUP(Tabla38[[#This Row],[CODIGO municipio]],[3]!Tabla7[#All],16,FALSE),\"\")","v":""},{"$f":"IFERROR(VLOOKUP(Tabla38[[#This Row],[CODIGO municipio]],[3]!Tabla7[#All],17,FALSE),\"\")","v":""},{"$f":"IFERROR(VLOOKUP(Tabla38[[#This Row],[CODIGO municipio]],[3]!Tabla7[#All],18,FALSE),\"\")","v":""},{"$f":"IFERROR(VLOOKUP(Tabla38[[#This Row],[CODIGO municipio]],[3]!Tabla7[#All],19,FALSE),\"\")","v":""},{"$f":"IFERROR(VLOOKUP(Tabla38[[#This Row],[CODIGO municipio]],[3]!Tabla8[#All],3,FALSE),\"\")","v":""},{"$f":"IFERROR(VLOOKUP(Tabla38[[#This Row],[CODIGO municipio]],[3]!Tabla8[#All],4,FALSE),\"\")","v":""},{"$f":"IFERROR(VLOOKUP(Tabla38[[#This Row],[CODIGO municipio]],[3]!Tabla8[#All],5,FALSE),\"\")","v":""},{"$f":"IFERROR(VLOOKUP(Tabla38[[#This Row],[CODIGO municipio]],[3]!Tabla8[#All],6,FALSE),\"\")","v":""},{"$f":"IFERROR(VLOOKUP(Tabla38[[#This Row],[CODIGO municipio]],[3]!Tabla8[#All],7,FALSE),\"\")","v":""},{"$f":"IFERROR(VLOOKUP(Tabla38[[#This Row],[CODIGO municipio]],[3]!Tabla8[#All],8,FALSE),\"\")","v":""},{"$f":"IFERROR(VLOOKUP(Tabla38[[#This Row],[CODIGO municipio]],[3]!Tabla8[#All],9,FALSE),\"\")","v":""},{"$f":"IFERROR(VLOOKUP(Tabla38[[#This Row],[CODIGO municipio]],[3]!Tabla8[#All],10,FALSE),\"\")","v":""},{"$f":"IFERROR(VLOOKUP(Tabla38[[#This Row],[CODIGO municipio]],[3]!Tabla8[#All],11,FALSE),\"\")","v":""},{"$f":"IFERROR(VLOOKUP(Tabla38[[#This Row],[CODIGO municipio]],[3]!Tabla8[#All],12,FALSE),\"\")","v":""},{"$f":"IFERROR(VLOOKUP(Tabla38[[#This Row],[CODIGO municipio]],[3]!Tabla8[#All],13,FALSE),\"\")","v":""},{"$f":"IFERROR(VLOOKUP(Tabla38[[#This Row],[CODIGO municipio]],[3]!Tabla8[#All],14,FALSE),\"\")","v":""},{"$f":"IFERROR(VLOOKUP(Tabla38[[#This Row],[CODIGO municipio]],[3]!Tabla8[#All],15,FALSE),\"\")","v":""},{"$f":"IFERROR(VLOOKUP(Tabla38[[#This Row],[CODIGO municipio]],[3]!Tabla8[#All],16,FALSE),\"\")","v":""},{"$f":"IFERROR(VLOOKUP(Tabla38[[#This Row],[CODIGO municipio]],[3]!Tabla8[#All],17,FALSE),\"\")","v":""},{"$f":"IFERROR(VLOOKUP(Tabla38[[#This Row],[CODIGO municipio]],[3]!Tabla8[#All],18,FALSE),\"\")","v":""},{"$f":"IFERROR(VLOOKUP(Tabla38[[#This Row],[CODIGO municipio]],[3]!Tabla8[#All],19,FALSE),\"\")","v":""},{"$f":"IFERROR(VLOOKUP(Tabla38[[#This Row],[CODIGO municipio]],[3]!Tabla8[#All],20,FALSE),\"\")","v":""},{"$f":"IFERROR(VLOOKUP(Tabla38[[#This Row],[CODIGO municipio]],[3]!Tabla8[#All],21,FALSE),\"\")","v":""},{"$f":"IFERROR(VLOOKUP(Tabla38[[#This Row],[CODIGO municipio]],[3]!Tabla8[#All],22,FALSE),\"\")","v":""},{"$f":"IFERROR(VLOOKUP(Tabla38[[#This Row],[CODIGO municipio]],[3]!Tabla8[#All],23,FALSE),\"\")","v":""},{"$f":"IFERROR(VLOOKUP(Tabla38[[#This Row],[CODIGO municipio]],[3]!Tabla9[#All],3,FALSE),\"\")","v":""}]
[{"$f":"IFERROR(VLOOKUP(Tabla38[[#This Row],[Municipio]],[3]!Tabla2[#All],3,FALSE),\"\")","v":""},2204,"Agua Blanca",{"$f":"IFERROR(VLOOKUP(Tabla38[[#This Row],[CODIGO municipio]],[3]!Tabla6[[#All],[codigo_mun]],1,FALSE),\"\")","v":""},{"$f":"IFERROR(VLOOKUP(Tabla38[[#This Row],[CODIGO municipio]],[3]!Tabla12[#All],2,FALSE),\"\")","v":""},{"$f":"IFERROR(VLOOKUP(Tabla38[[#This Row],[CODIGO municipio]],[3]!Tabla7[#All],3,FALSE),\"\")","v":""},{"$f":"IFERROR(VLOOKUP(Tabla38[[#This Row],[CODIGO municipio]],[3]!Tabla7[#All],4,FALSE),\"\")","v":""},{"$f":"IFERROR(VLOOKUP(Tabla38[[#This Row],[CODIGO municipio]],[3]!Tabla7[#All],11,FALSE),\"\")","v":""},{"$f":"IFERROR(VLOOKUP(Tabla38[[#This Row],[CODIGO municipio]],[3]!Tabla7[#All],12,FALSE),\"\")","v":""},{"$f":"IFERROR(VLOOKUP(Tabla38[[#This Row],[CODIGO municipio]],[3]!Tabla7[#All],13,FALSE),\"\")","v":""},{"$f":"IFERROR(VLOOKUP(Tabla38[[#This Row],[CODIGO municipio]],[3]!Tabla7[#All],14,FALSE),\"\")","v":""},{"$f":"IFERROR(VLOOKUP(Tabla38[[#This Row],[CODIGO municipio]],[3]!Tabla7[#All],15,FALSE),\"\")","v":""},{"$f":"IFERROR(VLOOKUP(Tabla38[[#This Row],[CODIGO municipio]],[3]!Tabla7[#All],16,FALSE),\"\")","v":""},{"$f":"IFERROR(VLOOKUP(Tabla38[[#This Row],[CODIGO municipio]],[3]!Tabla7[#All],17,FALSE),\"\")","v":""},{"$f":"IFERROR(VLOOKUP(Tabla38[[#This Row],[CODIGO municipio]],[3]!Tabla7[#All],18,FALSE),\"\")","v":""},{"$f":"IFERROR(VLOOKUP(Tabla38[[#This Row],[CODIGO municipio]],[3]!Tabla7[#All],19,FALSE),\"\")","v":""},{"$f":"IFERROR(VLOOKUP(Tabla38[[#This Row],[CODIGO municipio]],[3]!Tabla8[#All],3,FALSE),\"\")","v":""},{"$f":"IFERROR(VLOOKUP(Tabla38[[#This Row],[CODIGO municipio]],[3]!Tabla8[#All],4,FALSE),\"\")","v":""},{"$f":"IFERROR(VLOOKUP(Tabla38[[#This Row],[CODIGO municipio]],[3]!Tabla8[#All],5,FALSE),\"\")","v":""},{"$f":"IFERROR(VLOOKUP(Tabla38[[#This Row],[CODIGO municipio]],[3]!Tabla8[#All],6,FALSE),\"\")","v":""},{"$f":"IFERROR(VLOOKUP(Tabla38[[#This Row],[CODIGO municipio]],[3]!Tabla8[#All],7,FALSE),\"\")","v":""},{"$f":"IFERROR(VLOOKUP(Tabla38[[#This Row],[CODIGO municipio]],[3]!Tabla8[#All],8,FALSE),\"\")","v":""},{"$f":"IFERROR(VLOOKUP(Tabla38[[#This Row],[CODIGO municipio]],[3]!Tabla8[#All],9,FALSE),\"\")","v":""},{"$f":"IFERROR(VLOOKUP(Tabla38[[#This Row],[CODIGO municipio]],[3]!Tabla8[#All],10,FALSE),\"\")","v":""},{"$f":"IFERROR(VLOOKUP(Tabla38[[#This Row],[CODIGO municipio]],[3]!Tabla8[#All],11,FALSE),\"\")","v":""},{"$f":"IFERROR(VLOOKUP(Tabla38[[#This Row],[CODIGO municipio]],[3]!Tabla8[#All],12,FALSE),\"\")","v":""},{"$f":"IFERROR(VLOOKUP(Tabla38[[#This Row],[CODIGO municipio]],[3]!Tabla8[#All],13,FALSE),\"\")","v":""},{"$f":"IFERROR(VLOOKUP(Tabla38[[#This Row],[CODIGO municipio]],[3]!Tabla8[#All],14,FALSE),\"\")","v":""},{"$f":"IFERROR(VLOOKUP(Tabla38[[#This Row],[CODIGO municipio]],[3]!Tabla8[#All],15,FALSE),\"\")","v":""},{"$f":"IFERROR(VLOOKUP(Tabla38[[#This Row],[CODIGO municipio]],[3]!Tabla8[#All],16,FALSE),\"\")","v":""},{"$f":"IFERROR(VLOOKUP(Tabla38[[#This Row],[CODIGO municipio]],[3]!Tabla8[#All],17,FALSE),\"\")","v":""},{"$f":"IFERROR(VLOOKUP(Tabla38[[#This Row],[CODIGO municipio]],[3]!Tabla8[#All],18,FALSE),\"\")","v":""},{"$f":"IFERROR(VLOOKUP(Tabla38[[#This Row],[CODIGO municipio]],[3]!Tabla8[#All],19,FALSE),\"\")","v":""},{"$f":"IFERROR(VLOOKUP(Tabla38[[#This Row],[CODIGO municipio]],[3]!Tabla8[#All],20,FALSE),\"\")","v":""},{"$f":"IFERROR(VLOOKUP(Tabla38[[#This Row],[CODIGO municipio]],[3]!Tabla8[#All],21,FALSE),\"\")","v":""},{"$f":"IFERROR(VLOOKUP(Tabla38[[#This Row],[CODIGO municipio]],[3]!Tabla8[#All],22,FALSE),\"\")","v":""},{"$f":"IFERROR(VLOOKUP(Tabla38[[#This Row],[CODIGO municipio]],[3]!Tabla8[#All],23,FALSE),\"\")","v":""},{"$f":"IFERROR(VLOOKUP(Tabla38[[#This Row],[CODIGO municipio]],[3]!Tabla9[#All],3,FALSE),\"\")","v":""}]
[{"$f":"IFERROR(VLOOKUP(Tabla38[[#This Row],[Municipio]],[3]!Tabla2[#All],3,FALSE),\"\")","v":""},2205,"Asunción Mita",{"$f":"IFERROR(VLOOKUP(Tabla38[[#This Row],[CODIGO municipio]],[3]!Tabla6[[#All],[codigo_mun]],1,FALSE),\"\")","v":""},{"$f":"IFERROR(VLOOKUP(Tabla38[[#This Row],[CODIGO municipio]],[3]!Tabla12[#All],2,FALSE),\"\")","v":""},{"$f":"IFERROR(VLOOKUP(Tabla38[[#This Row],[CODIGO municipio]],[3]!Tabla7[#All],3,FALSE),\"\")","v":""},{"$f":"IFERROR(VLOOKUP(Tabla38[[#This Row],[CODIGO municipio]],[3]!Tabla7[#All],4,FALSE),\"\")","v":""},{"$f":"IFERROR(VLOOKUP(Tabla38[[#This Row],[CODIGO municipio]],[3]!Tabla7[#All],11,FALSE),\"\")","v":""},{"$f":"IFERROR(VLOOKUP(Tabla38[[#This Row],[CODIGO municipio]],[3]!Tabla7[#All],12,FALSE),\"\")","v":""},{"$f":"IFERROR(VLOOKUP(Tabla38[[#This Row],[CODIGO municipio]],[3]!Tabla7[#All],13,FALSE),\"\")","v":""},{"$f":"IFERROR(VLOOKUP(Tabla38[[#This Row],[CODIGO municipio]],[3]!Tabla7[#All],14,FALSE),\"\")","v":""},{"$f":"IFERROR(VLOOKUP(Tabla38[[#This Row],[CODIGO municipio]],[3]!Tabla7[#All],15,FALSE),\"\")","v":""},{"$f":"IFERROR(VLOOKUP(Tabla38[[#This Row],[CODIGO municipio]],[3]!Tabla7[#All],16,FALSE),\"\")","v":""},{"$f":"IFERROR(VLOOKUP(Tabla38[[#This Row],[CODIGO municipio]],[3]!Tabla7[#All],17,FALSE),\"\")","v":""},{"$f":"IFERROR(VLOOKUP(Tabla38[[#This Row],[CODIGO municipio]],[3]!Tabla7[#All],18,FALSE),\"\")","v":""},{"$f":"IFERROR(VLOOKUP(Tabla38[[#This Row],[CODIGO municipio]],[3]!Tabla7[#All],19,FALSE),\"\")","v":""},{"$f":"IFERROR(VLOOKUP(Tabla38[[#This Row],[CODIGO municipio]],[3]!Tabla8[#All],3,FALSE),\"\")","v":""},{"$f":"IFERROR(VLOOKUP(Tabla38[[#This Row],[CODIGO municipio]],[3]!Tabla8[#All],4,FALSE),\"\")","v":""},{"$f":"IFERROR(VLOOKUP(Tabla38[[#This Row],[CODIGO municipio]],[3]!Tabla8[#All],5,FALSE),\"\")","v":""},{"$f":"IFERROR(VLOOKUP(Tabla38[[#This Row],[CODIGO municipio]],[3]!Tabla8[#All],6,FALSE),\"\")","v":""},{"$f":"IFERROR(VLOOKUP(Tabla38[[#This Row],[CODIGO municipio]],[3]!Tabla8[#All],7,FALSE),\"\")","v":""},{"$f":"IFERROR(VLOOKUP(Tabla38[[#This Row],[CODIGO municipio]],[3]!Tabla8[#All],8,FALSE),\"\")","v":""},{"$f":"IFERROR(VLOOKUP(Tabla38[[#This Row],[CODIGO municipio]],[3]!Tabla8[#All],9,FALSE),\"\")","v":""},{"$f":"IFERROR(VLOOKUP(Tabla38[[#This Row],[CODIGO municipio]],[3]!Tabla8[#All],10,FALSE),\"\")","v":""},{"$f":"IFERROR(VLOOKUP(Tabla38[[#This Row],[CODIGO municipio]],[3]!Tabla8[#All],11,FALSE),\"\")","v":""},{"$f":"IFERROR(VLOOKUP(Tabla38[[#This Row],[CODIGO municipio]],[3]!Tabla8[#All],12,FALSE),\"\")","v":""},{"$f":"IFERROR(VLOOKUP(Tabla38[[#This Row],[CODIGO municipio]],[3]!Tabla8[#All],13,FALSE),\"\")","v":""},{"$f":"IFERROR(VLOOKUP(Tabla38[[#This Row],[CODIGO municipio]],[3]!Tabla8[#All],14,FALSE),\"\")","v":""},{"$f":"IFERROR(VLOOKUP(Tabla38[[#This Row],[CODIGO municipio]],[3]!Tabla8[#All],15,FALSE),\"\")","v":""},{"$f":"IFERROR(VLOOKUP(Tabla38[[#This Row],[CODIGO municipio]],[3]!Tabla8[#All],16,FALSE),\"\")","v":""},{"$f":"IFERROR(VLOOKUP(Tabla38[[#This Row],[CODIGO municipio]],[3]!Tabla8[#All],17,FALSE),\"\")","v":""},{"$f":"IFERROR(VLOOKUP(Tabla38[[#This Row],[CODIGO municipio]],[3]!Tabla8[#All],18,FALSE),\"\")","v":""},{"$f":"IFERROR(VLOOKUP(Tabla38[[#This Row],[CODIGO municipio]],[3]!Tabla8[#All],19,FALSE),\"\")","v":""},{"$f":"IFERROR(VLOOKUP(Tabla38[[#This Row],[CODIGO municipio]],[3]!Tabla8[#All],20,FALSE),\"\")","v":""},{"$f":"IFERROR(VLOOKUP(Tabla38[[#This Row],[CODIGO municipio]],[3]!Tabla8[#All],21,FALSE),\"\")","v":""},{"$f":"IFERROR(VLOOKUP(Tabla38[[#This Row],[CODIGO municipio]],[3]!Tabla8[#All],22,FALSE),\"\")","v":""},{"$f":"IFERROR(VLOOKUP(Tabla38[[#This Row],[CODIGO municipio]],[3]!Tabla8[#All],23,FALSE),\"\")","v":""},{"$f":"IFERROR(VLOOKUP(Tabla38[[#This Row],[CODIGO municipio]],[3]!Tabla9[#All],3,FALSE),\"\")","v":""}]
[{"$f":"IFERROR(VLOOKUP(Tabla38[[#This Row],[Municipio]],[3]!Tabla2[#All],3,FALSE),\"\")","v":""},2206,"Yupiltepeque",{"$f":"IFERROR(VLOOKUP(Tabla38[[#This Row],[CODIGO municipio]],[3]!Tabla6[[#All],[codigo_mun]],1,FALSE),\"\")","v":""},{"$f":"IFERROR(VLOOKUP(Tabla38[[#This Row],[CODIGO municipio]],[3]!Tabla12[#All],2,FALSE),\"\")","v":""},{"$f":"IFERROR(VLOOKUP(Tabla38[[#This Row],[CODIGO municipio]],[3]!Tabla7[#All],3,FALSE),\"\")","v":""},{"$f":"IFERROR(VLOOKUP(Tabla38[[#This Row],[CODIGO municipio]],[3]!Tabla7[#All],4,FALSE),\"\")","v":""},{"$f":"IFERROR(VLOOKUP(Tabla38[[#This Row],[CODIGO municipio]],[3]!Tabla7[#All],11,FALSE),\"\")","v":""},{"$f":"IFERROR(VLOOKUP(Tabla38[[#This Row],[CODIGO municipio]],[3]!Tabla7[#All],12,FALSE),\"\")","v":""},{"$f":"IFERROR(VLOOKUP(Tabla38[[#This Row],[CODIGO municipio]],[3]!Tabla7[#All],13,FALSE),\"\")","v":""},{"$f":"IFERROR(VLOOKUP(Tabla38[[#This Row],[CODIGO municipio]],[3]!Tabla7[#All],14,FALSE),\"\")","v":""},{"$f":"IFERROR(VLOOKUP(Tabla38[[#This Row],[CODIGO municipio]],[3]!Tabla7[#All],15,FALSE),\"\")","v":""},{"$f":"IFERROR(VLOOKUP(Tabla38[[#This Row],[CODIGO municipio]],[3]!Tabla7[#All],16,FALSE),\"\")","v":""},{"$f":"IFERROR(VLOOKUP(Tabla38[[#This Row],[CODIGO municipio]],[3]!Tabla7[#All],17,FALSE),\"\")","v":""},{"$f":"IFERROR(VLOOKUP(Tabla38[[#This Row],[CODIGO municipio]],[3]!Tabla7[#All],18,FALSE),\"\")","v":""},{"$f":"IFERROR(VLOOKUP(Tabla38[[#This Row],[CODIGO municipio]],[3]!Tabla7[#All],19,FALSE),\"\")","v":""},{"$f":"IFERROR(VLOOKUP(Tabla38[[#This Row],[CODIGO municipio]],[3]!Tabla8[#All],3,FALSE),\"\")","v":""},{"$f":"IFERROR(VLOOKUP(Tabla38[[#This Row],[CODIGO municipio]],[3]!Tabla8[#All],4,FALSE),\"\")","v":""},{"$f":"IFERROR(VLOOKUP(Tabla38[[#This Row],[CODIGO municipio]],[3]!Tabla8[#All],5,FALSE),\"\")","v":""},{"$f":"IFERROR(VLOOKUP(Tabla38[[#This Row],[CODIGO municipio]],[3]!Tabla8[#All],6,FALSE),\"\")","v":""},{"$f":"IFERROR(VLOOKUP(Tabla38[[#This Row],[CODIGO municipio]],[3]!Tabla8[#All],7,FALSE),\"\")","v":""},{"$f":"IFERROR(VLOOKUP(Tabla38[[#This Row],[CODIGO municipio]],[3]!Tabla8[#All],8,FALSE),\"\")","v":""},{"$f":"IFERROR(VLOOKUP(Tabla38[[#This Row],[CODIGO municipio]],[3]!Tabla8[#All],9,FALSE),\"\")","v":""},{"$f":"IFERROR(VLOOKUP(Tabla38[[#This Row],[CODIGO municipio]],[3]!Tabla8[#All],10,FALSE),\"\")","v":""},{"$f":"IFERROR(VLOOKUP(Tabla38[[#This Row],[CODIGO municipio]],[3]!Tabla8[#All],11,FALSE),\"\")","v":""},{"$f":"IFERROR(VLOOKUP(Tabla38[[#This Row],[CODIGO municipio]],[3]!Tabla8[#All],12,FALSE),\"\")","v":""},{"$f":"IFERROR(VLOOKUP(Tabla38[[#This Row],[CODIGO municipio]],[3]!Tabla8[#All],13,FALSE),\"\")","v":""},{"$f":"IFERROR(VLOOKUP(Tabla38[[#This Row],[CODIGO municipio]],[3]!Tabla8[#All],14,FALSE),\"\")","v":""},{"$f":"IFERROR(VLOOKUP(Tabla38[[#This Row],[CODIGO municipio]],[3]!Tabla8[#All],15,FALSE),\"\")","v":""},{"$f":"IFERROR(VLOOKUP(Tabla38[[#This Row],[CODIGO municipio]],[3]!Tabla8[#All],16,FALSE),\"\")","v":""},{"$f":"IFERROR(VLOOKUP(Tabla38[[#This Row],[CODIGO municipio]],[3]!Tabla8[#All],17,FALSE),\"\")","v":""},{"$f":"IFERROR(VLOOKUP(Tabla38[[#This Row],[CODIGO municipio]],[3]!Tabla8[#All],18,FALSE),\"\")","v":""},{"$f":"IFERROR(VLOOKUP(Tabla38[[#This Row],[CODIGO municipio]],[3]!Tabla8[#All],19,FALSE),\"\")","v":""},{"$f":"IFERROR(VLOOKUP(Tabla38[[#This Row],[CODIGO municipio]],[3]!Tabla8[#All],20,FALSE),\"\")","v":""},{"$f":"IFERROR(VLOOKUP(Tabla38[[#This Row],[CODIGO municipio]],[3]!Tabla8[#All],21,FALSE),\"\")","v":""},{"$f":"IFERROR(VLOOKUP(Tabla38[[#This Row],[CODIGO municipio]],[3]!Tabla8[#All],22,FALSE),\"\")","v":""},{"$f":"IFERROR(VLOOKUP(Tabla38[[#This Row],[CODIGO municipio]],[3]!Tabla8[#All],23,FALSE),\"\")","v":""},{"$f":"IFERROR(VLOOKUP(Tabla38[[#This Row],[CODIGO municipio]],[3]!Tabla9[#All],3,FALSE),\"\")","v":""}]
[{"$f":"IFERROR(VLOOKUP(Tabla38[[#This Row],[Municipio]],[3]!Tabla2[#All],3,FALSE),\"\")","v":""},2207,"Atescatempa",{"$f":"IFERROR(VLOOKUP(Tabla38[[#This Row],[CODIGO municipio]],[3]!Tabla6[[#All],[codigo_mun]],1,FALSE),\"\")","v":""},{"$f":"IFERROR(VLOOKUP(Tabla38[[#This Row],[CODIGO municipio]],[3]!Tabla12[#All],2,FALSE),\"\")","v":""},{"$f":"IFERROR(VLOOKUP(Tabla38[[#This Row],[CODIGO municipio]],[3]!Tabla7[#All],3,FALSE),\"\")","v":""},{"$f":"IFERROR(VLOOKUP(Tabla38[[#This Row],[CODIGO municipio]],[3]!Tabla7[#All],4,FALSE),\"\")","v":""},{"$f":"IFERROR(VLOOKUP(Tabla38[[#This Row],[CODIGO municipio]],[3]!Tabla7[#All],11,FALSE),\"\")","v":""},{"$f":"IFERROR(VLOOKUP(Tabla38[[#This Row],[CODIGO municipio]],[3]!Tabla7[#All],12,FALSE),\"\")","v":""},{"$f":"IFERROR(VLOOKUP(Tabla38[[#This Row],[CODIGO municipio]],[3]!Tabla7[#All],13,FALSE),\"\")","v":""},{"$f":"IFERROR(VLOOKUP(Tabla38[[#This Row],[CODIGO municipio]],[3]!Tabla7[#All],14,FALSE),\"\")","v":""},{"$f":"IFERROR(VLOOKUP(Tabla38[[#This Row],[CODIGO municipio]],[3]!Tabla7[#All],15,FALSE),\"\")","v":""},{"$f":"IFERROR(VLOOKUP(Tabla38[[#This Row],[CODIGO municipio]],[3]!Tabla7[#All],16,FALSE),\"\")","v":""},{"$f":"IFERROR(VLOOKUP(Tabla38[[#This Row],[CODIGO municipio]],[3]!Tabla7[#All],17,FALSE),\"\")","v":""},{"$f":"IFERROR(VLOOKUP(Tabla38[[#This Row],[CODIGO municipio]],[3]!Tabla7[#All],18,FALSE),\"\")","v":""},{"$f":"IFERROR(VLOOKUP(Tabla38[[#This Row],[CODIGO municipio]],[3]!Tabla7[#All],19,FALSE),\"\")","v":""},{"$f":"IFERROR(VLOOKUP(Tabla38[[#This Row],[CODIGO municipio]],[3]!Tabla8[#All],3,FALSE),\"\")","v":""},{"$f":"IFERROR(VLOOKUP(Tabla38[[#This Row],[CODIGO municipio]],[3]!Tabla8[#All],4,FALSE),\"\")","v":""},{"$f":"IFERROR(VLOOKUP(Tabla38[[#This Row],[CODIGO municipio]],[3]!Tabla8[#All],5,FALSE),\"\")","v":""},{"$f":"IFERROR(VLOOKUP(Tabla38[[#This Row],[CODIGO municipio]],[3]!Tabla8[#All],6,FALSE),\"\")","v":""},{"$f":"IFERROR(VLOOKUP(Tabla38[[#This Row],[CODIGO municipio]],[3]!Tabla8[#All],7,FALSE),\"\")","v":""},{"$f":"IFERROR(VLOOKUP(Tabla38[[#This Row],[CODIGO municipio]],[3]!Tabla8[#All],8,FALSE),\"\")","v":""},{"$f":"IFERROR(VLOOKUP(Tabla38[[#This Row],[CODIGO municipio]],[3]!Tabla8[#All],9,FALSE),\"\")","v":""},{"$f":"IFERROR(VLOOKUP(Tabla38[[#This Row],[CODIGO municipio]],[3]!Tabla8[#All],10,FALSE),\"\")","v":""},{"$f":"IFERROR(VLOOKUP(Tabla38[[#This Row],[CODIGO municipio]],[3]!Tabla8[#All],11,FALSE),\"\")","v":""},{"$f":"IFERROR(VLOOKUP(Tabla38[[#This Row],[CODIGO municipio]],[3]!Tabla8[#All],12,FALSE),\"\")","v":""},{"$f":"IFERROR(VLOOKUP(Tabla38[[#This Row],[CODIGO municipio]],[3]!Tabla8[#All],13,FALSE),\"\")","v":""},{"$f":"IFERROR(VLOOKUP(Tabla38[[#This Row],[CODIGO municipio]],[3]!Tabla8[#All],14,FALSE),\"\")","v":""},{"$f":"IFERROR(VLOOKUP(Tabla38[[#This Row],[CODIGO municipio]],[3]!Tabla8[#All],15,FALSE),\"\")","v":""},{"$f":"IFERROR(VLOOKUP(Tabla38[[#This Row],[CODIGO municipio]],[3]!Tabla8[#All],16,FALSE),\"\")","v":""},{"$f":"IFERROR(VLOOKUP(Tabla38[[#This Row],[CODIGO municipio]],[3]!Tabla8[#All],17,FALSE),\"\")","v":""},{"$f":"IFERROR(VLOOKUP(Tabla38[[#This Row],[CODIGO municipio]],[3]!Tabla8[#All],18,FALSE),\"\")","v":""},{"$f":"IFERROR(VLOOKUP(Tabla38[[#This Row],[CODIGO municipio]],[3]!Tabla8[#All],19,FALSE),\"\")","v":""},{"$f":"IFERROR(VLOOKUP(Tabla38[[#This Row],[CODIGO municipio]],[3]!Tabla8[#All],20,FALSE),\"\")","v":""},{"$f":"IFERROR(VLOOKUP(Tabla38[[#This Row],[CODIGO municipio]],[3]!Tabla8[#All],21,FALSE),\"\")","v":""},{"$f":"IFERROR(VLOOKUP(Tabla38[[#This Row],[CODIGO municipio]],[3]!Tabla8[#All],22,FALSE),\"\")","v":""},{"$f":"IFERROR(VLOOKUP(Tabla38[[#This Row],[CODIGO municipio]],[3]!Tabla8[#All],23,FALSE),\"\")","v":""},{"$f":"IFERROR(VLOOKUP(Tabla38[[#This Row],[CODIGO municipio]],[3]!Tabla9[#All],3,FALSE),\"\")","v":""}]
[{"$f":"IFERROR(VLOOKUP(Tabla38[[#This Row],[Municipio]],[3]!Tabla2[#All],3,FALSE),\"\")","v":""},2208,"Jerez",{"$f":"IFERROR(VLOOKUP(Tabla38[[#This Row],[CODIGO municipio]],[3]!Tabla6[[#All],[codigo_mun]],1,FALSE),\"\")","v":""},{"$f":"IFERROR(VLOOKUP(Tabla38[[#This Row],[CODIGO municipio]],[3]!Tabla12[#All],2,FALSE),\"\")","v":""},{"$f":"IFERROR(VLOOKUP(Tabla38[[#This Row],[CODIGO municipio]],[3]!Tabla7[#All],3,FALSE),\"\")","v":""},{"$f":"IFERROR(VLOOKUP(Tabla38[[#This Row],[CODIGO municipio]],[3]!Tabla7[#All],4,FALSE),\"\")","v":""},{"$f":"IFERROR(VLOOKUP(Tabla38[[#This Row],[CODIGO municipio]],[3]!Tabla7[#All],11,FALSE),\"\")","v":""},{"$f":"IFERROR(VLOOKUP(Tabla38[[#This Row],[CODIGO municipio]],[3]!Tabla7[#All],12,FALSE),\"\")","v":""},{"$f":"IFERROR(VLOOKUP(Tabla38[[#This Row],[CODIGO municipio]],[3]!Tabla7[#All],13,FALSE),\"\")","v":""},{"$f":"IFERROR(VLOOKUP(Tabla38[[#This Row],[CODIGO municipio]],[3]!Tabla7[#All],14,FALSE),\"\")","v":""},{"$f":"IFERROR(VLOOKUP(Tabla38[[#This Row],[CODIGO municipio]],[3]!Tabla7[#All],15,FALSE),\"\")","v":""},{"$f":"IFERROR(VLOOKUP(Tabla38[[#This Row],[CODIGO municipio]],[3]!Tabla7[#All],16,FALSE),\"\")","v":""},{"$f":"IFERROR(VLOOKUP(Tabla38[[#This Row],[CODIGO municipio]],[3]!Tabla7[#All],17,FALSE),\"\")","v":""},{"$f":"IFERROR(VLOOKUP(Tabla38[[#This Row],[CODIGO municipio]],[3]!Tabla7[#All],18,FALSE),\"\")","v":""},{"$f":"IFERROR(VLOOKUP(Tabla38[[#This Row],[CODIGO municipio]],[3]!Tabla7[#All],19,FALSE),\"\")","v":""},{"$f":"IFERROR(VLOOKUP(Tabla38[[#This Row],[CODIGO municipio]],[3]!Tabla8[#All],3,FALSE),\"\")","v":""},{"$f":"IFERROR(VLOOKUP(Tabla38[[#This Row],[CODIGO municipio]],[3]!Tabla8[#All],4,FALSE),\"\")","v":""},{"$f":"IFERROR(VLOOKUP(Tabla38[[#This Row],[CODIGO municipio]],[3]!Tabla8[#All],5,FALSE),\"\")","v":""},{"$f":"IFERROR(VLOOKUP(Tabla38[[#This Row],[CODIGO municipio]],[3]!Tabla8[#All],6,FALSE),\"\")","v":""},{"$f":"IFERROR(VLOOKUP(Tabla38[[#This Row],[CODIGO municipio]],[3]!Tabla8[#All],7,FALSE),\"\")","v":""},{"$f":"IFERROR(VLOOKUP(Tabla38[[#This Row],[CODIGO municipio]],[3]!Tabla8[#All],8,FALSE),\"\")","v":""},{"$f":"IFERROR(VLOOKUP(Tabla38[[#This Row],[CODIGO municipio]],[3]!Tabla8[#All],9,FALSE),\"\")","v":""},{"$f":"IFERROR(VLOOKUP(Tabla38[[#This Row],[CODIGO municipio]],[3]!Tabla8[#All],10,FALSE),\"\")","v":""},{"$f":"IFERROR(VLOOKUP(Tabla38[[#This Row],[CODIGO municipio]],[3]!Tabla8[#All],11,FALSE),\"\")","v":""},{"$f":"IFERROR(VLOOKUP(Tabla38[[#This Row],[CODIGO municipio]],[3]!Tabla8[#All],12,FALSE),\"\")","v":""},{"$f":"IFERROR(VLOOKUP(Tabla38[[#This Row],[CODIGO municipio]],[3]!Tabla8[#All],13,FALSE),\"\")","v":""},{"$f":"IFERROR(VLOOKUP(Tabla38[[#This Row],[CODIGO municipio]],[3]!Tabla8[#All],14,FALSE),\"\")","v":""},{"$f":"IFERROR(VLOOKUP(Tabla38[[#This Row],[CODIGO municipio]],[3]!Tabla8[#All],15,FALSE),\"\")","v":""},{"$f":"IFERROR(VLOOKUP(Tabla38[[#This Row],[CODIGO municipio]],[3]!Tabla8[#All],16,FALSE),\"\")","v":""},{"$f":"IFERROR(VLOOKUP(Tabla38[[#This Row],[CODIGO municipio]],[3]!Tabla8[#All],17,FALSE),\"\")","v":""},{"$f":"IFERROR(VLOOKUP(Tabla38[[#This Row],[CODIGO municipio]],[3]!Tabla8[#All],18,FALSE),\"\")","v":""},{"$f":"IFERROR(VLOOKUP(Tabla38[[#This Row],[CODIGO municipio]],[3]!Tabla8[#All],19,FALSE),\"\")","v":""},{"$f":"IFERROR(VLOOKUP(Tabla38[[#This Row],[CODIGO municipio]],[3]!Tabla8[#All],20,FALSE),\"\")","v":""},{"$f":"IFERROR(VLOOKUP(Tabla38[[#This Row],[CODIGO municipio]],[3]!Tabla8[#All],21,FALSE),\"\")","v":""},{"$f":"IFERROR(VLOOKUP(Tabla38[[#This Row],[CODIGO municipio]],[3]!Tabla8[#All],22,FALSE),\"\")","v":""},{"$f":"IFERROR(VLOOKUP(Tabla38[[#This Row],[CODIGO municipio]],[3]!Tabla8[#All],23,FALSE),\"\")","v":""},{"$f":"IFERROR(VLOOKUP(Tabla38[[#This Row],[CODIGO municipio]],[3]!Tabla9[#All],3,FALSE),\"\")","v":""}]
[{"$f":"IFERROR(VLOOKUP(Tabla38[[#This Row],[Municipio]],[3]!Tabla2[#All],3,FALSE),\"\")","v":""},2209,"El Adelanto",{"$f":"IFERROR(VLOOKUP(Tabla38[[#This Row],[CODIGO municipio]],[3]!Tabla6[[#All],[codigo_mun]],1,FALSE),\"\")","v":""},{"$f":"IFERROR(VLOOKUP(Tabla38[[#This Row],[CODIGO municipio]],[3]!Tabla12[#All],2,FALSE),\"\")","v":""},{"$f":"IFERROR(VLOOKUP(Tabla38[[#This Row],[CODIGO municipio]],[3]!Tabla7[#All],3,FALSE),\"\")","v":""},{"$f":"IFERROR(VLOOKUP(Tabla38[[#This Row],[CODIGO municipio]],[3]!Tabla7[#All],4,FALSE),\"\")","v":""},{"$f":"IFERROR(VLOOKUP(Tabla38[[#This Row],[CODIGO municipio]],[3]!Tabla7[#All],11,FALSE),\"\")","v":""},{"$f":"IFERROR(VLOOKUP(Tabla38[[#This Row],[CODIGO municipio]],[3]!Tabla7[#All],12,FALSE),\"\")","v":""},{"$f":"IFERROR(VLOOKUP(Tabla38[[#This Row],[CODIGO municipio]],[3]!Tabla7[#All],13,FALSE),\"\")","v":""},{"$f":"IFERROR(VLOOKUP(Tabla38[[#This Row],[CODIGO municipio]],[3]!Tabla7[#All],14,FALSE),\"\")","v":""},{"$f":"IFERROR(VLOOKUP(Tabla38[[#This Row],[CODIGO municipio]],[3]!Tabla7[#All],15,FALSE),\"\")","v":""},{"$f":"IFERROR(VLOOKUP(Tabla38[[#This Row],[CODIGO municipio]],[3]!Tabla7[#All],16,FALSE),\"\")","v":""},{"$f":"IFERROR(VLOOKUP(Tabla38[[#This Row],[CODIGO municipio]],[3]!Tabla7[#All],17,FALSE),\"\")","v":""},{"$f":"IFERROR(VLOOKUP(Tabla38[[#This Row],[CODIGO municipio]],[3]!Tabla7[#All],18,FALSE),\"\")","v":""},{"$f":"IFERROR(VLOOKUP(Tabla38[[#This Row],[CODIGO municipio]],[3]!Tabla7[#All],19,FALSE),\"\")","v":""},{"$f":"IFERROR(VLOOKUP(Tabla38[[#This Row],[CODIGO municipio]],[3]!Tabla8[#All],3,FALSE),\"\")","v":""},{"$f":"IFERROR(VLOOKUP(Tabla38[[#This Row],[CODIGO municipio]],[3]!Tabla8[#All],4,FALSE),\"\")","v":""},{"$f":"IFERROR(VLOOKUP(Tabla38[[#This Row],[CODIGO municipio]],[3]!Tabla8[#All],5,FALSE),\"\")","v":""},{"$f":"IFERROR(VLOOKUP(Tabla38[[#This Row],[CODIGO municipio]],[3]!Tabla8[#All],6,FALSE),\"\")","v":""},{"$f":"IFERROR(VLOOKUP(Tabla38[[#This Row],[CODIGO municipio]],[3]!Tabla8[#All],7,FALSE),\"\")","v":""},{"$f":"IFERROR(VLOOKUP(Tabla38[[#This Row],[CODIGO municipio]],[3]!Tabla8[#All],8,FALSE),\"\")","v":""},{"$f":"IFERROR(VLOOKUP(Tabla38[[#This Row],[CODIGO municipio]],[3]!Tabla8[#All],9,FALSE),\"\")","v":""},{"$f":"IFERROR(VLOOKUP(Tabla38[[#This Row],[CODIGO municipio]],[3]!Tabla8[#All],10,FALSE),\"\")","v":""},{"$f":"IFERROR(VLOOKUP(Tabla38[[#This Row],[CODIGO municipio]],[3]!Tabla8[#All],11,FALSE),\"\")","v":""},{"$f":"IFERROR(VLOOKUP(Tabla38[[#This Row],[CODIGO municipio]],[3]!Tabla8[#All],12,FALSE),\"\")","v":""},{"$f":"IFERROR(VLOOKUP(Tabla38[[#This Row],[CODIGO municipio]],[3]!Tabla8[#All],13,FALSE),\"\")","v":""},{"$f":"IFERROR(VLOOKUP(Tabla38[[#This Row],[CODIGO municipio]],[3]!Tabla8[#All],14,FALSE),\"\")","v":""},{"$f":"IFERROR(VLOOKUP(Tabla38[[#This Row],[CODIGO municipio]],[3]!Tabla8[#All],15,FALSE),\"\")","v":""},{"$f":"IFERROR(VLOOKUP(Tabla38[[#This Row],[CODIGO municipio]],[3]!Tabla8[#All],16,FALSE),\"\")","v":""},{"$f":"IFERROR(VLOOKUP(Tabla38[[#This Row],[CODIGO municipio]],[3]!Tabla8[#All],17,FALSE),\"\")","v":""},{"$f":"IFERROR(VLOOKUP(Tabla38[[#This Row],[CODIGO municipio]],[3]!Tabla8[#All],18,FALSE),\"\")","v":""},{"$f":"IFERROR(VLOOKUP(Tabla38[[#This Row],[CODIGO municipio]],[3]!Tabla8[#All],19,FALSE),\"\")","v":""},{"$f":"IFERROR(VLOOKUP(Tabla38[[#This Row],[CODIGO municipio]],[3]!Tabla8[#All],20,FALSE),\"\")","v":""},{"$f":"IFERROR(VLOOKUP(Tabla38[[#This Row],[CODIGO municipio]],[3]!Tabla8[#All],21,FALSE),\"\")","v":""},{"$f":"IFERROR(VLOOKUP(Tabla38[[#This Row],[CODIGO municipio]],[3]!Tabla8[#All],22,FALSE),\"\")","v":""},{"$f":"IFERROR(VLOOKUP(Tabla38[[#This Row],[CODIGO municipio]],[3]!Tabla8[#All],23,FALSE),\"\")","v":""},{"$f":"IFERROR(VLOOKUP(Tabla38[[#This Row],[CODIGO municipio]],[3]!Tabla9[#All],3,FALSE),\"\")","v":""}]
[{"$f":"IFERROR(VLOOKUP(Tabla38[[#This Row],[Municipio]],[3]!Tabla2[#All],3,FALSE),\"\")","v":""},2210,"Zapotitlán",{"$f":"IFERROR(VLOOKUP(Tabla38[[#This Row],[CODIGO municipio]],[3]!Tabla6[[#All],[codigo_mun]],1,FALSE),\"\")","v":""},{"$f":"IFERROR(VLOOKUP(Tabla38[[#This Row],[CODIGO municipio]],[3]!Tabla12[#All],2,FALSE),\"\")","v":""},{"$f":"IFERROR(VLOOKUP(Tabla38[[#This Row],[CODIGO municipio]],[3]!Tabla7[#All],3,FALSE),\"\")","v":""},{"$f":"IFERROR(VLOOKUP(Tabla38[[#This Row],[CODIGO municipio]],[3]!Tabla7[#All],4,FALSE),\"\")","v":""},{"$f":"IFERROR(VLOOKUP(Tabla38[[#This Row],[CODIGO municipio]],[3]!Tabla7[#All],11,FALSE),\"\")","v":""},{"$f":"IFERROR(VLOOKUP(Tabla38[[#This Row],[CODIGO municipio]],[3]!Tabla7[#All],12,FALSE),\"\")","v":""},{"$f":"IFERROR(VLOOKUP(Tabla38[[#This Row],[CODIGO municipio]],[3]!Tabla7[#All],13,FALSE),\"\")","v":""},{"$f":"IFERROR(VLOOKUP(Tabla38[[#This Row],[CODIGO municipio]],[3]!Tabla7[#All],14,FALSE),\"\")","v":""},{"$f":"IFERROR(VLOOKUP(Tabla38[[#This Row],[CODIGO municipio]],[3]!Tabla7[#All],15,FALSE),\"\")","v":""},{"$f":"IFERROR(VLOOKUP(Tabla38[[#This Row],[CODIGO municipio]],[3]!Tabla7[#All],16,FALSE),\"\")","v":""},{"$f":"IFERROR(VLOOKUP(Tabla38[[#This Row],[CODIGO municipio]],[3]!Tabla7[#All],17,FALSE),\"\")","v":""},{"$f":"IFERROR(VLOOKUP(Tabla38[[#This Row],[CODIGO municipio]],[3]!Tabla7[#All],18,FALSE),\"\")","v":""},{"$f":"IFERROR(VLOOKUP(Tabla38[[#This Row],[CODIGO municipio]],[3]!Tabla7[#All],19,FALSE),\"\")","v":""},{"$f":"IFERROR(VLOOKUP(Tabla38[[#This Row],[CODIGO municipio]],[3]!Tabla8[#All],3,FALSE),\"\")","v":""},{"$f":"IFERROR(VLOOKUP(Tabla38[[#This Row],[CODIGO municipio]],[3]!Tabla8[#All],4,FALSE),\"\")","v":""},{"$f":"IFERROR(VLOOKUP(Tabla38[[#This Row],[CODIGO municipio]],[3]!Tabla8[#All],5,FALSE),\"\")","v":""},{"$f":"IFERROR(VLOOKUP(Tabla38[[#This Row],[CODIGO municipio]],[3]!Tabla8[#All],6,FALSE),\"\")","v":""},{"$f":"IFERROR(VLOOKUP(Tabla38[[#This Row],[CODIGO municipio]],[3]!Tabla8[#All],7,FALSE),\"\")","v":""},{"$f":"IFERROR(VLOOKUP(Tabla38[[#This Row],[CODIGO municipio]],[3]!Tabla8[#All],8,FALSE),\"\")","v":""},{"$f":"IFERROR(VLOOKUP(Tabla38[[#This Row],[CODIGO municipio]],[3]!Tabla8[#All],9,FALSE),\"\")","v":""},{"$f":"IFERROR(VLOOKUP(Tabla38[[#This Row],[CODIGO municipio]],[3]!Tabla8[#All],10,FALSE),\"\")","v":""},{"$f":"IFERROR(VLOOKUP(Tabla38[[#This Row],[CODIGO municipio]],[3]!Tabla8[#All],11,FALSE),\"\")","v":""},{"$f":"IFERROR(VLOOKUP(Tabla38[[#This Row],[CODIGO municipio]],[3]!Tabla8[#All],12,FALSE),\"\")","v":""},{"$f":"IFERROR(VLOOKUP(Tabla38[[#This Row],[CODIGO municipio]],[3]!Tabla8[#All],13,FALSE),\"\")","v":""},{"$f":"IFERROR(VLOOKUP(Tabla38[[#This Row],[CODIGO municipio]],[3]!Tabla8[#All],14,FALSE),\"\")","v":""},{"$f":"IFERROR(VLOOKUP(Tabla38[[#This Row],[CODIGO municipio]],[3]!Tabla8[#All],15,FALSE),\"\")","v":""},{"$f":"IFERROR(VLOOKUP(Tabla38[[#This Row],[CODIGO municipio]],[3]!Tabla8[#All],16,FALSE),\"\")","v":""},{"$f":"IFERROR(VLOOKUP(Tabla38[[#This Row],[CODIGO municipio]],[3]!Tabla8[#All],17,FALSE),\"\")","v":""},{"$f":"IFERROR(VLOOKUP(Tabla38[[#This Row],[CODIGO municipio]],[3]!Tabla8[#All],18,FALSE),\"\")","v":""},{"$f":"IFERROR(VLOOKUP(Tabla38[[#This Row],[CODIGO municipio]],[3]!Tabla8[#All],19,FALSE),\"\")","v":""},{"$f":"IFERROR(VLOOKUP(Tabla38[[#This Row],[CODIGO municipio]],[3]!Tabla8[#All],20,FALSE),\"\")","v":""},{"$f":"IFERROR(VLOOKUP(Tabla38[[#This Row],[CODIGO municipio]],[3]!Tabla8[#All],21,FALSE),\"\")","v":""},{"$f":"IFERROR(VLOOKUP(Tabla38[[#This Row],[CODIGO municipio]],[3]!Tabla8[#All],22,FALSE),\"\")","v":""},{"$f":"IFERROR(VLOOKUP(Tabla38[[#This Row],[CODIGO municipio]],[3]!Tabla8[#All],23,FALSE),\"\")","v":""},{"$f":"IFERROR(VLOOKUP(Tabla38[[#This Row],[CODIGO municipio]],[3]!Tabla9[#All],3,FALSE),\"\")","v":""}]
[{"$f":"IFERROR(VLOOKUP(Tabla38[[#This Row],[Municipio]],[3]!Tabla2[#All],3,FALSE),\"\")","v":""},2211,"Comapa",{"$f":"IFERROR(VLOOKUP(Tabla38[[#This Row],[CODIGO municipio]],[3]!Tabla6[[#All],[codigo_mun]],1,FALSE),\"\")","v":""},{"$f":"IFERROR(VLOOKUP(Tabla38[[#This Row],[CODIGO municipio]],[3]!Tabla12[#All],2,FALSE),\"\")","v":""},{"$f":"IFERROR(VLOOKUP(Tabla38[[#This Row],[CODIGO municipio]],[3]!Tabla7[#All],3,FALSE),\"\")","v":""},{"$f":"IFERROR(VLOOKUP(Tabla38[[#This Row],[CODIGO municipio]],[3]!Tabla7[#All],4,FALSE),\"\")","v":""},{"$f":"IFERROR(VLOOKUP(Tabla38[[#This Row],[CODIGO municipio]],[3]!Tabla7[#All],11,FALSE),\"\")","v":""},{"$f":"IFERROR(VLOOKUP(Tabla38[[#This Row],[CODIGO municipio]],[3]!Tabla7[#All],12,FALSE),\"\")","v":""},{"$f":"IFERROR(VLOOKUP(Tabla38[[#This Row],[CODIGO municipio]],[3]!Tabla7[#All],13,FALSE),\"\")","v":""},{"$f":"IFERROR(VLOOKUP(Tabla38[[#This Row],[CODIGO municipio]],[3]!Tabla7[#All],14,FALSE),\"\")","v":""},{"$f":"IFERROR(VLOOKUP(Tabla38[[#This Row],[CODIGO municipio]],[3]!Tabla7[#All],15,FALSE),\"\")","v":""},{"$f":"IFERROR(VLOOKUP(Tabla38[[#This Row],[CODIGO municipio]],[3]!Tabla7[#All],16,FALSE),\"\")","v":""},{"$f":"IFERROR(VLOOKUP(Tabla38[[#This Row],[CODIGO municipio]],[3]!Tabla7[#All],17,FALSE),\"\")","v":""},{"$f":"IFERROR(VLOOKUP(Tabla38[[#This Row],[CODIGO municipio]],[3]!Tabla7[#All],18,FALSE),\"\")","v":""},{"$f":"IFERROR(VLOOKUP(Tabla38[[#This Row],[CODIGO municipio]],[3]!Tabla7[#All],19,FALSE),\"\")","v":""},{"$f":"IFERROR(VLOOKUP(Tabla38[[#This Row],[CODIGO municipio]],[3]!Tabla8[#All],3,FALSE),\"\")","v":""},{"$f":"IFERROR(VLOOKUP(Tabla38[[#This Row],[CODIGO municipio]],[3]!Tabla8[#All],4,FALSE),\"\")","v":""},{"$f":"IFERROR(VLOOKUP(Tabla38[[#This Row],[CODIGO municipio]],[3]!Tabla8[#All],5,FALSE),\"\")","v":""},{"$f":"IFERROR(VLOOKUP(Tabla38[[#This Row],[CODIGO municipio]],[3]!Tabla8[#All],6,FALSE),\"\")","v":""},{"$f":"IFERROR(VLOOKUP(Tabla38[[#This Row],[CODIGO municipio]],[3]!Tabla8[#All],7,FALSE),\"\")","v":""},{"$f":"IFERROR(VLOOKUP(Tabla38[[#This Row],[CODIGO municipio]],[3]!Tabla8[#All],8,FALSE),\"\")","v":""},{"$f":"IFERROR(VLOOKUP(Tabla38[[#This Row],[CODIGO municipio]],[3]!Tabla8[#All],9,FALSE),\"\")","v":""},{"$f":"IFERROR(VLOOKUP(Tabla38[[#This Row],[CODIGO municipio]],[3]!Tabla8[#All],10,FALSE),\"\")","v":""},{"$f":"IFERROR(VLOOKUP(Tabla38[[#This Row],[CODIGO municipio]],[3]!Tabla8[#All],11,FALSE),\"\")","v":""},{"$f":"IFERROR(VLOOKUP(Tabla38[[#This Row],[CODIGO municipio]],[3]!Tabla8[#All],12,FALSE),\"\")","v":""},{"$f":"IFERROR(VLOOKUP(Tabla38[[#This Row],[CODIGO municipio]],[3]!Tabla8[#All],13,FALSE),\"\")","v":""},{"$f":"IFERROR(VLOOKUP(Tabla38[[#This Row],[CODIGO municipio]],[3]!Tabla8[#All],14,FALSE),\"\")","v":""},{"$f":"IFERROR(VLOOKUP(Tabla38[[#This Row],[CODIGO municipio]],[3]!Tabla8[#All],15,FALSE),\"\")","v":""},{"$f":"IFERROR(VLOOKUP(Tabla38[[#This Row],[CODIGO municipio]],[3]!Tabla8[#All],16,FALSE),\"\")","v":""},{"$f":"IFERROR(VLOOKUP(Tabla38[[#This Row],[CODIGO municipio]],[3]!Tabla8[#All],17,FALSE),\"\")","v":""},{"$f":"IFERROR(VLOOKUP(Tabla38[[#This Row],[CODIGO municipio]],[3]!Tabla8[#All],18,FALSE),\"\")","v":""},{"$f":"IFERROR(VLOOKUP(Tabla38[[#This Row],[CODIGO municipio]],[3]!Tabla8[#All],19,FALSE),\"\")","v":""},{"$f":"IFERROR(VLOOKUP(Tabla38[[#This Row],[CODIGO municipio]],[3]!Tabla8[#All],20,FALSE),\"\")","v":""},{"$f":"IFERROR(VLOOKUP(Tabla38[[#This Row],[CODIGO municipio]],[3]!Tabla8[#All],21,FALSE),\"\")","v":""},{"$f":"IFERROR(VLOOKUP(Tabla38[[#This Row],[CODIGO municipio]],[3]!Tabla8[#All],22,FALSE),\"\")","v":""},{"$f":"IFERROR(VLOOKUP(Tabla38[[#This Row],[CODIGO municipio]],[3]!Tabla8[#All],23,FALSE),\"\")","v":""},{"$f":"IFERROR(VLOOKUP(Tabla38[[#This Row],[CODIGO municipio]],[3]!Tabla9[#All],3,FALSE),\"\")","v":""}]
[{"$f":"IFERROR(VLOOKUP(Tabla38[[#This Row],[Municipio]],[3]!Tabla2[#All],3,FALSE),\"\")","v":""},2212,"Jalpatagua",{"$f":"IFERROR(VLOOKUP(Tabla38[[#This Row],[CODIGO municipio]],[3]!Tabla6[[#All],[codigo_mun]],1,FALSE),\"\")","v":""},{"$f":"IFERROR(VLOOKUP(Tabla38[[#This Row],[CODIGO municipio]],[3]!Tabla12[#All],2,FALSE),\"\")","v":""},{"$f":"IFERROR(VLOOKUP(Tabla38[[#This Row],[CODIGO municipio]],[3]!Tabla7[#All],3,FALSE),\"\")","v":""},{"$f":"IFERROR(VLOOKUP(Tabla38[[#This Row],[CODIGO municipio]],[3]!Tabla7[#All],4,FALSE),\"\")","v":""},{"$f":"IFERROR(VLOOKUP(Tabla38[[#This Row],[CODIGO municipio]],[3]!Tabla7[#All],11,FALSE),\"\")","v":""},{"$f":"IFERROR(VLOOKUP(Tabla38[[#This Row],[CODIGO municipio]],[3]!Tabla7[#All],12,FALSE),\"\")","v":""},{"$f":"IFERROR(VLOOKUP(Tabla38[[#This Row],[CODIGO municipio]],[3]!Tabla7[#All],13,FALSE),\"\")","v":""},{"$f":"IFERROR(VLOOKUP(Tabla38[[#This Row],[CODIGO municipio]],[3]!Tabla7[#All],14,FALSE),\"\")","v":""},{"$f":"IFERROR(VLOOKUP(Tabla38[[#This Row],[CODIGO municipio]],[3]!Tabla7[#All],15,FALSE),\"\")","v":""},{"$f":"IFERROR(VLOOKUP(Tabla38[[#This Row],[CODIGO municipio]],[3]!Tabla7[#All],16,FALSE),\"\")","v":""},{"$f":"IFERROR(VLOOKUP(Tabla38[[#This Row],[CODIGO municipio]],[3]!Tabla7[#All],17,FALSE),\"\")","v":""},{"$f":"IFERROR(VLOOKUP(Tabla38[[#This Row],[CODIGO municipio]],[3]!Tabla7[#All],18,FALSE),\"\")","v":""},{"$f":"IFERROR(VLOOKUP(Tabla38[[#This Row],[CODIGO municipio]],[3]!Tabla7[#All],19,FALSE),\"\")","v":""},{"$f":"IFERROR(VLOOKUP(Tabla38[[#This Row],[CODIGO municipio]],[3]!Tabla8[#All],3,FALSE),\"\")","v":""},{"$f":"IFERROR(VLOOKUP(Tabla38[[#This Row],[CODIGO municipio]],[3]!Tabla8[#All],4,FALSE),\"\")","v":""},{"$f":"IFERROR(VLOOKUP(Tabla38[[#This Row],[CODIGO municipio]],[3]!Tabla8[#All],5,FALSE),\"\")","v":""},{"$f":"IFERROR(VLOOKUP(Tabla38[[#This Row],[CODIGO municipio]],[3]!Tabla8[#All],6,FALSE),\"\")","v":""},{"$f":"IFERROR(VLOOKUP(Tabla38[[#This Row],[CODIGO municipio]],[3]!Tabla8[#All],7,FALSE),\"\")","v":""},{"$f":"IFERROR(VLOOKUP(Tabla38[[#This Row],[CODIGO municipio]],[3]!Tabla8[#All],8,FALSE),\"\")","v":""},{"$f":"IFERROR(VLOOKUP(Tabla38[[#This Row],[CODIGO municipio]],[3]!Tabla8[#All],9,FALSE),\"\")","v":""},{"$f":"IFERROR(VLOOKUP(Tabla38[[#This Row],[CODIGO municipio]],[3]!Tabla8[#All],10,FALSE),\"\")","v":""},{"$f":"IFERROR(VLOOKUP(Tabla38[[#This Row],[CODIGO municipio]],[3]!Tabla8[#All],11,FALSE),\"\")","v":""},{"$f":"IFERROR(VLOOKUP(Tabla38[[#This Row],[CODIGO municipio]],[3]!Tabla8[#All],12,FALSE),\"\")","v":""},{"$f":"IFERROR(VLOOKUP(Tabla38[[#This Row],[CODIGO municipio]],[3]!Tabla8[#All],13,FALSE),\"\")","v":""},{"$f":"IFERROR(VLOOKUP(Tabla38[[#This Row],[CODIGO municipio]],[3]!Tabla8[#All],14,FALSE),\"\")","v":""},{"$f":"IFERROR(VLOOKUP(Tabla38[[#This Row],[CODIGO municipio]],[3]!Tabla8[#All],15,FALSE),\"\")","v":""},{"$f":"IFERROR(VLOOKUP(Tabla38[[#This Row],[CODIGO municipio]],[3]!Tabla8[#All],16,FALSE),\"\")","v":""},{"$f":"IFERROR(VLOOKUP(Tabla38[[#This Row],[CODIGO municipio]],[3]!Tabla8[#All],17,FALSE),\"\")","v":""},{"$f":"IFERROR(VLOOKUP(Tabla38[[#This Row],[CODIGO municipio]],[3]!Tabla8[#All],18,FALSE),\"\")","v":""},{"$f":"IFERROR(VLOOKUP(Tabla38[[#This Row],[CODIGO municipio]],[3]!Tabla8[#All],19,FALSE),\"\")","v":""},{"$f":"IFERROR(VLOOKUP(Tabla38[[#This Row],[CODIGO municipio]],[3]!Tabla8[#All],20,FALSE),\"\")","v":""},{"$f":"IFERROR(VLOOKUP(Tabla38[[#This Row],[CODIGO municipio]],[3]!Tabla8[#All],21,FALSE),\"\")","v":""},{"$f":"IFERROR(VLOOKUP(Tabla38[[#This Row],[CODIGO municipio]],[3]!Tabla8[#All],22,FALSE),\"\")","v":""},{"$f":"IFERROR(VLOOKUP(Tabla38[[#This Row],[CODIGO municipio]],[3]!Tabla8[#All],23,FALSE),\"\")","v":""},{"$f":"IFERROR(VLOOKUP(Tabla38[[#This Row],[CODIGO municipio]],[3]!Tabla9[#All],3,FALSE),\"\")","v":""}]
[{"$f":"IFERROR(VLOOKUP(Tabla38[[#This Row],[Municipio]],[3]!Tabla2[#All],3,FALSE),\"\")","v":""},2213,"Conguaco",{"$f":"IFERROR(VLOOKUP(Tabla38[[#This Row],[CODIGO municipio]],[3]!Tabla6[[#All],[codigo_mun]],1,FALSE),\"\")","v":""},{"$f":"IFERROR(VLOOKUP(Tabla38[[#This Row],[CODIGO municipio]],[3]!Tabla12[#All],2,FALSE),\"\")","v":""},{"$f":"IFERROR(VLOOKUP(Tabla38[[#This Row],[CODIGO municipio]],[3]!Tabla7[#All],3,FALSE),\"\")","v":""},{"$f":"IFERROR(VLOOKUP(Tabla38[[#This Row],[CODIGO municipio]],[3]!Tabla7[#All],4,FALSE),\"\")","v":""},{"$f":"IFERROR(VLOOKUP(Tabla38[[#This Row],[CODIGO municipio]],[3]!Tabla7[#All],11,FALSE),\"\")","v":""},{"$f":"IFERROR(VLOOKUP(Tabla38[[#This Row],[CODIGO municipio]],[3]!Tabla7[#All],12,FALSE),\"\")","v":""},{"$f":"IFERROR(VLOOKUP(Tabla38[[#This Row],[CODIGO municipio]],[3]!Tabla7[#All],13,FALSE),\"\")","v":""},{"$f":"IFERROR(VLOOKUP(Tabla38[[#This Row],[CODIGO municipio]],[3]!Tabla7[#All],14,FALSE),\"\")","v":""},{"$f":"IFERROR(VLOOKUP(Tabla38[[#This Row],[CODIGO municipio]],[3]!Tabla7[#All],15,FALSE),\"\")","v":""},{"$f":"IFERROR(VLOOKUP(Tabla38[[#This Row],[CODIGO municipio]],[3]!Tabla7[#All],16,FALSE),\"\")","v":""},{"$f":"IFERROR(VLOOKUP(Tabla38[[#This Row],[CODIGO municipio]],[3]!Tabla7[#All],17,FALSE),\"\")","v":""},{"$f":"IFERROR(VLOOKUP(Tabla38[[#This Row],[CODIGO municipio]],[3]!Tabla7[#All],18,FALSE),\"\")","v":""},{"$f":"IFERROR(VLOOKUP(Tabla38[[#This Row],[CODIGO municipio]],[3]!Tabla7[#All],19,FALSE),\"\")","v":""},{"$f":"IFERROR(VLOOKUP(Tabla38[[#This Row],[CODIGO municipio]],[3]!Tabla8[#All],3,FALSE),\"\")","v":""},{"$f":"IFERROR(VLOOKUP(Tabla38[[#This Row],[CODIGO municipio]],[3]!Tabla8[#All],4,FALSE),\"\")","v":""},{"$f":"IFERROR(VLOOKUP(Tabla38[[#This Row],[CODIGO municipio]],[3]!Tabla8[#All],5,FALSE),\"\")","v":""},{"$f":"IFERROR(VLOOKUP(Tabla38[[#This Row],[CODIGO municipio]],[3]!Tabla8[#All],6,FALSE),\"\")","v":""},{"$f":"IFERROR(VLOOKUP(Tabla38[[#This Row],[CODIGO municipio]],[3]!Tabla8[#All],7,FALSE),\"\")","v":""},{"$f":"IFERROR(VLOOKUP(Tabla38[[#This Row],[CODIGO municipio]],[3]!Tabla8[#All],8,FALSE),\"\")","v":""},{"$f":"IFERROR(VLOOKUP(Tabla38[[#This Row],[CODIGO municipio]],[3]!Tabla8[#All],9,FALSE),\"\")","v":""},{"$f":"IFERROR(VLOOKUP(Tabla38[[#This Row],[CODIGO municipio]],[3]!Tabla8[#All],10,FALSE),\"\")","v":""},{"$f":"IFERROR(VLOOKUP(Tabla38[[#This Row],[CODIGO municipio]],[3]!Tabla8[#All],11,FALSE),\"\")","v":""},{"$f":"IFERROR(VLOOKUP(Tabla38[[#This Row],[CODIGO municipio]],[3]!Tabla8[#All],12,FALSE),\"\")","v":""},{"$f":"IFERROR(VLOOKUP(Tabla38[[#This Row],[CODIGO municipio]],[3]!Tabla8[#All],13,FALSE),\"\")","v":""},{"$f":"IFERROR(VLOOKUP(Tabla38[[#This Row],[CODIGO municipio]],[3]!Tabla8[#All],14,FALSE),\"\")","v":""},{"$f":"IFERROR(VLOOKUP(Tabla38[[#This Row],[CODIGO municipio]],[3]!Tabla8[#All],15,FALSE),\"\")","v":""},{"$f":"IFERROR(VLOOKUP(Tabla38[[#This Row],[CODIGO municipio]],[3]!Tabla8[#All],16,FALSE),\"\")","v":""},{"$f":"IFERROR(VLOOKUP(Tabla38[[#This Row],[CODIGO municipio]],[3]!Tabla8[#All],17,FALSE),\"\")","v":""},{"$f":"IFERROR(VLOOKUP(Tabla38[[#This Row],[CODIGO municipio]],[3]!Tabla8[#All],18,FALSE),\"\")","v":""},{"$f":"IFERROR(VLOOKUP(Tabla38[[#This Row],[CODIGO municipio]],[3]!Tabla8[#All],19,FALSE),\"\")","v":""},{"$f":"IFERROR(VLOOKUP(Tabla38[[#This Row],[CODIGO municipio]],[3]!Tabla8[#All],20,FALSE),\"\")","v":""},{"$f":"IFERROR(VLOOKUP(Tabla38[[#This Row],[CODIGO municipio]],[3]!Tabla8[#All],21,FALSE),\"\")","v":""},{"$f":"IFERROR(VLOOKUP(Tabla38[[#This Row],[CODIGO municipio]],[3]!Tabla8[#All],22,FALSE),\"\")","v":""},{"$f":"IFERROR(VLOOKUP(Tabla38[[#This Row],[CODIGO municipio]],[3]!Tabla8[#All],23,FALSE),\"\")","v":""},{"$f":"IFERROR(VLOOKUP(Tabla38[[#This Row],[CODIGO municipio]],[3]!Tabla9[#All],3,FALSE),\"\")","v":""}]
[{"$f":"IFERROR(VLOOKUP(Tabla38[[#This Row],[Municipio]],[3]!Tabla2[#All],3,FALSE),\"\")","v":""},2214,"Moyuta",{"$f":"IFERROR(VLOOKUP(Tabla38[[#This Row],[CODIGO municipio]],[3]!Tabla6[[#All],[codigo_mun]],1,FALSE),\"\")","v":""},{"$f":"IFERROR(VLOOKUP(Tabla38[[#This Row],[CODIGO municipio]],[3]!Tabla12[#All],2,FALSE),\"\")","v":""},{"$f":"IFERROR(VLOOKUP(Tabla38[[#This Row],[CODIGO municipio]],[3]!Tabla7[#All],3,FALSE),\"\")","v":""},{"$f":"IFERROR(VLOOKUP(Tabla38[[#This Row],[CODIGO municipio]],[3]!Tabla7[#All],4,FALSE),\"\")","v":""},{"$f":"IFERROR(VLOOKUP(Tabla38[[#This Row],[CODIGO municipio]],[3]!Tabla7[#All],11,FALSE),\"\")","v":""},{"$f":"IFERROR(VLOOKUP(Tabla38[[#This Row],[CODIGO municipio]],[3]!Tabla7[#All],12,FALSE),\"\")","v":""},{"$f":"IFERROR(VLOOKUP(Tabla38[[#This Row],[CODIGO municipio]],[3]!Tabla7[#All],13,FALSE),\"\")","v":""},{"$f":"IFERROR(VLOOKUP(Tabla38[[#This Row],[CODIGO municipio]],[3]!Tabla7[#All],14,FALSE),\"\")","v":""},{"$f":"IFERROR(VLOOKUP(Tabla38[[#This Row],[CODIGO municipio]],[3]!Tabla7[#All],15,FALSE),\"\")","v":""},{"$f":"IFERROR(VLOOKUP(Tabla38[[#This Row],[CODIGO municipio]],[3]!Tabla7[#All],16,FALSE),\"\")","v":""},{"$f":"IFERROR(VLOOKUP(Tabla38[[#This Row],[CODIGO municipio]],[3]!Tabla7[#All],17,FALSE),\"\")","v":""},{"$f":"IFERROR(VLOOKUP(Tabla38[[#This Row],[CODIGO municipio]],[3]!Tabla7[#All],18,FALSE),\"\")","v":""},{"$f":"IFERROR(VLOOKUP(Tabla38[[#This Row],[CODIGO municipio]],[3]!Tabla7[#All],19,FALSE),\"\")","v":""},{"$f":"IFERROR(VLOOKUP(Tabla38[[#This Row],[CODIGO municipio]],[3]!Tabla8[#All],3,FALSE),\"\")","v":""},{"$f":"IFERROR(VLOOKUP(Tabla38[[#This Row],[CODIGO municipio]],[3]!Tabla8[#All],4,FALSE),\"\")","v":""},{"$f":"IFERROR(VLOOKUP(Tabla38[[#This Row],[CODIGO municipio]],[3]!Tabla8[#All],5,FALSE),\"\")","v":""},{"$f":"IFERROR(VLOOKUP(Tabla38[[#This Row],[CODIGO municipio]],[3]!Tabla8[#All],6,FALSE),\"\")","v":""},{"$f":"IFERROR(VLOOKUP(Tabla38[[#This Row],[CODIGO municipio]],[3]!Tabla8[#All],7,FALSE),\"\")","v":""},{"$f":"IFERROR(VLOOKUP(Tabla38[[#This Row],[CODIGO municipio]],[3]!Tabla8[#All],8,FALSE),\"\")","v":""},{"$f":"IFERROR(VLOOKUP(Tabla38[[#This Row],[CODIGO municipio]],[3]!Tabla8[#All],9,FALSE),\"\")","v":""},{"$f":"IFERROR(VLOOKUP(Tabla38[[#This Row],[CODIGO municipio]],[3]!Tabla8[#All],10,FALSE),\"\")","v":""},{"$f":"IFERROR(VLOOKUP(Tabla38[[#This Row],[CODIGO municipio]],[3]!Tabla8[#All],11,FALSE),\"\")","v":""},{"$f":"IFERROR(VLOOKUP(Tabla38[[#This Row],[CODIGO municipio]],[3]!Tabla8[#All],12,FALSE),\"\")","v":""},{"$f":"IFERROR(VLOOKUP(Tabla38[[#This Row],[CODIGO municipio]],[3]!Tabla8[#All],13,FALSE),\"\")","v":""},{"$f":"IFERROR(VLOOKUP(Tabla38[[#This Row],[CODIGO municipio]],[3]!Tabla8[#All],14,FALSE),\"\")","v":""},{"$f":"IFERROR(VLOOKUP(Tabla38[[#This Row],[CODIGO municipio]],[3]!Tabla8[#All],15,FALSE),\"\")","v":""},{"$f":"IFERROR(VLOOKUP(Tabla38[[#This Row],[CODIGO municipio]],[3]!Tabla8[#All],16,FALSE),\"\")","v":""},{"$f":"IFERROR(VLOOKUP(Tabla38[[#This Row],[CODIGO municipio]],[3]!Tabla8[#All],17,FALSE),\"\")","v":""},{"$f":"IFERROR(VLOOKUP(Tabla38[[#This Row],[CODIGO municipio]],[3]!Tabla8[#All],18,FALSE),\"\")","v":""},{"$f":"IFERROR(VLOOKUP(Tabla38[[#This Row],[CODIGO municipio]],[3]!Tabla8[#All],19,FALSE),\"\")","v":""},{"$f":"IFERROR(VLOOKUP(Tabla38[[#This Row],[CODIGO municipio]],[3]!Tabla8[#All],20,FALSE),\"\")","v":""},{"$f":"IFERROR(VLOOKUP(Tabla38[[#This Row],[CODIGO municipio]],[3]!Tabla8[#All],21,FALSE),\"\")","v":""},{"$f":"IFERROR(VLOOKUP(Tabla38[[#This Row],[CODIGO municipio]],[3]!Tabla8[#All],22,FALSE),\"\")","v":""},{"$f":"IFERROR(VLOOKUP(Tabla38[[#This Row],[CODIGO municipio]],[3]!Tabla8[#All],23,FALSE),\"\")","v":""},{"$f":"IFERROR(VLOOKUP(Tabla38[[#This Row],[CODIGO municipio]],[3]!Tabla9[#All],3,FALSE),\"\")","v":""}]
[{"$f":"IFERROR(VLOOKUP(Tabla38[[#This Row],[Municipio]],[3]!Tabla2[#All],3,FALSE),\"\")","v":""},2215,"Pasaco",{"$f":"IFERROR(VLOOKUP(Tabla38[[#This Row],[CODIGO municipio]],[3]!Tabla6[[#All],[codigo_mun]],1,FALSE),\"\")","v":""},{"$f":"IFERROR(VLOOKUP(Tabla38[[#This Row],[CODIGO municipio]],[3]!Tabla12[#All],2,FALSE),\"\")","v":""},{"$f":"IFERROR(VLOOKUP(Tabla38[[#This Row],[CODIGO municipio]],[3]!Tabla7[#All],3,FALSE),\"\")","v":""},{"$f":"IFERROR(VLOOKUP(Tabla38[[#This Row],[CODIGO municipio]],[3]!Tabla7[#All],4,FALSE),\"\")","v":""},{"$f":"IFERROR(VLOOKUP(Tabla38[[#This Row],[CODIGO municipio]],[3]!Tabla7[#All],11,FALSE),\"\")","v":""},{"$f":"IFERROR(VLOOKUP(Tabla38[[#This Row],[CODIGO municipio]],[3]!Tabla7[#All],12,FALSE),\"\")","v":""},{"$f":"IFERROR(VLOOKUP(Tabla38[[#This Row],[CODIGO municipio]],[3]!Tabla7[#All],13,FALSE),\"\")","v":""},{"$f":"IFERROR(VLOOKUP(Tabla38[[#This Row],[CODIGO municipio]],[3]!Tabla7[#All],14,FALSE),\"\")","v":""},{"$f":"IFERROR(VLOOKUP(Tabla38[[#This Row],[CODIGO municipio]],[3]!Tabla7[#All],15,FALSE),\"\")","v":""},{"$f":"IFERROR(VLOOKUP(Tabla38[[#This Row],[CODIGO municipio]],[3]!Tabla7[#All],16,FALSE),\"\")","v":""},{"$f":"IFERROR(VLOOKUP(Tabla38[[#This Row],[CODIGO municipio]],[3]!Tabla7[#All],17,FALSE),\"\")","v":""},{"$f":"IFERROR(VLOOKUP(Tabla38[[#This Row],[CODIGO municipio]],[3]!Tabla7[#All],18,FALSE),\"\")","v":""},{"$f":"IFERROR(VLOOKUP(Tabla38[[#This Row],[CODIGO municipio]],[3]!Tabla7[#All],19,FALSE),\"\")","v":""},{"$f":"IFERROR(VLOOKUP(Tabla38[[#This Row],[CODIGO municipio]],[3]!Tabla8[#All],3,FALSE),\"\")","v":""},{"$f":"IFERROR(VLOOKUP(Tabla38[[#This Row],[CODIGO municipio]],[3]!Tabla8[#All],4,FALSE),\"\")","v":""},{"$f":"IFERROR(VLOOKUP(Tabla38[[#This Row],[CODIGO municipio]],[3]!Tabla8[#All],5,FALSE),\"\")","v":""},{"$f":"IFERROR(VLOOKUP(Tabla38[[#This Row],[CODIGO municipio]],[3]!Tabla8[#All],6,FALSE),\"\")","v":""},{"$f":"IFERROR(VLOOKUP(Tabla38[[#This Row],[CODIGO municipio]],[3]!Tabla8[#All],7,FALSE),\"\")","v":""},{"$f":"IFERROR(VLOOKUP(Tabla38[[#This Row],[CODIGO municipio]],[3]!Tabla8[#All],8,FALSE),\"\")","v":""},{"$f":"IFERROR(VLOOKUP(Tabla38[[#This Row],[CODIGO municipio]],[3]!Tabla8[#All],9,FALSE),\"\")","v":""},{"$f":"IFERROR(VLOOKUP(Tabla38[[#This Row],[CODIGO municipio]],[3]!Tabla8[#All],10,FALSE),\"\")","v":""},{"$f":"IFERROR(VLOOKUP(Tabla38[[#This Row],[CODIGO municipio]],[3]!Tabla8[#All],11,FALSE),\"\")","v":""},{"$f":"IFERROR(VLOOKUP(Tabla38[[#This Row],[CODIGO municipio]],[3]!Tabla8[#All],12,FALSE),\"\")","v":""},{"$f":"IFERROR(VLOOKUP(Tabla38[[#This Row],[CODIGO municipio]],[3]!Tabla8[#All],13,FALSE),\"\")","v":""},{"$f":"IFERROR(VLOOKUP(Tabla38[[#This Row],[CODIGO municipio]],[3]!Tabla8[#All],14,FALSE),\"\")","v":""},{"$f":"IFERROR(VLOOKUP(Tabla38[[#This Row],[CODIGO municipio]],[3]!Tabla8[#All],15,FALSE),\"\")","v":""},{"$f":"IFERROR(VLOOKUP(Tabla38[[#This Row],[CODIGO municipio]],[3]!Tabla8[#All],16,FALSE),\"\")","v":""},{"$f":"IFERROR(VLOOKUP(Tabla38[[#This Row],[CODIGO municipio]],[3]!Tabla8[#All],17,FALSE),\"\")","v":""},{"$f":"IFERROR(VLOOKUP(Tabla38[[#This Row],[CODIGO municipio]],[3]!Tabla8[#All],18,FALSE),\"\")","v":""},{"$f":"IFERROR(VLOOKUP(Tabla38[[#This Row],[CODIGO municipio]],[3]!Tabla8[#All],19,FALSE),\"\")","v":""},{"$f":"IFERROR(VLOOKUP(Tabla38[[#This Row],[CODIGO municipio]],[3]!Tabla8[#All],20,FALSE),\"\")","v":""},{"$f":"IFERROR(VLOOKUP(Tabla38[[#This Row],[CODIGO municipio]],[3]!Tabla8[#All],21,FALSE),\"\")","v":""},{"$f":"IFERROR(VLOOKUP(Tabla38[[#This Row],[CODIGO municipio]],[3]!Tabla8[#All],22,FALSE),\"\")","v":""},{"$f":"IFERROR(VLOOKUP(Tabla38[[#This Row],[CODIGO municipio]],[3]!Tabla8[#All],23,FALSE),\"\")","v":""},{"$f":"IFERROR(VLOOKUP(Tabla38[[#This Row],[CODIGO municipio]],[3]!Tabla9[#All],3,FALSE),\"\")","v":""}]
[{"$f":"IFERROR(VLOOKUP(Tabla38[[#This Row],[Municipio]],[3]!Tabla2[#All],3,FALSE),\"\")","v":""},2216,"San José Acatempa",{"$f":"IFERROR(VLOOKUP(Tabla38[[#This Row],[CODIGO municipio]],[3]!Tabla6[[#All],[codigo_mun]],1,FALSE),\"\")","v":""},{"$f":"IFERROR(VLOOKUP(Tabla38[[#This Row],[CODIGO municipio]],[3]!Tabla12[#All],2,FALSE),\"\")","v":""},{"$f":"IFERROR(VLOOKUP(Tabla38[[#This Row],[CODIGO municipio]],[3]!Tabla7[#All],3,FALSE),\"\")","v":""},{"$f":"IFERROR(VLOOKUP(Tabla38[[#This Row],[CODIGO municipio]],[3]!Tabla7[#All],4,FALSE),\"\")","v":""},{"$f":"IFERROR(VLOOKUP(Tabla38[[#This Row],[CODIGO municipio]],[3]!Tabla7[#All],11,FALSE),\"\")","v":""},{"$f":"IFERROR(VLOOKUP(Tabla38[[#This Row],[CODIGO municipio]],[3]!Tabla7[#All],12,FALSE),\"\")","v":""},{"$f":"IFERROR(VLOOKUP(Tabla38[[#This Row],[CODIGO municipio]],[3]!Tabla7[#All],13,FALSE),\"\")","v":""},{"$f":"IFERROR(VLOOKUP(Tabla38[[#This Row],[CODIGO municipio]],[3]!Tabla7[#All],14,FALSE),\"\")","v":""},{"$f":"IFERROR(VLOOKUP(Tabla38[[#This Row],[CODIGO municipio]],[3]!Tabla7[#All],15,FALSE),\"\")","v":""},{"$f":"IFERROR(VLOOKUP(Tabla38[[#This Row],[CODIGO municipio]],[3]!Tabla7[#All],16,FALSE),\"\")","v":""},{"$f":"IFERROR(VLOOKUP(Tabla38[[#This Row],[CODIGO municipio]],[3]!Tabla7[#All],17,FALSE),\"\")","v":""},{"$f":"IFERROR(VLOOKUP(Tabla38[[#This Row],[CODIGO municipio]],[3]!Tabla7[#All],18,FALSE),\"\")","v":""},{"$f":"IFERROR(VLOOKUP(Tabla38[[#This Row],[CODIGO municipio]],[3]!Tabla7[#All],19,FALSE),\"\")","v":""},{"$f":"IFERROR(VLOOKUP(Tabla38[[#This Row],[CODIGO municipio]],[3]!Tabla8[#All],3,FALSE),\"\")","v":""},{"$f":"IFERROR(VLOOKUP(Tabla38[[#This Row],[CODIGO municipio]],[3]!Tabla8[#All],4,FALSE),\"\")","v":""},{"$f":"IFERROR(VLOOKUP(Tabla38[[#This Row],[CODIGO municipio]],[3]!Tabla8[#All],5,FALSE),\"\")","v":""},{"$f":"IFERROR(VLOOKUP(Tabla38[[#This Row],[CODIGO municipio]],[3]!Tabla8[#All],6,FALSE),\"\")","v":""},{"$f":"IFERROR(VLOOKUP(Tabla38[[#This Row],[CODIGO municipio]],[3]!Tabla8[#All],7,FALSE),\"\")","v":""},{"$f":"IFERROR(VLOOKUP(Tabla38[[#This Row],[CODIGO municipio]],[3]!Tabla8[#All],8,FALSE),\"\")","v":""},{"$f":"IFERROR(VLOOKUP(Tabla38[[#This Row],[CODIGO municipio]],[3]!Tabla8[#All],9,FALSE),\"\")","v":""},{"$f":"IFERROR(VLOOKUP(Tabla38[[#This Row],[CODIGO municipio]],[3]!Tabla8[#All],10,FALSE),\"\")","v":""},{"$f":"IFERROR(VLOOKUP(Tabla38[[#This Row],[CODIGO municipio]],[3]!Tabla8[#All],11,FALSE),\"\")","v":""},{"$f":"IFERROR(VLOOKUP(Tabla38[[#This Row],[CODIGO municipio]],[3]!Tabla8[#All],12,FALSE),\"\")","v":""},{"$f":"IFERROR(VLOOKUP(Tabla38[[#This Row],[CODIGO municipio]],[3]!Tabla8[#All],13,FALSE),\"\")","v":""},{"$f":"IFERROR(VLOOKUP(Tabla38[[#This Row],[CODIGO municipio]],[3]!Tabla8[#All],14,FALSE),\"\")","v":""},{"$f":"IFERROR(VLOOKUP(Tabla38[[#This Row],[CODIGO municipio]],[3]!Tabla8[#All],15,FALSE),\"\")","v":""},{"$f":"IFERROR(VLOOKUP(Tabla38[[#This Row],[CODIGO municipio]],[3]!Tabla8[#All],16,FALSE),\"\")","v":""},{"$f":"IFERROR(VLOOKUP(Tabla38[[#This Row],[CODIGO municipio]],[3]!Tabla8[#All],17,FALSE),\"\")","v":""},{"$f":"IFERROR(VLOOKUP(Tabla38[[#This Row],[CODIGO municipio]],[3]!Tabla8[#All],18,FALSE),\"\")","v":""},{"$f":"IFERROR(VLOOKUP(Tabla38[[#This Row],[CODIGO municipio]],[3]!Tabla8[#All],19,FALSE),\"\")","v":""},{"$f":"IFERROR(VLOOKUP(Tabla38[[#This Row],[CODIGO municipio]],[3]!Tabla8[#All],20,FALSE),\"\")","v":""},{"$f":"IFERROR(VLOOKUP(Tabla38[[#This Row],[CODIGO municipio]],[3]!Tabla8[#All],21,FALSE),\"\")","v":""},{"$f":"IFERROR(VLOOKUP(Tabla38[[#This Row],[CODIGO municipio]],[3]!Tabla8[#All],22,FALSE),\"\")","v":""},{"$f":"IFERROR(VLOOKUP(Tabla38[[#This Row],[CODIGO municipio]],[3]!Tabla8[#All],23,FALSE),\"\")","v":""},{"$f":"IFERROR(VLOOKUP(Tabla38[[#This Row],[CODIGO municipio]],[3]!Tabla9[#All],3,FALSE),\"\")","v":""}]
[{"$f":"IFERROR(VLOOKUP(Tabla38[[#This Row],[Municipio]],[3]!Tabla2[#All],3,FALSE),\"\")","v":""},2217,"Quesada",{"$f":"IFERROR(VLOOKUP(Tabla38[[#This Row],[CODIGO municipio]],[3]!Tabla6[[#All],[codigo_mun]],1,FALSE),\"\")","v":""},{"$f":"IFERROR(VLOOKUP(Tabla38[[#This Row],[CODIGO municipio]],[3]!Tabla12[#All],2,FALSE),\"\")","v":""},{"$f":"IFERROR(VLOOKUP(Tabla38[[#This Row],[CODIGO municipio]],[3]!Tabla7[#All],3,FALSE),\"\")","v":""},{"$f":"IFERROR(VLOOKUP(Tabla38[[#This Row],[CODIGO municipio]],[3]!Tabla7[#All],4,FALSE),\"\")","v":""},{"$f":"IFERROR(VLOOKUP(Tabla38[[#This Row],[CODIGO municipio]],[3]!Tabla7[#All],11,FALSE),\"\")","v":""},{"$f":"IFERROR(VLOOKUP(Tabla38[[#This Row],[CODIGO municipio]],[3]!Tabla7[#All],12,FALSE),\"\")","v":""},{"$f":"IFERROR(VLOOKUP(Tabla38[[#This Row],[CODIGO municipio]],[3]!Tabla7[#All],13,FALSE),\"\")","v":""},{"$f":"IFERROR(VLOOKUP(Tabla38[[#This Row],[CODIGO municipio]],[3]!Tabla7[#All],14,FALSE),\"\")","v":""},{"$f":"IFERROR(VLOOKUP(Tabla38[[#This Row],[CODIGO municipio]],[3]!Tabla7[#All],15,FALSE),\"\")","v":""},{"$f":"IFERROR(VLOOKUP(Tabla38[[#This Row],[CODIGO municipio]],[3]!Tabla7[#All],16,FALSE),\"\")","v":""},{"$f":"IFERROR(VLOOKUP(Tabla38[[#This Row],[CODIGO municipio]],[3]!Tabla7[#All],17,FALSE),\"\")","v":""},{"$f":"IFERROR(VLOOKUP(Tabla38[[#This Row],[CODIGO municipio]],[3]!Tabla7[#All],18,FALSE),\"\")","v":""},{"$f":"IFERROR(VLOOKUP(Tabla38[[#This Row],[CODIGO municipio]],[3]!Tabla7[#All],19,FALSE),\"\")","v":""},{"$f":"IFERROR(VLOOKUP(Tabla38[[#This Row],[CODIGO municipio]],[3]!Tabla8[#All],3,FALSE),\"\")","v":""},{"$f":"IFERROR(VLOOKUP(Tabla38[[#This Row],[CODIGO municipio]],[3]!Tabla8[#All],4,FALSE),\"\")","v":""},{"$f":"IFERROR(VLOOKUP(Tabla38[[#This Row],[CODIGO municipio]],[3]!Tabla8[#All],5,FALSE),\"\")","v":""},{"$f":"IFERROR(VLOOKUP(Tabla38[[#This Row],[CODIGO municipio]],[3]!Tabla8[#All],6,FALSE),\"\")","v":""},{"$f":"IFERROR(VLOOKUP(Tabla38[[#This Row],[CODIGO municipio]],[3]!Tabla8[#All],7,FALSE),\"\")","v":""},{"$f":"IFERROR(VLOOKUP(Tabla38[[#This Row],[CODIGO municipio]],[3]!Tabla8[#All],8,FALSE),\"\")","v":""},{"$f":"IFERROR(VLOOKUP(Tabla38[[#This Row],[CODIGO municipio]],[3]!Tabla8[#All],9,FALSE),\"\")","v":""},{"$f":"IFERROR(VLOOKUP(Tabla38[[#This Row],[CODIGO municipio]],[3]!Tabla8[#All],10,FALSE),\"\")","v":""},{"$f":"IFERROR(VLOOKUP(Tabla38[[#This Row],[CODIGO municipio]],[3]!Tabla8[#All],11,FALSE),\"\")","v":""},{"$f":"IFERROR(VLOOKUP(Tabla38[[#This Row],[CODIGO municipio]],[3]!Tabla8[#All],12,FALSE),\"\")","v":""},{"$f":"IFERROR(VLOOKUP(Tabla38[[#This Row],[CODIGO municipio]],[3]!Tabla8[#All],13,FALSE),\"\")","v":""},{"$f":"IFERROR(VLOOKUP(Tabla38[[#This Row],[CODIGO municipio]],[3]!Tabla8[#All],14,FALSE),\"\")","v":""},{"$f":"IFERROR(VLOOKUP(Tabla38[[#This Row],[CODIGO municipio]],[3]!Tabla8[#All],15,FALSE),\"\")","v":""},{"$f":"IFERROR(VLOOKUP(Tabla38[[#This Row],[CODIGO municipio]],[3]!Tabla8[#All],16,FALSE),\"\")","v":""},{"$f":"IFERROR(VLOOKUP(Tabla38[[#This Row],[CODIGO municipio]],[3]!Tabla8[#All],17,FALSE),\"\")","v":""},{"$f":"IFERROR(VLOOKUP(Tabla38[[#This Row],[CODIGO municipio]],[3]!Tabla8[#All],18,FALSE),\"\")","v":""},{"$f":"IFERROR(VLOOKUP(Tabla38[[#This Row],[CODIGO municipio]],[3]!Tabla8[#All],19,FALSE),\"\")","v":""},{"$f":"IFERROR(VLOOKUP(Tabla38[[#This Row],[CODIGO municipio]],[3]!Tabla8[#All],20,FALSE),\"\")","v":""},{"$f":"IFERROR(VLOOKUP(Tabla38[[#This Row],[CODIGO municipio]],[3]!Tabla8[#All],21,FALSE),\"\")","v":""},{"$f":"IFERROR(VLOOKUP(Tabla38[[#This Row],[CODIGO municipio]],[3]!Tabla8[#All],22,FALSE),\"\")","v":""},{"$f":"IFERROR(VLOOKUP(Tabla38[[#This Row],[CODIGO municipio]],[3]!Tabla8[#All],23,FALSE),\"\")","v":""},{"$f":"IFERROR(VLOOKUP(Tabla38[[#This Row],[CODIGO municipio]],[3]!Tabla9[#All],3,FALSE),\"\")","v":""}]